Workbook
Name CUMM: #REF!
Name CUMM: #REF!
Name d_1: '1'!$A$1
Name d_2: '1'!$A$2
Name d_3: '1'!$A$3
Name d_4: '1'!$A$4
Name d_5: '1'!$A$5
Name d_6: '1'!$A$6
Name d_7: '1'!$A$7
Name date_1: '1'!$A$1
Name Name_1: '1'!$A$9
Name Name_2: '1'!$A$10
Name Name_3: '1'!$A$11
Name Name_4: '1'!$A$12
Name Name_5: '1'!$A$12
Name Name_6: '1'!$A$13
Name OLE_LINK1: УЧАСТНИКИ!$D$2
Name Tit_1: '1'!$A$9

Sheet 1
A1: 28.05.2019г.
A2: 29.05.2019г.
A3: 09.06.2019г.
A4: ЖЕНЩИНЫ
A5: г. Сочи, ул. Бзугу 2, ст. им. Славы Метревели
A6: t° +25 вл. 76%
A7: Адлер с/к "Юность"
A9: МИНИСТЕРСТВО ФИЗИЧЕСКОЙ КУЛЬТУРЫ И СПОРТА РОССИЙСКОЙ ФЕДЕРАЦИИ
A10: ВСЕРОССИЙСКАЯ ФЕДЕРАЦИЯ ЛЕГКОЙ АТЛЕТИКИ
A11: МИНИСТЕРСТВО ФИЗИЧЕСКОЙ КУЛЬТУРЫ И СПОРТА КРАСНОДАРСКОГО КРАЯ
A12: ФЕДЕРАЦИЯ ЛЕГКОЙ АТЛЕТИКИ КРАСНОДАРСКОГО КРАЯ
A13: ФЕДЕРАЦИЯ ЛЕГКОЙ АТЛЕТИКИ КРАСНОДАРСКОГО КРАЯ
A21: дисквал п.п. 162.7 | C21: фальстарт

Sheet УЧАСТНИКИ
A1: № уч-ка | B1: №№ | C1: ФАМИЛИЯ ИМЯ УЧАСТНИКА | D1: Год.рожд | E1: НАЗВАНИЕ КОМАНДЫ | F1: ВИД | G1: Округ | H1: Разряд | I1: лично | J1: ТРЕНЕР(ы) | K1: ДСО Ведомство
A2: 299 | C2: Преснякова Алиса | D2: 07.03.1998 | E2: Санкт-Петербург | F2: Прыжок в высоту | H2: МС | I2: К | J2: Семашко Е.В., Волкова И.В. | K2: СПб ГБПОУ "УОР № 1
A3: 20 | C3: Паренчук Лика | D3: 06.04.2002 | E3: Алтайский край | F3: Бег 400 м | H3: КМС | I3: К | J3: Клевцова Н.В., Панина Е.А. | K3: КГБ ПОУ "Алтайское училище олимпийского резерва"
A4: 491 | C4: Нерубенко Людмила | D4: 20.04.1998 | E4: Белгородская область | F4: Прыжок с шестом | H4: КМС | I4: К | J4: Кушкин В.Ю. | K4: МБУДО ДЮСШ №2 г. Белгород
A5: 266 | C5: Бузанакова Алия | D5: 28.01.1997 | E5: Санкт-Петербург | F5: Метание копья | H5: КМС | I5: Л | J5: Королёв В.В. | K5: ГБУ СШОР "Академия легкой атлетики Санкт-Петербурга"
A6: 258 | C6: Алисова Елизавета | D6: 21.06.2000 | E6: Санкт-Петербург Липецкая область | F6: Бег 100 м | H6: КМС | I6: Л | J6: Шекин Д.А., Бахвалова Е.А., Бурмистрова Н.И. | K6: ГБУ "СШОР" "Академия легкой атлетики Санкт-Петербурга"
A7: 258 | C7: Алисова Елизавета | D7: 21.06.2000 | E7: Санкт-Петербург Липецкая область | F7: Бег 200 м | H7: КМС | I7: Л | J7: Шекин Д.А., Бахвалова Е.А., Бурмистрова Н.И. | K7: ГБУ "СШОР" "Академия легкой атлетики Санкт-Петербурга"
A8: 16 | C8: Малинина (Ткаченко) Светлана | D8: 27.07.1994 | E8: Волгоградская область | F8: Барьерный бег 400 м | H8: КМС | I8: К | J8: Клочкова Е.Ю. | K8: МБУ СШОР № 5 (г. Волгоград)
A9: 131 | C9: Белякова Алена | D9: 21.12.1998 | E9: Краснодарский край ЮФО (К) | F9: Метание диска | H9: МС | I9: К | J9: Синицын А.В., Беляков Ю.Б. | K9: ГБУ КК "ЦОП по легкой атлетике", ГБУ КК"РЦСП по легкой атлетике"
A10: 215 | C10: Белова (Трифонова) Ирина | D10: 21.01.1994 | E10: Республика Мордовия | F10: Бег 100 м | H10: МС | I10: К | J10: Бусаров В.М. | K10: ГБУ РМ "КСШОР"
A11: 29 | C11: Алымова Вера | D11: 24.11.1995 | E11: Санкт-Петербург Брянская область | F11: Бег 200 м | H11: МС | I11: К | J11: Назаров В.И., Петров С.Г., Трубин Ю.Н. | K11: СПб ГБУ ЦОП "ШВСМ по легкой атлетике", ГБУ БО СШОР по легкой атлетике им. В.Д. Самотесова., СПб ГБУ ЦОП "ШВСМ по легкой атлетике"
A12: 9 | C12: Герасимова Анастасия | D12: 18.03.1998 | E12: Волгоградская область Саратовская область | F12: Бег 800 м | H12: КМС | I12: К | J12: Лупачев А.С. | K12: МБУ СШОР № 5 (г. Волгоград), ГАПОУ ВО "УОР имени дважды Героя Советского Союза А.И. Родимцева"
A13: 272 | C13: Григорьева Анастасия | D13: 07.11.1993 | E13: Санкт-Петербург | F13: Бег 100 м | H13: МС | I13: К | J13: Куликова Е.Ю., Буровцева Н.В. | K13: СПб ГБУ ЦОП "ШВСМ по легкой атлетике"
... A15: 390 | C15: Аплачкина Светлана | D15: 28.11.1992 | E15: Воронежская область | F15: Бег 1500 м | H15: МС | I15: К | J15: Осипов С.А., Аплачкин А.И. | K15: ГБУ ВО "СШОР № 21", АУ ВО "ЦСПСК"
C16: Аплачкина Светлана | D16: 28.11.1992 | E16: Воронежская область | F16: Бег 5 000 м | H16: МС | I16: К | J16: Осипов С.А., Аплачкин А.И. | K16: ГБУ ВО "СШОР № 21", АУ ВО "ЦСПСК"
A17: 391 | C17: Баулина Ирина | D17: 04.01.1999 | E17: Воронежская область | F17: Барьерный бег 400 м | H17: МС | I17: К | J17: Мащенко Р.М. | K17: МБУ "СШОР № 5"
A18: 392 | C18: Буреева Олеся | D18: 05.07.1998 | E18: Воронежская область | F18: Барьерный бег 400 м | H18: МС | I18: К | J18: Омельченко Д.А., Бабкин А.П., Демиденкова Г.А. | K18: ГБУ ВО "СШОР № 21"
A19: 393 | C19: Воробьева Анастасия | D19: 01.04.1999 | E19: Воронежская область | F19: Барьерный бег 100 м | H19: КМС | I19: К | J19: Мащенко Р.М. | K19: МБУ "СШОР № 5"
A20: 79 | C20: Жаткина Любовь | D20: 30.03.1990 | E20: Москва Ставропольский край | F20: Метание копья | H20: МС | I20: К | J20: Чернявская О.М., Чернявский С.К. | K20: ГБУ "ЦОП по легкой атлетике" Москомспорта, ГБУ СК "СШОР по легкой атлетике"
A21: 399 | C21: Рытикова Валерия | D21: 13.12.1995 | E21: Воронежская область | F21: Барьерный бег 100 м | H21: КМС | I21: К | J21: Бабкин А.П., Демиденкова Г.А. | K21: ГБУ ВО "СШОР № 21"
A22: 87 | C22: Денисова Надежда | D22: 16.03.2000 | E22: Тюменская область | F22: Бег 100 м | H22: КМС | I22: К | J22: Сергеев О.В., Артемьев Н.И. | K22: ГАУ ТО "ОСШОР", ТЮМГУ
A23: 215 | C23: Белова (Трифонова) Ирина | D23: 21.01.1994 | E23: Республика Мордовия | F23: Бег 200 м | H23: МС | I23: К | J23: Бусаров В.М. | K23: ГБУ РМ "КСШОР"
A24: 110 | C24: Бизякина Светлана | D24: 06.11.1994 | E24: Омская область | F24: Метание диска | H24: КМС | I24: К | J24: Бабанин С.Н., Белов М.К. | K24: ФГБУ ПОО "Сибирское ГУОР"
A25: 277 | C25: Зыбина Ксения | D25: 01.02.1989 | E25: Санкт-Петербург | F25: Метание копья | H25: МС | I25: К | J25: Горшков А.И. | K25: ГБУ СШОР "Академия легкой атлетики Санкт-Петербурга"
A26: 401 | C26: Волкова Анастасия | D26: 18.05.2000 | E26: Тульская область | F26: Бег 200 м | H26: КМС | I26: К | J26: Волкова И.В., Волков А.А. | K26: ГУ ТО ЦСП, МБУ СШОР "Легкая атлетика" г. Тула
A27: 49 | C27: Зуйкевич Елена | D27: 26.02.1990 | E27: Калининградская область Пермский край | F27: Бег 400 м | H27: МС | I27: К | J27: Малиновская Н.А., Верещагина З.Г. | K27: ГАУ КО "ЦСП СК", МБУ "СШОР "Старт"
A28: 320 | C28: Цаплина Валерия | D28: 19.02.1997 | E28: Кировская область Санкт-Петербург | F28: Бег 400 м | H28: КМС | I28: Л | J28: Куликова Е.Ю. | K28: КОГАУ "ВятСШОР" ,СПб ГБУ ЦОП "ШВСМ по легкой атлетике"
... A52: 178 | C52: Тронева Наталья | D52: 24.02.1993 | E52: Краснодарский край | F52: Толкание ядра | H52: МС | I52: Л | J52: Синицын А.В. | K52: Динамо ГБУ КК "РЦСП по легкой атлетике", ГБУ КК "ЦОП по легкой атлетике"
C53: Червинская Вероника | D53: 28.06.1998 | E53: Краснодарский край | F53: Барьерный бег 100 м | H53: МС | I53: К | J53: Дементьев С.Б., Дементьева Т.В. | K53: ГБУ КК "РЦСП по легкой атлетике"
A54: 278 | C54: Иванова Виктория | D54: 07.07.2000 | E54: Санкт-Петербург | F54: Бег 200 м | H54: КМС | I54: Л | J54: Агарков В.Н., Пономарев В.В., Куликова Е.Ю. | K54: СПб ГБУ ЦОП "ШВСМ по легкой атлетике"
A55: 140 | C55: Думен (Рябенко) Елена | D55: 13.01.1994 | E55: Краснодарский край Карачаево-Черкесская республика | F55: Барьерный бег 100 м | H55: МС | I55: К | J55: Вяльцева В.Г. | K55: Министерство спорта ГБУ КК "РЦСП по легкой атлетике", ЦСП КЧР, ГБУ КК "ЦОП по легкой атлетике"
A56: 184 | C56: Шатурная Светлана | D56: 15.06.1995 | E56: Краснодарский край Карачаево-Черкесская республика | F56: Барьерный бег 400 м | H56: КМС | I56: К | J56: Вяльцева В.Г. | K56: Министерство спорта ГБУ КК "ЦОП по легкой атлетике", РГБУ "КСШ " СПАРТАК"
A57: 183 | C57: Чернышева Елизавета | D57: 11.11.1996 | E57: Краснодарский край Саратовская область | F57: Барьерный бег 100 м | H57: МС | I57: Л | J57: Азизьян А.А., Беликов Ю.Б., Беликова Н.И. | K57: ГБУ КК "ЦОП по легкой атлетике", ГБУ КК "РЦСП по легкой атлетике"
A58: 275 | C58: Дрожжина Елизавета | D58: 11.02.1998 | E58: Санкт-Петербург | F58: Прыжок в длину | H58: КМС | I58: Л | J58: Черепанова И.Н., Черепанов А.Н. | K58: СПб ГБУ ЦОП "ШВСМ по легкой атлетике"
A59: 150 | C59: Конева Екатерина | D59: 25.09.1988 | E59: Краснодарский край Хабаровский край | F59: Прыжок тройной | H59: ЗМС | I59: К | J59: Цыплаков А.В., Лупатов Р.М. | K59: ГБУ КК "РЦСП по легкой атлетике", ГБУ КК "ЦОП по легкой атлетике", МБОУ ДО ДЮСШ "Максимум"
A60: 328 | C60: Аникиенко Елизавета | D60: 30.06.1994 | E60: Москва Московская область | F60: Барьерный бег 400 м | H60: МС | I60: К | J60: Чемерисов Н.Ф. | K60: ГБУ "МГФСО" Москомспорта, ГБУ МО "СШОР по легкой атлетике"
A61: 139 | C61: Дорохова Анастасия | D61: 28.05.1999 | E61: Краснодарский край ЮФО (К) | F61: Барьерный бег 400 м | H61: КМС | I61: К | J61: Вяльцева В.Г., Сухова В.В. | K61: ГБУ КК "ЦОП по легкой атлетике", ГБУ РК "Спортивная школа №1"
A62: 103 | C62: Лапшова Алина | D62: 06.09.1998 | E62: Красноярский край | F62: Барьерный бег 400 м | H62: 2 | I62: К | J62: Зубрилина Т.Г., Вашкевич И.Е., Чалый Ю.В. | K62: Академия летних видов спорта КГАУ "РЦСП "Академия летних видов спорта", МАУ "СШОР "Спутник"
A63: 104 | C63: Лихачёва Юлия | D63: 26.08.1998 | E63: Красноярский край | F63: Бег с препятствиями 3 000 м | H63: КМС | I63: К | J63: Ромащенко А.А., Вашкевич И.Е., Чалый Ю.В. | K63: Академия летних видов спорта КГАУ "РЦСП "Академия летних видов спорта", МАУ "СШОР "Спутник"
A64: 107 | C64: Степанова Екатерина | D64: 24.07.1994 | E64: Красноярский край | F64: Прыжок в высоту | H64: МС | I64: К | J64: Мочалов С.С., Мочалова Е.С. | K64: КГАУ "РЦСП "Академия летних видов спорта", МАУ "СШОР "Спутник"
A65: 442 | C65: Навацкая Софья | D65: 11.02.1999 | E65: Вологодская область | F65: Бег 100 м | H65: КМС | I65: К | J65: Селюцкий С.А. | K65: АУ ФКиС ВО "ЦСП"
... A76: 186 | C76: Купина Екатерина | D76: 02.02.1986 | E76: Курская область | F76: Эстафетный бег 4 х 400 м | H76: МСМК | I76: К | J76: Купин А.Д. | K76: ОБУ СШОР "Урожай"
C77: Ольховская Ольга | D77: 08.01.1998 | E77: Санкт-Петербург | F77: Бег 100 м | H77: КМС | I77: К | J77: Назаров В.И., Петров С.Г., Шекин Д.А. | K77: СПб ГБУ ЦОП "ШВСМ по легкой атлетике"
C78: Колесникова Дарья | D78: 28.07.2002 | E78: Краснодарский край | F78: Бег 200 м | H78: 1 | I78: Л | J78: Полонников А.В. | K78: МБУ СШОР №1 г. Сочи
A79: 190 | C79: Петрищева Юлия | D79: 02.03.1997 | E79: Курская область | F79: Эстафетный бег 4 х 400 м | H79: КМС | I79: К | J79: Шумаков Е.Г. | K79: МБУ ДО «ДЮСШ №1»
A80: 188 | C80: Рыбкина Анастасия | D80: 14.04.1999 | E80: Курская область | F80: Бег 400 м | H80: КМС | I80: К | J80: Руденко В.Д. | K80: ОБУ СШОР "Урожай"
A81: 188 | C81: Рыбкина Анастасия | D81: 14.04.1999 | E81: Курская область | F81: Эстафетный бег 4 х 400 м | H81: КМС | I81: К | J81: Руденко В.Д. | K81: ОБУ СШОР "Урожай"
C82: Шмыгарёва Екатерина | D82: 04.07.1995 | E82: Курская область | F82: Бег 800 м | H82: КМС | I82: К | J82: Тихонов А.В., Тихонова М.С. | K82: ОБУ ЦСП "ШВСМ", СШОР Железногорск
C83: Шмыгарёва Екатерина | D83: 04.07.1995 | E83: Курская область | F83: Эстафетный бег 4 х 400 м | H83: КМС | I83: К | J83: Тихонов А.В., Тихонова М.С. | K83: ОБУ ЦСП "ШВСМ", СШОР Железногорск
A84: 76 | C84: Ермаченкова Татьяна | D84: 09.09.1998 | E84: Ленинградская область Санкт-Петербург | F84: Прыжок в высоту | H84: МС | I84: К | J84: Баканов О.Д., Семенов В.О. | K84: ЦСП ЛО "Ижора",МБОУ ДО "Гатчинская ДЮСШ № 1",ГБУ СШОР "Академия легкой атлетики Санк-Петербурга"
A85: 121 | C85: Королёва (Полтавец) Кристина | D85: 06.11.1990 | E85: Липецкая область Кемеровская область | F85: Прыжок в высоту | H85: МСМК | I85: К | J85: Королев М.И., Канашевич А.М., Стегачёв И.Н. | K85: ГБУ ЛО ЦСП, ГБФСУ КО "СШОР по легкой атлетике им. В.А. Савенкова"
A86: 328 | C86: Аникиенко Елизавета | D86: 30.06.1994 | E86: Москва Московская область | F86: Эстафетный бег 4 х 400 м | H86: МС | I86: К | J86: Чемерисов Н.Ф. | K86: ГБУ "МГФСО" Москомспорта, ГБУ МО "СШОР по легкой атлетике"
A87: 476 | C87: Безрученко Елена | D87: 23.07.1996 | E87: Москва Ростовская область | F87: Толкание ядра | H87: МС | I87: К | J87: Карлова А.Н., | K87: ГБУ "ФСО "Юность Москвы"Москомспорта, ГБПОУ РО "РОУОР"
A88: 332 | C88: Беспалова Екатерина | D88: 21.11.1997 | E88: Москва Смоленская область | F88: Бег 1500 м | H88: КМС | I88: Л | J88: Осипов С.А., Кругликов Н.И. | K88: ГБУ "ЦОП по легкой атлетике" Москомспорта, СОГБУ "ЦСП ССК Смоленской области"
A89: 332 | C89: Беспалова Екатерина | D89: 21.11.1997 | E89: Москва Смоленская область | F89: Бег 5 000 м | H89: КМС | I89: Л | J89: Осипов С.А., Кругликов Н.И. | K89: ГБУ "ЦОП по легкой атлетике" Москомспорта, СОГБУ "ЦСП ССК Смоленской области"
A90: 340 | C90: Евстюнина Александра | D90: 08.07.1993 | E90: Москва Республика Карелия | F90: Прыжок в длину | H90: МС | I90: К | J90: Савинов Е.В., Шемигон О.С. | K90: ГБУ "ЦОП по легкой атлетике" Москомспорта
A91: 334 | C91: Бочарова Виктория | D91: 01.02.1995 | E91: Москва | F91: Бег 400 м | H91: КМС | I91: Л | J91: Голубенко Ю.И., | K91: МГФСО ГБУ "МГФСО" Москомспорта
A92: 334 | C92: Бочарова Виктория | D92: 01.02.1995 | E92: Москва | F92: Эстафетный бег 4 х 400 м | H92: КМС | I92: Л | J92: Голубенко Ю.И. | K92: МГФСО ГБУ "МГФСО" Москомспорта
A93: 269 | C93: Витюгова Анастасия | D93: 13.03.1997 | E93: Москва Санкт-Петербург | F93: Метание диска | H93: МС | I93: К | J93: Боричевский А.Я., Дернов Л. | K93: ГБУ "ЦОП по легкой атлетике" Москомспорта , ГБУ СШОР "Академия легкой атлетики Санк-Петербурга"
A94: 336 | C94: Гафурова Евгения | D94: 22.03.1994 | E94: Москва | F94: Барьерный бег 100 м | H94: МС | I94: Л | J94: Вдовин М.В., Полоницкий А.Е., Гатауллин Р.А. | K94: ФАУ МО РФ ЦСКА СШОР по легкой атлетике имени Н.А. Пономаревой
A95: 337 | C95: Гордеева (Бугакова) Алёна | D95: 24.04.1997 | E95: Москва Тверская область | F95: Толкание ядра | H95: МС | I95: К | J95: Березуцкая Н.Н., Березуцкий В.В., Бугаков С.А. | K95: ВС ГБУ "ФСО "Юность Москвы" Москомспорта, ГБУ Тверской области ЦСП "ШВСМ", ГБУ "КСШОР № 2"
... A128: 288 | C128: Манакова (Решеткина) Ирина | D128: 30.01.1989 | E128: Москва Санкт-Петербург | F128: Эстафетный бег 4 х 100 м | H128: МС | I128: К | J128: Климов А.Г. | K128: РА ГБУ "ЦСП по легкой атлетике" Москомспорта, ГБУ "ЦОП по легкой атлетике" Москомспорта, СПб ГБУ ЦОП "ШВСМ по легкой атлетике"
A129: 288 | C129: Манакова (Решеткина) Ирина | D129: 30.01.1989 | E129: Москва Санкт-Петербург | F129: Бег 200 м | H129: МС | J129: Климов А.Г. | K129: РА ГБУ "ЦСП по легкой атлетике" Москомспорта, ГБУ "ЦОП по легкой атлетике" Москомспорта, СПб ГБУ ЦОП "ШВСМ по легкой атлетике"
A130: 226 | C130: Мельчанова Кристина | D130: 01.10.1997 | E130: Москва Нижегородская область | F130: Метание молота | H130: КМС | I130: К | J130: Садов М.В., Садова В.М. | K130: ГБУ "СШОР "Луч" Москомспорта, МБУ "КСШОР № 1"
A131: 360 | C131: Мендаева Лилия | D131: 01.06.2000 | E131: Москва Ханты-Мансийский автономный округ - Югра | F131: Бег 1500 м | H131: КМС | I131: Л | J131: Телятников М.М., Кульпин С.Ю. | K131: Москомспорт ГБУ "ЦОП по легкой атлетике" Москомспорта
A132: 360 | C132: Мендаева Лилия | D132: 01.06.2000 | E132: Москва Ханты-Мансийский автономный округ - Югра | F132: Бег 5 000 м | H132: КМС | I132: Л | J132: Телятников М.М., Кульпин С.Ю. | K132: Москомспорт ГБУ "ЦОП по легкой атлетике" Москомспорта
A133: 36 | C133: Нидбайкина Дарья | D133: 26.12.1994 | E133: Москва Брянская область | F133: Прыжок тройной | H133: МС | I133: К | J133: Тер-Аванесов Е.М. Ширяев С.П. | K133: ГБУ "ЦОП по легкой атлетике" Москомспорта, ГБУ БО "СШОР "Русь"
A134: 361 | C134: Огрицко Мария | D134: 01.03.1994 | E134: Москва | F134: Метание диска | H134: МС | I134: Л | J134: Запольский Д.В., Пестрецова С.Н., Васильев С.В. | K134: ГБУ "ЦОП по легкой атлетике" Москомспорта
A135: 205 | C135: Панова Елена | D135: 02.03.1987 | E135: Москва Владимирская область | F135: Метание диска | H135: МСМК | I135: К | J135: Котов С.В., Диаздинов О.В. | K135: ГБУ "МГФСО" Москомспорта
A136: 362 | C136: Пронкина Анна | D136: 07.09.1996 | E136: Москва | F136: Метание молота | H136: МС | I136: Л | J136: Херсонцев В.С. | K136: ГБУ "СШОР "Луч" Москомспорта
A137: 156 | C137: Маилова Эмма | D137: 21.02.1997 | E137: Краснодарский край | F137: Метание копья | H137: КМС | I137: К | J137: Синицын А.В. | K137: ГБУ КК "ЦОП по легкой атлетике", ГБУ КК "РЦСП по легкой атлетике"
A138: 364 | C138: Рудакова Вера | D138: 20.03.1992 | E138: Москва Пермский край | F138: Барьерный бег 400 м | H138: МСМК | I138: К | J138: Куликова Е.Ю., Зеленцова Т.П., Силкин А.Ф. | K138: ВС ГБУ "ЦОП по легкой атлетике" Москомспорта, КГАОУ ДО "СДЮСШОР "Старт"
A139: 229 | C139: Савинова Юлия | D139: 28.06.1994 | E139: Москва Нижегородская область | F139: Метание диска | H139: КМС | I139: К | J139: Садов М.В., Зубовский В.Г. | K139: ГБУ "СШОР "Луч" Москомспорта, МБУ "КСШОР № 1"
A140: 230 | C140: Садова Виктория | D140: 18.03.1993 | E140: Москва Нижегородская область | F140: Метание молота | H140: МС | I140: К | J140: Коптюх И.Н., Садов М.В. | K140: ГБУ "СШОР "Луч" Москомспорта, МБУ "КСШОР № 1"
C141: Самуйлова Екатерина | D141: 05.11.1999 | E141: Москва Тверская область | F141: Бег 1500 м | H141: КМС | I141: К | J141: Фролова Т.С., Комолов В.А. | K141: ГБУ "ЦОП по легкой атлетике" Москомспорта, МУДО "КС СДЮСШОР № 1" г. Ржева
A142: 365 | C142: Самуйлова Екатерина | D142: 05.11.1999 | E142: Москва Тверская область | F142: Бег 400 м | H142: КМС | I142: Л | J142: Фролова Т.С., Комолов В.А. | K142: ГБУ "ЦОП по легкой атлетике" Москомспорта, МУДО "КС СДЮСШОР № 1" г. Ржева
A143: 365 | C143: Самуйлова Екатерина | D143: 05.11.1999 | E143: Москва Тверская область | F143: Бег 800 м | H143: КМС | I143: К | J143: Фролова Т.С., Комолов В.А. | K143: ГБУ "ЦОП по легкой атлетике" Москомспорта, МУДО "КС СДЮСШОР № 1" г. Ржева
C144: Самуйлова Екатерина | D144: 05.11.1999 | E144: Москва Тверская область | F144: Эстафетный бег 4 х 400 м | H144: КМС | I144: Л | J144: Фролова Т.С., Комолов В.А. | K144: ГБУ "ЦОП по легкой атлетике" Москомспорта, МУДО "КС СДЮСШОР № 1" г. Ржева
C145: Смирнова (Вороненкова) Екатерина | D145: 08.09.1988 | E145: Москва | F145: Эстафетный бег 4 х 100 м | H145: МСМК | I145: Л | J145: Михеева В.В., Смирнов Р.П. | K145: ВС, ЦСКА ГБУ "СШОР "Луч" Москомспорта
A146: 367 | C146: Смирнова (Вороненкова) Екатерина | D146: 08.09.1988 | E146: Москва | F146: Бег 100 м | H146: МСМК | I146: Л | J146: Михеева В.В., Смирнов Р.П. | K146: ВС, ЦСКА ГБУ "СШОР "Луч" Москомспорта
A147: 367 | C147: Смирнова (Вороненкова) Екатерина | D147: 08.09.1988 | E147: Москва | F147: Бег 200 м | H147: МСМК | I147: Л | J147: Михеева В.В., Смирнов Р.П. | K147: ВС, ЦСКА ГБУ "СШОР "Луч" Москомспорта
A148: 450 | C148: Гутенкова Дарья | D148: 22.07.1996 | E148: Московская область | F148: Прыжок с шестом | H148: МС | I148: Л | J148: Гутенкова Г.Н., Смольяков С.М. | K148: МАУ "КСШОР"
A149: 285 | C149: Кузминчук Олеся | D149: 04.12.1998 | E149: Санкт-Петербург | F149: Бег 200 м | H149: КМС | I149: К | J149: Лотова Э.В. | K149: ГБУ СШОР № 2 Московского района
A150: 447 | C150: Еремеева Анастасия | D150: 01.03.1998 | E150: Московская область | F150: Бег 400 м | H150: МС | I150: Л | J150: Чебыкина Т.Г., Матюхин Н.И., Ларюкова Е.М. | K150: ГБУ МО "ЦСП ОВС", ГБУ МО «СШОР по легкой атлетике»
A151: 447 | C151: Еремеева Анастасия | D151: 01.03.1998 | E151: Московская область | F151: Эстафетный бег 4 х 100 м | H151: МС | I151: Л | J151: Чебыкина Т.Г., Матюхин Н.И., Ларюкова Е.М. | K151: ГБУ МО "ЦСП ОВС", ГБУ МО «СШОР по легкой атлетике»
A152: 447 | C152: Еремеева Анастасия | D152: 01.03.1998 | E152: Московская область | F152: Эстафетный бег 4 х 400 м | H152: МС | I152: К | J152: Чебыкина Т.Г., Матюхин Н.И., Ларюкова Е.М. | K152: ГБУ МО "ЦСП ОВС", ГБУ МО «СШОР по легкой атлетике»
A153: 452 | C153: Зимарева Ксения | D153: 11.11.1994 | E153: Московская область | F153: Барьерный бег 400 м | H153: КМС | I153: Л | J153: Журавский Г.А., Зотов А.С., Маслов А.М. | K153: МБУ ФСО "СШОР "Авангард", СК "Химик"
A154: 452 | C154: Зимарева Ксения | D154: 11.11.1994 | E154: Московская область | F154: Бег 400 м | H154: КМС | I154: Л | J154: Журавский Г.А., Зотов А.С., Маслов А.М. | K154: МБУ ФСО "СШОР "Авангард", СК "Химик"
A155: 452 | C155: Зимарева Ксения | D155: 11.11.1994 | E155: Московская область | F155: Эстафетный бег 4 х 400 м | H155: КМС | I155: Л | J155: Журавский Г.А., Зотов А.С., Маслов А.М. | K155: МБУ ФСО "СШОР "Авангард", СК "Химик"
A156: 408 | C156: Пекова Залина | D156: 06.03.2000 | E156: Кабардино-Балкарская республика | F156: Метание диска | H156: КМС | I156: К | J156: Озроков А.Б., Рыженко С.Н. | K156: Минспорт КБР ГКУ "ЦСП СК КБР", ГКУ КБР "СШОР № 1"
A157: 416 | C157: Палкина Софья | D157: 09.06.1998 | E157: Московская область Самарская область | F157: Метание молота | H157: МСМК | I157: К | J157: Быков В.А., Шикунов И.В. | K157: ВС ГБУ МО "ЦСП ОВС", ГАУ СО "ЦСПССКСО", МБУДО СДЮСШОР № 3 "Легкая атлетика"
... A168: 426 | C168: Седова Елена | D168: 01.03.1990 | E168: Московская область Новосибирская область | F168: Бег 5 000 м | H168: МС | I168: К | J168: Седов С.В., Шармин Е.А. | K168: ВС ГБУ МО "ЦСП ОВС", ГБУ МО "СШОР по легкой атлетике", ГАУ НСО "РЦСП СК и СР"
C169: Погодина Ольга | D169: 29.07.2004 | E169: Краснодарский край | F169: Бег 100 м | H169: 1 | I169: Л | J169: Полонников А.В. | K169: МБУ СШОР № 1 г. Сочи
A170: 454 | C170: Ивонина Екатерина | D170: 14.06.1994 | E170: Московская область Пермский край | F170: Бег 1500 м | H170: МС | I170: К | J170: Попов С.А., Попова Е.И., Попов А.С. | K170: Динамо ГБУ МО "ЦСП ОВС", ГК АУ "ЦСП ПК", КГАУ "СШОР "Старт"
A171: 449 | C171: Бондаренко Елизавета | D171: 01.07.1999 | E171: Московская область Ростовская область | F171: Прыжок с шестом | H171: МС | I171: К | J171: Бондаренко В.Г., Ишрефова Х. | K171: ГБУ МО "ЦСП ОВС", ГБПОУ МО "УОР № 2", МБУ ДО "ДЮСШ № 1"
A172: 436 | C172: Остапчук Мария | D172: 14.06.1992 | E172: ЮФО (К) | F172: Метание копья | H172: 1 | I172: К | J172: Литвинов Я.А., Терентьева В.С. | K172: ГБУ РК "СШОР по легкой атлетике № 1"
A173: 470 | C173: Ткачева Ирина | D173: 09.02.1998 | E173: Московская область | F173: Метание молота | H173: МС | I173: Л | J173: Жуков А.А. | K173: МБУ ФСО "СШОР "Авангард", ГБУ МО "ЦОВС"
A174: 411 | C174: Андреева (Храмова) Валерия | D174: 13.08.1992 | E174: Московская область Самарская область | F174: Барьерный бег 400 м | H174: МС | I174: К | J174: Носов С.В., Сагайдак С.В., Гришкина В.П. | K174: ВС ГБУ МО "ЦСП ОВС", ГАУ "СШОР № 6"
A175: 415 | C175: Николаева Анастасия | D175: 24.09.1995 | E175: Московская область Самарская область | F175: Барьерный бег 100 м | H175: МСМК | I175: К | J175: Маслаков В.М., Жуликов Н.М., Иванова И.Ю. | K175: ВС ГБУ МО "ЦСП ОВС", ГБУ МО "СШОР по легкой атлетике", МБУ г.о. Самара "СШОР № 2"
A176: 472 | C176: Царёва Елизавета | D176: 26.03.1993 | E176: Московская область Ростовская область | F176: Метание молота | H176: МСМК | I176: К | J176: Водолага И.Г., Айдамиров Е.Д., Белобородов Н.Н. | K176: ГБУ МО "ЦСП ОВС", ГБУ РО "ЦОП № 1" (г. Ростов-на-Дону)
...

Sheet И10-Ж
A1: =Name_1 -> МИНИСТЕРСТВО ФИЗИЧЕСКОЙ КУЛЬТУРЫ И СПОРТА РОССИЙСКОЙ ФЕДЕРАЦИИ
A2: =Name_2 -> ВСЕРОССИЙСКАЯ ФЕДЕРАЦИЯ ЛЕГКОЙ АТЛЕТИКИ
A3: =Name_3 -> МИНИСТЕРСТВО ФИЗИЧЕСКОЙ КУЛЬТУРЫ И СПОРТА КРАСНОДАРСКОГО КРАЯ
A4: =Name_6 -> ФЕДЕРАЦИЯ ЛЕГКОЙ АТЛЕТИКИ КРАСНОДАРСКОГО КРАЯ | T4: ИТОГОВЫЙ ПРОТОКОЛ
A5: КУБОК РОССИИ
A6: =d_4 -> ЖЕНЩИНЫ
A7: ИТОГОВЫЙ ПРОТОКОЛ
A8: Бег 100 м
P9: =d_5 -> г. Сочи, ул. Бзугу 2, ст. им. Славы Метревели
L10: заеги | N10: =d_1 -> 28.05.2019г. | O10: 0.72222222 | P10: =d_6 -> t° +25 вл. 76% | Q10: номер
A11: автохронометраж | L11: финал | N11: =d_1 -> 28.05.2019г. | O11: 0.77430556 | P11: =d_6 -> t° +25 вл. 76% | R11: мсмк | S11: мс | T11: кмс | U11: 1 | V11: 2 | W11: 3 | X11: 1ю | Y11: 2ю | Z11: 3ю
A12: Занятое место | B12: Фамилия, имя | C12: Дата рождения | D12: Заявл. разряд | E12: Территория | F12: Округ | G12: Оргнизация Ведомство | I12: Забеги | J12: V m/s | L12: Финал | M12: V m/s | N12: Выполненный разряд | O12: Очки | P12: Ф.И.О. тренера | R12: 1130 | S12: 1184 | T12: 1264 | U12: 1344 | V12: 1434 | W12: 1534 | X12: 1634 | Y12: 1744 | Z12: 1864
A13: 1 | B13: =VLOOKUP($Q13,УЧАСТНИКИ!$A$2:$L$1099,3,FALSE) -> Смирнова (Вороненкова) Екатерина | C13: =VLOOKUP($Q13,УЧАСТНИКИ!$A$2:$L$1099,4,FALSE) -> 08.09.1988 | D13: =VLOOKUP($Q13,УЧАСТНИКИ!$A$2:$L$1099,8,FALSE) -> МСМК | E13: =VLOOKUP($Q13,УЧАСТНИКИ!$A$2:$L$1099,5,FALSE) -> Москва | F13: =VLOOKUP($Q13,УЧАСТНИКИ!$A$2:$L$1099,7,FALSE) -> 0 | G13: =VLOOKUP($Q13,УЧАСТНИКИ!$A$2:$L$1099,11,FALSE) -> ВС, ЦСКА ГБУ "СШОР "Луч" Москомспорта | H13: 1171 | I13: =IF(H13=0,0,CONCATENATE(MID(H13,1,2),".",MID(H13,3,2))) -> 11.71 | J13: -2.4 | K13: 1146 | L13: =IF(K13=0,0,CONCATENATE(MID(K13,1,2),".",MID(K13,3,2))) -> 11.46 | M13: 1 | N13: =IF(S13<=$R$12,"МСМК",IF(S13<=$S$12,"МС",IF(S13<=$T$12,"КМС",IF(S13<=$U$12,"1",IF(S13<=$V$12,"2",IF(S13<=$W$12,"3",IF(S13<=$X$12,"1юн",IF(S13<=$Y$12,"2юн",IF(S13<=$Z$12,"3юн",IF(S13>$Z$12,"б/р")))))))))) -> МС | O13: =VLOOKUP($Q13,УЧАСТНИКИ!$A$2:$L$1099,9,FALSE) -> Л | P13: =VLOOKUP($Q13,УЧАСТНИКИ!$A$2:$L$1099,10,FALSE) -> Михеева В.В., Смирнов Р.П. | Q13: 367 | S13: =MIN(H13,K13) -> 1146
A14: 2 | B14: =VLOOKUP($Q14,УЧАСТНИКИ!$A$2:$L$1099,3,FALSE) -> Хорошева Кристина | C14: =VLOOKUP($Q14,УЧАСТНИКИ!$A$2:$L$1099,4,FALSE) -> 05.04.1993 | D14: =VLOOKUP($Q14,УЧАСТНИКИ!$A$2:$L$1099,8,FALSE) -> МС | E14: =VLOOKUP($Q14,УЧАСТНИКИ!$A$2:$L$1099,5,FALSE) -> Пензенская область Тульская область | F14: =VLOOKUP($Q14,УЧАСТНИКИ!$A$2:$L$1099,7,FALSE) -> 0 | G14: =VLOOKUP($Q14,УЧАСТНИКИ!$A$2:$L$1099,11,FALSE) -> ГАУ ЦСП ПО , ГУ ТО ЦСП, МБУ СШОР "Легкая атлетика" г. Тула | H14: 1187 | I14: =IF(H14=0,0,CONCATENATE(MID(H14,1,2),".",MID(H14,3,2))) -> 11.87 | J14: -0.4 | K14: 1168 | L14: =IF(K14=0,0,CONCATENATE(MID(K14,1,2),".",MID(K14,3,2))) -> 11.68 | M14: 1 | N14: =IF(S14<=$R$12,"МСМК",IF(S14<=$S$12,"МС",IF(S14<=$T$12,"КМС",IF(S14<=$U$12,"1",IF(S14<=$V$12,"2",IF(S14<=$W$12,"3",IF(S14<=$X$12,"1юн",IF(S14<=$Y$12,"2юн",IF(S14<=$Z$12,"3юн",IF(S14>$Z$12,"б/р")))))))))) -> МС | O14: 20+5 | P14: =VLOOKUP($Q14,УЧАСТНИКИ!$A$2:$L$1099,10,FALSE) -> Родионова А.И., Ковтун Н.Н. | Q14: 406 | S14: =MIN(H14,K14) -> 1168
A15: 3 | B15: =VLOOKUP($Q15,УЧАСТНИКИ!$A$2:$L$1099,3,FALSE) -> Сластникова Тамара | C15: =VLOOKUP($Q15,УЧАСТНИКИ!$A$2:$L$1099,4,FALSE) -> 21.05.1993 | D15: =VLOOKUP($Q15,УЧАСТНИКИ!$A$2:$L$1099,8,FALSE) -> МС | E15: =VLOOKUP($Q15,УЧАСТНИКИ!$A$2:$L$1099,5,FALSE) -> Новосибирская область | F15: =VLOOKUP($Q15,УЧАСТНИКИ!$A$2:$L$1099,7,FALSE) -> 0 | G15: =VLOOKUP($Q15,УЧАСТНИКИ!$A$2:$L$1099,11,FALSE) -> Динамо ГАУ НСО "РЦСП СК и СР",ФГБОУ ВО Новосибирский ГАУ | H15: 1181 | I15: =IF(H15=0,0,CONCATENATE(MID(H15,1,2),".",MID(H15,3,2))) -> 11.81 | J15: -1.8 | K15: 1169 | L15: =IF(K15=0,0,CONCATENATE(MID(K15,1,2),".",MID(K15,3,2))) -> 11.69 | M15: 1 | N15: =IF(S15<=$R$12,"МСМК",IF(S15<=$S$12,"МС",IF(S15<=$T$12,"КМС",IF(S15<=$U$12,"1",IF(S15<=$V$12,"2",IF(S15<=$W$12,"3",IF(S15<=$X$12,"1юн",IF(S15<=$Y$12,"2юн",IF(S15<=$Z$12,"3юн",IF(S15>$Z$12,"б/р")))))))))) -> МС | O15: 17+5 | P15: =VLOOKUP($Q15,УЧАСТНИКИ!$A$2:$L$1099,10,FALSE) -> Бухашеев А.Г., Богатов А.М., Боярищева А.А. | Q15: 427 | S15: =MIN(H15,K15) -> 1169
A16: 4 | B16: =VLOOKUP($Q16,УЧАСТНИКИ!$A$2:$L$1099,3,FALSE) -> Погребняк Наталья | C16: =VLOOKUP($Q16,УЧАСТНИКИ!$A$2:$L$1099,4,FALSE) -> 19.02.1988 | D16: =VLOOKUP($Q16,УЧАСТНИКИ!$A$2:$L$1099,8,FALSE) -> МСМК | E16: =VLOOKUP($Q16,УЧАСТНИКИ!$A$2:$L$1099,5,FALSE) -> Краснодарский край | F16: =VLOOKUP($Q16,УЧАСТНИКИ!$A$2:$L$1099,7,FALSE) -> 0 | G16: =VLOOKUP($Q16,УЧАСТНИКИ!$A$2:$L$1099,11,FALSE) -> ГБУ КК "РЦСП по легкой атлетике" | H16: 1175 | I16: =IF(H16=0,0,CONCATENATE(MID(H16,1,2),".",MID(H16,3,2))) -> 11.75 | J16: -0.4 | K16: 1170 | L16: =IF(K16=0,0,CONCATENATE(MID(K16,1,2),".",MID(K16,3,2))) -> 11.70 | M16: 1 | N16: =IF(S16<=$R$12,"МСМК",IF(S16<=$S$12,"МС",IF(S16<=$T$12,"КМС",IF(S16<=$U$12,"1",IF(S16<=$V$12,"2",IF(S16<=$W$12,"3",IF(S16<=$X$12,"1юн",IF(S16<=$Y$12,"2юн",IF(S16<=$Z$12,"3юн",IF(S16>$Z$12,"б/р")))))))))) -> МС | O16: 15+5 | P16: =VLOOKUP($Q16,УЧАСТНИКИ!$A$2:$L$1099,10,FALSE) -> Смирнов В.Ф., Шульга М.В. | Q16: 163 | S16: =MIN(H16,K16) -> 1170
A17: 5 | B17: =VLOOKUP($Q17,УЧАСТНИКИ!$A$2:$L$1099,3,FALSE) -> Белова (Трифонова) Ирина | C17: =VLOOKUP($Q17,УЧАСТНИКИ!$A$2:$L$1099,4,FALSE) -> 21.01.1994 | D17: =VLOOKUP($Q17,УЧАСТНИКИ!$A$2:$L$1099,8,FALSE) -> МС | E17: =VLOOKUP($Q17,УЧАСТНИКИ!$A$2:$L$1099,5,FALSE) -> Республика Мордовия | F17: =VLOOKUP($Q17,УЧАСТНИКИ!$A$2:$L$1099,7,FALSE) -> 0 | G17: =VLOOKUP($Q17,УЧАСТНИКИ!$A$2:$L$1099,11,FALSE) -> ГБУ РМ "КСШОР" | H17: 1185 | I17: =IF(H17=0,0,CONCATENATE(MID(H17,1,2),".",MID(H17,3,2))) -> 11.85 | J17: -0.4 | K17: 1171 | L17: =IF(K17=0,0,CONCATENATE(MID(K17,1,2),".",MID(K17,3,2))) -> 11.71 | M17: 1 | N17: =IF(S17<=$R$12,"МСМК",IF(S17<=$S$12,"МС",IF(S17<=$T$12,"КМС",IF(S17<=$U$12,"1",IF(S17<=$V$12,"2",IF(S17<=$W$12,"3",IF(S17<=$X$12,"1юн",IF(S17<=$Y$12,"2юн",IF(S17<=$Z$12,"3юн",IF(S17>$Z$12,"б/р")))))))))) -> МС | O17: 14+5 | P17: =VLOOKUP($Q17,УЧАСТНИКИ!$A$2:$L$1099,10,FALSE) -> Бусаров В.М. | Q17: 215 | S17: =MIN(H17,K17) -> 1171
A18: 6 | B18: =VLOOKUP($Q18,УЧАСТНИКИ!$A$2:$L$1099,3,FALSE) -> Соколова (Полищук) Анастасия | C18: =VLOOKUP($Q18,УЧАСТНИКИ!$A$2:$L$1099,4,FALSE) -> 20.05.1994 | D18: =VLOOKUP($Q18,УЧАСТНИКИ!$A$2:$L$1099,8,FALSE) -> МС | E18: =VLOOKUP($Q18,УЧАСТНИКИ!$A$2:$L$1099,5,FALSE) -> Свердловская область Челябинская область | F18: =VLOOKUP($Q18,УЧАСТНИКИ!$A$2:$L$1099,7,FALSE) -> 0 | G18: =VLOOKUP($Q18,УЧАСТНИКИ!$A$2:$L$1099,11,FALSE) -> ГАУ СО "ЦСП", МБУ СШОР № 2 по легкой атлетике имени Л.Н.Мосеева г.Челябинск | H18: 1180 | I18: =IF(H18=0,0,CONCATENATE(MID(H18,1,2),".",MID(H18,3,2))) -> 11.80 | J18: -0.1 | K18: 1173 | L18: =IF(K18=0,0,CONCATENATE(MID(K18,1,2),".",MID(K18,3,2))) -> 11.73 | M18: 1 | N18: =IF(S18<=$R$12,"МСМК",IF(S18<=$S$12,"МС",IF(S18<=$T$12,"КМС",IF(S18<=$U$12,"1",IF(S18<=$V$12,"2",IF(S18<=$W$12,"3",IF(S18<=$X$12,"1юн",IF(S18<=$Y$12,"2юн",IF(S18<=$Z$12,"3юн",IF(S18>$Z$12,"б/р")))))))))) -> МС | O18: 13+5 | P18: =VLOOKUP($Q18,УЧАСТНИКИ!$A$2:$L$1099,10,FALSE) -> Касаткина Л.В., Хрущелева Н.П., Табабилов Р.Б. | Q18: 73 | S18: =MIN(H18,K18) -> 1173
A19: 7 | B19: =VLOOKUP($Q19,УЧАСТНИКИ!$A$2:$L$1099,3,FALSE) -> Черняева (Козлова) Елена | C19: =VLOOKUP($Q19,УЧАСТНИКИ!$A$2:$L$1099,4,FALSE) -> 19.09.1988 | D19: =VLOOKUP($Q19,УЧАСТНИКИ!$A$2:$L$1099,8,FALSE) -> МС | E19: =VLOOKUP($Q19,УЧАСТНИКИ!$A$2:$L$1099,5,FALSE) -> Санкт-Петербург Вологодская область | F19: =VLOOKUP($Q19,УЧАСТНИКИ!$A$2:$L$1099,7,FALSE) -> 0 | G19: =VLOOKUP($Q19,УЧАСТНИКИ!$A$2:$L$1099,11,FALSE) -> Профсоюзы СПб ГБУ ЦОП "ШВСМ по легкой атлетике", АУ ФКиС ВО "ЦСП" | H19: 1192 | I19: =IF(H19=0,0,CONCATENATE(MID(H19,1,2),".",MID(H19,3,2))) -> 11.92 | J19: -2.4 | K19: 1175 | L19: =IF(K19=0,0,CONCATENATE(MID(K19,1,2),".",MID(K19,3,2))) -> 11.75 | M19: 1 | N19: =IF(S19<=$R$12,"МСМК",IF(S19<=$S$12,"МС",IF(S19<=$T$12,"КМС",IF(S19<=$U$12,"1",IF(S19<=$V$12,"2",IF(S19<=$W$12,"3",IF(S19<=$X$12,"1юн",IF(S19<=$Y$12,"2юн",IF(S19<=$Z$12,"3юн",IF(S19>$Z$12,"б/р")))))))))) -> МС | O19: 12+5 | P19: =VLOOKUP($Q19,УЧАСТНИКИ!$A$2:$L$1099,10,FALSE) -> Климов А.Г. | Q19: 322 | S19: =MIN(H19,K19) -> 1175
A20: 8 | B20: =VLOOKUP($Q20,УЧАСТНИКИ!$A$2:$L$1099,3,FALSE) -> Григорьева Анастасия | C20: =VLOOKUP($Q20,УЧАСТНИКИ!$A$2:$L$1099,4,FALSE) -> 07.11.1993 | D20: =VLOOKUP($Q20,УЧАСТНИКИ!$A$2:$L$1099,8,FALSE) -> МС | E20: =VLOOKUP($Q20,УЧАСТНИКИ!$A$2:$L$1099,5,FALSE) -> Санкт-Петербург | F20: =VLOOKUP($Q20,УЧАСТНИКИ!$A$2:$L$1099,7,FALSE) -> 0 | G20: =VLOOKUP($Q20,УЧАСТНИКИ!$A$2:$L$1099,11,FALSE) -> СПб ГБУ ЦОП "ШВСМ по легкой атлетике" | H20: 1182 | I20: =IF(H20=0,0,CONCATENATE(MID(H20,1,2),".",MID(H20,3,2))) -> 11.82 | J20: -1.8 | L20: DQ 162.7 | N20: =IF(S20<=$R$12,"МСМК",IF(S20<=$S$12,"МС",IF(S20<=$T$12,"КМС",IF(S20<=$U$12,"1",IF(S20<=$V$12,"2",IF(S20<=$W$12,"3",IF(S20<=$X$12,"1юн",IF(S20<=$Y$12,"2юн",IF(S20<=$Z$12,"3юн",IF(S20>$Z$12,"б/р")))))))))) -> МС | O20: 11+5 | P20: =VLOOKUP($Q20,УЧАСТНИКИ!$A$2:$L$1099,10,FALSE) -> Куликова Е.Ю., Буровцева Н.В. | Q20: 272 | S20: =MIN(H20,K20) -> 1182
A21: 9 | B21: =VLOOKUP($Q21,УЧАСТНИКИ!$A$2:$L$1099,3,FALSE) -> Максимова (Сизова) Марина | C21: =VLOOKUP($Q21,УЧАСТНИКИ!$A$2:$L$1099,4,FALSE) -> 18.02.1997 | D21: =VLOOKUP($Q21,УЧАСТНИКИ!$A$2:$L$1099,8,FALSE) -> МС | E21: =VLOOKUP($Q21,УЧАСТНИКИ!$A$2:$L$1099,5,FALSE) -> Нижегородская область Чувашская республика | F21: =VLOOKUP($Q21,УЧАСТНИКИ!$A$2:$L$1099,7,FALSE) -> 0 | G21: =VLOOKUP($Q21,УЧАСТНИКИ!$A$2:$L$1099,11,FALSE) -> МБУ КСШОР №1 , ГАУ НО "ЦСП", БУ "СШОР № 1 им. В.Егоровой" Минспорта Чувашии, БПОУ "Чебоксарское УОР имени В.М. Краснова" Минспорта Чувашии | H21: 1194 | I21: =IF(H21=0,0,CONCATENATE(MID(H21,1,2),".",MID(H21,3,2))) -> 11.94 | J21: -2.4 | N21: =IF(S21<=$R$12,"МСМК",IF(S21<=$S$12,"МС",IF(S21<=$T$12,"КМС",IF(S21<=$U$12,"1",IF(S21<=$V$12,"2",IF(S21<=$W$12,"3",IF(S21<=$X$12,"1юн",IF(S21<=$Y$12,"2юн",IF(S21<=$Z$12,"3юн",IF(S21>$Z$12,"б/р")))))))))) -> КМС | O21: 10 | P21: =VLOOKUP($Q21,УЧАСТНИКИ!$A$2:$L$1099,10,FALSE) -> Смирнов С.В., Смирнова Л.А. | Q21: 225 | S21: =MIN(H21,K21) -> 1194
A22: 10 | B22: =VLOOKUP($Q22,УЧАСТНИКИ!$A$2:$L$1099,3,FALSE) -> Стародубова Ангелина | C22: =VLOOKUP($Q22,УЧАСТНИКИ!$A$2:$L$1099,4,FALSE) -> 11.10.1998 | D22: =VLOOKUP($Q22,УЧАСТНИКИ!$A$2:$L$1099,8,FALSE) -> МС | E22: =VLOOKUP($Q22,УЧАСТНИКИ!$A$2:$L$1099,5,FALSE) -> Московская область Пензенская область | F22: =VLOOKUP($Q22,УЧАСТНИКИ!$A$2:$L$1099,7,FALSE) -> 0 | G22: =VLOOKUP($Q22,УЧАСТНИКИ!$A$2:$L$1099,11,FALSE) -> ГБУ МО "СШОР по легкой атлетике", ГБУ ПО "Комплексная СШОР", ГАУ ЦСП ПО | H22: 1218 | I22: =IF(H22=0,0,CONCATENATE(MID(H22,1,2),".",MID(H22,3,2))) -> 12.18 | J22: -0.1 | N22: =IF(S22<=$R$12,"МСМК",IF(S22<=$S$12,"МС",IF(S22<=$T$12,"КМС",IF(S22<=$U$12,"1",IF(S22<=$V$12,"2",IF(S22<=$W$12,"3",IF(S22<=$X$12,"1юн",IF(S22<=$Y$12,"2юн",IF(S22<=$Z$12,"3юн",IF(S22>$Z$12,"б/р")))))))))) -> КМС | O22: =VLOOKUP($Q22,УЧАСТНИКИ!$A$2:$L$1099,9,FALSE) -> Л | P22: =VLOOKUP($Q22,УЧАСТНИКИ!$A$2:$L$1099,10,FALSE) -> Краснов Р.Б. | Q22: 469 | S22: =MIN(H22,K22) -> 1218
A23: 11 | B23: =VLOOKUP($Q23,УЧАСТНИКИ!$A$2:$L$1099,3,FALSE) -> Стародубова Виолетта | C23: =VLOOKUP($Q23,УЧАСТНИКИ!$A$2:$L$1099,4,FALSE) -> 15.12.1999 | D23: =VLOOKUP($Q23,УЧАСТНИКИ!$A$2:$L$1099,8,FALSE) -> КМС | E23: =VLOOKUP($Q23,УЧАСТНИКИ!$A$2:$L$1099,5,FALSE) -> Воронежская область | F23: =VLOOKUP($Q23,УЧАСТНИКИ!$A$2:$L$1099,7,FALSE) -> 0 | G23: =VLOOKUP($Q23,УЧАСТНИКИ!$A$2:$L$1099,11,FALSE) -> МКУДО Нововоронежская ДЮСШ | H23: 1220 | I23: =IF(H23=0,0,CONCATENATE(MID(H23,1,2),".",MID(H23,3,2))) -> 12.20 | J23: -1.8 | N23: =IF(S23<=$R$12,"МСМК",IF(S23<=$S$12,"МС",IF(S23<=$T$12,"КМС",IF(S23<=$U$12,"1",IF(S23<=$V$12,"2",IF(S23<=$W$12,"3",IF(S23<=$X$12,"1юн",IF(S23<=$Y$12,"2юн",IF(S23<=$Z$12,"3юн",IF(S23>$Z$12,"б/р")))))))))) -> КМС | O23: 9 | P23: =VLOOKUP($Q23,УЧАСТНИКИ!$A$2:$L$1099,10,FALSE) -> Мамонов В.В. | Q23: 400 | S23: =MIN(H23,K23) -> 1220
A24: 12 | B24: =VLOOKUP($Q24,УЧАСТНИКИ!$A$2:$L$1099,3,FALSE) -> Кукушкина Анна | C24: =VLOOKUP($Q24,УЧАСТНИКИ!$A$2:$L$1099,4,FALSE) -> 13.12.1992 | D24: =VLOOKUP($Q24,УЧАСТНИКИ!$A$2:$L$1099,8,FALSE) -> МС | E24: =VLOOKUP($Q24,УЧАСТНИКИ!$A$2:$L$1099,5,FALSE) -> Московская область Ямало-Ненецкий автономный округ | F24: =VLOOKUP($Q24,УЧАСТНИКИ!$A$2:$L$1099,7,FALSE) -> 0 | G24: =VLOOKUP($Q24,УЧАСТНИКИ!$A$2:$L$1099,11,FALSE) -> МАУ ДО Пуровская районная СДЮСШОР "АВАНГАРД", СШОР -"ЛИДЕР" | H24: 1222 | I24: =IF(H24=0,0,CONCATENATE(MID(H24,1,2),".",MID(H24,3,2))) -> 12.22 | J24: -0.1 | N24: =IF(S24<=$R$12,"МСМК",IF(S24<=$S$12,"МС",IF(S24<=$T$12,"КМС",IF(S24<=$U$12,"1",IF(S24<=$V$12,"2",IF(S24<=$W$12,"3",IF(S24<=$X$12,"1юн",IF(S24<=$Y$12,"2юн",IF(S24<=$Z$12,"3юн",IF(S24>$Z$12,"б/р")))))))))) -> КМС | O24: 8 | P24: =VLOOKUP($Q24,УЧАСТНИКИ!$A$2:$L$1099,10,FALSE) -> Хангельдиев Г.А. | Q24: 251 | S24: =MIN(H24,K24) -> 1222
A25: 13 | B25: =VLOOKUP($Q25,УЧАСТНИКИ!$A$2:$L$1099,3,FALSE) -> Соколова Вера | C25: =VLOOKUP($Q25,УЧАСТНИКИ!$A$2:$L$1099,4,FALSE) -> 27.07.1992 | D25: =VLOOKUP($Q25,УЧАСТНИКИ!$A$2:$L$1099,8,FALSE) -> КМС | E25: =VLOOKUP($Q25,УЧАСТНИКИ!$A$2:$L$1099,5,FALSE) -> Краснодарский край | F25: =VLOOKUP($Q25,УЧАСТНИКИ!$A$2:$L$1099,7,FALSE) -> 0 | G25: =VLOOKUP($Q25,УЧАСТНИКИ!$A$2:$L$1099,11,FALSE) -> ГБУ КК "РЦСП по легкой атлетике" | H25: 1227 | I25: =IF(H25=0,0,CONCATENATE(MID(H25,1,2),".",MID(H25,3,2))) -> 12.27 | J25: -1.8 | N25: =IF(S25<=$R$12,"МСМК",IF(S25<=$S$12,"МС",IF(S25<=$T$12,"КМС",IF(S25<=$U$12,"1",IF(S25<=$V$12,"2",IF(S25<=$W$12,"3",IF(S25<=$X$12,"1юн",IF(S25<=$Y$12,"2юн",IF(S25<=$Z$12,"3юн",IF(S25>$Z$12,"б/р")))))))))) -> КМС | O25: =VLOOKUP($Q25,УЧАСТНИКИ!$A$2:$L$1099,9,FALSE) -> Л | P25: =VLOOKUP($Q25,УЧАСТНИКИ!$A$2:$L$1099,10,FALSE) -> Белова С.И., Белова Е.А., Шармин Е.А. | Q25: 174 | S25: =MIN(H25,K25) -> 1227
A26: 14 | B26: =VLOOKUP($Q26,УЧАСТНИКИ!$A$2:$L$1099,3,FALSE) -> Денисова Надежда | C26: =VLOOKUP($Q26,УЧАСТНИКИ!$A$2:$L$1099,4,FALSE) -> 16.03.2000 | D26: =VLOOKUP($Q26,УЧАСТНИКИ!$A$2:$L$1099,8,FALSE) -> КМС | E26: =VLOOKUP($Q26,УЧАСТНИКИ!$A$2:$L$1099,5,FALSE) -> Тюменская область | F26: =VLOOKUP($Q26,УЧАСТНИКИ!$A$2:$L$1099,7,FALSE) -> 0 | G26: =VLOOKUP($Q26,УЧАСТНИКИ!$A$2:$L$1099,11,FALSE) -> ГАУ ТО "ОСШОР", ТЮМГУ | H26: 1233 | I26: =IF(H26=0,0,CONCATENATE(MID(H26,1,2),".",MID(H26,3,2))) -> 12.33 | J26: -1.8 | N26: =IF(S26<=$R$12,"МСМК",IF(S26<=$S$12,"МС",IF(S26<=$T$12,"КМС",IF(S26<=$U$12,"1",IF(S26<=$V$12,"2",IF(S26<=$W$12,"3",IF(S26<=$X$12,"1юн",IF(S26<=$Y$12,"2юн",IF(S26<=$Z$12,"3юн",IF(S26>$Z$12,"б/р")))))))))) -> КМС | O26: 7 | P26: =VLOOKUP($Q26,УЧАСТНИКИ!$A$2:$L$1099,10,FALSE) -> Сергеев О.В., Артемьев Н.И. | Q26: 87 | S26: =MIN(H26,K26) -> 1233
A27: 15 | B27: =VLOOKUP($Q27,УЧАСТНИКИ!$A$2:$L$1099,3,FALSE) -> Кученева Юлия | C27: =VLOOKUP($Q27,УЧАСТНИКИ!$A$2:$L$1099,4,FALSE) -> 11.09.1999 | D27: =VLOOKUP($Q27,УЧАСТНИКИ!$A$2:$L$1099,8,FALSE) -> КМС | E27: =VLOOKUP($Q27,УЧАСТНИКИ!$A$2:$L$1099,5,FALSE) -> Волгоградская область | F27: =VLOOKUP($Q27,УЧАСТНИКИ!$A$2:$L$1099,7,FALSE) -> 0 | G27: =VLOOKUP($Q27,УЧАСТНИКИ!$A$2:$L$1099,11,FALSE) -> МБУ СШОР № 10 (г. Волгоград), ГАПОУ ВО "УОР имени дважды Героя Советского Союза А.И. Родимцева" | H27: 1238 | I27: =IF(H27=0,0,CONCATENATE(MID(H27,1,2),".",MID(H27,3,2))) -> 12.38 | J27: -0.4 | N27: =IF(S27<=$R$12,"МСМК",IF(S27<=$S$12,"МС",IF(S27<=$T$12,"КМС",IF(S27<=$U$12,"1",IF(S27<=$V$12,"2",IF(S27<=$W$12,"3",IF(S27<=$X$12,"1юн",IF(S27<=$Y$12,"2юн",IF(S27<=$Z$12,"3юн",IF(S27>$Z$12,"б/р")))))))))) -> КМС | O27: 6 | P27: =VLOOKUP($Q27,УЧАСТНИКИ!$A$2:$L$1099,10,FALSE) -> Арькова Н.В., Невежин В.И. | Q27: 14 | S27: =MIN(H27,K27) -> 1238
A28: 16 | B28: =VLOOKUP($Q28,УЧАСТНИКИ!$A$2:$L$1099,3,FALSE) -> Петрищева Юлия | C28: =VLOOKUP($Q28,УЧАСТНИКИ!$A$2:$L$1099,4,FALSE) -> 02.03.1997 | D28: =VLOOKUP($Q28,УЧАСТНИКИ!$A$2:$L$1099,8,FALSE) -> КМС | E28: =VLOOKUP($Q28,УЧАСТНИКИ!$A$2:$L$1099,5,FALSE) -> Курская область | F28: =VLOOKUP($Q28,УЧАСТНИКИ!$A$2:$L$1099,7,FALSE) -> 0 | G28: =VLOOKUP($Q28,УЧАСТНИКИ!$A$2:$L$1099,11,FALSE) -> МБУ ДО «ДЮСШ №1» | H28: 1245 | I28: =IF(H28=0,0,CONCATENATE(MID(H28,1,2),".",MID(H28,3,2))) -> 12.45 | J28: -0.4 | N28: =IF(S28<=$R$12,"МСМК",IF(S28<=$S$12,"МС",IF(S28<=$T$12,"КМС",IF(S28<=$U$12,"1",IF(S28<=$V$12,"2",IF(S28<=$W$12,"3",IF(S28<=$X$12,"1юн",IF(S28<=$Y$12,"2юн",IF(S28<=$Z$12,"3юн",IF(S28>$Z$12,"б/р")))))))))) -> КМС | O28: 5 | P28: =VLOOKUP($Q28,УЧАСТНИКИ!$A$2:$L$1099,10,FALSE) -> Шумаков Е.Г. | Q28: 190 | S28: =MIN(H28,K28) -> 1245
A29: 17 | B29: =VLOOKUP($Q29,УЧАСТНИКИ!$A$2:$L$1099,3,FALSE) -> Тарасова Алина | C29: =VLOOKUP($Q29,УЧАСТНИКИ!$A$2:$L$1099,4,FALSE) -> 11.05.1999 | D29: =VLOOKUP($Q29,УЧАСТНИКИ!$A$2:$L$1099,8,FALSE) -> КМС | E29: =VLOOKUP($Q29,УЧАСТНИКИ!$A$2:$L$1099,5,FALSE) -> Красноярский край | F29: =VLOOKUP($Q29,УЧАСТНИКИ!$A$2:$L$1099,7,FALSE) -> 0 | G29: =VLOOKUP($Q29,УЧАСТНИКИ!$A$2:$L$1099,11,FALSE) -> КГАУ "РЦСП "Академия летних видов спорта", МОУ ДО ДЮСШ | H29: 1247 | I29: =IF(H29=0,0,CONCATENATE(MID(H29,1,2),".",MID(H29,3,2))) -> 12.47 | J29: -0.4 | N29: =IF(S29<=$R$12,"МСМК",IF(S29<=$S$12,"МС",IF(S29<=$T$12,"КМС",IF(S29<=$U$12,"1",IF(S29<=$V$12,"2",IF(S29<=$W$12,"3",IF(S29<=$X$12,"1юн",IF(S29<=$Y$12,"2юн",IF(S29<=$Z$12,"3юн",IF(S29>$Z$12,"б/р")))))))))) -> КМС | O29: 4 | P29: =VLOOKUP($Q29,УЧАСТНИКИ!$A$2:$L$1099,10,FALSE) -> Леоненко С.Г., Леоненко Л.С. | Q29: 105 | S29: =MIN(H29,K29) -> 1247
A30: 18 | B30: =VLOOKUP($Q30,УЧАСТНИКИ!$A$2:$L$1099,3,FALSE) -> Довженко Юлия | C30: =VLOOKUP($Q30,УЧАСТНИКИ!$A$2:$L$1099,4,FALSE) -> 23.01.1998 | D30: =VLOOKUP($Q30,УЧАСТНИКИ!$A$2:$L$1099,8,FALSE) -> КМС | E30: =VLOOKUP($Q30,УЧАСТНИКИ!$A$2:$L$1099,5,FALSE) -> Ставропольский край | F30: =VLOOKUP($Q30,УЧАСТНИКИ!$A$2:$L$1099,7,FALSE) -> 0 | G30: =VLOOKUP($Q30,УЧАСТНИКИ!$A$2:$L$1099,11,FALSE) -> Динамо ГБУ СК "СШОР по легкой атлетике" | H30: 1253 | I30: =IF(H30=0,0,CONCATENATE(MID(H30,1,2),".",MID(H30,3,2))) -> 12.53 | J30: -0.1 | N30: =IF(S30<=$R$12,"МСМК",IF(S30<=$S$12,"МС",IF(S30<=$T$12,"КМС",IF(S30<=$U$12,"1",IF(S30<=$V$12,"2",IF(S30<=$W$12,"3",IF(S30<=$X$12,"1юн",IF(S30<=$Y$12,"2юн",IF(S30<=$Z$12,"3юн",IF(S30>$Z$12,"б/р")))))))))) -> КМС | O30: 3 | P30: =VLOOKUP($Q30,УЧАСТНИКИ!$A$2:$L$1099,10,FALSE) -> Власов А.В., Городовиченко В.А. | Q30: 77 | S30: =MIN(H30,K30) -> 1253
A31: 19 | B31: =VLOOKUP($Q31,УЧАСТНИКИ!$A$2:$L$1099,3,FALSE) -> Алисова Елизавета | C31: =VLOOKUP($Q31,УЧАСТНИКИ!$A$2:$L$1099,4,FALSE) -> 21.06.2000 | D31: =VLOOKUP($Q31,УЧАСТНИКИ!$A$2:$L$1099,8,FALSE) -> КМС | E31: =VLOOKUP($Q31,УЧАСТНИКИ!$A$2:$L$1099,5,FALSE) -> Санкт-Петербург Липецкая область | F31: =VLOOKUP($Q31,УЧАСТНИКИ!$A$2:$L$1099,7,FALSE) -> 0 | G31: =VLOOKUP($Q31,УЧАСТНИКИ!$A$2:$L$1099,11,FALSE) -> ГБУ "СШОР" "Академия легкой атлетики Санкт-Петербурга" | H31: 1255 | I31: =IF(H31=0,0,CONCATENATE(MID(H31,1,2),".",MID(H31,3,2))) -> 12.55 | J31: -2.4 | N31: =IF(S31<=$R$12,"МСМК",IF(S31<=$S$12,"МС",IF(S31<=$T$12,"КМС",IF(S31<=$U$12,"1",IF(S31<=$V$12,"2",IF(S31<=$W$12,"3",IF(S31<=$X$12,"1юн",IF(S31<=$Y$12,"2юн",IF(S31<=$Z$12,"3юн",IF(S31>$Z$12,"б/р")))))))))) -> КМС | O31: =VLOOKUP($Q31,УЧАСТНИКИ!$A$2:$L$1099,9,FALSE) -> Л | P31: =VLOOKUP($Q31,УЧАСТНИКИ!$A$2:$L$1099,10,FALSE) -> Шекин Д.А., Бахвалова Е.А., Бурмистрова Н.И. | Q31: 258 | S31: =MIN(H31,K31) -> 1255
A32: 20 | B32: =VLOOKUP($Q32,УЧАСТНИКИ!$A$2:$L$1099,3,FALSE) -> Ткачёва Екатерина | C32: =VLOOKUP($Q32,УЧАСТНИКИ!$A$2:$L$1099,4,FALSE) -> 15.02.1999 | D32: =VLOOKUP($Q32,УЧАСТНИКИ!$A$2:$L$1099,8,FALSE) -> КМС | E32: =VLOOKUP($Q32,УЧАСТНИКИ!$A$2:$L$1099,5,FALSE) -> Новосибирская область | F32: =VLOOKUP($Q32,УЧАСТНИКИ!$A$2:$L$1099,7,FALSE) -> 0 | G32: =VLOOKUP($Q32,УЧАСТНИКИ!$A$2:$L$1099,11,FALSE) -> Динамо ГАУ НСО "РЦСП СК и СР", ФГБОУ ВО "НГПУ | H32: 1263 | I32: =IF(H32=0,0,CONCATENATE(MID(H32,1,2),".",MID(H32,3,2))) -> 12.63 | J32: -2.4 | N32: =IF(S32<=$R$12,"МСМК",IF(S32<=$S$12,"МС",IF(S32<=$T$12,"КМС",IF(S32<=$U$12,"1",IF(S32<=$V$12,"2",IF(S32<=$W$12,"3",IF(S32<=$X$12,"1юн",IF(S32<=$Y$12,"2юн",IF(S32<=$Z$12,"3юн",IF(S32>$Z$12,"б/р")))))))))) -> КМС | O32: 2 | P32: =VLOOKUP($Q32,УЧАСТНИКИ!$A$2:$L$1099,10,FALSE) -> Бухашеев А.Г., Боярищева А.А. | Q32: 429 | S32: =MIN(H32,K32) -> 1263
A33: 21 | B33: =VLOOKUP($Q33,УЧАСТНИКИ!$A$2:$L$1099,3,FALSE) -> Колесникова Дарья | C33: =VLOOKUP($Q33,УЧАСТНИКИ!$A$2:$L$1099,4,FALSE) -> 28.07.2002 | D33: =VLOOKUP($Q33,УЧАСТНИКИ!$A$2:$L$1099,8,FALSE) -> 1 | E33: =VLOOKUP($Q33,УЧАСТНИКИ!$A$2:$L$1099,5,FALSE) -> Краснодарский край | F33: =VLOOKUP($Q33,УЧАСТНИКИ!$A$2:$L$1099,7,FALSE) -> 0 | G33: =VLOOKUP($Q33,УЧАСТНИКИ!$A$2:$L$1099,11,FALSE) -> МБУ СШОР №1 г. Сочи | H33: 1284 | I33: =IF(H33=0,0,CONCATENATE(MID(H33,1,2),".",MID(H33,3,2))) -> 12.84 | J33: -0.1 | N33: =IF(S33<=$R$12,"МСМК",IF(S33<=$S$12,"МС",IF(S33<=$T$12,"КМС",IF(S33<=$U$12,"1",IF(S33<=$V$12,"2",IF(S33<=$W$12,"3",IF(S33<=$X$12,"1юн",IF(S33<=$Y$12,"2юн",IF(S33<=$Z$12,"3юн",IF(S33>$Z$12,"б/р")))))))))) -> 1 | O33: =VLOOKUP($Q33,УЧАСТНИКИ!$A$2:$L$1099,9,FALSE) -> Л | P33: =VLOOKUP($Q33,УЧАСТНИКИ!$A$2:$L$1099,10,FALSE) -> Полонников А.В. | Q33: 487 | S33: =MIN(H33,K33) -> 1284
A34: 22 | B34: =VLOOKUP($Q34,УЧАСТНИКИ!$A$2:$L$1099,3,FALSE) -> Навацкая Софья | C34: =VLOOKUP($Q34,УЧАСТНИКИ!$A$2:$L$1099,4,FALSE) -> 11.02.1999 | D34: =VLOOKUP($Q34,УЧАСТНИКИ!$A$2:$L$1099,8,FALSE) -> КМС | E34: =VLOOKUP($Q34,УЧАСТНИКИ!$A$2:$L$1099,5,FALSE) -> Вологодская область | F34: =VLOOKUP($Q34,УЧАСТНИКИ!$A$2:$L$1099,7,FALSE) -> 0 | G34: =VLOOKUP($Q34,УЧАСТНИКИ!$A$2:$L$1099,11,FALSE) -> АУ ФКиС ВО "ЦСП" | H34: 1294 | I34: =IF(H34=0,0,CONCATENATE(MID(H34,1,2),".",MID(H34,3,2))) -> 12.94 | J34: -1.8 | N34: =IF(S34<=$R$12,"МСМК",IF(S34<=$S$12,"МС",IF(S34<=$T$12,"КМС",IF(S34<=$U$12,"1",IF(S34<=$V$12,"2",IF(S34<=$W$12,"3",IF(S34<=$X$12,"1юн",IF(S34<=$Y$12,"2юн",IF(S34<=$Z$12,"3юн",IF(S34>$Z$12,"б/р")))))))))) -> 1 | O34: 1 | P34: =VLOOKUP($Q34,УЧАСТНИКИ!$A$2:$L$1099,10,FALSE) -> Селюцкий С.А. | Q34: 442 | S34: =MIN(H34,K34) -> 1294
A35: 23 | B35: =VLOOKUP($Q35,УЧАСТНИКИ!$A$2:$L$1099,3,FALSE) -> Спиридонова Валерия | C35: =VLOOKUP($Q35,УЧАСТНИКИ!$A$2:$L$1099,4,FALSE) -> 27.12.2000 | D35: =VLOOKUP($Q35,УЧАСТНИКИ!$A$2:$L$1099,8,FALSE) -> 1 | E35: =VLOOKUP($Q35,УЧАСТНИКИ!$A$2:$L$1099,5,FALSE) -> Краснодарский край | F35: =VLOOKUP($Q35,УЧАСТНИКИ!$A$2:$L$1099,7,FALSE) -> 0 | G35: =VLOOKUP($Q35,УЧАСТНИКИ!$A$2:$L$1099,11,FALSE) -> МБУ СШ "Лидер" | H35: 1299 | I35: =IF(H35=0,0,CONCATENATE(MID(H35,1,2),".",MID(H35,3,2))) -> 12.99 | J35: -0.1 | N35: =IF(S35<=$R$12,"МСМК",IF(S35<=$S$12,"МС",IF(S35<=$T$12,"КМС",IF(S35<=$U$12,"1",IF(S35<=$V$12,"2",IF(S35<=$W$12,"3",IF(S35<=$X$12,"1юн",IF(S35<=$Y$12,"2юн",IF(S35<=$Z$12,"3юн",IF(S35>$Z$12,"б/р")))))))))) -> 1 | O35: =VLOOKUP($Q35,УЧАСТНИКИ!$A$2:$L$1099,9,FALSE) -> Л | P35: =VLOOKUP($Q35,УЧАСТНИКИ!$A$2:$L$1099,10,FALSE) -> Гладкова О.С. | Q35: 176 | S35: =MIN(H35,K35) -> 1299
B39: Главный судья соревнований | N39: П. Безъязычный, ССВК, г.Краснодар
B42: Главный секретарь соревнований | N42: Е. Клочкова, ССВК, г.Волгоград

Sheet И40-Ж
A1: =Name_1 -> МИНИСТЕРСТВО ФИЗИЧЕСКОЙ КУЛЬТУРЫ И СПОРТА РОССИЙСКОЙ ФЕДЕРАЦИИ
A2: =Name_2 -> ВСЕРОССИЙСКАЯ ФЕДЕРАЦИЯ ЛЕГКОЙ АТЛЕТИКИ
A3: =Name_3 -> МИНИСТЕРСТВО ФИЗИЧЕСКОЙ КУЛЬТУРЫ И СПОРТА КРАСНОДАРСКОГО КРАЯ
A4: =Name_6 -> ФЕДЕРАЦИЯ ЛЕГКОЙ АТЛЕТИКИ КРАСНОДАРСКОГО КРАЯ
A5: КУБОК РОССИИ
A6: =d_4 -> ЖЕНЩИНЫ
A7: ИТОГОВЫЙ ПРОТОКОЛ
A8: Бег 400 м
M10: =d_5 -> г. Сочи, ул. Бзугу 2, ст. им. Славы Метревели
A11: Круг 400 м (автохронометраж) | G11: финальные забеги | I11: =d_1 -> 28.05.2019г. | L11: 0.67361111 | M11: =d_6 -> t° +25 вл. 76% | N11: номер | O11: мсмк | P11: мс | Q11: кмс | R11: 1 | S11: 2 | T11: 3 | U11: 1ю | V11: 2ю | W11: 3ю
A12: Занятое место | B12: Фамилия, имя | C12: Дата рождения | D12: Заявл. разряд | E12: Территория | F12: Округ | G12: Оргнизация Ведомство | I12: Забеги | J12: Финал | K12: Выполненный разряд | L12: Очки | M12: Ф.И.О. тренера | O12: 5124 | P12: 5424 | Q12: 5774 | R12: 10174 | S12: 10624 | T12: 11124 | U12: 11724 | V12: 12424 | W12: 13072
A13: 1 | B13: =VLOOKUP($N13,УЧАСТНИКИ!$A$2:$L$1099,3,FALSE) -> Аксенова (Усталова) Ксения | C13: =VLOOKUP($N13,УЧАСТНИКИ!$A$2:$L$1099,4,FALSE) -> 14.01.1988 | D13: =VLOOKUP($N13,УЧАСТНИКИ!$A$2:$L$1099,8,FALSE) -> ЗМС | E13: =VLOOKUP($N13,УЧАСТНИКИ!$A$2:$L$1099,5,FALSE) -> Свердловская область Ямало-Ненецкий автономный округ | F13: =VLOOKUP($N13,УЧАСТНИКИ!$A$2:$L$1099,7,FALSE) -> 0 | G13: =VLOOKUP($N13,УЧАСТНИКИ!$A$2:$L$1099,11,FALSE) -> МАУ ДО Пуровская районная СДЮСШОР "АВАНГАРД", ЧУ СК"Луч", ЦСП | H13: 5217 | I13: =IF(H13=0,0,CONCATENATE(MID(H13,1,2),".",MID(H13,3,2))) -> 52.17 | K13: =IF(H13<=$O$12,"МСМК",IF(H13<=$P$12,"МС",IF(H13<=$Q$12,"КМС",IF(H13<=$R$12,"1",IF(H13<=$S$12,"2",IF(H13<=$T$12,"3",IF(H13<=$U$12,"1юн",IF(H13<=$V$12,"2юн",IF(H13<=$W$12,"3юн",IF(H13>$W$12,"б/р")))))))))) -> МС | L13: 20+5 | M13: =VLOOKUP($N13,УЧАСТНИКИ!$A$2:$L$1099,10,FALSE) -> Табабилов Р.Б., Хангельдиев Г.А. | N13: 62
A14: 2 | B14: =VLOOKUP($N14,УЧАСТНИКИ!$A$2:$L$1099,3,FALSE) -> Брагина Анастасия | C14: =VLOOKUP($N14,УЧАСТНИКИ!$A$2:$L$1099,4,FALSE) -> 01.06.1998 | D14: =VLOOKUP($N14,УЧАСТНИКИ!$A$2:$L$1099,8,FALSE) -> МС | E14: =VLOOKUP($N14,УЧАСТНИКИ!$A$2:$L$1099,5,FALSE) -> Новосибирская область | F14: =VLOOKUP($N14,УЧАСТНИКИ!$A$2:$L$1099,7,FALSE) -> 0 | G14: =VLOOKUP($N14,УЧАСТНИКИ!$A$2:$L$1099,11,FALSE) -> Динамо ГАУ НСО "РЦСП СК и СР" | H14: 5233 | I14: =IF(H14=0,0,CONCATENATE(MID(H14,1,2),".",MID(H14,3,2))) -> 52.33 | K14: =IF(H14<=$O$12,"МСМК",IF(H14<=$P$12,"МС",IF(H14<=$Q$12,"КМС",IF(H14<=$R$12,"1",IF(H14<=$S$12,"2",IF(H14<=$T$12,"3",IF(H14<=$U$12,"1юн",IF(H14<=$V$12,"2юн",IF(H14<=$W$12,"3юн",IF(H14>$W$12,"б/р")))))))))) -> МС | L14: 17+5 | M14: =VLOOKUP($N14,УЧАСТНИКИ!$A$2:$L$1099,10,FALSE) -> Бухашеев А.Г., Боярищева А.А. | N14: 421
A15: 3 | B15: =VLOOKUP($N15,УЧАСТНИКИ!$A$2:$L$1099,3,FALSE) -> Котлярова Надежда | C15: =VLOOKUP($N15,УЧАСТНИКИ!$A$2:$L$1099,4,FALSE) -> 12.06.1989 | D15: =VLOOKUP($N15,УЧАСТНИКИ!$A$2:$L$1099,8,FALSE) -> МСМК | E15: =VLOOKUP($N15,УЧАСТНИКИ!$A$2:$L$1099,5,FALSE) -> Москва Республика Карелия | F15: =VLOOKUP($N15,УЧАСТНИКИ!$A$2:$L$1099,7,FALSE) -> 0 | G15: =VLOOKUP($N15,УЧАСТНИКИ!$A$2:$L$1099,11,FALSE) -> ВС ГБУ "ЦОП по легкой атлетике" Москомспорта, АУ РК ЦСП "ШВСМ" | H15: 5268 | I15: =IF(H15=0,0,CONCATENATE(MID(H15,1,2),".",MID(H15,3,2))) -> 52.68 | K15: =IF(H15<=$O$12,"МСМК",IF(H15<=$P$12,"МС",IF(H15<=$Q$12,"КМС",IF(H15<=$R$12,"1",IF(H15<=$S$12,"2",IF(H15<=$T$12,"3",IF(H15<=$U$12,"1юн",IF(H15<=$V$12,"2юн",IF(H15<=$W$12,"3юн",IF(H15>$W$12,"б/р")))))))))) -> МС | L15: 15+5 | M15: =VLOOKUP($N15,УЧАСТНИКИ!$A$2:$L$1099,10,FALSE) -> Маслаков В.М. | N15: 482
A16: 4 | B16: =VLOOKUP($N16,УЧАСТНИКИ!$A$2:$L$1099,3,FALSE) -> Мамина (Тамкова) Алена | C16: =VLOOKUP($N16,УЧАСТНИКИ!$A$2:$L$1099,4,FALSE) -> 30.05.1990 | D16: =VLOOKUP($N16,УЧАСТНИКИ!$A$2:$L$1099,8,FALSE) -> МСМК | E16: =VLOOKUP($N16,УЧАСТНИКИ!$A$2:$L$1099,5,FALSE) -> Московская область Свердловская область | F16: =VLOOKUP($N16,УЧАСТНИКИ!$A$2:$L$1099,7,FALSE) -> 0 | G16: =VLOOKUP($N16,УЧАСТНИКИ!$A$2:$L$1099,11,FALSE) -> ГБУ МО "ЦСП ОВС", ГБУ МО "СШОР по легкой атлетике", МОО СК "Спутник" г. Нижнего Тагила | H16: 5312 | I16: =IF(H16=0,0,CONCATENATE(MID(H16,1,2),".",MID(H16,3,2))) -> 53.12 | K16: =IF(H16<=$O$12,"МСМК",IF(H16<=$P$12,"МС",IF(H16<=$Q$12,"КМС",IF(H16<=$R$12,"1",IF(H16<=$S$12,"2",IF(H16<=$T$12,"3",IF(H16<=$U$12,"1юн",IF(H16<=$V$12,"2юн",IF(H16<=$W$12,"3юн",IF(H16>$W$12,"б/р")))))))))) -> МС | L16: 14+5 | M16: =VLOOKUP($N16,УЧАСТНИКИ!$A$2:$L$1099,10,FALSE) -> Маслаков В.М., Жуликов Н.М., Мерзлякова Н.В. | N16: 71
A17: 5 | B17: =VLOOKUP($N17,УЧАСТНИКИ!$A$2:$L$1099,3,FALSE) -> Лебедева Александра | C17: =VLOOKUP($N17,УЧАСТНИКИ!$A$2:$L$1099,4,FALSE) -> 04.02.1996 | D17: =VLOOKUP($N17,УЧАСТНИКИ!$A$2:$L$1099,8,FALSE) -> КМС | E17: =VLOOKUP($N17,УЧАСТНИКИ!$A$2:$L$1099,5,FALSE) -> Новосибирская область | F17: =VLOOKUP($N17,УЧАСТНИКИ!$A$2:$L$1099,7,FALSE) -> 0 | G17: =VLOOKUP($N17,УЧАСТНИКИ!$A$2:$L$1099,11,FALSE) -> Динамо ГАУ НСО "РЦСП СК и СР" | H17: 5420 | I17: =IF(H17=0,0,CONCATENATE(MID(H17,1,2),".",MID(H17,3,2))) -> 54.20 | K17: =IF(H17<=$O$12,"МСМК",IF(H17<=$P$12,"МС",IF(H17<=$Q$12,"КМС",IF(H17<=$R$12,"1",IF(H17<=$S$12,"2",IF(H17<=$T$12,"3",IF(H17<=$U$12,"1юн",IF(H17<=$V$12,"2юн",IF(H17<=$W$12,"3юн",IF(H17>$W$12,"б/р")))))))))) -> МС | L17: 13+5 | M17: =VLOOKUP($N17,УЧАСТНИКИ!$A$2:$L$1099,10,FALSE) -> Бухашеев А.Г., Боярищева А.А. | N17: 423
A18: 6 | B18: =VLOOKUP($N18,УЧАСТНИКИ!$A$2:$L$1099,3,FALSE) -> Жданова Анастасия | C18: =VLOOKUP($N18,УЧАСТНИКИ!$A$2:$L$1099,4,FALSE) -> 15.04.1994 | D18: =VLOOKUP($N18,УЧАСТНИКИ!$A$2:$L$1099,8,FALSE) -> МС | E18: =VLOOKUP($N18,УЧАСТНИКИ!$A$2:$L$1099,5,FALSE) -> Свердловская область | F18: =VLOOKUP($N18,УЧАСТНИКИ!$A$2:$L$1099,7,FALSE) -> 0 | G18: =VLOOKUP($N18,УЧАСТНИКИ!$A$2:$L$1099,11,FALSE) -> ГАУ СО "ЦСП", СК "Спутник" | H18: 5428 | I18: =IF(H18=0,0,CONCATENATE(MID(H18,1,2),".",MID(H18,3,2))) -> 54.28 | K18: =IF(H18<=$O$12,"МСМК",IF(H18<=$P$12,"МС",IF(H18<=$Q$12,"КМС",IF(H18<=$R$12,"1",IF(H18<=$S$12,"2",IF(H18<=$T$12,"3",IF(H18<=$U$12,"1юн",IF(H18<=$V$12,"2юн",IF(H18<=$W$12,"3юн",IF(H18>$W$12,"б/р")))))))))) -> КМС | L18: 12 | M18: =VLOOKUP($N18,УЧАСТНИКИ!$A$2:$L$1099,10,FALSE) -> Заикин В.В., Гусаренко В.С., Петренко О.Н. | N18: 67
A19: 7 | B19: =VLOOKUP($N19,УЧАСТНИКИ!$A$2:$L$1099,3,FALSE) -> Зуйкевич Елена | C19: =VLOOKUP($N19,УЧАСТНИКИ!$A$2:$L$1099,4,FALSE) -> 26.02.1990 | D19: =VLOOKUP($N19,УЧАСТНИКИ!$A$2:$L$1099,8,FALSE) -> МС | E19: =VLOOKUP($N19,УЧАСТНИКИ!$A$2:$L$1099,5,FALSE) -> Калининградская область Пермский край | F19: =VLOOKUP($N19,УЧАСТНИКИ!$A$2:$L$1099,7,FALSE) -> 0 | G19: =VLOOKUP($N19,УЧАСТНИКИ!$A$2:$L$1099,11,FALSE) -> ГАУ КО "ЦСП СК", МБУ "СШОР "Старт" | H19: 5431 | I19: =IF(H19=0,0,CONCATENATE(MID(H19,1,2),".",MID(H19,3,2))) -> 54.31 | K19: =IF(H19<=$O$12,"МСМК",IF(H19<=$P$12,"МС",IF(H19<=$Q$12,"КМС",IF(H19<=$R$12,"1",IF(H19<=$S$12,"2",IF(H19<=$T$12,"3",IF(H19<=$U$12,"1юн",IF(H19<=$V$12,"2юн",IF(H19<=$W$12,"3юн",IF(H19>$W$12,"б/р")))))))))) -> КМС | L19: 11 | M19: =VLOOKUP($N19,УЧАСТНИКИ!$A$2:$L$1099,10,FALSE) -> Малиновская Н.А., Верещагина З.Г. | N19: 49
A20: 8 | B20: =VLOOKUP($N20,УЧАСТНИКИ!$A$2:$L$1099,3,FALSE) -> Палиенко Ольга | C20: =VLOOKUP($N20,УЧАСТНИКИ!$A$2:$L$1099,4,FALSE) -> 21.11.1995 | D20: =VLOOKUP($N20,УЧАСТНИКИ!$A$2:$L$1099,8,FALSE) -> КМС | E20: =VLOOKUP($N20,УЧАСТНИКИ!$A$2:$L$1099,5,FALSE) -> Новосибирская область | F20: =VLOOKUP($N20,УЧАСТНИКИ!$A$2:$L$1099,7,FALSE) -> 0 | G20: =VLOOKUP($N20,УЧАСТНИКИ!$A$2:$L$1099,11,FALSE) -> МАУ "НЦВСМ" | H20: 5477 | I20: =IF(H20=0,0,CONCATENATE(MID(H20,1,2),".",MID(H20,3,2))) -> 54.77 | K20: =IF(H20<=$O$12,"МСМК",IF(H20<=$P$12,"МС",IF(H20<=$Q$12,"КМС",IF(H20<=$R$12,"1",IF(H20<=$S$12,"2",IF(H20<=$T$12,"3",IF(H20<=$U$12,"1юн",IF(H20<=$V$12,"2юн",IF(H20<=$W$12,"3юн",IF(H20>$W$12,"б/р")))))))))) -> КМС | L20: 10 | M20: =VLOOKUP($N20,УЧАСТНИКИ!$A$2:$L$1099,10,FALSE) -> Котовский В.Ю., Панов В.С. | N20: 424
A21: 9 | B21: =VLOOKUP($N21,УЧАСТНИКИ!$A$2:$L$1099,3,FALSE) -> Миглан Мария | C21: =VLOOKUP($N21,УЧАСТНИКИ!$A$2:$L$1099,4,FALSE) -> 20.02.1997 | D21: =VLOOKUP($N21,УЧАСТНИКИ!$A$2:$L$1099,8,FALSE) -> КМС | E21: =VLOOKUP($N21,УЧАСТНИКИ!$A$2:$L$1099,5,FALSE) -> Тюменская область | F21: =VLOOKUP($N21,УЧАСТНИКИ!$A$2:$L$1099,7,FALSE) -> 0 | G21: =VLOOKUP($N21,УЧАСТНИКИ!$A$2:$L$1099,11,FALSE) -> ГАУ ТО "ОСШОР", ТЮМГУ | H21: 5495 | I21: =IF(H21=0,0,CONCATENATE(MID(H21,1,2),".",MID(H21,3,2))) -> 54.95 | K21: =IF(H21<=$O$12,"МСМК",IF(H21<=$P$12,"МС",IF(H21<=$Q$12,"КМС",IF(H21<=$R$12,"1",IF(H21<=$S$12,"2",IF(H21<=$T$12,"3",IF(H21<=$U$12,"1юн",IF(H21<=$V$12,"2юн",IF(H21<=$W$12,"3юн",IF(H21>$W$12,"б/р")))))))))) -> КМС | L21: 9 | M21: =VLOOKUP($N21,УЧАСТНИКИ!$A$2:$L$1099,10,FALSE) -> Сергеев О.В. | N21: 92
A22: 10 | B22: =VLOOKUP($N22,УЧАСТНИКИ!$A$2:$L$1099,3,FALSE) -> Галацкова (Панасенко) Екатерина | C22: =VLOOKUP($N22,УЧАСТНИКИ!$A$2:$L$1099,4,FALSE) -> 06.01.1995 | D22: =VLOOKUP($N22,УЧАСТНИКИ!$A$2:$L$1099,8,FALSE) -> КМС | E22: =VLOOKUP($N22,УЧАСТНИКИ!$A$2:$L$1099,5,FALSE) -> Ульяновская область | F22: =VLOOKUP($N22,УЧАСТНИКИ!$A$2:$L$1099,7,FALSE) -> 0 | G22: =VLOOKUP($N22,УЧАСТНИКИ!$A$2:$L$1099,11,FALSE) -> ОГБУ "ССШОР по легкой атлетике" | H22: 5517 | I22: =IF(H22=0,0,CONCATENATE(MID(H22,1,2),".",MID(H22,3,2))) -> 55.17 | K22: =IF(H22<=$O$12,"МСМК",IF(H22<=$P$12,"МС",IF(H22<=$Q$12,"КМС",IF(H22<=$R$12,"1",IF(H22<=$S$12,"2",IF(H22<=$T$12,"3",IF(H22<=$U$12,"1юн",IF(H22<=$V$12,"2юн",IF(H22<=$W$12,"3юн",IF(H22>$W$12,"б/р")))))))))) -> КМС | L22: 8 | M22: =VLOOKUP($N22,УЧАСТНИКИ!$A$2:$L$1099,10,FALSE) -> Краснобаев А.А. | N22: 194
A23: 11 | B23: =VLOOKUP($N23,УЧАСТНИКИ!$A$2:$L$1099,3,FALSE) -> Глотова Яна | C23: =VLOOKUP($N23,УЧАСТНИКИ!$A$2:$L$1099,4,FALSE) -> 17.01.1995 | D23: =VLOOKUP($N23,УЧАСТНИКИ!$A$2:$L$1099,8,FALSE) -> МС | E23: =VLOOKUP($N23,УЧАСТНИКИ!$A$2:$L$1099,5,FALSE) -> Московская область Липецкая область | F23: =VLOOKUP($N23,УЧАСТНИКИ!$A$2:$L$1099,7,FALSE) -> 0 | G23: =VLOOKUP($N23,УЧАСТНИКИ!$A$2:$L$1099,11,FALSE) -> ГБУ МО "ЦСП ОВС", МБУ "СШОР № 5" | H23: 5518 | I23: =IF(H23=0,0,CONCATENATE(MID(H23,1,2),".",MID(H23,3,2))) -> 55.18 | K23: =IF(H23<=$O$12,"МСМК",IF(H23<=$P$12,"МС",IF(H23<=$Q$12,"КМС",IF(H23<=$R$12,"1",IF(H23<=$S$12,"2",IF(H23<=$T$12,"3",IF(H23<=$U$12,"1юн",IF(H23<=$V$12,"2юн",IF(H23<=$W$12,"3юн",IF(H23>$W$12,"б/р")))))))))) -> КМС | L23: 7 | M23: =VLOOKUP($N23,УЧАСТНИКИ!$A$2:$L$1099,10,FALSE) -> Непомнящая И.А., Игаева Л.Ф. | N23: 120
A24: 12 | B24: =VLOOKUP($N24,УЧАСТНИКИ!$A$2:$L$1099,3,FALSE) -> Цаплина Валерия | C24: =VLOOKUP($N24,УЧАСТНИКИ!$A$2:$L$1099,4,FALSE) -> 19.02.1997 | D24: =VLOOKUP($N24,УЧАСТНИКИ!$A$2:$L$1099,8,FALSE) -> КМС | E24: =VLOOKUP($N24,УЧАСТНИКИ!$A$2:$L$1099,5,FALSE) -> Кировская область Санкт-Петербург | F24: =VLOOKUP($N24,УЧАСТНИКИ!$A$2:$L$1099,7,FALSE) -> 0 | G24: =VLOOKUP($N24,УЧАСТНИКИ!$A$2:$L$1099,11,FALSE) -> КОГАУ "ВятСШОР" ,СПб ГБУ ЦОП "ШВСМ по легкой атлетике" | H24: 5564 | I24: =IF(H24=0,0,CONCATENATE(MID(H24,1,2),".",MID(H24,3,2))) -> 55.64 | K24: =IF(H24<=$O$12,"МСМК",IF(H24<=$P$12,"МС",IF(H24<=$Q$12,"КМС",IF(H24<=$R$12,"1",IF(H24<=$S$12,"2",IF(H24<=$T$12,"3",IF(H24<=$U$12,"1юн",IF(H24<=$V$12,"2юн",IF(H24<=$W$12,"3юн",IF(H24>$W$12,"б/р")))))))))) -> КМС | L24: =VLOOKUP($N24,УЧАСТНИКИ!$A$2:$L$1099,9,FALSE) -> Л | M24: =VLOOKUP($N24,УЧАСТНИКИ!$A$2:$L$1099,10,FALSE) -> Куликова Е.Ю. | N24: 320
A25: 13 | B25: =VLOOKUP($N25,УЧАСТНИКИ!$A$2:$L$1099,3,FALSE) -> Паренчук Лика | C25: =VLOOKUP($N25,УЧАСТНИКИ!$A$2:$L$1099,4,FALSE) -> 06.04.2002 | D25: =VLOOKUP($N25,УЧАСТНИКИ!$A$2:$L$1099,8,FALSE) -> КМС | E25: =VLOOKUP($N25,УЧАСТНИКИ!$A$2:$L$1099,5,FALSE) -> Алтайский край | F25: =VLOOKUP($N25,УЧАСТНИКИ!$A$2:$L$1099,7,FALSE) -> 0 | G25: =VLOOKUP($N25,УЧАСТНИКИ!$A$2:$L$1099,11,FALSE) -> КГБ ПОУ "Алтайское училище олимпийского резерва" | H25: 5580 | I25: =IF(H25=0,0,CONCATENATE(MID(H25,1,2),".",MID(H25,3,2))) -> 55.80 | K25: =IF(H25<=$O$12,"МСМК",IF(H25<=$P$12,"МС",IF(H25<=$Q$12,"КМС",IF(H25<=$R$12,"1",IF(H25<=$S$12,"2",IF(H25<=$T$12,"3",IF(H25<=$U$12,"1юн",IF(H25<=$V$12,"2юн",IF(H25<=$W$12,"3юн",IF(H25>$W$12,"б/р")))))))))) -> КМС | L25: 6 | M25: =VLOOKUP($N25,УЧАСТНИКИ!$A$2:$L$1099,10,FALSE) -> Клевцова Н.В., Панина Е.А. | N25: 20
A26: 14 | B26: =VLOOKUP($N26,УЧАСТНИКИ!$A$2:$L$1099,3,FALSE) -> Котельникова Елена | C26: =VLOOKUP($N26,УЧАСТНИКИ!$A$2:$L$1099,4,FALSE) -> 03.04.1997 | D26: =VLOOKUP($N26,УЧАСТНИКИ!$A$2:$L$1099,8,FALSE) -> КМС | E26: =VLOOKUP($N26,УЧАСТНИКИ!$A$2:$L$1099,5,FALSE) -> Курская область | F26: =VLOOKUP($N26,УЧАСТНИКИ!$A$2:$L$1099,7,FALSE) -> 0 | G26: =VLOOKUP($N26,УЧАСТНИКИ!$A$2:$L$1099,11,FALSE) -> ОБУ СШОР "Урожай" | H26: 5593 | I26: =IF(H26=0,0,CONCATENATE(MID(H26,1,2),".",MID(H26,3,2))) -> 55.93 | K26: =IF(H26<=$O$12,"МСМК",IF(H26<=$P$12,"МС",IF(H26<=$Q$12,"КМС",IF(H26<=$R$12,"1",IF(H26<=$S$12,"2",IF(H26<=$T$12,"3",IF(H26<=$U$12,"1юн",IF(H26<=$V$12,"2юн",IF(H26<=$W$12,"3юн",IF(H26>$W$12,"б/р")))))))))) -> КМС | L26: 5 | M26: =VLOOKUP($N26,УЧАСТНИКИ!$A$2:$L$1099,10,FALSE) -> Руденко В.Д. | N26: 187
A27: 15 | B27: =VLOOKUP($N27,УЧАСТНИКИ!$A$2:$L$1099,3,FALSE) -> Кондрашкина Юлия | C27: =VLOOKUP($N27,УЧАСТНИКИ!$A$2:$L$1099,4,FALSE) -> 10.08.1997 | D27: =VLOOKUP($N27,УЧАСТНИКИ!$A$2:$L$1099,8,FALSE) -> МС | E27: =VLOOKUP($N27,УЧАСТНИКИ!$A$2:$L$1099,5,FALSE) -> Краснодарский край | F27: =VLOOKUP($N27,УЧАСТНИКИ!$A$2:$L$1099,7,FALSE) -> 0 | G27: =VLOOKUP($N27,УЧАСТНИКИ!$A$2:$L$1099,11,FALSE) -> ГБУ КК "РЦСП по легкой атлетике" | H27: 5607 | I27: =IF(H27=0,0,CONCATENATE(MID(H27,1,2),".",MID(H27,3,2))) -> 56.07 | K27: =IF(H27<=$O$12,"МСМК",IF(H27<=$P$12,"МС",IF(H27<=$Q$12,"КМС",IF(H27<=$R$12,"1",IF(H27<=$S$12,"2",IF(H27<=$T$12,"3",IF(H27<=$U$12,"1юн",IF(H27<=$V$12,"2юн",IF(H27<=$W$12,"3юн",IF(H27>$W$12,"б/р")))))))))) -> КМС | L27: =VLOOKUP($N27,УЧАСТНИКИ!$A$2:$L$1099,9,FALSE) -> Л | M27: =VLOOKUP($N27,УЧАСТНИКИ!$A$2:$L$1099,10,FALSE) -> Вакарина М.Т., Кудрявцев В.Е. | N27: 149
A28: 16 | B28: =VLOOKUP($N28,УЧАСТНИКИ!$A$2:$L$1099,3,FALSE) -> Кузминчук Олеся | C28: =VLOOKUP($N28,УЧАСТНИКИ!$A$2:$L$1099,4,FALSE) -> 04.12.1998 | D28: =VLOOKUP($N28,УЧАСТНИКИ!$A$2:$L$1099,8,FALSE) -> КМС | E28: =VLOOKUP($N28,УЧАСТНИКИ!$A$2:$L$1099,5,FALSE) -> Санкт-Петербург | F28: =VLOOKUP($N28,УЧАСТНИКИ!$A$2:$L$1099,7,FALSE) -> 0 | G28: =VLOOKUP($N28,УЧАСТНИКИ!$A$2:$L$1099,11,FALSE) -> ГБУ СШОР № 2 Московского района | H28: 5623 | I28: =IF(H28=0,0,CONCATENATE(MID(H28,1,2),".",MID(H28,3,2))) -> 56.23 | K28: =IF(H28<=$O$12,"МСМК",IF(H28<=$P$12,"МС",IF(H28<=$Q$12,"КМС",IF(H28<=$R$12,"1",IF(H28<=$S$12,"2",IF(H28<=$T$12,"3",IF(H28<=$U$12,"1юн",IF(H28<=$V$12,"2юн",IF(H28<=$W$12,"3юн",IF(H28>$W$12,"б/р")))))))))) -> КМС | L28: 4 | M28: =VLOOKUP($N28,УЧАСТНИКИ!$A$2:$L$1099,10,FALSE) -> Лотова Э.В. | N28: 285
A29: 17 | B29: =VLOOKUP($N29,УЧАСТНИКИ!$A$2:$L$1099,3,FALSE) -> Рыбкина Анастасия | C29: =VLOOKUP($N29,УЧАСТНИКИ!$A$2:$L$1099,4,FALSE) -> 14.04.1999 | D29: =VLOOKUP($N29,УЧАСТНИКИ!$A$2:$L$1099,8,FALSE) -> КМС | E29: =VLOOKUP($N29,УЧАСТНИКИ!$A$2:$L$1099,5,FALSE) -> Курская область | F29: =VLOOKUP($N29,УЧАСТНИКИ!$A$2:$L$1099,7,FALSE) -> 0 | G29: =VLOOKUP($N29,УЧАСТНИКИ!$A$2:$L$1099,11,FALSE) -> ОБУ СШОР "Урожай" | H29: 5635 | I29: =IF(H29=0,0,CONCATENATE(MID(H29,1,2),".",MID(H29,3,2))) -> 56.35 | K29: =IF(H29<=$O$12,"МСМК",IF(H29<=$P$12,"МС",IF(H29<=$Q$12,"КМС",IF(H29<=$R$12,"1",IF(H29<=$S$12,"2",IF(H29<=$T$12,"3",IF(H29<=$U$12,"1юн",IF(H29<=$V$12,"2юн",IF(H29<=$W$12,"3юн",IF(H29>$W$12,"б/р")))))))))) -> КМС | L29: 3 | M29: =VLOOKUP($N29,УЧАСТНИКИ!$A$2:$L$1099,10,FALSE) -> Руденко В.Д. | N29: 188
A30: 18 | B30: =VLOOKUP($N30,УЧАСТНИКИ!$A$2:$L$1099,3,FALSE) -> Краснова Карина | C30: =VLOOKUP($N30,УЧАСТНИКИ!$A$2:$L$1099,4,FALSE) -> 09.07.2000 | D30: =VLOOKUP($N30,УЧАСТНИКИ!$A$2:$L$1099,8,FALSE) -> КМС | E30: =VLOOKUP($N30,УЧАСТНИКИ!$A$2:$L$1099,5,FALSE) -> Московская область Тульская область | F30: =VLOOKUP($N30,УЧАСТНИКИ!$A$2:$L$1099,7,FALSE) -> 0 | G30: =VLOOKUP($N30,УЧАСТНИКИ!$A$2:$L$1099,11,FALSE) -> ГБУ МО "ЦСП ОВС", ГБУ МО "СШОР по легкой атлетике", МБУ СШОР «Легкая Атлетика» | H30: 5640 | I30: =IF(H30=0,0,CONCATENATE(MID(H30,1,2),".",MID(H30,3,2))) -> 56.40 | K30: =IF(H30<=$O$12,"МСМК",IF(H30<=$P$12,"МС",IF(H30<=$Q$12,"КМС",IF(H30<=$R$12,"1",IF(H30<=$S$12,"2",IF(H30<=$T$12,"3",IF(H30<=$U$12,"1юн",IF(H30<=$V$12,"2юн",IF(H30<=$W$12,"3юн",IF(H30>$W$12,"б/р")))))))))) -> КМС | L30: =VLOOKUP($N30,УЧАСТНИКИ!$A$2:$L$1099,9,FALSE) -> Л | M30: =VLOOKUP($N30,УЧАСТНИКИ!$A$2:$L$1099,10,FALSE) -> Кузнецов А.В., Соболева Л.И., Чебыкина Т.Г., Матюхин Н.И. | N30: 458
A31: 19 | B31: =VLOOKUP($N31,УЧАСТНИКИ!$A$2:$L$1099,3,FALSE) -> Купина Екатерина | C31: =VLOOKUP($N31,УЧАСТНИКИ!$A$2:$L$1099,4,FALSE) -> 02.02.1986 | D31: =VLOOKUP($N31,УЧАСТНИКИ!$A$2:$L$1099,8,FALSE) -> МСМК | E31: =VLOOKUP($N31,УЧАСТНИКИ!$A$2:$L$1099,5,FALSE) -> Курская область | F31: =VLOOKUP($N31,УЧАСТНИКИ!$A$2:$L$1099,7,FALSE) -> 0 | G31: =VLOOKUP($N31,УЧАСТНИКИ!$A$2:$L$1099,11,FALSE) -> ОБУ СШОР "Урожай" | H31: 5647 | I31: =IF(H31=0,0,CONCATENATE(MID(H31,1,2),".",MID(H31,3,2))) -> 56.47 | K31: =IF(H31<=$O$12,"МСМК",IF(H31<=$P$12,"МС",IF(H31<=$Q$12,"КМС",IF(H31<=$R$12,"1",IF(H31<=$S$12,"2",IF(H31<=$T$12,"3",IF(H31<=$U$12,"1юн",IF(H31<=$V$12,"2юн",IF(H31<=$W$12,"3юн",IF(H31>$W$12,"б/р")))))))))) -> КМС | L31: 2 | M31: =VLOOKUP($N31,УЧАСТНИКИ!$A$2:$L$1099,10,FALSE) -> Купин А.Д. | N31: 186
A32: 20 | B32: =VLOOKUP($N32,УЧАСТНИКИ!$A$2:$L$1099,3,FALSE) -> Копрова Екатерина | C32: =VLOOKUP($N32,УЧАСТНИКИ!$A$2:$L$1099,4,FALSE) -> 07.02.1999 | D32: =VLOOKUP($N32,УЧАСТНИКИ!$A$2:$L$1099,8,FALSE) -> КМС | E32: =VLOOKUP($N32,УЧАСТНИКИ!$A$2:$L$1099,5,FALSE) -> Санкт-Петербург | F32: =VLOOKUP($N32,УЧАСТНИКИ!$A$2:$L$1099,7,FALSE) -> 0 | G32: =VLOOKUP($N32,УЧАСТНИКИ!$A$2:$L$1099,11,FALSE) -> СПб ГБУ ЦОП "ШВСМ по легкой атлетике" | H32: 5665 | I32: =IF(H32=0,0,CONCATENATE(MID(H32,1,2),".",MID(H32,3,2))) -> 56.65 | K32: =IF(H32<=$O$12,"МСМК",IF(H32<=$P$12,"МС",IF(H32<=$Q$12,"КМС",IF(H32<=$R$12,"1",IF(H32<=$S$12,"2",IF(H32<=$T$12,"3",IF(H32<=$U$12,"1юн",IF(H32<=$V$12,"2юн",IF(H32<=$W$12,"3юн",IF(H32>$W$12,"б/р")))))))))) -> КМС | L32: =VLOOKUP($N32,УЧАСТНИКИ!$A$2:$L$1099,9,FALSE) -> л | M32: =VLOOKUP($N32,УЧАСТНИКИ!$A$2:$L$1099,10,FALSE) -> Куликова Е.Ю., Пинчук В.П., Калина Т.В. | N32: 283
A33: 21 | B33: =VLOOKUP($N33,УЧАСТНИКИ!$A$2:$L$1099,3,FALSE) -> Богомолова Инесса | C33: =VLOOKUP($N33,УЧАСТНИКИ!$A$2:$L$1099,4,FALSE) -> 24.06.1997 | D33: =VLOOKUP($N33,УЧАСТНИКИ!$A$2:$L$1099,8,FALSE) -> КМС | E33: =VLOOKUP($N33,УЧАСТНИКИ!$A$2:$L$1099,5,FALSE) -> Новосибирская область | F33: =VLOOKUP($N33,УЧАСТНИКИ!$A$2:$L$1099,7,FALSE) -> 0 | G33: =VLOOKUP($N33,УЧАСТНИКИ!$A$2:$L$1099,11,FALSE) -> СШОР "МБУ СШОР "Фламинго" по легкой атлетикеФламинго" | H33: 5674 | I33: =IF(H33=0,0,CONCATENATE(MID(H33,1,2),".",MID(H33,3,2))) -> 56.74 | K33: =IF(H33<=$O$12,"МСМК",IF(H33<=$P$12,"МС",IF(H33<=$Q$12,"КМС",IF(H33<=$R$12,"1",IF(H33<=$S$12,"2",IF(H33<=$T$12,"3",IF(H33<=$U$12,"1юн",IF(H33<=$V$12,"2юн",IF(H33<=$W$12,"3юн",IF(H33>$W$12,"б/р")))))))))) -> КМС | L33: 1 | M33: =VLOOKUP($N33,УЧАСТНИКИ!$A$2:$L$1099,10,FALSE) -> Зайцева О.В., Зюзько Л.В., Шашкова О.О. | N33: 420
A34: 22 | B34: =VLOOKUP($N34,УЧАСТНИКИ!$A$2:$L$1099,3,FALSE) -> Кравченко Марта | C34: =VLOOKUP($N34,УЧАСТНИКИ!$A$2:$L$1099,4,FALSE) -> 07.08.2000 | D34: =VLOOKUP($N34,УЧАСТНИКИ!$A$2:$L$1099,8,FALSE) -> КМС | E34: =VLOOKUP($N34,УЧАСТНИКИ!$A$2:$L$1099,5,FALSE) -> Москва | F34: =VLOOKUP($N34,УЧАСТНИКИ!$A$2:$L$1099,7,FALSE) -> 0 | G34: =VLOOKUP($N34,УЧАСТНИКИ!$A$2:$L$1099,11,FALSE) -> ГБУ "МГФСО" Москомспорта | H34: 5711 | I34: =IF(H34=0,0,CONCATENATE(MID(H34,1,2),".",MID(H34,3,2))) -> 57.11 | K34: =IF(H34<=$O$12,"МСМК",IF(H34<=$P$12,"МС",IF(H34<=$Q$12,"КМС",IF(H34<=$R$12,"1",IF(H34<=$S$12,"2",IF(H34<=$T$12,"3",IF(H34<=$U$12,"1юн",IF(H34<=$V$12,"2юн",IF(H34<=$W$12,"3юн",IF(H34>$W$12,"б/р")))))))))) -> КМС | L34: =VLOOKUP($N34,УЧАСТНИКИ!$A$2:$L$1099,9,FALSE) -> Л | M34: =VLOOKUP($N34,УЧАСТНИКИ!$A$2:$L$1099,10,FALSE) -> Чемерисов Н.Ф., Лиман В.П. | N34: 352
A35: 23 | B35: =VLOOKUP($N35,УЧАСТНИКИ!$A$2:$L$1099,3,FALSE) -> Еремеева Анастасия | C35: =VLOOKUP($N35,УЧАСТНИКИ!$A$2:$L$1099,4,FALSE) -> 01.03.1998 | D35: =VLOOKUP($N35,УЧАСТНИКИ!$A$2:$L$1099,8,FALSE) -> МС | E35: =VLOOKUP($N35,УЧАСТНИКИ!$A$2:$L$1099,5,FALSE) -> Московская область | F35: =VLOOKUP($N35,УЧАСТНИКИ!$A$2:$L$1099,7,FALSE) -> 0 | G35: =VLOOKUP($N35,УЧАСТНИКИ!$A$2:$L$1099,11,FALSE) -> ГБУ МО "ЦСП ОВС", ГБУ МО «СШОР по легкой атлетике» | H35: 5733 | I35: =IF(H35=0,0,CONCATENATE(MID(H35,1,2),".",MID(H35,3,2))) -> 57.33 | K35: =IF(H35<=$O$12,"МСМК",IF(H35<=$P$12,"МС",IF(H35<=$Q$12,"КМС",IF(H35<=$R$12,"1",IF(H35<=$S$12,"2",IF(H35<=$T$12,"3",IF(H35<=$U$12,"1юн",IF(H35<=$V$12,"2юн",IF(H35<=$W$12,"3юн",IF(H35>$W$12,"б/р")))))))))) -> КМС | L35: =VLOOKUP($N35,УЧАСТНИКИ!$A$2:$L$1099,9,FALSE) -> Л | M35: =VLOOKUP($N35,УЧАСТНИКИ!$A$2:$L$1099,10,FALSE) -> Чебыкина Т.Г., Матюхин Н.И., Ларюкова Е.М. | N35: 447
A36: 24 | B36: =VLOOKUP($N36,УЧАСТНИКИ!$A$2:$L$1099,3,FALSE) -> Иванова Виктория | C36: =VLOOKUP($N36,УЧАСТНИКИ!$A$2:$L$1099,4,FALSE) -> 07.07.2000 | D36: =VLOOKUP($N36,УЧАСТНИКИ!$A$2:$L$1099,8,FALSE) -> КМС | E36: =VLOOKUP($N36,УЧАСТНИКИ!$A$2:$L$1099,5,FALSE) -> Санкт-Петербург | F36: =VLOOKUP($N36,УЧАСТНИКИ!$A$2:$L$1099,7,FALSE) -> 0 | G36: =VLOOKUP($N36,УЧАСТНИКИ!$A$2:$L$1099,11,FALSE) -> СПб ГБУ ЦОП "ШВСМ по легкой атлетике" | H36: 5734 | I36: =IF(H36=0,0,CONCATENATE(MID(H36,1,2),".",MID(H36,3,2))) -> 57.34 | K36: =IF(H36<=$O$12,"МСМК",IF(H36<=$P$12,"МС",IF(H36<=$Q$12,"КМС",IF(H36<=$R$12,"1",IF(H36<=$S$12,"2",IF(H36<=$T$12,"3",IF(H36<=$U$12,"1юн",IF(H36<=$V$12,"2юн",IF(H36<=$W$12,"3юн",IF(H36>$W$12,"б/р")))))))))) -> КМС | L36: =VLOOKUP($N36,УЧАСТНИКИ!$A$2:$L$1099,9,FALSE) -> Л | M36: =VLOOKUP($N36,УЧАСТНИКИ!$A$2:$L$1099,10,FALSE) -> Агарков В.Н., Пономарев В.В., Куликова Е.Ю. | N36: 278
A37: 25 | B37: =VLOOKUP($N37,УЧАСТНИКИ!$A$2:$L$1099,3,FALSE) -> Завьялова Яника | C37: =VLOOKUP($N37,УЧАСТНИКИ!$A$2:$L$1099,4,FALSE) -> 12.10.1996 | D37: =VLOOKUP($N37,УЧАСТНИКИ!$A$2:$L$1099,8,FALSE) -> КМС | E37: =VLOOKUP($N37,УЧАСТНИКИ!$A$2:$L$1099,5,FALSE) -> Свердловская область ХМАО - Югра | F37: =VLOOKUP($N37,УЧАСТНИКИ!$A$2:$L$1099,7,FALSE) -> 0 | G37: =VLOOKUP($N37,УЧАСТНИКИ!$A$2:$L$1099,11,FALSE) -> МАУ "СШ "Лидер" | H37: 5744 | I37: =IF(H37=0,0,CONCATENATE(MID(H37,1,2),".",MID(H37,3,2))) -> 57.44 | K37: =IF(H37<=$O$12,"МСМК",IF(H37<=$P$12,"МС",IF(H37<=$Q$12,"КМС",IF(H37<=$R$12,"1",IF(H37<=$S$12,"2",IF(H37<=$T$12,"3",IF(H37<=$U$12,"1юн",IF(H37<=$V$12,"2юн",IF(H37<=$W$12,"3юн",IF(H37>$W$12,"б/р")))))))))) -> КМС | L37: 1 | M37: =VLOOKUP($N37,УЧАСТНИКИ!$A$2:$L$1099,10,FALSE) -> Шитов А.В., Килинкаров Р.М., Кульпин С.Ю. | N37: 68
A38: 26 | B38: =VLOOKUP($N38,УЧАСТНИКИ!$A$2:$L$1099,3,FALSE) -> Емельянова Анастасия | C38: =VLOOKUP($N38,УЧАСТНИКИ!$A$2:$L$1099,4,FALSE) -> 17.06.1991 | D38: =VLOOKUP($N38,УЧАСТНИКИ!$A$2:$L$1099,8,FALSE) -> МС | E38: =VLOOKUP($N38,УЧАСТНИКИ!$A$2:$L$1099,5,FALSE) -> Москва | F38: =VLOOKUP($N38,УЧАСТНИКИ!$A$2:$L$1099,7,FALSE) -> 0 | G38: =VLOOKUP($N38,УЧАСТНИКИ!$A$2:$L$1099,11,FALSE) -> МГФСО ГБУ "МГФСО" Москомспорта | H38: 5745 | I38: =IF(H38=0,0,CONCATENATE(MID(H38,1,2),".",MID(H38,3,2))) -> 57.45 | K38: =IF(H38<=$O$12,"МСМК",IF(H38<=$P$12,"МС",IF(H38<=$Q$12,"КМС",IF(H38<=$R$12,"1",IF(H38<=$S$12,"2",IF(H38<=$T$12,"3",IF(H38<=$U$12,"1юн",IF(H38<=$V$12,"2юн",IF(H38<=$W$12,"3юн",IF(H38>$W$12,"б/р")))))))))) -> КМС | L38: =VLOOKUP($N38,УЧАСТНИКИ!$A$2:$L$1099,9,FALSE) -> Л | M38: =VLOOKUP($N38,УЧАСТНИКИ!$A$2:$L$1099,10,FALSE) -> Богатырева Т.М., Голубенко Ю.И. | N38: 341
A39: 27 | B39: =VLOOKUP($N39,УЧАСТНИКИ!$A$2:$L$1099,3,FALSE) -> Зимарева Ксения | C39: =VLOOKUP($N39,УЧАСТНИКИ!$A$2:$L$1099,4,FALSE) -> 11.11.1994 | D39: =VLOOKUP($N39,УЧАСТНИКИ!$A$2:$L$1099,8,FALSE) -> КМС | E39: =VLOOKUP($N39,УЧАСТНИКИ!$A$2:$L$1099,5,FALSE) -> Московская область | F39: =VLOOKUP($N39,УЧАСТНИКИ!$A$2:$L$1099,7,FALSE) -> 0 | G39: =VLOOKUP($N39,УЧАСТНИКИ!$A$2:$L$1099,11,FALSE) -> МБУ ФСО "СШОР "Авангард", СК "Химик" | H39: 5771 | I39: =IF(H39=0,0,CONCATENATE(MID(H39,1,2),".",MID(H39,3,2))) -> 57.71 | K39: =IF(H39<=$O$12,"МСМК",IF(H39<=$P$12,"МС",IF(H39<=$Q$12,"КМС",IF(H39<=$R$12,"1",IF(H39<=$S$12,"2",IF(H39<=$T$12,"3",IF(H39<=$U$12,"1юн",IF(H39<=$V$12,"2юн",IF(H39<=$W$12,"3юн",IF(H39>$W$12,"б/р")))))))))) -> КМС | L39: =VLOOKUP($N39,УЧАСТНИКИ!$A$2:$L$1099,9,FALSE) -> Л | M39: =VLOOKUP($N39,УЧАСТНИКИ!$A$2:$L$1099,10,FALSE) -> Журавский Г.А., Зотов А.С., Маслов А.М. | N39: 452
A40: 28 | B40: =VLOOKUP($N40,УЧАСТНИКИ!$A$2:$L$1099,3,FALSE) -> Габдуллина Дина | C40: =VLOOKUP($N40,УЧАСТНИКИ!$A$2:$L$1099,4,FALSE) -> 12.03.1995 | D40: =VLOOKUP($N40,УЧАСТНИКИ!$A$2:$L$1099,8,FALSE) -> КМС | E40: =VLOOKUP($N40,УЧАСТНИКИ!$A$2:$L$1099,5,FALSE) -> Ямало-Ненецкий автономный округ | F40: =VLOOKUP($N40,УЧАСТНИКИ!$A$2:$L$1099,7,FALSE) -> 0 | G40: =VLOOKUP($N40,УЧАСТНИКИ!$A$2:$L$1099,11,FALSE) -> МАУ ДО Пуровская районная СДЮСШОР "АВАНГАРД" | H40: 5787 | I40: =IF(H40=0,0,CONCATENATE(MID(H40,1,2),".",MID(H40,3,2))) -> 57.87 | K40: =IF(H40<=$O$12,"МСМК",IF(H40<=$P$12,"МС",IF(H40<=$Q$12,"КМС",IF(H40<=$R$12,"1",IF(H40<=$S$12,"2",IF(H40<=$T$12,"3",IF(H40<=$U$12,"1юн",IF(H40<=$V$12,"2юн",IF(H40<=$W$12,"3юн",IF(H40>$W$12,"б/р")))))))))) -> 1 | L40: 1 | M40: =VLOOKUP($N40,УЧАСТНИКИ!$A$2:$L$1099,10,FALSE) -> Хангельдиев Г.А. | N40: 249
A41: 29 | B41: =VLOOKUP($N41,УЧАСТНИКИ!$A$2:$L$1099,3,FALSE) -> Самуйлова Екатерина | C41: =VLOOKUP($N41,УЧАСТНИКИ!$A$2:$L$1099,4,FALSE) -> 05.11.1999 | D41: =VLOOKUP($N41,УЧАСТНИКИ!$A$2:$L$1099,8,FALSE) -> КМС | E41: =VLOOKUP($N41,УЧАСТНИКИ!$A$2:$L$1099,5,FALSE) -> Москва Тверская область | F41: =VLOOKUP($N41,УЧАСТНИКИ!$A$2:$L$1099,7,FALSE) -> 0 | G41: =VLOOKUP($N41,УЧАСТНИКИ!$A$2:$L$1099,11,FALSE) -> ГБУ "ЦОП по легкой атлетике" Москомспорта, МУДО "КС СДЮСШОР № 1" г. Ржева | H41: 5867 | I41: =IF(H41=0,0,CONCATENATE(MID(H41,1,2),".",MID(H41,3,2))) -> 58.67 | K41: =IF(H41<=$O$12,"МСМК",IF(H41<=$P$12,"МС",IF(H41<=$Q$12,"КМС",IF(H41<=$R$12,"1",IF(H41<=$S$12,"2",IF(H41<=$T$12,"3",IF(H41<=$U$12,"1юн",IF(H41<=$V$12,"2юн",IF(H41<=$W$12,"3юн",IF(H41>$W$12,"б/р")))))))))) -> 1 | L41: 1 | M41: =VLOOKUP($N41,УЧАСТНИКИ!$A$2:$L$1099,10,FALSE) -> Фролова Т.С., Комолов В.А. | N41: 365
A42: 30 | B42: =VLOOKUP($N42,УЧАСТНИКИ!$A$2:$L$1099,3,FALSE) -> Гудожникова Екатерина | C42: =VLOOKUP($N42,УЧАСТНИКИ!$A$2:$L$1099,4,FALSE) -> 28.10.2000 | D42: =VLOOKUP($N42,УЧАСТНИКИ!$A$2:$L$1099,8,FALSE) -> 2 | E42: =VLOOKUP($N42,УЧАСТНИКИ!$A$2:$L$1099,5,FALSE) -> Омская область | F42: =VLOOKUP($N42,УЧАСТНИКИ!$A$2:$L$1099,7,FALSE) -> 0 | G42: =VLOOKUP($N42,УЧАСТНИКИ!$A$2:$L$1099,11,FALSE) -> БУ ОО "СШОР" | H42: 10120 | I42: =IF(H42=0,0,CONCATENATE(MID(H42,1,1),":",MID(H42,2,2),",",MID(H42,4,2))) -> 1:01,20 | K42: =IF(H42<=$O$12,"МСМК",IF(H42<=$P$12,"МС",IF(H42<=$Q$12,"КМС",IF(H42<=$R$12,"1",IF(H42<=$S$12,"2",IF(H42<=$T$12,"3",IF(H42<=$U$12,"1юн",IF(H42<=$V$12,"2юн",IF(H42<=$W$12,"3юн",IF(H42>$W$12,"б/р")))))))))) -> 1 | L42: 1 | M42: =VLOOKUP($N42,УЧАСТНИКИ!$A$2:$L$1099,10,FALSE) -> Наместникова Л.В. | N42: 112
B43: =VLOOKUP($N43,УЧАСТНИКИ!$A$2:$L$1099,3,FALSE) -> Алымова Вера | C43: =VLOOKUP($N43,УЧАСТНИКИ!$A$2:$L$1099,4,FALSE) -> 24.11.1995 | D43: =VLOOKUP($N43,УЧАСТНИКИ!$A$2:$L$1099,8,FALSE) -> МС | E43: =VLOOKUP($N43,УЧАСТНИКИ!$A$2:$L$1099,5,FALSE) -> Санкт-Петербург Брянская область | F43: =VLOOKUP($N43,УЧАСТНИКИ!$A$2:$L$1099,7,FALSE) -> 0 | G43: =VLOOKUP($N43,УЧАСТНИКИ!$A$2:$L$1099,11,FALSE) -> СПб ГБУ ЦОП "ШВСМ по легкой атлетике", ГБУ БО СШОР по легкой атлетике им. В.Д. Самотесова., СПб ГБУ ЦОП "ШВСМ по легкой атлетике" | I43: DNF | L43: 0 | M43: =VLOOKUP($N43,УЧАСТНИКИ!$A$2:$L$1099,10,FALSE) -> Назаров В.И., Петров С.Г., Трубин Ю.Н. | N43: 29
B44: =VLOOKUP($N44,УЧАСТНИКИ!$A$2:$L$1099,3,FALSE) -> Бочарова Виктория | C44: =VLOOKUP($N44,УЧАСТНИКИ!$A$2:$L$1099,4,FALSE) -> 01.02.1995 | D44: =VLOOKUP($N44,УЧАСТНИКИ!$A$2:$L$1099,8,FALSE) -> КМС | E44: =VLOOKUP($N44,УЧАСТНИКИ!$A$2:$L$1099,5,FALSE) -> Москва | F44: =VLOOKUP($N44,УЧАСТНИКИ!$A$2:$L$1099,7,FALSE) -> 0 | G44: =VLOOKUP($N44,УЧАСТНИКИ!$A$2:$L$1099,11,FALSE) -> МГФСО ГБУ "МГФСО" Москомспорта | I44: DQ 142.4 | L44: =VLOOKUP($N44,УЧАСТНИКИ!$A$2:$L$1099,9,FALSE) -> Л | M44: =VLOOKUP($N44,УЧАСТНИКИ!$A$2:$L$1099,10,FALSE) -> Голубенко Ю.И., | N44: 334
B45: =VLOOKUP($N45,УЧАСТНИКИ!$A$2:$L$1099,3,FALSE) -> Семёнова Любовь | C45: =VLOOKUP($N45,УЧАСТНИКИ!$A$2:$L$1099,4,FALSE) -> 22.04.1989 | D45: =VLOOKUP($N45,УЧАСТНИКИ!$A$2:$L$1099,8,FALSE) -> МС | E45: =VLOOKUP($N45,УЧАСТНИКИ!$A$2:$L$1099,5,FALSE) -> Санкт-Петербург | F45: =VLOOKUP($N45,УЧАСТНИКИ!$A$2:$L$1099,7,FALSE) -> 0 | G45: =VLOOKUP($N45,УЧАСТНИКИ!$A$2:$L$1099,11,FALSE) -> СПб ГБУ СШОР "Академия легкой атлетики Санкт-Петербурга" | I45: DQ 162.7 | L45: =VLOOKUP($N45,УЧАСТНИКИ!$A$2:$L$1099,9,FALSE) -> Л | M45: =VLOOKUP($N45,УЧАСТНИКИ!$A$2:$L$1099,10,FALSE) -> Войнова С.Е. | N45: 307
B48: Главный судья соревнований | K48: П. Безъязычный, ССВК, г.Краснодар
B51: Главный секретарь соревнований | K51: Е. Клочкова, ССВК, г.Волгоград

Sheet И150-Ж
A1: =Name_1 -> МИНИСТЕРСТВО ФИЗИЧЕСКОЙ КУЛЬТУРЫ И СПОРТА РОССИЙСКОЙ ФЕДЕРАЦИИ
A2: =Name_2 -> ВСЕРОССИЙСКАЯ ФЕДЕРАЦИЯ ЛЕГКОЙ АТЛЕТИКИ
A3: =Name_3 -> МИНИСТЕРСТВО ФИЗИЧЕСКОЙ КУЛЬТУРЫ И СПОРТА КРАСНОДАРСКОГО КРАЯ
A4: =Name_6 -> ФЕДЕРАЦИЯ ЛЕГКОЙ АТЛЕТИКИ КРАСНОДАРСКОГО КРАЯ
A5: КУБОК РОССИИ
A6: =d_4 -> ЖЕНЩИНЫ
A7: ИТОГОВЫЙ ПРОТОКОЛ
A8: Бег 1500 м
L10: =d_5 -> г. Сочи, ул. Бзугу 2, ст. им. Славы Метревели
A11: Круг 400 м (автохронометраж) | I11: финальные забеги | J11: =d_1 -> 28.05.2019г. | K11: 0.75 | L11: =d_6 -> t° +25 вл. 76% | M11: номер | O11: мсмк | P11: мс | Q11: кмс | R11: 1 | S11: 2 | T11: 3 | U11: 1ю | V11: 2ю | W11: 3ю
A12: Занятое место | B12: Фамилия, имя | C12: Дата рождения | D12: Заявл. разряд | E12: Территория | F12: Округ | G12: Оргнизация Ведомство | I12: Результат | J12: Выполненный разряд | K12: Очки | L12: Ф.И.О. тренера | O12: 40674 | P12: 41824 | Q12: 43624 | R12: 45724 | S12: 51924 | T12: 54524 | U12: 61624 | V12: 65024 | W12: 73024
A13: 1 | B13: =VLOOKUP($M13,УЧАСТНИКИ!$A$2:$L$1099,3,FALSE) -> Александрова Дина | C13: =VLOOKUP($M13,УЧАСТНИКИ!$A$2:$L$1099,4,FALSE) -> 09.08.1992 | D13: =VLOOKUP($M13,УЧАСТНИКИ!$A$2:$L$1099,8,FALSE) -> МС | E13: =VLOOKUP($M13,УЧАСТНИКИ!$A$2:$L$1099,5,FALSE) -> Курская область | F13: =VLOOKUP($M13,УЧАСТНИКИ!$A$2:$L$1099,7,FALSE) -> 0 | G13: =VLOOKUP($M13,УЧАСТНИКИ!$A$2:$L$1099,11,FALSE) -> ОБУ ЦСП "ШВСМ", ОБУ СШОР «Урожай» | H13: 41302 | I13: =IF(H13=0,0,CONCATENATE(MID(H13,1,1),":",MID(H13,2,2),",",MID(H13,4,2))) -> 4:13,02 | J13: =IF(H13<=$O$12,"МСМК",IF(H13<=$P$12,"МС",IF(H13<=$Q$12,"КМС",IF(H13<=$R$12,"1",IF(H13<=$S$12,"2",IF(H13<=$T$12,"3",IF(H13<=$U$12,"1юн",IF(H13<=$V$12,"2юн",IF(H13<=$W$12,"3юн",IF(H13>$W$12,"б/р")))))))))) -> МС | K13: 20+5 | L13: =VLOOKUP($M13,УЧАСТНИКИ!$A$2:$L$1099,10,FALSE) -> Осипов С.А., Захаров Н.А. | M13: 192
A14: 2 | B14: =VLOOKUP($M14,УЧАСТНИКИ!$A$2:$L$1099,3,FALSE) -> Аплачкина Светлана | C14: =VLOOKUP($M14,УЧАСТНИКИ!$A$2:$L$1099,4,FALSE) -> 28.11.1992 | D14: =VLOOKUP($M14,УЧАСТНИКИ!$A$2:$L$1099,8,FALSE) -> МС | E14: =VLOOKUP($M14,УЧАСТНИКИ!$A$2:$L$1099,5,FALSE) -> Воронежская область | F14: =VLOOKUP($M14,УЧАСТНИКИ!$A$2:$L$1099,7,FALSE) -> 0 | G14: =VLOOKUP($M14,УЧАСТНИКИ!$A$2:$L$1099,11,FALSE) -> ГБУ ВО "СШОР № 21", АУ ВО "ЦСПСК" | H14: 41350 | I14: =IF(H14=0,0,CONCATENATE(MID(H14,1,1),":",MID(H14,2,2),",",MID(H14,4,2))) -> 4:13,50 | J14: =IF(H14<=$O$12,"МСМК",IF(H14<=$P$12,"МС",IF(H14<=$Q$12,"КМС",IF(H14<=$R$12,"1",IF(H14<=$S$12,"2",IF(H14<=$T$12,"3",IF(H14<=$U$12,"1юн",IF(H14<=$V$12,"2юн",IF(H14<=$W$12,"3юн",IF(H14>$W$12,"б/р")))))))))) -> МС | K14: 17+5 | L14: =VLOOKUP($M14,УЧАСТНИКИ!$A$2:$L$1099,10,FALSE) -> Осипов С.А., Аплачкин А.И. | M14: 390
A15: 3 | B15: =VLOOKUP($M15,УЧАСТНИКИ!$A$2:$L$1099,3,FALSE) -> Ивонина Екатерина | C15: =VLOOKUP($M15,УЧАСТНИКИ!$A$2:$L$1099,4,FALSE) -> 14.06.1994 | D15: =VLOOKUP($M15,УЧАСТНИКИ!$A$2:$L$1099,8,FALSE) -> МС | E15: =VLOOKUP($M15,УЧАСТНИКИ!$A$2:$L$1099,5,FALSE) -> Московская область Пермский край | F15: =VLOOKUP($M15,УЧАСТНИКИ!$A$2:$L$1099,7,FALSE) -> 0 | G15: =VLOOKUP($M15,УЧАСТНИКИ!$A$2:$L$1099,11,FALSE) -> Динамо ГБУ МО "ЦСП ОВС", ГК АУ "ЦСП ПК", КГАУ "СШОР "Старт" | H15: 41391 | I15: =IF(H15=0,0,CONCATENATE(MID(H15,1,1),":",MID(H15,2,2),",",MID(H15,4,2))) -> 4:13,91 | J15: =IF(H15<=$O$12,"МСМК",IF(H15<=$P$12,"МС",IF(H15<=$Q$12,"КМС",IF(H15<=$R$12,"1",IF(H15<=$S$12,"2",IF(H15<=$T$12,"3",IF(H15<=$U$12,"1юн",IF(H15<=$V$12,"2юн",IF(H15<=$W$12,"3юн",IF(H15>$W$12,"б/р")))))))))) -> МС | K15: 15+5 | L15: =VLOOKUP($M15,УЧАСТНИКИ!$A$2:$L$1099,10,FALSE) -> Попов С.А., Попова Е.И., Попов А.С. | M15: 454
A16: 4 | B16: =VLOOKUP($M16,УЧАСТНИКИ!$A$2:$L$1099,3,FALSE) -> Паушкина Елена | C16: =VLOOKUP($M16,УЧАСТНИКИ!$A$2:$L$1099,4,FALSE) -> 08.11.1998 | D16: =VLOOKUP($M16,УЧАСТНИКИ!$A$2:$L$1099,8,FALSE) -> КМС | E16: =VLOOKUP($M16,УЧАСТНИКИ!$A$2:$L$1099,5,FALSE) -> Московская область Хабаровский край | F16: =VLOOKUP($M16,УЧАСТНИКИ!$A$2:$L$1099,7,FALSE) -> 0 | G16: =VLOOKUP($M16,УЧАСТНИКИ!$A$2:$L$1099,11,FALSE) -> ГБУ МО "ЦОВС", МБОУ ДО «СДЮШОР № 4» | H16: 41532 | I16: =IF(H16=0,0,CONCATENATE(MID(H16,1,1),":",MID(H16,2,2),",",MID(H16,4,2))) -> 4:15,32 | J16: =IF(H16<=$O$12,"МСМК",IF(H16<=$P$12,"МС",IF(H16<=$Q$12,"КМС",IF(H16<=$R$12,"1",IF(H16<=$S$12,"2",IF(H16<=$T$12,"3",IF(H16<=$U$12,"1юн",IF(H16<=$V$12,"2юн",IF(H16<=$W$12,"3юн",IF(H16>$W$12,"б/р")))))))))) -> МС | K16: =VLOOKUP($M16,УЧАСТНИКИ!$A$2:$L$1099,9,FALSE) -> Л | L16: =VLOOKUP($M16,УЧАСТНИКИ!$A$2:$L$1099,10,FALSE) -> Цыганова Н.П., Божко В.А., Гроза В.Л. | M16: 463
A17: 5 | B17: =VLOOKUP($M17,УЧАСТНИКИ!$A$2:$L$1099,3,FALSE) -> Сторожева (Шаповалова) Екатерина | C17: =VLOOKUP($M17,УЧАСТНИКИ!$A$2:$L$1099,4,FALSE) -> 22.01.1993 | D17: =VLOOKUP($M17,УЧАСТНИКИ!$A$2:$L$1099,8,FALSE) -> МС | E17: =VLOOKUP($M17,УЧАСТНИКИ!$A$2:$L$1099,5,FALSE) -> Московская область Санкт-Петербург | F17: =VLOOKUP($M17,УЧАСТНИКИ!$A$2:$L$1099,7,FALSE) -> 0 | G17: =VLOOKUP($M17,УЧАСТНИКИ!$A$2:$L$1099,11,FALSE) -> ГБУ МО "СШОР по легкой атлетике" | H17: 41534 | I17: =IF(H17=0,0,CONCATENATE(MID(H17,1,1),":",MID(H17,2,2),",",MID(H17,4,2))) -> 4:15,34 | J17: =IF(H17<=$O$12,"МСМК",IF(H17<=$P$12,"МС",IF(H17<=$Q$12,"КМС",IF(H17<=$R$12,"1",IF(H17<=$S$12,"2",IF(H17<=$T$12,"3",IF(H17<=$U$12,"1юн",IF(H17<=$V$12,"2юн",IF(H17<=$W$12,"3юн",IF(H17>$W$12,"б/р")))))))))) -> МС | K17: 14+5 | L17: =VLOOKUP($M17,УЧАСТНИКИ!$A$2:$L$1099,10,FALSE) -> Морозов В.И. | M17: 311
A18: 6 | B18: =VLOOKUP($M18,УЧАСТНИКИ!$A$2:$L$1099,3,FALSE) -> Онуфриенко Ольга | C18: =VLOOKUP($M18,УЧАСТНИКИ!$A$2:$L$1099,4,FALSE) -> 08.03.1988 | D18: =VLOOKUP($M18,УЧАСТНИКИ!$A$2:$L$1099,8,FALSE) -> МС | E18: =VLOOKUP($M18,УЧАСТНИКИ!$A$2:$L$1099,5,FALSE) -> Нижегородская область | F18: =VLOOKUP($M18,УЧАСТНИКИ!$A$2:$L$1099,7,FALSE) -> 0 | G18: =VLOOKUP($M18,УЧАСТНИКИ!$A$2:$L$1099,11,FALSE) -> МБУ ДО "ДЮСШ "Нижегородец" | H18: 41575 | I18: =IF(H18=0,0,CONCATENATE(MID(H18,1,1),":",MID(H18,2,2),",",MID(H18,4,2))) -> 4:15,75 | J18: =IF(H18<=$O$12,"МСМК",IF(H18<=$P$12,"МС",IF(H18<=$Q$12,"КМС",IF(H18<=$R$12,"1",IF(H18<=$S$12,"2",IF(H18<=$T$12,"3",IF(H18<=$U$12,"1юн",IF(H18<=$V$12,"2юн",IF(H18<=$W$12,"3юн",IF(H18>$W$12,"б/р")))))))))) -> МС | K18: 13+5 | L18: =VLOOKUP($M18,УЧАСТНИКИ!$A$2:$L$1099,10,FALSE) | M18: 227
A19: 7 | B19: =VLOOKUP($M19,УЧАСТНИКИ!$A$2:$L$1099,3,FALSE) -> Соколова Екатерина | C19: =VLOOKUP($M19,УЧАСТНИКИ!$A$2:$L$1099,4,FALSE) -> 16.12.1995 | D19: =VLOOKUP($M19,УЧАСТНИКИ!$A$2:$L$1099,8,FALSE) -> МС | E19: =VLOOKUP($M19,УЧАСТНИКИ!$A$2:$L$1099,5,FALSE) -> Московская область Брянская область | F19: =VLOOKUP($M19,УЧАСТНИКИ!$A$2:$L$1099,7,FALSE) -> 0 | G19: =VLOOKUP($M19,УЧАСТНИКИ!$A$2:$L$1099,11,FALSE) -> ГБУ МО "СШОР по легкой атлетике", ГБУ БО СШОР по легкой атлетике им. В.Д. Самотесова. | H19: 41709 | I19: =IF(H19=0,0,CONCATENATE(MID(H19,1,1),":",MID(H19,2,2),",",MID(H19,4,2))) -> 4:17,09 | J19: =IF(H19<=$O$12,"МСМК",IF(H19<=$P$12,"МС",IF(H19<=$Q$12,"КМС",IF(H19<=$R$12,"1",IF(H19<=$S$12,"2",IF(H19<=$T$12,"3",IF(H19<=$U$12,"1юн",IF(H19<=$V$12,"2юн",IF(H19<=$W$12,"3юн",IF(H19>$W$12,"б/р")))))))))) -> МС | K19: 12+5 | L19: =VLOOKUP($M19,УЧАСТНИКИ!$A$2:$L$1099,10,FALSE) -> Цыплаков А.В., Волошин Л.А., Ерченко Е.П. | M19: 41
A20: 8 | B20: =VLOOKUP($M20,УЧАСТНИКИ!$A$2:$L$1099,3,FALSE) -> Купаева Анна | C20: =VLOOKUP($M20,УЧАСТНИКИ!$A$2:$L$1099,4,FALSE) -> 24.11.1990 | D20: =VLOOKUP($M20,УЧАСТНИКИ!$A$2:$L$1099,8,FALSE) -> МС | E20: =VLOOKUP($M20,УЧАСТНИКИ!$A$2:$L$1099,5,FALSE) -> Мурманская область | F20: =VLOOKUP($M20,УЧАСТНИКИ!$A$2:$L$1099,7,FALSE) -> 0 | G20: =VLOOKUP($M20,УЧАСТНИКИ!$A$2:$L$1099,11,FALSE) -> МАУ СШОР № 4, ГАУМО "ЦСП" | H20: 41893 | I20: =IF(H20=0,0,CONCATENATE(MID(H20,1,1),":",MID(H20,2,2),",",MID(H20,4,2))) -> 4:18,93 | J20: =IF(H20<=$O$12,"МСМК",IF(H20<=$P$12,"МС",IF(H20<=$Q$12,"КМС",IF(H20<=$R$12,"1",IF(H20<=$S$12,"2",IF(H20<=$T$12,"3",IF(H20<=$U$12,"1юн",IF(H20<=$V$12,"2юн",IF(H20<=$W$12,"3юн",IF(H20>$W$12,"б/р")))))))))) -> КМС | K20: 11 | L20: =VLOOKUP($M20,УЧАСТНИКИ!$A$2:$L$1099,10,FALSE) -> Ахметов А.Р. | M20: 43
A21: 9 | B21: =VLOOKUP($M21,УЧАСТНИКИ!$A$2:$L$1099,3,FALSE) -> Павленко Любовь | C21: =VLOOKUP($M21,УЧАСТНИКИ!$A$2:$L$1099,4,FALSE) -> 16.09.1997 | D21: =VLOOKUP($M21,УЧАСТНИКИ!$A$2:$L$1099,8,FALSE) -> КМС | E21: =VLOOKUP($M21,УЧАСТНИКИ!$A$2:$L$1099,5,FALSE) -> Санкт-Петербург Тамбовская область | F21: =VLOOKUP($M21,УЧАСТНИКИ!$A$2:$L$1099,7,FALSE) -> 0 | G21: =VLOOKUP($M21,УЧАСТНИКИ!$A$2:$L$1099,11,FALSE) -> СПб ГБУ ЦОП "ШВСМ по легкой атлетике", МБОУ ДО "ДЮСШ" г. Мичуринска | H21: 42037 | I21: =IF(H21=0,0,CONCATENATE(MID(H21,1,1),":",MID(H21,2,2),",",MID(H21,4,2))) -> 4:20,37 | J21: =IF(H21<=$O$12,"МСМК",IF(H21<=$P$12,"МС",IF(H21<=$Q$12,"КМС",IF(H21<=$R$12,"1",IF(H21<=$S$12,"2",IF(H21<=$T$12,"3",IF(H21<=$U$12,"1юн",IF(H21<=$V$12,"2юн",IF(H21<=$W$12,"3юн",IF(H21>$W$12,"б/р")))))))))) -> КМС | K21: =VLOOKUP($M21,УЧАСТНИКИ!$A$2:$L$1099,9,FALSE) -> Л | L21: =VLOOKUP($M21,УЧАСТНИКИ!$A$2:$L$1099,10,FALSE) -> Алексеева Н.А., Мироненко В.И. | M21: 292
A22: 10 | B22: =VLOOKUP($M22,УЧАСТНИКИ!$A$2:$L$1099,3,FALSE) -> Шухтуева Алена | C22: =VLOOKUP($M22,УЧАСТНИКИ!$A$2:$L$1099,4,FALSE) -> 07.12.1993 | D22: =VLOOKUP($M22,УЧАСТНИКИ!$A$2:$L$1099,8,FALSE) -> МС | E22: =VLOOKUP($M22,УЧАСТНИКИ!$A$2:$L$1099,5,FALSE) -> Республика Башкортостан | F22: =VLOOKUP($M22,УЧАСТНИКИ!$A$2:$L$1099,7,FALSE) -> 0 | G22: =VLOOKUP($M22,УЧАСТНИКИ!$A$2:$L$1099,11,FALSE) -> СК им. Н. Гастелло | H22: 42119 | I22: =IF(H22=0,0,CONCATENATE(MID(H22,1,1),":",MID(H22,2,2),",",MID(H22,4,2))) -> 4:21,19 | J22: =IF(H22<=$O$12,"МСМК",IF(H22<=$P$12,"МС",IF(H22<=$Q$12,"КМС",IF(H22<=$R$12,"1",IF(H22<=$S$12,"2",IF(H22<=$T$12,"3",IF(H22<=$U$12,"1юн",IF(H22<=$V$12,"2юн",IF(H22<=$W$12,"3юн",IF(H22>$W$12,"б/р")))))))))) -> КМС | K22: 10 | L22: =VLOOKUP($M22,УЧАСТНИКИ!$A$2:$L$1099,10,FALSE) -> Иванова В.С. | M22: 204
A23: 11 | B23: =VLOOKUP($M23,УЧАСТНИКИ!$A$2:$L$1099,3,FALSE) -> Мендаева Лилия | C23: =VLOOKUP($M23,УЧАСТНИКИ!$A$2:$L$1099,4,FALSE) -> 01.06.2000 | D23: =VLOOKUP($M23,УЧАСТНИКИ!$A$2:$L$1099,8,FALSE) -> КМС | E23: =VLOOKUP($M23,УЧАСТНИКИ!$A$2:$L$1099,5,FALSE) -> Москва Ханты-Мансийский автономный округ - Югра | F23: =VLOOKUP($M23,УЧАСТНИКИ!$A$2:$L$1099,7,FALSE) -> 0 | G23: =VLOOKUP($M23,УЧАСТНИКИ!$A$2:$L$1099,11,FALSE) -> Москомспорт ГБУ "ЦОП по легкой атлетике" Москомспорта | H23: 42238 | I23: =IF(H23=0,0,CONCATENATE(MID(H23,1,1),":",MID(H23,2,2),",",MID(H23,4,2))) -> 4:22,38 | J23: =IF(H23<=$O$12,"МСМК",IF(H23<=$P$12,"МС",IF(H23<=$Q$12,"КМС",IF(H23<=$R$12,"1",IF(H23<=$S$12,"2",IF(H23<=$T$12,"3",IF(H23<=$U$12,"1юн",IF(H23<=$V$12,"2юн",IF(H23<=$W$12,"3юн",IF(H23>$W$12,"б/р")))))))))) -> КМС | K23: =VLOOKUP($M23,УЧАСТНИКИ!$A$2:$L$1099,9,FALSE) -> Л | L23: =VLOOKUP($M23,УЧАСТНИКИ!$A$2:$L$1099,10,FALSE) -> Телятников М.М., Кульпин С.Ю. | M23: 360
A24: 12 | B24: =VLOOKUP($M24,УЧАСТНИКИ!$A$2:$L$1099,3,FALSE) -> Князева Анна | C24: =VLOOKUP($M24,УЧАСТНИКИ!$A$2:$L$1099,4,FALSE) -> 20.03.1989 | D24: =VLOOKUP($M24,УЧАСТНИКИ!$A$2:$L$1099,8,FALSE) -> МС | E24: =VLOOKUP($M24,УЧАСТНИКИ!$A$2:$L$1099,5,FALSE) -> Свердловская область | F24: =VLOOKUP($M24,УЧАСТНИКИ!$A$2:$L$1099,7,FALSE) -> 0 | G24: =VLOOKUP($M24,УЧАСТНИКИ!$A$2:$L$1099,11,FALSE) -> ГАУ СО "ЦСП", СК "Спутник" | H24: 42341 | I24: =IF(H24=0,0,CONCATENATE(MID(H24,1,1),":",MID(H24,2,2),",",MID(H24,4,2))) -> 4:23,41 | J24: =IF(H24<=$O$12,"МСМК",IF(H24<=$P$12,"МС",IF(H24<=$Q$12,"КМС",IF(H24<=$R$12,"1",IF(H24<=$S$12,"2",IF(H24<=$T$12,"3",IF(H24<=$U$12,"1юн",IF(H24<=$V$12,"2юн",IF(H24<=$W$12,"3юн",IF(H24>$W$12,"б/р")))))))))) -> КМС | K24: 9 | L24: =VLOOKUP($M24,УЧАСТНИКИ!$A$2:$L$1099,10,FALSE) -> Хрущелева Н.П., Князев С.А. | M24: 69
A25: 13 | B25: =VLOOKUP($M25,УЧАСТНИКИ!$A$2:$L$1099,3,FALSE) -> Лунева Элина | C25: =VLOOKUP($M25,УЧАСТНИКИ!$A$2:$L$1099,4,FALSE) -> 29.01.1997 | D25: =VLOOKUP($M25,УЧАСТНИКИ!$A$2:$L$1099,8,FALSE) -> КМС | E25: =VLOOKUP($M25,УЧАСТНИКИ!$A$2:$L$1099,5,FALSE) -> Челябинская область | F25: =VLOOKUP($M25,УЧАСТНИКИ!$A$2:$L$1099,7,FALSE) -> 0 | G25: =VLOOKUP($M25,УЧАСТНИКИ!$A$2:$L$1099,11,FALSE) -> МБУ СШОР № 2 по легкой атлетике имени Л.Н.Мосеева г.Челябинск | H25: 42483 | I25: =IF(H25=0,0,CONCATENATE(MID(H25,1,1),":",MID(H25,2,2),",",MID(H25,4,2))) -> 4:24,83 | J25: =IF(H25<=$O$12,"МСМК",IF(H25<=$P$12,"МС",IF(H25<=$Q$12,"КМС",IF(H25<=$R$12,"1",IF(H25<=$S$12,"2",IF(H25<=$T$12,"3",IF(H25<=$U$12,"1юн",IF(H25<=$V$12,"2юн",IF(H25<=$W$12,"3юн",IF(H25>$W$12,"б/р")))))))))) -> КМС | K25: 8 | L25: =VLOOKUP($M25,УЧАСТНИКИ!$A$2:$L$1099,10,FALSE) -> Князев С.А., Гаврикова Г.В., Гавриков С.А. | M25: 57
A26: 14 | B26: =VLOOKUP($M26,УЧАСТНИКИ!$A$2:$L$1099,3,FALSE) -> Большакова Дарья | C26: =VLOOKUP($M26,УЧАСТНИКИ!$A$2:$L$1099,4,FALSE) -> 24.07.1990 | D26: =VLOOKUP($M26,УЧАСТНИКИ!$A$2:$L$1099,8,FALSE) -> МС | E26: =VLOOKUP($M26,УЧАСТНИКИ!$A$2:$L$1099,5,FALSE) -> Санкт-Петербург | F26: =VLOOKUP($M26,УЧАСТНИКИ!$A$2:$L$1099,7,FALSE) -> 0 | G26: =VLOOKUP($M26,УЧАСТНИКИ!$A$2:$L$1099,11,FALSE) -> СПб ГБУ ЦОП "ШВСМ по легкой атлетике" | H26: 43196 | I26: =IF(H26=0,0,CONCATENATE(MID(H26,1,1),":",MID(H26,2,2),",",MID(H26,4,2))) -> 4:31,96 | J26: =IF(H26<=$O$12,"МСМК",IF(H26<=$P$12,"МС",IF(H26<=$Q$12,"КМС",IF(H26<=$R$12,"1",IF(H26<=$S$12,"2",IF(H26<=$T$12,"3",IF(H26<=$U$12,"1юн",IF(H26<=$V$12,"2юн",IF(H26<=$W$12,"3юн",IF(H26>$W$12,"б/р")))))))))) -> КМС | K26: =VLOOKUP($M26,УЧАСТНИКИ!$A$2:$L$1099,9,FALSE) -> Л | L26: =VLOOKUP($M26,УЧАСТНИКИ!$A$2:$L$1099,10,FALSE) -> Слепенчук А.М. | M26: 265
A27: 15 | B27: =VLOOKUP($M27,УЧАСТНИКИ!$A$2:$L$1099,3,FALSE) -> Беспалова Екатерина | C27: =VLOOKUP($M27,УЧАСТНИКИ!$A$2:$L$1099,4,FALSE) -> 21.11.1997 | D27: =VLOOKUP($M27,УЧАСТНИКИ!$A$2:$L$1099,8,FALSE) -> КМС | E27: =VLOOKUP($M27,УЧАСТНИКИ!$A$2:$L$1099,5,FALSE) -> Москва Смоленская область | F27: =VLOOKUP($M27,УЧАСТНИКИ!$A$2:$L$1099,7,FALSE) -> 0 | G27: =VLOOKUP($M27,УЧАСТНИКИ!$A$2:$L$1099,11,FALSE) -> ГБУ "ЦОП по легкой атлетике" Москомспорта, СОГБУ "ЦСП ССК Смоленской области" | H27: 43817 | I27: =IF(H27=0,0,CONCATENATE(MID(H27,1,1),":",MID(H27,2,2),",",MID(H27,4,2))) -> 4:38,17 | J27: =IF(H27<=$O$12,"МСМК",IF(H27<=$P$12,"МС",IF(H27<=$Q$12,"КМС",IF(H27<=$R$12,"1",IF(H27<=$S$12,"2",IF(H27<=$T$12,"3",IF(H27<=$U$12,"1юн",IF(H27<=$V$12,"2юн",IF(H27<=$W$12,"3юн",IF(H27>$W$12,"б/р")))))))))) -> 1 | K27: 7 | L27: =VLOOKUP($M27,УЧАСТНИКИ!$A$2:$L$1099,10,FALSE) -> Осипов С.А., Кругликов Н.И. | M27: 332
A28: 16 | B28: =VLOOKUP($M28,УЧАСТНИКИ!$A$2:$L$1099,3,FALSE) -> Малышенок Виолетта | C28: =VLOOKUP($M28,УЧАСТНИКИ!$A$2:$L$1099,4,FALSE) -> 27.02.1996 | D28: =VLOOKUP($M28,УЧАСТНИКИ!$A$2:$L$1099,8,FALSE) -> 1 | E28: =VLOOKUP($M28,УЧАСТНИКИ!$A$2:$L$1099,5,FALSE) -> ЮФО (К) | F28: =VLOOKUP($M28,УЧАСТНИКИ!$A$2:$L$1099,7,FALSE) -> 0 | G28: =VLOOKUP($M28,УЧАСТНИКИ!$A$2:$L$1099,11,FALSE) -> ГБУ РК "СШОР по легкой атлетике № 1" | H28: 44271 | I28: =IF(H28=0,0,CONCATENATE(MID(H28,1,1),":",MID(H28,2,2),",",MID(H28,4,2))) -> 4:42,71 | J28: =IF(H28<=$O$12,"МСМК",IF(H28<=$P$12,"МС",IF(H28<=$Q$12,"КМС",IF(H28<=$R$12,"1",IF(H28<=$S$12,"2",IF(H28<=$T$12,"3",IF(H28<=$U$12,"1юн",IF(H28<=$V$12,"2юн",IF(H28<=$W$12,"3юн",IF(H28>$W$12,"б/р")))))))))) -> 1 | K28: 6 | L28: =VLOOKUP($M28,УЧАСТНИКИ!$A$2:$L$1099,10,FALSE) -> Абрамов Ю.С., Демидович В.И., Шевченко В.В. | M28: 434
B29: =VLOOKUP($M29,УЧАСТНИКИ!$A$2:$L$1099,3,FALSE) -> Шевченко Анжелика | C29: =VLOOKUP($M29,УЧАСТНИКИ!$A$2:$L$1099,4,FALSE) -> 29.10.1987 | D29: =VLOOKUP($M29,УЧАСТНИКИ!$A$2:$L$1099,8,FALSE) -> МС | E29: =VLOOKUP($M29,УЧАСТНИКИ!$A$2:$L$1099,5,FALSE) -> Санкт-Петербург | F29: =VLOOKUP($M29,УЧАСТНИКИ!$A$2:$L$1099,7,FALSE) -> 0 | G29: =VLOOKUP($M29,УЧАСТНИКИ!$A$2:$L$1099,11,FALSE) -> СПб ГБУ СШОР "Академия легкой атлетики Санкт-Петербурга" | I29: DNF | K29: 0 | L29: =VLOOKUP($M29,УЧАСТНИКИ!$A$2:$L$1099,10,FALSE) -> Григорьев С.П. | M29: 324
B30: =VLOOKUP($M30,УЧАСТНИКИ!$A$2:$L$1099,3,FALSE) -> Суханова Ольга | C30: =VLOOKUP($M30,УЧАСТНИКИ!$A$2:$L$1099,4,FALSE) -> 27.12.1996 | D30: =VLOOKUP($M30,УЧАСТНИКИ!$A$2:$L$1099,8,FALSE) -> КМС | E30: =VLOOKUP($M30,УЧАСТНИКИ!$A$2:$L$1099,5,FALSE) -> Ямало-Ненецкий автономный округ Чувашская республика | F30: =VLOOKUP($M30,УЧАСТНИКИ!$A$2:$L$1099,7,FALSE) -> 0 | G30: =VLOOKUP($M30,УЧАСТНИКИ!$A$2:$L$1099,11,FALSE) -> МАУ ДО Пуровская районная СДЮСШОР "АВАНГАРД", АУ "СШОР № 3" Минспорта Чувашии | I30: R/med | K30: 0 | L30: =VLOOKUP($M30,УЧАСТНИКИ!$A$2:$L$1099,10,FALSE) -> Хангельдиев Г.А., Давалов В.Н., Апарин С.И. | M30: 253
B32: Главный судья соревнований | J32: П. Безъязычный, ССВК, г.Краснодар
B35: Главный секретарь соревнований | J35: Е. Клочкова, ССВК, г.Волгоград

Sheet И4х10-Ж
A1: =Name_1 -> МИНИСТЕРСТВО ФИЗИЧЕСКОЙ КУЛЬТУРЫ И СПОРТА РОССИЙСКОЙ ФЕДЕРАЦИИ
A2: =Name_2 -> ВСЕРОССИЙСКАЯ ФЕДЕРАЦИЯ ЛЕГКОЙ АТЛЕТИКИ
A3: =Name_3 -> МИНИСТЕРСТВО ФИЗИЧЕСКОЙ КУЛЬТУРЫ И СПОРТА КРАСНОДАРСКОГО КРАЯ
A4: =Name_6 -> ФЕДЕРАЦИЯ ЛЕГКОЙ АТЛЕТИКИ КРАСНОДАРСКОГО КРАЯ
A5: КУБОК РОССИИ
A6: =d_4 -> ЖЕНЩИНЫ
A7: ИТОГОВЫЙ ПРОТОКОЛ
A8: Эстафета 4 х 100 м
L10: =d_5 -> г. Сочи, ул. Бзугу 2, ст. им. Славы Метревели
A11: автохронометраж | I11: финальные забеги | J11: =d_1 -> 28.05.2019г. | K11: 0.80555556 | L11: =d_6 -> t° +25 вл. 76% | M11: номер | O11: мсмк | P11: мс | Q11: кмс | R11: 1 | S11: 2 | T11: 3 | U11: 1ю | V11: 2ю | W11: 3ю
A12: Занятое место | B12: Фамилия, имя | C12: Дата рождения | D12: Заявл. разряд | E12: Территория | F12: Округ | G12: Оргнизация Ведомство | I12: Результат | J12: Выполненный разряд | K12: Очки | L12: Ф.И.О. тренера | O12: 4325 | P12: 4524 | Q12: 4804 | R12: 5124 | S12: 5474 | T12: 5874 | U12: 10274 | V12: 10744 | W12: 11244
A13: 1 | B13: Санкт-Петербург
B14: =VLOOKUP($M14,УЧАСТНИКИ!$A$2:$L$1099,3,FALSE) -> Алисова Елизавета | C14: =VLOOKUP($M14,УЧАСТНИКИ!$A$2:$L$1099,4,FALSE) -> 21.06.2000 | D14: =VLOOKUP($M14,УЧАСТНИКИ!$A$2:$L$1099,8,FALSE) -> КМС | E14: =VLOOKUP($M14,УЧАСТНИКИ!$A$2:$L$1099,5,FALSE) -> Санкт-Петербург Липецкая область | F14: =VLOOKUP($M14,УЧАСТНИКИ!$A$2:$L$1099,7,FALSE) -> 0 | G14: =VLOOKUP($M14,УЧАСТНИКИ!$A$2:$L$1099,11,FALSE) -> ГБУ "СШОР" "Академия легкой атлетики Санкт-Петербурга" | H14: 4539 | I14: =IF(H14=0,0,CONCATENATE(MID(H14,1,2),".",MID(H14,3,2))) -> 45.39 | J14: =IF(H14<=$O$12,"МСМК",IF(H14<=$P$12,"МС",IF(H14<=$Q$12,"КМС",IF(H14<=$R$12,"1",IF(H14<=$S$12,"2",IF(H14<=$T$12,"3",IF(H14<=$U$12,"1юн",IF(H14<=$V$12,"2юн",IF(H14<=$W$12,"3юн",IF(H14>$W$12,"б/р")))))))))) -> КМС | K14: 20 | L14: =VLOOKUP($M14,УЧАСТНИКИ!$A$2:$L$1099,10,FALSE) -> Шекин Д.А., Бахвалова Е.А., Бурмистрова Н.И. | M14: 258
B15: =VLOOKUP($M15,УЧАСТНИКИ!$A$2:$L$1099,3,FALSE) -> Черняева (Козлова) Елена | C15: =VLOOKUP($M15,УЧАСТНИКИ!$A$2:$L$1099,4,FALSE) -> 19.09.1988 | D15: =VLOOKUP($M15,УЧАСТНИКИ!$A$2:$L$1099,8,FALSE) -> МС | E15: =VLOOKUP($M15,УЧАСТНИКИ!$A$2:$L$1099,5,FALSE) -> Санкт-Петербург Вологодская область | F15: =VLOOKUP($M15,УЧАСТНИКИ!$A$2:$L$1099,7,FALSE) -> 0 | G15: =VLOOKUP($M15,УЧАСТНИКИ!$A$2:$L$1099,11,FALSE) -> Профсоюзы СПб ГБУ ЦОП "ШВСМ по легкой атлетике", АУ ФКиС ВО "ЦСП" | L15: =VLOOKUP($M15,УЧАСТНИКИ!$A$2:$L$1099,10,FALSE) -> Климов А.Г. | M15: 322
B16: =VLOOKUP($M16,УЧАСТНИКИ!$A$2:$L$1099,3,FALSE) -> Блескина Екатерина | C16: =VLOOKUP($M16,УЧАСТНИКИ!$A$2:$L$1099,4,FALSE) -> 29.01.1993 | D16: =VLOOKUP($M16,УЧАСТНИКИ!$A$2:$L$1099,8,FALSE) -> МС | E16: =VLOOKUP($M16,УЧАСТНИКИ!$A$2:$L$1099,5,FALSE) -> Красноярский край Санкт-Петербург | F16: =VLOOKUP($M16,УЧАСТНИКИ!$A$2:$L$1099,7,FALSE) -> 0 | G16: =VLOOKUP($M16,УЧАСТНИКИ!$A$2:$L$1099,11,FALSE) -> МАУ "СШОР "Спутник", СПб ГБУ ЦОП "ШВСМ по легкой атлетике | L16: =VLOOKUP($M16,УЧАСТНИКИ!$A$2:$L$1099,10,FALSE) -> Климов А.Г., Вашкевич И.Е. | M16: 99
B17: =VLOOKUP($M17,УЧАСТНИКИ!$A$2:$L$1099,3,FALSE) -> Григорьева Анастасия | C17: =VLOOKUP($M17,УЧАСТНИКИ!$A$2:$L$1099,4,FALSE) -> 07.11.1993 | D17: =VLOOKUP($M17,УЧАСТНИКИ!$A$2:$L$1099,8,FALSE) -> МС | E17: =VLOOKUP($M17,УЧАСТНИКИ!$A$2:$L$1099,5,FALSE) -> Санкт-Петербург | F17: =VLOOKUP($M17,УЧАСТНИКИ!$A$2:$L$1099,7,FALSE) -> 0 | G17: =VLOOKUP($M17,УЧАСТНИКИ!$A$2:$L$1099,11,FALSE) -> СПб ГБУ ЦОП "ШВСМ по легкой атлетике" | L17: =VLOOKUP($M17,УЧАСТНИКИ!$A$2:$L$1099,10,FALSE) -> Куликова Е.Ю., Буровцева Н.В. | M17: 272
A18: 2 | B18: Новосибирская область
B19: =VLOOKUP($M19,УЧАСТНИКИ!$A$2:$L$1099,3,FALSE) -> Печёнкина Вероника | C19: =VLOOKUP($M19,УЧАСТНИКИ!$A$2:$L$1099,4,FALSE) -> 31.08.1997 | D19: =VLOOKUP($M19,УЧАСТНИКИ!$A$2:$L$1099,8,FALSE) -> МС | E19: =VLOOKUP($M19,УЧАСТНИКИ!$A$2:$L$1099,5,FALSE) -> Новосибирская область | F19: =VLOOKUP($M19,УЧАСТНИКИ!$A$2:$L$1099,7,FALSE) -> 0 | G19: =VLOOKUP($M19,УЧАСТНИКИ!$A$2:$L$1099,11,FALSE) -> ГАУ НСО "РЦСП СК и СР" | H19: 4629 | I19: =IF(H19=0,0,CONCATENATE(MID(H19,1,2),".",MID(H19,3,2))) -> 46.29 | J19: =IF(H19<=$O$12,"МСМК",IF(H19<=$P$12,"МС",IF(H19<=$Q$12,"КМС",IF(H19<=$R$12,"1",IF(H19<=$S$12,"2",IF(H19<=$T$12,"3",IF(H19<=$U$12,"1юн",IF(H19<=$V$12,"2юн",IF(H19<=$W$12,"3юн",IF(H19>$W$12,"б/р")))))))))) -> КМС | K19: 17 | L19: =VLOOKUP($M19,УЧАСТНИКИ!$A$2:$L$1099,10,FALSE) -> Печёнкин Г.В. | M19: 425
B20: =VLOOKUP($M20,УЧАСТНИКИ!$A$2:$L$1099,3,FALSE) -> Ткачёва Екатерина | C20: =VLOOKUP($M20,УЧАСТНИКИ!$A$2:$L$1099,4,FALSE) -> 15.02.1999 | D20: =VLOOKUP($M20,УЧАСТНИКИ!$A$2:$L$1099,8,FALSE) -> КМС | E20: =VLOOKUP($M20,УЧАСТНИКИ!$A$2:$L$1099,5,FALSE) -> Новосибирская область | F20: =VLOOKUP($M20,УЧАСТНИКИ!$A$2:$L$1099,7,FALSE) -> 0 | G20: =VLOOKUP($M20,УЧАСТНИКИ!$A$2:$L$1099,11,FALSE) -> Динамо ГАУ НСО "РЦСП СК и СР", ФГБОУ ВО "НГПУ | L20: =VLOOKUP($M20,УЧАСТНИКИ!$A$2:$L$1099,10,FALSE) -> Бухашеев А.Г., Боярищева А.А. | M20: 429
B21: =VLOOKUP($M21,УЧАСТНИКИ!$A$2:$L$1099,3,FALSE) -> Брагина Анастасия | C21: =VLOOKUP($M21,УЧАСТНИКИ!$A$2:$L$1099,4,FALSE) -> 01.06.1998 | D21: =VLOOKUP($M21,УЧАСТНИКИ!$A$2:$L$1099,8,FALSE) -> МС | E21: =VLOOKUP($M21,УЧАСТНИКИ!$A$2:$L$1099,5,FALSE) -> Новосибирская область | F21: =VLOOKUP($M21,УЧАСТНИКИ!$A$2:$L$1099,7,FALSE) -> 0 | G21: =VLOOKUP($M21,УЧАСТНИКИ!$A$2:$L$1099,11,FALSE) -> Динамо ГАУ НСО "РЦСП СК и СР" | L21: =VLOOKUP($M21,УЧАСТНИКИ!$A$2:$L$1099,10,FALSE) -> Бухашеев А.Г., Боярищева А.А. | M21: 421
B22: =VLOOKUP($M22,УЧАСТНИКИ!$A$2:$L$1099,3,FALSE) -> Сластникова Тамара | C22: =VLOOKUP($M22,УЧАСТНИКИ!$A$2:$L$1099,4,FALSE) -> 21.05.1993 | D22: =VLOOKUP($M22,УЧАСТНИКИ!$A$2:$L$1099,8,FALSE) -> МС | E22: =VLOOKUP($M22,УЧАСТНИКИ!$A$2:$L$1099,5,FALSE) -> Новосибирская область | F22: =VLOOKUP($M22,УЧАСТНИКИ!$A$2:$L$1099,7,FALSE) -> 0 | G22: =VLOOKUP($M22,УЧАСТНИКИ!$A$2:$L$1099,11,FALSE) -> Динамо ГАУ НСО "РЦСП СК и СР",ФГБОУ ВО Новосибирский ГАУ | L22: =VLOOKUP($M22,УЧАСТНИКИ!$A$2:$L$1099,10,FALSE) -> Бухашеев А.Г., Богатов А.М., Боярищева А.А. | M22: 427
B25: Главный судья соревнований | J25: П. Безъязычный, ССВК, г.Краснодар
B28: Главный секретарь соревнований | J28: Е. Клочкова, ССВК, г.Волгоград

Sheet И11сб-Ж
A1: =Name_1 -> МИНИСТЕРСТВО ФИЗИЧЕСКОЙ КУЛЬТУРЫ И СПОРТА РОССИЙСКОЙ ФЕДЕРАЦИИ
A2: =Name_2 -> ВСЕРОССИЙСКАЯ ФЕДЕРАЦИЯ ЛЕГКОЙ АТЛЕТИКИ
A3: =Name_3 -> МИНИСТЕРСТВО ФИЗИЧЕСКОЙ КУЛЬТУРЫ И СПОРТА КРАСНОДАРСКОГО КРАЯ
A4: =Name_6 -> ФЕДЕРАЦИЯ ЛЕГКОЙ АТЛЕТИКИ КРАСНОДАРСКОГО КРАЯ
A5: КУБОК РОССИИ
A6: =d_4 -> ЖЕНЩИНЫ
A7: ИТОГОВЫЙ ПРОТОКОЛ
A8: Бег с барьерами 100 м
N9: h-0,84 м | P9: =d_5 -> г. Сочи, ул. Бзугу 2, ст. им. Славы Метревели
L10: забеги | N10: =d_1 -> 28.05.2019г. | O10: 0.63541667 | P10: =d_6 -> t° +25 вл. 76%
A11: автохронометраж | L11: финал | N11: =d_1 -> 28.05.2019г. | O11: 0.69097222 | P11: =d_6 -> t° +25 вл. 76% | Q11: номер | R11: мсмк | S11: мс | T11: кмс | U11: 1 | V11: 2 | W11: 3 | X11: 1ю | Y11: 2ю | Z11: 3ю
A12: Занятое место | B12: Фамилия, имя | C12: Дата рождения | D12: Заявл. разряд | E12: Территория | F12: Округ | G12: Оргнизация Ведомство | I12: Забеги | J12: V m/s | K12: Полуфинал | L12: Финал | M12: V m/s | N12: Выполненный разряд | O12: Очки | P12: Ф.И.О. тренера | R12: 1298 | S12: 1394 | T12: 1524 | U12: 1624 | V12: 1744 | W12: 1874 | X12: 2024
A13: 1 | B13: =VLOOKUP($Q13,УЧАСТНИКИ!$A$2:$L$1099,3,FALSE) -> Блескина Екатерина | C13: =VLOOKUP($Q13,УЧАСТНИКИ!$A$2:$L$1099,4,FALSE) -> 29.01.1993 | D13: =VLOOKUP($Q13,УЧАСТНИКИ!$A$2:$L$1099,8,FALSE) -> МС | E13: =VLOOKUP($Q13,УЧАСТНИКИ!$A$2:$L$1099,5,FALSE) -> Красноярский край Санкт-Петербург | F13: =VLOOKUP($Q13,УЧАСТНИКИ!$A$2:$L$1099,7,FALSE) -> 0 | G13: =VLOOKUP($Q13,УЧАСТНИКИ!$A$2:$L$1099,11,FALSE) -> МАУ "СШОР "Спутник", СПб ГБУ ЦОП "ШВСМ по легкой атлетике | H13: 1338 | I13: =IF(H13=0,0,CONCATENATE(MID(H13,1,2),".",MID(H13,3,2))) -> 13.38 | J13: -3.7 | K13: 1347 | L13: =IF(K13=0,0,CONCATENATE(MID(K13,1,2),".",MID(K13,3,2))) -> 13.47 | M13: -2.2 | N13: =IF(S13<=$R$12,"МСМК",IF(S13<=$S$12,"МС",IF(S13<=$T$12,"КМС",IF(S13<=$U$12,"1",IF(S13<=$V$12,"2",IF(S13<=$W$12,"3",IF(S13<=$X$12,"1юн",IF(S13<=$Y$12,"2юн",IF(S13<=$Z$12,"3юн",IF(S13>$Z$12,"б/р")))))))))) -> МС | O13: 20+5 | P13: =VLOOKUP($Q13,УЧАСТНИКИ!$A$2:$L$1099,10,FALSE) -> Климов А.Г., Вашкевич И.Е. | Q13: 99 | S13: =MIN(H13,K13) -> 1338
A14: 2 | B14: =VLOOKUP($Q14,УЧАСТНИКИ!$A$2:$L$1099,3,FALSE) -> Манакова (Решеткина) Ирина | C14: =VLOOKUP($Q14,УЧАСТНИКИ!$A$2:$L$1099,4,FALSE) -> 30.01.1989 | D14: =VLOOKUP($Q14,УЧАСТНИКИ!$A$2:$L$1099,8,FALSE) -> МС | E14: =VLOOKUP($Q14,УЧАСТНИКИ!$A$2:$L$1099,5,FALSE) -> Москва Санкт-Петербург | F14: =VLOOKUP($Q14,УЧАСТНИКИ!$A$2:$L$1099,7,FALSE) -> 0 | G14: =VLOOKUP($Q14,УЧАСТНИКИ!$A$2:$L$1099,11,FALSE) -> РА ГБУ "ЦСП по легкой атлетике" Москомспорта, ГБУ "ЦОП по легкой атлетике" Москомспорта, СПб ГБУ ЦОП "ШВСМ по легкой атлетике" | H14: 1359 | I14: =IF(H14=0,0,CONCATENATE(MID(H14,1,2),".",MID(H14,3,2))) -> 13.59 | J14: -0.8 | K14: 1351 | L14: =IF(K14=0,0,CONCATENATE(MID(K14,1,2),".",MID(K14,3,2))) -> 13.51 | M14: -2.2 | N14: =IF(S14<=$R$12,"МСМК",IF(S14<=$S$12,"МС",IF(S14<=$T$12,"КМС",IF(S14<=$U$12,"1",IF(S14<=$V$12,"2",IF(S14<=$W$12,"3",IF(S14<=$X$12,"1юн",IF(S14<=$Y$12,"2юн",IF(S14<=$Z$12,"3юн",IF(S14>$Z$12,"б/р")))))))))) -> МС | O14: 17+5 | P14: =VLOOKUP($Q14,УЧАСТНИКИ!$A$2:$L$1099,10,FALSE) -> Климов А.Г. | Q14: 288 | S14: =MIN(H14,K14) -> 1351
A15: 3 | B15: =VLOOKUP($Q15,УЧАСТНИКИ!$A$2:$L$1099,3,FALSE) -> Николаева Анастасия | C15: =VLOOKUP($Q15,УЧАСТНИКИ!$A$2:$L$1099,4,FALSE) -> 24.09.1995 | D15: =VLOOKUP($Q15,УЧАСТНИКИ!$A$2:$L$1099,8,FALSE) -> МСМК | E15: =VLOOKUP($Q15,УЧАСТНИКИ!$A$2:$L$1099,5,FALSE) -> Московская область Самарская область | F15: =VLOOKUP($Q15,УЧАСТНИКИ!$A$2:$L$1099,7,FALSE) -> 0 | G15: =VLOOKUP($Q15,УЧАСТНИКИ!$A$2:$L$1099,11,FALSE) -> ВС ГБУ МО "ЦСП ОВС", ГБУ МО "СШОР по легкой атлетике", МБУ г.о. Самара "СШОР № 2" | H15: 1385 | I15: =IF(H15=0,0,CONCATENATE(MID(H15,1,2),".",MID(H15,3,2))) -> 13.85 | J15: -0.7 | K15: 1367 | L15: =IF(K15=0,0,CONCATENATE(MID(K15,1,2),".",MID(K15,3,2))) -> 13.67 | M15: -2.2 | N15: =IF(S15<=$R$12,"МСМК",IF(S15<=$S$12,"МС",IF(S15<=$T$12,"КМС",IF(S15<=$U$12,"1",IF(S15<=$V$12,"2",IF(S15<=$W$12,"3",IF(S15<=$X$12,"1юн",IF(S15<=$Y$12,"2юн",IF(S15<=$Z$12,"3юн",IF(S15>$Z$12,"б/р")))))))))) -> МС | O15: 15+5 | P15: =VLOOKUP($Q15,УЧАСТНИКИ!$A$2:$L$1099,10,FALSE) -> Маслаков В.М., Жуликов Н.М., Иванова И.Ю. | Q15: 415 | S15: =MIN(H15,K15) -> 1367
A16: 4 | B16: =VLOOKUP($Q16,УЧАСТНИКИ!$A$2:$L$1099,3,FALSE) -> Ватропина Анна | C16: =VLOOKUP($Q16,УЧАСТНИКИ!$A$2:$L$1099,4,FALSE) -> 05.10.1990 | D16: =VLOOKUP($Q16,УЧАСТНИКИ!$A$2:$L$1099,8,FALSE) -> МС | E16: =VLOOKUP($Q16,УЧАСТНИКИ!$A$2:$L$1099,5,FALSE) -> Республика Татарстан | F16: =VLOOKUP($Q16,УЧАСТНИКИ!$A$2:$L$1099,7,FALSE) -> 0 | G16: =VLOOKUP($Q16,УЧАСТНИКИ!$A$2:$L$1099,11,FALSE) -> Спортивный клуб "Нефтехимик" ПАО "НКНХ" | H16: 1380 | I16: =IF(H16=0,0,CONCATENATE(MID(H16,1,2),".",MID(H16,3,2))) -> 13.80 | J16: -0.8 | K16: 1378 | L16: =IF(K16=0,0,CONCATENATE(MID(K16,1,2),".",MID(K16,3,2))) -> 13.78 | M16: -2.2 | N16: =IF(S16<=$R$12,"МСМК",IF(S16<=$S$12,"МС",IF(S16<=$T$12,"КМС",IF(S16<=$U$12,"1",IF(S16<=$V$12,"2",IF(S16<=$W$12,"3",IF(S16<=$X$12,"1юн",IF(S16<=$Y$12,"2юн",IF(S16<=$Z$12,"3юн",IF(S16>$Z$12,"б/р")))))))))) -> МС | O16: 14+5 | P16: =VLOOKUP($Q16,УЧАСТНИКИ!$A$2:$L$1099,10,FALSE) -> Ермолаев С.В., Пермяков О.А. | Q16: 241 | S16: =MIN(H16,K16) -> 1378
A17: 5 | B17: =VLOOKUP($Q17,УЧАСТНИКИ!$A$2:$L$1099,3,FALSE) -> Печёнкина Вероника | C17: =VLOOKUP($Q17,УЧАСТНИКИ!$A$2:$L$1099,4,FALSE) -> 31.08.1997 | D17: =VLOOKUP($Q17,УЧАСТНИКИ!$A$2:$L$1099,8,FALSE) -> МС | E17: =VLOOKUP($Q17,УЧАСТНИКИ!$A$2:$L$1099,5,FALSE) -> Новосибирская область | F17: =VLOOKUP($Q17,УЧАСТНИКИ!$A$2:$L$1099,7,FALSE) -> 0 | G17: =VLOOKUP($Q17,УЧАСТНИКИ!$A$2:$L$1099,11,FALSE) -> ГАУ НСО "РЦСП СК и СР" | H17: 1382 | I17: =IF(H17=0,0,CONCATENATE(MID(H17,1,2),".",MID(H17,3,2))) -> 13.82 | J17: -0.8 | K17: 1388 | L17: =IF(K17=0,0,CONCATENATE(MID(K17,1,2),".",MID(K17,3,2))) -> 13.88 | M17: -2.2 | N17: =IF(S17<=$R$12,"МСМК",IF(S17<=$S$12,"МС",IF(S17<=$T$12,"КМС",IF(S17<=$U$12,"1",IF(S17<=$V$12,"2",IF(S17<=$W$12,"3",IF(S17<=$X$12,"1юн",IF(S17<=$Y$12,"2юн",IF(S17<=$Z$12,"3юн",IF(S17>$Z$12,"б/р")))))))))) -> МС | O17: 13+5 | P17: =VLOOKUP($Q17,УЧАСТНИКИ!$A$2:$L$1099,10,FALSE) -> Печёнкин Г.В. | Q17: 425 | S17: =MIN(H17,K17) -> 1382
A18: 6 | B18: =VLOOKUP($Q18,УЧАСТНИКИ!$A$2:$L$1099,3,FALSE) -> Чернышева Елизавета | C18: =VLOOKUP($Q18,УЧАСТНИКИ!$A$2:$L$1099,4,FALSE) -> 11.11.1996 | D18: =VLOOKUP($Q18,УЧАСТНИКИ!$A$2:$L$1099,8,FALSE) -> МС | E18: =VLOOKUP($Q18,УЧАСТНИКИ!$A$2:$L$1099,5,FALSE) -> Краснодарский край Саратовская область | F18: =VLOOKUP($Q18,УЧАСТНИКИ!$A$2:$L$1099,7,FALSE) -> 0 | G18: =VLOOKUP($Q18,УЧАСТНИКИ!$A$2:$L$1099,11,FALSE) -> ГБУ КК "ЦОП по легкой атлетике", ГБУ КК "РЦСП по легкой атлетике" | H18: 1402 | I18: =IF(H18=0,0,CONCATENATE(MID(H18,1,2),".",MID(H18,3,2))) -> 14.02 | J18: -0.7 | K18: 1398 | L18: =IF(K18=0,0,CONCATENATE(MID(K18,1,2),".",MID(K18,3,2))) -> 13.98 | M18: -2.2 | N18: =IF(S18<=$R$12,"МСМК",IF(S18<=$S$12,"МС",IF(S18<=$T$12,"КМС",IF(S18<=$U$12,"1",IF(S18<=$V$12,"2",IF(S18<=$W$12,"3",IF(S18<=$X$12,"1юн",IF(S18<=$Y$12,"2юн",IF(S18<=$Z$12,"3юн",IF(S18>$Z$12,"б/р")))))))))) -> КМС | O18: =VLOOKUP($Q18,УЧАСТНИКИ!$A$2:$L$1099,9,FALSE) -> Л | P18: =VLOOKUP($Q18,УЧАСТНИКИ!$A$2:$L$1099,10,FALSE) -> Азизьян А.А., Беликов Ю.Б., Беликова Н.И. | Q18: 183 | S18: =MIN(H18,K18) -> 1398
A19: 7 | B19: =VLOOKUP($Q19,УЧАСТНИКИ!$A$2:$L$1099,3,FALSE) -> Грошева Александра | C19: =VLOOKUP($Q19,УЧАСТНИКИ!$A$2:$L$1099,4,FALSE) -> 19.08.1994 | D19: =VLOOKUP($Q19,УЧАСТНИКИ!$A$2:$L$1099,8,FALSE) -> МС | E19: =VLOOKUP($Q19,УЧАСТНИКИ!$A$2:$L$1099,5,FALSE) -> Новосибирская область | F19: =VLOOKUP($Q19,УЧАСТНИКИ!$A$2:$L$1099,7,FALSE) -> 0 | G19: =VLOOKUP($Q19,УЧАСТНИКИ!$A$2:$L$1099,11,FALSE) -> ГАУ НСО "РЦСП СК и СР"Р | H19: 1388 | I19: =IF(H19=0,0,CONCATENATE(MID(H19,1,2),".",MID(H19,3,2))) -> 13.88 | J19: -3.7 | K19: 1409 | L19: =IF(K19=0,0,CONCATENATE(MID(K19,1,2),".",MID(K19,3,2))) -> 14.09 | M19: -2.2 | N19: =IF(S19<=$R$12,"МСМК",IF(S19<=$S$12,"МС",IF(S19<=$T$12,"КМС",IF(S19<=$U$12,"1",IF(S19<=$V$12,"2",IF(S19<=$W$12,"3",IF(S19<=$X$12,"1юн",IF(S19<=$Y$12,"2юн",IF(S19<=$Z$12,"3юн",IF(S19>$Z$12,"б/р")))))))))) -> МС | O19: 12+5 | P19: =VLOOKUP($Q19,УЧАСТНИКИ!$A$2:$L$1099,10,FALSE) -> Кудрявцев В.Е., Грошев В.А. | Q19: 422 | S19: =MIN(H19,K19) -> 1388
A20: 8 | B20: =VLOOKUP($Q20,УЧАСТНИКИ!$A$2:$L$1099,3,FALSE) -> Рытикова Валерия | C20: =VLOOKUP($Q20,УЧАСТНИКИ!$A$2:$L$1099,4,FALSE) -> 13.12.1995 | D20: =VLOOKUP($Q20,УЧАСТНИКИ!$A$2:$L$1099,8,FALSE) -> КМС | E20: =VLOOKUP($Q20,УЧАСТНИКИ!$A$2:$L$1099,5,FALSE) -> Воронежская область | F20: =VLOOKUP($Q20,УЧАСТНИКИ!$A$2:$L$1099,7,FALSE) -> 0 | G20: =VLOOKUP($Q20,УЧАСТНИКИ!$A$2:$L$1099,11,FALSE) -> ГБУ ВО "СШОР № 21" | H20: 1395 | I20: =IF(H20=0,0,CONCATENATE(MID(H20,1,2),".",MID(H20,3,2))) -> 13.95 | J20: -3.7 | K20: 1425 | L20: =IF(K20=0,0,CONCATENATE(MID(K20,1,2),".",MID(K20,3,2))) -> 14.25 | M20: -2.2 | N20: =IF(S20<=$R$12,"МСМК",IF(S20<=$S$12,"МС",IF(S20<=$T$12,"КМС",IF(S20<=$U$12,"1",IF(S20<=$V$12,"2",IF(S20<=$W$12,"3",IF(S20<=$X$12,"1юн",IF(S20<=$Y$12,"2юн",IF(S20<=$Z$12,"3юн",IF(S20>$Z$12,"б/р")))))))))) -> КМС | O20: 11 | P20: =VLOOKUP($Q20,УЧАСТНИКИ!$A$2:$L$1099,10,FALSE) -> Бабкин А.П., Демиденкова Г.А. | Q20: 399 | S20: =MIN(H20,K20) -> 1395
A21: 9 | B21: =VLOOKUP($Q21,УЧАСТНИКИ!$A$2:$L$1099,3,FALSE) -> Чекан Полина | C21: =VLOOKUP($Q21,УЧАСТНИКИ!$A$2:$L$1099,4,FALSE) -> 17.11.1999 | D21: =VLOOKUP($Q21,УЧАСТНИКИ!$A$2:$L$1099,8,FALSE) -> КМС | E21: =VLOOKUP($Q21,УЧАСТНИКИ!$A$2:$L$1099,5,FALSE) -> Москва | F21: =VLOOKUP($Q21,УЧАСТНИКИ!$A$2:$L$1099,7,FALSE) -> 0 | G21: =VLOOKUP($Q21,УЧАСТНИКИ!$A$2:$L$1099,11,FALSE) -> ГБУ "СШОР "Луч" Москомспорта | H21: 1411 | I21: =IF(H21=0,0,CONCATENATE(MID(H21,1,2),".",MID(H21,3,2))) -> 14.11 | J21: -0.8 | N21: =IF(S21<=$R$12,"МСМК",IF(S21<=$S$12,"МС",IF(S21<=$T$12,"КМС",IF(S21<=$U$12,"1",IF(S21<=$V$12,"2",IF(S21<=$W$12,"3",IF(S21<=$X$12,"1юн",IF(S21<=$Y$12,"2юн",IF(S21<=$Z$12,"3юн",IF(S21>$Z$12,"б/р")))))))))) -> КМС | O21: =VLOOKUP($Q21,УЧАСТНИКИ!$A$2:$L$1099,9,FALSE) -> Л | P21: =VLOOKUP($Q21,УЧАСТНИКИ!$A$2:$L$1099,10,FALSE) -> Шабанов Г.К. | Q21: 370 | S21: =MIN(H21,K21) -> 1411
A22: 10 | B22: =VLOOKUP($Q22,УЧАСТНИКИ!$A$2:$L$1099,3,FALSE) -> Думен (Рябенко) Елена | C22: =VLOOKUP($Q22,УЧАСТНИКИ!$A$2:$L$1099,4,FALSE) -> 13.01.1994 | D22: =VLOOKUP($Q22,УЧАСТНИКИ!$A$2:$L$1099,8,FALSE) -> МС | E22: =VLOOKUP($Q22,УЧАСТНИКИ!$A$2:$L$1099,5,FALSE) -> Краснодарский край Карачаево-Черкесская республика | F22: =VLOOKUP($Q22,УЧАСТНИКИ!$A$2:$L$1099,7,FALSE) -> 0 | G22: =VLOOKUP($Q22,УЧАСТНИКИ!$A$2:$L$1099,11,FALSE) -> Министерство спорта ГБУ КК "РЦСП по легкой атлетике", ЦСП КЧР, ГБУ КК "ЦОП по легкой атлетике" | H22: 1416 | I22: =IF(H22=0,0,CONCATENATE(MID(H22,1,2),".",MID(H22,3,2))) -> 14.16 | J22: -0.8 | N22: =IF(S22<=$R$12,"МСМК",IF(S22<=$S$12,"МС",IF(S22<=$T$12,"КМС",IF(S22<=$U$12,"1",IF(S22<=$V$12,"2",IF(S22<=$W$12,"3",IF(S22<=$X$12,"1юн",IF(S22<=$Y$12,"2юн",IF(S22<=$Z$12,"3юн",IF(S22>$Z$12,"б/р")))))))))) -> КМС | O22: 10 | P22: =VLOOKUP($Q22,УЧАСТНИКИ!$A$2:$L$1099,10,FALSE) -> Вяльцева В.Г. | Q22: 140 | S22: =MIN(H22,K22) -> 1416
A23: 11 | B23: =VLOOKUP($Q23,УЧАСТНИКИ!$A$2:$L$1099,3,FALSE) -> Громова Валерия | C23: =VLOOKUP($Q23,УЧАСТНИКИ!$A$2:$L$1099,4,FALSE) -> 08.04.2000 | D23: =VLOOKUP($Q23,УЧАСТНИКИ!$A$2:$L$1099,8,FALSE) -> КМС | E23: =VLOOKUP($Q23,УЧАСТНИКИ!$A$2:$L$1099,5,FALSE) -> Санкт-Петербург | F23: =VLOOKUP($Q23,УЧАСТНИКИ!$A$2:$L$1099,7,FALSE) -> 0 | G23: =VLOOKUP($Q23,УЧАСТНИКИ!$A$2:$L$1099,11,FALSE) -> СПб ГБУ СШОР "Академия легкой атлетики Санкт-Петербурга" | H23: 1427 | I23: =IF(H23=0,0,CONCATENATE(MID(H23,1,2),".",MID(H23,3,2))) -> 14.27 | J23: -0.7 | N23: =IF(S23<=$R$12,"МСМК",IF(S23<=$S$12,"МС",IF(S23<=$T$12,"КМС",IF(S23<=$U$12,"1",IF(S23<=$V$12,"2",IF(S23<=$W$12,"3",IF(S23<=$X$12,"1юн",IF(S23<=$Y$12,"2юн",IF(S23<=$Z$12,"3юн",IF(S23>$Z$12,"б/р")))))))))) -> КМС | O23: =VLOOKUP($Q23,УЧАСТНИКИ!$A$2:$L$1099,9,FALSE) -> Л | P23: =VLOOKUP($Q23,УЧАСТНИКИ!$A$2:$L$1099,10,FALSE) -> Шекин Д.А., Бахвалова Е.А. | Q23: 273 | S23: =MIN(H23,K23) -> 1427
A24: 12 | B24: =VLOOKUP($Q24,УЧАСТНИКИ!$A$2:$L$1099,3,FALSE) -> Воробьева Анастасия | C24: =VLOOKUP($Q24,УЧАСТНИКИ!$A$2:$L$1099,4,FALSE) -> 01.04.1999 | D24: =VLOOKUP($Q24,УЧАСТНИКИ!$A$2:$L$1099,8,FALSE) -> КМС | E24: =VLOOKUP($Q24,УЧАСТНИКИ!$A$2:$L$1099,5,FALSE) -> Воронежская область | F24: =VLOOKUP($Q24,УЧАСТНИКИ!$A$2:$L$1099,7,FALSE) -> 0 | G24: =VLOOKUP($Q24,УЧАСТНИКИ!$A$2:$L$1099,11,FALSE) -> МБУ "СШОР № 5" | H24: 1428 | I24: =IF(H24=0,0,CONCATENATE(MID(H24,1,2),".",MID(H24,3,2))) -> 14.28 | J24: -3.7 | N24: =IF(S24<=$R$12,"МСМК",IF(S24<=$S$12,"МС",IF(S24<=$T$12,"КМС",IF(S24<=$U$12,"1",IF(S24<=$V$12,"2",IF(S24<=$W$12,"3",IF(S24<=$X$12,"1юн",IF(S24<=$Y$12,"2юн",IF(S24<=$Z$12,"3юн",IF(S24>$Z$12,"б/р")))))))))) -> КМС | O24: 9 | P24: =VLOOKUP($Q24,УЧАСТНИКИ!$A$2:$L$1099,10,FALSE) -> Мащенко Р.М. | Q24: 393 | S24: =MIN(H24,K24) -> 1428
A25: 13 | B25: =VLOOKUP($Q25,УЧАСТНИКИ!$A$2:$L$1099,3,FALSE) -> Киселева Татьяна | C25: =VLOOKUP($Q25,УЧАСТНИКИ!$A$2:$L$1099,4,FALSE) -> 06.02.1997 | D25: =VLOOKUP($Q25,УЧАСТНИКИ!$A$2:$L$1099,8,FALSE) -> КМС | E25: =VLOOKUP($Q25,УЧАСТНИКИ!$A$2:$L$1099,5,FALSE) -> Курганская область | F25: =VLOOKUP($Q25,УЧАСТНИКИ!$A$2:$L$1099,7,FALSE) -> 0 | G25: =VLOOKUP($Q25,УЧАСТНИКИ!$A$2:$L$1099,11,FALSE) -> ГБУ "СШОР № 1" г. Курган, ШГПУ, ГАУ "ЦСП КО" | H25: 1429 | I25: =IF(H25=0,0,CONCATENATE(MID(H25,1,2),".",MID(H25,3,2))) -> 14.29 | J25: -3.7 | N25: =IF(S25<=$R$12,"МСМК",IF(S25<=$S$12,"МС",IF(S25<=$T$12,"КМС",IF(S25<=$U$12,"1",IF(S25<=$V$12,"2",IF(S25<=$W$12,"3",IF(S25<=$X$12,"1юн",IF(S25<=$Y$12,"2юн",IF(S25<=$Z$12,"3юн",IF(S25>$Z$12,"б/р")))))))))) -> КМС | O25: 8 | P25: =VLOOKUP($Q25,УЧАСТНИКИ!$A$2:$L$1099,10,FALSE) -> Третьяков В.Г., Павлова Н.С. | Q25: 47 | S25: =MIN(H25,K25) -> 1429
A26: 14 | B26: =VLOOKUP($Q26,УЧАСТНИКИ!$A$2:$L$1099,3,FALSE) -> Ефименко Кристина | C26: =VLOOKUP($Q26,УЧАСТНИКИ!$A$2:$L$1099,4,FALSE) -> 27.02.1998 | D26: =VLOOKUP($Q26,УЧАСТНИКИ!$A$2:$L$1099,8,FALSE) -> КМС | E26: =VLOOKUP($Q26,УЧАСТНИКИ!$A$2:$L$1099,5,FALSE) -> Челябинская область | F26: =VLOOKUP($Q26,УЧАСТНИКИ!$A$2:$L$1099,7,FALSE) -> 0 | G26: =VLOOKUP($Q26,УЧАСТНИКИ!$A$2:$L$1099,11,FALSE) -> МБУ СШОР №1 по л/а г.Челябинска | H26: 1459 | I26: =IF(H26=0,0,CONCATENATE(MID(H26,1,2),".",MID(H26,3,2))) -> 14.59 | J26: -0.7 | N26: =IF(S26<=$R$12,"МСМК",IF(S26<=$S$12,"МС",IF(S26<=$T$12,"КМС",IF(S26<=$U$12,"1",IF(S26<=$V$12,"2",IF(S26<=$W$12,"3",IF(S26<=$X$12,"1юн",IF(S26<=$Y$12,"2юн",IF(S26<=$Z$12,"3юн",IF(S26>$Z$12,"б/р")))))))))) -> КМС | O26: 7 | P26: =VLOOKUP($Q26,УЧАСТНИКИ!$A$2:$L$1099,10,FALSE) -> Ермолаев С.В., Береглазов В.Н. | Q26: 55 | S26: =MIN(H26,K26) -> 1459
A27: 15 | B27: =VLOOKUP($Q27,УЧАСТНИКИ!$A$2:$L$1099,3,FALSE) -> Клещева Кристина | C27: =VLOOKUP($Q27,УЧАСТНИКИ!$A$2:$L$1099,4,FALSE) -> 26.03.1999 | D27: =VLOOKUP($Q27,УЧАСТНИКИ!$A$2:$L$1099,8,FALSE) -> МС | E27: =VLOOKUP($Q27,УЧАСТНИКИ!$A$2:$L$1099,5,FALSE) -> Челябинская область | F27: =VLOOKUP($Q27,УЧАСТНИКИ!$A$2:$L$1099,7,FALSE) -> 0 | G27: =VLOOKUP($Q27,УЧАСТНИКИ!$A$2:$L$1099,11,FALSE) -> МБУ СШОР №1 по л/а г.Челябинска | H27: 1464 | I27: =IF(H27=0,0,CONCATENATE(MID(H27,1,2),".",MID(H27,3,2))) -> 14.64 | J27: -0.7 | N27: =IF(S27<=$R$12,"МСМК",IF(S27<=$S$12,"МС",IF(S27<=$T$12,"КМС",IF(S27<=$U$12,"1",IF(S27<=$V$12,"2",IF(S27<=$W$12,"3",IF(S27<=$X$12,"1юн",IF(S27<=$Y$12,"2юн",IF(S27<=$Z$12,"3юн",IF(S27>$Z$12,"б/р")))))))))) -> КМС | O27: 6 | P27: =VLOOKUP($Q27,УЧАСТНИКИ!$A$2:$L$1099,10,FALSE) -> Ермолаев С.В., Гангало Н.Н. | Q27: 56 | S27: =MIN(H27,K27) -> 1464
A28: 16 | B28: =VLOOKUP($Q28,УЧАСТНИКИ!$A$2:$L$1099,3,FALSE) -> Ефимова Полина | C28: =VLOOKUP($Q28,УЧАСТНИКИ!$A$2:$L$1099,4,FALSE) -> 16.12.2001 | D28: =VLOOKUP($Q28,УЧАСТНИКИ!$A$2:$L$1099,8,FALSE) -> КМС | E28: =VLOOKUP($Q28,УЧАСТНИКИ!$A$2:$L$1099,5,FALSE) -> Курганская область | F28: =VLOOKUP($Q28,УЧАСТНИКИ!$A$2:$L$1099,7,FALSE) -> 0 | G28: =VLOOKUP($Q28,УЧАСТНИКИ!$A$2:$L$1099,11,FALSE) -> ГБУ "СШОР № 1" г. Курган | H28: 1518 | I28: =IF(H28=0,0,CONCATENATE(MID(H28,1,2),".",MID(H28,3,2))) -> 15.18 | J28: -0.8 | N28: =IF(S28<=$R$12,"МСМК",IF(S28<=$S$12,"МС",IF(S28<=$T$12,"КМС",IF(S28<=$U$12,"1",IF(S28<=$V$12,"2",IF(S28<=$W$12,"3",IF(S28<=$X$12,"1юн",IF(S28<=$Y$12,"2юн",IF(S28<=$Z$12,"3юн",IF(S28>$Z$12,"б/р")))))))))) -> КМС | O28: 5 | P28: =VLOOKUP($Q28,УЧАСТНИКИ!$A$2:$L$1099,10,FALSE) -> Третьяков В.Г., Павлова Н.С. | Q28: 46 | S28: =MIN(H28,K28) -> 1518
A29: 17 | B29: =VLOOKUP($Q29,УЧАСТНИКИ!$A$2:$L$1099,3,FALSE) -> Елизарова Елизавета | C29: =VLOOKUP($Q29,УЧАСТНИКИ!$A$2:$L$1099,4,FALSE) -> 28.01.2001 | D29: =VLOOKUP($Q29,УЧАСТНИКИ!$A$2:$L$1099,8,FALSE) -> КМС | E29: =VLOOKUP($Q29,УЧАСТНИКИ!$A$2:$L$1099,5,FALSE) -> Челябинская область Свердловская область | F29: =VLOOKUP($Q29,УЧАСТНИКИ!$A$2:$L$1099,7,FALSE) -> 0 | G29: =VLOOKUP($Q29,УЧАСТНИКИ!$A$2:$L$1099,11,FALSE) -> МБУ СШОР №1 по л/а г.Челябинска | H29: 1555 | I29: =IF(H29=0,0,CONCATENATE(MID(H29,1,2),".",MID(H29,3,2))) -> 15.55 | J29: -3.7 | N29: =IF(S29<=$R$12,"МСМК",IF(S29<=$S$12,"МС",IF(S29<=$T$12,"КМС",IF(S29<=$U$12,"1",IF(S29<=$V$12,"2",IF(S29<=$W$12,"3",IF(S29<=$X$12,"1юн",IF(S29<=$Y$12,"2юн",IF(S29<=$Z$12,"3юн",IF(S29>$Z$12,"б/р")))))))))) -> 1 | O29: 4 | P29: =VLOOKUP($Q29,УЧАСТНИКИ!$A$2:$L$1099,10,FALSE) -> Ермолаев С.В., Гангало Н.Н., Юнусова Е.М. | Q29: 54 | S29: =MIN(H29,K29) -> 1555
A30: 18 | B30: =VLOOKUP($Q30,УЧАСТНИКИ!$A$2:$L$1099,3,FALSE) -> Иванова Елизавета | C30: =VLOOKUP($Q30,УЧАСТНИКИ!$A$2:$L$1099,4,FALSE) -> 22.05.1997 | D30: =VLOOKUP($Q30,УЧАСТНИКИ!$A$2:$L$1099,8,FALSE) -> МС | E30: =VLOOKUP($Q30,УЧАСТНИКИ!$A$2:$L$1099,5,FALSE) -> Московская область Ярославская область | F30: =VLOOKUP($Q30,УЧАСТНИКИ!$A$2:$L$1099,7,FALSE) -> 0 | G30: =VLOOKUP($Q30,УЧАСТНИКИ!$A$2:$L$1099,11,FALSE) -> МУДО КСДЮСШОР «Зоркий», ГУ ЯО РЦСП, МУ СШОР № 2 | H30: 1568 | I30: =IF(H30=0,0,CONCATENATE(MID(H30,1,2),".",MID(H30,3,2))) -> 15.68 | J30: -0.7 | N30: =IF(S30<=$R$12,"МСМК",IF(S30<=$S$12,"МС",IF(S30<=$T$12,"КМС",IF(S30<=$U$12,"1",IF(S30<=$V$12,"2",IF(S30<=$W$12,"3",IF(S30<=$X$12,"1юн",IF(S30<=$Y$12,"2юн",IF(S30<=$Z$12,"3юн",IF(S30>$Z$12,"б/р")))))))))) -> 1 | O30: 3 | P30: =VLOOKUP($Q30,УЧАСТНИКИ!$A$2:$L$1099,10,FALSE) -> Колмаков С.В., Несговорова О.В. | Q30: 238 | S30: =MIN(H30,K30) -> 1568
A31: 19 | B31: =VLOOKUP($Q31,УЧАСТНИКИ!$A$2:$L$1099,3,FALSE) -> Сланова Анастасия | C31: =VLOOKUP($Q31,УЧАСТНИКИ!$A$2:$L$1099,4,FALSE) -> 14.04.2002 | D31: =VLOOKUP($Q31,УЧАСТНИКИ!$A$2:$L$1099,8,FALSE) -> КМС | E31: =VLOOKUP($Q31,УЧАСТНИКИ!$A$2:$L$1099,5,FALSE) -> Россия | F31: =VLOOKUP($Q31,УЧАСТНИКИ!$A$2:$L$1099,7,FALSE) -> 0 | G31: =VLOOKUP($Q31,УЧАСТНИКИ!$A$2:$L$1099,11,FALSE) | H31: 1587 | I31: =IF(H31=0,0,CONCATENATE(MID(H31,1,2),".",MID(H31,3,2))) -> 15.87 | J31: -0.7 | N31: =IF(S31<=$R$12,"МСМК",IF(S31<=$S$12,"МС",IF(S31<=$T$12,"КМС",IF(S31<=$U$12,"1",IF(S31<=$V$12,"2",IF(S31<=$W$12,"3",IF(S31<=$X$12,"1юн",IF(S31<=$Y$12,"2юн",IF(S31<=$Z$12,"3юн",IF(S31>$Z$12,"б/р")))))))))) -> 1 | O31: =VLOOKUP($Q31,УЧАСТНИКИ!$A$2:$L$1099,9,FALSE) -> Л | P31: =VLOOKUP($Q31,УЧАСТНИКИ!$A$2:$L$1099,10,FALSE) -> Цахилов И.Л. | Q31: 236 | S31: =MIN(H31,K31) -> 1587
B32: =VLOOKUP($Q32,УЧАСТНИКИ!$A$2:$L$1099,3,FALSE) -> Гафурова Евгения | C32: =VLOOKUP($Q32,УЧАСТНИКИ!$A$2:$L$1099,4,FALSE) -> 22.03.1994 | D32: =VLOOKUP($Q32,УЧАСТНИКИ!$A$2:$L$1099,8,FALSE) -> МС | E32: =VLOOKUP($Q32,УЧАСТНИКИ!$A$2:$L$1099,5,FALSE) -> Москва | F32: =VLOOKUP($Q32,УЧАСТНИКИ!$A$2:$L$1099,7,FALSE) -> 0 | G32: =VLOOKUP($Q32,УЧАСТНИКИ!$A$2:$L$1099,11,FALSE) -> ФАУ МО РФ ЦСКА СШОР по легкой атлетике имени Н.А. Пономаревой | I32: DQ 162.7 | O32: =VLOOKUP($Q32,УЧАСТНИКИ!$A$2:$L$1099,9,FALSE) -> Л | P32: =VLOOKUP($Q32,УЧАСТНИКИ!$A$2:$L$1099,10,FALSE) -> Вдовин М.В., Полоницкий А.Е., Гатауллин Р.А. | Q32: 336 | S32: =MIN(H32,K32) -> 0
B35: Главный судья соревнований | L35: П. Безъязычный, ССВК, г.Краснодар
B38: Главный секретарь соревнований | L38: Е. Клочкова, ССВК, г.Волгоград

Sheet И30сп-Ж
A1: =Name_1 -> МИНИСТЕРСТВО ФИЗИЧЕСКОЙ КУЛЬТУРЫ И СПОРТА РОССИЙСКОЙ ФЕДЕРАЦИИ
A2: =Name_2 -> ВСЕРОССИЙСКАЯ ФЕДЕРАЦИЯ ЛЕГКОЙ АТЛЕТИКИ
A3: =Name_3 -> МИНИСТЕРСТВО ФИЗИЧЕСКОЙ КУЛЬТУРЫ И СПОРТА КРАСНОДАРСКОГО КРАЯ
A4: =Name_6 -> ФЕДЕРАЦИЯ ЛЕГКОЙ АТЛЕТИКИ КРАСНОДАРСКОГО КРАЯ
A5: КУБОК РОССИИ
A6: =d_4 -> ЖЕНЩИНЫ
A7: ИТОГОВЫЙ ПРОТОКОЛ
A8: Бег с препятствиями 3 000 м
L10: =d_5 -> г. Сочи, ул. Бзугу 2, ст. им. Славы Метревели
A11: автохронометраж | I11: финальные забеги | J11: =d_1 -> 28.05.2019г. | K11: 0.77777778 | L11: =d_6 -> t° +25 вл. 76% | M11: номер | O11: мсмк | P11: мс | Q11: кмс | R11: 1 | S11: 2 | T11: 3 | U11: 1ю | V11: 2ю | W11: 3ю
A12: Занятое место | B12: Фамилия, имя | C12: Дата рождения | D12: Заявл. разряд | E12: Территория | F12: Округ | G12: Оргнизация Ведомство | I12: Результат | J12: Выполненный разряд | K12: Очки | L12: Ф.И.О. тренера | O12: 94224 | P12: 101824 | Q12: 105024 | R12: 113624 | S12: 123624 | T12: 134524
A13: 1 | B13: =VLOOKUP($M13,УЧАСТНИКИ!$A$2:$L$1099,3,FALSE) -> Вовк Ольга | C13: =VLOOKUP($M13,УЧАСТНИКИ!$A$2:$L$1099,4,FALSE) -> 13.02.1993 | D13: =VLOOKUP($M13,УЧАСТНИКИ!$A$2:$L$1099,8,FALSE) -> МСМК | E13: =VLOOKUP($M13,УЧАСТНИКИ!$A$2:$L$1099,5,FALSE) -> Ростовская область | F13: =VLOOKUP($M13,УЧАСТНИКИ!$A$2:$L$1099,7,FALSE) -> 0 | G13: =VLOOKUP($M13,УЧАСТНИКИ!$A$2:$L$1099,11,FALSE) -> ГБУ РО "ЦОП № 1" (г. Ростов-на-Дону) | H13: 94322 | I13: =IF(H13=0,0,CONCATENATE(MID(H13,1,1),":",MID(H13,2,2),",",MID(H13,4,2))) -> 9:43,22 | J13: =IF(H13<=$O$12,"МСМК",IF(H13<=$P$12,"МС",IF(H13<=$Q$12,"КМС",IF(H13<=$R$12,"1",IF(H13<=$S$12,"2",IF(H13<=$T$12,"3",IF(H13<=$U$12,"1юн",IF(H13<=$V$12,"2юн",IF(H13<=$W$12,"3юн",IF(H13>$W$12,"б/р")))))))))) -> МС | K13: 20+5 | L13: =VLOOKUP($M13,УЧАСТНИКИ!$A$2:$L$1099,10,FALSE) -> Сретенцев В.В., Вовк Т.И. | M13: 477
A14: 2 | B14: =VLOOKUP($M14,УЧАСТНИКИ!$A$2:$L$1099,3,FALSE) -> Тропина Анна | C14: =VLOOKUP($M14,УЧАСТНИКИ!$A$2:$L$1099,4,FALSE) -> 03.11.1998 | D14: =VLOOKUP($M14,УЧАСТНИКИ!$A$2:$L$1099,8,FALSE) -> МС | E14: =VLOOKUP($M14,УЧАСТНИКИ!$A$2:$L$1099,5,FALSE) -> Свердловская область | F14: =VLOOKUP($M14,УЧАСТНИКИ!$A$2:$L$1099,7,FALSE) -> 0 | G14: =VLOOKUP($M14,УЧАСТНИКИ!$A$2:$L$1099,11,FALSE) -> ГАУ СО "ЦСП", УРФУ | H14: 94703 | I14: =IF(H14=0,0,CONCATENATE(MID(H14,1,1),":",MID(H14,2,2),",",MID(H14,4,2))) -> 9:47,03 | J14: =IF(H14<=$O$12,"МСМК",IF(H14<=$P$12,"МС",IF(H14<=$Q$12,"КМС",IF(H14<=$R$12,"1",IF(H14<=$S$12,"2",IF(H14<=$T$12,"3",IF(H14<=$U$12,"1юн",IF(H14<=$V$12,"2юн",IF(H14<=$W$12,"3юн",IF(H14>$W$12,"б/р")))))))))) -> МС | K14: 17+5 | L14: =VLOOKUP($M14,УЧАСТНИКИ!$A$2:$L$1099,10,FALSE) -> Невьянцев В., Архипов Ф.М., Штырц В.В. | M14: 74
A15: 3 | B15: =VLOOKUP($M15,УЧАСТНИКИ!$A$2:$L$1099,3,FALSE) -> Колоскова (Власова) Наталья | C15: =VLOOKUP($M15,УЧАСТНИКИ!$A$2:$L$1099,4,FALSE) -> 19.07.1988 | D15: =VLOOKUP($M15,УЧАСТНИКИ!$A$2:$L$1099,8,FALSE) -> МСМК | E15: =VLOOKUP($M15,УЧАСТНИКИ!$A$2:$L$1099,5,FALSE) -> Москва Приморский край | F15: =VLOOKUP($M15,УЧАСТНИКИ!$A$2:$L$1099,7,FALSE) -> 0 | G15: =VLOOKUP($M15,УЧАСТНИКИ!$A$2:$L$1099,11,FALSE) -> Д ГБУ "СШОР "Луч" Москомспорта, КГАУ "ЦСП - ШВСМ" | H15: 95150 | I15: =IF(H15=0,0,CONCATENATE(MID(H15,1,1),":",MID(H15,2,2),",",MID(H15,4,2))) -> 9:51,50 | J15: =IF(H15<=$O$12,"МСМК",IF(H15<=$P$12,"МС",IF(H15<=$Q$12,"КМС",IF(H15<=$R$12,"1",IF(H15<=$S$12,"2",IF(H15<=$T$12,"3",IF(H15<=$U$12,"1юн",IF(H15<=$V$12,"2юн",IF(H15<=$W$12,"3юн",IF(H15>$W$12,"б/р")))))))))) -> МС | K15: =VLOOKUP($M15,УЧАСТНИКИ!$A$2:$L$1099,9,FALSE) -> Л | L15: =VLOOKUP($M15,УЧАСТНИКИ!$A$2:$L$1099,10,FALSE) -> Анисимов В.Н., Куканов Ю.С. | M15: 350
A16: 4 | B16: =VLOOKUP($M16,УЧАСТНИКИ!$A$2:$L$1099,3,FALSE) -> Соколенко Екатерина | C16: =VLOOKUP($M16,УЧАСТНИКИ!$A$2:$L$1099,4,FALSE) -> 13.09.1992 | D16: =VLOOKUP($M16,УЧАСТНИКИ!$A$2:$L$1099,8,FALSE) -> МСМК | E16: =VLOOKUP($M16,УЧАСТНИКИ!$A$2:$L$1099,5,FALSE) -> Томская область Новосибирская область | F16: =VLOOKUP($M16,УЧАСТНИКИ!$A$2:$L$1099,7,FALSE) -> 0 | G16: =VLOOKUP($M16,УЧАСТНИКИ!$A$2:$L$1099,11,FALSE) -> ВС, ЦСКА МБУ ДО ДЮСШ № 1 (г. Томск), ОГАУ ТО СШОР, ГАУ НСО "РЦСП СК и СР" | H16: 95685 | I16: =IF(H16=0,0,CONCATENATE(MID(H16,1,1),":",MID(H16,2,2),",",MID(H16,4,2))) -> 9:56,85 | J16: =IF(H16<=$O$12,"МСМК",IF(H16<=$P$12,"МС",IF(H16<=$Q$12,"КМС",IF(H16<=$R$12,"1",IF(H16<=$S$12,"2",IF(H16<=$T$12,"3",IF(H16<=$U$12,"1юн",IF(H16<=$V$12,"2юн",IF(H16<=$W$12,"3юн",IF(H16>$W$12,"б/р")))))))))) -> МС | K16: 15+5 | L16: =VLOOKUP($M16,УЧАСТНИКИ!$A$2:$L$1099,10,FALSE) -> Божко В.А., Соколенко Е.В., Трубников В.П. | M16: 428
A17: 5 | B17: =VLOOKUP($M17,УЧАСТНИКИ!$A$2:$L$1099,3,FALSE) -> Шипицына Ирина | C17: =VLOOKUP($M17,УЧАСТНИКИ!$A$2:$L$1099,4,FALSE) -> 18.06.2000 | D17: =VLOOKUP($M17,УЧАСТНИКИ!$A$2:$L$1099,8,FALSE) -> КМС | E17: =VLOOKUP($M17,УЧАСТНИКИ!$A$2:$L$1099,5,FALSE) -> Пермский край | F17: =VLOOKUP($M17,УЧАСТНИКИ!$A$2:$L$1099,7,FALSE) -> 0 | G17: =VLOOKUP($M17,УЧАСТНИКИ!$A$2:$L$1099,11,FALSE) -> ФГБОУ ВО "ЧГИФК", МБУ ДО "ЦДО" (с. Кочево), ГКАУ ЦСП "Пермского края" | H17: 103810 | I17: =IF(H17=0,0,CONCATENATE(MID(H17,1,2),":",MID(H17,3,2),",",MID(H17,5,2))) -> 10:38,10 | J17: =IF(H17<=$O$12,"МСМК",IF(H17<=$P$12,"МС",IF(H17<=$Q$12,"КМС",IF(H17<=$R$12,"1",IF(H17<=$S$12,"2",IF(H17<=$T$12,"3",IF(H17<=$U$12,"1юн",IF(H17<=$V$12,"2юн",IF(H17<=$W$12,"3юн",IF(H17>$W$12,"б/р")))))))))) -> КМС | K17: 14 | L17: =VLOOKUP($M17,УЧАСТНИКИ!$A$2:$L$1099,10,FALSE) -> Зайцев А.И. | M17: 25
A18: 6 | B18: =VLOOKUP($M18,УЧАСТНИКИ!$A$2:$L$1099,3,FALSE) -> Лихачёва Юлия | C18: =VLOOKUP($M18,УЧАСТНИКИ!$A$2:$L$1099,4,FALSE) -> 26.08.1998 | D18: =VLOOKUP($M18,УЧАСТНИКИ!$A$2:$L$1099,8,FALSE) -> КМС | E18: =VLOOKUP($M18,УЧАСТНИКИ!$A$2:$L$1099,5,FALSE) -> Красноярский край | F18: =VLOOKUP($M18,УЧАСТНИКИ!$A$2:$L$1099,7,FALSE) -> 0 | G18: =VLOOKUP($M18,УЧАСТНИКИ!$A$2:$L$1099,11,FALSE) -> Академия летних видов спорта КГАУ "РЦСП "Академия летних видов спорта", МАУ "СШОР "Спутник" | H18: 110123 | I18: =IF(H18=0,0,CONCATENATE(MID(H18,1,2),":",MID(H18,3,2),",",MID(H18,5,2))) -> 11:01,23 | J18: =IF(H18<=$O$12,"МСМК",IF(H18<=$P$12,"МС",IF(H18<=$Q$12,"КМС",IF(H18<=$R$12,"1",IF(H18<=$S$12,"2",IF(H18<=$T$12,"3",IF(H18<=$U$12,"1юн",IF(H18<=$V$12,"2юн",IF(H18<=$W$12,"3юн",IF(H18>$W$12,"б/р")))))))))) -> 1 | K18: 13 | L18: =VLOOKUP($M18,УЧАСТНИКИ!$A$2:$L$1099,10,FALSE) -> Ромащенко А.А., Вашкевич И.Е., Чалый Ю.В. | M18: 104
B22: Главный судья соревнований | J22: П. Безъязычный, ССВК, г.Краснодар
B25: Главный секретарь соревнований | J25: Е. Клочкова, ССВК, г.Волгоград

Sheet И Ш-Ж
A1: =Name_1 -> МИНИСТЕРСТВО ФИЗИЧЕСКОЙ КУЛЬТУРЫ И СПОРТА РОССИЙСКОЙ ФЕДЕРАЦИИ
A2: =Name_2 -> ВСЕРОССИЙСКАЯ ФЕДЕРАЦИЯ ЛЕГКОЙ АТЛЕТИКИ
A3: =Name_3 -> МИНИСТЕРСТВО ФИЗИЧЕСКОЙ КУЛЬТУРЫ И СПОРТА КРАСНОДАРСКОГО КРАЯ
A4: =Name_6 -> ФЕДЕРАЦИЯ ЛЕГКОЙ АТЛЕТИКИ КРАСНОДАРСКОГО КРАЯ
A5: КУБОК РОССИИ
A6: =d_4 -> ЖЕНЩИНЫ
A7: ИТОГОВЫЙ ПРОТОКОЛ
A8: Прыжок с шестом
L9: =d_5 -> г. Сочи, ул. Бзугу 2, ст. им. Славы Метревели
I10: финальные соревнования | J10: =d_1 -> 28.05.2019г. | K10: 0.54166667 | L10: =d_6 -> t° +25 вл. 76% | AF10: мсмк | AG10: мс | AH10: кмс | AI10: 1 | AJ10: 2 | AK10: 3 | AL10: 1ю | AM10: 2ю | AN10: 3ю
A11: Занятое место | B11: Фамилия, имя | C11: Дата рождения | D11: Заявл. разряд | E11: Территория | F11: Округ | G11: Оргнизация Ведомство | I11: Лучший результат | J11: Выполненный разряд | K11: Очки | L11: Ф.И.О. тренера | AF11: 455 | AG11: 410 | AH11: 365 | AI11: 320 | AJ11: 280 | AK11: 240 | AL11: 220 | AM11: 200 | AN11: 180
A12: 1 | B12: =VLOOKUP($M12,УЧАСТНИКИ!$A$2:$L$1099,3,FALSE) -> Бондаренко Елизавета | C12: =VLOOKUP($M12,УЧАСТНИКИ!$A$2:$L$1099,4,FALSE) -> 01.07.1999 | D12: =VLOOKUP($M12,УЧАСТНИКИ!$A$2:$L$1099,8,FALSE) -> МС | E12: =VLOOKUP($M12,УЧАСТНИКИ!$A$2:$L$1099,5,FALSE) -> Московская область Ростовская область | F12: =VLOOKUP($M12,УЧАСТНИКИ!$A$2:$L$1099,7,FALSE) -> 0 | G12: =VLOOKUP($M12,УЧАСТНИКИ!$A$2:$L$1099,11,FALSE) -> ГБУ МО "ЦСП ОВС", ГБПОУ МО "УОР № 2", МБУ ДО "ДЮСШ № 1" | H12: 435 | I12: =IF(H12=0,0,CONCATENATE(MID(H12,1,1),".",MID(H12,2,2))) -> 4.35 | J12: =IF(H12>=$AF$11,"МСМК",IF(H12>=$AG$11,"МС",IF(H12>=$AH$11,"КМС",IF(H12>=$AI$11,"1",IF(H12>=$AJ$11,"2",IF(H12>=$AK$11,"3",IF(H12>=$AL$11,"1юн",IF(H12>=$AM$11,"2юн",IF(H12>=$AN$11,"3юн",IF(H12<$AN$11,"б/р")))))))))) -> МС | K12: 20+5 | L12: =VLOOKUP($M12,УЧАСТНИКИ!$A$2:$L$1099,10,FALSE) -> Бондаренко В.Г., Ишрефова Х. | M12: =M40 -> 449
A13: 2 | B13: =VLOOKUP($M13,УЧАСТНИКИ!$A$2:$L$1099,3,FALSE) -> Швыдкина Татьяна | C13: =VLOOKUP($M13,УЧАСТНИКИ!$A$2:$L$1099,4,FALSE) -> 08.05.1990 | D13: =VLOOKUP($M13,УЧАСТНИКИ!$A$2:$L$1099,8,FALSE) -> МС | E13: =VLOOKUP($M13,УЧАСТНИКИ!$A$2:$L$1099,5,FALSE) -> Москва Брянская область | F13: =VLOOKUP($M13,УЧАСТНИКИ!$A$2:$L$1099,7,FALSE) -> 0 | G13: =VLOOKUP($M13,УЧАСТНИКИ!$A$2:$L$1099,11,FALSE) -> ГБУ "СШОР "Юность Москвы" Москомспорта, ГБУ БО СШОР по легкой атлетике им. В.Д. Самотесова. | H13: 425 | I13: =IF(H13=0,0,CONCATENATE(MID(H13,1,1),".",MID(H13,2,2))) -> 4.25 | J13: =IF(H13>=$AF$11,"МСМК",IF(H13>=$AG$11,"МС",IF(H13>=$AH$11,"КМС",IF(H13>=$AI$11,"1",IF(H13>=$AJ$11,"2",IF(H13>=$AK$11,"3",IF(H13>=$AL$11,"1юн",IF(H13>=$AM$11,"2юн",IF(H13>=$AN$11,"3юн",IF(H13<$AN$11,"б/р")))))))))) -> МС | K13: 17+5 | L13: =VLOOKUP($M13,УЧАСТНИКИ!$A$2:$L$1099,10,FALSE) -> Хайкин В.Е., Трубин Ю.Н. | M13: =M41 -> 42
A14: 3 | B14: =VLOOKUP($M14,УЧАСТНИКИ!$A$2:$L$1099,3,FALSE) -> Иванова Ирина | C14: =VLOOKUP($M14,УЧАСТНИКИ!$A$2:$L$1099,4,FALSE) -> 19.04.1996 | D14: =VLOOKUP($M14,УЧАСТНИКИ!$A$2:$L$1099,8,FALSE) -> МС | E14: =VLOOKUP($M14,УЧАСТНИКИ!$A$2:$L$1099,5,FALSE) -> Омская область | F14: =VLOOKUP($M14,УЧАСТНИКИ!$A$2:$L$1099,7,FALSE) -> 0 | G14: =VLOOKUP($M14,УЧАСТНИКИ!$A$2:$L$1099,11,FALSE) -> БУ ОО "ООЦСП", БУ ОО "СШОР", ФГБУ ПОО "Сибирское ГУОР" | H14: 410 | I14: =IF(H14=0,0,CONCATENATE(MID(H14,1,1),".",MID(H14,2,2))) -> 4.10 | J14: =IF(H14>=$AF$11,"МСМК",IF(H14>=$AG$11,"МС",IF(H14>=$AH$11,"КМС",IF(H14>=$AI$11,"1",IF(H14>=$AJ$11,"2",IF(H14>=$AK$11,"3",IF(H14>=$AL$11,"1юн",IF(H14>=$AM$11,"2юн",IF(H14>=$AN$11,"3юн",IF(H14<$AN$11,"б/р")))))))))) -> МС | K14: 15+5 | L14: =VLOOKUP($M14,УЧАСТНИКИ!$A$2:$L$1099,10,FALSE) -> Огвоздина Т.В., Сергеева Е.В. | M14: =M42 -> 113
A15: 4 | B15: =VLOOKUP($M15,УЧАСТНИКИ!$A$2:$L$1099,3,FALSE) -> Гутенкова Дарья | C15: =VLOOKUP($M15,УЧАСТНИКИ!$A$2:$L$1099,4,FALSE) -> 22.07.1996 | D15: =VLOOKUP($M15,УЧАСТНИКИ!$A$2:$L$1099,8,FALSE) -> МС | E15: =VLOOKUP($M15,УЧАСТНИКИ!$A$2:$L$1099,5,FALSE) -> Московская область | F15: =VLOOKUP($M15,УЧАСТНИКИ!$A$2:$L$1099,7,FALSE) -> 0 | G15: =VLOOKUP($M15,УЧАСТНИКИ!$A$2:$L$1099,11,FALSE) -> МАУ "КСШОР" | H15: 410 | I15: =IF(H15=0,0,CONCATENATE(MID(H15,1,1),".",MID(H15,2,2))) -> 4.10 | J15: =IF(H15>=$AF$11,"МСМК",IF(H15>=$AG$11,"МС",IF(H15>=$AH$11,"КМС",IF(H15>=$AI$11,"1",IF(H15>=$AJ$11,"2",IF(H15>=$AK$11,"3",IF(H15>=$AL$11,"1юн",IF(H15>=$AM$11,"2юн",IF(H15>=$AN$11,"3юн",IF(H15<$AN$11,"б/р")))))))))) -> МС | K15: =VLOOKUP($M15,УЧАСТНИКИ!$A$2:$L$1099,9,FALSE) -> Л | L15: =VLOOKUP($M15,УЧАСТНИКИ!$A$2:$L$1099,10,FALSE) -> Гутенкова Г.Н., Смольяков С.М. | M15: =M43 -> 450
A16: 5 | B16: =VLOOKUP($M16,УЧАСТНИКИ!$A$2:$L$1099,3,FALSE) -> Петрова Людмила | C16: =VLOOKUP($M16,УЧАСТНИКИ!$A$2:$L$1099,4,FALSE) -> 15.12.1993 | D16: =VLOOKUP($M16,УЧАСТНИКИ!$A$2:$L$1099,8,FALSE) -> МС | E16: =VLOOKUP($M16,УЧАСТНИКИ!$A$2:$L$1099,5,FALSE) -> Челябинская область | F16: =VLOOKUP($M16,УЧАСТНИКИ!$A$2:$L$1099,7,FALSE) -> 0 | G16: =VLOOKUP($M16,УЧАСТНИКИ!$A$2:$L$1099,11,FALSE) -> ОКУ "РУЦОПЛА Челябинской области", МБУ СШОР № 2 по легкой атлетике имени Л.Н.Мосеева г.Челябинск | H16: 410 | I16: =IF(H16=0,0,CONCATENATE(MID(H16,1,1),".",MID(H16,2,2))) -> 4.10 | J16: =IF(H16>=$AF$11,"МСМК",IF(H16>=$AG$11,"МС",IF(H16>=$AH$11,"КМС",IF(H16>=$AI$11,"1",IF(H16>=$AJ$11,"2",IF(H16>=$AK$11,"3",IF(H16>=$AL$11,"1юн",IF(H16>=$AM$11,"2юн",IF(H16>=$AN$11,"3юн",IF(H16<$AN$11,"б/р")))))))))) -> МС | K16: 14+5 | L16: =VLOOKUP($M16,УЧАСТНИКИ!$A$2:$L$1099,10,FALSE) -> Копылев С.С., Бибикин Е.В. | M16: =M44 -> 58
A17: 6 | B17: =VLOOKUP($M17,УЧАСТНИКИ!$A$2:$L$1099,3,FALSE) -> Калмыкова (Казека) Екатерина | C17: =VLOOKUP($M17,УЧАСТНИКИ!$A$2:$L$1099,4,FALSE) -> 07.10.1990 | D17: =VLOOKUP($M17,УЧАСТНИКИ!$A$2:$L$1099,8,FALSE) -> МС | E17: =VLOOKUP($M17,УЧАСТНИКИ!$A$2:$L$1099,5,FALSE) -> Кировская область Челябинская область | F17: =VLOOKUP($M17,УЧАСТНИКИ!$A$2:$L$1099,7,FALSE) -> 0 | G17: =VLOOKUP($M17,УЧАСТНИКИ!$A$2:$L$1099,11,FALSE) -> КОГАУ "ВятСШОР" | H17: 395 | I17: =IF(H17=0,0,CONCATENATE(MID(H17,1,1),".",MID(H17,2,2))) -> 3.95 | J17: =IF(H17>=$AF$11,"МСМК",IF(H17>=$AG$11,"МС",IF(H17>=$AH$11,"КМС",IF(H17>=$AI$11,"1",IF(H17>=$AJ$11,"2",IF(H17>=$AK$11,"3",IF(H17>=$AL$11,"1юн",IF(H17>=$AM$11,"2юн",IF(H17>=$AN$11,"3юн",IF(H17<$AN$11,"б/р")))))))))) -> КМС | K17: 13 | L17: =VLOOKUP($M17,УЧАСТНИКИ!$A$2:$L$1099,10,FALSE) -> Трушков А.Н. | M17: =M45 -> 254
A18: 7 | B18: =VLOOKUP($M18,УЧАСТНИКИ!$A$2:$L$1099,3,FALSE) -> Захаруткина Мария | C18: =VLOOKUP($M18,УЧАСТНИКИ!$A$2:$L$1099,4,FALSE) -> 14.08.1996 | D18: =VLOOKUP($M18,УЧАСТНИКИ!$A$2:$L$1099,8,FALSE) -> МС | E18: =VLOOKUP($M18,УЧАСТНИКИ!$A$2:$L$1099,5,FALSE) -> Москва | F18: =VLOOKUP($M18,УЧАСТНИКИ!$A$2:$L$1099,7,FALSE) -> 0 | G18: =VLOOKUP($M18,УЧАСТНИКИ!$A$2:$L$1099,11,FALSE) -> ГБУ "МГФСО" Москомспорта | H18: 395 | I18: =IF(H18=0,0,CONCATENATE(MID(H18,1,1),".",MID(H18,2,2))) -> 3.95 | J18: =IF(H18>=$AF$11,"МСМК",IF(H18>=$AG$11,"МС",IF(H18>=$AH$11,"КМС",IF(H18>=$AI$11,"1",IF(H18>=$AJ$11,"2",IF(H18>=$AK$11,"3",IF(H18>=$AL$11,"1юн",IF(H18>=$AM$11,"2юн",IF(H18>=$AN$11,"3юн",IF(H18<$AN$11,"б/р")))))))))) -> КМС | K18: 12 | L18: =VLOOKUP($M18,УЧАСТНИКИ!$A$2:$L$1099,10,FALSE) -> Кучеряну М.И., Кучеряну С.М., | M18: =M46 -> 343
A19: 8 | B19: =VLOOKUP($M19,УЧАСТНИКИ!$A$2:$L$1099,3,FALSE) -> Нерубенко Людмила | C19: =VLOOKUP($M19,УЧАСТНИКИ!$A$2:$L$1099,4,FALSE) -> 20.04.1998 | D19: =VLOOKUP($M19,УЧАСТНИКИ!$A$2:$L$1099,8,FALSE) -> КМС | E19: =VLOOKUP($M19,УЧАСТНИКИ!$A$2:$L$1099,5,FALSE) -> Белгородская область | F19: =VLOOKUP($M19,УЧАСТНИКИ!$A$2:$L$1099,7,FALSE) -> 0 | G19: =VLOOKUP($M19,УЧАСТНИКИ!$A$2:$L$1099,11,FALSE) -> МБУДО ДЮСШ №2 г. Белгород | H19: 395 | I19: =IF(H19=0,0,CONCATENATE(MID(H19,1,1),".",MID(H19,2,2))) -> 3.95 | J19: =IF(H19>=$AF$11,"МСМК",IF(H19>=$AG$11,"МС",IF(H19>=$AH$11,"КМС",IF(H19>=$AI$11,"1",IF(H19>=$AJ$11,"2",IF(H19>=$AK$11,"3",IF(H19>=$AL$11,"1юн",IF(H19>=$AM$11,"2юн",IF(H19>=$AN$11,"3юн",IF(H19<$AN$11,"б/р")))))))))) -> КМС | K19: 11 | L19: =VLOOKUP($M19,УЧАСТНИКИ!$A$2:$L$1099,10,FALSE) -> Кушкин В.Ю. | M19: =M47 -> 491
A20: 9 | B20: =VLOOKUP($M20,УЧАСТНИКИ!$A$2:$L$1099,3,FALSE) -> Самарская Елена | C20: =VLOOKUP($M20,УЧАСТНИКИ!$A$2:$L$1099,4,FALSE) -> 16.04.1999 | D20: =VLOOKUP($M20,УЧАСТНИКИ!$A$2:$L$1099,8,FALSE) -> КМС | E20: =VLOOKUP($M20,УЧАСТНИКИ!$A$2:$L$1099,5,FALSE) -> Омская область | F20: =VLOOKUP($M20,УЧАСТНИКИ!$A$2:$L$1099,7,FALSE) -> 0 | G20: =VLOOKUP($M20,УЧАСТНИКИ!$A$2:$L$1099,11,FALSE) -> ФГБОУ ВО СибГУФК | H20: 380 | I20: =IF(H20=0,0,CONCATENATE(MID(H20,1,1),".",MID(H20,2,2))) -> 3.80 | J20: =IF(H20>=$AF$11,"МСМК",IF(H20>=$AG$11,"МС",IF(H20>=$AH$11,"КМС",IF(H20>=$AI$11,"1",IF(H20>=$AJ$11,"2",IF(H20>=$AK$11,"3",IF(H20>=$AL$11,"1юн",IF(H20>=$AM$11,"2юн",IF(H20>=$AN$11,"3юн",IF(H20<$AN$11,"б/р")))))))))) -> КМС | K20: 10 | L20: =VLOOKUP($M20,УЧАСТНИКИ!$A$2:$L$1099,10,FALSE) -> Колмаков С.В. | M20: =M48 -> 117
A21: 10 | B21: =VLOOKUP($M21,УЧАСТНИКИ!$A$2:$L$1099,3,FALSE) -> Тимофеева Рената | C21: =VLOOKUP($M21,УЧАСТНИКИ!$A$2:$L$1099,4,FALSE) -> 12.09.2002 | D21: =VLOOKUP($M21,УЧАСТНИКИ!$A$2:$L$1099,8,FALSE) -> 1 | E21: =VLOOKUP($M21,УЧАСТНИКИ!$A$2:$L$1099,5,FALSE) -> Омская область | F21: =VLOOKUP($M21,УЧАСТНИКИ!$A$2:$L$1099,7,FALSE) -> 0 | G21: =VLOOKUP($M21,УЧАСТНИКИ!$A$2:$L$1099,11,FALSE) -> ФГБУ ПОО "Сибирское ГУОР",БУ ОО "ООЦСП" | H21: 365 | I21: =IF(H21=0,0,CONCATENATE(MID(H21,1,1),".",MID(H21,2,2))) -> 3.65 | J21: =IF(H21>=$AF$11,"МСМК",IF(H21>=$AG$11,"МС",IF(H21>=$AH$11,"КМС",IF(H21>=$AI$11,"1",IF(H21>=$AJ$11,"2",IF(H21>=$AK$11,"3",IF(H21>=$AL$11,"1юн",IF(H21>=$AM$11,"2юн",IF(H21>=$AN$11,"3юн",IF(H21<$AN$11,"б/р")))))))))) -> КМС | K21: 9 | L21: =VLOOKUP($M21,УЧАСТНИКИ!$A$2:$L$1099,10,FALSE) -> Колмаков С.В., Несговорова О.В. | M21: =M49 -> 118
B22: =VLOOKUP($M22,УЧАСТНИКИ!$A$2:$L$1099,3,FALSE) -> Яковлева Мария | C22: =VLOOKUP($M22,УЧАСТНИКИ!$A$2:$L$1099,4,FALSE) -> 10.06.2004 | D22: =VLOOKUP($M22,УЧАСТНИКИ!$A$2:$L$1099,8,FALSE) -> КМС | E22: =VLOOKUP($M22,УЧАСТНИКИ!$A$2:$L$1099,5,FALSE) -> Московская область | F22: =VLOOKUP($M22,УЧАСТНИКИ!$A$2:$L$1099,7,FALSE) -> 0 | G22: =VLOOKUP($M22,УЧАСТНИКИ!$A$2:$L$1099,11,FALSE) -> МАУ "КСШОР" | I22: NM | K22: =VLOOKUP($M22,УЧАСТНИКИ!$A$2:$L$1099,9,FALSE) -> Л | L22: =VLOOKUP($M22,УЧАСТНИКИ!$A$2:$L$1099,10,FALSE) -> Гутенкова Г.Н., Смольяков С.М. | M22: =M50 -> 475
B23: =VLOOKUP($M23,УЧАСТНИКИ!$A$2:$L$1099,3,FALSE) -> Меньшикова Виктория | C23: =VLOOKUP($M23,УЧАСТНИКИ!$A$2:$L$1099,4,FALSE) -> 09.05.2004 | D23: =VLOOKUP($M23,УЧАСТНИКИ!$A$2:$L$1099,8,FALSE) -> КМС | E23: =VLOOKUP($M23,УЧАСТНИКИ!$A$2:$L$1099,5,FALSE) -> Краснодарский край | F23: =VLOOKUP($M23,УЧАСТНИКИ!$A$2:$L$1099,7,FALSE) -> 0 | G23: =VLOOKUP($M23,УЧАСТНИКИ!$A$2:$L$1099,11,FALSE) -> ГБУ КК "ЦОП по легкой атлетике" | I23: NM | K23: =VLOOKUP($M23,УЧАСТНИКИ!$A$2:$L$1099,9,FALSE) -> Л | L23: =VLOOKUP($M23,УЧАСТНИКИ!$A$2:$L$1099,10,FALSE) -> Обушный Д.А. | M23: =M51 -> 488
B26: Главный судья соревнований | J26: П. Безъязычный, ССВК, г.Краснодар
B28: Главный секретарь соревнований | J28: Е. Клочкова, ССВК, г.Волгоград
N34: Приложение - технический протокол
N35: Прыжок с шестом
N36: =d_4 -> ЖЕНЩИНЫ
V37: финальные соревнования | AA37: 0.54166667 | AC37: =d_1 -> 28.05.2019г.
N38: № п/п | O38: Фамилия, имя | P38: Высоты | AC38: А | AD38: Б | AE38: Лучший рез-тат
M39: номер | P39: 365 | Q39: 380 | R39: 395 | S39: 410 | T39: 425 | U39: 435 | V39: 445 | W39: 451 | X39: 456
M40: 449 | N40: 1 | O40: =VLOOKUP($M40,УЧАСТНИКИ!$A$2:$L$1099,3,FALSE) -> Бондаренко Елизавета | T40: 0 | U40: 0 | V40: ххх | AC40: 1 | AD40: 0 | AE40: 435
M41: 42 | N41: 2 | O41: =VLOOKUP($M41,УЧАСТНИКИ!$A$2:$L$1099,3,FALSE) -> Швыдкина Татьяна | S41: 0 | T41: 0 | U41: ххх | AC41: 1 | AD41: 0 | AE41: 425
M42: 113 | N42: 3 | O42: =VLOOKUP($M42,УЧАСТНИКИ!$A$2:$L$1099,3,FALSE) -> Иванова Ирина | S42: 0 | T42: ххх | AC42: 1 | AD42: 0 | AE42: 410
M43: 450 | N43: 4 | O43: =VLOOKUP($M43,УЧАСТНИКИ!$A$2:$L$1099,3,FALSE) -> Гутенкова Дарья | R43: хх0 | S43: х0 | T43: ххх | AC43: 2 | AD43: 3 | AE43: 410
M44: 58 | N44: 5 | O44: =VLOOKUP($M44,УЧАСТНИКИ!$A$2:$L$1099,3,FALSE) -> Петрова Людмила | R44: 0 | S44: хх0 | T44: ххх | AC44: 3 | AD44: 2 | AE44: 410
M45: 254 | N45: 6 | O45: =VLOOKUP($M45,УЧАСТНИКИ!$A$2:$L$1099,3,FALSE) -> Калмыкова (Казека) Екатерина | Q45: х0 | R45: 0 | S45: ххх | AC45: 1 | AD45: 1 | AE45: 395
M46: 343 | N46: 7 | O46: =VLOOKUP($M46,УЧАСТНИКИ!$A$2:$L$1099,3,FALSE) -> Захаруткина Мария | Q46: 0 | R46: х0 | S46: ххх | AC46: 2 | AD46: 1 | AE46: 395
M47: 491 | N47: 8 | O47: =VLOOKUP($M47,УЧАСТНИКИ!$A$2:$L$1099,3,FALSE) -> Нерубенко Людмила | P47: 0 | Q47: 0 | R47: хх0 | S47: ххх | AC47: 3 | AD47: 2 | AE47: 395
M48: 117 | N48: 9 | O48: =VLOOKUP($M48,УЧАСТНИКИ!$A$2:$L$1099,3,FALSE) -> Самарская Елена | P48: 0 | Q48: 0 | R48: ххх | AC48: 1 | AD48: 0 | AE48: 380
M49: 118 | N49: 10 | O49: =VLOOKUP($M49,УЧАСТНИКИ!$A$2:$L$1099,3,FALSE) -> Тимофеева Рената | P49: х0 | Q49: ххх | AC49: 2 | AD49: 1 | AE49: 365
M50: 475 | N50: 11 | O50: =VLOOKUP($M50,УЧАСТНИКИ!$A$2:$L$1099,3,FALSE) -> Яковлева Мария | P50: ххх | AE50: NM
M51: 488 | N51: 12 | O51: =VLOOKUP($M51,УЧАСТНИКИ!$A$2:$L$1099,3,FALSE) -> Меньшикова Виктория | P51: ххх | AE51: NM

Sheet И Д-Ж
A1: =Name_1 -> МИНИСТЕРСТВО ФИЗИЧЕСКОЙ КУЛЬТУРЫ И СПОРТА РОССИЙСКОЙ ФЕДЕРАЦИИ
A2: =Name_2 -> ВСЕРОССИЙСКАЯ ФЕДЕРАЦИЯ ЛЕГКОЙ АТЛЕТИКИ
A3: =Name_3 -> МИНИСТЕРСТВО ФИЗИЧЕСКОЙ КУЛЬТУРЫ И СПОРТА КРАСНОДАРСКОГО КРАЯ
A4: =Name_6 -> ФЕДЕРАЦИЯ ЛЕГКОЙ АТЛЕТИКИ КРАСНОДАРСКОГО КРАЯ
A5: КУБОК РОССИИ
A6: =d_4 -> ЖЕНЩИНЫ
A7: ИТОГОВЫЙ ПРОТОКОЛ
A8: Прыжок в длину
W9: =d_5 -> г. Сочи, ул. Бзугу 2, ст. им. Славы Метревели
T10: финальные соревнования | U10: =d_1 -> 28.05.2019г. | V10: 0.63888889 | W10: =d_6 -> t° +25 вл. 76%
A11: Занятое место | B11: Фамилия, имя | C11: Дата рождения | D11: Заявл. разряд | E11: Территория | F11: Округ | G11: Оргнизация Ведомство | N11: Результаты | T11: Лучший результат | U11: Выполненный разряд | V11: Очки | W11: Ф.И.О. тренера | Y11: мсмк | Z11: мс | AA11: кмс | AB11: 1 | AC11: 2 | AD11: 3 | AE11: 1ю | AF11: 2ю | AG11: 3ю
H12: 1 | I12: 2 | J12: 3 | K12: 4 | L12: 5 | M12: 6 | N12: 1 | O12: 2 | P12: 3 | Q12: 4 | R12: 5 | S12: 6 | Y12: 6.65 | Z12: 6.25 | AA12: 5.9 | AB12: 5.55 | AC12: 5.1 | AD12: 4.7 | AE12: 4.3 | AF12: 4 | AG12: 3.6
A13: =RANK(T13,$T$13:$T$145,0) -> 1 | B13: =VLOOKUP($X13,УЧАСТНИКИ!$A$2:$L$1099,3,FALSE) -> Никулина Яна | C13: =VLOOKUP($X13,УЧАСТНИКИ!$A$2:$L$1099,4,FALSE) -> 02.07.1990 | D13: =VLOOKUP($X13,УЧАСТНИКИ!$A$2:$L$1099,8,FALSE) -> МС | E13: =VLOOKUP($X13,УЧАСТНИКИ!$A$2:$L$1099,5,FALSE) -> Хабаровский край | F13: =VLOOKUP($R13,УЧАСТНИКИ!$A$2:$L$1099,7,FALSE) -> #N/A | G13: =VLOOKUP($X13,УЧАСТНИКИ!$A$2:$L$1099,11,FALSE) -> ВС КГАУ "ХКЦРС", КГАУ ХКСШОР, Филиал ФАУ МО РФ "ЦСКА" (СКА г. Хабаровск) | H13: 638 | I13: 635 | J13: 623 | K13: 605 | L13: 614 | M13: 654 | N13: =H13/100 -> 6.38 | O13: =I13/100 -> 6.35 | P13: =J13/100 -> 6.23 | Q13: =K13/100 -> 6.05 | R13: =L13/100 -> 6.14 | S13: =M13/100 -> 6.54 | T13: =MAX(N13,O13,P13,Q13,R13,S13) -> 6.54 | U13: =IF(T13>=$Y$12,"МСМК",IF(T13>=$Z$12,"МС",IF(T13>=$AA$12,"КМС",IF(T13>=$AB$12,"1",IF(T13>=$AC$12,"2",IF(T13>=$AD$12,"3",IF(T13>=$AE$12,"1юн",IF(T13>=$AF$12,"2юн",IF(T13>=$AG$12,"3юн",IF(T13<$AG$12,"б/р")))))))))) -> МС | V13: 20+5 | W13: =VLOOKUP($X13,УЧАСТНИКИ!$A$2:$L$1099,10,FALSE) -> Турулина Т.Н., Зигизмунд О.Б., Хритова Г.В. | X13: 127 | Y13: =A$21 -> 5
H14: -5 | I14: -7 | J14: -1 | K14: -2 | L14: 1 | M14: -6 | N14: =H14/10 -> -0.5 | O14: =I14/10 -> -0.7 | P14: =J14/10 -> -0.1 | Q14: =K14/10 -> -0.2 | R14: =L14/10 -> 0.1 | S14: =M14/10 -> -0.6 | Y14: =A$21 -> 5
A15: =RANK(T15,$T$13:$T$145,0) -> 2 | B15: =VLOOKUP($X15,УЧАСТНИКИ!$A$2:$L$1099,3,FALSE) -> Конева Екатерина | C15: =VLOOKUP($X15,УЧАСТНИКИ!$A$2:$L$1099,4,FALSE) -> 25.09.1988 | D15: =VLOOKUP($X15,УЧАСТНИКИ!$A$2:$L$1099,8,FALSE) -> ЗМС | E15: =VLOOKUP($X15,УЧАСТНИКИ!$A$2:$L$1099,5,FALSE) -> Краснодарский край Хабаровский край | F15: =VLOOKUP($R15,УЧАСТНИКИ!$A$2:$L$1099,7,FALSE) -> #N/A | G15: =VLOOKUP($X15,УЧАСТНИКИ!$A$2:$L$1099,11,FALSE) -> ГБУ КК "РЦСП по легкой атлетике", ГБУ КК "ЦОП по легкой атлетике", МБОУ ДО ДЮСШ "Максимум" | H15: 636 | I15: 345 | J15: 642 | K15: 599 | M15: 648 | N15: =H15/100 -> 6.36 | O15: =I15/100 -> 3.45 | P15: =J15/100 -> 6.42 | Q15: =K15/100 -> 5.99 | R15: х | S15: =M15/100 -> 6.48 | T15: =MAX(N15,O15,P15,Q15,R15,S15) -> 6.48 | U15: =IF(T15>=$Y$12,"МСМК",IF(T15>=$Z$12,"МС",IF(T15>=$AA$12,"КМС",IF(T15>=$AB$12,"1",IF(T15>=$AC$12,"2",IF(T15>=$AD$12,"3",IF(T15>=$AE$12,"1юн",IF(T15>=$AF$12,"2юн",IF(T15>=$AG$12,"3юн",IF(T15<$AG$12,"б/р")))))))))) -> МС | V15: 17+5 | W15: =VLOOKUP($X15,УЧАСТНИКИ!$A$2:$L$1099,10,FALSE) -> Цыплаков А.В., Лупатов Р.М. | X15: 150 | Y15: =A$39 -> 14
H16: -3 | I16: 1 | J16: 0 | K16: -8 | M16: -4 | N16: =H16/10 -> -0.3 | O16: =I16/10 -> 0.1 | P16: =J16/10 -> 0 | Q16: =K16/10 -> -0.8 | S16: =M16/10 -> -0.4 | Y16: =A$39 -> 14
A17: =RANK(T17,$T$13:$T$145,0) -> 3 | B17: =VLOOKUP($X17,УЧАСТНИКИ!$A$2:$L$1099,3,FALSE) -> Семашко (Мосина) Вероника | C17: =VLOOKUP($X17,УЧАСТНИКИ!$A$2:$L$1099,4,FALSE) -> 17.10.1990 | D17: =VLOOKUP($X17,УЧАСТНИКИ!$A$2:$L$1099,8,FALSE) -> МСМК | E17: =VLOOKUP($X17,УЧАСТНИКИ!$A$2:$L$1099,5,FALSE) -> Санкт-Петербург | F17: =VLOOKUP($R17,УЧАСТНИКИ!$A$2:$L$1099,7,FALSE) -> #N/A | G17: =VLOOKUP($X17,УЧАСТНИКИ!$A$2:$L$1099,11,FALSE) -> СПб ГБУ ЦОП "ШВСМ по легкой атлетике" | H17: 600 | I17: 610 | J17: 619 | L17: 628 | M17: 644 | N17: =H17/100 -> 6 | O17: =I17/100 -> 6.1 | P17: =J17/100 -> 6.19 | Q17: х | R17: =L17/100 -> 6.28 | S17: =M17/100 -> 6.44 | T17: =MAX(N17,O17,P17,Q17,R17,S17) -> 6.44 | U17: =IF(T17>=$Y$12,"МСМК",IF(T17>=$Z$12,"МС",IF(T17>=$AA$12,"КМС",IF(T17>=$AB$12,"1",IF(T17>=$AC$12,"2",IF(T17>=$AD$12,"3",IF(T17>=$AE$12,"1юн",IF(T17>=$AF$12,"2юн",IF(T17>=$AG$12,"3юн",IF(T17<$AG$12,"б/р")))))))))) -> МС | V17: 15+5 | W17: =VLOOKUP($X17,УЧАСТНИКИ!$A$2:$L$1099,10,FALSE) -> Плутахин В.В. | X17: 305 | Y17: =A$33 -> 11
H18: 0 | I18: 1 | J18: 4 | K18: 1 | L18: 2 | M18: -2 | N18: =H18/10 -> 0 | O18: =I18/10 -> 0.1 | P18: =J18/10 -> 0.4 | Q18: =K18/10 -> 0.1 | R18: =L18/10 -> 0.2 | S18: =M18/10 -> -0.2 | Y18: =A$33 -> 11
A19: =RANK(T19,$T$13:$T$145,0) -> 4 | B19: =VLOOKUP($X19,УЧАСТНИКИ!$A$2:$L$1099,3,FALSE) -> Кропивко Екатерина | C19: =VLOOKUP($X19,УЧАСТНИКИ!$A$2:$L$1099,4,FALSE) -> 13.06.1997 | D19: =VLOOKUP($X19,УЧАСТНИКИ!$A$2:$L$1099,8,FALSE) -> МС | E19: =VLOOKUP($X19,УЧАСТНИКИ!$A$2:$L$1099,5,FALSE) -> Москва Ставропольский край | F19: =VLOOKUP($R19,УЧАСТНИКИ!$A$2:$L$1099,7,FALSE) -> #N/A | G19: =VLOOKUP($X19,УЧАСТНИКИ!$A$2:$L$1099,11,FALSE) -> ГБУ "ЦОП по легкой атлетике" Москомспорта, ГБУ СК "РЦСП" | I19: 641 | K19: 638 | N19: х | O19: =I19/100 -> 6.41 | P19: х | Q19: =K19/100 -> 6.38 | R19: х | S19: х | T19: =MAX(N19,O19,P19,Q19,R19,S19) -> 6.41 | U19: =IF(T19>=$Y$12,"МСМК",IF(T19>=$Z$12,"МС",IF(T19>=$AA$12,"КМС",IF(T19>=$AB$12,"1",IF(T19>=$AC$12,"2",IF(T19>=$AD$12,"3",IF(T19>=$AE$12,"1юн",IF(T19>=$AF$12,"2юн",IF(T19>=$AG$12,"3юн",IF(T19<$AG$12,"б/р")))))))))) -> МС | V19: 14+5 | W19: =VLOOKUP($X19,УЧАСТНИКИ!$A$2:$L$1099,10,FALSE) -> Шемигон О.С., Кувалдина Т.В., Шемигон С.С. | X19: 353 | Y19: =A$43 -> 16
I20: 1 | K20: -6 | O20: =I20/10 -> 0.1 | Q20: =K20/10 -> -0.6 | Y20: =A$43 -> 16
A21: =RANK(T21,$T$13:$T$145,0) -> 5 | B21: =VLOOKUP($X21,УЧАСТНИКИ!$A$2:$L$1099,3,FALSE) -> Лукьяненкова Полина | C21: =VLOOKUP($X21,УЧАСТНИКИ!$A$2:$L$1099,4,FALSE) -> 15.07.1998 | D21: =VLOOKUP($X21,УЧАСТНИКИ!$A$2:$L$1099,8,FALSE) -> МС | E21: =VLOOKUP($X21,УЧАСТНИКИ!$A$2:$L$1099,5,FALSE) -> Краснодарский край | F21: =VLOOKUP($R21,УЧАСТНИКИ!$A$2:$L$1099,7,FALSE) -> #N/A | G21: =VLOOKUP($X21,УЧАСТНИКИ!$A$2:$L$1099,11,FALSE) -> ГБУ КК "РЦСП по легкой атлетике", ГБУ КК "ЦОП по легкой атлетике" | H21: 611 | I21: 613 | J21: 630 | K21: 621 | L21: 592 | M21: 629 | N21: =H21/100 -> 6.11 | O21: =I21/100 -> 6.13 | P21: =J21/100 -> 6.3 | Q21: =K21/100 -> 6.21 | R21: =L21/100 -> 5.92 | S21: =M21/100 -> 6.29 | T21: =MAX(N21,O21,P21,Q21,R21,S21) -> 6.3 | U21: =IF(T21>=$Y$12,"МСМК",IF(T21>=$Z$12,"МС",IF(T21>=$AA$12,"КМС",IF(T21>=$AB$12,"1",IF(T21>=$AC$12,"2",IF(T21>=$AD$12,"3",IF(T21>=$AE$12,"1юн",IF(T21>=$AF$12,"2юн",IF(T21>=$AG$12,"3юн",IF(T21<$AG$12,"б/р")))))))))) -> МС | V21: 13+5 | W21: =VLOOKUP($X21,УЧАСТНИКИ!$A$2:$L$1099,10,FALSE) -> Смирнов В.Ф., Григорьева Е.Н., Лияскин А.С. | X21: 155 | Y21: =A$17 -> 3
H22: -2 | I22: -4 | J22: -7 | K22: 1 | L22: 3 | M22: -1 | N22: =H22/10 -> -0.2 | O22: =I22/10 -> -0.4 | P22: =J22/10 -> -0.7 | Q22: =K22/10 -> 0.1 | R22: =L22/10 -> 0.3 | S22: =M22/10 -> -0.1 | Y22: =A$17 -> 3
A23: =RANK(T23,$T$13:$T$145,0) -> 6 | B23: =VLOOKUP($X23,УЧАСТНИКИ!$A$2:$L$1099,3,FALSE) -> Бирюкова (Деняева) Светлана | C23: =VLOOKUP($X23,УЧАСТНИКИ!$A$2:$L$1099,4,FALSE) -> 01.04.1991 | D23: =VLOOKUP($X23,УЧАСТНИКИ!$A$2:$L$1099,8,FALSE) -> МСМК | E23: =VLOOKUP($X23,УЧАСТНИКИ!$A$2:$L$1099,5,FALSE) -> Москва | F23: =VLOOKUP($R23,УЧАСТНИКИ!$A$2:$L$1099,7,FALSE) -> #N/A | G23: =VLOOKUP($X23,УЧАСТНИКИ!$A$2:$L$1099,11,FALSE) -> ГБУ "СШОР "Луч" Москомспорта | H23: 548 | I23: 609 | K23: 613 | L23: 581 | M23: 579 | N23: =H23/100 -> 5.48 | O23: =I23/100 -> 6.09 | P23: х | Q23: =K23/100 -> 6.13 | R23: =L23/100 -> 5.81 | S23: =M23/100 -> 5.79 | T23: =MAX(N23,O23,P23,Q23,R23,S23) -> 6.13 | U23: =IF(T23>=$Y$12,"МСМК",IF(T23>=$Z$12,"МС",IF(T23>=$AA$12,"КМС",IF(T23>=$AB$12,"1",IF(T23>=$AC$12,"2",IF(T23>=$AD$12,"3",IF(T23>=$AE$12,"1юн",IF(T23>=$AF$12,"2юн",IF(T23>=$AG$12,"3юн",IF(T23<$AG$12,"б/р")))))))))) -> КМС | V23: =VLOOKUP($X23,УЧАСТНИКИ!$A$2:$L$1099,9,FALSE) -> Л | W23: =VLOOKUP($X23,УЧАСТНИКИ!$A$2:$L$1099,10,FALSE) -> Тер-Аванесов Е.М., Соколов В.Ф., Климов А.Г. | X23: 333 | Y23: =A$45 -> 0
H24: -1 | I24: 2 | K24: 4 | L24: 0 | M24: 2 | N24: =H24/10 -> -0.1 | O24: =I24/10 -> 0.2 | Q24: =K24/10 -> 0.4 | R24: =L24/10 -> 0 | S24: =M24/10 -> 0.2 | Y24: =A$45 -> 0
A25: =RANK(T25,$T$13:$T$145,0) -> 7 | B25: =VLOOKUP($X25,УЧАСТНИКИ!$A$2:$L$1099,3,FALSE) -> Самитова (Ершова) Виктория | C25: =VLOOKUP($X25,УЧАСТНИКИ!$A$2:$L$1099,4,FALSE) -> 09.09.1994 | D25: =VLOOKUP($X25,УЧАСТНИКИ!$A$2:$L$1099,8,FALSE) -> МС | E25: =VLOOKUP($X25,УЧАСТНИКИ!$A$2:$L$1099,5,FALSE) -> Республика Татарстан | F25: =VLOOKUP($R25,УЧАСТНИКИ!$A$2:$L$1099,7,FALSE) -> #N/A | G25: =VLOOKUP($X25,УЧАСТНИКИ!$A$2:$L$1099,11,FALSE) -> МС РТ МАУ "СШ "Авиатор"" г. Казани | H25: 600 | I25: 611 | K25: 586 | N25: =H25/100 -> 6 | O25: =I25/100 -> 6.11 | P25: х | Q25: =K25/100 -> 5.86 | R25: х | S25: х | T25: =MAX(N25,O25,P25,Q25,R25,S25) -> 6.11 | U25: =IF(T25>=$Y$12,"МСМК",IF(T25>=$Z$12,"МС",IF(T25>=$AA$12,"КМС",IF(T25>=$AB$12,"1",IF(T25>=$AC$12,"2",IF(T25>=$AD$12,"3",IF(T25>=$AE$12,"1юн",IF(T25>=$AF$12,"2юн",IF(T25>=$AG$12,"3юн",IF(T25<$AG$12,"б/р")))))))))) -> КМС | V25: 12 | W25: =VLOOKUP($X25,УЧАСТНИКИ!$A$2:$L$1099,10,FALSE) -> Рынина Е.И., Мухамедов Г.А. | X25: 246 | Y25: =A$19 -> 4
H26: -4 | I26: -2 | J26: -3 | K26: 2 | L26: -1 | M26: -2 | N26: =H26/10 -> -0.4 | O26: =I26/10 -> -0.2 | P26: =J26/10 -> -0.3 | Q26: =K26/10 -> 0.2 | Y26: =A$19 -> 4
A27: =RANK(T27,$T$13:$T$145,0) -> 8 | B27: =VLOOKUP($X27,УЧАСТНИКИ!$A$2:$L$1099,3,FALSE) -> Евстюнина Александра | C27: =VLOOKUP($X27,УЧАСТНИКИ!$A$2:$L$1099,4,FALSE) -> 08.07.1993 | D27: =VLOOKUP($X27,УЧАСТНИКИ!$A$2:$L$1099,8,FALSE) -> МС | E27: =VLOOKUP($X27,УЧАСТНИКИ!$A$2:$L$1099,5,FALSE) -> Москва Республика Карелия | F27: =VLOOKUP($R27,УЧАСТНИКИ!$A$2:$L$1099,7,FALSE) -> #N/A | G27: =VLOOKUP($X27,УЧАСТНИКИ!$A$2:$L$1099,11,FALSE) -> ГБУ "ЦОП по легкой атлетике" Москомспорта | I27: 596 | L27: 605 | M27: 590 | N27: х | O27: =I27/100 -> 5.96 | P27: х | Q27: х | R27: =L27/100 -> 6.05 | S27: =M27/100 -> 5.9 | T27: =MAX(N27,O27,P27,Q27,R27,S27) -> 6.05 | U27: =IF(T27>=$Y$12,"МСМК",IF(T27>=$Z$12,"МС",IF(T27>=$AA$12,"КМС",IF(T27>=$AB$12,"1",IF(T27>=$AC$12,"2",IF(T27>=$AD$12,"3",IF(T27>=$AE$12,"1юн",IF(T27>=$AF$12,"2юн",IF(T27>=$AG$12,"3юн",IF(T27<$AG$12,"б/р")))))))))) -> КМС | V27: 11 | W27: =VLOOKUP($X27,УЧАСТНИКИ!$A$2:$L$1099,10,FALSE) -> Савинов Е.В., Шемигон О.С. | X27: 340 | Y27: =A$31 -> 10
I28: 3 | L28: -1 | M28: 0 | O28: =I28/10 -> 0.3 | R28: =L28/10 -> -0.1 | S28: =M28/10 -> 0 | Y28: =A$31 -> 10
A29: =RANK(T29,$T$13:$T$145,0) -> 9 | B29: =VLOOKUP($X29,УЧАСТНИКИ!$A$2:$L$1099,3,FALSE) -> Кавешникова Елeна | C29: =VLOOKUP($X29,УЧАСТНИКИ!$A$2:$L$1099,4,FALSE) -> 19.02.1998 | D29: =VLOOKUP($X29,УЧАСТНИКИ!$A$2:$L$1099,8,FALSE) -> КМС | E29: =VLOOKUP($X29,УЧАСТНИКИ!$A$2:$L$1099,5,FALSE) -> Московская область Свердловская область | F29: =VLOOKUP($R29,УЧАСТНИКИ!$A$2:$L$1099,7,FALSE) -> #N/A | G29: =VLOOKUP($X29,УЧАСТНИКИ!$A$2:$L$1099,11,FALSE) -> ГБУ МО "ЦСП ОВС", ГБПОУ МО "УОР № 2" | H29: 595 | I29: 591 | J29: 595 | N29: =H29/100 -> 5.95 | O29: =I29/100 -> 5.91 | P29: =J29/100 -> 5.95 | T29: =MAX(N29,O29,P29,Q29,R29,S29) -> 5.95 | U29: =IF(T29>=$Y$12,"МСМК",IF(T29>=$Z$12,"МС",IF(T29>=$AA$12,"КМС",IF(T29>=$AB$12,"1",IF(T29>=$AC$12,"2",IF(T29>=$AD$12,"3",IF(T29>=$AE$12,"1юн",IF(T29>=$AF$12,"2юн",IF(T29>=$AG$12,"3юн",IF(T29<$AG$12,"б/р")))))))))) -> КМС | V29: 10 | W29: =VLOOKUP($X29,УЧАСТНИКИ!$A$2:$L$1099,10,FALSE) -> Кавешников Б.В. | X29: 455 | Y29: =A$37 -> 13
H30: -1 | I30: 2 | J30: -1 | N30: =H30/10 -> -0.1 | O30: =I30/10 -> 0.2 | P30: =J30/10 -> -0.1 | Y30: =A$37 -> 13
A31: =RANK(T31,$T$13:$T$145,0) -> 10 | B31: =VLOOKUP($X31,УЧАСТНИКИ!$A$2:$L$1099,3,FALSE) -> Ляпунова Анастасия | C31: =VLOOKUP($X31,УЧАСТНИКИ!$A$2:$L$1099,4,FALSE) -> 11.06.1997 | D31: =VLOOKUP($X31,УЧАСТНИКИ!$A$2:$L$1099,8,FALSE) -> КМС | E31: =VLOOKUP($X31,УЧАСТНИКИ!$A$2:$L$1099,5,FALSE) -> Москва Саратовская область | F31: =VLOOKUP($R31,УЧАСТНИКИ!$A$2:$L$1099,7,FALSE) -> #N/A | G31: =VLOOKUP($X31,УЧАСТНИКИ!$A$2:$L$1099,11,FALSE) -> ГБУ "ЦОП по легкой атлетике" Москомспорта, МКУ "СШОР № 6" | H31: 566 | J31: 588 | N31: =H31/100 -> 5.66 | O31: х | P31: =J31/100 -> 5.88 | T31: =MAX(N31,O31,P31,Q31,R31,S31) -> 5.88 | U31: =IF(T31>=$Y$12,"МСМК",IF(T31>=$Z$12,"МС",IF(T31>=$AA$12,"КМС",IF(T31>=$AB$12,"1",IF(T31>=$AC$12,"2",IF(T31>=$AD$12,"3",IF(T31>=$AE$12,"1юн",IF(T31>=$AF$12,"2юн",IF(T31>=$AG$12,"3юн",IF(T31<$AG$12,"б/р")))))))))) -> 1 | V31: =VLOOKUP($X31,УЧАСТНИКИ!$A$2:$L$1099,9,FALSE) -> Л | W31: =VLOOKUP($X31,УЧАСТНИКИ!$A$2:$L$1099,10,FALSE) -> Шемигон О.С., Хозяшева С.А. | X31: 358 | Y31: =A$35 -> 12
H32: 0 | J32: -5 | N32: =H32/10 -> 0 | P32: =J32/10 -> -0.5 | Y32: =A$35 -> 12
A33: 11 | B33: =VLOOKUP($X33,УЧАСТНИКИ!$A$2:$L$1099,3,FALSE) -> Белевская Маргарита | C33: =VLOOKUP($X33,УЧАСТНИКИ!$A$2:$L$1099,4,FALSE) -> 26.05.1999 | D33: =VLOOKUP($X33,УЧАСТНИКИ!$A$2:$L$1099,8,FALSE) -> КМС | E33: =VLOOKUP($X33,УЧАСТНИКИ!$A$2:$L$1099,5,FALSE) -> Краснодарский край | F33: =VLOOKUP($R33,УЧАСТНИКИ!$A$2:$L$1099,7,FALSE) -> #N/A | G33: =VLOOKUP($X33,УЧАСТНИКИ!$A$2:$L$1099,11,FALSE) -> ГБУ КК "РЦСП по легкой атлетике", МБУ СШ "Лидер" | H33: 520 | J33: 588 | N33: =H33/100 -> 5.2 | O33: х | P33: =J33/100 -> 5.88 | T33: =MAX(N33,O33,P33,Q33,R33,S33) -> 5.88 | U33: =IF(T33>=$Y$12,"МСМК",IF(T33>=$Z$12,"МС",IF(T33>=$AA$12,"КМС",IF(T33>=$AB$12,"1",IF(T33>=$AC$12,"2",IF(T33>=$AD$12,"3",IF(T33>=$AE$12,"1юн",IF(T33>=$AF$12,"2юн",IF(T33>=$AG$12,"3юн",IF(T33<$AG$12,"б/р")))))))))) -> 1 | V33: =VLOOKUP($X33,УЧАСТНИКИ!$A$2:$L$1099,9,FALSE) -> Л | W33: =VLOOKUP($X33,УЧАСТНИКИ!$A$2:$L$1099,10,FALSE) -> Белевская Е.В. | X33: 130 | Y33: =A$27 -> 8
H34: -1 | J34: -3 | N34: =H34/10 -> -0.1 | P34: =J34/10 -> -0.3 | Y34: =A$27 -> 8
A35: =RANK(T35,$T$13:$T$145,0) -> 12 | B35: =VLOOKUP($X35,УЧАСТНИКИ!$A$2:$L$1099,3,FALSE) -> Адасько Диана | C35: =VLOOKUP($X35,УЧАСТНИКИ!$A$2:$L$1099,4,FALSE) -> 18.01.1999 | D35: =VLOOKUP($X35,УЧАСТНИКИ!$A$2:$L$1099,8,FALSE) -> КМС | E35: =VLOOKUP($X35,УЧАСТНИКИ!$A$2:$L$1099,5,FALSE) -> Республика Саха (Якутия) | F35: =VLOOKUP($R35,УЧАСТНИКИ!$A$2:$L$1099,7,FALSE) -> #N/A | G35: =VLOOKUP($X35,УЧАСТНИКИ!$A$2:$L$1099,11,FALSE) -> Минспорт ГБУ РС (Я) РЦСП | H35: 577 | I35: 565 | J35: 580 | N35: =H35/100 -> 5.77 | O35: =I35/100 -> 5.65 | P35: =J35/100 -> 5.8 | T35: =MAX(N35,O35,P35,Q35,R35,S35) -> 5.8 | U35: =IF(T35>=$Y$12,"МСМК",IF(T35>=$Z$12,"МС",IF(T35>=$AA$12,"КМС",IF(T35>=$AB$12,"1",IF(T35>=$AC$12,"2",IF(T35>=$AD$12,"3",IF(T35>=$AE$12,"1юн",IF(T35>=$AF$12,"2юн",IF(T35>=$AG$12,"3юн",IF(T35<$AG$12,"б/р")))))))))) -> 1 | V35: 9 | W35: =VLOOKUP($X35,УЧАСТНИКИ!$A$2:$L$1099,10,FALSE) -> Нечаев П.А. | X35: 59 | Y35: =A$29 -> 9
H36: 4 | I36: 5 | J36: -2 | N36: =H36/10 -> 0.4 | O36: =I36/10 -> 0.5 | P36: =J36/10 -> -0.2 | Y36: =A$29 -> 9
A37: =RANK(T37,$T$13:$T$145,0) -> 13 | B37: =VLOOKUP($X37,УЧАСТНИКИ!$A$2:$L$1099,3,FALSE) -> Зеликова Жанна | C37: =VLOOKUP($X37,УЧАСТНИКИ!$A$2:$L$1099,4,FALSE) -> 22.02.1995 | D37: =VLOOKUP($X37,УЧАСТНИКИ!$A$2:$L$1099,8,FALSE) -> МС | E37: =VLOOKUP($X37,УЧАСТНИКИ!$A$2:$L$1099,5,FALSE) -> Краснодарский край | F37: =VLOOKUP($R37,УЧАСТНИКИ!$A$2:$L$1099,7,FALSE) -> #N/A | G37: =VLOOKUP($X37,УЧАСТНИКИ!$A$2:$L$1099,11,FALSE) -> ГБУ КК "ЦОП по легкой атлетике", ГБУ КК "РЦСП по легкой атлетике" | I37: 578 | J37: 579 | N37: х | O37: =I37/100 -> 5.78 | P37: =J37/100 -> 5.79 | T37: =MAX(N37,O37,P37,Q37,R37,S37) -> 5.79 | U37: =IF(T37>=$Y$12,"МСМК",IF(T37>=$Z$12,"МС",IF(T37>=$AA$12,"КМС",IF(T37>=$AB$12,"1",IF(T37>=$AC$12,"2",IF(T37>=$AD$12,"3",IF(T37>=$AE$12,"1юн",IF(T37>=$AF$12,"2юн",IF(T37>=$AG$12,"3юн",IF(T37<$AG$12,"б/р")))))))))) -> 1 | V37: =VLOOKUP($X37,УЧАСТНИКИ!$A$2:$L$1099,9,FALSE) -> Л | W37: =VLOOKUP($X37,УЧАСТНИКИ!$A$2:$L$1099,10,FALSE) -> Пирожков С.В., Фуников В.В. | X37: 142 | Y37: =A$23 -> 6
I38: -2 | J38: 1 | N38: =H38/10 -> 0 | O38: =I38/10 -> -0.2 | P38: =J38/10 -> 0.1 | Y38: =A$23 -> 6
A39: =RANK(T39,$T$13:$T$145,0) -> 14 | B39: =VLOOKUP($X39,УЧАСТНИКИ!$A$2:$L$1099,3,FALSE) -> Исаева Юлия | C39: =VLOOKUP($X39,УЧАСТНИКИ!$A$2:$L$1099,4,FALSE) -> 23.10.1996 | D39: =VLOOKUP($X39,УЧАСТНИКИ!$A$2:$L$1099,8,FALSE) -> КМС | E39: =VLOOKUP($X39,УЧАСТНИКИ!$A$2:$L$1099,5,FALSE) -> Республика Мордовия | F39: =VLOOKUP($R39,УЧАСТНИКИ!$A$2:$L$1099,7,FALSE) -> #N/A | G39: =VLOOKUP($X39,УЧАСТНИКИ!$A$2:$L$1099,11,FALSE) -> ГБУ РМ "КСШОР" | H39: 571 | I39: 566 | J39: 577 | N39: =H39/100 -> 5.71 | O39: =I39/100 -> 5.66 | P39: =J39/100 -> 5.77 | T39: =MAX(N39,O39,P39,Q39,R39,S39) -> 5.77 | U39: =IF(T39>=$Y$12,"МСМК",IF(T39>=$Z$12,"МС",IF(T39>=$AA$12,"КМС",IF(T39>=$AB$12,"1",IF(T39>=$AC$12,"2",IF(T39>=$AD$12,"3",IF(T39>=$AE$12,"1юн",IF(T39>=$AF$12,"2юн",IF(T39>=$AG$12,"3юн",IF(T39<$AG$12,"б/р")))))))))) -> 1 | V39: 8 | W39: =VLOOKUP($X39,УЧАСТНИКИ!$A$2:$L$1099,10,FALSE) -> Кондов Г.Н., Иванов А.И. | X39: 218 | Y39: =A$41 -> 15
H40: 1 | I40: 2 | J40: 2 | N40: =H40/10 -> 0.1 | O40: =I40/10 -> 0.2 | P40: =J40/10 -> 0.2 | Y40: =A$41 -> 15
A41: =RANK(T41,$T$13:$T$145,0) -> 15 | B41: =VLOOKUP($X41,УЧАСТНИКИ!$A$2:$L$1099,3,FALSE) -> Дрожжина Елизавета | C41: =VLOOKUP($X41,УЧАСТНИКИ!$A$2:$L$1099,4,FALSE) -> 11.02.1998 | D41: =VLOOKUP($X41,УЧАСТНИКИ!$A$2:$L$1099,8,FALSE) -> КМС | E41: =VLOOKUP($X41,УЧАСТНИКИ!$A$2:$L$1099,5,FALSE) -> Санкт-Петербург | F41: =VLOOKUP($R41,УЧАСТНИКИ!$A$2:$L$1099,7,FALSE) -> #N/A | G41: =VLOOKUP($X41,УЧАСТНИКИ!$A$2:$L$1099,11,FALSE) -> СПб ГБУ ЦОП "ШВСМ по легкой атлетике" | H41: 570 | N41: =H41/100 -> 5.7 | O41: х | P41: х | T41: =MAX(N41,O41,P41,Q41,R41,S41) -> 5.7 | U41: =IF(T41>=$Y$12,"МСМК",IF(T41>=$Z$12,"МС",IF(T41>=$AA$12,"КМС",IF(T41>=$AB$12,"1",IF(T41>=$AC$12,"2",IF(T41>=$AD$12,"3",IF(T41>=$AE$12,"1юн",IF(T41>=$AF$12,"2юн",IF(T41>=$AG$12,"3юн",IF(T41<$AG$12,"б/р")))))))))) -> 1 | V41: =VLOOKUP($X41,УЧАСТНИКИ!$A$2:$L$1099,9,FALSE) -> Л | W41: =VLOOKUP($X41,УЧАСТНИКИ!$A$2:$L$1099,10,FALSE) -> Черепанова И.Н., Черепанов А.Н. | X41: 275 | Y41: =A$15 -> 2
H42: -4 | N42: =H42/10 -> -0.4 | Y42: =A$15 -> 2
A43: =RANK(T43,$T$13:$T$145,0) -> 16 | B43: =VLOOKUP($X43,УЧАСТНИКИ!$A$2:$L$1099,3,FALSE) -> Подобаева Арина | C43: =VLOOKUP($X43,УЧАСТНИКИ!$A$2:$L$1099,4,FALSE) -> 02.04.1999 | D43: =VLOOKUP($X43,УЧАСТНИКИ!$A$2:$L$1099,8,FALSE) -> КМС | E43: =VLOOKUP($X43,УЧАСТНИКИ!$A$2:$L$1099,5,FALSE) -> Санкт-Петербург | F43: =VLOOKUP($R43,УЧАСТНИКИ!$A$2:$L$1099,7,FALSE) -> #N/A | G43: =VLOOKUP($X43,УЧАСТНИКИ!$A$2:$L$1099,11,FALSE) -> СПб ГБУ ЦОП "ШВСМ по легкой атлетике", СПб ГБПОУ "УОР № 1 | H43: 568 | N43: =H43/100 -> 5.68 | O43: х | P43: х | T43: =MAX(N43,O43,P43,Q43,R43,S43) -> 5.68 | U43: =IF(T43>=$Y$12,"МСМК",IF(T43>=$Z$12,"МС",IF(T43>=$AA$12,"КМС",IF(T43>=$AB$12,"1",IF(T43>=$AC$12,"2",IF(T43>=$AD$12,"3",IF(T43>=$AE$12,"1юн",IF(T43>=$AF$12,"2юн",IF(T43>=$AG$12,"3юн",IF(T43<$AG$12,"б/р")))))))))) -> 1 | V43: =VLOOKUP($X43,УЧАСТНИКИ!$A$2:$L$1099,9,FALSE) -> Л | W43: =VLOOKUP($X43,УЧАСТНИКИ!$A$2:$L$1099,10,FALSE) -> Плутахин В.В., Волкова И.В. | X43: 297 | Y43: =A$25 -> 7
H44: -3 | N44: =H44/10 -> -0.3 | Y44: =A$25 -> 7
B45: =VLOOKUP($X45,УЧАСТНИКИ!$A$2:$L$1099,3,FALSE) -> Садохина Виктория | C45: =VLOOKUP($X45,УЧАСТНИКИ!$A$2:$L$1099,4,FALSE) -> 18.07.1994 | D45: =VLOOKUP($X45,УЧАСТНИКИ!$A$2:$L$1099,8,FALSE) -> КМС | E45: =VLOOKUP($X45,УЧАСТНИКИ!$A$2:$L$1099,5,FALSE) -> Самарская область | F45: =VLOOKUP($R45,УЧАСТНИКИ!$A$2:$L$1099,7,FALSE) -> #N/A | G45: =VLOOKUP($X45,УЧАСТНИКИ!$A$2:$L$1099,11,FALSE) -> МБУ г.о. Самара "СШОР № 6" | N45: х | O45: х | P45: х | T45: NM | V45: 0 | W45: =VLOOKUP($X45,УЧАСТНИКИ!$A$2:$L$1099,10,FALSE) -> Белкова О.Н., Белков Г.А. | X45: 417 | Y45: =A$13 -> 1
Y46: =A$13 -> 1
B49: Главный судья соревнований | U49: П. Безъязычный, ССВК, г.Краснодар
B52: Главный секретарь соревнований | U52: Е. Клочкова, ССВК, г.Волгоград

Sheet И ДИ-Ж
A1: =Name_1 -> МИНИСТЕРСТВО ФИЗИЧЕСКОЙ КУЛЬТУРЫ И СПОРТА РОССИЙСКОЙ ФЕДЕРАЦИИ
A2: =Name_2 -> ВСЕРОССИЙСКАЯ ФЕДЕРАЦИЯ ЛЕГКОЙ АТЛЕТИКИ
A3: =Name_3 -> МИНИСТЕРСТВО ФИЗИЧЕСКОЙ КУЛЬТУРЫ И СПОРТА КРАСНОДАРСКОГО КРАЯ
A4: =Name_6 -> ФЕДЕРАЦИЯ ЛЕГКОЙ АТЛЕТИКИ КРАСНОДАРСКОГО КРАЯ
A5: КУБОК РОССИИ
A6: =d_4 -> ЖЕНЩИНЫ
A7: ИТОГОВЫЙ ПРОТОКОЛ
A8: Метание диска
X9: НОМЕР
W10: г. Сочи, Адлерский район, ул. Ленина, СК «Юность»
A11: все снаряда- 1,0 кг | T11: финальные соревнования | U11: =d_1 -> 28.05.2019г. | V11: 0.5625 | W11: =d_6 -> t° +25 вл. 76%
A12: Занятое место | B12: Фамилия, имя | C12: Дата рождения | D12: Заявл. разряд | E12: Территория | F12: Округ | G12: Оргнизация Ведомство | N12: Результаты | T12: Лучший результат | U12: Выполненный разряд | V12: Очки | W12: Ф.И.О. тренера | Y12: мсмк | Z12: мс | AA12: кмс | AB12: 1 | AC12: 2 | AD12: 3 | AE12: 1ю | AF12: 2ю | AG12: 3ю
N13: 1 | O13: 2 | P13: 3 | Q13: 4 | R13: 5 | S13: 6 | Y13: 62 | Z13: 53 | AA13: 45 | AB13: 39 | AC13: 33 | AD13: 28 | AE13: 24 | AF13: 20
A14: 1 | B14: =VLOOKUP($X14,УЧАСТНИКИ!$A$2:$L$1099,3,FALSE) -> Панова Елена | C14: =VLOOKUP($X14,УЧАСТНИКИ!$A$2:$L$1099,4,FALSE) -> 02.03.1987 | D14: =VLOOKUP($X14,УЧАСТНИКИ!$A$2:$L$1099,8,FALSE) -> МСМК | E14: =VLOOKUP($X14,УЧАСТНИКИ!$A$2:$L$1099,5,FALSE) -> Москва Владимирская область | F14: =VLOOKUP($R14,УЧАСТНИКИ!$A$2:$L$1099,7,FALSE) -> #N/A | G14: =VLOOKUP($X14,УЧАСТНИКИ!$A$2:$L$1099,11,FALSE) -> ГБУ "МГФСО" Москомспорта | H14: 5780 | I14: 5750 | J14: 5802 | L14: 6139 | N14: =H14/100 -> 57.8 | O14: =I14/100 -> 57.5 | P14: =J14/100 -> 58.02 | Q14: х | R14: =L14/100 -> 61.39 | S14: х | T14: =MAX(N14,O14,P14,Q14,R14,S14) -> 61.39 | U14: =IF(T14>=$Y$13,"МСМК",IF(T14>=$Z$13,"МС",IF(T14>=$AA$13,"КМС",IF(T14>=$AB$13,"1",IF(T14>=$AC$13,"2",IF(T14>=$AD$13,"3",IF(T14>=$AE$13,"1юн",IF(T14>=$AF$13,"2юн",IF(T14>=$AG$13,"3юн",IF(T14<$AG$13,"б/р")))))))))) -> МС | V14: 20+5 | W14: =VLOOKUP($X14,УЧАСТНИКИ!$A$2:$L$1099,10,FALSE) -> Котов С.В., Диаздинов О.В. | X14: 205
A15: 2 | B15: =VLOOKUP($X15,УЧАСТНИКИ!$A$2:$L$1099,3,FALSE) -> Строкова Екатерина | C15: =VLOOKUP($X15,УЧАСТНИКИ!$A$2:$L$1099,4,FALSE) -> 17.12.1989 | D15: =VLOOKUP($X15,УЧАСТНИКИ!$A$2:$L$1099,8,FALSE) -> МСМК | E15: =VLOOKUP($X15,УЧАСТНИКИ!$A$2:$L$1099,5,FALSE) -> Москва Нижегородская область | F15: =VLOOKUP($R15,УЧАСТНИКИ!$A$2:$L$1099,7,FALSE) -> #N/A | G15: =VLOOKUP($X15,УЧАСТНИКИ!$A$2:$L$1099,11,FALSE) -> ГБУ "СШОР "Луч", МБУ "КСШОР №1" | H15: 6062 | I15: 6110 | K15: 5902 | M15: 5862 | N15: =H15/100 -> 60.62 | O15: =I15/100 -> 61.1 | P15: х | Q15: =K15/100 -> 59.02 | R15: х | S15: =M15/100 -> 58.62 | T15: =MAX(N15,O15,P15,Q15,R15,S15) -> 61.1 | U15: =IF(T15>=$Y$13,"МСМК",IF(T15>=$Z$13,"МС",IF(T15>=$AA$13,"КМС",IF(T15>=$AB$13,"1",IF(T15>=$AC$13,"2",IF(T15>=$AD$13,"3",IF(T15>=$AE$13,"1юн",IF(T15>=$AF$13,"2юн",IF(T15>=$AG$13,"3юн",IF(T15<$AG$13,"б/р")))))))))) -> МС | V15: 17+5 | W15: =VLOOKUP($X15,УЧАСТНИКИ!$A$2:$L$1099,10,FALSE) -> Садов М.В., Садова Н.И. | X15: 232
A16: 3 | B16: =VLOOKUP($X16,УЧАСТНИКИ!$A$2:$L$1099,3,FALSE) -> Карпова (Широбокова) Наталья | C16: =VLOOKUP($X16,УЧАСТНИКИ!$A$2:$L$1099,4,FALSE) -> 18.01.1994 | D16: =VLOOKUP($X16,УЧАСТНИКИ!$A$2:$L$1099,8,FALSE) -> МС | E16: =VLOOKUP($X16,УЧАСТНИКИ!$A$2:$L$1099,5,FALSE) -> Омская область Санкт-Петербург | F16: =VLOOKUP($R16,УЧАСТНИКИ!$A$2:$L$1099,7,FALSE) -> #N/A | G16: =VLOOKUP($X16,УЧАСТНИКИ!$A$2:$L$1099,11,FALSE) -> СПб ГБУ ЦОП "ШВСМ по легкой атлетике" | H16: 5587 | J16: 5748 | L16: 5729 | N16: =H16/100 -> 55.87 | O16: х | P16: =J16/100 -> 57.48 | Q16: х | R16: =L16/100 -> 57.29 | S16: х | T16: =MAX(N16,O16,P16,Q16,R16,S16) -> 57.48 | U16: =IF(T16>=$Y$13,"МСМК",IF(T16>=$Z$13,"МС",IF(T16>=$AA$13,"КМС",IF(T16>=$AB$13,"1",IF(T16>=$AC$13,"2",IF(T16>=$AD$13,"3",IF(T16>=$AE$13,"1юн",IF(T16>=$AF$13,"2юн",IF(T16>=$AG$13,"3юн",IF(T16<$AG$13,"б/р")))))))))) -> МС | V16: 15+5 | W16: =VLOOKUP($X16,УЧАСТНИКИ!$A$2:$L$1099,10,FALSE) -> Андреев А.В., Савинская Н.М. | X16: 279
A17: 4 | B17: =VLOOKUP($X17,УЧАСТНИКИ!$A$2:$L$1099,3,FALSE) -> Бурмистрова Екатерина | C17: =VLOOKUP($X17,УЧАСТНИКИ!$A$2:$L$1099,4,FALSE) -> 18.08.1990 | D17: =VLOOKUP($X17,УЧАСТНИКИ!$A$2:$L$1099,8,FALSE) -> МС | E17: =VLOOKUP($X17,УЧАСТНИКИ!$A$2:$L$1099,5,FALSE) -> Санкт-Петербург | F17: =VLOOKUP($R17,УЧАСТНИКИ!$A$2:$L$1099,7,FALSE) -> #N/A | G17: =VLOOKUP($X17,УЧАСТНИКИ!$A$2:$L$1099,11,FALSE) -> СПб ГБУ СШОР "Академия легкой атлетики Санкт-Петербурга" | I17: 5408 | J17: 5640 | K17: 5074 | L17: 5307 | M17: 5411 | N17: х | O17: =I17/100 -> 54.08 | P17: =J17/100 -> 56.4 | Q17: =K17/100 -> 50.74 | R17: =L17/100 -> 53.07 | S17: =M17/100 -> 54.11 | T17: =MAX(N17,O17,P17,Q17,R17,S17) -> 56.4 | U17: =IF(T17>=$Y$13,"МСМК",IF(T17>=$Z$13,"МС",IF(T17>=$AA$13,"КМС",IF(T17>=$AB$13,"1",IF(T17>=$AC$13,"2",IF(T17>=$AD$13,"3",IF(T17>=$AE$13,"1юн",IF(T17>=$AF$13,"2юн",IF(T17>=$AG$13,"3юн",IF(T17<$AG$13,"б/р")))))))))) -> МС | V17: 14+5 | W17: =VLOOKUP($X17,УЧАСТНИКИ!$A$2:$L$1099,10,FALSE) -> Данилова Т.П. | X17: 267
A18: 5 | B18: =VLOOKUP($X18,УЧАСТНИКИ!$A$2:$L$1099,3,FALSE) -> Огрицко Мария | C18: =VLOOKUP($X18,УЧАСТНИКИ!$A$2:$L$1099,4,FALSE) -> 01.03.1994 | D18: =VLOOKUP($X18,УЧАСТНИКИ!$A$2:$L$1099,8,FALSE) -> МС | E18: =VLOOKUP($X18,УЧАСТНИКИ!$A$2:$L$1099,5,FALSE) -> Москва | F18: =VLOOKUP($R18,УЧАСТНИКИ!$A$2:$L$1099,7,FALSE) -> #N/A | G18: =VLOOKUP($X18,УЧАСТНИКИ!$A$2:$L$1099,11,FALSE) -> ГБУ "ЦОП по легкой атлетике" Москомспорта | H18: 5344 | L18: 5481 | N18: =H18/100 -> 53.44 | O18: х | P18: х | Q18: х | R18: =L18/100 -> 54.81 | S18: х | T18: =MAX(N18,O18,P18,Q18,R18,S18) -> 54.81 | U18: =IF(T18>=$Y$13,"МСМК",IF(T18>=$Z$13,"МС",IF(T18>=$AA$13,"КМС",IF(T18>=$AB$13,"1",IF(T18>=$AC$13,"2",IF(T18>=$AD$13,"3",IF(T18>=$AE$13,"1юн",IF(T18>=$AF$13,"2юн",IF(T18>=$AG$13,"3юн",IF(T18<$AG$13,"б/р")))))))))) -> МС | V18: =VLOOKUP($X18,УЧАСТНИКИ!$A$2:$L$1099,9,FALSE) -> Л | W18: =VLOOKUP($X18,УЧАСТНИКИ!$A$2:$L$1099,10,FALSE) -> Запольский Д.В., Пестрецова С.Н., Васильев С.В. | X18: 361
A19: 6 | B19: =VLOOKUP($X19,УЧАСТНИКИ!$A$2:$L$1099,3,FALSE) -> Мальцева Юлия | C19: =VLOOKUP($X19,УЧАСТНИКИ!$A$2:$L$1099,4,FALSE) -> 30.11.1990 | D19: =VLOOKUP($X19,УЧАСТНИКИ!$A$2:$L$1099,8,FALSE) -> МСМК | E19: =VLOOKUP($X19,УЧАСТНИКИ!$A$2:$L$1099,5,FALSE) -> Москва Ханты-Мансийский автономный округ - Югра | F19: =VLOOKUP($R19,УЧАСТНИКИ!$A$2:$L$1099,7,FALSE) -> #N/A | G19: =VLOOKUP($X19,УЧАСТНИКИ!$A$2:$L$1099,11,FALSE) -> ВС ГБУ "МГФСО" Москомспорта | H19: 5230 | I19: 5454 | J19: 5344 | K19: 5339 | L19: 5459 | M19: 5266 | N19: =H19/100 -> 52.3 | O19: =I19/100 -> 54.54 | P19: =J19/100 -> 53.44 | Q19: =K19/100 -> 53.39 | R19: =L19/100 -> 54.59 | S19: =M19/100 -> 52.66 | T19: =MAX(N19,O19,P19,Q19,R19,S19) -> 54.59 | U19: =IF(T19>=$Y$13,"МСМК",IF(T19>=$Z$13,"МС",IF(T19>=$AA$13,"КМС",IF(T19>=$AB$13,"1",IF(T19>=$AC$13,"2",IF(T19>=$AD$13,"3",IF(T19>=$AE$13,"1юн",IF(T19>=$AF$13,"2юн",IF(T19>=$AG$13,"3юн",IF(T19<$AG$13,"б/р")))))))))) -> МС | V19: =VLOOKUP($X19,УЧАСТНИКИ!$A$2:$L$1099,9,FALSE) -> Л | W19: =VLOOKUP($X19,УЧАСТНИКИ!$A$2:$L$1099,10,FALSE) -> Левин С.И. | X19: 359
A20: 7 | B20: =VLOOKUP($X20,УЧАСТНИКИ!$A$2:$L$1099,3,FALSE) -> Белякова Алена | C20: =VLOOKUP($X20,УЧАСТНИКИ!$A$2:$L$1099,4,FALSE) -> 21.12.1998 | D20: =VLOOKUP($X20,УЧАСТНИКИ!$A$2:$L$1099,8,FALSE) -> МС | E20: =VLOOKUP($X20,УЧАСТНИКИ!$A$2:$L$1099,5,FALSE) -> Краснодарский край ЮФО (К) | F20: =VLOOKUP($R20,УЧАСТНИКИ!$A$2:$L$1099,7,FALSE) -> #N/A | G20: =VLOOKUP($X20,УЧАСТНИКИ!$A$2:$L$1099,11,FALSE) -> ГБУ КК "ЦОП по легкой атлетике", ГБУ КК"РЦСП по легкой атлетике" | I20: 5405 | L20: 5344 | M20: 5157 | N20: х | O20: =I20/100 -> 54.05 | P20: х | Q20: х | R20: =L20/100 -> 53.44 | S20: =M20/100 -> 51.57 | T20: =MAX(N20,O20,P20,Q20,R20,S20) -> 54.05 | U20: =IF(T20>=$Y$13,"МСМК",IF(T20>=$Z$13,"МС",IF(T20>=$AA$13,"КМС",IF(T20>=$AB$13,"1",IF(T20>=$AC$13,"2",IF(T20>=$AD$13,"3",IF(T20>=$AE$13,"1юн",IF(T20>=$AF$13,"2юн",IF(T20>=$AG$13,"3юн",IF(T20<$AG$13,"б/р")))))))))) -> МС | V20: 13+5 | W20: =VLOOKUP($X20,УЧАСТНИКИ!$A$2:$L$1099,10,FALSE) -> Синицын А.В., Беляков Ю.Б. | X20: 131
A21: 8 | B21: =VLOOKUP($X21,УЧАСТНИКИ!$A$2:$L$1099,3,FALSE) -> Деркач Надежда | C21: =VLOOKUP($X21,УЧАСТНИКИ!$A$2:$L$1099,4,FALSE) -> 18.04.1996 | D21: =VLOOKUP($X21,УЧАСТНИКИ!$A$2:$L$1099,8,FALSE) -> МС | E21: =VLOOKUP($X21,УЧАСТНИКИ!$A$2:$L$1099,5,FALSE) -> Москва Нижегородская область | F21: =VLOOKUP($R21,УЧАСТНИКИ!$A$2:$L$1099,7,FALSE) -> #N/A | G21: =VLOOKUP($X21,УЧАСТНИКИ!$A$2:$L$1099,11,FALSE) -> ГБУ "СШОР "Луч" Москомспорта, МБУ "КСШОР № 1" | H21: 5276 | I21: 5152 | J21: 5334 | L21: 5208 | M21: 5254 | N21: =H21/100 -> 52.76 | O21: =I21/100 -> 51.52 | P21: =J21/100 -> 53.34 | Q21: х | R21: =L21/100 -> 52.08 | S21: =M21/100 -> 52.54 | T21: =MAX(N21,O21,P21,Q21,R21,S21) -> 53.34 | U21: =IF(T21>=$Y$13,"МСМК",IF(T21>=$Z$13,"МС",IF(T21>=$AA$13,"КМС",IF(T21>=$AB$13,"1",IF(T21>=$AC$13,"2",IF(T21>=$AD$13,"3",IF(T21>=$AE$13,"1юн",IF(T21>=$AF$13,"2юн",IF(T21>=$AG$13,"3юн",IF(T21<$AG$13,"б/р")))))))))) -> МС | V21: 12+5 | W21: =VLOOKUP($X21,УЧАСТНИКИ!$A$2:$L$1099,10,FALSE) -> Колодко Н.А., Коптюх И.Н., Яковенко Г.М. | X21: 223
A22: 9 | B22: =VLOOKUP($X22,УЧАСТНИКИ!$A$2:$L$1099,3,FALSE) -> Витюгова Анастасия | C22: =VLOOKUP($X22,УЧАСТНИКИ!$A$2:$L$1099,4,FALSE) -> 13.03.1997 | D22: =VLOOKUP($X22,УЧАСТНИКИ!$A$2:$L$1099,8,FALSE) -> МС | E22: =VLOOKUP($X22,УЧАСТНИКИ!$A$2:$L$1099,5,FALSE) -> Москва Санкт-Петербург | F22: =VLOOKUP($R22,УЧАСТНИКИ!$A$2:$L$1099,7,FALSE) -> #N/A | G22: =VLOOKUP($X22,УЧАСТНИКИ!$A$2:$L$1099,11,FALSE) -> ГБУ "ЦОП по легкой атлетике" Москомспорта , ГБУ СШОР "Академия легкой атлетики Санк-Петербурга" | H22: 5213 | N22: =H22/100 -> 52.13 | O22: х | P22: х | T22: =MAX(N22,O22,P22,Q22,R22,S22) -> 52.13 | U22: =IF(T22>=$Y$13,"МСМК",IF(T22>=$Z$13,"МС",IF(T22>=$AA$13,"КМС",IF(T22>=$AB$13,"1",IF(T22>=$AC$13,"2",IF(T22>=$AD$13,"3",IF(T22>=$AE$13,"1юн",IF(T22>=$AF$13,"2юн",IF(T22>=$AG$13,"3юн",IF(T22<$AG$13,"б/р")))))))))) -> КМС | V22: 11 | W22: =VLOOKUP($X22,УЧАСТНИКИ!$A$2:$L$1099,10,FALSE) -> Боричевский А.Я., Дернов Л. | X22: 269
A23: 10 | B23: =VLOOKUP($X23,УЧАСТНИКИ!$A$2:$L$1099,3,FALSE) -> Савинова Юлия | C23: =VLOOKUP($X23,УЧАСТНИКИ!$A$2:$L$1099,4,FALSE) -> 28.06.1994 | D23: =VLOOKUP($X23,УЧАСТНИКИ!$A$2:$L$1099,8,FALSE) -> КМС | E23: =VLOOKUP($X23,УЧАСТНИКИ!$A$2:$L$1099,5,FALSE) -> Москва Нижегородская область | F23: =VLOOKUP($R23,УЧАСТНИКИ!$A$2:$L$1099,7,FALSE) -> #N/A | G23: =VLOOKUP($X23,УЧАСТНИКИ!$A$2:$L$1099,11,FALSE) -> ГБУ "СШОР "Луч" Москомспорта, МБУ "КСШОР № 1" | H23: 4675 | I23: 4710 | J23: 4841 | N23: =H23/100 -> 46.75 | O23: =I23/100 -> 47.1 | P23: =J23/100 -> 48.41 | T23: =MAX(N23,O23,P23,Q23,R23,S23) -> 48.41 | U23: =IF(T23>=$Y$13,"МСМК",IF(T23>=$Z$13,"МС",IF(T23>=$AA$13,"КМС",IF(T23>=$AB$13,"1",IF(T23>=$AC$13,"2",IF(T23>=$AD$13,"3",IF(T23>=$AE$13,"1юн",IF(T23>=$AF$13,"2юн",IF(T23>=$AG$13,"3юн",IF(T23<$AG$13,"б/р")))))))))) -> КМС | V23: 10 | W23: =VLOOKUP($X23,УЧАСТНИКИ!$A$2:$L$1099,10,FALSE) -> Садов М.В., Зубовский В.Г. | X23: 229
A24: 11 | B24: =VLOOKUP($X24,УЧАСТНИКИ!$A$2:$L$1099,3,FALSE) -> Карабинцева Наталия | C24: =VLOOKUP($X24,УЧАСТНИКИ!$A$2:$L$1099,4,FALSE) -> 14.04.1998 | D24: =VLOOKUP($X24,УЧАСТНИКИ!$A$2:$L$1099,8,FALSE) -> КМС | E24: =VLOOKUP($X24,УЧАСТНИКИ!$A$2:$L$1099,5,FALSE) -> Краснодарский край | F24: =VLOOKUP($R24,УЧАСТНИКИ!$A$2:$L$1099,7,FALSE) -> #N/A | G24: =VLOOKUP($X24,УЧАСТНИКИ!$A$2:$L$1099,11,FALSE) -> ГБУ КК "ЦОП по легкой атлетике", ГБУ КК "РЦСП по легкой атлетике" | H24: 4649 | J24: 4648 | N24: =H24/100 -> 46.49 | O24: х | P24: =J24/100 -> 46.48 | T24: =MAX(N24,O24,P24,Q24,R24,S24) -> 46.49 | U24: =IF(T24>=$Y$13,"МСМК",IF(T24>=$Z$13,"МС",IF(T24>=$AA$13,"КМС",IF(T24>=$AB$13,"1",IF(T24>=$AC$13,"2",IF(T24>=$AD$13,"3",IF(T24>=$AE$13,"1юн",IF(T24>=$AF$13,"2юн",IF(T24>=$AG$13,"3юн",IF(T24<$AG$13,"б/р")))))))))) -> КМС | V24: =VLOOKUP($X24,УЧАСТНИКИ!$A$2:$L$1099,9,FALSE) -> Л | W24: =VLOOKUP($X24,УЧАСТНИКИ!$A$2:$L$1099,10,FALSE) -> Синицын А.В. | X24: 144
A25: 12 | B25: =VLOOKUP($X25,УЧАСТНИКИ!$A$2:$L$1099,3,FALSE) -> Пекова Залина | C25: =VLOOKUP($X25,УЧАСТНИКИ!$A$2:$L$1099,4,FALSE) -> 06.03.2000 | D25: =VLOOKUP($X25,УЧАСТНИКИ!$A$2:$L$1099,8,FALSE) -> КМС | E25: =VLOOKUP($X25,УЧАСТНИКИ!$A$2:$L$1099,5,FALSE) -> Кабардино-Балкарская республика | F25: =VLOOKUP($R25,УЧАСТНИКИ!$A$2:$L$1099,7,FALSE) -> #N/A | G25: =VLOOKUP($X25,УЧАСТНИКИ!$A$2:$L$1099,11,FALSE) -> Минспорт КБР ГКУ "ЦСП СК КБР", ГКУ КБР "СШОР № 1" | H25: 4462 | N25: =H25/100 -> 44.62 | O25: х | P25: х | T25: =MAX(N25,O25,P25,Q25,R25,S25) -> 44.62 | U25: =IF(T25>=$Y$13,"МСМК",IF(T25>=$Z$13,"МС",IF(T25>=$AA$13,"КМС",IF(T25>=$AB$13,"1",IF(T25>=$AC$13,"2",IF(T25>=$AD$13,"3",IF(T25>=$AE$13,"1юн",IF(T25>=$AF$13,"2юн",IF(T25>=$AG$13,"3юн",IF(T25<$AG$13,"б/р")))))))))) -> 1 | V25: 9 | W25: =VLOOKUP($X25,УЧАСТНИКИ!$A$2:$L$1099,10,FALSE) -> Озроков А.Б., Рыженко С.Н. | X25: 408
A26: 13 | B26: =VLOOKUP($X26,УЧАСТНИКИ!$A$2:$L$1099,3,FALSE) -> Кащавцева Елизавета | C26: =VLOOKUP($X26,УЧАСТНИКИ!$A$2:$L$1099,4,FALSE) -> 30.07.1997 | D26: =VLOOKUP($X26,УЧАСТНИКИ!$A$2:$L$1099,8,FALSE) -> ЗМС | E26: =VLOOKUP($X26,УЧАСТНИКИ!$A$2:$L$1099,5,FALSE) -> Московская область | F26: =VLOOKUP($R26,УЧАСТНИКИ!$A$2:$L$1099,7,FALSE) -> #N/A | G26: =VLOOKUP($X26,УЧАСТНИКИ!$A$2:$L$1099,11,FALSE) -> МБУ ФСО "СШОР "Авангард", ГБУ МО "ЦСП ОВС" | H26: 4180 | N26: =H26/100 -> 41.8 | O26: х | P26: х | T26: =MAX(N26,O26,P26,Q26,R26,S26) -> 41.8 | U26: =IF(T26>=$Y$13,"МСМК",IF(T26>=$Z$13,"МС",IF(T26>=$AA$13,"КМС",IF(T26>=$AB$13,"1",IF(T26>=$AC$13,"2",IF(T26>=$AD$13,"3",IF(T26>=$AE$13,"1юн",IF(T26>=$AF$13,"2юн",IF(T26>=$AG$13,"3юн",IF(T26<$AG$13,"б/р")))))))))) -> 1 | V26: =VLOOKUP($X26,УЧАСТНИКИ!$A$2:$L$1099,9,FALSE) -> Л | W26: =VLOOKUP($X26,УЧАСТНИКИ!$A$2:$L$1099,10,FALSE) -> Жуков А.А. | X26: 456
A27: 14 | B27: =VLOOKUP($X27,УЧАСТНИКИ!$A$2:$L$1099,3,FALSE) -> Степакова Юлия | C27: =VLOOKUP($X27,УЧАСТНИКИ!$A$2:$L$1099,4,FALSE) -> 28.06.1998 | D27: =VLOOKUP($X27,УЧАСТНИКИ!$A$2:$L$1099,8,FALSE) -> КМС | E27: =VLOOKUP($X27,УЧАСТНИКИ!$A$2:$L$1099,5,FALSE) -> Ставропольский край | F27: =VLOOKUP($R27,УЧАСТНИКИ!$A$2:$L$1099,7,FALSE) -> #N/A | G27: =VLOOKUP($X27,УЧАСТНИКИ!$A$2:$L$1099,11,FALSE) -> ГБУ СК РЦСП, ГБПОУ СК СУОР | I27: 4060 | N27: х | O27: =I27/100 -> 40.6 | P27: х | T27: =MAX(N27,O27,P27,Q27,R27,S27) -> 40.6 | U27: =IF(T27>=$Y$13,"МСМК",IF(T27>=$Z$13,"МС",IF(T27>=$AA$13,"КМС",IF(T27>=$AB$13,"1",IF(T27>=$AC$13,"2",IF(T27>=$AD$13,"3",IF(T27>=$AE$13,"1юн",IF(T27>=$AF$13,"2юн",IF(T27>=$AG$13,"3юн",IF(T27<$AG$13,"б/р")))))))))) -> 1 | V27: 8 | W27: =VLOOKUP($X27,УЧАСТНИКИ!$A$2:$L$1099,10,FALSE) -> Крохмалёв А.В., Самойлов А.В., Лохова А.А. | X27: 82
A28: 15 | B28: =VLOOKUP($X28,УЧАСТНИКИ!$A$2:$L$1099,3,FALSE) -> Бизякина Светлана | C28: =VLOOKUP($X28,УЧАСТНИКИ!$A$2:$L$1099,4,FALSE) -> 06.11.1994 | D28: =VLOOKUP($X28,УЧАСТНИКИ!$A$2:$L$1099,8,FALSE) -> КМС | E28: =VLOOKUP($X28,УЧАСТНИКИ!$A$2:$L$1099,5,FALSE) -> Омская область | F28: =VLOOKUP($R28,УЧАСТНИКИ!$A$2:$L$1099,7,FALSE) -> #N/A | G28: =VLOOKUP($X28,УЧАСТНИКИ!$A$2:$L$1099,11,FALSE) -> ФГБУ ПОО "Сибирское ГУОР" | I28: 4042 | J28: 3980 | N28: х | O28: =I28/100 -> 40.42 | P28: =J28/100 -> 39.8 | T28: =MAX(N28,O28,P28,Q28,R28,S28) -> 40.42 | U28: =IF(T28>=$Y$13,"МСМК",IF(T28>=$Z$13,"МС",IF(T28>=$AA$13,"КМС",IF(T28>=$AB$13,"1",IF(T28>=$AC$13,"2",IF(T28>=$AD$13,"3",IF(T28>=$AE$13,"1юн",IF(T28>=$AF$13,"2юн",IF(T28>=$AG$13,"3юн",IF(T28<$AG$13,"б/р")))))))))) -> 1 | V28: 7 | W28: =VLOOKUP($X28,УЧАСТНИКИ!$A$2:$L$1099,10,FALSE) -> Бабанин С.Н., Белов М.К. | X28: 110
B31: Главный судья соревнований | U31: П. Безъязычный, ССВК, г.Краснодар
B33: Главный секретарь соревнований | U33: Е. Клочкова, ССВК, г.Волгоград

Sheet И М-Ж
A1: =Name_1 -> МИНИСТЕРСТВО ФИЗИЧЕСКОЙ КУЛЬТУРЫ И СПОРТА РОССИЙСКОЙ ФЕДЕРАЦИИ
A2: =Name_2 -> ВСЕРОССИЙСКАЯ ФЕДЕРАЦИЯ ЛЕГКОЙ АТЛЕТИКИ
A3: =Name_3 -> МИНИСТЕРСТВО ФИЗИЧЕСКОЙ КУЛЬТУРЫ И СПОРТА КРАСНОДАРСКОГО КРАЯ
A4: =Name_6 -> ФЕДЕРАЦИЯ ЛЕГКОЙ АТЛЕТИКИ КРАСНОДАРСКОГО КРАЯ
A5: КУБОК РОССИИ
A6: =d_4 -> ЖЕНЩИНЫ
A7: ИТОГОВЫЙ ПРОТОКОЛ
A8: Метание молота
X9: НОМЕР
W10: г. Сочи, Адлерский район, ул. Ленина, СК «Юность»
A11: вес снаряда- 4,0 кг | S11: финальные соревнования | U11: =d_1 -> 28.05.2019г. | V11: 0.5 | W11: =d_6 -> t° +25 вл. 76%
A12: Занятое место | B12: Фамилия, имя | C12: Дата рождения | D12: Заявл. разряд | E12: Территория | F12: Округ | G12: Оргнизация Ведомство | N12: Результаты | T12: Лучший результат | U12: Выполненный разряд | V12: Очки | W12: Ф.И.О. тренера | Y12: мсмк | Z12: мс | AA12: кмс | AB12: 1 | AC12: 2 | AD12: 3 | AE12: 1ю | AF12: 2ю | AG12: 3ю
N13: 1 | O13: 2 | P13: 3 | Q13: 4 | R13: 5 | S13: 6 | Y13: 69 | Z13: 57 | AA13: 48 | AB13: 42 | AC13: 36 | AD13: 31 | AE13: 27 | AF13: 23
A14: 1 | B14: =VLOOKUP($X14,УЧАСТНИКИ!$A$2:$L$1099,3,FALSE) -> Царёва Елизавета | C14: =VLOOKUP($X14,УЧАСТНИКИ!$A$2:$L$1099,4,FALSE) -> 26.03.1993 | D14: =VLOOKUP($X14,УЧАСТНИКИ!$A$2:$L$1099,8,FALSE) -> МСМК | E14: =VLOOKUP($X14,УЧАСТНИКИ!$A$2:$L$1099,5,FALSE) -> Московская область Ростовская область | F14: =VLOOKUP($R14,УЧАСТНИКИ!$A$2:$L$1099,7,FALSE) -> #N/A | G14: =VLOOKUP($X14,УЧАСТНИКИ!$A$2:$L$1099,11,FALSE) -> ГБУ МО "ЦСП ОВС", ГБУ РО "ЦОП № 1" (г. Ростов-на-Дону) | H14: 7117 | J14: 7057 | N14: =H14/100 -> 71.17 | O14: х | P14: =J14/100 -> 70.57 | Q14: х | R14: х | S14: х | T14: =MAX(N14,O14,P14,Q14,R14,S14) -> 71.17 | U14: =IF(T14>=$Y$13,"МСМК",IF(T14>=$Z$13,"МС",IF(T14>=$AA$13,"КМС",IF(T14>=$AB$13,"1",IF(T14>=$AC$13,"2",IF(T14>=$AD$13,"3",IF(T14>=$AE$13,"1юн",IF(T14>=$AF$13,"2юн",IF(T14>=$AG$13,"3юн",IF(T14<$AG$13,"б/р")))))))))) -> МСМК | V14: 20+15 | W14: =VLOOKUP($X14,УЧАСТНИКИ!$A$2:$L$1099,10,FALSE) -> Водолага И.Г., Айдамиров Е.Д., Белобородов Н.Н. | X14: 472
A15: 2 | B15: =VLOOKUP($X15,УЧАСТНИКИ!$A$2:$L$1099,3,FALSE) -> Палкина Софья | C15: =VLOOKUP($X15,УЧАСТНИКИ!$A$2:$L$1099,4,FALSE) -> 09.06.1998 | D15: =VLOOKUP($X15,УЧАСТНИКИ!$A$2:$L$1099,8,FALSE) -> МСМК | E15: =VLOOKUP($X15,УЧАСТНИКИ!$A$2:$L$1099,5,FALSE) -> Московская область Самарская область | F15: =VLOOKUP($R15,УЧАСТНИКИ!$A$2:$L$1099,7,FALSE) -> #N/A | G15: =VLOOKUP($X15,УЧАСТНИКИ!$A$2:$L$1099,11,FALSE) -> ВС ГБУ МО "ЦСП ОВС", ГАУ СО "ЦСПССКСО", МБУДО СДЮСШОР № 3 "Легкая атлетика" | H15: 6985 | I15: 6856 | J15: 6941 | L15: 6743 | M15: 6769 | N15: =H15/100 -> 69.85 | O15: =I15/100 -> 68.56 | P15: =J15/100 -> 69.41 | Q15: х | R15: =L15/100 -> 67.43 | S15: =M15/100 -> 67.69 | T15: =MAX(N15,O15,P15,Q15,R15,S15) -> 69.85 | U15: =IF(T15>=$Y$13,"МСМК",IF(T15>=$Z$13,"МС",IF(T15>=$AA$13,"КМС",IF(T15>=$AB$13,"1",IF(T15>=$AC$13,"2",IF(T15>=$AD$13,"3",IF(T15>=$AE$13,"1юн",IF(T15>=$AF$13,"2юн",IF(T15>=$AG$13,"3юн",IF(T15<$AG$13,"б/р")))))))))) -> МСМК | V15: 17+15 | W15: =VLOOKUP($X15,УЧАСТНИКИ!$A$2:$L$1099,10,FALSE) -> Быков В.А., Шикунов И.В. | X15: 416
A16: 3 | B16: =VLOOKUP($X16,УЧАСТНИКИ!$A$2:$L$1099,3,FALSE) -> Пронкина Анна | C16: =VLOOKUP($X16,УЧАСТНИКИ!$A$2:$L$1099,4,FALSE) -> 07.09.1996 | D16: =VLOOKUP($X16,УЧАСТНИКИ!$A$2:$L$1099,8,FALSE) -> МС | E16: =VLOOKUP($X16,УЧАСТНИКИ!$A$2:$L$1099,5,FALSE) -> Москва | F16: =VLOOKUP($R16,УЧАСТНИКИ!$A$2:$L$1099,7,FALSE) -> #N/A | G16: =VLOOKUP($X16,УЧАСТНИКИ!$A$2:$L$1099,11,FALSE) -> ГБУ "СШОР "Луч" Москомспорта | H16: 6080 | J16: 6192 | L16: 6015 | M16: 6375 | N16: =H16/100 -> 60.8 | O16: х | P16: =J16/100 -> 61.92 | Q16: х | R16: =L16/100 -> 60.15 | S16: =M16/100 -> 63.75 | T16: =MAX(N16,O16,P16,Q16,R16,S16) -> 63.75 | U16: =IF(T16>=$Y$13,"МСМК",IF(T16>=$Z$13,"МС",IF(T16>=$AA$13,"КМС",IF(T16>=$AB$13,"1",IF(T16>=$AC$13,"2",IF(T16>=$AD$13,"3",IF(T16>=$AE$13,"1юн",IF(T16>=$AF$13,"2юн",IF(T16>=$AG$13,"3юн",IF(T16<$AG$13,"б/р")))))))))) -> МС | V16: =VLOOKUP($X16,УЧАСТНИКИ!$A$2:$L$1099,9,FALSE) -> Л | W16: =VLOOKUP($X16,УЧАСТНИКИ!$A$2:$L$1099,10,FALSE) -> Херсонцев В.С. | X16: 362
A17: 4 | B17: =VLOOKUP($X17,УЧАСТНИКИ!$A$2:$L$1099,3,FALSE) -> Поспелова Наталья | C17: =VLOOKUP($X17,УЧАСТНИКИ!$A$2:$L$1099,4,FALSE) -> 28.06.1996 | D17: =VLOOKUP($X17,УЧАСТНИКИ!$A$2:$L$1099,8,FALSE) -> МС | E17: =VLOOKUP($X17,УЧАСТНИКИ!$A$2:$L$1099,5,FALSE) -> Свердловская область Ставропольский край | F17: =VLOOKUP($R17,УЧАСТНИКИ!$A$2:$L$1099,7,FALSE) -> #N/A | G17: =VLOOKUP($X17,УЧАСТНИКИ!$A$2:$L$1099,11,FALSE) -> ГАУ СО "ЦСП", ГБУ СК "РЦСП" | I17: 5912 | J17: 6152 | K17: 6031 | M17: 6302 | N17: х | O17: =I17/100 -> 59.12 | P17: =J17/100 -> 61.52 | Q17: =K17/100 -> 60.31 | R17: х | S17: =M17/100 -> 63.02 | T17: =MAX(N17,O17,P17,Q17,R17,S17) -> 63.02 | U17: =IF(T17>=$Y$13,"МСМК",IF(T17>=$Z$13,"МС",IF(T17>=$AA$13,"КМС",IF(T17>=$AB$13,"1",IF(T17>=$AC$13,"2",IF(T17>=$AD$13,"3",IF(T17>=$AE$13,"1юн",IF(T17>=$AF$13,"2юн",IF(T17>=$AG$13,"3юн",IF(T17<$AG$13,"б/р")))))))))) -> МС | V17: 15+5 | W17: =VLOOKUP($X17,УЧАСТНИКИ!$A$2:$L$1099,10,FALSE) -> Шевченко В.В., Козлов В.О. | X17: 81
A18: 5 | B18: =VLOOKUP($X18,УЧАСТНИКИ!$A$2:$L$1099,3,FALSE) -> Лысенко Алена | C18: =VLOOKUP($X18,УЧАСТНИКИ!$A$2:$L$1099,4,FALSE) -> 03.02.1988 | D18: =VLOOKUP($X18,УЧАСТНИКИ!$A$2:$L$1099,8,FALSE) -> МСМК | E18: =VLOOKUP($X18,УЧАСТНИКИ!$A$2:$L$1099,5,FALSE) -> Москва Владимирская область | F18: =VLOOKUP($R18,УЧАСТНИКИ!$A$2:$L$1099,7,FALSE) -> #N/A | G18: =VLOOKUP($X18,УЧАСТНИКИ!$A$2:$L$1099,11,FALSE) -> ГБУ "МГФСО" Москомспорта | H18: 6201 | J18: 5932 | M18: 6250 | N18: =H18/100 -> 62.01 | O18: х | P18: =J18/100 -> 59.32 | Q18: х | R18: х | S18: =M18/100 -> 62.5 | T18: =MAX(N18,O18,P18,Q18,R18,S18) -> 62.5 | U18: =IF(T18>=$Y$13,"МСМК",IF(T18>=$Z$13,"МС",IF(T18>=$AA$13,"КМС",IF(T18>=$AB$13,"1",IF(T18>=$AC$13,"2",IF(T18>=$AD$13,"3",IF(T18>=$AE$13,"1юн",IF(T18>=$AF$13,"2юн",IF(T18>=$AG$13,"3юн",IF(T18<$AG$13,"б/р")))))))))) -> МС | V18: 14+5 | W18: =VLOOKUP($X18,УЧАСТНИКИ!$A$2:$L$1099,10,FALSE) -> Котов С.В., Диаздинов О.В. | X18: 206
A19: 6 | B19: =VLOOKUP($X19,УЧАСТНИКИ!$A$2:$L$1099,3,FALSE) -> Садова Виктория | C19: =VLOOKUP($X19,УЧАСТНИКИ!$A$2:$L$1099,4,FALSE) -> 18.03.1993 | D19: =VLOOKUP($X19,УЧАСТНИКИ!$A$2:$L$1099,8,FALSE) -> МС | E19: =VLOOKUP($X19,УЧАСТНИКИ!$A$2:$L$1099,5,FALSE) -> Москва Нижегородская область | F19: =VLOOKUP($R19,УЧАСТНИКИ!$A$2:$L$1099,7,FALSE) -> #N/A | G19: =VLOOKUP($X19,УЧАСТНИКИ!$A$2:$L$1099,11,FALSE) -> ГБУ "СШОР "Луч" Москомспорта, МБУ "КСШОР № 1" | I19: 5740 | J19: 5849 | K19: 5848 | L19: 6086 | M19: 6000 | N19: х | O19: =I19/100 -> 57.4 | P19: =J19/100 -> 58.49 | Q19: =K19/100 -> 58.48 | R19: =L19/100 -> 60.86 | S19: =M19/100 -> 60 | T19: =MAX(N19,O19,P19,Q19,R19,S19) -> 60.86 | U19: =IF(T19>=$Y$13,"МСМК",IF(T19>=$Z$13,"МС",IF(T19>=$AA$13,"КМС",IF(T19>=$AB$13,"1",IF(T19>=$AC$13,"2",IF(T19>=$AD$13,"3",IF(T19>=$AE$13,"1юн",IF(T19>=$AF$13,"2юн",IF(T19>=$AG$13,"3юн",IF(T19<$AG$13,"б/р")))))))))) -> МС | V19: 13+5 | W19: =VLOOKUP($X19,УЧАСТНИКИ!$A$2:$L$1099,10,FALSE) -> Коптюх И.Н., Садов М.В. | X19: 230
A20: 7 | B20: =VLOOKUP($X20,УЧАСТНИКИ!$A$2:$L$1099,3,FALSE) -> Коробова Анна | C20: =VLOOKUP($X20,УЧАСТНИКИ!$A$2:$L$1099,4,FALSE) -> 25.02.2000 | D20: =VLOOKUP($X20,УЧАСТНИКИ!$A$2:$L$1099,8,FALSE) -> МС | E20: =VLOOKUP($X20,УЧАСТНИКИ!$A$2:$L$1099,5,FALSE) -> Московская область | F20: =VLOOKUP($R20,УЧАСТНИКИ!$A$2:$L$1099,7,FALSE) -> #N/A | G20: =VLOOKUP($X20,УЧАСТНИКИ!$A$2:$L$1099,11,FALSE) -> ГБУ МО "ЦСП ОВС", ГБПОУ МО "УОР № 1", МБУ "СШ - Центр спорта "Метеор" | H20: 5780 | K20: 5888 | L20: 5802 | M20: 5759 | N20: =H20/100 -> 57.8 | O20: х | P20: х | Q20: =K20/100 -> 58.88 | R20: =L20/100 -> 58.02 | S20: =M20/100 -> 57.59 | T20: =MAX(N20,O20,P20,Q20,R20,S20) -> 58.88 | U20: =IF(T20>=$Y$13,"МСМК",IF(T20>=$Z$13,"МС",IF(T20>=$AA$13,"КМС",IF(T20>=$AB$13,"1",IF(T20>=$AC$13,"2",IF(T20>=$AD$13,"3",IF(T20>=$AE$13,"1юн",IF(T20>=$AF$13,"2юн",IF(T20>=$AG$13,"3юн",IF(T20<$AG$13,"б/р")))))))))) -> МС | V20: =VLOOKUP($X20,УЧАСТНИКИ!$A$2:$L$1099,9,FALSE) -> Л | W20: =VLOOKUP($X20,УЧАСТНИКИ!$A$2:$L$1099,10,FALSE) -> Водолага И.Г., Айдамиров Е.Д., Белобородов Н.Н. | X20: 457
A21: 8 | B21: =VLOOKUP($X21,УЧАСТНИКИ!$A$2:$L$1099,3,FALSE) -> Шкуратова Анастасия | C21: =VLOOKUP($X21,УЧАСТНИКИ!$A$2:$L$1099,4,FALSE) -> 29.12.1999 | D21: =VLOOKUP($X21,УЧАСТНИКИ!$A$2:$L$1099,8,FALSE) -> МС | E21: =VLOOKUP($X21,УЧАСТНИКИ!$A$2:$L$1099,5,FALSE) -> Московская область | F21: =VLOOKUP($R21,УЧАСТНИКИ!$A$2:$L$1099,7,FALSE) -> #N/A | G21: =VLOOKUP($X21,УЧАСТНИКИ!$A$2:$L$1099,11,FALSE) -> ГБУ МО "ЦСП ОВС", МУ ДСШ (г. Люберцы) | H21: 5494 | I21: 5719 | J21: 5644 | L21: 5352 | M21: 5586 | N21: =H21/100 -> 54.94 | O21: =I21/100 -> 57.19 | P21: =J21/100 -> 56.44 | Q21: х | R21: =L21/100 -> 53.52 | S21: =M21/100 -> 55.86 | T21: =MAX(N21,O21,P21,Q21,R21,S21) -> 57.19 | U21: =IF(T21>=$Y$13,"МСМК",IF(T21>=$Z$13,"МС",IF(T21>=$AA$13,"КМС",IF(T21>=$AB$13,"1",IF(T21>=$AC$13,"2",IF(T21>=$AD$13,"3",IF(T21>=$AE$13,"1юн",IF(T21>=$AF$13,"2юн",IF(T21>=$AG$13,"3юн",IF(T21<$AG$13,"б/р")))))))))) -> МС | V21: =VLOOKUP($X21,УЧАСТНИКИ!$A$2:$L$1099,9,FALSE) -> Л | W21: =VLOOKUP($X21,УЧАСТНИКИ!$A$2:$L$1099,10,FALSE) -> Миленин В.А., Прошкина М.В. | X21: 474
A22: 9 | B22: =VLOOKUP($X22,УЧАСТНИКИ!$A$2:$L$1099,3,FALSE) -> Мельчанова Кристина | C22: =VLOOKUP($X22,УЧАСТНИКИ!$A$2:$L$1099,4,FALSE) -> 01.10.1997 | D22: =VLOOKUP($X22,УЧАСТНИКИ!$A$2:$L$1099,8,FALSE) -> КМС | E22: =VLOOKUP($X22,УЧАСТНИКИ!$A$2:$L$1099,5,FALSE) -> Москва Нижегородская область | F22: =VLOOKUP($R22,УЧАСТНИКИ!$A$2:$L$1099,7,FALSE) -> #N/A | G22: =VLOOKUP($X22,УЧАСТНИКИ!$A$2:$L$1099,11,FALSE) -> ГБУ "СШОР "Луч" Москомспорта, МБУ "КСШОР № 1" | H22: 5347 | J22: 5290 | N22: =H22/100 -> 53.47 | O22: х | P22: =J22/100 -> 52.9 | T22: =MAX(N22,O22,P22,Q22,R22,S22) -> 53.47 | U22: =IF(T22>=$Y$13,"МСМК",IF(T22>=$Z$13,"МС",IF(T22>=$AA$13,"КМС",IF(T22>=$AB$13,"1",IF(T22>=$AC$13,"2",IF(T22>=$AD$13,"3",IF(T22>=$AE$13,"1юн",IF(T22>=$AF$13,"2юн",IF(T22>=$AG$13,"3юн",IF(T22<$AG$13,"б/р")))))))))) -> КМС | V22: 12 | W22: =VLOOKUP($X22,УЧАСТНИКИ!$A$2:$L$1099,10,FALSE) -> Садов М.В., Садова В.М. | X22: 226
A23: 10 | B23: =VLOOKUP($X23,УЧАСТНИКИ!$A$2:$L$1099,3,FALSE) -> Кузнецова Анастасия | C23: =VLOOKUP($X23,УЧАСТНИКИ!$A$2:$L$1099,4,FALSE) -> 07.05.2000 | D23: =VLOOKUP($X23,УЧАСТНИКИ!$A$2:$L$1099,8,FALSE) -> КМС | E23: =VLOOKUP($X23,УЧАСТНИКИ!$A$2:$L$1099,5,FALSE) -> Московская область | F23: =VLOOKUP($R23,УЧАСТНИКИ!$A$2:$L$1099,7,FALSE) -> #N/A | G23: =VLOOKUP($X23,УЧАСТНИКИ!$A$2:$L$1099,11,FALSE) -> ГБПОУ МО "УОР № 2", МБУ "СШ - Центр спорта "Метеор" | J23: 5342 | N23: х | O23: х | P23: =J23/100 -> 53.42 | T23: =MAX(N23,O23,P23,Q23,R23,S23) -> 53.42 | U23: =IF(T23>=$Y$13,"МСМК",IF(T23>=$Z$13,"МС",IF(T23>=$AA$13,"КМС",IF(T23>=$AB$13,"1",IF(T23>=$AC$13,"2",IF(T23>=$AD$13,"3",IF(T23>=$AE$13,"1юн",IF(T23>=$AF$13,"2юн",IF(T23>=$AG$13,"3юн",IF(T23<$AG$13,"б/р")))))))))) -> КМС | V23: Л | W23: =VLOOKUP($X23,УЧАСТНИКИ!$A$2:$L$1099,10,FALSE) -> Водолага И.Г., Айдамиров Е.Д., Белобородов Н.Н. | X23: 459
A24: 11 | B24: =VLOOKUP($X24,УЧАСТНИКИ!$A$2:$L$1099,3,FALSE) -> Ткачева Ирина | C24: =VLOOKUP($X24,УЧАСТНИКИ!$A$2:$L$1099,4,FALSE) -> 09.02.1998 | D24: =VLOOKUP($X24,УЧАСТНИКИ!$A$2:$L$1099,8,FALSE) -> МС | E24: =VLOOKUP($X24,УЧАСТНИКИ!$A$2:$L$1099,5,FALSE) -> Московская область | F24: =VLOOKUP($R24,УЧАСТНИКИ!$A$2:$L$1099,7,FALSE) -> #N/A | G24: =VLOOKUP($X24,УЧАСТНИКИ!$A$2:$L$1099,11,FALSE) -> МБУ ФСО "СШОР "Авангард", ГБУ МО "ЦОВС" | H24: 5126 | N24: =H24/100 -> 51.26 | O24: х | P24: х | T24: =MAX(N24,O24,P24,Q24,R24,S24) -> 51.26 | U24: =IF(T24>=$Y$13,"МСМК",IF(T24>=$Z$13,"МС",IF(T24>=$AA$13,"КМС",IF(T24>=$AB$13,"1",IF(T24>=$AC$13,"2",IF(T24>=$AD$13,"3",IF(T24>=$AE$13,"1юн",IF(T24>=$AF$13,"2юн",IF(T24>=$AG$13,"3юн",IF(T24<$AG$13,"б/р")))))))))) -> КМС | V24: =VLOOKUP($X24,УЧАСТНИКИ!$A$2:$L$1099,9,FALSE) -> Л | W24: =VLOOKUP($X24,УЧАСТНИКИ!$A$2:$L$1099,10,FALSE) -> Жуков А.А. | X24: 470
B25: =VLOOKUP($X25,УЧАСТНИКИ!$A$2:$L$1099,3,FALSE) -> #N/A | C25: =VLOOKUP($X25,УЧАСТНИКИ!$A$2:$L$1099,4,FALSE) -> #N/A | D25: =VLOOKUP($X25,УЧАСТНИКИ!$A$2:$L$1099,8,FALSE) -> #N/A | E25: =VLOOKUP($X25,УЧАСТНИКИ!$A$2:$L$1099,5,FALSE) -> #N/A | F25: =VLOOKUP($R25,УЧАСТНИКИ!$A$2:$L$1099,7,FALSE) -> #N/A | G25: =VLOOKUP($X25,УЧАСТНИКИ!$A$2:$L$1099,11,FALSE) -> #N/A | N25: =H25/100 -> 0 | O25: =I25/100 -> 0 | P25: =J25/100 -> 0 | Q25: =K25/100 -> 0 | R25: =L25/100 -> 0 | S25: =M25/100 -> 0 | T25: =MAX(N25,O25,P25,Q25,R25,S25) -> 0 | U25: =IF(T25>=$Y$13,"МСМК",IF(T25>=$Z$13,"МС",IF(T25>=$AA$13,"КМС",IF(T25>=$AB$13,"1",IF(T25>=$AC$13,"2",IF(T25>=$AD$13,"3",IF(T25>=$AE$13,"1юн",IF(T25>=$AF$13,"2юн",IF(T25>=$AG$13,"3юн",IF(T25<$AG$13,"б/р")))))))))) -> 3юн | V25: =VLOOKUP($X25,УЧАСТНИКИ!$A$2:$L$1099,9,FALSE) -> #N/A | W25: =VLOOKUP($X25,УЧАСТНИКИ!$A$2:$L$1099,10,FALSE) -> #N/A
B26: =VLOOKUP($X26,УЧАСТНИКИ!$A$2:$L$1099,3,FALSE) -> #N/A | C26: =VLOOKUP($X26,УЧАСТНИКИ!$A$2:$L$1099,4,FALSE) -> #N/A | D26: =VLOOKUP($X26,УЧАСТНИКИ!$A$2:$L$1099,8,FALSE) -> #N/A | E26: =VLOOKUP($X26,УЧАСТНИКИ!$A$2:$L$1099,5,FALSE) -> #N/A | F26: =VLOOKUP($R26,УЧАСТНИКИ!$A$2:$L$1099,7,FALSE) -> #N/A | G26: =VLOOKUP($X26,УЧАСТНИКИ!$A$2:$L$1099,11,FALSE) -> #N/A | N26: =H26/100 -> 0 | O26: =I26/100 -> 0 | P26: =J26/100 -> 0 | Q26: =K26/100 -> 0 | R26: =L26/100 -> 0 | S26: =M26/100 -> 0 | T26: =MAX(N26,O26,P26,Q26,R26,S26) -> 0 | U26: =IF(T26>=$Y$13,"МСМК",IF(T26>=$Z$13,"МС",IF(T26>=$AA$13,"КМС",IF(T26>=$AB$13,"1",IF(T26>=$AC$13,"2",IF(T26>=$AD$13,"3",IF(T26>=$AE$13,"1юн",IF(T26>=$AF$13,"2юн",IF(T26>=$AG$13,"3юн",IF(T26<$AG$13,"б/р")))))))))) -> 3юн | V26: =VLOOKUP($X26,УЧАСТНИКИ!$A$2:$L$1099,9,FALSE) -> #N/A | W26: =VLOOKUP($X26,УЧАСТНИКИ!$A$2:$L$1099,10,FALSE) -> #N/A
B27: =VLOOKUP($X27,УЧАСТНИКИ!$A$2:$L$1099,3,FALSE) -> #N/A | C27: =VLOOKUP($X27,УЧАСТНИКИ!$A$2:$L$1099,4,FALSE) -> #N/A | D27: =VLOOKUP($X27,УЧАСТНИКИ!$A$2:$L$1099,8,FALSE) -> #N/A | E27: =VLOOKUP($X27,УЧАСТНИКИ!$A$2:$L$1099,5,FALSE) -> #N/A | F27: =VLOOKUP($R27,УЧАСТНИКИ!$A$2:$L$1099,7,FALSE) -> #N/A | G27: =VLOOKUP($X27,УЧАСТНИКИ!$A$2:$L$1099,11,FALSE) -> #N/A | N27: =H27/100 -> 0 | O27: =I27/100 -> 0 | P27: =J27/100 -> 0 | Q27: =K27/100 -> 0 | R27: =L27/100 -> 0 | S27: =M27/100 -> 0 | T27: =MAX(N27,O27,P27,Q27,R27,S27) -> 0 | U27: =IF(T27>=$Y$13,"МСМК",IF(T27>=$Z$13,"МС",IF(T27>=$AA$13,"КМС",IF(T27>=$AB$13,"1",IF(T27>=$AC$13,"2",IF(T27>=$AD$13,"3",IF(T27>=$AE$13,"1юн",IF(T27>=$AF$13,"2юн",IF(T27>=$AG$13,"3юн",IF(T27<$AG$13,"б/р")))))))))) -> 3юн | V27: =VLOOKUP($X27,УЧАСТНИКИ!$A$2:$L$1099,9,FALSE) -> #N/A | W27: =VLOOKUP($X27,УЧАСТНИКИ!$A$2:$L$1099,10,FALSE) -> #N/A
B28: =VLOOKUP($X28,УЧАСТНИКИ!$A$2:$L$1099,3,FALSE) -> #N/A | C28: =VLOOKUP($X28,УЧАСТНИКИ!$A$2:$L$1099,4,FALSE) -> #N/A | D28: =VLOOKUP($X28,УЧАСТНИКИ!$A$2:$L$1099,8,FALSE) -> #N/A | E28: =VLOOKUP($X28,УЧАСТНИКИ!$A$2:$L$1099,5,FALSE) -> #N/A | F28: =VLOOKUP($R28,УЧАСТНИКИ!$A$2:$L$1099,7,FALSE) -> #N/A | G28: =VLOOKUP($X28,УЧАСТНИКИ!$A$2:$L$1099,11,FALSE) -> #N/A | N28: =H28/100 -> 0 | O28: =I28/100 -> 0 | P28: =J28/100 -> 0 | Q28: =K28/100 -> 0 | R28: =L28/100 -> 0 | S28: =M28/100 -> 0 | T28: =MAX(N28,O28,P28,Q28,R28,S28) -> 0 | U28: =IF(T28>=$Y$13,"МСМК",IF(T28>=$Z$13,"МС",IF(T28>=$AA$13,"КМС",IF(T28>=$AB$13,"1",IF(T28>=$AC$13,"2",IF(T28>=$AD$13,"3",IF(T28>=$AE$13,"1юн",IF(T28>=$AF$13,"2юн",IF(T28>=$AG$13,"3юн",IF(T28<$AG$13,"б/р")))))))))) -> 3юн | V28: =VLOOKUP($X28,УЧАСТНИКИ!$A$2:$L$1099,9,FALSE) -> #N/A | W28: =VLOOKUP($X28,УЧАСТНИКИ!$A$2:$L$1099,10,FALSE) -> #N/A
B29: =VLOOKUP($X29,УЧАСТНИКИ!$A$2:$L$1099,3,FALSE) -> #N/A | C29: =VLOOKUP($X29,УЧАСТНИКИ!$A$2:$L$1099,4,FALSE) -> #N/A | D29: =VLOOKUP($X29,УЧАСТНИКИ!$A$2:$L$1099,8,FALSE) -> #N/A | E29: =VLOOKUP($X29,УЧАСТНИКИ!$A$2:$L$1099,5,FALSE) -> #N/A | F29: =VLOOKUP($R29,УЧАСТНИКИ!$A$2:$L$1099,7,FALSE) -> #N/A | G29: =VLOOKUP($X29,УЧАСТНИКИ!$A$2:$L$1099,11,FALSE) -> #N/A | N29: =H29/100 -> 0 | O29: =I29/100 -> 0 | P29: =J29/100 -> 0 | Q29: =K29/100 -> 0 | R29: =L29/100 -> 0 | S29: =M29/100 -> 0 | T29: =MAX(N29,O29,P29,Q29,R29,S29) -> 0 | U29: =IF(T29>=$Y$13,"МСМК",IF(T29>=$Z$13,"МС",IF(T29>=$AA$13,"КМС",IF(T29>=$AB$13,"1",IF(T29>=$AC$13,"2",IF(T29>=$AD$13,"3",IF(T29>=$AE$13,"1юн",IF(T29>=$AF$13,"2юн",IF(T29>=$AG$13,"3юн",IF(T29<$AG$13,"б/р")))))))))) -> 3юн | V29: =VLOOKUP($X29,УЧАСТНИКИ!$A$2:$L$1099,9,FALSE) -> #N/A | W29: =VLOOKUP($X29,УЧАСТНИКИ!$A$2:$L$1099,10,FALSE) -> #N/A
B30: =VLOOKUP($X30,УЧАСТНИКИ!$A$2:$L$1099,3,FALSE) -> #N/A | C30: =VLOOKUP($X30,УЧАСТНИКИ!$A$2:$L$1099,4,FALSE) -> #N/A | D30: =VLOOKUP($X30,УЧАСТНИКИ!$A$2:$L$1099,8,FALSE) -> #N/A | E30: =VLOOKUP($X30,УЧАСТНИКИ!$A$2:$L$1099,5,FALSE) -> #N/A | F30: =VLOOKUP($R30,УЧАСТНИКИ!$A$2:$L$1099,7,FALSE) -> #N/A | G30: =VLOOKUP($X30,УЧАСТНИКИ!$A$2:$L$1099,11,FALSE) -> #N/A | N30: =H30/100 -> 0 | O30: =I30/100 -> 0 | P30: =J30/100 -> 0 | Q30: =K30/100 -> 0 | R30: =L30/100 -> 0 | S30: =M30/100 -> 0 | T30: =MAX(N30,O30,P30,Q30,R30,S30) -> 0 | U30: =IF(T30>=$Y$13,"МСМК",IF(T30>=$Z$13,"МС",IF(T30>=$AA$13,"КМС",IF(T30>=$AB$13,"1",IF(T30>=$AC$13,"2",IF(T30>=$AD$13,"3",IF(T30>=$AE$13,"1юн",IF(T30>=$AF$13,"2юн",IF(T30>=$AG$13,"3юн",IF(T30<$AG$13,"б/р")))))))))) -> 3юн | V30: =VLOOKUP($X30,УЧАСТНИКИ!$A$2:$L$1099,9,FALSE) -> #N/A | W30: =VLOOKUP($X30,УЧАСТНИКИ!$A$2:$L$1099,10,FALSE) -> #N/A
B31: =VLOOKUP($X31,УЧАСТНИКИ!$A$2:$L$1099,3,FALSE) -> #N/A | C31: =VLOOKUP($X31,УЧАСТНИКИ!$A$2:$L$1099,4,FALSE) -> #N/A | D31: =VLOOKUP($X31,УЧАСТНИКИ!$A$2:$L$1099,8,FALSE) -> #N/A | E31: =VLOOKUP($X31,УЧАСТНИКИ!$A$2:$L$1099,5,FALSE) -> #N/A | F31: =VLOOKUP($R31,УЧАСТНИКИ!$A$2:$L$1099,7,FALSE) -> #N/A | G31: =VLOOKUP($X31,УЧАСТНИКИ!$A$2:$L$1099,11,FALSE) -> #N/A | N31: =H31/100 -> 0 | O31: =I31/100 -> 0 | P31: =J31/100 -> 0 | Q31: =K31/100 -> 0 | R31: =L31/100 -> 0 | S31: =M31/100 -> 0 | T31: =MAX(N31,O31,P31,Q31,R31,S31) -> 0 | U31: =IF(T31>=$Y$13,"МСМК",IF(T31>=$Z$13,"МС",IF(T31>=$AA$13,"КМС",IF(T31>=$AB$13,"1",IF(T31>=$AC$13,"2",IF(T31>=$AD$13,"3",IF(T31>=$AE$13,"1юн",IF(T31>=$AF$13,"2юн",IF(T31>=$AG$13,"3юн",IF(T31<$AG$13,"б/р")))))))))) -> 3юн | V31: =VLOOKUP($X31,УЧАСТНИКИ!$A$2:$L$1099,9,FALSE) -> #N/A | W31: =VLOOKUP($X31,УЧАСТНИКИ!$A$2:$L$1099,10,FALSE) -> #N/A
B32: =VLOOKUP($X32,УЧАСТНИКИ!$A$2:$L$1099,3,FALSE) -> #N/A | C32: =VLOOKUP($X32,УЧАСТНИКИ!$A$2:$L$1099,4,FALSE) -> #N/A | D32: =VLOOKUP($X32,УЧАСТНИКИ!$A$2:$L$1099,8,FALSE) -> #N/A | E32: =VLOOKUP($X32,УЧАСТНИКИ!$A$2:$L$1099,5,FALSE) -> #N/A | F32: =VLOOKUP($R32,УЧАСТНИКИ!$A$2:$L$1099,7,FALSE) -> #N/A | G32: =VLOOKUP($X32,УЧАСТНИКИ!$A$2:$L$1099,11,FALSE) -> #N/A | N32: =H32/100 -> 0 | O32: =I32/100 -> 0 | P32: =J32/100 -> 0 | Q32: =K32/100 -> 0 | R32: =L32/100 -> 0 | S32: =M32/100 -> 0 | T32: =MAX(N32,O32,P32,Q32,R32,S32) -> 0 | U32: =IF(T32>=$Y$13,"МСМК",IF(T32>=$Z$13,"МС",IF(T32>=$AA$13,"КМС",IF(T32>=$AB$13,"1",IF(T32>=$AC$13,"2",IF(T32>=$AD$13,"3",IF(T32>=$AE$13,"1юн",IF(T32>=$AF$13,"2юн",IF(T32>=$AG$13,"3юн",IF(T32<$AG$13,"б/р")))))))))) -> 3юн | V32: =VLOOKUP($X32,УЧАСТНИКИ!$A$2:$L$1099,9,FALSE) -> #N/A | W32: =VLOOKUP($X32,УЧАСТНИКИ!$A$2:$L$1099,10,FALSE) -> #N/A
B33: =VLOOKUP($X33,УЧАСТНИКИ!$A$2:$L$1099,3,FALSE) -> #N/A | C33: =VLOOKUP($X33,УЧАСТНИКИ!$A$2:$L$1099,4,FALSE) -> #N/A | D33: =VLOOKUP($X33,УЧАСТНИКИ!$A$2:$L$1099,8,FALSE) -> #N/A | E33: =VLOOKUP($X33,УЧАСТНИКИ!$A$2:$L$1099,5,FALSE) -> #N/A | F33: =VLOOKUP($R33,УЧАСТНИКИ!$A$2:$L$1099,7,FALSE) -> #N/A | G33: =VLOOKUP($X33,УЧАСТНИКИ!$A$2:$L$1099,11,FALSE) -> #N/A | N33: =H33/100 -> 0 | O33: =I33/100 -> 0 | P33: =J33/100 -> 0 | Q33: =K33/100 -> 0 | R33: =L33/100 -> 0 | S33: =M33/100 -> 0 | T33: =MAX(N33,O33,P33,Q33,R33,S33) -> 0 | U33: =IF(T33>=$Y$13,"МСМК",IF(T33>=$Z$13,"МС",IF(T33>=$AA$13,"КМС",IF(T33>=$AB$13,"1",IF(T33>=$AC$13,"2",IF(T33>=$AD$13,"3",IF(T33>=$AE$13,"1юн",IF(T33>=$AF$13,"2юн",IF(T33>=$AG$13,"3юн",IF(T33<$AG$13,"б/р")))))))))) -> 3юн | V33: =VLOOKUP($X33,УЧАСТНИКИ!$A$2:$L$1099,9,FALSE) -> #N/A | W33: =VLOOKUP($X33,УЧАСТНИКИ!$A$2:$L$1099,10,FALSE) -> #N/A
B34: =VLOOKUP($X34,УЧАСТНИКИ!$A$2:$L$1099,3,FALSE) -> #N/A | C34: =VLOOKUP($X34,УЧАСТНИКИ!$A$2:$L$1099,4,FALSE) -> #N/A | D34: =VLOOKUP($X34,УЧАСТНИКИ!$A$2:$L$1099,8,FALSE) -> #N/A | E34: =VLOOKUP($X34,УЧАСТНИКИ!$A$2:$L$1099,5,FALSE) -> #N/A | F34: =VLOOKUP($R34,УЧАСТНИКИ!$A$2:$L$1099,7,FALSE) -> #N/A | G34: =VLOOKUP($X34,УЧАСТНИКИ!$A$2:$L$1099,11,FALSE) -> #N/A | N34: =H34/100 -> 0 | O34: =I34/100 -> 0 | P34: =J34/100 -> 0 | Q34: =K34/100 -> 0 | R34: =L34/100 -> 0 | S34: =M34/100 -> 0 | T34: =MAX(N34,O34,P34,Q34,R34,S34) -> 0 | U34: =IF(T34>=$Y$13,"МСМК",IF(T34>=$Z$13,"МС",IF(T34>=$AA$13,"КМС",IF(T34>=$AB$13,"1",IF(T34>=$AC$13,"2",IF(T34>=$AD$13,"3",IF(T34>=$AE$13,"1юн",IF(T34>=$AF$13,"2юн",IF(T34>=$AG$13,"3юн",IF(T34<$AG$13,"б/р")))))))))) -> 3юн | V34: =VLOOKUP($X34,УЧАСТНИКИ!$A$2:$L$1099,9,FALSE) -> #N/A | W34: =VLOOKUP($X34,УЧАСТНИКИ!$A$2:$L$1099,10,FALSE) -> #N/A
B35: =VLOOKUP($X35,УЧАСТНИКИ!$A$2:$L$1099,3,FALSE) -> #N/A | C35: =VLOOKUP($X35,УЧАСТНИКИ!$A$2:$L$1099,4,FALSE) -> #N/A | D35: =VLOOKUP($X35,УЧАСТНИКИ!$A$2:$L$1099,8,FALSE) -> #N/A | E35: =VLOOKUP($X35,УЧАСТНИКИ!$A$2:$L$1099,5,FALSE) -> #N/A | F35: =VLOOKUP($R35,УЧАСТНИКИ!$A$2:$L$1099,7,FALSE) -> #N/A | G35: =VLOOKUP($X35,УЧАСТНИКИ!$A$2:$L$1099,11,FALSE) -> #N/A | N35: =H35/100 -> 0 | O35: =I35/100 -> 0 | P35: =J35/100 -> 0 | Q35: =K35/100 -> 0 | R35: =L35/100 -> 0 | S35: =M35/100 -> 0 | T35: =MAX(N35,O35,P35,Q35,R35,S35) -> 0 | U35: =IF(T35>=$Y$13,"МСМК",IF(T35>=$Z$13,"МС",IF(T35>=$AA$13,"КМС",IF(T35>=$AB$13,"1",IF(T35>=$AC$13,"2",IF(T35>=$AD$13,"3",IF(T35>=$AE$13,"1юн",IF(T35>=$AF$13,"2юн",IF(T35>=$AG$13,"3юн",IF(T35<$AG$13,"б/р")))))))))) -> 3юн | V35: =VLOOKUP($X35,УЧАСТНИКИ!$A$2:$L$1099,9,FALSE) -> #N/A | W35: =VLOOKUP($X35,УЧАСТНИКИ!$A$2:$L$1099,10,FALSE) -> #N/A
B36: =VLOOKUP($X36,УЧАСТНИКИ!$A$2:$L$1099,3,FALSE) -> #N/A | C36: =VLOOKUP($X36,УЧАСТНИКИ!$A$2:$L$1099,4,FALSE) -> #N/A | D36: =VLOOKUP($X36,УЧАСТНИКИ!$A$2:$L$1099,8,FALSE) -> #N/A | E36: =VLOOKUP($X36,УЧАСТНИКИ!$A$2:$L$1099,5,FALSE) -> #N/A | F36: =VLOOKUP($R36,УЧАСТНИКИ!$A$2:$L$1099,7,FALSE) -> #N/A | G36: =VLOOKUP($X36,УЧАСТНИКИ!$A$2:$L$1099,11,FALSE) -> #N/A | N36: =H36/100 -> 0 | O36: =I36/100 -> 0 | P36: =J36/100 -> 0 | Q36: =K36/100 -> 0 | R36: =L36/100 -> 0 | S36: =M36/100 -> 0 | T36: =MAX(N36,O36,P36,Q36,R36,S36) -> 0 | U36: =IF(T36>=$Y$13,"МСМК",IF(T36>=$Z$13,"МС",IF(T36>=$AA$13,"КМС",IF(T36>=$AB$13,"1",IF(T36>=$AC$13,"2",IF(T36>=$AD$13,"3",IF(T36>=$AE$13,"1юн",IF(T36>=$AF$13,"2юн",IF(T36>=$AG$13,"3юн",IF(T36<$AG$13,"б/р")))))))))) -> 3юн | V36: =VLOOKUP($X36,УЧАСТНИКИ!$A$2:$L$1099,9,FALSE) -> #N/A | W36: =VLOOKUP($X36,УЧАСТНИКИ!$A$2:$L$1099,10,FALSE) -> #N/A
... B45: =VLOOKUP($X45,УЧАСТНИКИ!$A$2:$L$1099,3,FALSE) -> #N/A | C45: =VLOOKUP($X45,УЧАСТНИКИ!$A$2:$L$1099,4,FALSE) -> #N/A | D45: =VLOOKUP($X45,УЧАСТНИКИ!$A$2:$L$1099,8,FALSE) -> #N/A | E45: =VLOOKUP($X45,УЧАСТНИКИ!$A$2:$L$1099,5,FALSE) -> #N/A | F45: =VLOOKUP($R45,УЧАСТНИКИ!$A$2:$L$1099,7,FALSE) -> #N/A | G45: =VLOOKUP($X45,УЧАСТНИКИ!$A$2:$L$1099,11,FALSE) -> #N/A | N45: =H45/100 -> 0 | O45: =I45/100 -> 0 | P45: =J45/100 -> 0 | Q45: =K45/100 -> 0 | R45: =L45/100 -> 0 | S45: =M45/100 -> 0 | T45: =MAX(N45,O45,P45,Q45,R45,S45) -> 0 | U45: =IF(T45>=$Y$13,"МСМК",IF(T45>=$Z$13,"МС",IF(T45>=$AA$13,"КМС",IF(T45>=$AB$13,"1",IF(T45>=$AC$13,"2",IF(T45>=$AD$13,"3",IF(T45>=$AE$13,"1юн",IF(T45>=$AF$13,"2юн",IF(T45>=$AG$13,"3юн",IF(T45<$AG$13,"б/р")))))))))) -> 3юн | V45: =VLOOKUP($X45,УЧАСТНИКИ!$A$2:$L$1099,9,FALSE) -> #N/A | W45: =VLOOKUP($X45,УЧАСТНИКИ!$A$2:$L$1099,10,FALSE) -> #N/A
A46: 33 | B46: =VLOOKUP($X46,УЧАСТНИКИ!$A$2:$L$1099,3,FALSE) -> #N/A | C46: =VLOOKUP($X46,УЧАСТНИКИ!$A$2:$L$1099,4,FALSE) -> #N/A | D46: =VLOOKUP($X46,УЧАСТНИКИ!$A$2:$L$1099,8,FALSE) -> #N/A | E46: =VLOOKUP($X46,УЧАСТНИКИ!$A$2:$L$1099,5,FALSE) -> #N/A | F46: =VLOOKUP($R46,УЧАСТНИКИ!$A$2:$L$1099,7,FALSE) -> #N/A | G46: =VLOOKUP($X46,УЧАСТНИКИ!$A$2:$L$1099,11,FALSE) -> #N/A | N46: =H46/100 -> 0 | O46: =I46/100 -> 0 | P46: =J46/100 -> 0 | Q46: =K46/100 -> 0 | R46: =L46/100 -> 0 | S46: =M46/100 -> 0 | T46: =MAX(N46,O46,P46,Q46,R46,S46) -> 0 | U46: =IF(T46>=$Y$13,"МСМК",IF(T46>=$Z$13,"МС",IF(T46>=$AA$13,"КМС",IF(T46>=$AB$13,"1",IF(T46>=$AC$13,"2",IF(T46>=$AD$13,"3",IF(T46>=$AE$13,"1юн",IF(T46>=$AF$13,"2юн",IF(T46>=$AG$13,"3юн",IF(T46<$AG$13,"б/р")))))))))) -> 3юн | V46: =VLOOKUP($X46,УЧАСТНИКИ!$A$2:$L$1099,9,FALSE) -> #N/A | W46: =VLOOKUP($X46,УЧАСТНИКИ!$A$2:$L$1099,10,FALSE) -> #N/A
A47: 34 | B47: =VLOOKUP($X47,УЧАСТНИКИ!$A$2:$L$1099,3,FALSE) -> #N/A | C47: =VLOOKUP($X47,УЧАСТНИКИ!$A$2:$L$1099,4,FALSE) -> #N/A | D47: =VLOOKUP($X47,УЧАСТНИКИ!$A$2:$L$1099,8,FALSE) -> #N/A | E47: =VLOOKUP($X47,УЧАСТНИКИ!$A$2:$L$1099,5,FALSE) -> #N/A | F47: =VLOOKUP($R47,УЧАСТНИКИ!$A$2:$L$1099,7,FALSE) -> #N/A | G47: =VLOOKUP($X47,УЧАСТНИКИ!$A$2:$L$1099,11,FALSE) -> #N/A | N47: =H47/100 -> 0 | O47: =I47/100 -> 0 | P47: =J47/100 -> 0 | Q47: =K47/100 -> 0 | R47: =L47/100 -> 0 | S47: =M47/100 -> 0 | T47: =MAX(N47,O47,P47,Q47,R47,S47) -> 0 | U47: =IF(T47>=$Y$13,"МСМК",IF(T47>=$Z$13,"МС",IF(T47>=$AA$13,"КМС",IF(T47>=$AB$13,"1",IF(T47>=$AC$13,"2",IF(T47>=$AD$13,"3",IF(T47>=$AE$13,"1юн",IF(T47>=$AF$13,"2юн",IF(T47>=$AG$13,"3юн",IF(T47<$AG$13,"б/р")))))))))) -> 3юн | V47: =VLOOKUP($X47,УЧАСТНИКИ!$A$2:$L$1099,9,FALSE) -> #N/A | W47: =VLOOKUP($X47,УЧАСТНИКИ!$A$2:$L$1099,10,FALSE) -> #N/A
A48: 35 | B48: =VLOOKUP($X48,УЧАСТНИКИ!$A$2:$L$1099,3,FALSE) -> #N/A | C48: =VLOOKUP($X48,УЧАСТНИКИ!$A$2:$L$1099,4,FALSE) -> #N/A | D48: =VLOOKUP($X48,УЧАСТНИКИ!$A$2:$L$1099,8,FALSE) -> #N/A | E48: =VLOOKUP($X48,УЧАСТНИКИ!$A$2:$L$1099,5,FALSE) -> #N/A | F48: =VLOOKUP($R48,УЧАСТНИКИ!$A$2:$L$1099,7,FALSE) -> #N/A | G48: =VLOOKUP($X48,УЧАСТНИКИ!$A$2:$L$1099,11,FALSE) -> #N/A | N48: =H48/100 -> 0 | O48: =I48/100 -> 0 | P48: =J48/100 -> 0 | Q48: =K48/100 -> 0 | R48: =L48/100 -> 0 | S48: =M48/100 -> 0 | T48: =MAX(N48,O48,P48,Q48,R48,S48) -> 0 | U48: =IF(T48>=$Y$13,"МСМК",IF(T48>=$Z$13,"МС",IF(T48>=$AA$13,"КМС",IF(T48>=$AB$13,"1",IF(T48>=$AC$13,"2",IF(T48>=$AD$13,"3",IF(T48>=$AE$13,"1юн",IF(T48>=$AF$13,"2юн",IF(T48>=$AG$13,"3юн",IF(T48<$AG$13,"б/р")))))))))) -> 3юн | V48: =VLOOKUP($X48,УЧАСТНИКИ!$A$2:$L$1099,9,FALSE) -> #N/A | W48: =VLOOKUP($X48,УЧАСТНИКИ!$A$2:$L$1099,10,FALSE) -> #N/A
A49: 36 | B49: =VLOOKUP($X49,УЧАСТНИКИ!$A$2:$L$1099,3,FALSE) -> #N/A | C49: =VLOOKUP($X49,УЧАСТНИКИ!$A$2:$L$1099,4,FALSE) -> #N/A | D49: =VLOOKUP($X49,УЧАСТНИКИ!$A$2:$L$1099,8,FALSE) -> #N/A | E49: =VLOOKUP($X49,УЧАСТНИКИ!$A$2:$L$1099,5,FALSE) -> #N/A | F49: =VLOOKUP($R49,УЧАСТНИКИ!$A$2:$L$1099,7,FALSE) -> #N/A | G49: =VLOOKUP($X49,УЧАСТНИКИ!$A$2:$L$1099,11,FALSE) -> #N/A | N49: =H49/100 -> 0 | O49: =I49/100 -> 0 | P49: =J49/100 -> 0 | Q49: =K49/100 -> 0 | R49: =L49/100 -> 0 | S49: =M49/100 -> 0 | T49: =MAX(N49,O49,P49,Q49,R49,S49) -> 0 | U49: =IF(T49>=$Y$13,"МСМК",IF(T49>=$Z$13,"МС",IF(T49>=$AA$13,"КМС",IF(T49>=$AB$13,"1",IF(T49>=$AC$13,"2",IF(T49>=$AD$13,"3",IF(T49>=$AE$13,"1юн",IF(T49>=$AF$13,"2юн",IF(T49>=$AG$13,"3юн",IF(T49<$AG$13,"б/р")))))))))) -> 3юн | V49: =VLOOKUP($X49,УЧАСТНИКИ!$A$2:$L$1099,9,FALSE) -> #N/A | W49: =VLOOKUP($X49,УЧАСТНИКИ!$A$2:$L$1099,10,FALSE) -> #N/A
