Workbook
Name CUMM: #REF!
Name CUMM: #REF!
Name d_1: '1'!$A$1
Name d_2: '1'!$A$2
Name d_3: '1'!$A$3
Name d_4: '1'!$A$4
Name d_5: '1'!$A$5
Name d_6: '1'!$A$6
Name d_7: '1'!$A$7
Name date_1: '1'!$A$1
Name Name_1: '1'!$A$9
Name Name_2: '1'!$A$10
Name Name_3: '1'!$A$11
Name Name_4: '1'!$A$12
Name Name_5: '1'!$A$12
Name Name_6: '1'!$A$13
Name OLE_LINK1: УЧАСТНИКИ!$D$2
Name Tit_1: '1'!$A$9

Sheet 1
A1: 28.05.2019г.
A2: 29.05.2019г.
A3: 09.06.2019г.
A4: ЖЕНЩИНЫ
A5: г. Сочи, ул. Бзугу 2, ст. им. Славы Метревели
A6: t° +25 вл. 76%
A7: Адлер с/к "Юность"
A9: МИНИСТЕРСТВО ФИЗИЧЕСКОЙ КУЛЬТУРЫ И СПОРТА РОССИЙСКОЙ ФЕДЕРАЦИИ
A10: ВСЕРОССИЙСКАЯ ФЕДЕРАЦИЯ ЛЕГКОЙ АТЛЕТИКИ
A11: МИНИСТЕРСТВО ФИЗИЧЕСКОЙ КУЛЬТУРЫ И СПОРТА КРАСНОДАРСКОГО КРАЯ
A12: ФЕДЕРАЦИЯ ЛЕГКОЙ АТЛЕТИКИ КРАСНОДАРСКОГО КРАЯ
A13: ФЕДЕРАЦИЯ ЛЕГКОЙ АТЛЕТИКИ КРАСНОДАРСКОГО КРАЯ
A21: дисквал п.п. 162.7 | C21: фальстарт

Sheet УЧАСТНИКИ
A1: № уч-ка | B1: №№ | C1: ФАМИЛИЯ ИМЯ УЧАСТНИКА | D1: Год.рожд | E1: НАЗВАНИЕ КОМАНДЫ | F1: ВИД | G1: Округ | H1: Разряд | I1: лично | J1: ТРЕНЕР(ы) | K1: ДСО Ведомство
A2: 299 | C2: Преснякова Алиса | D2: 07.03.1998 | E2: Санкт-Петербург | F2: Прыжок в высоту | H2: МС | I2: К | J2: Семашко Е.В., Волкова И.В. | K2: СПб ГБПОУ "УОР № 1
A3: 20 | C3: Паренчук Лика | D3: 06.04.2002 | E3: Алтайский край | F3: Бег 400 м | H3: КМС | I3: К | J3: Клевцова Н.В., Панина Е.А. | K3: КГБ ПОУ "Алтайское училище олимпийского резерва"
A4: 491 | C4: Нерубенко Людмила | D4: 20.04.1998 | E4: Белгородская область | F4: Прыжок с шестом | H4: КМС | I4: К | J4: Кушкин В.Ю. | K4: МБУДО ДЮСШ №2 г. Белгород
A5: 266 | C5: Бузанакова Алия | D5: 28.01.1997 | E5: Санкт-Петербург | F5: Метание копья | H5: КМС | I5: Л | J5: Королёв В.В. | K5: ГБУ СШОР "Академия легкой атлетики Санкт-Петербурга"
A6: 258 | C6: Алисова Елизавета | D6: 21.06.2000 | E6: Санкт-Петербург Липецкая область | F6: Бег 100 м | H6: КМС | I6: Л | J6: Шекин Д.А., Бахвалова Е.А., Бурмистрова Н.И. | K6: ГБУ "СШОР" "Академия легкой атлетики Санкт-Петербурга"
A7: 258 | C7: Алисова Елизавета | D7: 21.06.2000 | E7: Санкт-Петербург Липецкая область | F7: Бег 200 м | H7: КМС | I7: Л | J7: Шекин Д.А., Бахвалова Е.А., Бурмистрова Н.И. | K7: ГБУ "СШОР" "Академия легкой атлетики Санкт-Петербурга"
A8: 16 | C8: Малинина (Ткаченко) Светлана | D8: 27.07.1994 | E8: Волгоградская область | F8: Барьерный бег 400 м | H8: КМС | I8: К | J8: Клочкова Е.Ю. | K8: МБУ СШОР № 5 (г. Волгоград)
A9: 131 | C9: Белякова Алена | D9: 21.12.1998 | E9: Краснодарский край ЮФО (К) | F9: Метание диска | H9: МС | I9: К | J9: Синицын А.В., Беляков Ю.Б. | K9: ГБУ КК "ЦОП по легкой атлетике", ГБУ КК"РЦСП по легкой атлетике"
A10: 215 | C10: Белова (Трифонова) Ирина | D10: 21.01.1994 | E10: Республика Мордовия | F10: Бег 100 м | H10: МС | I10: К | J10: Бусаров В.М. | K10: ГБУ РМ "КСШОР"
A11: 29 | C11: Алымова Вера | D11: 24.11.1995 | E11: Санкт-Петербург Брянская область | F11: Бег 200 м | H11: МС | I11: К | J11: Назаров В.И., Петров С.Г., Трубин Ю.Н. | K11: СПб ГБУ ЦОП "ШВСМ по легкой атлетике", ГБУ БО СШОР по легкой атлетике им. В.Д. Самотесова., СПб ГБУ ЦОП "ШВСМ по легкой атлетике"
A12: 9 | C12: Герасимова Анастасия | D12: 18.03.1998 | E12: Волгоградская область Саратовская область | F12: Бег 800 м | H12: КМС | I12: К | J12: Лупачев А.С. | K12: МБУ СШОР № 5 (г. Волгоград), ГАПОУ ВО "УОР имени дважды Героя Советского Союза А.И. Родимцева"
A13: 272 | C13: Григорьева Анастасия | D13: 07.11.1993 | E13: Санкт-Петербург | F13: Бег 100 м | H13: МС | I13: К | J13: Куликова Е.Ю., Буровцева Н.В. | K13: СПб ГБУ ЦОП "ШВСМ по легкой атлетике"
... A15: 390 | C15: Аплачкина Светлана | D15: 28.11.1992 | E15: Воронежская область | F15: Бег 1500 м | H15: МС | I15: К | J15: Осипов С.А., Аплачкин А.И. | K15: ГБУ ВО "СШОР № 21", АУ ВО "ЦСПСК"
C16: Аплачкина Светлана | D16: 28.11.1992 | E16: Воронежская область | F16: Бег 5 000 м | H16: МС | I16: К | J16: Осипов С.А., Аплачкин А.И. | K16: ГБУ ВО "СШОР № 21", АУ ВО "ЦСПСК"
A17: 391 | C17: Баулина Ирина | D17: 04.01.1999 | E17: Воронежская область | F17: Барьерный бег 400 м | H17: МС | I17: К | J17: Мащенко Р.М. | K17: МБУ "СШОР № 5"
A18: 392 | C18: Буреева Олеся | D18: 05.07.1998 | E18: Воронежская область | F18: Барьерный бег 400 м | H18: МС | I18: К | J18: Омельченко Д.А., Бабкин А.П., Демиденкова Г.А. | K18: ГБУ ВО "СШОР № 21"
A19: 393 | C19: Воробьева Анастасия | D19: 01.04.1999 | E19: Воронежская область | F19: Барьерный бег 100 м | H19: КМС | I19: К | J19: Мащенко Р.М. | K19: МБУ "СШОР № 5"
A20: 79 | C20: Жаткина Любовь | D20: 30.03.1990 | E20: Москва Ставропольский край | F20: Метание копья | H20: МС | I20: К | J20: Чернявская О.М., Чернявский С.К. | K20: ГБУ "ЦОП по легкой атлетике" Москомспорта, ГБУ СК "СШОР по легкой атлетике"
A21: 399 | C21: Рытикова Валерия | D21: 13.12.1995 | E21: Воронежская область | F21: Барьерный бег 100 м | H21: КМС | I21: К | J21: Бабкин А.П., Демиденкова Г.А. | K21: ГБУ ВО "СШОР № 21"
A22: 87 | C22: Денисова Надежда | D22: 16.03.2000 | E22: Тюменская область | F22: Бег 100 м | H22: КМС | I22: К | J22: Сергеев О.В., Артемьев Н.И. | K22: ГАУ ТО "ОСШОР", ТЮМГУ
A23: 215 | C23: Белова (Трифонова) Ирина | D23: 21.01.1994 | E23: Республика Мордовия | F23: Бег 200 м | H23: МС | I23: К | J23: Бусаров В.М. | K23: ГБУ РМ "КСШОР"
A24: 110 | C24: Бизякина Светлана | D24: 06.11.1994 | E24: Омская область | F24: Метание диска | H24: КМС | I24: К | J24: Бабанин С.Н., Белов М.К. | K24: ФГБУ ПОО "Сибирское ГУОР"
A25: 277 | C25: Зыбина Ксения | D25: 01.02.1989 | E25: Санкт-Петербург | F25: Метание копья | H25: МС | I25: К | J25: Горшков А.И. | K25: ГБУ СШОР "Академия легкой атлетики Санкт-Петербурга"
A26: 401 | C26: Волкова Анастасия | D26: 18.05.2000 | E26: Тульская область | F26: Бег 200 м | H26: КМС | I26: К | J26: Волкова И.В., Волков А.А. | K26: ГУ ТО ЦСП, МБУ СШОР "Легкая атлетика" г. Тула
A27: 49 | C27: Зуйкевич Елена | D27: 26.02.1990 | E27: Калининградская область Пермский край | F27: Бег 400 м | H27: МС | I27: К | J27: Малиновская Н.А., Верещагина З.Г. | K27: ГАУ КО "ЦСП СК", МБУ "СШОР "Старт"
A28: 320 | C28: Цаплина Валерия | D28: 19.02.1997 | E28: Кировская область Санкт-Петербург | F28: Бег 400 м | H28: КМС | I28: Л | J28: Куликова Е.Ю. | K28: КОГАУ "ВятСШОР" ,СПб ГБУ ЦОП "ШВСМ по легкой атлетике"
... A52: 178 | C52: Тронева Наталья | D52: 24.02.1993 | E52: Краснодарский край | F52: Толкание ядра | H52: МС | I52: Л | J52: Синицын А.В. | K52: Динамо ГБУ КК "РЦСП по легкой атлетике", ГБУ КК "ЦОП по легкой атлетике"
C53: Червинская Вероника | D53: 28.06.1998 | E53: Краснодарский край | F53: Барьерный бег 100 м | H53: МС | I53: К | J53: Дементьев С.Б., Дементьева Т.В. | K53: ГБУ КК "РЦСП по легкой атлетике"
A54: 278 | C54: Иванова Виктория | D54: 07.07.2000 | E54: Санкт-Петербург | F54: Бег 200 м | H54: КМС | I54: Л | J54: Агарков В.Н., Пономарев В.В., Куликова Е.Ю. | K54: СПб ГБУ ЦОП "ШВСМ по легкой атлетике"
A55: 140 | C55: Думен (Рябенко) Елена | D55: 13.01.1994 | E55: Краснодарский край Карачаево-Черкесская республика | F55: Барьерный бег 100 м | H55: МС | I55: К | J55: Вяльцева В.Г. | K55: Министерство спорта ГБУ КК "РЦСП по легкой атлетике", ЦСП КЧР, ГБУ КК "ЦОП по легкой атлетике"
A56: 184 | C56: Шатурная Светлана | D56: 15.06.1995 | E56: Краснодарский край Карачаево-Черкесская республика | F56: Барьерный бег 400 м | H56: КМС | I56: К | J56: Вяльцева В.Г. | K56: Министерство спорта ГБУ КК "ЦОП по легкой атлетике", РГБУ "КСШ " СПАРТАК"
A57: 183 | C57: Чернышева Елизавета | D57: 11.11.1996 | E57: Краснодарский край Саратовская область | F57: Барьерный бег 100 м | H57: МС | I57: Л | J57: Азизьян А.А., Беликов Ю.Б., Беликова Н.И. | K57: ГБУ КК "ЦОП по легкой атлетике", ГБУ КК "РЦСП по легкой атлетике"
A58: 275 | C58: Дрожжина Елизавета | D58: 11.02.1998 | E58: Санкт-Петербург | F58: Прыжок в длину | H58: КМС | I58: Л | J58: Черепанова И.Н., Черепанов А.Н. | K58: СПб ГБУ ЦОП "ШВСМ по легкой атлетике"
A59: 150 | C59: Конева Екатерина | D59: 25.09.1988 | E59: Краснодарский край Хабаровский край | F59: Прыжок тройной | H59: ЗМС | I59: К | J59: Цыплаков А.В., Лупатов Р.М. | K59: ГБУ КК "РЦСП по легкой атлетике", ГБУ КК "ЦОП по легкой атлетике", МБОУ ДО ДЮСШ "Максимум"
A60: 328 | C60: Аникиенко Елизавета | D60: 30.06.1994 | E60: Москва Московская область | F60: Барьерный бег 400 м | H60: МС | I60: К | J60: Чемерисов Н.Ф. | K60: ГБУ "МГФСО" Москомспорта, ГБУ МО "СШОР по легкой атлетике"
A61: 139 | C61: Дорохова Анастасия | D61: 28.05.1999 | E61: Краснодарский край ЮФО (К) | F61: Барьерный бег 400 м | H61: КМС | I61: К | J61: Вяльцева В.Г., Сухова В.В. | K61: ГБУ КК "ЦОП по легкой атлетике", ГБУ РК "Спортивная школа №1"
A62: 103 | C62: Лапшова Алина | D62: 06.09.1998 | E62: Красноярский край | F62: Барьерный бег 400 м | H62: 2 | I62: К | J62: Зубрилина Т.Г., Вашкевич И.Е., Чалый Ю.В. | K62: Академия летних видов спорта КГАУ "РЦСП "Академия летних видов спорта", МАУ "СШОР "Спутник"
A63: 104 | C63: Лихачёва Юлия | D63: 26.08.1998 | E63: Красноярский край | F63: Бег с препятствиями 3 000 м | H63: КМС | I63: К | J63: Ромащенко А.А., Вашкевич И.Е., Чалый Ю.В. | K63: Академия летних видов спорта КГАУ "РЦСП "Академия летних видов спорта", МАУ "СШОР "Спутник"
A64: 107 | C64: Степанова Екатерина | D64: 24.07.1994 | E64: Красноярский край | F64: Прыжок в высоту | H64: МС | I64: К | J64: Мочалов С.С., Мочалова Е.С. | K64: КГАУ "РЦСП "Академия летних видов спорта", МАУ "СШОР "Спутник"
...

Sheet И10-Ж
A1: =Name_1 -> МИНИСТЕРСТВО ФИЗИЧЕСКОЙ КУЛЬТУРЫ И СПОРТА РОССИЙСКОЙ ФЕДЕРАЦИИ
A2: =Name_2 -> ВСЕРОССИЙСКАЯ ФЕДЕРАЦИЯ ЛЕГКОЙ АТЛЕТИКИ
A3: =Name_3 -> МИНИСТЕРСТВО ФИЗИЧЕСКОЙ КУЛЬТУРЫ И СПОРТА КРАСНОДАРСКОГО КРАЯ
A4: =Name_6 -> ФЕДЕРАЦИЯ ЛЕГКОЙ АТЛЕТИКИ КРАСНОДАРСКОГО КРАЯ | T4: ИТОГОВЫЙ ПРОТОКОЛ
A5: КУБОК РОССИИ
A6: =d_4 -> ЖЕНЩИНЫ
A7: ИТОГОВЫЙ ПРОТОКОЛ
A8: Бег 100 м
P9: =d_5 -> г. Сочи, ул. Бзугу 2, ст. им. Славы Метревели
L10: заеги | N10: =d_1 -> 28.05.2019г. | O10: 0.72222222 | P10: =d_6 -> t° +25 вл. 76% | Q10: номер
A11: автохронометраж | L11: финал | N11: =d_1 -> 28.05.2019г. | O11: 0.77430556 | P11: =d_6 -> t° +25 вл. 76% | R11: мсмк | S11: мс | T11: кмс | U11: 1 | V11: 2 | W11: 3 | X11: 1ю | Y11: 2ю | Z11: 3ю
A12: Занятое место | B12: Фамилия, имя | C12: Дата рождения | D12: Заявл. разряд | E12: Территория | F12: Округ | G12: Оргнизация Ведомство | I12: Забеги | J12: V m/s | L12: Финал | M12: V m/s | N12: Выполненный разряд | O12: Очки | P12: Ф.И.О. тренера | R12: 1130 | S12: 1184 | T12: 1264 | U12: 1344 | V12: 1434 | W12: 1534 | X12: 1634 | Y12: 1744 | Z12: 1864
A13: 1 | B13: =VLOOKUP($Q13,УЧАСТНИКИ!$A$2:$L$1099,3,FALSE) -> Смирнова (Вороненкова) Екатерина | C13: =VLOOKUP($Q13,УЧАСТНИКИ!$A$2:$L$1099,4,FALSE) -> 08.09.1988 | D13: =VLOOKUP($Q13,УЧАСТНИКИ!$A$2:$L$1099,8,FALSE) -> МСМК | E13: =VLOOKUP($Q13,УЧАСТНИКИ!$A$2:$L$1099,5,FALSE) -> Москва | F13: =VLOOKUP($Q13,УЧАСТНИКИ!$A$2:$L$1099,7,FALSE) -> 0 | G13: =VLOOKUP($Q13,УЧАСТНИКИ!$A$2:$L$1099,11,FALSE) -> ВС, ЦСКА ГБУ "СШОР "Луч" Москомспорта | H13: 1171 | I13: =IF(H13=0,0,CONCATENATE(MID(H13,1,2),".",MID(H13,3,2))) -> 11.71 | J13: -2.4 | K13: 1146 | L13: =IF(K13=0,0,CONCATENATE(MID(K13,1,2),".",MID(K13,3,2))) -> 11.46 | M13: 1 | N13: =IF(S13<=$R$12,"МСМК",IF(S13<=$S$12,"МС",IF(S13<=$T$12,"КМС",IF(S13<=$U$12,"1",IF(S13<=$V$12,"2",IF(S13<=$W$12,"3",IF(S13<=$X$12,"1юн",IF(S13<=$Y$12,"2юн",IF(S13<=$Z$12,"3юн",IF(S13>$Z$12,"б/р")))))))))) -> МС | O13: =VLOOKUP($Q13,УЧАСТНИКИ!$A$2:$L$1099,9,FALSE) -> Л | P13: =VLOOKUP($Q13,УЧАСТНИКИ!$A$2:$L$1099,10,FALSE) -> Михеева В.В., Смирнов Р.П. | Q13: 367 | S13: =MIN(H13,K13) -> 1146
A14: 2 | B14: =VLOOKUP($Q14,УЧАСТНИКИ!$A$2:$L$1099,3,FALSE) -> Хорошева Кристина | C14: =VLOOKUP($Q14,УЧАСТНИКИ!$A$2:$L$1099,4,FALSE) -> 05.04.1993 | D14: =VLOOKUP($Q14,УЧАСТНИКИ!$A$2:$L$1099,8,FALSE) -> МС | E14: =VLOOKUP($Q14,УЧАСТНИКИ!$A$2:$L$1099,5,FALSE) -> Пензенская область Тульская область | F14: =VLOOKUP($Q14,УЧАСТНИКИ!$A$2:$L$1099,7,FALSE) -> 0 | G14: =VLOOKUP($Q14,УЧАСТНИКИ!$A$2:$L$1099,11,FALSE) -> ГАУ ЦСП ПО , ГУ ТО ЦСП, МБУ СШОР "Легкая атлетика" г. Тула | H14: 1187 | I14: =IF(H14=0,0,CONCATENATE(MID(H14,1,2),".",MID(H14,3,2))) -> 11.87 | J14: -0.4 | K14: 1168 | L14: =IF(K14=0,0,CONCATENATE(MID(K14,1,2),".",MID(K14,3,2))) -> 11.68 | M14: 1 | N14: =IF(S14<=$R$12,"МСМК",IF(S14<=$S$12,"МС",IF(S14<=$T$12,"КМС",IF(S14<=$U$12,"1",IF(S14<=$V$12,"2",IF(S14<=$W$12,"3",IF(S14<=$X$12,"1юн",IF(S14<=$Y$12,"2юн",IF(S14<=$Z$12,"3юн",IF(S14>$Z$12,"б/р")))))))))) -> МС | O14: 20+5 | P14: =VLOOKUP($Q14,УЧАСТНИКИ!$A$2:$L$1099,10,FALSE) -> Родионова А.И., Ковтун Н.Н. | Q14: 406 | S14: =MIN(H14,K14) -> 1168
A15: 3 | B15: =VLOOKUP($Q15,УЧАСТНИКИ!$A$2:$L$1099,3,FALSE) -> Сластникова Тамара | C15: =VLOOKUP($Q15,УЧАСТНИКИ!$A$2:$L$1099,4,FALSE) -> 21.05.1993 | D15: =VLOOKUP($Q15,УЧАСТНИКИ!$A$2:$L$1099,8,FALSE) -> МС | E15: =VLOOKUP($Q15,УЧАСТНИКИ!$A$2:$L$1099,5,FALSE) -> Новосибирская область | F15: =VLOOKUP($Q15,УЧАСТНИКИ!$A$2:$L$1099,7,FALSE) -> 0 | G15: =VLOOKUP($Q15,УЧАСТНИКИ!$A$2:$L$1099,11,FALSE) -> Динамо ГАУ НСО "РЦСП СК и СР",ФГБОУ ВО Новосибирский ГАУ | H15: 1181 | I15: =IF(H15=0,0,CONCATENATE(MID(H15,1,2),".",MID(H15,3,2))) -> 11.81 | J15: -1.8 | K15: 1169 | L15: =IF(K15=0,0,CONCATENATE(MID(K15,1,2),".",MID(K15,3,2))) -> 11.69 | M15: 1 | N15: =IF(S15<=$R$12,"МСМК",IF(S15<=$S$12,"МС",IF(S15<=$T$12,"КМС",IF(S15<=$U$12,"1",IF(S15<=$V$12,"2",IF(S15<=$W$12,"3",IF(S15<=$X$12,"1юн",IF(S15<=$Y$12,"2юн",IF(S15<=$Z$12,"3юн",IF(S15>$Z$12,"б/р")))))))))) -> МС | O15: 17+5 | P15: =VLOOKUP($Q15,УЧАСТНИКИ!$A$2:$L$1099,10,FALSE) -> Бухашеев А.Г., Богатов А.М., Боярищева А.А. | Q15: 427 | S15: =MIN(H15,K15) -> 1169
A16: 4 | B16: =VLOOKUP($Q16,УЧАСТНИКИ!$A$2:$L$1099,3,FALSE) -> Погребняк Наталья | C16: =VLOOKUP($Q16,УЧАСТНИКИ!$A$2:$L$1099,4,FALSE) -> 19.02.1988 | D16: =VLOOKUP($Q16,УЧАСТНИКИ!$A$2:$L$1099,8,FALSE) -> МСМК | E16: =VLOOKUP($Q16,УЧАСТНИКИ!$A$2:$L$1099,5,FALSE) -> Краснодарский край | F16: =VLOOKUP($Q16,УЧАСТНИКИ!$A$2:$L$1099,7,FALSE) -> 0 | G16: =VLOOKUP($Q16,УЧАСТНИКИ!$A$2:$L$1099,11,FALSE) -> ГБУ КК "РЦСП по легкой атлетике" | H16: 1175 | I16: =IF(H16=0,0,CONCATENATE(MID(H16,1,2),".",MID(H16,3,2))) -> 11.75 | J16: -0.4 | K16: 1170 | L16: =IF(K16=0,0,CONCATENATE(MID(K16,1,2),".",MID(K16,3,2))) -> 11.70 | M16: 1 | N16: =IF(S16<=$R$12,"МСМК",IF(S16<=$S$12,"МС",IF(S16<=$T$12,"КМС",IF(S16<=$U$12,"1",IF(S16<=$V$12,"2",IF(S16<=$W$12,"3",IF(S16<=$X$12,"1юн",IF(S16<=$Y$12,"2юн",IF(S16<=$Z$12,"3юн",IF(S16>$Z$12,"б/р")))))))))) -> МС | O16: 15+5 | P16: =VLOOKUP($Q16,УЧАСТНИКИ!$A$2:$L$1099,10,FALSE) -> Смирнов В.Ф., Шульга М.В. | Q16: 163 | S16: =MIN(H16,K16) -> 1170
A17: 5 | B17: =VLOOKUP($Q17,УЧАСТНИКИ!$A$2:$L$1099,3,FALSE) -> Белова (Трифонова) Ирина | C17: =VLOOKUP($Q17,УЧАСТНИКИ!$A$2:$L$1099,4,FALSE) -> 21.01.1994 | D17: =VLOOKUP($Q17,УЧАСТНИКИ!$A$2:$L$1099,8,FALSE) -> МС | E17: =VLOOKUP($Q17,УЧАСТНИКИ!$A$2:$L$1099,5,FALSE) -> Республика Мордовия | F17: =VLOOKUP($Q17,УЧАСТНИКИ!$A$2:$L$1099,7,FALSE) -> 0 | G17: =VLOOKUP($Q17,УЧАСТНИКИ!$A$2:$L$1099,11,FALSE) -> ГБУ РМ "КСШОР" | H17: 1185 | I17: =IF(H17=0,0,CONCATENATE(MID(H17,1,2),".",MID(H17,3,2))) -> 11.85 | J17: -0.4 | K17: 1171 | L17: =IF(K17=0,0,CONCATENATE(MID(K17,1,2),".",MID(K17,3,2))) -> 11.71 | M17: 1 | N17: =IF(S17<=$R$12,"МСМК",IF(S17<=$S$12,"МС",IF(S17<=$T$12,"КМС",IF(S17<=$U$12,"1",IF(S17<=$V$12,"2",IF(S17<=$W$12,"3",IF(S17<=$X$12,"1юн",IF(S17<=$Y$12,"2юн",IF(S17<=$Z$12,"3юн",IF(S17>$Z$12,"б/р")))))))))) -> МС | O17: 14+5 | P17: =VLOOKUP($Q17,УЧАСТНИКИ!$A$2:$L$1099,10,FALSE) -> Бусаров В.М. | Q17: 215 | S17: =MIN(H17,K17) -> 1171
A18: 6 | B18: =VLOOKUP($Q18,УЧАСТНИКИ!$A$2:$L$1099,3,FALSE) -> Соколова (Полищук) Анастасия | C18: =VLOOKUP($Q18,УЧАСТНИКИ!$A$2:$L$1099,4,FALSE) -> 20.05.1994 | D18: =VLOOKUP($Q18,УЧАСТНИКИ!$A$2:$L$1099,8,FALSE) -> МС | E18: =VLOOKUP($Q18,УЧАСТНИКИ!$A$2:$L$1099,5,FALSE) -> Свердловская область Челябинская область | F18: =VLOOKUP($Q18,УЧАСТНИКИ!$A$2:$L$1099,7,FALSE) -> 0 | G18: =VLOOKUP($Q18,УЧАСТНИКИ!$A$2:$L$1099,11,FALSE) -> ГАУ СО "ЦСП", МБУ СШОР № 2 по легкой атлетике имени Л.Н.Мосеева г.Челябинск | H18: 1180 | I18: =IF(H18=0,0,CONCATENATE(MID(H18,1,2),".",MID(H18,3,2))) -> 11.80 | J18: -0.1 | K18: 1173 | L18: =IF(K18=0,0,CONCATENATE(MID(K18,1,2),".",MID(K18,3,2))) -> 11.73 | M18: 1 | N18: =IF(S18<=$R$12,"МСМК",IF(S18<=$S$12,"МС",IF(S18<=$T$12,"КМС",IF(S18<=$U$12,"1",IF(S18<=$V$12,"2",IF(S18<=$W$12,"3",IF(S18<=$X$12,"1юн",IF(S18<=$Y$12,"2юн",IF(S18<=$Z$12,"3юн",IF(S18>$Z$12,"б/р")))))))))) -> МС | O18: 13+5 | P18: =VLOOKUP($Q18,УЧАСТНИКИ!$A$2:$L$1099,10,FALSE) -> Касаткина Л.В., Хрущелева Н.П., Табабилов Р.Б. | Q18: 73 | S18: =MIN(H18,K18) -> 1173
A19: 7 | B19: =VLOOKUP($Q19,УЧАСТНИКИ!$A$2:$L$1099,3,FALSE) -> Черняева (Козлова) Елена | C19: =VLOOKUP($Q19,УЧАСТНИКИ!$A$2:$L$1099,4,FALSE) -> 19.09.1988 | D19: =VLOOKUP($Q19,УЧАСТНИКИ!$A$2:$L$1099,8,FALSE) -> МС | E19: =VLOOKUP($Q19,УЧАСТНИКИ!$A$2:$L$1099,5,FALSE) -> Санкт-Петербург Вологодская область | F19: =VLOOKUP($Q19,УЧАСТНИКИ!$A$2:$L$1099,7,FALSE) -> 0 | G19: =VLOOKUP($Q19,УЧАСТНИКИ!$A$2:$L$1099,11,FALSE) -> Профсоюзы СПб ГБУ ЦОП "ШВСМ по легкой атлетике", АУ ФКиС ВО "ЦСП" | H19: 1192 | I19: =IF(H19=0,0,CONCATENATE(MID(H19,1,2),".",MID(H19,3,2))) -> 11.92 | J19: -2.4 | K19: 1175 | L19: =IF(K19=0,0,CONCATENATE(MID(K19,1,2),".",MID(K19,3,2))) -> 11.75 | M19: 1 | N19: =IF(S19<=$R$12,"МСМК",IF(S19<=$S$12,"МС",IF(S19<=$T$12,"КМС",IF(S19<=$U$12,"1",IF(S19<=$V$12,"2",IF(S19<=$W$12,"3",IF(S19<=$X$12,"1юн",IF(S19<=$Y$12,"2юн",IF(S19<=$Z$12,"3юн",IF(S19>$Z$12,"б/р")))))))))) -> МС | O19: 12+5 | P19: =VLOOKUP($Q19,УЧАСТНИКИ!$A$2:$L$1099,10,FALSE) -> Климов А.Г. | Q19: 322 | S19: =MIN(H19,K19) -> 1175
A20: 8 | B20: =VLOOKUP($Q20,УЧАСТНИКИ!$A$2:$L$1099,3,FALSE) -> Григорьева Анастасия | C20: =VLOOKUP($Q20,УЧАСТНИКИ!$A$2:$L$1099,4,FALSE) -> 07.11.1993 | D20: =VLOOKUP($Q20,УЧАСТНИКИ!$A$2:$L$1099,8,FALSE) -> МС | E20: =VLOOKUP($Q20,УЧАСТНИКИ!$A$2:$L$1099,5,FALSE) -> Санкт-Петербург | F20: =VLOOKUP($Q20,УЧАСТНИКИ!$A$2:$L$1099,7,FALSE) -> 0 | G20: =VLOOKUP($Q20,УЧАСТНИКИ!$A$2:$L$1099,11,FALSE) -> СПб ГБУ ЦОП "ШВСМ по легкой атлетике" | H20: 1182 | I20: =IF(H20=0,0,CONCATENATE(MID(H20,1,2),".",MID(H20,3,2))) -> 11.82 | J20: -1.8 | L20: DQ 162.7 | N20: =IF(S20<=$R$12,"МСМК",IF(S20<=$S$12,"МС",IF(S20<=$T$12,"КМС",IF(S20<=$U$12,"1",IF(S20<=$V$12,"2",IF(S20<=$W$12,"3",IF(S20<=$X$12,"1юн",IF(S20<=$Y$12,"2юн",IF(S20<=$Z$12,"3юн",IF(S20>$Z$12,"б/р")))))))))) -> МС | O20: 11+5 | P20: =VLOOKUP($Q20,УЧАСТНИКИ!$A$2:$L$1099,10,FALSE) -> Куликова Е.Ю., Буровцева Н.В. | Q20: 272 | S20: =MIN(H20,K20) -> 1182
A21: 9 | B21: =VLOOKUP($Q21,УЧАСТНИКИ!$A$2:$L$1099,3,FALSE) -> Максимова (Сизова) Марина | C21: =VLOOKUP($Q21,УЧАСТНИКИ!$A$2:$L$1099,4,FALSE) -> 18.02.1997 | D21: =VLOOKUP($Q21,УЧАСТНИКИ!$A$2:$L$1099,8,FALSE) -> МС | E21: =VLOOKUP($Q21,УЧАСТНИКИ!$A$2:$L$1099,5,FALSE) -> Нижегородская область Чувашская республика | F21: =VLOOKUP($Q21,УЧАСТНИКИ!$A$2:$L$1099,7,FALSE) -> 0 | G21: =VLOOKUP($Q21,УЧАСТНИКИ!$A$2:$L$1099,11,FALSE) -> МБУ КСШОР №1 , ГАУ НО "ЦСП", БУ "СШОР № 1 им. В.Егоровой" Минспорта Чувашии, БПОУ "Чебоксарское УОР имени В.М. Краснова" Минспорта Чувашии | H21: 1194 | I21: =IF(H21=0,0,CONCATENATE(MID(H21,1,2),".",MID(H21,3,2))) -> 11.94 | J21: -2.4 | N21: =IF(S21<=$R$12,"МСМК",IF(S21<=$S$12,"МС",IF(S21<=$T$12,"КМС",IF(S21<=$U$12,"1",IF(S21<=$V$12,"2",IF(S21<=$W$12,"3",IF(S21<=$X$12,"1юн",IF(S21<=$Y$12,"2юн",IF(S21<=$Z$12,"3юн",IF(S21>$Z$12,"б/р")))))))))) -> КМС | O21: 10 | P21: =VLOOKUP($Q21,УЧАСТНИКИ!$A$2:$L$1099,10,FALSE) -> Смирнов С.В., Смирнова Л.А. | Q21: 225 | S21: =MIN(H21,K21) -> 1194
A22: 10 | B22: =VLOOKUP($Q22,УЧАСТНИКИ!$A$2:$L$1099,3,FALSE) -> Стародубова Ангелина | C22: =VLOOKUP($Q22,УЧАСТНИКИ!$A$2:$L$1099,4,FALSE) -> 11.10.1998 | D22: =VLOOKUP($Q22,УЧАСТНИКИ!$A$2:$L$1099,8,FALSE) -> МС | E22: =VLOOKUP($Q22,УЧАСТНИКИ!$A$2:$L$1099,5,FALSE) -> Московская область Пензенская область | F22: =VLOOKUP($Q22,УЧАСТНИКИ!$A$2:$L$1099,7,FALSE) -> 0 | G22: =VLOOKUP($Q22,УЧАСТНИКИ!$A$2:$L$1099,11,FALSE) -> ГБУ МО "СШОР по легкой атлетике", ГБУ ПО "Комплексная СШОР", ГАУ ЦСП ПО | H22: 1218 | I22: =IF(H22=0,0,CONCATENATE(MID(H22,1,2),".",MID(H22,3,2))) -> 12.18 | J22: -0.1 | N22: =IF(S22<=$R$12,"МСМК",IF(S22<=$S$12,"МС",IF(S22<=$T$12,"КМС",IF(S22<=$U$12,"1",IF(S22<=$V$12,"2",IF(S22<=$W$12,"3",IF(S22<=$X$12,"1юн",IF(S22<=$Y$12,"2юн",IF(S22<=$Z$12,"3юн",IF(S22>$Z$12,"б/р")))))))))) -> КМС | O22: =VLOOKUP($Q22,УЧАСТНИКИ!$A$2:$L$1099,9,FALSE) -> Л | P22: =VLOOKUP($Q22,УЧАСТНИКИ!$A$2:$L$1099,10,FALSE) -> Краснов Р.Б. | Q22: 469 | S22: =MIN(H22,K22) -> 1218
A23: 11 | B23: =VLOOKUP($Q23,УЧАСТНИКИ!$A$2:$L$1099,3,FALSE) -> Стародубова Виолетта | C23: =VLOOKUP($Q23,УЧАСТНИКИ!$A$2:$L$1099,4,FALSE) -> 15.12.1999 | D23: =VLOOKUP($Q23,УЧАСТНИКИ!$A$2:$L$1099,8,FALSE) -> КМС | E23: =VLOOKUP($Q23,УЧАСТНИКИ!$A$2:$L$1099,5,FALSE) -> Воронежская область | F23: =VLOOKUP($Q23,УЧАСТНИКИ!$A$2:$L$1099,7,FALSE) -> 0 | G23: =VLOOKUP($Q23,УЧАСТНИКИ!$A$2:$L$1099,11,FALSE) -> МКУДО Нововоронежская ДЮСШ | H23: 1220 | I23: =IF(H23=0,0,CONCATENATE(MID(H23,1,2),".",MID(H23,3,2))) -> 12.20 | J23: -1.8 | N23: =IF(S23<=$R$12,"МСМК",IF(S23<=$S$12,"МС",IF(S23<=$T$12,"КМС",IF(S23<=$U$12,"1",IF(S23<=$V$12,"2",IF(S23<=$W$12,"3",IF(S23<=$X$12,"1юн",IF(S23<=$Y$12,"2юн",IF(S23<=$Z$12,"3юн",IF(S23>$Z$12,"б/р")))))))))) -> КМС | O23: 9 | P23: =VLOOKUP($Q23,УЧАСТНИКИ!$A$2:$L$1099,10,FALSE) -> Мамонов В.В. | Q23: 400 | S23: =MIN(H23,K23) -> 1220
A24: 12 | B24: =VLOOKUP($Q24,УЧАСТНИКИ!$A$2:$L$1099,3,FALSE) -> Кукушкина Анна | C24: =VLOOKUP($Q24,УЧАСТНИКИ!$A$2:$L$1099,4,FALSE) -> 13.12.1992 | D24: =VLOOKUP($Q24,УЧАСТНИКИ!$A$2:$L$1099,8,FALSE) -> МС | E24: =VLOOKUP($Q24,УЧАСТНИКИ!$A$2:$L$1099,5,FALSE) -> Московская область Ямало-Ненецкий автономный округ | F24: =VLOOKUP($Q24,УЧАСТНИКИ!$A$2:$L$1099,7,FALSE) -> 0 | G24: =VLOOKUP($Q24,УЧАСТНИКИ!$A$2:$L$1099,11,FALSE) -> МАУ ДО Пуровская районная СДЮСШОР "АВАНГАРД", СШОР -"ЛИДЕР" | H24: 1222 | I24: =IF(H24=0,0,CONCATENATE(MID(H24,1,2),".",MID(H24,3,2))) -> 12.22 | J24: -0.1 | N24: =IF(S24<=$R$12,"МСМК",IF(S24<=$S$12,"МС",IF(S24<=$T$12,"КМС",IF(S24<=$U$12,"1",IF(S24<=$V$12,"2",IF(S24<=$W$12,"3",IF(S24<=$X$12,"1юн",IF(S24<=$Y$12,"2юн",IF(S24<=$Z$12,"3юн",IF(S24>$Z$12,"б/р")))))))))) -> КМС | O24: 8 | P24: =VLOOKUP($Q24,УЧАСТНИКИ!$A$2:$L$1099,10,FALSE) -> Хангельдиев Г.А. | Q24: 251 | S24: =MIN(H24,K24) -> 1222
A25: 13 | B25: =VLOOKUP($Q25,УЧАСТНИКИ!$A$2:$L$1099,3,FALSE) -> Соколова Вера | C25: =VLOOKUP($Q25,УЧАСТНИКИ!$A$2:$L$1099,4,FALSE) -> 27.07.1992 | D25: =VLOOKUP($Q25,УЧАСТНИКИ!$A$2:$L$1099,8,FALSE) -> КМС | E25: =VLOOKUP($Q25,УЧАСТНИКИ!$A$2:$L$1099,5,FALSE) -> Краснодарский край | F25: =VLOOKUP($Q25,УЧАСТНИКИ!$A$2:$L$1099,7,FALSE) -> 0 | G25: =VLOOKUP($Q25,УЧАСТНИКИ!$A$2:$L$1099,11,FALSE) -> ГБУ КК "РЦСП по легкой атлетике" | H25: 1227 | I25: =IF(H25=0,0,CONCATENATE(MID(H25,1,2),".",MID(H25,3,2))) -> 12.27 | J25: -1.8 | N25: =IF(S25<=$R$12,"МСМК",IF(S25<=$S$12,"МС",IF(S25<=$T$12,"КМС",IF(S25<=$U$12,"1",IF(S25<=$V$12,"2",IF(S25<=$W$12,"3",IF(S25<=$X$12,"1юн",IF(S25<=$Y$12,"2юн",IF(S25<=$Z$12,"3юн",IF(S25>$Z$12,"б/р")))))))))) -> КМС | O25: =VLOOKUP($Q25,УЧАСТНИКИ!$A$2:$L$1099,9,FALSE) -> Л | P25: =VLOOKUP($Q25,УЧАСТНИКИ!$A$2:$L$1099,10,FALSE) -> Белова С.И., Белова Е.А., Шармин Е.А. | Q25: 174 | S25: =MIN(H25,K25) -> 1227
A26: 14 | B26: =VLOOKUP($Q26,УЧАСТНИКИ!$A$2:$L$1099,3,FALSE) -> Денисова Надежда | C26: =VLOOKUP($Q26,УЧАСТНИКИ!$A$2:$L$1099,4,FALSE) -> 16.03.2000 | D26: =VLOOKUP($Q26,УЧАСТНИКИ!$A$2:$L$1099,8,FALSE) -> КМС | E26: =VLOOKUP($Q26,УЧАСТНИКИ!$A$2:$L$1099,5,FALSE) -> Тюменская область | F26: =VLOOKUP($Q26,УЧАСТНИКИ!$A$2:$L$1099,7,FALSE) -> 0 | G26: =VLOOKUP($Q26,УЧАСТНИКИ!$A$2:$L$1099,11,FALSE) -> ГАУ ТО "ОСШОР", ТЮМГУ | H26: 1233 | I26: =IF(H26=0,0,CONCATENATE(MID(H26,1,2),".",MID(H26,3,2))) -> 12.33 | J26: -1.8 | N26: =IF(S26<=$R$12,"МСМК",IF(S26<=$S$12,"МС",IF(S26<=$T$12,"КМС",IF(S26<=$U$12,"1",IF(S26<=$V$12,"2",IF(S26<=$W$12,"3",IF(S26<=$X$12,"1юн",IF(S26<=$Y$12,"2юн",IF(S26<=$Z$12,"3юн",IF(S26>$Z$12,"б/р")))))))))) -> КМС | O26: 7 | P26: =VLOOKUP($Q26,УЧАСТНИКИ!$A$2:$L$1099,10,FALSE) -> Сергеев О.В., Артемьев Н.И. | Q26: 87 | S26: =MIN(H26,K26) -> 1233
A27: 15 | B27: =VLOOKUP($Q27,УЧАСТНИКИ!$A$2:$L$1099,3,FALSE) -> Кученева Юлия | C27: =VLOOKUP($Q27,УЧАСТНИКИ!$A$2:$L$1099,4,FALSE) -> 11.09.1999 | D27: =VLOOKUP($Q27,УЧАСТНИКИ!$A$2:$L$1099,8,FALSE) -> КМС | E27: =VLOOKUP($Q27,УЧАСТНИКИ!$A$2:$L$1099,5,FALSE) -> Волгоградская область | F27: =VLOOKUP($Q27,УЧАСТНИКИ!$A$2:$L$1099,7,FALSE) -> 0 | G27: =VLOOKUP($Q27,УЧАСТНИКИ!$A$2:$L$1099,11,FALSE) -> МБУ СШОР № 10 (г. Волгоград), ГАПОУ ВО "УОР имени дважды Героя Советского Союза А.И. Родимцева" | H27: 1238 | I27: =IF(H27=0,0,CONCATENATE(MID(H27,1,2),".",MID(H27,3,2))) -> 12.38 | J27: -0.4 | N27: =IF(S27<=$R$12,"МСМК",IF(S27<=$S$12,"МС",IF(S27<=$T$12,"КМС",IF(S27<=$U$12,"1",IF(S27<=$V$12,"2",IF(S27<=$W$12,"3",IF(S27<=$X$12,"1юн",IF(S27<=$Y$12,"2юн",IF(S27<=$Z$12,"3юн",IF(S27>$Z$12,"б/р")))))))))) -> КМС | O27: 6 | P27: =VLOOKUP($Q27,УЧАСТНИКИ!$A$2:$L$1099,10,FALSE) -> Арькова Н.В., Невежин В.И. | Q27: 14 | S27: =MIN(H27,K27) -> 1238
A28: 16 | B28: =VLOOKUP($Q28,УЧАСТНИКИ!$A$2:$L$1099,3,FALSE) -> Петрищева Юлия | C28: =VLOOKUP($Q28,УЧАСТНИКИ!$A$2:$L$1099,4,FALSE) -> 02.03.1997 | D28: =VLOOKUP($Q28,УЧАСТНИКИ!$A$2:$L$1099,8,FALSE) -> КМС | E28: =VLOOKUP($Q28,УЧАСТНИКИ!$A$2:$L$1099,5,FALSE) -> Курская область | F28: =VLOOKUP($Q28,УЧАСТНИКИ!$A$2:$L$1099,7,FALSE) -> 0 | G28: =VLOOKUP($Q28,УЧАСТНИКИ!$A$2:$L$1099,11,FALSE) -> МБУ ДО «ДЮСШ №1» | H28: 1245 | I28: =IF(H28=0,0,CONCATENATE(MID(H28,1,2),".",MID(H28,3,2))) -> 12.45 | J28: -0.4 | N28: =IF(S28<=$R$12,"МСМК",IF(S28<=$S$12,"МС",IF(S28<=$T$12,"КМС",IF(S28<=$U$12,"1",IF(S28<=$V$12,"2",IF(S28<=$W$12,"3",IF(S28<=$X$12,"1юн",IF(S28<=$Y$12,"2юн",IF(S28<=$Z$12,"3юн",IF(S28>$Z$12,"б/р")))))))))) -> КМС | O28: 5 | P28: =VLOOKUP($Q28,УЧАСТНИКИ!$A$2:$L$1099,10,FALSE) -> Шумаков Е.Г. | Q28: 190 | S28: =MIN(H28,K28) -> 1245
A29: 17 | B29: =VLOOKUP($Q29,УЧАСТНИКИ!$A$2:$L$1099,3,FALSE) -> Тарасова Алина | C29: =VLOOKUP($Q29,УЧАСТНИКИ!$A$2:$L$1099,4,FALSE) -> 11.05.1999 | D29: =VLOOKUP($Q29,УЧАСТНИКИ!$A$2:$L$1099,8,FALSE) -> КМС | E29: =VLOOKUP($Q29,УЧАСТНИКИ!$A$2:$L$1099,5,FALSE) -> Красноярский край | F29: =VLOOKUP($Q29,УЧАСТНИКИ!$A$2:$L$1099,7,FALSE) -> 0 | G29: =VLOOKUP($Q29,УЧАСТНИКИ!$A$2:$L$1099,11,FALSE) -> КГАУ "РЦСП "Академия летних видов спорта", МОУ ДО ДЮСШ | H29: 1247 | I29: =IF(H29=0,0,CONCATENATE(MID(H29,1,2),".",MID(H29,3,2))) -> 12.47 | J29: -0.4 | N29: =IF(S29<=$R$12,"МСМК",IF(S29<=$S$12,"МС",IF(S29<=$T$12,"КМС",IF(S29<=$U$12,"1",IF(S29<=$V$12,"2",IF(S29<=$W$12,"3",IF(S29<=$X$12,"1юн",IF(S29<=$Y$12,"2юн",IF(S29<=$Z$12,"3юн",IF(S29>$Z$12,"б/р")))))))))) -> КМС | O29: 4 | P29: =VLOOKUP($Q29,УЧАСТНИКИ!$A$2:$L$1099,10,FALSE) -> Леоненко С.Г., Леоненко Л.С. | Q29: 105 | S29: =MIN(H29,K29) -> 1247
A30: 18 | B30: =VLOOKUP($Q30,УЧАСТНИКИ!$A$2:$L$1099,3,FALSE) -> Довженко Юлия | C30: =VLOOKUP($Q30,УЧАСТНИКИ!$A$2:$L$1099,4,FALSE) -> 23.01.1998 | D30: =VLOOKUP($Q30,УЧАСТНИКИ!$A$2:$L$1099,8,FALSE) -> КМС | E30: =VLOOKUP($Q30,УЧАСТНИКИ!$A$2:$L$1099,5,FALSE) -> Ставропольский край | F30: =VLOOKUP($Q30,УЧАСТНИКИ!$A$2:$L$1099,7,FALSE) -> 0 | G30: =VLOOKUP($Q30,УЧАСТНИКИ!$A$2:$L$1099,11,FALSE) -> Динамо ГБУ СК "СШОР по легкой атлетике" | H30: 1253 | I30: =IF(H30=0,0,CONCATENATE(MID(H30,1,2),".",MID(H30,3,2))) -> 12.53 | J30: -0.1 | N30: =IF(S30<=$R$12,"МСМК",IF(S30<=$S$12,"МС",IF(S30<=$T$12,"КМС",IF(S30<=$U$12,"1",IF(S30<=$V$12,"2",IF(S30<=$W$12,"3",IF(S30<=$X$12,"1юн",IF(S30<=$Y$12,"2юн",IF(S30<=$Z$12,"3юн",IF(S30>$Z$12,"б/р")))))))))) -> КМС | O30: 3 | P30: =VLOOKUP($Q30,УЧАСТНИКИ!$A$2:$L$1099,10,FALSE) -> Власов А.В., Городовиченко В.А. | Q30: 77 | S30: =MIN(H30,K30) -> 1253
A31: 19 | B31: =VLOOKUP($Q31,УЧАСТНИКИ!$A$2:$L$1099,3,FALSE) -> Алисова Елизавета | C31: =VLOOKUP($Q31,УЧАСТНИКИ!$A$2:$L$1099,4,FALSE) -> 21.06.2000 | D31: =VLOOKUP($Q31,УЧАСТНИКИ!$A$2:$L$1099,8,FALSE) -> КМС | E31: =VLOOKUP($Q31,УЧАСТНИКИ!$A$2:$L$1099,5,FALSE) -> Санкт-Петербург Липецкая область | F31: =VLOOKUP($Q31,УЧАСТНИКИ!$A$2:$L$1099,7,FALSE) -> 0 | G31: =VLOOKUP($Q31,УЧАСТНИКИ!$A$2:$L$1099,11,FALSE) -> ГБУ "СШОР" "Академия легкой атлетики Санкт-Петербурга" | H31: 1255 | I31: =IF(H31=0,0,CONCATENATE(MID(H31,1,2),".",MID(H31,3,2))) -> 12.55 | J31: -2.4 | N31: =IF(S31<=$R$12,"МСМК",IF(S31<=$S$12,"МС",IF(S31<=$T$12,"КМС",IF(S31<=$U$12,"1",IF(S31<=$V$12,"2",IF(S31<=$W$12,"3",IF(S31<=$X$12,"1юн",IF(S31<=$Y$12,"2юн",IF(S31<=$Z$12,"3юн",IF(S31>$Z$12,"б/р")))))))))) -> КМС | O31: =VLOOKUP($Q31,УЧАСТНИКИ!$A$2:$L$1099,9,FALSE) -> Л | P31: =VLOOKUP($Q31,УЧАСТНИКИ!$A$2:$L$1099,10,FALSE) -> Шекин Д.А., Бахвалова Е.А., Бурмистрова Н.И. | Q31: 258 | S31: =MIN(H31,K31) -> 1255
A32: 20 | B32: =VLOOKUP($Q32,УЧАСТНИКИ!$A$2:$L$1099,3,FALSE) -> Ткачёва Екатерина | C32: =VLOOKUP($Q32,УЧАСТНИКИ!$A$2:$L$1099,4,FALSE) -> 15.02.1999 | D32: =VLOOKUP($Q32,УЧАСТНИКИ!$A$2:$L$1099,8,FALSE) -> КМС | E32: =VLOOKUP($Q32,УЧАСТНИКИ!$A$2:$L$1099,5,FALSE) -> Новосибирская область | F32: =VLOOKUP($Q32,УЧАСТНИКИ!$A$2:$L$1099,7,FALSE) -> 0 | G32: =VLOOKUP($Q32,УЧАСТНИКИ!$A$2:$L$1099,11,FALSE) -> Динамо ГАУ НСО "РЦСП СК и СР", ФГБОУ ВО "НГПУ | H32: 1263 | I32: =IF(H32=0,0,CONCATENATE(MID(H32,1,2),".",MID(H32,3,2))) -> 12.63 | J32: -2.4 | N32: =IF(S32<=$R$12,"МСМК",IF(S32<=$S$12,"МС",IF(S32<=$T$12,"КМС",IF(S32<=$U$12,"1",IF(S32<=$V$12,"2",IF(S32<=$W$12,"3",IF(S32<=$X$12,"1юн",IF(S32<=$Y$12,"2юн",IF(S32<=$Z$12,"3юн",IF(S32>$Z$12,"б/р")))))))))) -> КМС | O32: 2 | P32: =VLOOKUP($Q32,УЧАСТНИКИ!$A$2:$L$1099,10,FALSE) -> Бухашеев А.Г., Боярищева А.А. | Q32: 429 | S32: =MIN(H32,K32) -> 1263
A33: 21 | B33: =VLOOKUP($Q33,УЧАСТНИКИ!$A$2:$L$1099,3,FALSE) -> Колесникова Дарья | C33: =VLOOKUP($Q33,УЧАСТНИКИ!$A$2:$L$1099,4,FALSE) -> 28.07.2002 | D33: =VLOOKUP($Q33,УЧАСТНИКИ!$A$2:$L$1099,8,FALSE) -> 1 | E33: =VLOOKUP($Q33,УЧАСТНИКИ!$A$2:$L$1099,5,FALSE) -> Краснодарский край | F33: =VLOOKUP($Q33,УЧАСТНИКИ!$A$2:$L$1099,7,FALSE) -> 0 | G33: =VLOOKUP($Q33,УЧАСТНИКИ!$A$2:$L$1099,11,FALSE) -> МБУ СШОР №1 г. Сочи | H33: 1284 | I33: =IF(H33=0,0,CONCATENATE(MID(H33,1,2),".",MID(H33,3,2))) -> 12.84 | J33: -0.1 | N33: =IF(S33<=$R$12,"МСМК",IF(S33<=$S$12,"МС",IF(S33<=$T$12,"КМС",IF(S33<=$U$12,"1",IF(S33<=$V$12,"2",IF(S33<=$W$12,"3",IF(S33<=$X$12,"1юн",IF(S33<=$Y$12,"2юн",IF(S33<=$Z$12,"3юн",IF(S33>$Z$12,"б/р")))))))))) -> 1 | O33: =VLOOKUP($Q33,УЧАСТНИКИ!$A$2:$L$1099,9,FALSE) -> Л | P33: =VLOOKUP($Q33,УЧАСТНИКИ!$A$2:$L$1099,10,FALSE) -> Полонников А.В. | Q33: 487 | S33: =MIN(H33,K33) -> 1284
A34: 22 | B34: =VLOOKUP($Q34,УЧАСТНИКИ!$A$2:$L$1099,3,FALSE) -> Навацкая Софья | C34: =VLOOKUP($Q34,УЧАСТНИКИ!$A$2:$L$1099,4,FALSE) -> 11.02.1999 | D34: =VLOOKUP($Q34,УЧАСТНИКИ!$A$2:$L$1099,8,FALSE) -> КМС | E34: =VLOOKUP($Q34,УЧАСТНИКИ!$A$2:$L$1099,5,FALSE) -> Вологодская область | F34: =VLOOKUP($Q34,УЧАСТНИКИ!$A$2:$L$1099,7,FALSE) -> 0 | G34: =VLOOKUP($Q34,УЧАСТНИКИ!$A$2:$L$1099,11,FALSE) -> АУ ФКиС ВО "ЦСП" | H34: 1294 | I34: =IF(H34=0,0,CONCATENATE(MID(H34,1,2),".",MID(H34,3,2))) -> 12.94 | J34: -1.8 | N34: =IF(S34<=$R$12,"МСМК",IF(S34<=$S$12,"МС",IF(S34<=$T$12,"КМС",IF(S34<=$U$12,"1",IF(S34<=$V$12,"2",IF(S34<=$W$12,"3",IF(S34<=$X$12,"1юн",IF(S34<=$Y$12,"2юн",IF(S34<=$Z$12,"3юн",IF(S34>$Z$12,"б/р")))))))))) -> 1 | O34: 1 | P34: =VLOOKUP($Q34,УЧАСТНИКИ!$A$2:$L$1099,10,FALSE) -> Селюцкий С.А. | Q34: 442 | S34: =MIN(H34,K34) -> 1294
A35: 23 | B35: =VLOOKUP($Q35,УЧАСТНИКИ!$A$2:$L$1099,3,FALSE) -> Спиридонова Валерия | C35: =VLOOKUP($Q35,УЧАСТНИКИ!$A$2:$L$1099,4,FALSE) -> 27.12.2000 | D35: =VLOOKUP($Q35,УЧАСТНИКИ!$A$2:$L$1099,8,FALSE) -> 1 | E35: =VLOOKUP($Q35,УЧАСТНИКИ!$A$2:$L$1099,5,FALSE) -> Краснодарский край | F35: =VLOOKUP($Q35,УЧАСТНИКИ!$A$2:$L$1099,7,FALSE) -> 0 | G35: =VLOOKUP($Q35,УЧАСТНИКИ!$A$2:$L$1099,11,FALSE) -> МБУ СШ "Лидер" | H35: 1299 | I35: =IF(H35=0,0,CONCATENATE(MID(H35,1,2),".",MID(H35,3,2))) -> 12.99 | J35: -0.1 | N35: =IF(S35<=$R$12,"МСМК",IF(S35<=$S$12,"МС",IF(S35<=$T$12,"КМС",IF(S35<=$U$12,"1",IF(S35<=$V$12,"2",IF(S35<=$W$12,"3",IF(S35<=$X$12,"1юн",IF(S35<=$Y$12,"2юн",IF(S35<=$Z$12,"3юн",IF(S35>$Z$12,"б/р")))))))))) -> 1 | O35: =VLOOKUP($Q35,УЧАСТНИКИ!$A$2:$L$1099,9,FALSE) -> Л | P35: =VLOOKUP($Q35,УЧАСТНИКИ!$A$2:$L$1099,10,FALSE) -> Гладкова О.С. | Q35: 176 | S35: =MIN(H35,K35) -> 1299
B39: Главный судья соревнований | N39: П. Безъязычный, ССВК, г.Краснодар
B42: Главный секретарь соревнований | N42: Е. Клочкова, ССВК, г.Волгоград

Sheet И40-Ж
A1: =Name_1 -> МИНИСТЕРСТВО ФИЗИЧЕСКОЙ КУЛЬТУРЫ И СПОРТА РОССИЙСКОЙ ФЕДЕРАЦИИ
A2: =Name_2 -> ВСЕРОССИЙСКАЯ ФЕДЕРАЦИЯ ЛЕГКОЙ АТЛЕТИКИ
A3: =Name_3 -> МИНИСТЕРСТВО ФИЗИЧЕСКОЙ КУЛЬТУРЫ И СПОРТА КРАСНОДАРСКОГО КРАЯ
A4: =Name_6 -> ФЕДЕРАЦИЯ ЛЕГКОЙ АТЛЕТИКИ КРАСНОДАРСКОГО КРАЯ
A5: КУБОК РОССИИ
A6: =d_4 -> ЖЕНЩИНЫ
A7: ИТОГОВЫЙ ПРОТОКОЛ
A8: Бег 400 м
M10: =d_5 -> г. Сочи, ул. Бзугу 2, ст. им. Славы Метревели
A11: Круг 400 м (автохронометраж) | G11: финальные забеги | I11: =d_1 -> 28.05.2019г. | L11: 0.67361111 | M11: =d_6 -> t° +25 вл. 76% | N11: номер | O11: мсмк | P11: мс | Q11: кмс | R11: 1 | S11: 2 | T11: 3 | U11: 1ю | V11: 2ю | W11: 3ю
A12: Занятое место | B12: Фамилия, имя | C12: Дата рождения | D12: Заявл. разряд | E12: Территория | F12: Округ | G12: Оргнизация Ведомство | I12: Забеги | J12: Финал | K12: Выполненный разряд | L12: Очки | M12: Ф.И.О. тренера | O12: 5124 | P12: 5424 | Q12: 5774 | R12: 10174 | S12: 10624 | T12: 11124 | U12: 11724 | V12: 12424 | W12: 13072
A13: 1 | B13: =VLOOKUP($N13,УЧАСТНИКИ!$A$2:$L$1099,3,FALSE) -> Аксенова (Усталова) Ксения | C13: =VLOOKUP($N13,УЧАСТНИКИ!$A$2:$L$1099,4,FALSE) -> 14.01.1988 | D13: =VLOOKUP($N13,УЧАСТНИКИ!$A$2:$L$1099,8,FALSE) -> ЗМС | E13: =VLOOKUP($N13,УЧАСТНИКИ!$A$2:$L$1099,5,FALSE) -> Свердловская область Ямало-Ненецкий автономный округ | F13: =VLOOKUP($N13,УЧАСТНИКИ!$A$2:$L$1099,7,FALSE) -> 0 | G13: =VLOOKUP($N13,УЧАСТНИКИ!$A$2:$L$1099,11,FALSE) -> МАУ ДО Пуровская районная СДЮСШОР "АВАНГАРД", ЧУ СК"Луч", ЦСП | H13: 5217 | I13: =IF(H13=0,0,CONCATENATE(MID(H13,1,2),".",MID(H13,3,2))) -> 52.17 | K13: =IF(H13<=$O$12,"МСМК",IF(H13<=$P$12,"МС",IF(H13<=$Q$12,"КМС",IF(H13<=$R$12,"1",IF(H13<=$S$12,"2",IF(H13<=$T$12,"3",IF(H13<=$U$12,"1юн",IF(H13<=$V$12,"2юн",IF(H13<=$W$12,"3юн",IF(H13>$W$12,"б/р")))))))))) -> МС | L13: 20+5 | M13: =VLOOKUP($N13,УЧАСТНИКИ!$A$2:$L$1099,10,FALSE) -> Табабилов Р.Б., Хангельдиев Г.А. | N13: 62
A14: 2 | B14: =VLOOKUP($N14,УЧАСТНИКИ!$A$2:$L$1099,3,FALSE) -> Брагина Анастасия | C14: =VLOOKUP($N14,УЧАСТНИКИ!$A$2:$L$1099,4,FALSE) -> 01.06.1998 | D14: =VLOOKUP($N14,УЧАСТНИКИ!$A$2:$L$1099,8,FALSE) -> МС | E14: =VLOOKUP($N14,УЧАСТНИКИ!$A$2:$L$1099,5,FALSE) -> Новосибирская область | F14: =VLOOKUP($N14,УЧАСТНИКИ!$A$2:$L$1099,7,FALSE) -> 0 | G14: =VLOOKUP($N14,УЧАСТНИКИ!$A$2:$L$1099,11,FALSE) -> Динамо ГАУ НСО "РЦСП СК и СР" | H14: 5233 | I14: =IF(H14=0,0,CONCATENATE(MID(H14,1,2),".",MID(H14,3,2))) -> 52.33 | K14: =IF(H14<=$O$12,"МСМК",IF(H14<=$P$12,"МС",IF(H14<=$Q$12,"КМС",IF(H14<=$R$12,"1",IF(H14<=$S$12,"2",IF(H14<=$T$12,"3",IF(H14<=$U$12,"1юн",IF(H14<=$V$12,"2юн",IF(H14<=$W$12,"3юн",IF(H14>$W$12,"б/р")))))))))) -> МС | L14: 17+5 | M14: =VLOOKUP($N14,УЧАСТНИКИ!$A$2:$L$1099,10,FALSE) -> Бухашеев А.Г., Боярищева А.А. | N14: 421
A15: 3 | B15: =VLOOKUP($N15,УЧАСТНИКИ!$A$2:$L$1099,3,FALSE) -> Котлярова Надежда | C15: =VLOOKUP($N15,УЧАСТНИКИ!$A$2:$L$1099,4,FALSE) -> 12.06.1989 | D15: =VLOOKUP($N15,УЧАСТНИКИ!$A$2:$L$1099,8,FALSE) -> МСМК | E15: =VLOOKUP($N15,УЧАСТНИКИ!$A$2:$L$1099,5,FALSE) -> Москва Республика Карелия | F15: =VLOOKUP($N15,УЧАСТНИКИ!$A$2:$L$1099,7,FALSE) -> 0 | G15: =VLOOKUP($N15,УЧАСТНИКИ!$A$2:$L$1099,11,FALSE) -> ВС ГБУ "ЦОП по легкой атлетике" Москомспорта, АУ РК ЦСП "ШВСМ" | H15: 5268 | I15: =IF(H15=0,0,CONCATENATE(MID(H15,1,2),".",MID(H15,3,2))) -> 52.68 | K15: =IF(H15<=$O$12,"МСМК",IF(H15<=$P$12,"МС",IF(H15<=$Q$12,"КМС",IF(H15<=$R$12,"1",IF(H15<=$S$12,"2",IF(H15<=$T$12,"3",IF(H15<=$U$12,"1юн",IF(H15<=$V$12,"2юн",IF(H15<=$W$12,"3юн",IF(H15>$W$12,"б/р")))))))))) -> МС | L15: 15+5 | M15: =VLOOKUP($N15,УЧАСТНИКИ!$A$2:$L$1099,10,FALSE) -> Маслаков В.М. | N15: 482
A16: 4 | B16: =VLOOKUP($N16,УЧАСТНИКИ!$A$2:$L$1099,3,FALSE) -> Мамина (Тамкова) Алена | C16: =VLOOKUP($N16,УЧАСТНИКИ!$A$2:$L$1099,4,FALSE) -> 30.05.1990 | D16: =VLOOKUP($N16,УЧАСТНИКИ!$A$2:$L$1099,8,FALSE) -> МСМК | E16: =VLOOKUP($N16,УЧАСТНИКИ!$A$2:$L$1099,5,FALSE) -> Московская область Свердловская область | F16: =VLOOKUP($N16,УЧАСТНИКИ!$A$2:$L$1099,7,FALSE) -> 0 | G16: =VLOOKUP($N16,УЧАСТНИКИ!$A$2:$L$1099,11,FALSE) -> ГБУ МО "ЦСП ОВС", ГБУ МО "СШОР по легкой атлетике", МОО СК "Спутник" г. Нижнего Тагила | H16: 5312 | I16: =IF(H16=0,0,CONCATENATE(MID(H16,1,2),".",MID(H16,3,2))) -> 53.12 | K16: =IF(H16<=$O$12,"МСМК",IF(H16<=$P$12,"МС",IF(H16<=$Q$12,"КМС",IF(H16<=$R$12,"1",IF(H16<=$S$12,"2",IF(H16<=$T$12,"3",IF(H16<=$U$12,"1юн",IF(H16<=$V$12,"2юн",IF(H16<=$W$12,"3юн",IF(H16>$W$12,"б/р")))))))))) -> МС | L16: 14+5 | M16: =VLOOKUP($N16,УЧАСТНИКИ!$A$2:$L$1099,10,FALSE) -> Маслаков В.М., Жуликов Н.М., Мерзлякова Н.В. | N16: 71
A17: 5 | B17: =VLOOKUP($N17,УЧАСТНИКИ!$A$2:$L$1099,3,FALSE) -> Лебедева Александра | C17: =VLOOKUP($N17,УЧАСТНИКИ!$A$2:$L$1099,4,FALSE) -> 04.02.1996 | D17: =VLOOKUP($N17,УЧАСТНИКИ!$A$2:$L$1099,8,FALSE) -> КМС | E17: =VLOOKUP($N17,УЧАСТНИКИ!$A$2:$L$1099,5,FALSE) -> Новосибирская область | F17: =VLOOKUP($N17,УЧАСТНИКИ!$A$2:$L$1099,7,FALSE) -> 0 | G17: =VLOOKUP($N17,УЧАСТНИКИ!$A$2:$L$1099,11,FALSE) -> Динамо ГАУ НСО "РЦСП СК и СР" | H17: 5420 | I17: =IF(H17=0,0,CONCATENATE(MID(H17,1,2),".",MID(H17,3,2))) -> 54.20 | K17: =IF(H17<=$O$12,"МСМК",IF(H17<=$P$12,"МС",IF(H17<=$Q$12,"КМС",IF(H17<=$R$12,"1",IF(H17<=$S$12,"2",IF(H17<=$T$12,"3",IF(H17<=$U$12,"1юн",IF(H17<=$V$12,"2юн",IF(H17<=$W$12,"3юн",IF(H17>$W$12,"б/р")))))))))) -> МС | L17: 13+5 | M17: =VLOOKUP($N17,УЧАСТНИКИ!$A$2:$L$1099,10,FALSE) -> Бухашеев А.Г., Боярищева А.А. | N17: 423
A18: 6 | B18: =VLOOKUP($N18,УЧАСТНИКИ!$A$2:$L$1099,3,FALSE) -> Жданова Анастасия | C18: =VLOOKUP($N18,УЧАСТНИКИ!$A$2:$L$1099,4,FALSE) -> 15.04.1994 | D18: =VLOOKUP($N18,УЧАСТНИКИ!$A$2:$L$1099,8,FALSE) -> МС | E18: =VLOOKUP($N18,УЧАСТНИКИ!$A$2:$L$1099,5,FALSE) -> Свердловская область | F18: =VLOOKUP($N18,УЧАСТНИКИ!$A$2:$L$1099,7,FALSE) -> 0 | G18: =VLOOKUP($N18,УЧАСТНИКИ!$A$2:$L$1099,11,FALSE) -> ГАУ СО "ЦСП", СК "Спутник" | H18: 5428 | I18: =IF(H18=0,0,CONCATENATE(MID(H18,1,2),".",MID(H18,3,2))) -> 54.28 | K18: =IF(H18<=$O$12,"МСМК",IF(H18<=$P$12,"МС",IF(H18<=$Q$12,"КМС",IF(H18<=$R$12,"1",IF(H18<=$S$12,"2",IF(H18<=$T$12,"3",IF(H18<=$U$12,"1юн",IF(H18<=$V$12,"2юн",IF(H18<=$W$12,"3юн",IF(H18>$W$12,"б/р")))))))))) -> КМС | L18: 12 | M18: =VLOOKUP($N18,УЧАСТНИКИ!$A$2:$L$1099,10,FALSE) -> Заикин В.В., Гусаренко В.С., Петренко О.Н. | N18: 67
A19: 7 | B19: =VLOOKUP($N19,УЧАСТНИКИ!$A$2:$L$1099,3,FALSE) -> Зуйкевич Елена | C19: =VLOOKUP($N19,УЧАСТНИКИ!$A$2:$L$1099,4,FALSE) -> 26.02.1990 | D19: =VLOOKUP($N19,УЧАСТНИКИ!$A$2:$L$1099,8,FALSE) -> МС | E19: =VLOOKUP($N19,УЧАСТНИКИ!$A$2:$L$1099,5,FALSE) -> Калининградская область Пермский край | F19: =VLOOKUP($N19,УЧАСТНИКИ!$A$2:$L$1099,7,FALSE) -> 0 | G19: =VLOOKUP($N19,УЧАСТНИКИ!$A$2:$L$1099,11,FALSE) -> ГАУ КО "ЦСП СК", МБУ "СШОР "Старт" | H19: 5431 | I19: =IF(H19=0,0,CONCATENATE(MID(H19,1,2),".",MID(H19,3,2))) -> 54.31 | K19: =IF(H19<=$O$12,"МСМК",IF(H19<=$P$12,"МС",IF(H19<=$Q$12,"КМС",IF(H19<=$R$12,"1",IF(H19<=$S$12,"2",IF(H19<=$T$12,"3",IF(H19<=$U$12,"1юн",IF(H19<=$V$12,"2юн",IF(H19<=$W$12,"3юн",IF(H19>$W$12,"б/р")))))))))) -> КМС | L19: 11 | M19: =VLOOKUP($N19,УЧАСТНИКИ!$A$2:$L$1099,10,FALSE) -> Малиновская Н.А., Верещагина З.Г. | N19: 49
A20: 8 | B20: =VLOOKUP($N20,УЧАСТНИКИ!$A$2:$L$1099,3,FALSE) -> Палиенко Ольга | C20: =VLOOKUP($N20,УЧАСТНИКИ!$A$2:$L$1099,4,FALSE) -> 21.11.1995 | D20: =VLOOKUP($N20,УЧАСТНИКИ!$A$2:$L$1099,8,FALSE) -> КМС | E20: =VLOOKUP($N20,УЧАСТНИКИ!$A$2:$L$1099,5,FALSE) -> Новосибирская область | F20: =VLOOKUP($N20,УЧАСТНИКИ!$A$2:$L$1099,7,FALSE) -> 0 | G20: =VLOOKUP($N20,УЧАСТНИКИ!$A$2:$L$1099,11,FALSE) -> МАУ "НЦВСМ" | H20: 5477 | I20: =IF(H20=0,0,CONCATENATE(MID(H20,1,2),".",MID(H20,3,2))) -> 54.77 | K20: =IF(H20<=$O$12,"МСМК",IF(H20<=$P$12,"МС",IF(H20<=$Q$12,"КМС",IF(H20<=$R$12,"1",IF(H20<=$S$12,"2",IF(H20<=$T$12,"3",IF(H20<=$U$12,"1юн",IF(H20<=$V$12,"2юн",IF(H20<=$W$12,"3юн",IF(H20>$W$12,"б/р")))))))))) -> КМС | L20: 10 | M20: =VLOOKUP($N20,УЧАСТНИКИ!$A$2:$L$1099,10,FALSE) -> Котовский В.Ю., Панов В.С. | N20: 424
A21: 9 | B21: =VLOOKUP($N21,УЧАСТНИКИ!$A$2:$L$1099,3,FALSE) -> Миглан Мария | C21: =VLOOKUP($N21,УЧАСТНИКИ!$A$2:$L$1099,4,FALSE) -> 20.02.1997 | D21: =VLOOKUP($N21,УЧАСТНИКИ!$A$2:$L$1099,8,FALSE) -> КМС | E21: =VLOOKUP($N21,УЧАСТНИКИ!$A$2:$L$1099,5,FALSE) -> Тюменская область | F21: =VLOOKUP($N21,УЧАСТНИКИ!$A$2:$L$1099,7,FALSE) -> 0 | G21: =VLOOKUP($N21,УЧАСТНИКИ!$A$2:$L$1099,11,FALSE) -> ГАУ ТО "ОСШОР", ТЮМГУ | H21: 5495 | I21: =IF(H21=0,0,CONCATENATE(MID(H21,1,2),".",MID(H21,3,2))) -> 54.95 | K21: =IF(H21<=$O$12,"МСМК",IF(H21<=$P$12,"МС",IF(H21<=$Q$12,"КМС",IF(H21<=$R$12,"1",IF(H21<=$S$12,"2",IF(H21<=$T$12,"3",IF(H21<=$U$12,"1юн",IF(H21<=$V$12,"2юн",IF(H21<=$W$12,"3юн",IF(H21>$W$12,"б/р")))))))))) -> КМС | L21: 9 | M21: =VLOOKUP($N21,УЧАСТНИКИ!$A$2:$L$1099,10,FALSE) -> Сергеев О.В. | N21: 92
A22: 10 | B22: =VLOOKUP($N22,УЧАСТНИКИ!$A$2:$L$1099,3,FALSE) -> Галацкова (Панасенко) Екатерина | C22: =VLOOKUP($N22,УЧАСТНИКИ!$A$2:$L$1099,4,FALSE) -> 06.01.1995 | D22: =VLOOKUP($N22,УЧАСТНИКИ!$A$2:$L$1099,8,FALSE) -> КМС | E22: =VLOOKUP($N22,УЧАСТНИКИ!$A$2:$L$1099,5,FALSE) -> Ульяновская область | F22: =VLOOKUP($N22,УЧАСТНИКИ!$A$2:$L$1099,7,FALSE) -> 0 | G22: =VLOOKUP($N22,УЧАСТНИКИ!$A$2:$L$1099,11,FALSE) -> ОГБУ "ССШОР по легкой атлетике" | H22: 5517 | I22: =IF(H22=0,0,CONCATENATE(MID(H22,1,2),".",MID(H22,3,2))) -> 55.17 | K22: =IF(H22<=$O$12,"МСМК",IF(H22<=$P$12,"МС",IF(H22<=$Q$12,"КМС",IF(H22<=$R$12,"1",IF(H22<=$S$12,"2",IF(H22<=$T$12,"3",IF(H22<=$U$12,"1юн",IF(H22<=$V$12,"2юн",IF(H22<=$W$12,"3юн",IF(H22>$W$12,"б/р")))))))))) -> КМС | L22: 8 | M22: =VLOOKUP($N22,УЧАСТНИКИ!$A$2:$L$1099,10,FALSE) -> Краснобаев А.А. | N22: 194
A23: 11 | B23: =VLOOKUP($N23,УЧАСТНИКИ!$A$2:$L$1099,3,FALSE) -> Глотова Яна | C23: =VLOOKUP($N23,УЧАСТНИКИ!$A$2:$L$1099,4,FALSE) -> 17.01.1995 | D23: =VLOOKUP($N23,УЧАСТНИКИ!$A$2:$L$1099,8,FALSE) -> МС | E23: =VLOOKUP($N23,УЧАСТНИКИ!$A$2:$L$1099,5,FALSE) -> Московская область Липецкая область | F23: =VLOOKUP($N23,УЧАСТНИКИ!$A$2:$L$1099,7,FALSE) -> 0 | G23: =VLOOKUP($N23,УЧАСТНИКИ!$A$2:$L$1099,11,FALSE) -> ГБУ МО "ЦСП ОВС", МБУ "СШОР № 5" | H23: 5518 | I23: =IF(H23=0,0,CONCATENATE(MID(H23,1,2),".",MID(H23,3,2))) -> 55.18 | K23: =IF(H23<=$O$12,"МСМК",IF(H23<=$P$12,"МС",IF(H23<=$Q$12,"КМС",IF(H23<=$R$12,"1",IF(H23<=$S$12,"2",IF(H23<=$T$12,"3",IF(H23<=$U$12,"1юн",IF(H23<=$V$12,"2юн",IF(H23<=$W$12,"3юн",IF(H23>$W$12,"б/р")))))))))) -> КМС | L23: 7 | M23: =VLOOKUP($N23,УЧАСТНИКИ!$A$2:$L$1099,10,FALSE) -> Непомнящая И.А., Игаева Л.Ф. | N23: 120
A24: 12 | B24: =VLOOKUP($N24,УЧАСТНИКИ!$A$2:$L$1099,3,FALSE) -> Цаплина Валерия | C24: =VLOOKUP($N24,УЧАСТНИКИ!$A$2:$L$1099,4,FALSE) -> 19.02.1997 | D24: =VLOOKUP($N24,УЧАСТНИКИ!$A$2:$L$1099,8,FALSE) -> КМС | E24: =VLOOKUP($N24,УЧАСТНИКИ!$A$2:$L$1099,5,FALSE) -> Кировская область Санкт-Петербург | F24: =VLOOKUP($N24,УЧАСТНИКИ!$A$2:$L$1099,7,FALSE) -> 0 | G24: =VLOOKUP($N24,УЧАСТНИКИ!$A$2:$L$1099,11,FALSE) -> КОГАУ "ВятСШОР" ,СПб ГБУ ЦОП "ШВСМ по легкой атлетике" | H24: 5564 | I24: =IF(H24=0,0,CONCATENATE(MID(H24,1,2),".",MID(H24,3,2))) -> 55.64 | K24: =IF(H24<=$O$12,"МСМК",IF(H24<=$P$12,"МС",IF(H24<=$Q$12,"КМС",IF(H24<=$R$12,"1",IF(H24<=$S$12,"2",IF(H24<=$T$12,"3",IF(H24<=$U$12,"1юн",IF(H24<=$V$12,"2юн",IF(H24<=$W$12,"3юн",IF(H24>$W$12,"б/р")))))))))) -> КМС | L24: =VLOOKUP($N24,УЧАСТНИКИ!$A$2:$L$1099,9,FALSE) -> Л | M24: =VLOOKUP($N24,УЧАСТНИКИ!$A$2:$L$1099,10,FALSE) -> Куликова Е.Ю. | N24: 320
A25: 13 | B25: =VLOOKUP($N25,УЧАСТНИКИ!$A$2:$L$1099,3,FALSE) -> Паренчук Лика | C25: =VLOOKUP($N25,УЧАСТНИКИ!$A$2:$L$1099,4,FALSE) -> 06.04.2002 | D25: =VLOOKUP($N25,УЧАСТНИКИ!$A$2:$L$1099,8,FALSE) -> КМС | E25: =VLOOKUP($N25,УЧАСТНИКИ!$A$2:$L$1099,5,FALSE) -> Алтайский край | F25: =VLOOKUP($N25,УЧАСТНИКИ!$A$2:$L$1099,7,FALSE) -> 0 | G25: =VLOOKUP($N25,УЧАСТНИКИ!$A$2:$L$1099,11,FALSE) -> КГБ ПОУ "Алтайское училище олимпийского резерва" | H25: 5580 | I25: =IF(H25=0,0,CONCATENATE(MID(H25,1,2),".",MID(H25,3,2))) -> 55.80 | K25: =IF(H25<=$O$12,"МСМК",IF(H25<=$P$12,"МС",IF(H25<=$Q$12,"КМС",IF(H25<=$R$12,"1",IF(H25<=$S$12,"2",IF(H25<=$T$12,"3",IF(H25<=$U$12,"1юн",IF(H25<=$V$12,"2юн",IF(H25<=$W$12,"3юн",IF(H25>$W$12,"б/р")))))))))) -> КМС | L25: 6 | M25: =VLOOKUP($N25,УЧАСТНИКИ!$A$2:$L$1099,10,FALSE) -> Клевцова Н.В., Панина Е.А. | N25: 20
A26: 14 | B26: =VLOOKUP($N26,УЧАСТНИКИ!$A$2:$L$1099,3,FALSE) -> Котельникова Елена | C26: =VLOOKUP($N26,УЧАСТНИКИ!$A$2:$L$1099,4,FALSE) -> 03.04.1997 | D26: =VLOOKUP($N26,УЧАСТНИКИ!$A$2:$L$1099,8,FALSE) -> КМС | E26: =VLOOKUP($N26,УЧАСТНИКИ!$A$2:$L$1099,5,FALSE) -> Курская область | F26: =VLOOKUP($N26,УЧАСТНИКИ!$A$2:$L$1099,7,FALSE) -> 0 | G26: =VLOOKUP($N26,УЧАСТНИКИ!$A$2:$L$1099,11,FALSE) -> ОБУ СШОР "Урожай" | H26: 5593 | I26: =IF(H26=0,0,CONCATENATE(MID(H26,1,2),".",MID(H26,3,2))) -> 55.93 | K26: =IF(H26<=$O$12,"МСМК",IF(H26<=$P$12,"МС",IF(H26<=$Q$12,"КМС",IF(H26<=$R$12,"1",IF(H26<=$S$12,"2",IF(H26<=$T$12,"3",IF(H26<=$U$12,"1юн",IF(H26<=$V$12,"2юн",IF(H26<=$W$12,"3юн",IF(H26>$W$12,"б/р")))))))))) -> КМС | L26: 5 | M26: =VLOOKUP($N26,УЧАСТНИКИ!$A$2:$L$1099,10,FALSE) -> Руденко В.Д. | N26: 187
A27: 15 | B27: =VLOOKUP($N27,УЧАСТНИКИ!$A$2:$L$1099,3,FALSE) -> Кондрашкина Юлия | C27: =VLOOKUP($N27,УЧАСТНИКИ!$A$2:$L$1099,4,FALSE) -> 10.08.1997 | D27: =VLOOKUP($N27,УЧАСТНИКИ!$A$2:$L$1099,8,FALSE) -> МС | E27: =VLOOKUP($N27,УЧАСТНИКИ!$A$2:$L$1099,5,FALSE) -> Краснодарский край | F27: =VLOOKUP($N27,УЧАСТНИКИ!$A$2:$L$1099,7,FALSE) -> 0 | G27: =VLOOKUP($N27,УЧАСТНИКИ!$A$2:$L$1099,11,FALSE) -> ГБУ КК "РЦСП по легкой атлетике" | H27: 5607 | I27: =IF(H27=0,0,CONCATENATE(MID(H27,1,2),".",MID(H27,3,2))) -> 56.07 | K27: =IF(H27<=$O$12,"МСМК",IF(H27<=$P$12,"МС",IF(H27<=$Q$12,"КМС",IF(H27<=$R$12,"1",IF(H27<=$S$12,"2",IF(H27<=$T$12,"3",IF(H27<=$U$12,"1юн",IF(H27<=$V$12,"2юн",IF(H27<=$W$12,"3юн",IF(H27>$W$12,"б/р")))))))))) -> КМС | L27: =VLOOKUP($N27,УЧАСТНИКИ!$A$2:$L$1099,9,FALSE) -> Л | M27: =VLOOKUP($N27,УЧАСТНИКИ!$A$2:$L$1099,10,FALSE) -> Вакарина М.Т., Кудрявцев В.Е. | N27: 149
A28: 16 | B28: =VLOOKUP($N28,УЧАСТНИКИ!$A$2:$L$1099,3,FALSE) -> Кузминчук Олеся | C28: =VLOOKUP($N28,УЧАСТНИКИ!$A$2:$L$1099,4,FALSE) -> 04.12.1998 | D28: =VLOOKUP($N28,УЧАСТНИКИ!$A$2:$L$1099,8,FALSE) -> КМС | E28: =VLOOKUP($N28,УЧАСТНИКИ!$A$2:$L$1099,5,FALSE) -> Санкт-Петербург | F28: =VLOOKUP($N28,УЧАСТНИКИ!$A$2:$L$1099,7,FALSE) -> 0 | G28: =VLOOKUP($N28,УЧАСТНИКИ!$A$2:$L$1099,11,FALSE) -> ГБУ СШОР № 2 Московского района | H28: 5623 | I28: =IF(H28=0,0,CONCATENATE(MID(H28,1,2),".",MID(H28,3,2))) -> 56.23 | K28: =IF(H28<=$O$12,"МСМК",IF(H28<=$P$12,"МС",IF(H28<=$Q$12,"КМС",IF(H28<=$R$12,"1",IF(H28<=$S$12,"2",IF(H28<=$T$12,"3",IF(H28<=$U$12,"1юн",IF(H28<=$V$12,"2юн",IF(H28<=$W$12,"3юн",IF(H28>$W$12,"б/р")))))))))) -> КМС | L28: 4 | M28: =VLOOKUP($N28,УЧАСТНИКИ!$A$2:$L$1099,10,FALSE) -> Лотова Э.В. | N28: 285
A29: 17 | B29: =VLOOKUP($N29,УЧАСТНИКИ!$A$2:$L$1099,3,FALSE) -> Рыбкина Анастасия | C29: =VLOOKUP($N29,УЧАСТНИКИ!$A$2:$L$1099,4,FALSE) -> 14.04.1999 | D29: =VLOOKUP($N29,УЧАСТНИКИ!$A$2:$L$1099,8,FALSE) -> КМС | E29: =VLOOKUP($N29,УЧАСТНИКИ!$A$2:$L$1099,5,FALSE) -> Курская область | F29: =VLOOKUP($N29,УЧАСТНИКИ!$A$2:$L$1099,7,FALSE) -> 0 | G29: =VLOOKUP($N29,УЧАСТНИКИ!$A$2:$L$1099,11,FALSE) -> ОБУ СШОР "Урожай" | H29: 5635 | I29: =IF(H29=0,0,CONCATENATE(MID(H29,1,2),".",MID(H29,3,2))) -> 56.35 | K29: =IF(H29<=$O$12,"МСМК",IF(H29<=$P$12,"МС",IF(H29<=$Q$12,"КМС",IF(H29<=$R$12,"1",IF(H29<=$S$12,"2",IF(H29<=$T$12,"3",IF(H29<=$U$12,"1юн",IF(H29<=$V$12,"2юн",IF(H29<=$W$12,"3юн",IF(H29>$W$12,"б/р")))))))))) -> КМС | L29: 3 | M29: =VLOOKUP($N29,УЧАСТНИКИ!$A$2:$L$1099,10,FALSE) -> Руденко В.Д. | N29: 188
A30: 18 | B30: =VLOOKUP($N30,УЧАСТНИКИ!$A$2:$L$1099,3,FALSE) -> Краснова Карина | C30: =VLOOKUP($N30,УЧАСТНИКИ!$A$2:$L$1099,4,FALSE) -> 09.07.2000 | D30: =VLOOKUP($N30,УЧАСТНИКИ!$A$2:$L$1099,8,FALSE) -> КМС | E30: =VLOOKUP($N30,УЧАСТНИКИ!$A$2:$L$1099,5,FALSE) -> Московская область Тульская область | F30: =VLOOKUP($N30,УЧАСТНИКИ!$A$2:$L$1099,7,FALSE) -> 0 | G30: =VLOOKUP($N30,УЧАСТНИКИ!$A$2:$L$1099,11,FALSE) -> ГБУ МО "ЦСП ОВС", ГБУ МО "СШОР по легкой атлетике", МБУ СШОР «Легкая Атлетика» | H30: 5640 | I30: =IF(H30=0,0,CONCATENATE(MID(H30,1,2),".",MID(H30,3,2))) -> 56.40 | K30: =IF(H30<=$O$12,"МСМК",IF(H30<=$P$12,"МС",IF(H30<=$Q$12,"КМС",IF(H30<=$R$12,"1",IF(H30<=$S$12,"2",IF(H30<=$T$12,"3",IF(H30<=$U$12,"1юн",IF(H30<=$V$12,"2юн",IF(H30<=$W$12,"3юн",IF(H30>$W$12,"б/р")))))))))) -> КМС | L30: =VLOOKUP($N30,УЧАСТНИКИ!$A$2:$L$1099,9,FALSE) -> Л | M30: =VLOOKUP($N30,УЧАСТНИКИ!$A$2:$L$1099,10,FALSE) -> Кузнецов А.В., Соболева Л.И., Чебыкина Т.Г., Матюхин Н.И. | N30: 458
A31: 19 | B31: =VLOOKUP($N31,УЧАСТНИКИ!$A$2:$L$1099,3,FALSE) -> Купина Екатерина | C31: =VLOOKUP($N31,УЧАСТНИКИ!$A$2:$L$1099,4,FALSE) -> 02.02.1986 | D31: =VLOOKUP($N31,УЧАСТНИКИ!$A$2:$L$1099,8,FALSE) -> МСМК | E31: =VLOOKUP($N31,УЧАСТНИКИ!$A$2:$L$1099,5,FALSE) -> Курская область | F31: =VLOOKUP($N31,УЧАСТНИКИ!$A$2:$L$1099,7,FALSE) -> 0 | G31: =VLOOKUP($N31,УЧАСТНИКИ!$A$2:$L$1099,11,FALSE) -> ОБУ СШОР "Урожай" | H31: 5647 | I31: =IF(H31=0,0,CONCATENATE(MID(H31,1,2),".",MID(H31,3,2))) -> 56.47 | K31: =IF(H31<=$O$12,"МСМК",IF(H31<=$P$12,"МС",IF(H31<=$Q$12,"КМС",IF(H31<=$R$12,"1",IF(H31<=$S$12,"2",IF(H31<=$T$12,"3",IF(H31<=$U$12,"1юн",IF(H31<=$V$12,"2юн",IF(H31<=$W$12,"3юн",IF(H31>$W$12,"б/р")))))))))) -> КМС | L31: 2 | M31: =VLOOKUP($N31,УЧАСТНИКИ!$A$2:$L$1099,10,FALSE) -> Купин А.Д. | N31: 186
A32: 20 | B32: =VLOOKUP($N32,УЧАСТНИКИ!$A$2:$L$1099,3,FALSE) -> Копрова Екатерина | C32: =VLOOKUP($N32,УЧАСТНИКИ!$A$2:$L$1099,4,FALSE) -> 07.02.1999 | D32: =VLOOKUP($N32,УЧАСТНИКИ!$A$2:$L$1099,8,FALSE) -> КМС | E32: =VLOOKUP($N32,УЧАСТНИКИ!$A$2:$L$1099,5,FALSE) -> Санкт-Петербург | F32: =VLOOKUP($N32,УЧАСТНИКИ!$A$2:$L$1099,7,FALSE) -> 0 | G32: =VLOOKUP($N32,УЧАСТНИКИ!$A$2:$L$1099,11,FALSE) -> СПб ГБУ ЦОП "ШВСМ по легкой атлетике" | H32: 5665 | I32: =IF(H32=0,0,CONCATENATE(MID(H32,1,2),".",MID(H32,3,2))) -> 56.65 | K32: =IF(H32<=$O$12,"МСМК",IF(H32<=$P$12,"МС",IF(H32<=$Q$12,"КМС",IF(H32<=$R$12,"1",IF(H32<=$S$12,"2",IF(H32<=$T$12,"3",IF(H32<=$U$12,"1юн",IF(H32<=$V$12,"2юн",IF(H32<=$W$12,"3юн",IF(H32>$W$12,"б/р")))))))))) -> КМС | L32: =VLOOKUP($N32,УЧАСТНИКИ!$A$2:$L$1099,9,FALSE) -> л | M32: =VLOOKUP($N32,УЧАСТНИКИ!$A$2:$L$1099,10,FALSE) -> Куликова Е.Ю., Пинчук В.П., Калина Т.В. | N32: 283
A33: 21 | B33: =VLOOKUP($N33,УЧАСТНИКИ!$A$2:$L$1099,3,FALSE) -> Богомолова Инесса | C33: =VLOOKUP($N33,УЧАСТНИКИ!$A$2:$L$1099,4,FALSE) -> 24.06.1997 | D33: =VLOOKUP($N33,УЧАСТНИКИ!$A$2:$L$1099,8,FALSE) -> КМС | E33: =VLOOKUP($N33,УЧАСТНИКИ!$A$2:$L$1099,5,FALSE) -> Новосибирская область | F33: =VLOOKUP($N33,УЧАСТНИКИ!$A$2:$L$1099,7,FALSE) -> 0 | G33: =VLOOKUP($N33,УЧАСТНИКИ!$A$2:$L$1099,11,FALSE) -> СШОР "МБУ СШОР "Фламинго" по легкой атлетикеФламинго" | H33: 5674 | I33: =IF(H33=0,0,CONCATENATE(MID(H33,1,2),".",MID(H33,3,2))) -> 56.74 | K33: =IF(H33<=$O$12,"МСМК",IF(H33<=$P$12,"МС",IF(H33<=$Q$12,"КМС",IF(H33<=$R$12,"1",IF(H33<=$S$12,"2",IF(H33<=$T$12,"3",IF(H33<=$U$12,"1юн",IF(H33<=$V$12,"2юн",IF(H33<=$W$12,"3юн",IF(H33>$W$12,"б/р")))))))))) -> КМС | L33: 1 | M33: =VLOOKUP($N33,УЧАСТНИКИ!$A$2:$L$1099,10,FALSE) -> Зайцева О.В., Зюзько Л.В., Шашкова О.О. | N33: 420
A34: 22 | B34: =VLOOKUP($N34,УЧАСТНИКИ!$A$2:$L$1099,3,FALSE) -> Кравченко Марта | C34: =VLOOKUP($N34,УЧАСТНИКИ!$A$2:$L$1099,4,FALSE) -> 07.08.2000 | D34: =VLOOKUP($N34,УЧАСТНИКИ!$A$2:$L$1099,8,FALSE) -> КМС | E34: =VLOOKUP($N34,УЧАСТНИКИ!$A$2:$L$1099,5,FALSE) -> Москва | F34: =VLOOKUP($N34,УЧАСТНИКИ!$A$2:$L$1099,7,FALSE) -> 0 | G34: =VLOOKUP($N34,УЧАСТНИКИ!$A$2:$L$1099,11,FALSE) -> ГБУ "МГФСО" Москомспорта | H34: 5711 | I34: =IF(H34=0,0,CONCATENATE(MID(H34,1,2),".",MID(H34,3,2))) -> 57.11 | K34: =IF(H34<=$O$12,"МСМК",IF(H34<=$P$12,"МС",IF(H34<=$Q$12,"КМС",IF(H34<=$R$12,"1",IF(H34<=$S$12,"2",IF(H34<=$T$12,"3",IF(H34<=$U$12,"1юн",IF(H34<=$V$12,"2юн",IF(H34<=$W$12,"3юн",IF(H34>$W$12,"б/р")))))))))) -> КМС | L34: =VLOOKUP($N34,УЧАСТНИКИ!$A$2:$L$1099,9,FALSE) -> Л | M34: =VLOOKUP($N34,УЧАСТНИКИ!$A$2:$L$1099,10,FALSE) -> Чемерисов Н.Ф., Лиман В.П. | N34: 352
A35: 23 | B35: =VLOOKUP($N35,УЧАСТНИКИ!$A$2:$L$1099,3,FALSE) -> Еремеева Анастасия | C35: =VLOOKUP($N35,УЧАСТНИКИ!$A$2:$L$1099,4,FALSE) -> 01.03.1998 | D35: =VLOOKUP($N35,УЧАСТНИКИ!$A$2:$L$1099,8,FALSE) -> МС | E35: =VLOOKUP($N35,УЧАСТНИКИ!$A$2:$L$1099,5,FALSE) -> Московская область | F35: =VLOOKUP($N35,УЧАСТНИКИ!$A$2:$L$1099,7,FALSE) -> 0 | G35: =VLOOKUP($N35,УЧАСТНИКИ!$A$2:$L$1099,11,FALSE) -> ГБУ МО "ЦСП ОВС", ГБУ МО «СШОР по легкой атлетике» | H35: 5733 | I35: =IF(H35=0,0,CONCATENATE(MID(H35,1,2),".",MID(H35,3,2))) -> 57.33 | K35: =IF(H35<=$O$12,"МСМК",IF(H35<=$P$12,"МС",IF(H35<=$Q$12,"КМС",IF(H35<=$R$12,"1",IF(H35<=$S$12,"2",IF(H35<=$T$12,"3",IF(H35<=$U$12,"1юн",IF(H35<=$V$12,"2юн",IF(H35<=$W$12,"3юн",IF(H35>$W$12,"б/р")))))))))) -> КМС | L35: =VLOOKUP($N35,УЧАСТНИКИ!$A$2:$L$1099,9,FALSE) -> Л | M35: =VLOOKUP($N35,УЧАСТНИКИ!$A$2:$L$1099,10,FALSE) -> Чебыкина Т.Г., Матюхин Н.И., Ларюкова Е.М. | N35: 447
A36: 24 | B36: =VLOOKUP($N36,УЧАСТНИКИ!$A$2:$L$1099,3,FALSE) -> Иванова Виктория | C36: =VLOOKUP($N36,УЧАСТНИКИ!$A$2:$L$1099,4,FALSE) -> 07.07.2000 | D36: =VLOOKUP($N36,УЧАСТНИКИ!$A$2:$L$1099,8,FALSE) -> КМС | E36: =VLOOKUP($N36,УЧАСТНИКИ!$A$2:$L$1099,5,FALSE) -> Санкт-Петербург | F36: =VLOOKUP($N36,УЧАСТНИКИ!$A$2:$L$1099,7,FALSE) -> 0 | G36: =VLOOKUP($N36,УЧАСТНИКИ!$A$2:$L$1099,11,FALSE) -> СПб ГБУ ЦОП "ШВСМ по легкой атлетике" | H36: 5734 | I36: =IF(H36=0,0,CONCATENATE(MID(H36,1,2),".",MID(H36,3,2))) -> 57.34 | K36: =IF(H36<=$O$12,"МСМК",IF(H36<=$P$12,"МС",IF(H36<=$Q$12,"КМС",IF(H36<=$R$12,"1",IF(H36<=$S$12,"2",IF(H36<=$T$12,"3",IF(H36<=$U$12,"1юн",IF(H36<=$V$12,"2юн",IF(H36<=$W$12,"3юн",IF(H36>$W$12,"б/р")))))))))) -> КМС | L36: =VLOOKUP($N36,УЧАСТНИКИ!$A$2:$L$1099,9,FALSE) -> Л | M36: =VLOOKUP($N36,УЧАСТНИКИ!$A$2:$L$1099,10,FALSE) -> Агарков В.Н., Пономарев В.В., Куликова Е.Ю. | N36: 278
A37: 25 | B37: =VLOOKUP($N37,УЧАСТНИКИ!$A$2:$L$1099,3,FALSE) -> Завьялова Яника | C37: =VLOOKUP($N37,УЧАСТНИКИ!$A$2:$L$1099,4,FALSE) -> 12.10.1996 | D37: =VLOOKUP($N37,УЧАСТНИКИ!$A$2:$L$1099,8,FALSE) -> КМС | E37: =VLOOKUP($N37,УЧАСТНИКИ!$A$2:$L$1099,5,FALSE) -> Свердловская область ХМАО - Югра | F37: =VLOOKUP($N37,УЧАСТНИКИ!$A$2:$L$1099,7,FALSE) -> 0 | G37: =VLOOKUP($N37,УЧАСТНИКИ!$A$2:$L$1099,11,FALSE) -> МАУ "СШ "Лидер" | H37: 5744 | I37: =IF(H37=0,0,CONCATENATE(MID(H37,1,2),".",MID(H37,3,2))) -> 57.44 | K37: =IF(H37<=$O$12,"МСМК",IF(H37<=$P$12,"МС",IF(H37<=$Q$12,"КМС",IF(H37<=$R$12,"1",IF(H37<=$S$12,"2",IF(H37<=$T$12,"3",IF(H37<=$U$12,"1юн",IF(H37<=$V$12,"2юн",IF(H37<=$W$12,"3юн",IF(H37>$W$12,"б/р")))))))))) -> КМС | L37: 1 | M37: =VLOOKUP($N37,УЧАСТНИКИ!$A$2:$L$1099,10,FALSE) -> Шитов А.В., Килинкаров Р.М., Кульпин С.Ю. | N37: 68
A38: 26 | B38: =VLOOKUP($N38,УЧАСТНИКИ!$A$2:$L$1099,3,FALSE) -> Емельянова Анастасия | C38: =VLOOKUP($N38,УЧАСТНИКИ!$A$2:$L$1099,4,FALSE) -> 17.06.1991 | D38: =VLOOKUP($N38,УЧАСТНИКИ!$A$2:$L$1099,8,FALSE) -> МС | E38: =VLOOKUP($N38,УЧАСТНИКИ!$A$2:$L$1099,5,FALSE) -> Москва | F38: =VLOOKUP($N38,УЧАСТНИКИ!$A$2:$L$1099,7,FALSE) -> 0 | G38: =VLOOKUP($N38,УЧАСТНИКИ!$A$2:$L$1099,11,FALSE) -> МГФСО ГБУ "МГФСО" Москомспорта | H38: 5745 | I38: =IF(H38=0,0,CONCATENATE(MID(H38,1,2),".",MID(H38,3,2))) -> 57.45 | K38: =IF(H38<=$O$12,"МСМК",IF(H38<=$P$12,"МС",IF(H38<=$Q$12,"КМС",IF(H38<=$R$12,"1",IF(H38<=$S$12,"2",IF(H38<=$T$12,"3",IF(H38<=$U$12,"1юн",IF(H38<=$V$12,"2юн",IF(H38<=$W$12,"3юн",IF(H38>$W$12,"б/р")))))))))) -> КМС | L38: =VLOOKUP($N38,УЧАСТНИКИ!$A$2:$L$1099,9,FALSE) -> Л | M38: =VLOOKUP($N38,УЧАСТНИКИ!$A$2:$L$1099,10,FALSE) -> Богатырева Т.М., Голубенко Ю.И. | N38: 341
A39: 27 | B39: =VLOOKUP($N39,УЧАСТНИКИ!$A$2:$L$1099,3,FALSE) -> Зимарева Ксения | C39: =VLOOKUP($N39,УЧАСТНИКИ!$A$2:$L$1099,4,FALSE) -> 11.11.1994 | D39: =VLOOKUP($N39,УЧАСТНИКИ!$A$2:$L$1099,8,FALSE) -> КМС | E39: =VLOOKUP($N39,УЧАСТНИКИ!$A$2:$L$1099,5,FALSE) -> Московская область | F39: =VLOOKUP($N39,УЧАСТНИКИ!$A$2:$L$1099,7,FALSE) -> 0 | G39: =VLOOKUP($N39,УЧАСТНИКИ!$A$2:$L$1099,11,FALSE) -> МБУ ФСО "СШОР "Авангард", СК "Химик" | H39: 5771 | I39: =IF(H39=0,0,CONCATENATE(MID(H39,1,2),".",MID(H39,3,2))) -> 57.71 | K39: =IF(H39<=$O$12,"МСМК",IF(H39<=$P$12,"МС",IF(H39<=$Q$12,"КМС",IF(H39<=$R$12,"1",IF(H39<=$S$12,"2",IF(H39<=$T$12,"3",IF(H39<=$U$12,"1юн",IF(H39<=$V$12,"2юн",IF(H39<=$W$12,"3юн",IF(H39>$W$12,"б/р")))))))))) -> КМС | L39: =VLOOKUP($N39,УЧАСТНИКИ!$A$2:$L$1099,9,FALSE) -> Л | M39: =VLOOKUP($N39,УЧАСТНИКИ!$A$2:$L$1099,10,FALSE) -> Журавский Г.А., Зотов А.С., Маслов А.М. | N39: 452
A40: 28 | B40: =VLOOKUP($N40,УЧАСТНИКИ!$A$2:$L$1099,3,FALSE) -> Габдуллина Дина | C40: =VLOOKUP($N40,УЧАСТНИКИ!$A$2:$L$1099,4,FALSE) -> 12.03.1995 | D40: =VLOOKUP($N40,УЧАСТНИКИ!$A$2:$L$1099,8,FALSE) -> КМС | E40: =VLOOKUP($N40,УЧАСТНИКИ!$A$2:$L$1099,5,FALSE) -> Ямало-Ненецкий автономный округ | F40: =VLOOKUP($N40,УЧАСТНИКИ!$A$2:$L$1099,7,FALSE) -> 0 | G40: =VLOOKUP($N40,УЧАСТНИКИ!$A$2:$L$1099,11,FALSE) -> МАУ ДО Пуровская районная СДЮСШОР "АВАНГАРД" | H40: 5787 | I40: =IF(H40=0,0,CONCATENATE(MID(H40,1,2),".",MID(H40,3,2))) -> 57.87 | K40: =IF(H40<=$O$12,"МСМК",IF(H40<=$P$12,"МС",IF(H40<=$Q$12,"КМС",IF(H40<=$R$12,"1",IF(H40<=$S$12,"2",IF(H40<=$T$12,"3",IF(H40<=$U$12,"1юн",IF(H40<=$V$12,"2юн",IF(H40<=$W$12,"3юн",IF(H40>$W$12,"б/р")))))))))) -> 1 | L40: 1 | M40: =VLOOKUP($N40,УЧАСТНИКИ!$A$2:$L$1099,10,FALSE) -> Хангельдиев Г.А. | N40: 249
A41: 29 | B41: =VLOOKUP($N41,УЧАСТНИКИ!$A$2:$L$1099,3,FALSE) -> Самуйлова Екатерина | C41: =VLOOKUP($N41,УЧАСТНИКИ!$A$2:$L$1099,4,FALSE) -> 05.11.1999 | D41: =VLOOKUP($N41,УЧАСТНИКИ!$A$2:$L$1099,8,FALSE) -> КМС | E41: =VLOOKUP($N41,УЧАСТНИКИ!$A$2:$L$1099,5,FALSE) -> Москва Тверская область | F41: =VLOOKUP($N41,УЧАСТНИКИ!$A$2:$L$1099,7,FALSE) -> 0 | G41: =VLOOKUP($N41,УЧАСТНИКИ!$A$2:$L$1099,11,FALSE) -> ГБУ "ЦОП по легкой атлетике" Москомспорта, МУДО "КС СДЮСШОР № 1" г. Ржева | H41: 5867 | I41: =IF(H41=0,0,CONCATENATE(MID(H41,1,2),".",MID(H41,3,2))) -> 58.67 | K41: =IF(H41<=$O$12,"МСМК",IF(H41<=$P$12,"МС",IF(H41<=$Q$12,"КМС",IF(H41<=$R$12,"1",IF(H41<=$S$12,"2",IF(H41<=$T$12,"3",IF(H41<=$U$12,"1юн",IF(H41<=$V$12,"2юн",IF(H41<=$W$12,"3юн",IF(H41>$W$12,"б/р")))))))))) -> 1 | L41: 1 | M41: =VLOOKUP($N41,УЧАСТНИКИ!$A$2:$L$1099,10,FALSE) -> Фролова Т.С., Комолов В.А. | N41: 365
...

Sheet И150-Ж
A1: =Name_1 -> МИНИСТЕРСТВО ФИЗИЧЕСКОЙ КУЛЬТУРЫ И СПОРТА РОССИЙСКОЙ ФЕДЕРАЦИИ
A2: =Name_2 -> ВСЕРОССИЙСКАЯ ФЕДЕРАЦИЯ ЛЕГКОЙ АТЛЕТИКИ
A3: =Name_3 -> МИНИСТЕРСТВО ФИЗИЧЕСКОЙ КУЛЬТУРЫ И СПОРТА КРАСНОДАРСКОГО КРАЯ
A4: =Name_6 -> ФЕДЕРАЦИЯ ЛЕГКОЙ АТЛЕТИКИ КРАСНОДАРСКОГО КРАЯ
A5: КУБОК РОССИИ
A6: =d_4 -> ЖЕНЩИНЫ
A7: ИТОГОВЫЙ ПРОТОКОЛ
A8: Бег 1500 м
L10: =d_5 -> г. Сочи, ул. Бзугу 2, ст. им. Славы Метревели
A11: Круг 400 м (автохронометраж) | I11: финальные забеги | J11: =d_1 -> 28.05.2019г. | K11: 0.75 | L11: =d_6 -> t° +25 вл. 76% | M11: номер | O11: мсмк | P11: мс | Q11: кмс | R11: 1 | S11: 2 | T11: 3 | U11: 1ю | V11: 2ю | W11: 3ю
A12: Занятое место | B12: Фамилия, имя | C12: Дата рождения | D12: Заявл. разряд | E12: Территория | F12: Округ | G12: Оргнизация Ведомство | I12: Результат | J12: Выполненный разряд | K12: Очки | L12: Ф.И.О. тренера | O12: 40674 | P12: 41824 | Q12: 43624 | R12: 45724 | S12: 51924 | T12: 54524 | U12: 61624 | V12: 65024 | W12: 73024
