Workbook
Name CUMM: '20-М'!#REF!
Name CUMM: '400СБ-М'!#REF!
Name CUMM: '500-М'!#REF!
Name CUMM: '80-М'!#REF!
Name CUMM: #REF!
Name d_1: '1'!$A$1
Name d_2: '1'!$A$2
Name d_3: '1'!$A$3
Name d_4: '1'!$A$4
Name d_5: '1'!$A$5
Name d_6: '1'!$A$6
Name d_7: '1'!$A$7
Name date_1: '1'!$A$1
Name Name_1: '1'!$A$9
Name Name_2: '1'!$A$10
Name Name_3: '1'!$A$11
Name Name_4: '1'!$A$12
Name Name_5: '1'!$A$12
Name Name_6: '1'!$A$13
Name OLE_LINK1: УЧАСТНИКИ!$D$2
Name Tit_1: '1'!$A$9

Sheet 1
A1: 28.05.2019г.
A2: 29.05.2019г.
A3: 09.06.2019г.
A4: МУЖЧИНЫ
A5: г. Сочи, ул. Бзугу 2, ст. им. Славы Метревели
A6: t° +21 вл. 53%
A7: Адлер с/к "Юность"
A9: МИНИСТЕРСТВО ФИЗИЧЕСКОЙ КУЛЬТУРЫ И СПОРТА РОССИЙСКОЙ ФЕДЕРАЦИИ
A10: ВСЕРОССИЙСКАЯ ФЕДЕРАЦИЯ ЛЕГКОЙ АТЛЕТИКИ
A11: МИНИСТЕРСТВО ФИЗИЧЕСКОЙ КУЛЬТУРЫ И СПОРТА КРАСНОДАРСКОГО КРАЯ
A12: ФЕДЕРАЦИЯ ЛЕГКОЙ АТЛЕТИКИ КРАСНОДАРСКОГО КРАЯ
A13: ФЕДЕРАЦИЯ ЛЕГКОЙ АТЛЕТИКИ КРАСНОДАРСКОГО КРАЯ
A21: дисквал п.п. 162.7 | C21: фальстарт

Sheet УЧАСТНИКИ
A1: № уч-ка | B1: №№ | C1: ФАМИЛИЯ ИМЯ УЧАСТНИКА | D1: Год.рожд | E1: НАЗВАНИЕ КОМАНДЫ | F1: ВИД | G1: Округ | H1: Разряд | I1: лично | J1: ТРЕНЕР(ы) | K1: ДСО Ведомство
A2: 261 | C2: Асеев Илья | D2: 23.03.1994 | E2: Санкт-Петербург | F2: Барьерный бег 110 м | H2: КМС | I2: Л | J2: Белова И.Н., Иванова И.М., Ананьев С.Ю., Михайлов А.А., Иванов Д.А. | K2: ГБУ СШОР "Академия легкой атлетики Санкт-Петербурга"
A3: 100 | C3: Ветлугин Сергей | D3: 17.11.1995 | E3: Красноярский край | F3: Барьерный бег 110 м | H3: КМС | I3: К | J3: Артемьев П.П., Мажуга Т.Ю. | K3: КГАУ "РЦСП "Академия летних видов спорта", МАУ "СШОР "Спутник"
A4: 53 | C4: Дремин Алексей | D4: 10.05.1989 | E4: Челябинская область | F4: Барьерный бег 110 м | H4: МСМК | I4: К | J4: Ермолаев С.В., Гангало Н.Н. | K4: МБУ СШОР №1 по л/а г.Челябинска
A5: 66 | C5: Егоров Глеб | D5: 27.06.1997 | E5: Свердловская область | F5: Барьерный бег 110 м | H5: МС | I5: К | J5: Павлов В.Л. | K5: ЧУ СК "Луч", ГАУ СО "ЦСП"
A6: 141 | C6: Ежов Денис | D6: 18.03.1994 | E6: Краснодарский край Кабардино-Балкарская республика | F6: Барьерный бег 110 м | H6: МС | I6: К | J6: Вяльцева В.Г., Артамонов А.О. | K6: ГБУ КК "ЦОП по легкой атлетике", ГКУ КБР "СШОР № 1"
A7: 33 | C7: Зюков Владислав | D7: 23.07.1993 | E7: Москва Брянская область | F7: Барьерный бег 110 м | H7: МС | I7: К | J7: Мишкин В.С., Письменный А.В. | K7: ГБУ "СШОР "Луч" Москомспорта, ГБУ БО СШОР "Русь"
A8: 478 | C8: Киреев Кирилл | D8: 28.08.1997 | E8: Ростовская область | F8: Барьерный бег 110 м | H8: КМС | I8: К | J8: Солянкин И.П., Давиденко А.П., Коваленко А.В. | K8: МБУ ДО «ДЮСШ № 1» ( г. Ростов-на-Дону), ГБПОУ РО "РОУОР"
C9: Кравцов Святoслав | D9: 13.07.1998 | E9: Свердловская область | F9: Барьерный бег 110 м | H9: КМС | I9: К | J9: Жуков А.В., Масаев Е.Р. | K9: ГАУ СО "ЦСП", МАУ ДО ДЮСШ "Росток", ЧУ СК"Луч"
A10: 210 | C10: Кузнецов Артем | D10: 29.07.1999 | E10: Москва Владимирская область | F10: Барьерный бег 110 м | H10: КМС | I10: К | J10: Кравцова К.О., Бурлаков О.П., Коробова П.А. | K10: ГБУ "ЦОП по легкой атлетике" Москомспорта
A11: 185 | C11: Ламков Арсен | D11: 05.05.1999 | E11: Ставропольский край Карачаево-Черкесская республика | F11: Барьерный бег 110 м | H11: КМС | I11: К | J11: Титаренко И.Г., Кувалдина Т.В. | K11: ГБУ СК "СШОР по легкой атлетике"
A12: 15 | C12: Лобков Максим | D12: 20.05.1997 | E12: Волгоградская область | F12: Барьерный бег 110 м | H12: МС | I12: К | J12: Кайдалин В.С. | K12: ГБУ ВО "СШОР по легкой атлетике"
A13: 114 | C13: Маляренко Григорий | D13: 28.12.1998 | E13: Омская область | F13: Барьерный бег 110 м | H13: КМС | I13: К | J13: Линкевич Н.С. | K13: ФГБУ ПОО "Сибирское ГУОР",БУ ОО "ООЦСП", БУ ОО "СШОР"
A14: 61 | C14: Нечаев Александр | D14: 09.02.1999 | E14: Республика Саха (Якутия) | F14: Барьерный бег 110 м | H14: КМС | I14: К | J14: Нечаев П.А. | K14: Минспорт ГБУ РС (Я) РЦСП
A15: 21 | C15: Пронских Евгений | D15: 30.01.1995 | E15: Алтайский край | F15: Барьерный бег 110 м | H15: КМС | I15: К | J15: Клевцов С.А., Панов В.С. | K15: КГБ ПОУ "Алтайское училище олимпийского резерва"
A16: 466 | C16: Рудченко Александр | D16: 08.03.1999 | E16: Московская область | F16: Барьерный бег 110 м | H16: КМС | I16: Л | J16: Арабаджев С.И., Арабаджева С.Б., Ефремов Ю.Н. | K16: ГБПОУ МО "УОР № 1", ГБУ МО "СШОР по легкой атлетике"
A17: 169 | C17: Рыльщиков Денис | D17: 30.07.1998 | E17: Краснодарский край | F17: Барьерный бег 110 м | H17: КМС | I17: Л | J17: Чернов С.А., Горбунова Т.А., Чернова Т.С. | K17: ГБУ КК "ЦОП по легкой атлетике"
A18: 310 | C18: Солодов Сергей | D18: 03.01.1996 | E18: Санкт-Петербург | F18: Барьерный бег 110 м | H18: МС | I18: К | J18: Еременко А.В. | K18: ГБУ "СШОР" Академия легкой атлетики Санкт-Петербурга", СПб ГБПОУ "УОР №1"
A19: 50 | C19: Спиридонов Олег | D19: 16.08.1999 | E19: Калининградская область Санкт-Петербург | F19: Барьерный бег 110 м | H19: МС | I19: К | J19: Антунович Г.П., Шабанов Г.К., Смирягин Е.В. | K19: МБУ "СШОР № 4 по легкой атлетике", ГБПОУ КО УОР, ГБУ "СШОР" "Академия легкой атлетики Санкт-Петербурга"
A20: 182 | C20: Челноков Константин | D20: 01.11.1986 | E20: Краснодарский край Карачаево-Черкесская республика | F20: Барьерный бег 110 м | H20: МС | I20: К | J20: Азизян А.А., Вяльцева В.Г. | K20: ГБУ КК "РЦСП по легкой атлетике", ГБУ КК "ЦОП по легкой атлетике"
A21: 372 | C21: Шабанов Константин | D21: 17.11.1989 | E21: Москва Псковская область | F21: Барьерный бег 110 м | H21: МСМК | I21: Л | J21: Шабанов Г.К., Шабанов К.С. | K21: ГБУ "СШОР "Луч" Москомспорта, ГБУ ДО ПО "ЦСП"
A22: 373 | C22: Шабанов Филипп | D22: 29.01.1991 | E22: Москва Псковская область | F22: Барьерный бег 110 м | H22: МС | I22: Л | J22: Шабанов Г.К., Шабанов К.С. | K22: ГБУ "СШОР "Луч" Москомспорта, ГБУ ДО ПО "ЦСП"
A23: 235 | C23: .Васильев Сослан | D23: 12.09.1996 | E23: Россия | F23: Барьерный бег 110 м | H23: КМС | I23: Л | J23: Цахилов И.Л.
A24: 129 | C24: Бакай Алексей | D24: 21.01.1999 | E24: Краснодарский край | F24: Барьерный бег 400 м | H24: КМС | I24: Л | J24: Гладкова О.С. | K24: ГБУ КК "РЦСП по легкой атлетике"
A25: 271 | C25: Гапонов Дмитрий | D25: 26.05.1997 | E25: Санкт-Петербург Калужская область | F25: Барьерный бег 400 м | H25: МС | I25: Л | J25: Назаров В.И., Петров С.Г., Алиев Г.Г. | K25: СПб ЦОП "ШВСМ по легкой атлетике"
A26: 86 | C26: Гребеньщиков Константин | D26: 02.01.1990 | E26: Тюменская область | F26: Барьерный бег 400 м | H26: КМС | I26: К | J26: Сивченко А.В., Скаморовский О.А., Краус А.А. | K26: ГАУ ТО "ЦСП"
A27: 90 | C27: Кудрявцев Денис | D27: 13.04.1992 | E27: Тюменская область | F27: Барьерный бег 400 м | H27: ЗМС | I27: К | J27: Сивченко А.В., Краус А.А., Ширяев В.А. | K27: ГАУ ТО "ЦСП"
A28: 91 | C28: Кукалев Вадим | D28: 22.08.1998 | E28: Тюменская область | F28: Барьерный бег 400 м | H28: КМС | I28: К | J28: Сивченко А.В., Краус А.А., Ледовская О.А. | K28: ГАУ ТО "ЦСП"
A29: 185 | C29: Ламков Арсен | D29: 05.05.1999 | E29: Ставропольский край Карачаево-Черкесская республика | F29: Барьерный бег 400 м | H29: КМС | I29: К | J29: Титаренко И.Г., Кувалдина Т.В. | K29: ГБУ СК "СШОР по легкой атлетике"
A30: 211 | C30: Логинов Иван | D30: 19.06.1997 | E30: Москва Владимирская область | F30: Барьерный бег 400 м | H30: МС | I30: К | J30: Бурлаков О.П. | K30: ГБУ "ЦОП по легкой атлетике" Москомспорта
A31: 461 | C31: Лысенко Владимир | D31: 10.06.1998 | E31: Московская область | F31: Барьерный бег 400 м | H31: МС | I31: К | J31: Мащенко Р.М. | K31: ЦСКА ГБУ МО "ЦСП ОВС", ГБПОУ МО "УОР № 2"
A32: 397 | C32: Роженко Виктор | D32: 01.08.1993 | E32: Воронежская область | F32: Барьерный бег 400 м | H32: КМС | I32: К | J32: Омельченко Д.А. | K32: ГБУ ВО "СШОР № 21"
A33: 363 | C33: Рубцов Артем | D33: 30.05.1998 | E33: Москва Оренбургская область | F33: Барьерный бег 400 м | H33: КМС | I33: Л | J33: Голубенко Ю.И., Томилов И.Н. | K33: РА ГБУ "МГФСО" Москомспорта, ГАУ "ЦСП ОО"
A34: 312 | C34: Таратынов Марк | D34: 31.05.1994 | E34: Санкт-Петербург | F34: Барьерный бег 400 м | H34: МС | I34: Л | J34: Назаров В.И., Петров С.Г. | K34: СПб ГБУ ЦОП "ШВСМ по легкой атлетике"
A35: 179 | C35: Тыщенко Алан | D35: 16.03.1989 | E35: Краснодарский край | F35: Барьерный бег 400 м | H35: КМС | I35: Л | J35: Азизьян А.А. | K35: КФСКИ
A36: 198 | C36: Федотов Артём | D36: 12.11.1991 | E36: Ульяновская область | F36: Барьерный бег 400 м | H36: МС | I36: К | J36: Краснобаев А.А., Мартьянов В.И. | K36: ОГБУ "ССШОР по легкой атлетике"
C37: Чалый Тимофей | D37: 07.04.1994 | E37: Красноярский край Московская область | F37: Барьерный бег 400 м | H37: МСМК | I37: К | J37: Носов С.В., Вашкевич И.Е. | K37: ВС, ВС КГАУ "РЦСП "Академия летних видов спорта", МАУ "СШОР "Спутник", ГБУ МО "ЦСП ОВС"
A38: 430 | C38: Чубровский Роман | D38: 21.12.1994 | E38: Новосибирская область | F38: Барьерный бег 400 м | H38: МС | I38: К | J38: Котовский В.Ю. | K38: МАУ "НЦВСМ" , ГАПОУ НСО НУ(К)ОР
A39: 270 | C39: Водичев Александр | D39: 14.11.1999 | E39: Калининградская область Санкт-Петербург | F39: Бег 100 м | H39: КМС | I39: Л | J39: Глушак П.Б., Глушак Н.М. | K39: МАУ ДО "Гусевская ДЮСШ", ГБУ "СШОР" Академия легкой атлетики Санкт-Петербурга"
A40: 7 | C40: Галочкин Никита | D40: 28.04.1998 | E40: Волгоградская область | F40: Бег 100 м | H40: КМС | I40: К | J40: Догонкин В.А., Солоушкина Н.И., Догонкин В.В. | K40: ГАПОУ ВО "УОР имени дважды Героя Советского Союза А.И.Родимцева", МБУ СШОР № 5 (г. Волгоград)
...

Sheet 20-М
A1: =Name_2 -> ВСЕРОССИЙСКАЯ ФЕДЕРАЦИЯ ЛЕГКОЙ АТЛЕТИКИ
A2: СТАРТОВЫЙ ПРОТОКОЛ
A3: КУБОК РОССИИ
A4: МУЖЧИНЫ
A5: Бег 200 м
J6: РР- 20.23
B7: ЗАБЕГИ | C7: 15:20 | D7: =d_2 -> 29.05.2019г. | E7: окончание соревнований: | J7: =d_5 -> г. Сочи, ул. Бзугу 2, ст. им. Славы Метревели
A8: № п/п | B8: Фамилия, имя участника | C8: Дата рождения | D8: Территория | E8: Заявленный разряд | F8: Номер участника | G8: Приход | H8: Результат | I8: Место | J8: Примеч.
B9: 1 ЗАБЕГ
A10: 1
A11: 2 | B11: =VLOOKUP($F11,УЧАСТНИКИ!$A$2:$L$1106,3,FALSE) -> Абдулин Ильяс | C11: =VLOOKUP($F11,УЧАСТНИКИ!$A$2:$L$1106,4,FALSE) -> 23.07.1996 | D11: =VLOOKUP($F11,УЧАСТНИКИ!$A$2:$L$1106,5,FALSE) -> Челябинская область | E11: =VLOOKUP($F11,УЧАСТНИКИ!$A$2:$L$1106,8,FALSE) -> КМС | F11: 52 | J11: =VLOOKUP($F11,УЧАСТНИКИ!$A$2:$L$1106,9,FALSE) -> К
A12: 3 | B12: =VLOOKUP($F12,УЧАСТНИКИ!$A$2:$L$1106,3,FALSE) -> Афанасьев Артем | C12: =VLOOKUP($F12,УЧАСТНИКИ!$A$2:$L$1106,4,FALSE) -> 29.01.1998 | D12: =VLOOKUP($F12,УЧАСТНИКИ!$A$2:$L$1106,5,FALSE) -> Нижегородская область Чувашская республика | E12: =VLOOKUP($F12,УЧАСТНИКИ!$A$2:$L$1106,8,FALSE) -> МС | F12: 222 | J12: =VLOOKUP($F12,УЧАСТНИКИ!$A$2:$L$1106,9,FALSE) -> К
A13: 4 | B13: =VLOOKUP($F13,УЧАСТНИКИ!$A$2:$L$1106,3,FALSE) -> Колесниченко Вячеслав | C13: =VLOOKUP($F13,УЧАСТНИКИ!$A$2:$L$1106,4,FALSE) -> 01.02.1990 | D13: =VLOOKUP($F13,УЧАСТНИКИ!$A$2:$L$1106,5,FALSE) -> Москва Нижегородская область | E13: =VLOOKUP($F13,УЧАСТНИКИ!$A$2:$L$1106,8,FALSE) -> МСМК | F13: 348 | J13: =VLOOKUP($F13,УЧАСТНИКИ!$A$2:$L$1106,9,FALSE) -> Л
A14: 5 | B14: =VLOOKUP($F14,УЧАСТНИКИ!$A$2:$L$1106,3,FALSE) -> Ивашко Павел | C14: =VLOOKUP($F14,УЧАСТНИКИ!$A$2:$L$1106,4,FALSE) -> 01.06.1994 | D14: =VLOOKUP($F14,УЧАСТНИКИ!$A$2:$L$1106,5,FALSE) -> Ханты-Мансийский автономный округ - Югра Пермский край | E14: =VLOOKUP($F14,УЧАСТНИКИ!$A$2:$L$1106,8,FALSE) -> МСМК | F14: 51 | J14: =VLOOKUP($F14,УЧАСТНИКИ!$A$2:$L$1106,9,FALSE) -> К
A15: 6 | B15: =VLOOKUP($F15,УЧАСТНИКИ!$A$2:$L$1106,3,FALSE) -> Юфимов Алексей | C15: =VLOOKUP($F15,УЧАСТНИКИ!$A$2:$L$1106,4,FALSE) -> 05.06.1998 | D15: =VLOOKUP($F15,УЧАСТНИКИ!$A$2:$L$1106,5,FALSE) -> Ульяновская область | E15: =VLOOKUP($F15,УЧАСТНИКИ!$A$2:$L$1106,8,FALSE) -> МС | F15: 199 | J15: =VLOOKUP($F15,УЧАСТНИКИ!$A$2:$L$1106,9,FALSE) -> К
A16: 7 | B16: =VLOOKUP($F16,УЧАСТНИКИ!$A$2:$L$1106,3,FALSE) -> .Васильев Сослан | C16: =VLOOKUP($F16,УЧАСТНИКИ!$A$2:$L$1106,4,FALSE) -> 12.09.1996 | D16: =VLOOKUP($F16,УЧАСТНИКИ!$A$2:$L$1106,5,FALSE) -> Россия | E16: =VLOOKUP($F16,УЧАСТНИКИ!$A$2:$L$1106,8,FALSE) -> КМС | F16: 235 | J16: =VLOOKUP($F16,УЧАСТНИКИ!$A$2:$L$1106,9,FALSE) -> Л
A17: 8
B18: 2 ЗАБЕГ
A19: 1
A20: 2 | B20: =VLOOKUP($F20,УЧАСТНИКИ!$A$2:$L$1106,3,FALSE) -> Водичев Александр | C20: =VLOOKUP($F20,УЧАСТНИКИ!$A$2:$L$1106,4,FALSE) -> 14.11.1999 | D20: =VLOOKUP($F20,УЧАСТНИКИ!$A$2:$L$1106,5,FALSE) -> Калининградская область Санкт-Петербург | E20: =VLOOKUP($F20,УЧАСТНИКИ!$A$2:$L$1106,8,FALSE) -> КМС | F20: 270 | J20: =VLOOKUP($F20,УЧАСТНИКИ!$A$2:$L$1106,9,FALSE) -> Л
A21: 3 | B21: =VLOOKUP($F21,УЧАСТНИКИ!$A$2:$L$1106,3,FALSE) -> Балуев Глеб | C21: =VLOOKUP($F21,УЧАСТНИКИ!$A$2:$L$1106,4,FALSE) -> 19.05.1991 | D21: =VLOOKUP($F21,УЧАСТНИКИ!$A$2:$L$1106,5,FALSE) -> Санкт-Петербург | E21: =VLOOKUP($F21,УЧАСТНИКИ!$A$2:$L$1106,8,FALSE) -> МС | F21: 263 | J21: =VLOOKUP($F21,УЧАСТНИКИ!$A$2:$L$1106,9,FALSE) -> Л
A22: 4 | B22: =VLOOKUP($F22,УЧАСТНИКИ!$A$2:$L$1106,3,FALSE) -> Галацков Андрей | C22: =VLOOKUP($F22,УЧАСТНИКИ!$A$2:$L$1106,4,FALSE) -> 13.02.1992 | D22: =VLOOKUP($F22,УЧАСТНИКИ!$A$2:$L$1106,5,FALSE) -> Ульяновская область | E22: =VLOOKUP($F22,УЧАСТНИКИ!$A$2:$L$1106,8,FALSE) -> МС | F22: 193 | J22: =VLOOKUP($F22,УЧАСТНИКИ!$A$2:$L$1106,9,FALSE) -> К
A23: 5 | B23: =VLOOKUP($F23,УЧАСТНИКИ!$A$2:$L$1106,3,FALSE) -> Лукин Андрей | C23: =VLOOKUP($F23,УЧАСТНИКИ!$A$2:$L$1106,4,FALSE) -> 28.02.1998 | D23: =VLOOKUP($F23,УЧАСТНИКИ!$A$2:$L$1106,5,FALSE) -> Республика Карелия | E23: =VLOOKUP($F23,УЧАСТНИКИ!$A$2:$L$1106,8,FALSE) -> МС | F23: 483 | J23: =VLOOKUP($F23,УЧАСТНИКИ!$A$2:$L$1106,9,FALSE) -> К
A24: 6 | B24: =VLOOKUP($F24,УЧАСТНИКИ!$A$2:$L$1106,3,FALSE) -> Огарков Денис | C24: =VLOOKUP($F24,УЧАСТНИКИ!$A$2:$L$1106,4,FALSE) -> 03.12.1993 | D24: =VLOOKUP($F24,УЧАСТНИКИ!$A$2:$L$1106,5,FALSE) -> Липецкая область Брянская область | E24: =VLOOKUP($F24,УЧАСТНИКИ!$A$2:$L$1106,8,FALSE) -> МСМК | F24: 37 | J24: =VLOOKUP($F24,УЧАСТНИКИ!$A$2:$L$1106,9,FALSE) -> К
A25: 7 | B25: =VLOOKUP($F25,УЧАСТНИКИ!$A$2:$L$1106,3,FALSE) -> Никитин Олег | C25: =VLOOKUP($F25,УЧАСТНИКИ!$A$2:$L$1106,4,FALSE) -> 06.06.1997 | D25: =VLOOKUP($F25,УЧАСТНИКИ!$A$2:$L$1106,5,FALSE) -> Ульяновская область | E25: =VLOOKUP($F25,УЧАСТНИКИ!$A$2:$L$1106,8,FALSE) -> КМС | F25: 196 | J25: =VLOOKUP($F25,УЧАСТНИКИ!$A$2:$L$1106,9,FALSE) -> К
A26: 8
B27: 3 ЗАБЕГ
A28: 1
A29: 2 | B29: =VLOOKUP($F29,УЧАСТНИКИ!$A$2:$L$1106,3,FALSE) -> Матвеев Никита | C29: =VLOOKUP($F29,УЧАСТНИКИ!$A$2:$L$1106,4,FALSE) -> 28.03.2000 | D29: =VLOOKUP($F29,УЧАСТНИКИ!$A$2:$L$1106,5,FALSE) -> Ямало-Ненецкий автономный округ Владимирская область | E29: =VLOOKUP($F29,УЧАСТНИКИ!$A$2:$L$1106,8,FALSE) -> КМС | F29: 212 | J29: =VLOOKUP($F29,УЧАСТНИКИ!$A$2:$L$1106,9,FALSE) -> К
A30: 3 | B30: =VLOOKUP($F30,УЧАСТНИКИ!$A$2:$L$1106,3,FALSE) -> Гончаров Артём | C30: =VLOOKUP($F30,УЧАСТНИКИ!$A$2:$L$1106,4,FALSE) -> 01.08.1999 | D30: =VLOOKUP($F30,УЧАСТНИКИ!$A$2:$L$1106,5,FALSE) -> Тульская область | E30: =VLOOKUP($F30,УЧАСТНИКИ!$A$2:$L$1106,8,FALSE) -> КМС | F30: 402 | J30: =VLOOKUP($F30,УЧАСТНИКИ!$A$2:$L$1106,9,FALSE) -> К
A31: 4 | B31: =VLOOKUP($F31,УЧАСТНИКИ!$A$2:$L$1106,3,FALSE) -> Чернухин Кирилл | C31: =VLOOKUP($F31,УЧАСТНИКИ!$A$2:$L$1106,4,FALSE) -> 15.08.1994 | D31: =VLOOKUP($F31,УЧАСТНИКИ!$A$2:$L$1106,5,FALSE) -> Москва Санкт-Петербург | E31: =VLOOKUP($F31,УЧАСТНИКИ!$A$2:$L$1106,8,FALSE) -> МС | F31: 321 | J31: =VLOOKUP($F31,УЧАСТНИКИ!$A$2:$L$1106,9,FALSE) -> К
A32: 5 | B32: =VLOOKUP($F32,УЧАСТНИКИ!$A$2:$L$1106,3,FALSE) -> Росляков Данил | C32: =VLOOKUP($F32,УЧАСТНИКИ!$A$2:$L$1106,4,FALSE) -> 04.11.1997 | D32: =VLOOKUP($F32,УЧАСТНИКИ!$A$2:$L$1106,5,FALSE) -> Вологодская область | E32: =VLOOKUP($F32,УЧАСТНИКИ!$A$2:$L$1106,8,FALSE) -> МС | F32: 444 | J32: =VLOOKUP($F32,УЧАСТНИКИ!$A$2:$L$1106,9,FALSE) -> К
A33: 6 | B33: =VLOOKUP($F33,УЧАСТНИКИ!$A$2:$L$1106,3,FALSE) -> Садеев Ильфат | C33: =VLOOKUP($F33,УЧАСТНИКИ!$A$2:$L$1106,4,FALSE) -> 17.12.1988 | D33: =VLOOKUP($F33,УЧАСТНИКИ!$A$2:$L$1106,5,FALSE) -> Ульяновская область | E33: =VLOOKUP($F33,УЧАСТНИКИ!$A$2:$L$1106,8,FALSE) -> МС | F33: 197 | J33: =VLOOKUP($F33,УЧАСТНИКИ!$A$2:$L$1106,9,FALSE) -> К
A34: 7 | B34: =VLOOKUP($F34,УЧАСТНИКИ!$A$2:$L$1106,3,FALSE) -> Рожнов Артём | C34: =VLOOKUP($F34,УЧАСТНИКИ!$A$2:$L$1106,4,FALSE) -> 03.03.1998 | D34: =VLOOKUP($F34,УЧАСТНИКИ!$A$2:$L$1106,5,FALSE) -> Тульская область | E34: =VLOOKUP($F34,УЧАСТНИКИ!$A$2:$L$1106,8,FALSE) -> КМС | F34: 405 | J34: =VLOOKUP($F34,УЧАСТНИКИ!$A$2:$L$1106,9,FALSE) -> К
A35: 8
B36: 4 ЗАБЕГ
A37: 1
A38: 2 | B38: =VLOOKUP($F38,УЧАСТНИКИ!$A$2:$L$1106,3,FALSE) -> Масютенко Александр | C38: =VLOOKUP($F38,УЧАСТНИКИ!$A$2:$L$1106,4,FALSE) -> 27.04.1998 | D38: =VLOOKUP($F38,УЧАСТНИКИ!$A$2:$L$1106,5,FALSE) -> Краснодарский край | E38: =VLOOKUP($F38,УЧАСТНИКИ!$A$2:$L$1106,8,FALSE) -> КМС | F38: 157 | J38: =VLOOKUP($F38,УЧАСТНИКИ!$A$2:$L$1106,9,FALSE) -> Л
A39: 3 | B39: =VLOOKUP($F39,УЧАСТНИКИ!$A$2:$L$1106,3,FALSE) -> Гуров Андрей | C39: =VLOOKUP($F39,УЧАСТНИКИ!$A$2:$L$1106,4,FALSE) -> 20.09.1998 | D39: =VLOOKUP($F39,УЧАСТНИКИ!$A$2:$L$1106,5,FALSE) -> Брянская область | E39: =VLOOKUP($F39,УЧАСТНИКИ!$A$2:$L$1106,8,FALSE) -> КМС | F39: 31 | J39: =VLOOKUP($F39,УЧАСТНИКИ!$A$2:$L$1106,9,FALSE) -> К
A40: 4 | B40: =VLOOKUP($F40,УЧАСТНИКИ!$A$2:$L$1106,3,FALSE) -> Кислых Руслан | C40: =VLOOKUP($F40,УЧАСТНИКИ!$A$2:$L$1106,4,FALSE) -> 11.07.2000 | D40: =VLOOKUP($F40,УЧАСТНИКИ!$A$2:$L$1106,5,FALSE) -> Краснодарский край Белгородская область | E40: =VLOOKUP($F40,УЧАСТНИКИ!$A$2:$L$1106,8,FALSE) -> МС | F40: 147 | J40: =VLOOKUP($F40,УЧАСТНИКИ!$A$2:$L$1106,9,FALSE) -> Л
...

Sheet 20Ф-М
A1: =Name_2 -> ВСЕРОССИЙСКАЯ ФЕДЕРАЦИЯ ЛЕГКОЙ АТЛЕТИКИ
A2: СТАРТОВЫЙ ПРОТОКОЛ
A3: КУБОК РОССИИ
A4: МУЖЧИНЫ
A5: Бег 200 м
K6: РР- 20.23
B7: ФИНАЛЬНЫЙ ЗАБЕГ | C7: 12:55 | D7: =d_1 -> 28.05.2019г. | E7: окончание соревнований: | K7: =d_5 -> г. Сочи, ул. Бзугу 2, ст. им. Славы Метревели
A8: № п/п | B8: Фамилия, имя участника | C8: Дата рождения | D8: Территория | E8: Заявленный разряд | F8: Номер участника | G8: рез-тат забега | H8: приход | I8: Результат | J8: Место | K8: Примеч.
A10: 1 | B10: =VLOOKUP($F10,УЧАСТНИКИ!$A$2:$L$1106,3,FALSE) -> #N/A | C10: =VLOOKUP($F10,УЧАСТНИКИ!$A$2:$L$1106,4,FALSE) -> #N/A | D10: =VLOOKUP($F10,УЧАСТНИКИ!$A$2:$L$1106,5,FALSE) -> #N/A | E10: =VLOOKUP($F10,УЧАСТНИКИ!$A$2:$L$1106,8,FALSE) -> #N/A | K10: =VLOOKUP($F10,УЧАСТНИКИ!$A$2:$L$1106,9,FALSE) -> #N/A
A11: 2 | B11: =VLOOKUP($F11,УЧАСТНИКИ!$A$2:$L$1106,3,FALSE) -> #N/A | C11: =VLOOKUP($F11,УЧАСТНИКИ!$A$2:$L$1106,4,FALSE) -> #N/A | D11: =VLOOKUP($F11,УЧАСТНИКИ!$A$2:$L$1106,5,FALSE) -> #N/A | E11: =VLOOKUP($F11,УЧАСТНИКИ!$A$2:$L$1106,8,FALSE) -> #N/A | K11: =VLOOKUP($F11,УЧАСТНИКИ!$A$2:$L$1106,9,FALSE) -> #N/A
A12: 3 | B12: =VLOOKUP($F12,УЧАСТНИКИ!$A$2:$L$1106,3,FALSE) -> #N/A | C12: =VLOOKUP($F12,УЧАСТНИКИ!$A$2:$L$1106,4,FALSE) -> #N/A | D12: =VLOOKUP($F12,УЧАСТНИКИ!$A$2:$L$1106,5,FALSE) -> #N/A | E12: =VLOOKUP($F12,УЧАСТНИКИ!$A$2:$L$1106,8,FALSE) -> #N/A | K12: =VLOOKUP($F12,УЧАСТНИКИ!$A$2:$L$1106,9,FALSE) -> #N/A
A13: 4 | B13: =VLOOKUP($F13,УЧАСТНИКИ!$A$2:$L$1106,3,FALSE) -> #N/A | C13: =VLOOKUP($F13,УЧАСТНИКИ!$A$2:$L$1106,4,FALSE) -> #N/A | D13: =VLOOKUP($F13,УЧАСТНИКИ!$A$2:$L$1106,5,FALSE) -> #N/A | E13: =VLOOKUP($F13,УЧАСТНИКИ!$A$2:$L$1106,8,FALSE) -> #N/A | K13: =VLOOKUP($F13,УЧАСТНИКИ!$A$2:$L$1106,9,FALSE) -> #N/A
A14: 5 | B14: =VLOOKUP($F14,УЧАСТНИКИ!$A$2:$L$1106,3,FALSE) -> #N/A | C14: =VLOOKUP($F14,УЧАСТНИКИ!$A$2:$L$1106,4,FALSE) -> #N/A | D14: =VLOOKUP($F14,УЧАСТНИКИ!$A$2:$L$1106,5,FALSE) -> #N/A | E14: =VLOOKUP($F14,УЧАСТНИКИ!$A$2:$L$1106,8,FALSE) -> #N/A | K14: =VLOOKUP($F14,УЧАСТНИКИ!$A$2:$L$1106,9,FALSE) -> #N/A
A15: 6 | B15: =VLOOKUP($F15,УЧАСТНИКИ!$A$2:$L$1106,3,FALSE) -> #N/A | C15: =VLOOKUP($F15,УЧАСТНИКИ!$A$2:$L$1106,4,FALSE) -> #N/A | D15: =VLOOKUP($F15,УЧАСТНИКИ!$A$2:$L$1106,5,FALSE) -> #N/A | E15: =VLOOKUP($F15,УЧАСТНИКИ!$A$2:$L$1106,8,FALSE) -> #N/A | K15: =VLOOKUP($F15,УЧАСТНИКИ!$A$2:$L$1106,9,FALSE) -> #N/A
A16: 7 | B16: =VLOOKUP($F16,УЧАСТНИКИ!$A$2:$L$1106,3,FALSE) -> #N/A | C16: =VLOOKUP($F16,УЧАСТНИКИ!$A$2:$L$1106,4,FALSE) -> #N/A | D16: =VLOOKUP($F16,УЧАСТНИКИ!$A$2:$L$1106,5,FALSE) -> #N/A | E16: =VLOOKUP($F16,УЧАСТНИКИ!$A$2:$L$1106,8,FALSE) -> #N/A | K16: =VLOOKUP($F16,УЧАСТНИКИ!$A$2:$L$1106,9,FALSE) -> #N/A
A17: 8 | B17: =VLOOKUP($F17,УЧАСТНИКИ!$A$2:$L$1106,3,FALSE) -> #N/A | C17: =VLOOKUP($F17,УЧАСТНИКИ!$A$2:$L$1106,4,FALSE) -> #N/A | D17: =VLOOKUP($F17,УЧАСТНИКИ!$A$2:$L$1106,5,FALSE) -> #N/A | E17: =VLOOKUP($F17,УЧАСТНИКИ!$A$2:$L$1106,8,FALSE) -> #N/A | K17: =VLOOKUP($F17,УЧАСТНИКИ!$A$2:$L$1106,9,FALSE) -> #N/A
A20: Рефери по бегу:
A21: Ст.судья:
A22: Ст.хронометрист:
A23: Секретарь:

Sheet 80-М
A1: =Name_2 -> ВСЕРОССИЙСКАЯ ФЕДЕРАЦИЯ ЛЕГКОЙ АТЛЕТИКИ
A2: СТАРТОВЫЙ ПРОТОКОЛ
A3: КУБОК РОССИИ
A4: МУЖЧИНЫ
A5: Бег 800 м
J6: РР- 1:42.47
B7: ФИНАЛЬНЫЕ ЗАБЕГИ | C7: 17:05 | D7: =d_2 -> 29.05.2019г. | E7: окончание соревнований: | J7: =d_5 -> г. Сочи, ул. Бзугу 2, ст. им. Славы Метревели
A8: № п/п | B8: Фамилия, имя участника | C8: Дата рождения | D8: Территория | E8: Заявленный разряд | F8: Номер участника | G8: Приход | H8: Результат | I8: Место | J8: Примеч.
B9: 1 ЗАБЕГ
A10: 1
A11: 2 | B11: =VLOOKUP($F11,УЧАСТНИКИ!$A$2:$L$1106,3,FALSE) -> Миронов Евгений | C11: =VLOOKUP($F11,УЧАСТНИКИ!$A$2:$L$1106,4,FALSE) -> 21.04.1993 | D11: =VLOOKUP($F11,УЧАСТНИКИ!$A$2:$L$1106,5,FALSE) -> Мурманская область | E11: =VLOOKUP($F11,УЧАСТНИКИ!$A$2:$L$1106,8,FALSE) -> КМС | F11: 44 | J11: =VLOOKUP($F11,УЧАСТНИКИ!$A$2:$L$1106,9,FALSE) -> К
A12: 3 | B12: =VLOOKUP($F12,УЧАСТНИКИ!$A$2:$L$1106,3,FALSE) -> Семёнов Владислав | C12: =VLOOKUP($F12,УЧАСТНИКИ!$A$2:$L$1106,4,FALSE) -> 07.06.1999 | D12: =VLOOKUP($F12,УЧАСТНИКИ!$A$2:$L$1106,5,FALSE) -> Санкт-Петербург | E12: =VLOOKUP($F12,УЧАСТНИКИ!$A$2:$L$1106,8,FALSE) -> КМС | F12: 306 | J12: =VLOOKUP($F12,УЧАСТНИКИ!$A$2:$L$1106,9,FALSE) -> Л
A13: 4 | B13: =VLOOKUP($F13,УЧАСТНИКИ!$A$2:$L$1106,3,FALSE) -> Троценко Роман | C13: =VLOOKUP($F13,УЧАСТНИКИ!$A$2:$L$1106,4,FALSE) -> 09.05.1992 | D13: =VLOOKUP($F13,УЧАСТНИКИ!$A$2:$L$1106,5,FALSE) -> Республика Бурятия | E13: =VLOOKUP($F13,УЧАСТНИКИ!$A$2:$L$1106,8,FALSE) -> МС | F13: 383 | J13: =VLOOKUP($F13,УЧАСТНИКИ!$A$2:$L$1106,9,FALSE) -> К
A14: 5 | B14: =VLOOKUP($F14,УЧАСТНИКИ!$A$2:$L$1106,3,FALSE) -> Назаренко Михаил | C14: =VLOOKUP($F14,УЧАСТНИКИ!$A$2:$L$1106,4,FALSE) -> 23.11.1995 | D14: =VLOOKUP($F14,УЧАСТНИКИ!$A$2:$L$1106,5,FALSE) -> ЮФО (К) | E14: =VLOOKUP($F14,УЧАСТНИКИ!$A$2:$L$1106,8,FALSE) -> 1 | F14: 435 | J14: =VLOOKUP($F14,УЧАСТНИКИ!$A$2:$L$1106,9,FALSE) -> К
A15: 6 | B15: =VLOOKUP($F15,УЧАСТНИКИ!$A$2:$L$1106,3,FALSE) -> Имангулов Руслан | C15: =VLOOKUP($F15,УЧАСТНИКИ!$A$2:$L$1106,4,FALSE) -> 06.01.1989 | D15: =VLOOKUP($F15,УЧАСТНИКИ!$A$2:$L$1106,5,FALSE) -> Республика Татарстан | E15: =VLOOKUP($F15,УЧАСТНИКИ!$A$2:$L$1106,8,FALSE) -> 1 | F15: 244 | J15: =VLOOKUP($F15,УЧАСТНИКИ!$A$2:$L$1106,9,FALSE) -> К
A16: 7 | B16: =VLOOKUP($F16,УЧАСТНИКИ!$A$2:$L$1106,3,FALSE) -> Кривчиков Егор | C16: =VLOOKUP($F16,УЧАСТНИКИ!$A$2:$L$1106,4,FALSE) -> 07.05.1998 | D16: =VLOOKUP($F16,УЧАСТНИКИ!$A$2:$L$1106,5,FALSE) -> Ростовская область | E16: =VLOOKUP($F16,УЧАСТНИКИ!$A$2:$L$1106,8,FALSE) -> КМС | F16: 479 | J16: =VLOOKUP($F16,УЧАСТНИКИ!$A$2:$L$1106,9,FALSE) -> К
A17: 8 | B17: =VLOOKUP($F17,УЧАСТНИКИ!$A$2:$L$1106,3,FALSE) -> Гадельшин Вильдан | C17: =VLOOKUP($F17,УЧАСТНИКИ!$A$2:$L$1106,4,FALSE) -> 12.04.1995 | D17: =VLOOKUP($F17,УЧАСТНИКИ!$A$2:$L$1106,5,FALSE) -> Республика Башкортостан | E17: =VLOOKUP($F17,УЧАСТНИКИ!$A$2:$L$1106,8,FALSE) -> КМС | F17: 201 | J17: =VLOOKUP($F17,УЧАСТНИКИ!$A$2:$L$1106,9,FALSE) -> К
B18: 2 ЗАБЕГ
A19: 1
A20: 2 | B20: =VLOOKUP($F20,УЧАСТНИКИ!$A$2:$L$1106,3,FALSE) -> Попов Артем | C20: =VLOOKUP($F20,УЧАСТНИКИ!$A$2:$L$1106,4,FALSE) -> 05.07.2001 | D20: =VLOOKUP($F20,УЧАСТНИКИ!$A$2:$L$1106,5,FALSE) -> Республика Хакасия | E20: =VLOOKUP($F20,УЧАСТНИКИ!$A$2:$L$1106,8,FALSE) -> КМС | F20: 1 | J20: =VLOOKUP($F20,УЧАСТНИКИ!$A$2:$L$1106,9,FALSE) -> К
A21: 3 | B21: =VLOOKUP($F21,УЧАСТНИКИ!$A$2:$L$1106,3,FALSE) -> Попов Владимир | C21: =VLOOKUP($F21,УЧАСТНИКИ!$A$2:$L$1106,4,FALSE) -> 19.03.1992 | D21: =VLOOKUP($F21,УЧАСТНИКИ!$A$2:$L$1106,5,FALSE) -> Чувашская республика Оренбургская область | E21: =VLOOKUP($F21,УЧАСТНИКИ!$A$2:$L$1106,8,FALSE) -> МС | F21: 379 | J21: =VLOOKUP($F21,УЧАСТНИКИ!$A$2:$L$1106,9,FALSE) -> К
A22: 4 | B22: =VLOOKUP($F22,УЧАСТНИКИ!$A$2:$L$1106,3,FALSE) -> Сидоров Олег | C22: =VLOOKUP($F22,УЧАСТНИКИ!$A$2:$L$1106,4,FALSE) -> 07.06.1990 | D22: =VLOOKUP($F22,УЧАСТНИКИ!$A$2:$L$1106,5,FALSE) -> Республика Татарстан | E22: =VLOOKUP($F22,УЧАСТНИКИ!$A$2:$L$1106,8,FALSE) -> МС | F22: 247 | J22: =VLOOKUP($F22,УЧАСТНИКИ!$A$2:$L$1106,9,FALSE) -> К
A23: 5 | B23: =VLOOKUP($F23,УЧАСТНИКИ!$A$2:$L$1106,3,FALSE) -> Пономарев Дмитрий | C23: =VLOOKUP($F23,УЧАСТНИКИ!$A$2:$L$1106,4,FALSE) -> 05.02.1999 | D23: =VLOOKUP($F23,УЧАСТНИКИ!$A$2:$L$1106,5,FALSE) -> Краснодарский край Республика Адыгея | E23: =VLOOKUP($F23,УЧАСТНИКИ!$A$2:$L$1106,8,FALSE) -> КМС | F23: 166 | J23: =VLOOKUP($F23,УЧАСТНИКИ!$A$2:$L$1106,9,FALSE) -> Л
A24: 6 | B24: =VLOOKUP($F24,УЧАСТНИКИ!$A$2:$L$1106,3,FALSE) -> Смольняковский Даниил | C24: =VLOOKUP($F24,УЧАСТНИКИ!$A$2:$L$1106,4,FALSE) -> 06.04.1998 | D24: =VLOOKUP($F24,УЧАСТНИКИ!$A$2:$L$1106,5,FALSE) -> Краснодарский край Ставропольский край | E24: =VLOOKUP($F24,УЧАСТНИКИ!$A$2:$L$1106,8,FALSE) -> КМС | F24: 172 | J24: =VLOOKUP($F24,УЧАСТНИКИ!$A$2:$L$1106,9,FALSE) -> Л
A25: 7 | B25: =VLOOKUP($F25,УЧАСТНИКИ!$A$2:$L$1106,3,FALSE) -> Селиванов Олег | C25: =VLOOKUP($F25,УЧАСТНИКИ!$A$2:$L$1106,4,FALSE) -> 07.05.1994 | D25: =VLOOKUP($F25,УЧАСТНИКИ!$A$2:$L$1106,5,FALSE) -> Санкт-Петербург | E25: =VLOOKUP($F25,УЧАСТНИКИ!$A$2:$L$1106,8,FALSE) -> КМС | F25: 304 | J25: =VLOOKUP($F25,УЧАСТНИКИ!$A$2:$L$1106,9,FALSE) -> Л
A26: 8 | B26: =VLOOKUP($F26,УЧАСТНИКИ!$A$2:$L$1106,3,FALSE) -> Тимко Вадим | C26: =VLOOKUP($F26,УЧАСТНИКИ!$A$2:$L$1106,4,FALSE) -> 03.11.1997 | D26: =VLOOKUP($F26,УЧАСТНИКИ!$A$2:$L$1106,5,FALSE) -> Республика Бурятия | E26: =VLOOKUP($F26,УЧАСТНИКИ!$A$2:$L$1106,8,FALSE) -> КМС | F26: 382 | J26: =VLOOKUP($F26,УЧАСТНИКИ!$A$2:$L$1106,9,FALSE) -> К
B27: 3 ЗАБЕГ
A28: 1 | B28: =VLOOKUP($F28,УЧАСТНИКИ!$A$2:$L$1106,3,FALSE) -> Хворостухин Павел | C28: =VLOOKUP($F28,УЧАСТНИКИ!$A$2:$L$1106,4,FALSE) -> 18.06.1986 | D28: =VLOOKUP($F28,УЧАСТНИКИ!$A$2:$L$1106,5,FALSE) -> Москва Санкт-Петербург | E28: =VLOOKUP($F28,УЧАСТНИКИ!$A$2:$L$1106,8,FALSE) -> МС | F28: 319 | J28: =VLOOKUP($F28,УЧАСТНИКИ!$A$2:$L$1106,9,FALSE) -> Л
A29: 2 | B29: =VLOOKUP($F29,УЧАСТНИКИ!$A$2:$L$1106,3,FALSE) -> Надыров Ильдар | C29: =VLOOKUP($F29,УЧАСТНИКИ!$A$2:$L$1106,4,FALSE) -> 22.04.1994 | D29: =VLOOKUP($F29,УЧАСТНИКИ!$A$2:$L$1106,5,FALSE) -> Алтайский край | E29: =VLOOKUP($F29,УЧАСТНИКИ!$A$2:$L$1106,8,FALSE) -> КМС | F29: 19 | J29: =VLOOKUP($F29,УЧАСТНИКИ!$A$2:$L$1106,9,FALSE) -> К
A30: 3 | B30: =VLOOKUP($F30,УЧАСТНИКИ!$A$2:$L$1106,3,FALSE) -> Вербицкий Николай | C30: =VLOOKUP($F30,УЧАСТНИКИ!$A$2:$L$1106,4,FALSE) -> 16.12.1995 | D30: =VLOOKUP($F30,УЧАСТНИКИ!$A$2:$L$1106,5,FALSE) -> Московская область Республика Бурятия | E30: =VLOOKUP($F30,УЧАСТНИКИ!$A$2:$L$1106,8,FALSE) -> МС | F30: 380 | J30: =VLOOKUP($F30,УЧАСТНИКИ!$A$2:$L$1106,9,FALSE) -> К
A31: 4 | B31: =VLOOKUP($F31,УЧАСТНИКИ!$A$2:$L$1106,3,FALSE) -> Холмогоров Константин | C31: =VLOOKUP($F31,УЧАСТНИКИ!$A$2:$L$1106,4,FALSE) -> 07.02.1996 | D31: =VLOOKUP($F31,УЧАСТНИКИ!$A$2:$L$1106,5,FALSE) -> Москва Пермский край | E31: =VLOOKUP($F31,УЧАСТНИКИ!$A$2:$L$1106,8,FALSE) -> МСМК | F31: 27 | J31: =VLOOKUP($F31,УЧАСТНИКИ!$A$2:$L$1106,9,FALSE) -> К
A32: 5 | B32: =VLOOKUP($F32,УЧАСТНИКИ!$A$2:$L$1106,3,FALSE) -> Переметов Данил | C32: =VLOOKUP($F32,УЧАСТНИКИ!$A$2:$L$1106,4,FALSE) -> 18.03.1995 | D32: =VLOOKUP($F32,УЧАСТНИКИ!$A$2:$L$1106,5,FALSE) -> Краснодарский край | E32: =VLOOKUP($F32,УЧАСТНИКИ!$A$2:$L$1106,8,FALSE) -> МС | F32: 160 | J32: =VLOOKUP($F32,УЧАСТНИКИ!$A$2:$L$1106,9,FALSE) -> К
A33: 6 | B33: =VLOOKUP($F33,УЧАСТНИКИ!$A$2:$L$1106,3,FALSE) -> Филиппов Егор | C33: =VLOOKUP($F33,УЧАСТНИКИ!$A$2:$L$1106,4,FALSE) -> 04.07.1999 | D33: =VLOOKUP($F33,УЧАСТНИКИ!$A$2:$L$1106,5,FALSE) -> Московская область | E33: =VLOOKUP($F33,УЧАСТНИКИ!$A$2:$L$1106,8,FALSE) -> МС | F33: 471 | J33: =VLOOKUP($F33,УЧАСТНИКИ!$A$2:$L$1106,9,FALSE) -> К
A34: 7 | B34: =VLOOKUP($F34,УЧАСТНИКИ!$A$2:$L$1106,3,FALSE) -> Ефремов Данила | C34: =VLOOKUP($F34,УЧАСТНИКИ!$A$2:$L$1106,4,FALSE) -> 19.06.1990 | D34: =VLOOKUP($F34,УЧАСТНИКИ!$A$2:$L$1106,5,FALSE) -> Ямало-Ненецкий автономный округ | E34: =VLOOKUP($F34,УЧАСТНИКИ!$A$2:$L$1106,8,FALSE) -> МС | F34: 250 | J34: =VLOOKUP($F34,УЧАСТНИКИ!$A$2:$L$1106,9,FALSE) -> К
A35: 8
B36: 4 ЗАБЕГ
A37: 1 | B37: =VLOOKUP($F37,УЧАСТНИКИ!$A$2:$L$1106,3,FALSE) -> Мазный Богдан | C37: =VLOOKUP($F37,УЧАСТНИКИ!$A$2:$L$1106,4,FALSE) -> 26.10.1999 | D37: =VLOOKUP($F37,УЧАСТНИКИ!$A$2:$L$1106,5,FALSE) -> ЮФО (К) | E37: =VLOOKUP($F37,УЧАСТНИКИ!$A$2:$L$1106,8,FALSE) -> КМС | F37: 433 | J37: =VLOOKUP($F37,УЧАСТНИКИ!$A$2:$L$1106,9,FALSE) -> К
A38: 2 | B38: =VLOOKUP($F38,УЧАСТНИКИ!$A$2:$L$1106,3,FALSE) -> Шаров Егор | C38: =VLOOKUP($F38,УЧАСТНИКИ!$A$2:$L$1106,4,FALSE) -> 16.12.1988 | D38: =VLOOKUP($F38,УЧАСТНИКИ!$A$2:$L$1106,5,FALSE) -> Свердловская область Алтайский край | E38: =VLOOKUP($F38,УЧАСТНИКИ!$A$2:$L$1106,8,FALSE) -> ЗМС | F38: 24 | J38: =VLOOKUP($F38,УЧАСТНИКИ!$A$2:$L$1106,9,FALSE) -> К
A39: 3 | B39: =VLOOKUP($F39,УЧАСТНИКИ!$A$2:$L$1106,3,FALSE) -> Зуев Константин | C39: =VLOOKUP($F39,УЧАСТНИКИ!$A$2:$L$1106,4,FALSE) -> 23.12.1998 | D39: =VLOOKUP($F39,УЧАСТНИКИ!$A$2:$L$1106,5,FALSE) -> Московская область | E39: =VLOOKUP($F39,УЧАСТНИКИ!$A$2:$L$1106,8,FALSE) -> КМС | F39: 453 | J39: =VLOOKUP($F39,УЧАСТНИКИ!$A$2:$L$1106,9,FALSE) -> Л
A40: 4 | B40: =VLOOKUP($F40,УЧАСТНИКИ!$A$2:$L$1106,3,FALSE) -> Дубровский Сергей | C40: =VLOOKUP($F40,УЧАСТНИКИ!$A$2:$L$1106,4,FALSE) -> 20.01.1995 | D40: =VLOOKUP($F40,УЧАСТНИКИ!$A$2:$L$1106,5,FALSE) -> Московская область Белгородская область | E40: =VLOOKUP($F40,УЧАСТНИКИ!$A$2:$L$1106,8,FALSE) -> МС | F40: 446 | J40: =VLOOKUP($F40,УЧАСТНИКИ!$A$2:$L$1106,9,FALSE) -> К
...

Sheet 500-М
A1: =Name_2 -> ВСЕРОССИЙСКАЯ ФЕДЕРАЦИЯ ЛЕГКОЙ АТЛЕТИКИ
A2: СТАРТОВЫЙ ПРОТОКОЛ
A3: КУБОК РОССИИ
A4: МУЖЧИНЫ
A5: Бег 5000 м
J6: РР- 13:11.99
B7: ФИНАЛЬНЫЕ ЗАБЕГИ | C7: 19:10 | D7: =d_2 -> 29.05.2019г. | E7: окончание соревнований: | J7: =d_5 -> г. Сочи, ул. Бзугу 2, ст. им. Славы Метревели
A8: № п/п | B8: Фамилия, имя участника | C8: Дата рождения | D8: Территория | E8: Заявленный разряд | F8: Номер участника | G8: Приход | H8: Результат | I8: Место | J8: Примеч.
B9: 1 ЗАБЕГ
A10: 1 | B10: =VLOOKUP($F10,УЧАСТНИКИ!$A$2:$L$1106,3,FALSE) -> Садиков Нияз | C10: =VLOOKUP($F10,УЧАСТНИКИ!$A$2:$L$1106,4,FALSE) -> 31.01.1997 | D10: =VLOOKUP($F10,УЧАСТНИКИ!$A$2:$L$1106,5,FALSE) -> Республика Татарстан | E10: =VLOOKUP($F10,УЧАСТНИКИ!$A$2:$L$1106,8,FALSE) -> КМС | F10: 245 | J10: =VLOOKUP($F10,УЧАСТНИКИ!$A$2:$L$1106,9,FALSE) -> К
A11: 2 | B11: =VLOOKUP($F11,УЧАСТНИКИ!$A$2:$L$1106,3,FALSE) -> Чертыков Денис | C11: =VLOOKUP($F11,УЧАСТНИКИ!$A$2:$L$1106,4,FALSE) -> 07.05.1994 | D11: =VLOOKUP($F11,УЧАСТНИКИ!$A$2:$L$1106,5,FALSE) -> Республика Хакасия | E11: =VLOOKUP($F11,УЧАСТНИКИ!$A$2:$L$1106,8,FALSE) -> КМС | F11: 2 | J11: =VLOOKUP($F11,УЧАСТНИКИ!$A$2:$L$1106,9,FALSE) -> К
A12: 3 | B12: =VLOOKUP($F12,УЧАСТНИКИ!$A$2:$L$1106,3,FALSE) -> Харитонов Алексей | C12: =VLOOKUP($F12,УЧАСТНИКИ!$A$2:$L$1106,4,FALSE) -> 04.07.1991 | D12: =VLOOKUP($F12,УЧАСТНИКИ!$A$2:$L$1106,5,FALSE) -> Санкт-Петербург | E12: =VLOOKUP($F12,УЧАСТНИКИ!$A$2:$L$1106,8,FALSE) -> МС | F12: 317 | J12: =VLOOKUP($F12,УЧАСТНИКИ!$A$2:$L$1106,9,FALSE) -> Л
A13: 4 | B13: =VLOOKUP($F13,УЧАСТНИКИ!$A$2:$L$1106,3,FALSE) -> Стрелков Михаил | C13: =VLOOKUP($F13,УЧАСТНИКИ!$A$2:$L$1106,4,FALSE) -> 25.07.1994 | D13: =VLOOKUP($F13,УЧАСТНИКИ!$A$2:$L$1106,5,FALSE) -> Москва Орловская область | E13: =VLOOKUP($F13,УЧАСТНИКИ!$A$2:$L$1106,8,FALSE) -> МСМК | F13: 368 | J13: =VLOOKUP($F13,УЧАСТНИКИ!$A$2:$L$1106,9,FALSE) -> Л
A14: 5 | B14: =VLOOKUP($F14,УЧАСТНИКИ!$A$2:$L$1106,3,FALSE) -> Соловьев Сергей | C14: =VLOOKUP($F14,УЧАСТНИКИ!$A$2:$L$1106,4,FALSE) -> 05.10.1997 | D14: =VLOOKUP($F14,УЧАСТНИКИ!$A$2:$L$1106,5,FALSE) -> Республика Бурятия | E14: =VLOOKUP($F14,УЧАСТНИКИ!$A$2:$L$1106,8,FALSE) -> 1 | F14: 381 | J14: =VLOOKUP($F14,УЧАСТНИКИ!$A$2:$L$1106,9,FALSE) -> К
A15: 6 | B15: =VLOOKUP($F15,УЧАСТНИКИ!$A$2:$L$1106,3,FALSE) -> Смирнов Валентин | C15: =VLOOKUP($F15,УЧАСТНИКИ!$A$2:$L$1106,4,FALSE) -> 13.02.1986 | D15: =VLOOKUP($F15,УЧАСТНИКИ!$A$2:$L$1106,5,FALSE) -> Санкт-Петербург Челябинская область | E15: =VLOOKUP($F15,УЧАСТНИКИ!$A$2:$L$1106,8,FALSE) -> МСМК | F15: 309 | J15: =VLOOKUP($F15,УЧАСТНИКИ!$A$2:$L$1106,9,FALSE) -> К
A16: 7 | B16: =VLOOKUP($F16,УЧАСТНИКИ!$A$2:$L$1106,3,FALSE) -> Рыбаков Евгений | C16: =VLOOKUP($F16,УЧАСТНИКИ!$A$2:$L$1106,4,FALSE) -> 27.02.1985 | D16: =VLOOKUP($F16,УЧАСТНИКИ!$A$2:$L$1106,5,FALSE) -> Кемеровская область | E16: =VLOOKUP($F16,УЧАСТНИКИ!$A$2:$L$1106,8,FALSE) -> МСМК | F16: 4 | J16: =VLOOKUP($F16,УЧАСТНИКИ!$A$2:$L$1106,9,FALSE) -> К
A17: 8 | B17: =VLOOKUP($F17,УЧАСТНИКИ!$A$2:$L$1106,3,FALSE) -> Рыбаков Анатолий | C17: =VLOOKUP($F17,УЧАСТНИКИ!$A$2:$L$1106,4,FALSE) -> 27.02.1985 | D17: =VLOOKUP($F17,УЧАСТНИКИ!$A$2:$L$1106,5,FALSE) -> Кемеровская область | E17: =VLOOKUP($F17,УЧАСТНИКИ!$A$2:$L$1106,8,FALSE) -> МСМК | F17: 3 | J17: =VLOOKUP($F17,УЧАСТНИКИ!$A$2:$L$1106,9,FALSE) -> К
A18: 9 | B18: =VLOOKUP($F18,УЧАСТНИКИ!$A$2:$L$1106,3,FALSE) -> Попов Алексей | C18: =VLOOKUP($F18,УЧАСТНИКИ!$A$2:$L$1106,4,FALSE) -> 17.06.1987 | D18: =VLOOKUP($F18,УЧАСТНИКИ!$A$2:$L$1106,5,FALSE) -> Воронежская область | E18: =VLOOKUP($F18,УЧАСТНИКИ!$A$2:$L$1106,8,FALSE) -> МСМК | F18: 396 | J18: =VLOOKUP($F18,УЧАСТНИКИ!$A$2:$L$1106,9,FALSE) -> К
A19: 10 | B19: =VLOOKUP($F19,УЧАСТНИКИ!$A$2:$L$1106,3,FALSE) -> Никитин Владимир | C19: =VLOOKUP($F19,УЧАСТНИКИ!$A$2:$L$1106,4,FALSE) -> 05.08.1992 | D19: =VLOOKUP($F19,УЧАСТНИКИ!$A$2:$L$1106,5,FALSE) -> Москва Пермский край | E19: =VLOOKUP($F19,УЧАСТНИКИ!$A$2:$L$1106,8,FALSE) -> МСМК | F19: 26 | J19: =VLOOKUP($F19,УЧАСТНИКИ!$A$2:$L$1106,9,FALSE) -> К
A20: 11 | B20: =VLOOKUP($F20,УЧАСТНИКИ!$A$2:$L$1106,3,FALSE) -> Николаев Егор | C20: =VLOOKUP($F20,УЧАСТНИКИ!$A$2:$L$1106,4,FALSE) -> 28.04.1988 | D20: =VLOOKUP($F20,УЧАСТНИКИ!$A$2:$L$1106,5,FALSE) -> Московская область Республика Башкортостан | E20: =VLOOKUP($F20,УЧАСТНИКИ!$A$2:$L$1106,8,FALSE) -> МСМК | F20: 202 | J20: =VLOOKUP($F20,УЧАСТНИКИ!$A$2:$L$1106,9,FALSE) -> К
A21: 12 | B21: =VLOOKUP($F21,УЧАСТНИКИ!$A$2:$L$1106,3,FALSE) -> Дорофеев Алексей | C21: =VLOOKUP($F21,УЧАСТНИКИ!$A$2:$L$1106,4,FALSE) -> 08.04.1994 | D21: =VLOOKUP($F21,УЧАСТНИКИ!$A$2:$L$1106,5,FALSE) -> Тульская область | E21: =VLOOKUP($F21,УЧАСТНИКИ!$A$2:$L$1106,8,FALSE) -> МС | F21: 403 | J21: =VLOOKUP($F21,УЧАСТНИКИ!$A$2:$L$1106,9,FALSE) -> К
A22: 13 | B22: =VLOOKUP($F22,УЧАСТНИКИ!$A$2:$L$1106,3,FALSE) -> Захаров Борис | C22: =VLOOKUP($F22,УЧАСТНИКИ!$A$2:$L$1106,4,FALSE) -> 01.04.84 | D22: =VLOOKUP($F22,УЧАСТНИКИ!$A$2:$L$1106,5,FALSE) -> Санкт-Петербург | E22: =VLOOKUP($F22,УЧАСТНИКИ!$A$2:$L$1106,8,FALSE) -> МС | F22: 492 | J22: =VLOOKUP($F22,УЧАСТНИКИ!$A$2:$L$1106,9,FALSE) -> Л
A23: 14 | B23: =VLOOKUP($F23,УЧАСТНИКИ!$A$2:$L$1106,3,FALSE) -> #N/A | C23: =VLOOKUP($F23,УЧАСТНИКИ!$A$2:$L$1106,4,FALSE) -> #N/A | D23: =VLOOKUP($F23,УЧАСТНИКИ!$A$2:$L$1106,5,FALSE) -> #N/A | E23: =VLOOKUP($F23,УЧАСТНИКИ!$A$2:$L$1106,8,FALSE) -> #N/A | J23: =VLOOKUP($F23,УЧАСТНИКИ!$A$2:$L$1106,9,FALSE) -> #N/A
A26: Рефери по бегу:
A27: Ст.судья:
A28: Ст.хронометрист:
A29: Секретарь:

Sheet 4х40-м
A1: =Name_2 -> ВСЕРОССИЙСКАЯ ФЕДЕРАЦИЯ ЛЕГКОЙ АТЛЕТИКИ
A2: СТАРТОВЫЙ ПРОТОКОЛ
A3: КУБОК РОССИИ
A4: МУЖЧИНЫ
A5: Эстафета 4 х 400 м
J6: РР- 38.46
B7: ФИНАЛЬНЫЕ ЗАБЕГИ | C7: 17:30 | D7: =d_2 -> 29.05.2019г. | E7: окончание соревнований: | J7: =d_5 -> г. Сочи, ул. Бзугу 2, ст. им. Славы Метревели
A8: № п/п | B8: Фамилия, имя участника | C8: Дата рождения | D8: Территория | E8: Заявленный разряд | F8: Номер участника | G8: Приход | H8: Результат | I8: Место | J8: Примеч.
B9: 1 ЗАБЕГ
A10: 1 | B10: =VLOOKUP($F10,УЧАСТНИКИ!$A$2:$L$1106,3,FALSE) -> #N/A | C10: =VLOOKUP($F10,УЧАСТНИКИ!$A$2:$L$1106,4,FALSE) -> #N/A | D10: =VLOOKUP($F10,УЧАСТНИКИ!$A$2:$L$1106,5,FALSE) -> #N/A | E10: =VLOOKUP($F10,УЧАСТНИКИ!$A$2:$L$1106,8,FALSE) -> #N/A | J10: =VLOOKUP($F10,УЧАСТНИКИ!$A$2:$L$1106,9,FALSE) -> #N/A
A11: 1 | B11: =VLOOKUP($F11,УЧАСТНИКИ!$A$2:$L$1106,3,FALSE) -> #N/A | C11: =VLOOKUP($F11,УЧАСТНИКИ!$A$2:$L$1106,4,FALSE) -> #N/A | D11: =VLOOKUP($F11,УЧАСТНИКИ!$A$2:$L$1106,5,FALSE) -> #N/A | E11: =VLOOKUP($F11,УЧАСТНИКИ!$A$2:$L$1106,8,FALSE) -> #N/A | J11: =VLOOKUP($F11,УЧАСТНИКИ!$A$2:$L$1106,9,FALSE) -> #N/A
A12: 1 | B12: =VLOOKUP($F12,УЧАСТНИКИ!$A$2:$L$1106,3,FALSE) -> #N/A | C12: =VLOOKUP($F12,УЧАСТНИКИ!$A$2:$L$1106,4,FALSE) -> #N/A | D12: =VLOOKUP($F12,УЧАСТНИКИ!$A$2:$L$1106,5,FALSE) -> #N/A | E12: =VLOOKUP($F12,УЧАСТНИКИ!$A$2:$L$1106,8,FALSE) -> #N/A | J12: =VLOOKUP($F12,УЧАСТНИКИ!$A$2:$L$1106,9,FALSE) -> #N/A
A13: 1 | B13: =VLOOKUP($F13,УЧАСТНИКИ!$A$2:$L$1106,3,FALSE) -> #N/A | C13: =VLOOKUP($F13,УЧАСТНИКИ!$A$2:$L$1106,4,FALSE) -> #N/A | D13: =VLOOKUP($F13,УЧАСТНИКИ!$A$2:$L$1106,5,FALSE) -> #N/A | E13: =VLOOKUP($F13,УЧАСТНИКИ!$A$2:$L$1106,8,FALSE) -> #N/A | J13: =VLOOKUP($F13,УЧАСТНИКИ!$A$2:$L$1106,9,FALSE) -> #N/A
A14: 1 | B14: =VLOOKUP($F14,УЧАСТНИКИ!$A$2:$L$1106,3,FALSE) -> #N/A | C14: =VLOOKUP($F14,УЧАСТНИКИ!$A$2:$L$1106,4,FALSE) -> #N/A | D14: =VLOOKUP($F14,УЧАСТНИКИ!$A$2:$L$1106,5,FALSE) -> #N/A | E14: =VLOOKUP($F14,УЧАСТНИКИ!$A$2:$L$1106,8,FALSE) -> #N/A | J14: =VLOOKUP($F14,УЧАСТНИКИ!$A$2:$L$1106,9,FALSE) -> #N/A
A15: 1 | B15: =VLOOKUP($F15,УЧАСТНИКИ!$A$2:$L$1106,3,FALSE) -> #N/A | C15: =VLOOKUP($F15,УЧАСТНИКИ!$A$2:$L$1106,4,FALSE) -> #N/A | D15: =VLOOKUP($F15,УЧАСТНИКИ!$A$2:$L$1106,5,FALSE) -> #N/A | E15: =VLOOKUP($F15,УЧАСТНИКИ!$A$2:$L$1106,8,FALSE) -> #N/A | J15: =VLOOKUP($F15,УЧАСТНИКИ!$A$2:$L$1106,9,FALSE) -> #N/A
A17: 2 | B17: =VLOOKUP($F17,УЧАСТНИКИ!$A$2:$L$1106,3,FALSE) -> #N/A | C17: =VLOOKUP($F17,УЧАСТНИКИ!$A$2:$L$1106,4,FALSE) -> #N/A | D17: =VLOOKUP($F17,УЧАСТНИКИ!$A$2:$L$1106,5,FALSE) -> #N/A | E17: =VLOOKUP($F17,УЧАСТНИКИ!$A$2:$L$1106,8,FALSE) -> #N/A | J17: =VLOOKUP($F17,УЧАСТНИКИ!$A$2:$L$1106,9,FALSE) -> #N/A
A18: 2 | B18: =VLOOKUP($F18,УЧАСТНИКИ!$A$2:$L$1106,3,FALSE) -> #N/A | C18: =VLOOKUP($F18,УЧАСТНИКИ!$A$2:$L$1106,4,FALSE) -> #N/A | D18: =VLOOKUP($F18,УЧАСТНИКИ!$A$2:$L$1106,5,FALSE) -> #N/A | E18: =VLOOKUP($F18,УЧАСТНИКИ!$A$2:$L$1106,8,FALSE) -> #N/A | J18: =VLOOKUP($F18,УЧАСТНИКИ!$A$2:$L$1106,9,FALSE) -> #N/A
A19: 2 | B19: =VLOOKUP($F19,УЧАСТНИКИ!$A$2:$L$1106,3,FALSE) -> #N/A | C19: =VLOOKUP($F19,УЧАСТНИКИ!$A$2:$L$1106,4,FALSE) -> #N/A | D19: =VLOOKUP($F19,УЧАСТНИКИ!$A$2:$L$1106,5,FALSE) -> #N/A | E19: =VLOOKUP($F19,УЧАСТНИКИ!$A$2:$L$1106,8,FALSE) -> #N/A | J19: =VLOOKUP($F19,УЧАСТНИКИ!$A$2:$L$1106,9,FALSE) -> #N/A
A20: 2 | B20: =VLOOKUP($F20,УЧАСТНИКИ!$A$2:$L$1106,3,FALSE) -> #N/A | C20: =VLOOKUP($F20,УЧАСТНИКИ!$A$2:$L$1106,4,FALSE) -> #N/A | D20: =VLOOKUP($F20,УЧАСТНИКИ!$A$2:$L$1106,5,FALSE) -> #N/A | E20: =VLOOKUP($F20,УЧАСТНИКИ!$A$2:$L$1106,8,FALSE) -> #N/A | J20: =VLOOKUP($F20,УЧАСТНИКИ!$A$2:$L$1106,9,FALSE) -> #N/A
A21: 2 | B21: =VLOOKUP($F21,УЧАСТНИКИ!$A$2:$L$1106,3,FALSE) -> #N/A | C21: =VLOOKUP($F21,УЧАСТНИКИ!$A$2:$L$1106,4,FALSE) -> #N/A | D21: =VLOOKUP($F21,УЧАСТНИКИ!$A$2:$L$1106,5,FALSE) -> #N/A | E21: =VLOOKUP($F21,УЧАСТНИКИ!$A$2:$L$1106,8,FALSE) -> #N/A | J21: =VLOOKUP($F21,УЧАСТНИКИ!$A$2:$L$1106,9,FALSE) -> #N/A
A22: 2 | B22: =VLOOKUP($F22,УЧАСТНИКИ!$A$2:$L$1106,3,FALSE) -> #N/A | C22: =VLOOKUP($F22,УЧАСТНИКИ!$A$2:$L$1106,4,FALSE) -> #N/A | D22: =VLOOKUP($F22,УЧАСТНИКИ!$A$2:$L$1106,5,FALSE) -> #N/A | J22: =VLOOKUP($F22,УЧАСТНИКИ!$A$2:$L$1106,9,FALSE) -> #N/A
A24: 3 | B24: =VLOOKUP($F24,УЧАСТНИКИ!$A$2:$L$1106,3,FALSE) -> Рафилович Максим | C24: =VLOOKUP($F24,УЧАСТНИКИ!$A$2:$L$1106,4,FALSE) -> 07.12.1986 | D24: =VLOOKUP($F24,УЧАСТНИКИ!$A$2:$L$1106,5,FALSE) -> Санкт-Петербург Вологодская область | E24: =VLOOKUP($F24,УЧАСТНИКИ!$A$2:$L$1106,8,FALSE) -> МС | F24: 301 | J24: =VLOOKUP($F24,УЧАСТНИКИ!$A$2:$L$1106,9,FALSE) -> К
A25: 3 | B25: =VLOOKUP($F25,УЧАСТНИКИ!$A$2:$L$1106,3,FALSE) -> Прокофьев Константин | C25: =VLOOKUP($F25,УЧАСТНИКИ!$A$2:$L$1106,4,FALSE) -> 03.11.1997 | D25: =VLOOKUP($F25,УЧАСТНИКИ!$A$2:$L$1106,5,FALSE) -> Санкт-Петербург | E25: =VLOOKUP($F25,УЧАСТНИКИ!$A$2:$L$1106,8,FALSE) -> КМС | F25: 300 | J25: =VLOOKUP($F25,УЧАСТНИКИ!$A$2:$L$1106,9,FALSE) -> Л
A26: 3 | B26: =VLOOKUP($F26,УЧАСТНИКИ!$A$2:$L$1106,3,FALSE) -> Тиммиев Василий | C26: =VLOOKUP($F26,УЧАСТНИКИ!$A$2:$L$1106,4,FALSE) -> 11.03.1999 | D26: =VLOOKUP($F26,УЧАСТНИКИ!$A$2:$L$1106,5,FALSE) -> Санкт-Петербург Архангельская область | E26: =VLOOKUP($F26,УЧАСТНИКИ!$A$2:$L$1106,8,FALSE) -> КМС | F26: 313 | J26: =VLOOKUP($F26,УЧАСТНИКИ!$A$2:$L$1106,9,FALSE) -> Л
A27: 3 | B27: =VLOOKUP($F27,УЧАСТНИКИ!$A$2:$L$1106,3,FALSE) -> Филатов Михаил | C27: =VLOOKUP($F27,УЧАСТНИКИ!$A$2:$L$1106,4,FALSE) -> 01.07.1994 | D27: =VLOOKUP($F27,УЧАСТНИКИ!$A$2:$L$1106,5,FALSE) -> Санкт-Петербург | E27: =VLOOKUP($F27,УЧАСТНИКИ!$A$2:$L$1106,8,FALSE) -> МС | F27: 316 | J27: =VLOOKUP($F27,УЧАСТНИКИ!$A$2:$L$1106,9,FALSE) -> К
A28: 3 | B28: =VLOOKUP($F28,УЧАСТНИКИ!$A$2:$L$1106,3,FALSE) -> Оленковичус Илья | C28: =VLOOKUP($F28,УЧАСТНИКИ!$A$2:$L$1106,4,FALSE) -> 28.12.1998 | D28: =VLOOKUP($F28,УЧАСТНИКИ!$A$2:$L$1106,5,FALSE) -> Санкт-Петербург | E28: =VLOOKUP($F28,УЧАСТНИКИ!$A$2:$L$1106,8,FALSE) -> КМС | F28: 291 | J28: =VLOOKUP($F28,УЧАСТНИКИ!$A$2:$L$1106,9,FALSE) -> Л
A29: 3 | B29: =VLOOKUP($F29,УЧАСТНИКИ!$A$2:$L$1106,3,FALSE) -> Климов Иван | C29: =VLOOKUP($F29,УЧАСТНИКИ!$A$2:$L$1106,4,FALSE) -> 07.07.1997 | D29: =VLOOKUP($F29,УЧАСТНИКИ!$A$2:$L$1106,5,FALSE) -> Санкт-Петербург | E29: =VLOOKUP($F29,УЧАСТНИКИ!$A$2:$L$1106,8,FALSE) -> КМС | F29: 280 | J29: =VLOOKUP($F29,УЧАСТНИКИ!$A$2:$L$1106,9,FALSE) -> Л
A31: 4 | B31: =VLOOKUP($F31,УЧАСТНИКИ!$A$2:$L$1106,3,FALSE) -> Антипов Георгий | C31: =VLOOKUP($F31,УЧАСТНИКИ!$A$2:$L$1106,4,FALSE) -> 05.04.1999 | D31: =VLOOKUP($F31,УЧАСТНИКИ!$A$2:$L$1106,5,FALSE) -> Санкт-Петербург | E31: =VLOOKUP($F31,УЧАСТНИКИ!$A$2:$L$1106,8,FALSE) -> КМС | F31: 260 | J31: =VLOOKUP($F31,УЧАСТНИКИ!$A$2:$L$1106,9,FALSE) -> Л
A32: 4 | B32: =VLOOKUP($F32,УЧАСТНИКИ!$A$2:$L$1106,3,FALSE) -> Балуев Глеб | C32: =VLOOKUP($F32,УЧАСТНИКИ!$A$2:$L$1106,4,FALSE) -> 19.05.1991 | D32: =VLOOKUP($F32,УЧАСТНИКИ!$A$2:$L$1106,5,FALSE) -> Санкт-Петербург | E32: =VLOOKUP($F32,УЧАСТНИКИ!$A$2:$L$1106,8,FALSE) -> МС | F32: 263 | J32: =VLOOKUP($F32,УЧАСТНИКИ!$A$2:$L$1106,9,FALSE) -> Л
A33: 4 | B33: =VLOOKUP($F33,УЧАСТНИКИ!$A$2:$L$1106,3,FALSE) -> Романов Егор | C33: =VLOOKUP($F33,УЧАСТНИКИ!$A$2:$L$1106,4,FALSE) -> 07.11.1998 | D33: =VLOOKUP($F33,УЧАСТНИКИ!$A$2:$L$1106,5,FALSE) -> Санкт-Петербург | E33: =VLOOKUP($F33,УЧАСТНИКИ!$A$2:$L$1106,8,FALSE) -> КМС | F33: 302 | J33: =VLOOKUP($F33,УЧАСТНИКИ!$A$2:$L$1106,9,FALSE) -> Л
A34: 4 | B34: =VLOOKUP($F34,УЧАСТНИКИ!$A$2:$L$1106,3,FALSE) -> Оленковичус Илья | C34: =VLOOKUP($F34,УЧАСТНИКИ!$A$2:$L$1106,4,FALSE) -> 28.12.1998 | D34: =VLOOKUP($F34,УЧАСТНИКИ!$A$2:$L$1106,5,FALSE) -> Санкт-Петербург | E34: =VLOOKUP($F34,УЧАСТНИКИ!$A$2:$L$1106,8,FALSE) -> КМС | F34: 291 | J34: =VLOOKUP($F34,УЧАСТНИКИ!$A$2:$L$1106,9,FALSE) -> Л
A35: 4 | B35: =VLOOKUP($F35,УЧАСТНИКИ!$A$2:$L$1106,3,FALSE) -> Климов Иван | C35: =VLOOKUP($F35,УЧАСТНИКИ!$A$2:$L$1106,4,FALSE) -> 07.07.1997 | D35: =VLOOKUP($F35,УЧАСТНИКИ!$A$2:$L$1106,5,FALSE) -> Санкт-Петербург | E35: =VLOOKUP($F35,УЧАСТНИКИ!$A$2:$L$1106,8,FALSE) -> КМС | F35: 280 | J35: =VLOOKUP($F35,УЧАСТНИКИ!$A$2:$L$1106,9,FALSE) -> Л
A37: 5 | B37: =VLOOKUP($F37,УЧАСТНИКИ!$A$2:$L$1106,3,FALSE) -> #N/A | C37: =VLOOKUP($F37,УЧАСТНИКИ!$A$2:$L$1106,4,FALSE) -> #N/A | D37: =VLOOKUP($F37,УЧАСТНИКИ!$A$2:$L$1106,5,FALSE) -> #N/A | E37: =VLOOKUP($F37,УЧАСТНИКИ!$A$2:$L$1106,8,FALSE) -> #N/A | J37: =VLOOKUP($F37,УЧАСТНИКИ!$A$2:$L$1106,9,FALSE) -> #N/A
A38: 5 | B38: =VLOOKUP($F38,УЧАСТНИКИ!$A$2:$L$1106,3,FALSE) -> #N/A | C38: =VLOOKUP($F38,УЧАСТНИКИ!$A$2:$L$1106,4,FALSE) -> #N/A | D38: =VLOOKUP($F38,УЧАСТНИКИ!$A$2:$L$1106,5,FALSE) -> #N/A | E38: =VLOOKUP($F38,УЧАСТНИКИ!$A$2:$L$1106,8,FALSE) -> #N/A | J38: =VLOOKUP($F38,УЧАСТНИКИ!$A$2:$L$1106,9,FALSE) -> #N/A
A39: 5 | B39: =VLOOKUP($F39,УЧАСТНИКИ!$A$2:$L$1106,3,FALSE) -> #N/A | C39: =VLOOKUP($F39,УЧАСТНИКИ!$A$2:$L$1106,4,FALSE) -> #N/A | D39: =VLOOKUP($F39,УЧАСТНИКИ!$A$2:$L$1106,5,FALSE) -> #N/A | E39: =VLOOKUP($F39,УЧАСТНИКИ!$A$2:$L$1106,8,FALSE) -> #N/A | J39: =VLOOKUP($F39,УЧАСТНИКИ!$A$2:$L$1106,9,FALSE) -> #N/A
A40: 5 | B40: =VLOOKUP($F40,УЧАСТНИКИ!$A$2:$L$1106,3,FALSE) -> #N/A | C40: =VLOOKUP($F40,УЧАСТНИКИ!$A$2:$L$1106,4,FALSE) -> #N/A | D40: =VLOOKUP($F40,УЧАСТНИКИ!$A$2:$L$1106,5,FALSE) -> #N/A | E40: =VLOOKUP($F40,УЧАСТНИКИ!$A$2:$L$1106,8,FALSE) -> #N/A | J40: =VLOOKUP($F40,УЧАСТНИКИ!$A$2:$L$1106,9,FALSE) -> #N/A
A41: 5 | B41: =VLOOKUP($F41,УЧАСТНИКИ!$A$2:$L$1106,3,FALSE) -> #N/A | C41: =VLOOKUP($F41,УЧАСТНИКИ!$A$2:$L$1106,4,FALSE) -> #N/A | D41: =VLOOKUP($F41,УЧАСТНИКИ!$A$2:$L$1106,5,FALSE) -> #N/A | E41: =VLOOKUP($F41,УЧАСТНИКИ!$A$2:$L$1106,8,FALSE) -> #N/A | J41: =VLOOKUP($F41,УЧАСТНИКИ!$A$2:$L$1106,9,FALSE) -> #N/A
A42: 5 | B42: =VLOOKUP($F42,УЧАСТНИКИ!$A$2:$L$1106,3,FALSE) -> #N/A | C42: =VLOOKUP($F42,УЧАСТНИКИ!$A$2:$L$1106,4,FALSE) -> #N/A | D42: =VLOOKUP($F42,УЧАСТНИКИ!$A$2:$L$1106,5,FALSE) -> #N/A | E42: =VLOOKUP($F42,УЧАСТНИКИ!$A$2:$L$1106,8,FALSE) -> #N/A | J42: =VLOOKUP($F42,УЧАСТНИКИ!$A$2:$L$1106,9,FALSE) -> #N/A
A44: 6 | B44: =VLOOKUP($F44,УЧАСТНИКИ!$A$2:$L$1106,3,FALSE) -> #N/A | C44: =VLOOKUP($F44,УЧАСТНИКИ!$A$2:$L$1106,4,FALSE) -> #N/A | D44: =VLOOKUP($F44,УЧАСТНИКИ!$A$2:$L$1106,5,FALSE) -> #N/A | E44: =VLOOKUP($F44,УЧАСТНИКИ!$A$2:$L$1106,8,FALSE) -> #N/A | J44: =VLOOKUP($F44,УЧАСТНИКИ!$A$2:$L$1106,9,FALSE) -> #N/A
A45: 6 | B45: =VLOOKUP($F45,УЧАСТНИКИ!$A$2:$L$1106,3,FALSE) -> #N/A | C45: =VLOOKUP($F45,УЧАСТНИКИ!$A$2:$L$1106,4,FALSE) -> #N/A | D45: =VLOOKUP($F45,УЧАСТНИКИ!$A$2:$L$1106,5,FALSE) -> #N/A | E45: =VLOOKUP($F45,УЧАСТНИКИ!$A$2:$L$1106,8,FALSE) -> #N/A | J45: =VLOOKUP($F45,УЧАСТНИКИ!$A$2:$L$1106,9,FALSE) -> #N/A
...

Sheet 110Ф-М
A1: =Name_2 -> ВСЕРОССИЙСКАЯ ФЕДЕРАЦИЯ ЛЕГКОЙ АТЛЕТИКИ
A2: СТАРТОВЫЙ ПРОТОКОЛ
A3: КУБОК РОССИИ
A4: МУЖЧИНЫ
A5: Бег с барьерами 110 м
A6: h-1,067 м | K6: РР- 12.92
B7: ФИНАЛЬНЫЙ ЗАБЕГ | C7: 16:50 | D7: =d_1 -> 28.05.2019г. | E7: окончание соревнований: | K7: =d_5 -> г. Сочи, ул. Бзугу 2, ст. им. Славы Метревели
A8: № п/п | B8: Фамилия, имя участника | C8: Дата рождения | D8: Территория | E8: Заявленный разряд | F8: Номер участника | G8: рез-тат забега | H8: приход | I8: Результат | J8: Место | K8: Примеч.
A10: 1 | B10: =VLOOKUP($F10,УЧАСТНИКИ!$A$2:$L$1106,3,FALSE) -> Ежов Денис | C10: =VLOOKUP($F10,УЧАСТНИКИ!$A$2:$L$1106,4,FALSE) -> 18.03.1994 | D10: =VLOOKUP($F10,УЧАСТНИКИ!$A$2:$L$1106,5,FALSE) -> Краснодарский край Кабардино-Балкарская республика | E10: =VLOOKUP($F10,УЧАСТНИКИ!$A$2:$L$1106,8,FALSE) -> МС | F10: 141 | G10: 14,32 | K10: =VLOOKUP($F10,УЧАСТНИКИ!$A$2:$L$1106,9,FALSE) -> К
A11: 2 | B11: =VLOOKUP($F11,УЧАСТНИКИ!$A$2:$L$1106,3,FALSE) -> Солодов Сергей | C11: =VLOOKUP($F11,УЧАСТНИКИ!$A$2:$L$1106,4,FALSE) -> 03.01.1996 | D11: =VLOOKUP($F11,УЧАСТНИКИ!$A$2:$L$1106,5,FALSE) -> Санкт-Петербург | E11: =VLOOKUP($F11,УЧАСТНИКИ!$A$2:$L$1106,8,FALSE) -> МС | F11: 310 | G11: 14,26 | K11: =VLOOKUP($F11,УЧАСТНИКИ!$A$2:$L$1106,9,FALSE) -> К
A12: 3 | B12: =VLOOKUP($F12,УЧАСТНИКИ!$A$2:$L$1106,3,FALSE) -> Зюков Владислав | C12: =VLOOKUP($F12,УЧАСТНИКИ!$A$2:$L$1106,4,FALSE) -> 23.07.1993 | D12: =VLOOKUP($F12,УЧАСТНИКИ!$A$2:$L$1106,5,FALSE) -> Москва Брянская область | E12: =VLOOKUP($F12,УЧАСТНИКИ!$A$2:$L$1106,8,FALSE) -> МС | F12: 33 | G12: 13,95 | K12: =VLOOKUP($F12,УЧАСТНИКИ!$A$2:$L$1106,9,FALSE) -> К
A13: 4 | B13: =VLOOKUP($F13,УЧАСТНИКИ!$A$2:$L$1106,3,FALSE) -> Спиридонов Олег | C13: =VLOOKUP($F13,УЧАСТНИКИ!$A$2:$L$1106,4,FALSE) -> 16.08.1999 | D13: =VLOOKUP($F13,УЧАСТНИКИ!$A$2:$L$1106,5,FALSE) -> Калининградская область Санкт-Петербург | E13: =VLOOKUP($F13,УЧАСТНИКИ!$A$2:$L$1106,8,FALSE) -> МС | F13: 50 | G13: 13,88 | K13: =VLOOKUP($F13,УЧАСТНИКИ!$A$2:$L$1106,9,FALSE) -> К
A14: 5 | B14: =VLOOKUP($F14,УЧАСТНИКИ!$A$2:$L$1106,3,FALSE) -> Шабанов Константин | C14: =VLOOKUP($F14,УЧАСТНИКИ!$A$2:$L$1106,4,FALSE) -> 17.11.1989 | D14: =VLOOKUP($F14,УЧАСТНИКИ!$A$2:$L$1106,5,FALSE) -> Москва Псковская область | E14: =VLOOKUP($F14,УЧАСТНИКИ!$A$2:$L$1106,8,FALSE) -> МСМК | F14: 372 | G14: 13,91 | K14: =VLOOKUP($F14,УЧАСТНИКИ!$A$2:$L$1106,9,FALSE) -> Л
A15: 6 | B15: =VLOOKUP($F15,УЧАСТНИКИ!$A$2:$L$1106,3,FALSE) -> Шабанов Филипп | C15: =VLOOKUP($F15,УЧАСТНИКИ!$A$2:$L$1106,4,FALSE) -> 29.01.1991 | D15: =VLOOKUP($F15,УЧАСТНИКИ!$A$2:$L$1106,5,FALSE) -> Москва Псковская область | E15: =VLOOKUP($F15,УЧАСТНИКИ!$A$2:$L$1106,8,FALSE) -> МС | F15: 373 | G15: 14,07 | K15: =VLOOKUP($F15,УЧАСТНИКИ!$A$2:$L$1106,9,FALSE) -> Л
A16: 7 | B16: =VLOOKUP($F16,УЧАСТНИКИ!$A$2:$L$1106,3,FALSE) -> Маляренко Григорий | C16: =VLOOKUP($F16,УЧАСТНИКИ!$A$2:$L$1106,4,FALSE) -> 28.12.1998 | D16: =VLOOKUP($F16,УЧАСТНИКИ!$A$2:$L$1106,5,FALSE) -> Омская область | E16: =VLOOKUP($F16,УЧАСТНИКИ!$A$2:$L$1106,8,FALSE) -> КМС | F16: 114 | G16: 14,22 | K16: =VLOOKUP($F16,УЧАСТНИКИ!$A$2:$L$1106,9,FALSE) -> К
A17: 8 | B17: =VLOOKUP($F17,УЧАСТНИКИ!$A$2:$L$1106,3,FALSE) -> Челноков Константин | C17: =VLOOKUP($F17,УЧАСТНИКИ!$A$2:$L$1106,4,FALSE) -> 01.11.1986 | D17: =VLOOKUP($F17,УЧАСТНИКИ!$A$2:$L$1106,5,FALSE) -> Краснодарский край Карачаево-Черкесская республика | E17: =VLOOKUP($F17,УЧАСТНИКИ!$A$2:$L$1106,8,FALSE) -> МС | F17: 182 | G17: 14,41 | K17: =VLOOKUP($F17,УЧАСТНИКИ!$A$2:$L$1106,9,FALSE) -> К
A20: Рефери по бегу:
A21: Ст.судья:
A22: Ст.хронометрист:
A23: Секретарь:

Sheet 400СБ-М
A1: =Name_2 -> ВСЕРОССИЙСКАЯ ФЕДЕРАЦИЯ ЛЕГКОЙ АТЛЕТИКИ
A2: СТАРТОВЫЙ ПРОТОКОЛ
A3: КУБОК РОССИИ
A4: МУЖЧИНЫ
A5: Бег с барьерами 400 м
A6: h-0,914 м | J6: РР- 48.05
B7: ФИНАЛЬНЫЕ ЗАБЕГИ | C7: 16:10 | D7: =d_2 -> 29.05.2019г. | E7: окончание соревнований: | J7: =d_5 -> г. Сочи, ул. Бзугу 2, ст. им. Славы Метревели
A8: № п/п | B8: Фамилия, имя участника | C8: Дата рождения | D8: Территория | E8: Заявленный разряд | F8: Номер участника | G8: Приход | H8: Результат | I8: Место | J8: Примеч.
B9: 1 ЗАБЕГ
A10: 1
A11: 2 | B11: =VLOOKUP($F11,УЧАСТНИКИ!$A$2:$L$1106,3,FALSE) -> Тыщенко Алан | C11: =VLOOKUP($F11,УЧАСТНИКИ!$A$2:$L$1106,4,FALSE) -> 16.03.1989 | D11: =VLOOKUP($F11,УЧАСТНИКИ!$A$2:$L$1106,5,FALSE) -> Краснодарский край | E11: =VLOOKUP($F11,УЧАСТНИКИ!$A$2:$L$1106,8,FALSE) -> КМС | F11: 179 | J11: =VLOOKUP($F11,УЧАСТНИКИ!$A$2:$L$1106,9,FALSE) -> Л
A12: 3 | B12: =VLOOKUP($F12,УЧАСТНИКИ!$A$2:$L$1106,3,FALSE) -> Таратынов Марк | C12: =VLOOKUP($F12,УЧАСТНИКИ!$A$2:$L$1106,4,FALSE) -> 31.05.1994 | D12: =VLOOKUP($F12,УЧАСТНИКИ!$A$2:$L$1106,5,FALSE) -> Санкт-Петербург | E12: =VLOOKUP($F12,УЧАСТНИКИ!$A$2:$L$1106,8,FALSE) -> МС | F12: 312 | J12: =VLOOKUP($F12,УЧАСТНИКИ!$A$2:$L$1106,9,FALSE) -> Л
A13: 4 | B13: =VLOOKUP($F13,УЧАСТНИКИ!$A$2:$L$1106,3,FALSE) -> Кукалев Вадим | C13: =VLOOKUP($F13,УЧАСТНИКИ!$A$2:$L$1106,4,FALSE) -> 22.08.1998 | D13: =VLOOKUP($F13,УЧАСТНИКИ!$A$2:$L$1106,5,FALSE) -> Тюменская область | E13: =VLOOKUP($F13,УЧАСТНИКИ!$A$2:$L$1106,8,FALSE) -> КМС | F13: 91 | J13: =VLOOKUP($F13,УЧАСТНИКИ!$A$2:$L$1106,9,FALSE) -> К
A14: 5 | B14: =VLOOKUP($F14,УЧАСТНИКИ!$A$2:$L$1106,3,FALSE) -> Бакай Алексей | C14: =VLOOKUP($F14,УЧАСТНИКИ!$A$2:$L$1106,4,FALSE) -> 21.01.1999 | D14: =VLOOKUP($F14,УЧАСТНИКИ!$A$2:$L$1106,5,FALSE) -> Краснодарский край | E14: =VLOOKUP($F14,УЧАСТНИКИ!$A$2:$L$1106,8,FALSE) -> КМС | F14: 129 | J14: =VLOOKUP($F14,УЧАСТНИКИ!$A$2:$L$1106,9,FALSE) -> Л
A15: 6 | B15: =VLOOKUP($F15,УЧАСТНИКИ!$A$2:$L$1106,3,FALSE) -> Гапонов Дмитрий | C15: =VLOOKUP($F15,УЧАСТНИКИ!$A$2:$L$1106,4,FALSE) -> 26.05.1997 | D15: =VLOOKUP($F15,УЧАСТНИКИ!$A$2:$L$1106,5,FALSE) -> Санкт-Петербург Калужская область | E15: =VLOOKUP($F15,УЧАСТНИКИ!$A$2:$L$1106,8,FALSE) -> МС | F15: 271 | J15: =VLOOKUP($F15,УЧАСТНИКИ!$A$2:$L$1106,9,FALSE) -> Л
A16: 7 | B16: =VLOOKUP($F16,УЧАСТНИКИ!$A$2:$L$1106,3,FALSE) -> Роженко Виктор | C16: =VLOOKUP($F16,УЧАСТНИКИ!$A$2:$L$1106,4,FALSE) -> 01.08.1993 | D16: =VLOOKUP($F16,УЧАСТНИКИ!$A$2:$L$1106,5,FALSE) -> Воронежская область | E16: =VLOOKUP($F16,УЧАСТНИКИ!$A$2:$L$1106,8,FALSE) -> КМС | F16: 397 | J16: =VLOOKUP($F16,УЧАСТНИКИ!$A$2:$L$1106,9,FALSE) -> К
A17: 8 | B17: =VLOOKUP($F17,УЧАСТНИКИ!$A$2:$L$1106,3,FALSE) -> Ламков Арсен | C17: =VLOOKUP($F17,УЧАСТНИКИ!$A$2:$L$1106,4,FALSE) -> 05.05.1999 | D17: =VLOOKUP($F17,УЧАСТНИКИ!$A$2:$L$1106,5,FALSE) -> Ставропольский край Карачаево-Черкесская республика | E17: =VLOOKUP($F17,УЧАСТНИКИ!$A$2:$L$1106,8,FALSE) -> КМС | F17: 185 | J17: =VLOOKUP($F17,УЧАСТНИКИ!$A$2:$L$1106,9,FALSE) -> К
B18: 2 ЗАБЕГ
A19: 1
A20: 2 | B20: =VLOOKUP($F20,УЧАСТНИКИ!$A$2:$L$1106,3,FALSE) -> Гребеньщиков Константин | C20: =VLOOKUP($F20,УЧАСТНИКИ!$A$2:$L$1106,4,FALSE) -> 02.01.1990 | D20: =VLOOKUP($F20,УЧАСТНИКИ!$A$2:$L$1106,5,FALSE) -> Тюменская область | E20: =VLOOKUP($F20,УЧАСТНИКИ!$A$2:$L$1106,8,FALSE) -> КМС | F20: 86 | J20: =VLOOKUP($F20,УЧАСТНИКИ!$A$2:$L$1106,9,FALSE) -> К
A21: 3 | B21: =VLOOKUP($F21,УЧАСТНИКИ!$A$2:$L$1106,3,FALSE) -> Чубровский Роман | C21: =VLOOKUP($F21,УЧАСТНИКИ!$A$2:$L$1106,4,FALSE) -> 21.12.1994 | D21: =VLOOKUP($F21,УЧАСТНИКИ!$A$2:$L$1106,5,FALSE) -> Новосибирская область | E21: =VLOOKUP($F21,УЧАСТНИКИ!$A$2:$L$1106,8,FALSE) -> МС | F21: 430 | J21: =VLOOKUP($F21,УЧАСТНИКИ!$A$2:$L$1106,9,FALSE) -> К
A22: 4 | B22: =VLOOKUP($F22,УЧАСТНИКИ!$A$2:$L$1106,3,FALSE) -> Лысенко Владимир | C22: =VLOOKUP($F22,УЧАСТНИКИ!$A$2:$L$1106,4,FALSE) -> 10.06.1998 | D22: =VLOOKUP($F22,УЧАСТНИКИ!$A$2:$L$1106,5,FALSE) -> Московская область | E22: =VLOOKUP($F22,УЧАСТНИКИ!$A$2:$L$1106,8,FALSE) -> МС | F22: 461 | J22: =VLOOKUP($F22,УЧАСТНИКИ!$A$2:$L$1106,9,FALSE) -> К
A23: 5 | B23: =VLOOKUP($F23,УЧАСТНИКИ!$A$2:$L$1106,3,FALSE) -> Кудрявцев Денис | C23: =VLOOKUP($F23,УЧАСТНИКИ!$A$2:$L$1106,4,FALSE) -> 13.04.1992 | D23: =VLOOKUP($F23,УЧАСТНИКИ!$A$2:$L$1106,5,FALSE) -> Тюменская область | E23: =VLOOKUP($F23,УЧАСТНИКИ!$A$2:$L$1106,8,FALSE) -> ЗМС | F23: 90 | J23: =VLOOKUP($F23,УЧАСТНИКИ!$A$2:$L$1106,9,FALSE) -> К
A24: 6 | B24: =VLOOKUP($F24,УЧАСТНИКИ!$A$2:$L$1106,3,FALSE) -> Логинов Иван | C24: =VLOOKUP($F24,УЧАСТНИКИ!$A$2:$L$1106,4,FALSE) -> 19.06.1997 | D24: =VLOOKUP($F24,УЧАСТНИКИ!$A$2:$L$1106,5,FALSE) -> Москва Владимирская область | E24: =VLOOKUP($F24,УЧАСТНИКИ!$A$2:$L$1106,8,FALSE) -> МС | F24: 211 | J24: =VLOOKUP($F24,УЧАСТНИКИ!$A$2:$L$1106,9,FALSE) -> К
A25: 7 | B25: =VLOOKUP($F25,УЧАСТНИКИ!$A$2:$L$1106,3,FALSE) -> Рубцов Артем | C25: =VLOOKUP($F25,УЧАСТНИКИ!$A$2:$L$1106,4,FALSE) -> 30.05.1998 | D25: =VLOOKUP($F25,УЧАСТНИКИ!$A$2:$L$1106,5,FALSE) -> Москва Оренбургская область | E25: =VLOOKUP($F25,УЧАСТНИКИ!$A$2:$L$1106,8,FALSE) -> КМС | F25: 363 | J25: =VLOOKUP($F25,УЧАСТНИКИ!$A$2:$L$1106,9,FALSE) -> Л
A26: 8 | B26: =VLOOKUP($F26,УЧАСТНИКИ!$A$2:$L$1106,3,FALSE) -> Федотов Артём | C26: =VLOOKUP($F26,УЧАСТНИКИ!$A$2:$L$1106,4,FALSE) -> 12.11.1991 | D26: =VLOOKUP($F26,УЧАСТНИКИ!$A$2:$L$1106,5,FALSE) -> Ульяновская область | E26: =VLOOKUP($F26,УЧАСТНИКИ!$A$2:$L$1106,8,FALSE) -> МС | F26: 198 | J26: =VLOOKUP($F26,УЧАСТНИКИ!$A$2:$L$1106,9,FALSE) -> К
B27: 3 ЗАБЕГ
A28: 1 | B28: =VLOOKUP($F28,УЧАСТНИКИ!$A$2:$L$1106,3,FALSE) -> #N/A | C28: =VLOOKUP($F28,УЧАСТНИКИ!$A$2:$L$1106,4,FALSE) -> #N/A | D28: =VLOOKUP($F28,УЧАСТНИКИ!$A$2:$L$1106,5,FALSE) -> #N/A | E28: =VLOOKUP($F28,УЧАСТНИКИ!$A$2:$L$1106,8,FALSE) -> #N/A | J28: =VLOOKUP($F28,УЧАСТНИКИ!$A$2:$L$1106,9,FALSE) -> #N/A
A29: 2 | B29: =VLOOKUP($F29,УЧАСТНИКИ!$A$2:$L$1106,3,FALSE) -> #N/A | C29: =VLOOKUP($F29,УЧАСТНИКИ!$A$2:$L$1106,4,FALSE) -> #N/A | D29: =VLOOKUP($F29,УЧАСТНИКИ!$A$2:$L$1106,5,FALSE) -> #N/A | E29: =VLOOKUP($F29,УЧАСТНИКИ!$A$2:$L$1106,8,FALSE) -> #N/A | J29: =VLOOKUP($F29,УЧАСТНИКИ!$A$2:$L$1106,9,FALSE) -> #N/A
A30: 3 | B30: =VLOOKUP($F30,УЧАСТНИКИ!$A$2:$L$1106,3,FALSE) -> #N/A | C30: =VLOOKUP($F30,УЧАСТНИКИ!$A$2:$L$1106,4,FALSE) -> #N/A | D30: =VLOOKUP($F30,УЧАСТНИКИ!$A$2:$L$1106,5,FALSE) -> #N/A | E30: =VLOOKUP($F30,УЧАСТНИКИ!$A$2:$L$1106,8,FALSE) -> #N/A | J30: =VLOOKUP($F30,УЧАСТНИКИ!$A$2:$L$1106,9,FALSE) -> #N/A
A31: 4 | B31: =VLOOKUP($F31,УЧАСТНИКИ!$A$2:$L$1106,3,FALSE) -> #N/A | C31: =VLOOKUP($F31,УЧАСТНИКИ!$A$2:$L$1106,4,FALSE) -> #N/A | D31: =VLOOKUP($F31,УЧАСТНИКИ!$A$2:$L$1106,5,FALSE) -> #N/A | E31: =VLOOKUP($F31,УЧАСТНИКИ!$A$2:$L$1106,8,FALSE) -> #N/A | J31: =VLOOKUP($F31,УЧАСТНИКИ!$A$2:$L$1106,9,FALSE) -> #N/A
A32: 5 | B32: =VLOOKUP($F32,УЧАСТНИКИ!$A$2:$L$1106,3,FALSE) -> #N/A | C32: =VLOOKUP($F32,УЧАСТНИКИ!$A$2:$L$1106,4,FALSE) -> #N/A | D32: =VLOOKUP($F32,УЧАСТНИКИ!$A$2:$L$1106,5,FALSE) -> #N/A | E32: =VLOOKUP($F32,УЧАСТНИКИ!$A$2:$L$1106,8,FALSE) -> #N/A | J32: =VLOOKUP($F32,УЧАСТНИКИ!$A$2:$L$1106,9,FALSE) -> #N/A
A33: 6 | B33: =VLOOKUP($F33,УЧАСТНИКИ!$A$2:$L$1106,3,FALSE) -> #N/A | C33: =VLOOKUP($F33,УЧАСТНИКИ!$A$2:$L$1106,4,FALSE) -> #N/A | D33: =VLOOKUP($F33,УЧАСТНИКИ!$A$2:$L$1106,5,FALSE) -> #N/A | E33: =VLOOKUP($F33,УЧАСТНИКИ!$A$2:$L$1106,8,FALSE) -> #N/A | J33: =VLOOKUP($F33,УЧАСТНИКИ!$A$2:$L$1106,9,FALSE) -> #N/A
A34: 7 | B34: =VLOOKUP($F34,УЧАСТНИКИ!$A$2:$L$1106,3,FALSE) -> #N/A | C34: =VLOOKUP($F34,УЧАСТНИКИ!$A$2:$L$1106,4,FALSE) -> #N/A | D34: =VLOOKUP($F34,УЧАСТНИКИ!$A$2:$L$1106,5,FALSE) -> #N/A | E34: =VLOOKUP($F34,УЧАСТНИКИ!$A$2:$L$1106,8,FALSE) -> #N/A | J34: =VLOOKUP($F34,УЧАСТНИКИ!$A$2:$L$1106,9,FALSE) -> #N/A
A35: 8 | B35: =VLOOKUP($F35,УЧАСТНИКИ!$A$2:$L$1106,3,FALSE) -> #N/A | C35: =VLOOKUP($F35,УЧАСТНИКИ!$A$2:$L$1106,4,FALSE) -> #N/A | D35: =VLOOKUP($F35,УЧАСТНИКИ!$A$2:$L$1106,5,FALSE) -> #N/A | E35: =VLOOKUP($F35,УЧАСТНИКИ!$A$2:$L$1106,8,FALSE) -> #N/A | J35: =VLOOKUP($F35,УЧАСТНИКИ!$A$2:$L$1106,9,FALSE) -> #N/A
B36: 4 ЗАБЕГ
A37: 1 | B37: =VLOOKUP($F37,УЧАСТНИКИ!$A$2:$L$1106,3,FALSE) -> #N/A | C37: =VLOOKUP($F37,УЧАСТНИКИ!$A$2:$L$1106,4,FALSE) -> #N/A | D37: =VLOOKUP($F37,УЧАСТНИКИ!$A$2:$L$1106,5,FALSE) -> #N/A | E37: =VLOOKUP($F37,УЧАСТНИКИ!$A$2:$L$1106,8,FALSE) -> #N/A | J37: =VLOOKUP($F37,УЧАСТНИКИ!$A$2:$L$1106,9,FALSE) -> #N/A
A38: 2 | B38: =VLOOKUP($F38,УЧАСТНИКИ!$A$2:$L$1106,3,FALSE) -> #N/A | C38: =VLOOKUP($F38,УЧАСТНИКИ!$A$2:$L$1106,4,FALSE) -> #N/A | D38: =VLOOKUP($F38,УЧАСТНИКИ!$A$2:$L$1106,5,FALSE) -> #N/A | E38: =VLOOKUP($F38,УЧАСТНИКИ!$A$2:$L$1106,8,FALSE) -> #N/A | J38: =VLOOKUP($F38,УЧАСТНИКИ!$A$2:$L$1106,9,FALSE) -> #N/A
A39: 3 | B39: =VLOOKUP($F39,УЧАСТНИКИ!$A$2:$L$1106,3,FALSE) -> #N/A | C39: =VLOOKUP($F39,УЧАСТНИКИ!$A$2:$L$1106,4,FALSE) -> #N/A | D39: =VLOOKUP($F39,УЧАСТНИКИ!$A$2:$L$1106,5,FALSE) -> #N/A | E39: =VLOOKUP($F39,УЧАСТНИКИ!$A$2:$L$1106,8,FALSE) -> #N/A | J39: =VLOOKUP($F39,УЧАСТНИКИ!$A$2:$L$1106,9,FALSE) -> #N/A
A40: 4 | B40: =VLOOKUP($F40,УЧАСТНИКИ!$A$2:$L$1106,3,FALSE) -> #N/A | C40: =VLOOKUP($F40,УЧАСТНИКИ!$A$2:$L$1106,4,FALSE) -> #N/A | D40: =VLOOKUP($F40,УЧАСТНИКИ!$A$2:$L$1106,5,FALSE) -> #N/A | E40: =VLOOKUP($F40,УЧАСТНИКИ!$A$2:$L$1106,8,FALSE) -> #N/A | J40: =VLOOKUP($F40,УЧАСТНИКИ!$A$2:$L$1106,9,FALSE) -> #N/A
...

Sheet В-М
A1: =Name_2 -> ВСЕРОССИЙСКАЯ ФЕДЕРАЦИЯ ЛЕГКОЙ АТЛЕТИКИ
A2: СТАРТОВЫЙ ПРОТОКОЛ
A3: КУБОК РОССИИ
A4: МУЖЧИНЫ
A5: Прыжок в высоту
F6: Порядок подьема высот: | AO6: РР- 2.42
B7: ФИНАЛЬНЫЕ СОРЕВНОВАНИЯ | C7: 14:30 | D7: =d_2 -> 29.05.2019г. | F7: окончание соревнований: | AO7: =d_5 -> г. Сочи, ул. Бзугу 2, ст. им. Славы Метревели
A8: № п/п | B8: Фамилия, имя участника | C8: Дата рождения | D8: Территория | E8: Заявленный разряд | F8: Номер участника | G8: В Ы С О Т Ы | AM8: Лучший результ. | AN8: Место | AO8: Примеч.
AK9: А | AL9: Б
A10: 1 | B10: =VLOOKUP($F10,УЧАСТНИКИ!$A$2:$L$1106,3,FALSE) -> Фатьянов Александр | C10: =VLOOKUP($F10,УЧАСТНИКИ!$A$2:$L$1106,4,FALSE) -> 18.04.1998 | D10: =VLOOKUP($F10,УЧАСТНИКИ!$A$2:$L$1106,5,FALSE) -> Санкт-Петербург | E10: =VLOOKUP($F10,УЧАСТНИКИ!$A$2:$L$1106,8,FALSE) -> КМС | F10: 315 | AO10: =VLOOKUP($F10,УЧАСТНИКИ!$A$2:$L$1106,9,FALSE) -> Л
A11: 2 | B11: =VLOOKUP($F11,УЧАСТНИКИ!$A$2:$L$1106,3,FALSE) -> Сидоров Денис | C11: =VLOOKUP($F11,УЧАСТНИКИ!$A$2:$L$1106,4,FALSE) -> 15.10.1996 | D11: =VLOOKUP($F11,УЧАСТНИКИ!$A$2:$L$1106,5,FALSE) -> Москва | E11: =VLOOKUP($F11,УЧАСТНИКИ!$A$2:$L$1106,8,FALSE) -> КМС | F11: 366 | AO11: =VLOOKUP($F11,УЧАСТНИКИ!$A$2:$L$1106,9,FALSE) -> Л
