Workbook
Name CUMM: '110-М'!#REF!
Name CUMM: '150-М'!#REF!
Name CUMM: '20-М'!#REF!
Name CUMM: '3000СБ-М'!#REF!
Name CUMM: '400СБ-М'!#REF!
Name CUMM: '40-М'!#REF!
Name CUMM: '4х10-М'!#REF!
Name CUMM: '500-М'!#REF!
Name CUMM: '80-М'!#REF!
Name CUMM: '10-М'!#REF!
Name CUMM: '10-М'!#REF!
Name CUMM: '10-М'!#REF!
Name d_1: '1'!$A$1
Name d_2: '1'!$A$2
Name d_3: '1'!$A$3
Name d_4: '1'!$A$4
Name d_5: '1'!$A$5
Name d_6: '1'!$A$6
Name d_7: '1'!$A$7
Name date_1: '1'!$A$1
Name Name_1: '1'!$A$9
Name Name_2: '1'!$A$10
Name Name_3: '1'!$A$11
Name Name_4: '1'!$A$12
Name Name_5: '1'!$A$12
Name Name_6: '1'!$A$13
Name OLE_LINK1: УЧАСТНИКИ!$D$2
Name Tit_1: '1'!$A$9

Sheet 1
A1: 28.05.2019г.
A2: 29.05.2019г.
A3: 09.06.2019г.
A4: МУЖЧИНЫ
A5: г. Сочи, ул. Бзугу 2, ст. им. Славы Метревели
A6: t° +17 вл. 91%
A7: Адлер с/к "Юность"
A9: МИНИСТЕРСТВО ФИЗИЧЕСКОЙ КУЛЬТУРЫ И СПОРТА РОССИЙСКОЙ ФЕДЕРАЦИИ
A10: ВСЕРОССИЙСКАЯ ФЕДЕРАЦИЯ ЛЕГКОЙ АТЛЕТИКИ
A11: МИНИСТЕРСТВО ФИЗИЧЕСКОЙ КУЛЬТУРЫ И СПОРТА КРАСНОДАРСКОГО КРАЯ
A12: ФЕДЕРАЦИЯ ЛЕГКОЙ АТЛЕТИКИ КРАСНОДАРСКОГО КРАЯ
A13: ФЕДЕРАЦИЯ ЛЕГКОЙ АТЛЕТИКИ КРАСНОДАРСКОГО КРАЯ
A21: дисквал п.п. 162.7 | C21: фальстарт

Sheet УЧАСТНИКИ
A1: № уч-ка | B1: №№ | C1: ФАМИЛИЯ ИМЯ УЧАСТНИКА | D1: Год.рожд | E1: НАЗВАНИЕ КОМАНДЫ | F1: ВИД | G1: Округ | H1: Разряд | I1: лично | J1: ТРЕНЕР(ы) | K1: ДСО Ведомство
A2: 261 | C2: Асеев Илья | D2: 23.03.1994 | E2: Санкт-Петербург | F2: Барьерный бег 110 м | H2: КМС | I2: Л | J2: Белова И.Н., Иванова И.М., Ананьев С.Ю., Михайлов А.А., Иванов Д.А. | K2: ГБУ СШОР "Академия легкой атлетики Санкт-Петербурга"
A3: 100 | C3: Ветлугин Сергей | D3: 17.11.1995 | E3: Красноярский край | F3: Барьерный бег 110 м | H3: КМС | I3: К | J3: Артемьев П.П., Мажуга Т.Ю. | K3: КГАУ "РЦСП "Академия летних видов спорта", МАУ "СШОР "Спутник"
A4: 53 | C4: Дремин Алексей | D4: 10.05.1989 | E4: Челябинская область | F4: Барьерный бег 110 м | H4: МСМК | I4: К | J4: Ермолаев С.В., Гангало Н.Н. | K4: МБУ СШОР №1 по л/а г.Челябинска
A5: 66 | C5: Егоров Глеб | D5: 27.06.1997 | E5: Свердловская область | F5: Барьерный бег 110 м | H5: МС | I5: К | J5: Павлов В.Л. | K5: ЧУ СК "Луч", ГАУ СО "ЦСП"
A6: 141 | C6: Ежов Денис | D6: 18.03.1994 | E6: Краснодарский край Кабардино-Балкарская республика | F6: Барьерный бег 110 м | H6: МС | I6: К | J6: Вяльцева В.Г., Артамонов А.О. | K6: ГБУ КК "ЦОП по легкой атлетике", ГКУ КБР "СШОР № 1"
A7: 33 | C7: Зюков Владислав | D7: 23.07.1993 | E7: Москва Брянская область | F7: Барьерный бег 110 м | H7: МС | I7: К | J7: Мишкин В.С., Письменный А.В. | K7: ГБУ "СШОР "Луч" Москомспорта, ГБУ БО СШОР "Русь"
A8: 478 | C8: Киреев Кирилл | D8: 28.08.1997 | E8: Ростовская область | F8: Барьерный бег 110 м | H8: КМС | I8: К | J8: Солянкин И.П., Давиденко А.П., Коваленко А.В. | K8: МБУ ДО «ДЮСШ № 1» ( г. Ростов-на-Дону), ГБПОУ РО "РОУОР"
C9: Кравцов Святoслав | D9: 13.07.1998 | E9: Свердловская область | F9: Барьерный бег 110 м | H9: КМС | I9: К | J9: Жуков А.В., Масаев Е.Р. | K9: ГАУ СО "ЦСП", МАУ ДО ДЮСШ "Росток", ЧУ СК"Луч"
A10: 210 | C10: Кузнецов Артем | D10: 29.07.1999 | E10: Москва Владимирская область | F10: Барьерный бег 110 м | H10: КМС | I10: К | J10: Кравцова К.О., Бурлаков О.П., Коробова П.А. | K10: ГБУ "ЦОП по легкой атлетике" Москомспорта
A11: 185 | C11: Ламков Арсен | D11: 05.05.1999 | E11: Ставропольский край Карачаево-Черкесская республика | F11: Барьерный бег 110 м | H11: КМС | I11: К | J11: Титаренко И.Г., Кувалдина Т.В. | K11: ГБУ СК "СШОР по легкой атлетике"
A12: 15 | C12: Лобков Максим | D12: 20.05.1997 | E12: Волгоградская область | F12: Барьерный бег 110 м | H12: МС | I12: К | J12: Кайдалин В.С. | K12: ВС МБУ СШОР № 5 (г. Волгоград), Филиал ФАУ МО РФ "ЦСКА" (СКА г. Волгоград)
A13: 114 | C13: Маляренко Григорий | D13: 28.12.1998 | E13: Омская область | F13: Барьерный бег 110 м | H13: КМС | I13: К | J13: Линкевич Н.С. | K13: ФГБУ ПОО "Сибирское ГУОР",БУ ОО "ООЦСП", БУ ОО "СШОР"
A14: 61 | C14: Нечаев Александр | D14: 09.02.1999 | E14: Республика Саха (Якутия) | F14: Барьерный бег 110 м | H14: КМС | I14: К | J14: Нечаев П.А. | K14: Минспорт ГБУ РС (Я) РЦСП
A15: 21 | C15: Пронских Евгений | D15: 30.01.1995 | E15: Алтайский край | F15: Барьерный бег 110 м | H15: КМС | I15: К | J15: Клевцов С.А., Панов В.С. | K15: КГБ ПОУ "Алтайское училище олимпийского резерва"
A16: 466 | C16: Рудченко Александр | D16: 08.03.1999 | E16: Московская область | F16: Барьерный бег 110 м | H16: КМС | I16: Л | J16: Арабаджев С.И., Арабаджева С.Б., Ефремов Ю.Н. | K16: ГБПОУ МО "УОР № 1", ГБУ МО "СШОР по легкой атлетике"
A17: 169 | C17: Рыльщиков Денис | D17: 30.07.1998 | E17: Краснодарский край | F17: Барьерный бег 110 м | H17: КМС | I17: Л | J17: Чернов С.А., Горбунова Т.А., Чернова Т.С. | K17: ГБУ КК "ЦОП по легкой атлетике"
A18: 310 | C18: Солодов Сергей | D18: 03.01.1996 | E18: Санкт-Петербург | F18: Барьерный бег 110 м | H18: МС | I18: К | J18: Еременко А.В. | K18: ГБУ "СШОР" Академия легкой атлетики Санкт-Петербурга", СПб ГБПОУ "УОР №1"
A19: 50 | C19: Спиридонов Олег | D19: 16.08.1999 | E19: Калининградская область Санкт-Петербург | F19: Барьерный бег 110 м | H19: МС | I19: К | J19: Антунович Г.П., Шабанов Г.К., Смирягин Е.В. | K19: МБУ "СШОР № 4 по легкой атлетике", ГБПОУ КО УОР, ГБУ "СШОР" "Академия легкой атлетики Санкт-Петербурга"
A20: 182 | C20: Челноков Константин | D20: 01.11.1986 | E20: Краснодарский край Карачаево-Черкесская республика | F20: Барьерный бег 110 м | H20: МС | I20: К | J20: Азизян А.А., Вяльцева В.Г. | K20: ГБУ КК "РЦСП по легкой атлетике", ГБУ КК "ЦОП по легкой атлетике"
A21: 372 | C21: Шабанов Константин | D21: 17.11.1989 | E21: Москва Псковская область | F21: Барьерный бег 110 м | H21: МСМК | I21: Л | J21: Шабанов Г.К., Шабанов К.С. | K21: ГБУ "СШОР "Луч" Москомспорта, ГБУ ДО ПО "ЦСП"
A22: 373 | C22: Шабанов Филипп | D22: 29.01.1991 | E22: Москва Псковская область | F22: Барьерный бег 110 м | H22: МС | I22: Л | J22: Шабанов Г.К., Шабанов К.С. | K22: ГБУ "СШОР "Луч" Москомспорта, ГБУ ДО ПО "ЦСП"
A23: 235 | C23: .Васильев Сослан | D23: 12.09.1996 | E23: Россия | F23: Барьерный бег 110 м | H23: КМС | I23: Л | J23: Цахилов И.Л.
A24: 129 | C24: Бакай Алексей | D24: 21.01.1999 | E24: Краснодарский край | F24: Барьерный бег 400 м | H24: КМС | I24: Л | J24: Гладкова О.С. | K24: ГБУ КК "РЦСП по легкой атлетике"
A25: 271 | C25: Гапонов Дмитрий | D25: 26.05.1997 | E25: Санкт-Петербург Калужская область | F25: Барьерный бег 400 м | H25: МС | I25: Л | J25: Назаров В.И., Петров С.Г., Алиев Г.Г. | K25: СПб ЦОП "ШВСМ по легкой атлетике"
A26: 86 | C26: Гребеньщиков Константин | D26: 02.01.1990 | E26: Тюменская область | F26: Барьерный бег 400 м | H26: КМС | I26: К | J26: Сивченко А.В., Скаморовский О.А., Краус А.А. | K26: ГАУ ТО "ЦСП"
A27: 90 | C27: Кудрявцев Денис | D27: 13.04.1992 | E27: Тюменская область | F27: Барьерный бег 400 м | H27: ЗМС | I27: К | J27: Сивченко А.В., Краус А.А., Ширяев В.А. | K27: ГАУ ТО "ЦСП"
A28: 91 | C28: Кукалев Вадим | D28: 22.08.1998 | E28: Тюменская область | F28: Барьерный бег 400 м | H28: КМС | I28: К | J28: Сивченко А.В., Краус А.А., Ледовская О.А. | K28: ГАУ ТО "ЦСП"
A29: 185 | C29: Ламков Арсен | D29: 05.05.1999 | E29: Ставропольский край Карачаево-Черкесская республика | F29: Барьерный бег 400 м | H29: КМС | I29: К | J29: Титаренко И.Г., Кувалдина Т.В. | K29: ГБУ СК "СШОР по легкой атлетике"
A30: 211 | C30: Логинов Иван | D30: 19.06.1997 | E30: Москва Владимирская область | F30: Барьерный бег 400 м | H30: МС | I30: К | J30: Бурлаков О.П. | K30: ГБУ "ЦОП по легкой атлетике" Москомспорта
A31: 461 | C31: Лысенко Владимир | D31: 10.06.1998 | E31: Московская область | F31: Барьерный бег 400 м | H31: МС | I31: К | J31: Мащенко Р.М. | K31: ЦСКА ГБУ МО "ЦСП ОВС", ГБПОУ МО "УОР № 2"
A32: 397 | C32: Роженко Виктор | D32: 01.08.1993 | E32: Воронежская область | F32: Барьерный бег 400 м | H32: КМС | I32: К | J32: Омельченко Д.А. | K32: ГБУ ВО "СШОР № 21"
A33: 363 | C33: Рубцов Артем | D33: 30.05.1998 | E33: Москва Оренбургская область | F33: Барьерный бег 400 м | H33: КМС | I33: Л | J33: Голубенко Ю.И., Томилов И.Н. | K33: РА ГБУ "МГФСО" Москомспорта, ГАУ "ЦСП ОО"
A34: 312 | C34: Таратынов Марк | D34: 31.05.1994 | E34: Санкт-Петербург | F34: Барьерный бег 400 м | H34: МС | I34: Л | J34: Назаров В.И., Петров С.Г. | K34: СПб ГБУ ЦОП "ШВСМ по легкой атлетике"
A35: 179 | C35: Тыщенко Алан | D35: 16.03.1989 | E35: Краснодарский край | F35: Барьерный бег 400 м | H35: КМС | I35: Л | J35: Азизьян А.А., Седов С.П. | K35: КФСКИ
A36: 198 | C36: Федотов Артём | D36: 12.11.1991 | E36: Ульяновская область | F36: Барьерный бег 400 м | H36: МС | I36: К | J36: Краснобаев А.А., Мартьянов В.И. | K36: ОГБУ "ССШОР по легкой атлетике"
C37: Чалый Тимофей | D37: 07.04.1994 | E37: Красноярский край Московская область | F37: Барьерный бег 400 м | H37: МСМК | I37: К | J37: Носов С.В., Вашкевич И.Е., Чалая Е.М. | K37: ВС, ВС КГАУ "РЦСП "Академия летних видов спорта", МАУ "СШОР "Спутник", ГБУ МО "ЦСП ОВС"
A38: 430 | C38: Чубровский Роман | D38: 21.12.1994 | E38: Новосибирская область | F38: Барьерный бег 400 м | H38: МС | I38: К | J38: Котовский В.Ю. | K38: МАУ "НЦВСМ" , ГАПОУ НСО НУ(К)ОР
A39: 270 | C39: Водичев Александр | D39: 14.11.1999 | E39: Калининградская область Санкт-Петербург | F39: Бег 100 м | H39: КМС | I39: Л | J39: Лукьянов А.А., Глушак П.Б., Глушак Н.М. | K39: МАУ ДО "Гусевская ДЮСШ", ГБУ "СШОР" Академия легкой атлетики Санкт-Петербурга"
A40: 7 | C40: Галочкин Никита | D40: 28.04.1998 | E40: Волгоградская область | F40: Бег 100 м | H40: КМС | I40: К | J40: Догонкин В.А., Солоушкина Н.И., Догонкин В.В. | K40: ГАПОУ ВО "УОР имени дважды Героя Советского Союза А.И.Родимцева", МБУ СШОР № 5 (г. Волгоград)
A41: 31 | C41: Гуров Андрей | D41: 20.09.1998 | E41: Брянская область | F41: Бег 100 м | H41: КМС | I41: К | J41: Гуров В.В. | K41: ВС ГБУ БО СШОР по легкой атлетике им. В.Д. Самотесова.
C42: Доронин Владислав | D42: 26.06.2000 | E42: Воронежская область | F42: Бег 100 м | H42: МС | I42: К | J42: Козловцев Г.С. | K42: ГБУ ВО "СШОР № 21"
A43: 32 | C43: Ефимов Александр | D43: 28.02.1999 | E43: Брянская область | F43: Бег 100 м | H43: КМС | I43: К | J43: Дмитриев В.М., Маринов В.Н. | K43: ГБУ БО СШОР по легкой атлетике им. В.Д. Самотесова.
A44: 404 | C44: Ефимов Александр | D44: 30.07.1994 | E44: Тульская область | F44: Бег 100 м | H44: МС | I44: К | J44: Трубин Ю.Н., Карташов В.А. | K44: ВС ГУ ТО ЦСП, МБУ СШОР "Легкая атлетика" г. Тула
A45: 60 | C45: Жарин Михаил | D45: 25.10.1986 | E45: Республика Саха (Якутия) | F45: Бег 100 м | H45: КМС | I45: К | J45: Колесов Д.В. | K45: ГБУ РС (Я) РЦСП
A46: 432 | C46: Захарченко Никита | D46: 19.08.1994 | E46: ЮФО (К) | F46: Бег 100 м | H46: МС | I46: К | J46: Дубовик А.И. | K46: ГБУ РК "СШОР по легкой атлетике № 1"
A47: 147 | C47: Кислых Руслан | D47: 11.07.2000 | E47: Краснодарский край Белгородская область | F47: Бег 100 м | H47: МС | I47: Л | J47: Шульга М.В. | K47: ГБУ КК "РЦСП", МБУ СШ №1 г. Шебекино, ОГБУ "ЦСП" Белгородской области
A48: 441 | C48: Кононенко Павел | D48: 02.02.1997 | E48: Вологодская область | F48: Бег 100 м | H48: КМС | I48: К | J48: Столбова О.В., Смелов Н.А. | K48: Профсоюзы АУ ФКиС ВО "ЦСП"
A49: 70 | C49: Лаптев Алексей | D49: 13.05.1998 | E49: Свердловская область | F49: Бег 100 м | H49: КМС | I49: К | J49: Ясников В.И. | K49: ГАУ СО "ЦСП", ЧУ СК"Луч"
A50: 153 | C50: Лопин Дмитрий | D50: 29.07.1991 | E50: Краснодарский край Самарская область | F50: Бег 100 м | H50: МС | I50: К | J50: Пасечный И.К., Дмитриев В.М., Дмитриева Т.П. | K50: ГБУ КК "РЦСП по легкой атлетике", ГБУ КК "ЦОП по легкой атлетике"
A51: 483 | C51: Лукин Андрей | D51: 28.02.1998 | E51: Республика Карелия | F51: Бег 100 м | H51: МС | I51: К | J51: Сигарева А.Ю., Смирнов А.Б. | K51: МУ "СШОР№3"
A52: 37 | C52: Огарков Денис | D52: 03.12.1993 | E52: Липецкая область Брянская область | F52: Бег 100 м | H52: МСМК | I52: К | J52: Филатова Л.А., Рощупкина Н.В., Трубин Ю.Н. | K52: Динамо ГБУ ЛО ЦСП, ГБУ БО СШОР по легкой атлетике им. В.Д. Самотесова.
A53: 293 | C53: Паршенков Артем | D53: 01.08.2000 | E53: Санкт-Петербург Калужская область | F53: Бег 100 м | H53: КМС | I53: Л | J53: Петров С.Г., Назаров В.И. | K53: СПб ГБУ ЦОП "ШВСМ по легкой атлетике"
C54: Перестюк Руслан | D54: 22.04.1991 | E54: Краснодарский край ЮФО (К) | F54: Бег 100 м | H54: МС | I54: К | J54: Мухин О.А., Турский А.А., Мирзоев О.М., Смирнов В.Ф. | K54: ГБУ КК "РЦСП по легкой атлетике", ГБУ КК "ЦОП по легкой атлетике", МБУ "СШОР по легкой атлетике № 2 г. Симферополь"
C55: Петряшов Константин | D55: 16.12.1983 | E55: Вологодская область Санкт-Петербург | F55: Бег 100 м | H55: МСМК | I55: К | J55: Жубряков Г.Н., Синицкий А.Д. | K55: Динамо СПб ГБУ ЦОП "ШВСМ по легкой атлетике", АУ ФКиС ВО "ЦСП"
A56: 95 | C56: Протасов Александр | D56: 30.08.1997 | E56: Тюменская область | F56: Бег 100 м | H56: КМС | I56: К | J56: Аксенов Е.Н. | K56: ГАУ ТО "ОСШОР", СК ТюмГУ
A57: 405 | C57: Рожнов Артём | D57: 03.03.1998 | E57: Тульская область | F57: Бег 100 м | H57: КМС | I57: К | J57: Веселова С.Ю., Ковтун Н.Н. | K57: ГУ ТО ЦСП, МБУ СШОР "Легкая атлетика" г. Тула
A58: 94 | C58: Созонов Роман | D58: 02.11.1994 | E58: Тюменская область | F58: Бег 100 м | H58: МС | I58: К | J58: Краус А.А., Сивченко А.В., Сергеев О.В., Остяков В.Ю. | K58: ГАУ ТО "ЦСП"
A59: 180 | C59: Хомутов Дмитрий | D59: 04.01.1992 | E59: Краснодарский край | F59: Бег 100 м | H59: МС | I59: Л | J59: Чернов С.А., Чернова Т.С. | K59: ГБУ КК "ЦОП по легкой атлетике", ГБУ КК"РЦСП по легкой атлетике"
A60: 111 | C60: Чабан Никита | D60: 30.04.1997 | E60: Красноярский край | F60: Бег 100 м | H60: МС | I60: К | J60: Артемьев П.П. | K60: КГАУ "РЦСП "Академия летних видов спорта", МАУ "СШОР "Спутник"
A61: 321 | C61: Чернухин Кирилл | D61: 15.08.1994 | E61: Москва Санкт-Петербург | F61: Бег 100 м | H61: МС | I61: К | J61: Климов А.Г., Степанов А.Н. | K61: Филиал ФАУ МО РФ ЦСКА (СКА в СПб) ГБУ "ЦСП по легкой атлетике", ШВСМ, ГБУ "ЦОП по легкой атлетике" Москомспорта, ЦОП "ШВСМ л/атл." (СПб), СПб ГБУ ЦОП "ШВСМ по легкой атлетике"
A62: 323 | C62: Шаров Иван | D62: 17.05.1993 | E62: Санкт-Петербург | F62: Бег 100 м | H62: МС | I62: Л | J62: Линдер В.И. | K62: СПб ГБУ СШОР "Академия легкой атлетики Санкт-Петербурга"
A63: 325 | C63: Шкуропатов Дмитрий | D63: 30.03.1993 | E63: Санкт-Петербург Вологодская область | F63: Бег 100 м | H63: МС | I63: Л | J63: Климов А.Г., Смелов Н.А., Степанов А.Н. | K63: РА СПб ГБУ ЦОП "ШВСМ по легкой атлетике" , АУ ФКиС ВО "ЦСП"
A64: 199 | C64: Юфимов Алексей | D64: 05.06.1998 | E64: Ульяновская область | F64: Бег 100 м | H64: МС | I64: К | J64: Фомин А.С., Фомина А.В. | K64: ОГБУ "ССШОР по легкой атлетике"
C65: Александров Максим | D65: 27.03.1994 | E65: Санкт-Петербург Новосибирская область | F65: Бег 1500 м | H65: МС | I65: К | J65: Глушак П.Б., Седов С.В. | K65: Динамо ГБУ СШОР "Академия легкой атлетики Санкт-Петербурга", ГАУ НСО "РЦСП СК и СР"
A66: 389 | C66: Анисимов Алексей | D66: 05.06.1994 | E66: Воронежская область | F66: Бег 1500 м | H66: КМС | I66: К | J66: Провоторов И.В., Мащенко Р.М. | K66: МБУ "СШОР № 5"
A67: 85 | C67: Баганов Данил | D67: 10.05.1992 | E67: Тюменская область | F67: Бег 1500 м | H67: КМС | I67: К | J67: Скаморовский О.А., Скурихин И.В. | K67: ГАУ ТО "ЦСП"
A68: 201 | C68: Гадельшин Вильдан | D68: 12.04.1995 | E68: Республика Башкортостан | F68: Бег 1500 м | H68: КМС | I68: К | J68: Арефьев В.С., Ахтямов И.Б., Сенченко Т.В. | K68: МБУ СШОР № 21
A69: 217 | C69: Горин Николай | D69: 03.01.1995 | E69: Москва Республика Мордовия | F69: Бег 1500 м | H69: МС | I69: К | J69: Телятников М.М., Арапов С.М. | K69: ГБУ "ЦОП по легкой атлетике" Москомспорта, ГБУ РМ "СШОР им.П.Г.Болотникова"
A70: 446 | C70: Дубровский Сергей | D70: 20.01.1995 | E70: Московская область Белгородская область | F70: Бег 1500 м | H70: МС | I70: К | J70: Бычков В.А., Бычкова О.И., Рогов В.В. | K70: ГБУ МО "ЦСП ОВС", ОГБУ "ЦСП" Белгородской области , МБУ СШОР № 3 г. Белгорода
A71: 250 | C71: Ефремов Данила | D71: 19.06.1990 | E71: Ямало-Ненецкий автономный округ | F71: Бег 1500 м | H71: МС | I71: К | J71: Хангельдиев Г.А., Блажко Д.П., Колпаков В.Л. | K71: МАУ ДО Пуровская районная СДЮСШОР "АВАНГАРД"
C72: Калганов Никита | D72: 07.06.1999 | E72: Москва Орловская область | F72: Бег 1500 м | H72: КМС | I72: Л | J72: Куканов Ю.С., Букаев А.В. | K72: ГБПОУ "МССУОР № 3" Москомспорта, МБУ ДО "ДЮСШ № 4 города Орла"
C73: Козлов Антон | D73: 09.03.1994 | E73: Ямало-Ненецкий автономный округ Владимирская область | F73: Бег 1500 м | H73: МС | I73: К | J73: Плотников П.Н., Хангельдиев Г.А., Плотников А.Н. | K73: МАУ ДО Пуровская районная СДЮСШОР "АВАНГАРД", МБУ "СШОР № 4"
A74: 284 | C74: Корепин Григорий | D74: 27.01.2000 | E74: Санкт-Петербург | F74: Бег 1500 м | H74: КМС | I74: Л | J74: Пономарев В.В. | K74: СПб ГБУ ЦОП "ШВСМ по легкой атлетике"
A75: 354 | C75: Кунц Евгений | D75: 21.04.1993 | E75: Москва Алтайский край | F75: Бег 1500 м | H75: МСМК | I75: Л | J75: Осипов С.А., Мануйлов С.И. | K75: ГБУ "ЦОП по легкой атлетике" Москомспорта
A76: 435 | C76: Назаренко Михаил | D76: 23.11.1995 | E76: ЮФО (К) | F76: Бег 1500 м | H76: 1 | I76: К | J76: Дубовик А.И., Селицкая С.С. | K76: ГБУ РК "СШОР по легкой атлетике № 1"
A77: 26 | C77: Никитин Владимир | D77: 05.08.1992 | E77: Москва Пермский край | F77: Бег 1500 м | H77: МСМК | I77: К | J77: Маркин М.О. | K77: Д ГБУ "СШОР "Луч" Москомспорта, КГАУ "СШОР "Старт"
A78: 72 | C78: Овчинников Вaдим | D78: 04.01.1996 | E78: Свердловская область | F78: Бег 1500 м | H78: КМС | I78: К | J78: Семкин А.В., Хрущелева Н.П. | K78: ГАУ СО "ЦСП", СК "Спутник", УГЛТУ
A79: 294 | C79: Петров Тимофей | D79: 25.08.1988 | E79: Санкт-Петербург | F79: Бег 1500 м | H79: МС | I79: Л | J79: Тантлевский Е.В. | K79: Динамо СПб ГБУ ЦОП "ШВСМ по легкой атлетике"
A80: 396 | C80: Попов Алексей | D80: 17.06.1987 | E80: Воронежская область | F80: Бег 1500 м | H80: МСМК | I80: К | J80: Владимиров И.А., Устяхин Ф.Б. | K80: ГБУ ВО "СШОР № 21", АУ ВО "ЦСПСК"
A81: 1 | C81: Попов Артем | D81: 05.07.2001 | E81: Республика Хакасия | F81: Бег 1500 м | H81: КМС | I81: К | J81: Давалов В.Н., Кирамов С.Х. | K81: МБУ "СШОР по легкой атлетике" (г. Абакан), ГБПОУ РХ "У(т)ОР"
A82: 379 | C82: Попов Владимир | D82: 19.03.1992 | E82: Чувашская республика Оренбургская область | F82: Бег 1500 м | H82: МС | I82: К | J82: Манойлин В.И. | K82: АУ "СШОР №3" Минспорта Чувшии, АУ "ЦСП имени А. Игнатьева" МИинспорта Чувашии
A83: 168 | C83: Рахманов Руслан | D83: 24.04.1997 | E83: Краснодарский край | F83: Бег 1500 м | H83: КМС | I83: Л | J83: Гуков А.О., Милащенко А.В. | K83: ГБУ КК "РЦСП по легкой атлетике", ГБУ КК "ЦОП по легкой атлетике"
C84: Рязанцев Александр | D84: 01.12.1993 | E84: Воронежская область | F84: Бег 1500 м | H84: КМС | I84: К | J84: Аплачкин А.И., Осипов С.А. | K84: ГБУ ВО "СШОР № 21"
A85: 306 | C85: Семёнов Владислав | D85: 07.06.1999 | E85: Санкт-Петербург | F85: Бег 1500 м | H85: КМС | I85: Л | J85: Жолнерович В.И., Семёнов В.Н. | K85: ГБУ "СШОР" "Академия легкой атлетики Санкт-Петербурга"
A86: 247 | C86: Сидоров Олег | D86: 07.06.1990 | E86: Республика Татарстан | F86: Бег 1500 м | H86: МС | I86: К | J86: Сафонов В.Г., Мирошин Г.М. | K86: МС РТ МБУ "СШОР "Атлетика"" г. Казани
A87: 319 | C87: Хворостухин Павел | D87: 18.06.1986 | E87: Москва Санкт-Петербург | F87: Бег 1500 м | H87: МС | I87: Л | J87: Телятников М.М., Глушак П.Б. | K87: Динамо ГБУ "ЦСП по легкой атлетике" Москомспорта, ГБУ СШОР "Академия легкой атлетики Санкт-Петербурга"
A88: 52 | C88: Абдулин Ильяс | D88: 23.07.1996 | E88: Челябинская область | F88: Бег 200 м | H88: КМС | I88: К | J88: Сивашов Н.Н. | K88: МБУ СШОР №1 по л/а г.Челябинска
A89: 222 | C89: Афанасьев Артем | D89: 29.01.1998 | E89: Нижегородская область Чувашская республика | F89: Бег 200 м | H89: МС | I89: К | J89: Смирнов С.В., Телегин М.З. | K89: МБУ КСШОР №1 , ГАУ НО "ЦСП", БУ "СШОР № 1 им. В.Егоровой" Минспорта Чувашии, БПОУ "Чебоксарское УОР имени В.М. Краснова" Минспорта Чувашии
A90: 263 | C90: Балуев Глеб | D90: 19.05.1991 | E90: Санкт-Петербург | F90: Бег 200 м | H90: МС | I90: Л | J90: Черепанов А.Н., Степанов А.Н. | K90: РА СПб ГБУ ЦОП "ШВСМ по легкой атлетике"
A91: 270 | C91: Водичев Александр | D91: 14.11.1999 | E91: Калининградская область Санкт-Петербург | F91: Бег 200 м | H91: КМС | I91: Л | J91: Лукьянов А.А., Глушак П.Б., Глушак Н.М. | K91: МАУ ДО "Гусевская ДЮСШ", ГБУ "СШОР" Академия легкой атлетики Санкт-Петербурга"
A92: 193 | C92: Галацков Андрей | D92: 13.02.1992 | E92: Ульяновская область | F92: Бег 200 м | H92: МС | I92: К | J92: Краснобаев А.А., Антонова С.Н. | K92: ОГБУ "ССШОР по легкой атлетике"
A93: 402 | C93: Гончаров Артём | D93: 01.08.1999 | E93: Тульская область | F93: Бег 200 м | H93: КМС | I93: К | J93: Ковтун Н.Н., Нестерова Е.Ю. | K93: ГУ ТО ЦСП, МБУ СШОР "Легкая атлетика" г. Тула
A94: 31 | C94: Гуров Андрей | D94: 20.09.1998 | E94: Брянская область | F94: Бег 200 м | H94: КМС | I94: К | J94: Гуров В.В. | K94: ВС ГБУ БО СШОР по легкой атлетике им. В.Д. Самотесова.
C95: Доронин Владислав | D95: 26.06.2000 | E95: Воронежская область | F95: Бег 200 м | H95: МС | I95: К | J95: Козловцев Г.С. | K95: ГБУ ВО "СШОР № 21"
A96: 432 | C96: Захарченко Никита | D96: 19.08.1994 | E96: ЮФО (К) | F96: Бег 200 м | H96: МС | I96: К | J96: Дубовик А.И. | K96: ГБУ РК "СШОР по легкой атлетике № 1"
A97: 51 | C97: Ивашко Павел | D97: 01.06.1994 | E97: Ханты-Мансийский автономный округ - Югра Пермский край | F97: Бег 200 м | H97: МСМК | I97: К | J97: Власов В.В., Верещагина З.Г. | K97: ВС БУ "ЦСПСКЮ", КГАУ "СШОР по базовым и олимпийским вида спорта"
A98: 478 | C98: Киреев Кирилл | D98: 28.08.1997 | E98: Ростовская область | F98: Бег 200 м | H98: КМС | I98: К | J98: Солянкин И.П., Давиденко А.П., Коваленко А.В. | K98: МБУ ДО «ДЮСШ № 1» ( г. Ростов-на-Дону), ГБПОУ РО "РОУОР"
A99: 147 | C99: Кислых Руслан | D99: 11.07.2000 | E99: Краснодарский край Белгородская область | F99: Бег 200 м | H99: МС | I99: Л | J99: Шульга М.В. | K99: ГБУ КК "РЦСП", МБУ СШ №1 г. Шебекино, ОГБУ "ЦСП" Белгородской области
A100: 280 | C100: Климов Иван | D100: 07.07.1997 | E100: Санкт-Петербург | F100: Бег 200 м | H100: КМС | I100: Л | J100: Седых Л.А., Жубряков Г.Н. | K100: СПб ГБУ СШОР "Академия легкой атлетики Санкт-Петербурга"
...

Sheet 10-М
A1: =Name_2 -> ВСЕРОССИЙСКАЯ ФЕДЕРАЦИЯ ЛЕГКОЙ АТЛЕТИКИ
A2: СТАРТОВЫЙ ПРОТОКОЛ
A3: КУБОК РОССИИ
A4: МУЖЧИНЫ
A5: Бег 100 м
J6: РР-10.10
B7: ЗАБЕГИ | C7: 17:20 | D7: =d_1 -> 28.05.2019г. | E7: окончание соревнований: | J7: =d_5 -> г. Сочи, ул. Бзугу 2, ст. им. Славы Метревели
A8: № п/п | B8: Фамилия, имя участника | C8: Дата рождения | D8: Территория | E8: Заявленный разряд | F8: Номер участника | G8: Приход | H8: Результат | I8: Место | J8: Примеч.
B9: 1 ЗАБЕГ
A10: 1
A11: 2 | B11: =VLOOKUP($F11,УЧАСТНИКИ!$A$2:$L$1106,3,FALSE) -> Рожнов Артём | C11: =VLOOKUP($F11,УЧАСТНИКИ!$A$2:$L$1106,4,FALSE) -> 03.03.1998 | D11: =VLOOKUP($F11,УЧАСТНИКИ!$A$2:$L$1106,5,FALSE) -> Тульская область | E11: =VLOOKUP($F11,УЧАСТНИКИ!$A$2:$L$1106,8,FALSE) -> КМС | F11: 405 | J11: =VLOOKUP($F11,УЧАСТНИКИ!$A$2:$L$1106,9,FALSE) -> К
A12: 3 | B12: =VLOOKUP($F12,УЧАСТНИКИ!$A$2:$L$1106,3,FALSE) -> Водичев Александр | C12: =VLOOKUP($F12,УЧАСТНИКИ!$A$2:$L$1106,4,FALSE) -> 14.11.1999 | D12: =VLOOKUP($F12,УЧАСТНИКИ!$A$2:$L$1106,5,FALSE) -> Калининградская область Санкт-Петербург | E12: =VLOOKUP($F12,УЧАСТНИКИ!$A$2:$L$1106,8,FALSE) -> КМС | F12: 270 | J12: =VLOOKUP($F12,УЧАСТНИКИ!$A$2:$L$1106,9,FALSE) -> Л
A13: 4 | B13: =VLOOKUP($F13,УЧАСТНИКИ!$A$2:$L$1106,3,FALSE) -> Кислых Руслан | C13: =VLOOKUP($F13,УЧАСТНИКИ!$A$2:$L$1106,4,FALSE) -> 11.07.2000 | D13: =VLOOKUP($F13,УЧАСТНИКИ!$A$2:$L$1106,5,FALSE) -> Краснодарский край Белгородская область | E13: =VLOOKUP($F13,УЧАСТНИКИ!$A$2:$L$1106,8,FALSE) -> МС | F13: 147 | J13: =VLOOKUP($F13,УЧАСТНИКИ!$A$2:$L$1106,9,FALSE) -> Л
A14: 5 | B14: =VLOOKUP($F14,УЧАСТНИКИ!$A$2:$L$1106,3,FALSE) -> Чернухин Кирилл | C14: =VLOOKUP($F14,УЧАСТНИКИ!$A$2:$L$1106,4,FALSE) -> 15.08.1994 | D14: =VLOOKUP($F14,УЧАСТНИКИ!$A$2:$L$1106,5,FALSE) -> Москва Санкт-Петербург | E14: =VLOOKUP($F14,УЧАСТНИКИ!$A$2:$L$1106,8,FALSE) -> МС | F14: 321 | J14: =VLOOKUP($F14,УЧАСТНИКИ!$A$2:$L$1106,9,FALSE) -> К
A15: 6 | B15: =VLOOKUP($F15,УЧАСТНИКИ!$A$2:$L$1106,3,FALSE) -> Ефимов Александр | C15: =VLOOKUP($F15,УЧАСТНИКИ!$A$2:$L$1106,4,FALSE) -> 28.02.1999 | D15: =VLOOKUP($F15,УЧАСТНИКИ!$A$2:$L$1106,5,FALSE) -> Брянская область | E15: =VLOOKUP($F15,УЧАСТНИКИ!$A$2:$L$1106,8,FALSE) -> КМС | F15: 32 | J15: =VLOOKUP($F15,УЧАСТНИКИ!$A$2:$L$1106,9,FALSE) -> К
A16: 7 | B16: =VLOOKUP($F16,УЧАСТНИКИ!$A$2:$L$1106,3,FALSE) -> Кононенко Павел | C16: =VLOOKUP($F16,УЧАСТНИКИ!$A$2:$L$1106,4,FALSE) -> 02.02.1997 | D16: =VLOOKUP($F16,УЧАСТНИКИ!$A$2:$L$1106,5,FALSE) -> Вологодская область | E16: =VLOOKUP($F16,УЧАСТНИКИ!$A$2:$L$1106,8,FALSE) -> КМС | F16: 441 | J16: =VLOOKUP($F16,УЧАСТНИКИ!$A$2:$L$1106,9,FALSE) -> К
A17: 8
B18: 2 ЗАБЕГ
A19: 1
A20: 2 | B20: =VLOOKUP($F20,УЧАСТНИКИ!$A$2:$L$1106,3,FALSE) -> Шаров Иван | C20: =VLOOKUP($F20,УЧАСТНИКИ!$A$2:$L$1106,4,FALSE) -> 17.05.1993 | D20: =VLOOKUP($F20,УЧАСТНИКИ!$A$2:$L$1106,5,FALSE) -> Санкт-Петербург | E20: =VLOOKUP($F20,УЧАСТНИКИ!$A$2:$L$1106,8,FALSE) -> МС | F20: 323 | J20: =VLOOKUP($F20,УЧАСТНИКИ!$A$2:$L$1106,9,FALSE) -> Л
A21: 3 | B21: =VLOOKUP($F21,УЧАСТНИКИ!$A$2:$L$1106,3,FALSE) -> Галочкин Никита | C21: =VLOOKUP($F21,УЧАСТНИКИ!$A$2:$L$1106,4,FALSE) -> 28.04.1998 | D21: =VLOOKUP($F21,УЧАСТНИКИ!$A$2:$L$1106,5,FALSE) -> Волгоградская область | E21: =VLOOKUP($F21,УЧАСТНИКИ!$A$2:$L$1106,8,FALSE) -> КМС | F21: 7 | J21: =VLOOKUP($F21,УЧАСТНИКИ!$A$2:$L$1106,9,FALSE) -> К
A22: 4 | B22: =VLOOKUP($F22,УЧАСТНИКИ!$A$2:$L$1106,3,FALSE) -> Ефимов Александр | C22: =VLOOKUP($F22,УЧАСТНИКИ!$A$2:$L$1106,4,FALSE) -> 30.07.1994 | D22: =VLOOKUP($F22,УЧАСТНИКИ!$A$2:$L$1106,5,FALSE) -> Тульская область | E22: =VLOOKUP($F22,УЧАСТНИКИ!$A$2:$L$1106,8,FALSE) -> МС | F22: 404 | J22: =VLOOKUP($F22,УЧАСТНИКИ!$A$2:$L$1106,9,FALSE) -> К
A23: 5 | B23: =VLOOKUP($F23,УЧАСТНИКИ!$A$2:$L$1106,3,FALSE) -> Созонов Роман | C23: =VLOOKUP($F23,УЧАСТНИКИ!$A$2:$L$1106,4,FALSE) -> 02.11.1994 | D23: =VLOOKUP($F23,УЧАСТНИКИ!$A$2:$L$1106,5,FALSE) -> Тюменская область | E23: =VLOOKUP($F23,УЧАСТНИКИ!$A$2:$L$1106,8,FALSE) -> МС | F23: 94 | J23: =VLOOKUP($F23,УЧАСТНИКИ!$A$2:$L$1106,9,FALSE) -> К
A24: 6 | B24: =VLOOKUP($F24,УЧАСТНИКИ!$A$2:$L$1106,3,FALSE) -> Захарченко Никита | C24: =VLOOKUP($F24,УЧАСТНИКИ!$A$2:$L$1106,4,FALSE) -> 19.08.1994 | D24: =VLOOKUP($F24,УЧАСТНИКИ!$A$2:$L$1106,5,FALSE) -> ЮФО (К) | E24: =VLOOKUP($F24,УЧАСТНИКИ!$A$2:$L$1106,8,FALSE) -> МС | F24: 432 | J24: =VLOOKUP($F24,УЧАСТНИКИ!$A$2:$L$1106,9,FALSE) -> К
A25: 7 | B25: =VLOOKUP($F25,УЧАСТНИКИ!$A$2:$L$1106,3,FALSE) -> Лукин Андрей | C25: =VLOOKUP($F25,УЧАСТНИКИ!$A$2:$L$1106,4,FALSE) -> 28.02.1998 | D25: =VLOOKUP($F25,УЧАСТНИКИ!$A$2:$L$1106,5,FALSE) -> Республика Карелия | E25: =VLOOKUP($F25,УЧАСТНИКИ!$A$2:$L$1106,8,FALSE) -> МС | F25: 483 | J25: =VLOOKUP($F25,УЧАСТНИКИ!$A$2:$L$1106,9,FALSE) -> К
A26: 8
B27: 3 ЗАБЕГ
A28: 1
A29: 2 | B29: =VLOOKUP($F29,УЧАСТНИКИ!$A$2:$L$1106,3,FALSE) -> Паршенков Артем | C29: =VLOOKUP($F29,УЧАСТНИКИ!$A$2:$L$1106,4,FALSE) -> 01.08.2000 | D29: =VLOOKUP($F29,УЧАСТНИКИ!$A$2:$L$1106,5,FALSE) -> Санкт-Петербург Калужская область | E29: =VLOOKUP($F29,УЧАСТНИКИ!$A$2:$L$1106,8,FALSE) -> КМС | F29: 293 | J29: =VLOOKUP($F29,УЧАСТНИКИ!$A$2:$L$1106,9,FALSE) -> Л
A30: 3 | B30: =VLOOKUP($F30,УЧАСТНИКИ!$A$2:$L$1106,3,FALSE) -> Жарин Михаил | C30: =VLOOKUP($F30,УЧАСТНИКИ!$A$2:$L$1106,4,FALSE) -> 25.10.1986 | D30: =VLOOKUP($F30,УЧАСТНИКИ!$A$2:$L$1106,5,FALSE) -> Республика Саха (Якутия) | E30: =VLOOKUP($F30,УЧАСТНИКИ!$A$2:$L$1106,8,FALSE) -> КМС | F30: 60 | J30: =VLOOKUP($F30,УЧАСТНИКИ!$A$2:$L$1106,9,FALSE) -> К
A31: 4 | B31: =VLOOKUP($F31,УЧАСТНИКИ!$A$2:$L$1106,3,FALSE) -> Лопин Дмитрий | C31: =VLOOKUP($F31,УЧАСТНИКИ!$A$2:$L$1106,4,FALSE) -> 29.07.1991 | D31: =VLOOKUP($F31,УЧАСТНИКИ!$A$2:$L$1106,5,FALSE) -> Краснодарский край Самарская область | E31: =VLOOKUP($F31,УЧАСТНИКИ!$A$2:$L$1106,8,FALSE) -> МС | F31: 153 | J31: =VLOOKUP($F31,УЧАСТНИКИ!$A$2:$L$1106,9,FALSE) -> К
A32: 5 | B32: =VLOOKUP($F32,УЧАСТНИКИ!$A$2:$L$1106,3,FALSE) -> Гуров Андрей | C32: =VLOOKUP($F32,УЧАСТНИКИ!$A$2:$L$1106,4,FALSE) -> 20.09.1998 | D32: =VLOOKUP($F32,УЧАСТНИКИ!$A$2:$L$1106,5,FALSE) -> Брянская область | E32: =VLOOKUP($F32,УЧАСТНИКИ!$A$2:$L$1106,8,FALSE) -> КМС | F32: 31 | J32: =VLOOKUP($F32,УЧАСТНИКИ!$A$2:$L$1106,9,FALSE) -> К
A33: 6 | B33: =VLOOKUP($F33,УЧАСТНИКИ!$A$2:$L$1106,3,FALSE) -> Протасов Александр | C33: =VLOOKUP($F33,УЧАСТНИКИ!$A$2:$L$1106,4,FALSE) -> 30.08.1997 | D33: =VLOOKUP($F33,УЧАСТНИКИ!$A$2:$L$1106,5,FALSE) -> Тюменская область | E33: =VLOOKUP($F33,УЧАСТНИКИ!$A$2:$L$1106,8,FALSE) -> КМС | F33: 95 | J33: =VLOOKUP($F33,УЧАСТНИКИ!$A$2:$L$1106,9,FALSE) -> К
A34: 7 | B34: =VLOOKUP($F34,УЧАСТНИКИ!$A$2:$L$1106,3,FALSE) -> Чабан Никита | C34: =VLOOKUP($F34,УЧАСТНИКИ!$A$2:$L$1106,4,FALSE) -> 30.04.1997 | D34: =VLOOKUP($F34,УЧАСТНИКИ!$A$2:$L$1106,5,FALSE) -> Красноярский край | E34: =VLOOKUP($F34,УЧАСТНИКИ!$A$2:$L$1106,8,FALSE) -> МС | F34: 111 | J34: =VLOOKUP($F34,УЧАСТНИКИ!$A$2:$L$1106,9,FALSE) -> К
A35: 8
B36: 4 ЗАБЕГ
A37: 1
A38: 2
A39: 3 | B39: =VLOOKUP($F39,УЧАСТНИКИ!$A$2:$L$1106,3,FALSE) -> Хомутов Дмитрий | C39: =VLOOKUP($F39,УЧАСТНИКИ!$A$2:$L$1106,4,FALSE) -> 04.01.1992 | D39: =VLOOKUP($F39,УЧАСТНИКИ!$A$2:$L$1106,5,FALSE) -> Краснодарский край | E39: =VLOOKUP($F39,УЧАСТНИКИ!$A$2:$L$1106,8,FALSE) -> МС | F39: 180 | J39: =VLOOKUP($F39,УЧАСТНИКИ!$A$2:$L$1106,9,FALSE) -> Л
A40: 4 | B40: =VLOOKUP($F40,УЧАСТНИКИ!$A$2:$L$1106,3,FALSE) -> Огарков Денис | C40: =VLOOKUP($F40,УЧАСТНИКИ!$A$2:$L$1106,4,FALSE) -> 03.12.1993 | D40: =VLOOKUP($F40,УЧАСТНИКИ!$A$2:$L$1106,5,FALSE) -> Липецкая область Брянская область | E40: =VLOOKUP($F40,УЧАСТНИКИ!$A$2:$L$1106,8,FALSE) -> МСМК | F40: 37 | J40: =VLOOKUP($F40,УЧАСТНИКИ!$A$2:$L$1106,9,FALSE) -> К
A41: 5 | B41: =VLOOKUP($F41,УЧАСТНИКИ!$A$2:$L$1106,3,FALSE) -> Лаптев Алексей | C41: =VLOOKUP($F41,УЧАСТНИКИ!$A$2:$L$1106,4,FALSE) -> 13.05.1998 | D41: =VLOOKUP($F41,УЧАСТНИКИ!$A$2:$L$1106,5,FALSE) -> Свердловская область | E41: =VLOOKUP($F41,УЧАСТНИКИ!$A$2:$L$1106,8,FALSE) -> КМС | F41: 70 | J41: =VLOOKUP($F41,УЧАСТНИКИ!$A$2:$L$1106,9,FALSE) -> К
A42: 6 | B42: =VLOOKUP($F42,УЧАСТНИКИ!$A$2:$L$1106,3,FALSE) -> Шкуропатов Дмитрий | C42: =VLOOKUP($F42,УЧАСТНИКИ!$A$2:$L$1106,4,FALSE) -> 30.03.1993 | D42: =VLOOKUP($F42,УЧАСТНИКИ!$A$2:$L$1106,5,FALSE) -> Санкт-Петербург Вологодская область | E42: =VLOOKUP($F42,УЧАСТНИКИ!$A$2:$L$1106,8,FALSE) -> МС | F42: 325 | J42: =VLOOKUP($F42,УЧАСТНИКИ!$A$2:$L$1106,9,FALSE) -> Л
A43: 7 | B43: =VLOOKUP($F43,УЧАСТНИКИ!$A$2:$L$1106,3,FALSE) -> Юфимов Алексей | C43: =VLOOKUP($F43,УЧАСТНИКИ!$A$2:$L$1106,4,FALSE) -> 05.06.1998 | D43: =VLOOKUP($F43,УЧАСТНИКИ!$A$2:$L$1106,5,FALSE) -> Ульяновская область | E43: =VLOOKUP($F43,УЧАСТНИКИ!$A$2:$L$1106,8,FALSE) -> МС | F43: 199 | J43: =VLOOKUP($F43,УЧАСТНИКИ!$A$2:$L$1106,9,FALSE) -> К
A44: 8
B45: 5 ЗАБЕГ
A46: 1 | B46: =VLOOKUP($F46,УЧАСТНИКИ!$A$2:$L$1106,3,FALSE) -> #N/A | C46: =VLOOKUP($F46,УЧАСТНИКИ!$A$2:$L$1106,4,FALSE) -> #N/A | D46: =VLOOKUP($F46,УЧАСТНИКИ!$A$2:$L$1106,5,FALSE) -> #N/A | E46: =VLOOKUP($F46,УЧАСТНИКИ!$A$2:$L$1106,8,FALSE) -> #N/A | J46: =VLOOKUP($F46,УЧАСТНИКИ!$A$2:$L$1106,9,FALSE) -> #N/A
A47: 2 | B47: =VLOOKUP($F47,УЧАСТНИКИ!$A$2:$L$1106,3,FALSE) -> #N/A | C47: =VLOOKUP($F47,УЧАСТНИКИ!$A$2:$L$1106,4,FALSE) -> #N/A | D47: =VLOOKUP($F47,УЧАСТНИКИ!$A$2:$L$1106,5,FALSE) -> #N/A | E47: =VLOOKUP($F47,УЧАСТНИКИ!$A$2:$L$1106,8,FALSE) -> #N/A | J47: =VLOOKUP($F47,УЧАСТНИКИ!$A$2:$L$1106,9,FALSE) -> #N/A
A48: 3 | B48: =VLOOKUP($F48,УЧАСТНИКИ!$A$2:$L$1106,3,FALSE) -> #N/A | C48: =VLOOKUP($F48,УЧАСТНИКИ!$A$2:$L$1106,4,FALSE) -> #N/A | D48: =VLOOKUP($F48,УЧАСТНИКИ!$A$2:$L$1106,5,FALSE) -> #N/A | E48: =VLOOKUP($F48,УЧАСТНИКИ!$A$2:$L$1106,8,FALSE) -> #N/A | J48: =VLOOKUP($F48,УЧАСТНИКИ!$A$2:$L$1106,9,FALSE) -> #N/A
A49: 4 | B49: =VLOOKUP($F49,УЧАСТНИКИ!$A$2:$L$1106,3,FALSE) -> #N/A | C49: =VLOOKUP($F49,УЧАСТНИКИ!$A$2:$L$1106,4,FALSE) -> #N/A | D49: =VLOOKUP($F49,УЧАСТНИКИ!$A$2:$L$1106,5,FALSE) -> #N/A | E49: =VLOOKUP($F49,УЧАСТНИКИ!$A$2:$L$1106,8,FALSE) -> #N/A | J49: =VLOOKUP($F49,УЧАСТНИКИ!$A$2:$L$1106,9,FALSE) -> #N/A
A50: 5 | B50: =VLOOKUP($F50,УЧАСТНИКИ!$A$2:$L$1106,3,FALSE) -> #N/A | C50: =VLOOKUP($F50,УЧАСТНИКИ!$A$2:$L$1106,4,FALSE) -> #N/A | D50: =VLOOKUP($F50,УЧАСТНИКИ!$A$2:$L$1106,5,FALSE) -> #N/A | E50: =VLOOKUP($F50,УЧАСТНИКИ!$A$2:$L$1106,8,FALSE) -> #N/A | J50: =VLOOKUP($F50,УЧАСТНИКИ!$A$2:$L$1106,9,FALSE) -> #N/A
A51: 6 | B51: =VLOOKUP($F51,УЧАСТНИКИ!$A$2:$L$1106,3,FALSE) -> #N/A | C51: =VLOOKUP($F51,УЧАСТНИКИ!$A$2:$L$1106,4,FALSE) -> #N/A | D51: =VLOOKUP($F51,УЧАСТНИКИ!$A$2:$L$1106,5,FALSE) -> #N/A | E51: =VLOOKUP($F51,УЧАСТНИКИ!$A$2:$L$1106,8,FALSE) -> #N/A | J51: =VLOOKUP($F51,УЧАСТНИКИ!$A$2:$L$1106,9,FALSE) -> #N/A
A52: 7 | B52: =VLOOKUP($F52,УЧАСТНИКИ!$A$2:$L$1106,3,FALSE) -> #N/A | C52: =VLOOKUP($F52,УЧАСТНИКИ!$A$2:$L$1106,4,FALSE) -> #N/A | D52: =VLOOKUP($F52,УЧАСТНИКИ!$A$2:$L$1106,5,FALSE) -> #N/A | E52: =VLOOKUP($F52,УЧАСТНИКИ!$A$2:$L$1106,8,FALSE) -> #N/A | J52: =VLOOKUP($F52,УЧАСТНИКИ!$A$2:$L$1106,9,FALSE) -> #N/A
A53: 8 | B53: =VLOOKUP($F53,УЧАСТНИКИ!$A$2:$L$1106,3,FALSE) -> #N/A | C53: =VLOOKUP($F53,УЧАСТНИКИ!$A$2:$L$1106,4,FALSE) -> #N/A | D53: =VLOOKUP($F53,УЧАСТНИКИ!$A$2:$L$1106,5,FALSE) -> #N/A | E53: =VLOOKUP($F53,УЧАСТНИКИ!$A$2:$L$1106,8,FALSE) -> #N/A | J53: =VLOOKUP($F53,УЧАСТНИКИ!$A$2:$L$1106,9,FALSE) -> #N/A
B54: 6 ЗАБЕГ
A55: 1 | B55: =VLOOKUP($F55,УЧАСТНИКИ!$A$2:$L$1106,3,FALSE) -> #N/A | C55: =VLOOKUP($F55,УЧАСТНИКИ!$A$2:$L$1106,4,FALSE) -> #N/A | D55: =VLOOKUP($F55,УЧАСТНИКИ!$A$2:$L$1106,5,FALSE) -> #N/A | E55: =VLOOKUP($F55,УЧАСТНИКИ!$A$2:$L$1106,8,FALSE) -> #N/A | J55: =VLOOKUP($F55,УЧАСТНИКИ!$A$2:$L$1106,9,FALSE) -> #N/A
A56: 2 | B56: =VLOOKUP($F56,УЧАСТНИКИ!$A$2:$L$1106,3,FALSE) -> #N/A | C56: =VLOOKUP($F56,УЧАСТНИКИ!$A$2:$L$1106,4,FALSE) -> #N/A | D56: =VLOOKUP($F56,УЧАСТНИКИ!$A$2:$L$1106,5,FALSE) -> #N/A | E56: =VLOOKUP($F56,УЧАСТНИКИ!$A$2:$L$1106,8,FALSE) -> #N/A | J56: =VLOOKUP($F56,УЧАСТНИКИ!$A$2:$L$1106,9,FALSE) -> #N/A
A57: 3 | B57: =VLOOKUP($F57,УЧАСТНИКИ!$A$2:$L$1106,3,FALSE) -> #N/A | C57: =VLOOKUP($F57,УЧАСТНИКИ!$A$2:$L$1106,4,FALSE) -> #N/A | D57: =VLOOKUP($F57,УЧАСТНИКИ!$A$2:$L$1106,5,FALSE) -> #N/A | E57: =VLOOKUP($F57,УЧАСТНИКИ!$A$2:$L$1106,8,FALSE) -> #N/A | J57: =VLOOKUP($F57,УЧАСТНИКИ!$A$2:$L$1106,9,FALSE) -> #N/A
A58: 4 | B58: =VLOOKUP($F58,УЧАСТНИКИ!$A$2:$L$1106,3,FALSE) -> #N/A | C58: =VLOOKUP($F58,УЧАСТНИКИ!$A$2:$L$1106,4,FALSE) -> #N/A | D58: =VLOOKUP($F58,УЧАСТНИКИ!$A$2:$L$1106,5,FALSE) -> #N/A | E58: =VLOOKUP($F58,УЧАСТНИКИ!$A$2:$L$1106,8,FALSE) -> #N/A | J58: =VLOOKUP($F58,УЧАСТНИКИ!$A$2:$L$1106,9,FALSE) -> #N/A
A59: 5 | B59: =VLOOKUP($F59,УЧАСТНИКИ!$A$2:$L$1106,3,FALSE) -> #N/A | C59: =VLOOKUP($F59,УЧАСТНИКИ!$A$2:$L$1106,4,FALSE) -> #N/A | D59: =VLOOKUP($F59,УЧАСТНИКИ!$A$2:$L$1106,5,FALSE) -> #N/A | E59: =VLOOKUP($F59,УЧАСТНИКИ!$A$2:$L$1106,8,FALSE) -> #N/A | J59: =VLOOKUP($F59,УЧАСТНИКИ!$A$2:$L$1106,9,FALSE) -> #N/A
A60: 6 | B60: =VLOOKUP($F60,УЧАСТНИКИ!$A$2:$L$1106,3,FALSE) -> #N/A | C60: =VLOOKUP($F60,УЧАСТНИКИ!$A$2:$L$1106,4,FALSE) -> #N/A | D60: =VLOOKUP($F60,УЧАСТНИКИ!$A$2:$L$1106,5,FALSE) -> #N/A | E60: =VLOOKUP($F60,УЧАСТНИКИ!$A$2:$L$1106,8,FALSE) -> #N/A | J60: =VLOOKUP($F60,УЧАСТНИКИ!$A$2:$L$1106,9,FALSE) -> #N/A
A61: 7 | B61: =VLOOKUP($F61,УЧАСТНИКИ!$A$2:$L$1106,3,FALSE) -> #N/A | C61: =VLOOKUP($F61,УЧАСТНИКИ!$A$2:$L$1106,4,FALSE) -> #N/A | D61: =VLOOKUP($F61,УЧАСТНИКИ!$A$2:$L$1106,5,FALSE) -> #N/A | E61: =VLOOKUP($F61,УЧАСТНИКИ!$A$2:$L$1106,8,FALSE) -> #N/A | J61: =VLOOKUP($F61,УЧАСТНИКИ!$A$2:$L$1106,9,FALSE) -> #N/A
A62: 8 | B62: =VLOOKUP($F62,УЧАСТНИКИ!$A$2:$L$1106,3,FALSE) -> #N/A | C62: =VLOOKUP($F62,УЧАСТНИКИ!$A$2:$L$1106,4,FALSE) -> #N/A | D62: =VLOOKUP($F62,УЧАСТНИКИ!$A$2:$L$1106,5,FALSE) -> #N/A | E62: =VLOOKUP($F62,УЧАСТНИКИ!$A$2:$L$1106,8,FALSE) -> #N/A | J62: =VLOOKUP($F62,УЧАСТНИКИ!$A$2:$L$1106,9,FALSE) -> #N/A
A63: Рефери по бегу:
A64: Ст.судья:
A65: Ст. судья на фотофинише:
A66: Секретарь:

Sheet 10Ф-М
A1: =Name_2 -> ВСЕРОССИЙСКАЯ ФЕДЕРАЦИЯ ЛЕГКОЙ АТЛЕТИКИ
A2: СТАРТОВЫЙ ПРОТОКОЛ
A3: КУБОК РОССИИ
A4: МУЖЧИНЫ
A5: Бег 100 м
K6: РР-10.10
B7: ФИНАЛЬНЫЙ ЗАБЕГ | C7: 12:55 | D7: =d_1 -> 28.05.2019г. | K7: =d_5 -> г. Сочи, ул. Бзугу 2, ст. им. Славы Метревели
A8: № п/п | B8: Фамилия, имя участника | C8: Дата рождения | D8: Территория | E8: Заявленный разряд | F8: Номер участника | G8: рез-тат забега | H8: приход | I8: Результат | J8: Место | K8: Примеч.
A10: 1 | B10: =VLOOKUP($F10,УЧАСТНИКИ!$A$2:$L$1106,3,FALSE) -> #N/A | C10: =VLOOKUP($F10,УЧАСТНИКИ!$A$2:$L$1106,4,FALSE) -> #N/A | D10: =VLOOKUP($F10,УЧАСТНИКИ!$A$2:$L$1106,5,FALSE) -> #N/A | E10: =VLOOKUP($F10,УЧАСТНИКИ!$A$2:$L$1106,8,FALSE) -> #N/A | K10: =VLOOKUP($F10,УЧАСТНИКИ!$A$2:$L$1106,9,FALSE) -> #N/A
A11: 2 | B11: =VLOOKUP($F11,УЧАСТНИКИ!$A$2:$L$1106,3,FALSE) -> #N/A | C11: =VLOOKUP($F11,УЧАСТНИКИ!$A$2:$L$1106,4,FALSE) -> #N/A | D11: =VLOOKUP($F11,УЧАСТНИКИ!$A$2:$L$1106,5,FALSE) -> #N/A | E11: =VLOOKUP($F11,УЧАСТНИКИ!$A$2:$L$1106,8,FALSE) -> #N/A | K11: =VLOOKUP($F11,УЧАСТНИКИ!$A$2:$L$1106,9,FALSE) -> #N/A
A12: 3 | B12: =VLOOKUP($F12,УЧАСТНИКИ!$A$2:$L$1106,3,FALSE) -> #N/A | C12: =VLOOKUP($F12,УЧАСТНИКИ!$A$2:$L$1106,4,FALSE) -> #N/A | D12: =VLOOKUP($F12,УЧАСТНИКИ!$A$2:$L$1106,5,FALSE) -> #N/A | E12: =VLOOKUP($F12,УЧАСТНИКИ!$A$2:$L$1106,8,FALSE) -> #N/A | K12: =VLOOKUP($F12,УЧАСТНИКИ!$A$2:$L$1106,9,FALSE) -> #N/A
A13: 4 | B13: =VLOOKUP($F13,УЧАСТНИКИ!$A$2:$L$1106,3,FALSE) -> #N/A | C13: =VLOOKUP($F13,УЧАСТНИКИ!$A$2:$L$1106,4,FALSE) -> #N/A | D13: =VLOOKUP($F13,УЧАСТНИКИ!$A$2:$L$1106,5,FALSE) -> #N/A | E13: =VLOOKUP($F13,УЧАСТНИКИ!$A$2:$L$1106,8,FALSE) -> #N/A | K13: =VLOOKUP($F13,УЧАСТНИКИ!$A$2:$L$1106,9,FALSE) -> #N/A
A14: 5 | B14: =VLOOKUP($F14,УЧАСТНИКИ!$A$2:$L$1106,3,FALSE) -> #N/A | C14: =VLOOKUP($F14,УЧАСТНИКИ!$A$2:$L$1106,4,FALSE) -> #N/A | D14: =VLOOKUP($F14,УЧАСТНИКИ!$A$2:$L$1106,5,FALSE) -> #N/A | E14: =VLOOKUP($F14,УЧАСТНИКИ!$A$2:$L$1106,8,FALSE) -> #N/A | K14: =VLOOKUP($F14,УЧАСТНИКИ!$A$2:$L$1106,9,FALSE) -> #N/A
A15: 6 | B15: =VLOOKUP($F15,УЧАСТНИКИ!$A$2:$L$1106,3,FALSE) -> #N/A | C15: =VLOOKUP($F15,УЧАСТНИКИ!$A$2:$L$1106,4,FALSE) -> #N/A | D15: =VLOOKUP($F15,УЧАСТНИКИ!$A$2:$L$1106,5,FALSE) -> #N/A | E15: =VLOOKUP($F15,УЧАСТНИКИ!$A$2:$L$1106,8,FALSE) -> #N/A | K15: =VLOOKUP($F15,УЧАСТНИКИ!$A$2:$L$1106,9,FALSE) -> #N/A
A16: 7 | B16: =VLOOKUP($F16,УЧАСТНИКИ!$A$2:$L$1106,3,FALSE) -> #N/A | C16: =VLOOKUP($F16,УЧАСТНИКИ!$A$2:$L$1106,4,FALSE) -> #N/A | D16: =VLOOKUP($F16,УЧАСТНИКИ!$A$2:$L$1106,5,FALSE) -> #N/A | E16: =VLOOKUP($F16,УЧАСТНИКИ!$A$2:$L$1106,8,FALSE) -> #N/A | K16: =VLOOKUP($F16,УЧАСТНИКИ!$A$2:$L$1106,9,FALSE) -> #N/A
A17: 8 | B17: =VLOOKUP($F17,УЧАСТНИКИ!$A$2:$L$1106,3,FALSE) -> #N/A | C17: =VLOOKUP($F17,УЧАСТНИКИ!$A$2:$L$1106,4,FALSE) -> #N/A | D17: =VLOOKUP($F17,УЧАСТНИКИ!$A$2:$L$1106,5,FALSE) -> #N/A | E17: =VLOOKUP($F17,УЧАСТНИКИ!$A$2:$L$1106,8,FALSE) -> #N/A | K17: =VLOOKUP($F17,УЧАСТНИКИ!$A$2:$L$1106,9,FALSE) -> #N/A
A19: Рефери по бегу: | D19: / Вяльцева.В.Г.
A20: Ст.судья:
A21: Ст. судья на фотофинише:
A22: Секретарь:

Sheet 20-М
A1: =Name_2 -> ВСЕРОССИЙСКАЯ ФЕДЕРАЦИЯ ЛЕГКОЙ АТЛЕТИКИ
A2: СТАРТОВЫЙ ПРОТОКОЛ
A3: КУБОК РОССИИ
A4: МУЖЧИНЫ
A5: Бег 200 м
J6: РР- 20.23
B7: ЗАБЕГИ | C7: 12:55 | D7: =d_1 -> 28.05.2019г. | E7: окончание соревнований: | J7: =d_5 -> г. Сочи, ул. Бзугу 2, ст. им. Славы Метревели
A8: № п/п | B8: Фамилия, имя участника | C8: Дата рождения | D8: Территория | E8: Заявленный разряд | F8: Номер участника | G8: Приход | H8: Результат | I8: Место | J8: Примеч.
B9: 1 ЗАБЕГ
A10: 1 | B10: =VLOOKUP($F10,УЧАСТНИКИ!$A$2:$L$1106,3,FALSE) -> #N/A | C10: =VLOOKUP($F10,УЧАСТНИКИ!$A$2:$L$1106,4,FALSE) -> #N/A | D10: =VLOOKUP($F10,УЧАСТНИКИ!$A$2:$L$1106,5,FALSE) -> #N/A | E10: =VLOOKUP($F10,УЧАСТНИКИ!$A$2:$L$1106,8,FALSE) -> #N/A | J10: =VLOOKUP($F10,УЧАСТНИКИ!$A$2:$L$1106,9,FALSE) -> #N/A
A11: 2 | B11: =VLOOKUP($F11,УЧАСТНИКИ!$A$2:$L$1106,3,FALSE) -> #N/A | C11: =VLOOKUP($F11,УЧАСТНИКИ!$A$2:$L$1106,4,FALSE) -> #N/A | D11: =VLOOKUP($F11,УЧАСТНИКИ!$A$2:$L$1106,5,FALSE) -> #N/A | E11: =VLOOKUP($F11,УЧАСТНИКИ!$A$2:$L$1106,8,FALSE) -> #N/A | J11: =VLOOKUP($F11,УЧАСТНИКИ!$A$2:$L$1106,9,FALSE) -> #N/A
A12: 3 | B12: =VLOOKUP($F12,УЧАСТНИКИ!$A$2:$L$1106,3,FALSE) -> #N/A | C12: =VLOOKUP($F12,УЧАСТНИКИ!$A$2:$L$1106,4,FALSE) -> #N/A | D12: =VLOOKUP($F12,УЧАСТНИКИ!$A$2:$L$1106,5,FALSE) -> #N/A | E12: =VLOOKUP($F12,УЧАСТНИКИ!$A$2:$L$1106,8,FALSE) -> #N/A | J12: =VLOOKUP($F12,УЧАСТНИКИ!$A$2:$L$1106,9,FALSE) -> #N/A
A13: 4 | B13: =VLOOKUP($F13,УЧАСТНИКИ!$A$2:$L$1106,3,FALSE) -> #N/A | C13: =VLOOKUP($F13,УЧАСТНИКИ!$A$2:$L$1106,4,FALSE) -> #N/A | D13: =VLOOKUP($F13,УЧАСТНИКИ!$A$2:$L$1106,5,FALSE) -> #N/A | E13: =VLOOKUP($F13,УЧАСТНИКИ!$A$2:$L$1106,8,FALSE) -> #N/A | J13: =VLOOKUP($F13,УЧАСТНИКИ!$A$2:$L$1106,9,FALSE) -> #N/A
A14: 5 | B14: =VLOOKUP($F14,УЧАСТНИКИ!$A$2:$L$1106,3,FALSE) -> #N/A | C14: =VLOOKUP($F14,УЧАСТНИКИ!$A$2:$L$1106,4,FALSE) -> #N/A | D14: =VLOOKUP($F14,УЧАСТНИКИ!$A$2:$L$1106,5,FALSE) -> #N/A | E14: =VLOOKUP($F14,УЧАСТНИКИ!$A$2:$L$1106,8,FALSE) -> #N/A | J14: =VLOOKUP($F14,УЧАСТНИКИ!$A$2:$L$1106,9,FALSE) -> #N/A
A15: 6 | B15: =VLOOKUP($F15,УЧАСТНИКИ!$A$2:$L$1106,3,FALSE) -> #N/A | C15: =VLOOKUP($F15,УЧАСТНИКИ!$A$2:$L$1106,4,FALSE) -> #N/A | D15: =VLOOKUP($F15,УЧАСТНИКИ!$A$2:$L$1106,5,FALSE) -> #N/A | E15: =VLOOKUP($F15,УЧАСТНИКИ!$A$2:$L$1106,8,FALSE) -> #N/A | J15: =VLOOKUP($F15,УЧАСТНИКИ!$A$2:$L$1106,9,FALSE) -> #N/A
A16: 7 | B16: =VLOOKUP($F16,УЧАСТНИКИ!$A$2:$L$1106,3,FALSE) -> #N/A | C16: =VLOOKUP($F16,УЧАСТНИКИ!$A$2:$L$1106,4,FALSE) -> #N/A | D16: =VLOOKUP($F16,УЧАСТНИКИ!$A$2:$L$1106,5,FALSE) -> #N/A | E16: =VLOOKUP($F16,УЧАСТНИКИ!$A$2:$L$1106,8,FALSE) -> #N/A | J16: =VLOOKUP($F16,УЧАСТНИКИ!$A$2:$L$1106,9,FALSE) -> #N/A
A17: 8 | B17: =VLOOKUP($F17,УЧАСТНИКИ!$A$2:$L$1106,3,FALSE) -> #N/A | C17: =VLOOKUP($F17,УЧАСТНИКИ!$A$2:$L$1106,4,FALSE) -> #N/A | D17: =VLOOKUP($F17,УЧАСТНИКИ!$A$2:$L$1106,5,FALSE) -> #N/A | E17: =VLOOKUP($F17,УЧАСТНИКИ!$A$2:$L$1106,8,FALSE) -> #N/A | J17: =VLOOKUP($F17,УЧАСТНИКИ!$A$2:$L$1106,9,FALSE) -> #N/A
B18: 2 ЗАБЕГ
A19: 1 | B19: =VLOOKUP($F19,УЧАСТНИКИ!$A$2:$L$1106,3,FALSE) -> #N/A | C19: =VLOOKUP($F19,УЧАСТНИКИ!$A$2:$L$1106,4,FALSE) -> #N/A | D19: =VLOOKUP($F19,УЧАСТНИКИ!$A$2:$L$1106,5,FALSE) -> #N/A | E19: =VLOOKUP($F19,УЧАСТНИКИ!$A$2:$L$1106,8,FALSE) -> #N/A | J19: =VLOOKUP($F19,УЧАСТНИКИ!$A$2:$L$1106,9,FALSE) -> #N/A
A20: 2 | B20: =VLOOKUP($F20,УЧАСТНИКИ!$A$2:$L$1106,3,FALSE) -> #N/A | C20: =VLOOKUP($F20,УЧАСТНИКИ!$A$2:$L$1106,4,FALSE) -> #N/A | D20: =VLOOKUP($F20,УЧАСТНИКИ!$A$2:$L$1106,5,FALSE) -> #N/A | E20: =VLOOKUP($F20,УЧАСТНИКИ!$A$2:$L$1106,8,FALSE) -> #N/A | J20: =VLOOKUP($F20,УЧАСТНИКИ!$A$2:$L$1106,9,FALSE) -> #N/A
A21: 3 | B21: =VLOOKUP($F21,УЧАСТНИКИ!$A$2:$L$1106,3,FALSE) -> #N/A | C21: =VLOOKUP($F21,УЧАСТНИКИ!$A$2:$L$1106,4,FALSE) -> #N/A | D21: =VLOOKUP($F21,УЧАСТНИКИ!$A$2:$L$1106,5,FALSE) -> #N/A | E21: =VLOOKUP($F21,УЧАСТНИКИ!$A$2:$L$1106,8,FALSE) -> #N/A | J21: =VLOOKUP($F21,УЧАСТНИКИ!$A$2:$L$1106,9,FALSE) -> #N/A
A22: 4 | B22: =VLOOKUP($F22,УЧАСТНИКИ!$A$2:$L$1106,3,FALSE) -> #N/A | C22: =VLOOKUP($F22,УЧАСТНИКИ!$A$2:$L$1106,4,FALSE) -> #N/A | D22: =VLOOKUP($F22,УЧАСТНИКИ!$A$2:$L$1106,5,FALSE) -> #N/A | E22: =VLOOKUP($F22,УЧАСТНИКИ!$A$2:$L$1106,8,FALSE) -> #N/A | J22: =VLOOKUP($F22,УЧАСТНИКИ!$A$2:$L$1106,9,FALSE) -> #N/A
A23: 5 | B23: =VLOOKUP($F23,УЧАСТНИКИ!$A$2:$L$1106,3,FALSE) -> #N/A | C23: =VLOOKUP($F23,УЧАСТНИКИ!$A$2:$L$1106,4,FALSE) -> #N/A | D23: =VLOOKUP($F23,УЧАСТНИКИ!$A$2:$L$1106,5,FALSE) -> #N/A | E23: =VLOOKUP($F23,УЧАСТНИКИ!$A$2:$L$1106,8,FALSE) -> #N/A | J23: =VLOOKUP($F23,УЧАСТНИКИ!$A$2:$L$1106,9,FALSE) -> #N/A
A24: 6 | B24: =VLOOKUP($F24,УЧАСТНИКИ!$A$2:$L$1106,3,FALSE) -> #N/A | C24: =VLOOKUP($F24,УЧАСТНИКИ!$A$2:$L$1106,4,FALSE) -> #N/A | D24: =VLOOKUP($F24,УЧАСТНИКИ!$A$2:$L$1106,5,FALSE) -> #N/A | E24: =VLOOKUP($F24,УЧАСТНИКИ!$A$2:$L$1106,8,FALSE) -> #N/A | J24: =VLOOKUP($F24,УЧАСТНИКИ!$A$2:$L$1106,9,FALSE) -> #N/A
A25: 7 | B25: =VLOOKUP($F25,УЧАСТНИКИ!$A$2:$L$1106,3,FALSE) -> #N/A | C25: =VLOOKUP($F25,УЧАСТНИКИ!$A$2:$L$1106,4,FALSE) -> #N/A | D25: =VLOOKUP($F25,УЧАСТНИКИ!$A$2:$L$1106,5,FALSE) -> #N/A | E25: =VLOOKUP($F25,УЧАСТНИКИ!$A$2:$L$1106,8,FALSE) -> #N/A | J25: =VLOOKUP($F25,УЧАСТНИКИ!$A$2:$L$1106,9,FALSE) -> #N/A
A26: 8 | B26: =VLOOKUP($F26,УЧАСТНИКИ!$A$2:$L$1106,3,FALSE) -> #N/A | C26: =VLOOKUP($F26,УЧАСТНИКИ!$A$2:$L$1106,4,FALSE) -> #N/A | D26: =VLOOKUP($F26,УЧАСТНИКИ!$A$2:$L$1106,5,FALSE) -> #N/A | E26: =VLOOKUP($F26,УЧАСТНИКИ!$A$2:$L$1106,8,FALSE) -> #N/A | J26: =VLOOKUP($F26,УЧАСТНИКИ!$A$2:$L$1106,9,FALSE) -> #N/A
B27: 3 ЗАБЕГ
A28: 1 | B28: =VLOOKUP($F28,УЧАСТНИКИ!$A$2:$L$1106,3,FALSE) -> #N/A | C28: =VLOOKUP($F28,УЧАСТНИКИ!$A$2:$L$1106,4,FALSE) -> #N/A | D28: =VLOOKUP($F28,УЧАСТНИКИ!$A$2:$L$1106,5,FALSE) -> #N/A | E28: =VLOOKUP($F28,УЧАСТНИКИ!$A$2:$L$1106,8,FALSE) -> #N/A | J28: =VLOOKUP($F28,УЧАСТНИКИ!$A$2:$L$1106,9,FALSE) -> #N/A
A29: 2 | B29: =VLOOKUP($F29,УЧАСТНИКИ!$A$2:$L$1106,3,FALSE) -> #N/A | C29: =VLOOKUP($F29,УЧАСТНИКИ!$A$2:$L$1106,4,FALSE) -> #N/A | D29: =VLOOKUP($F29,УЧАСТНИКИ!$A$2:$L$1106,5,FALSE) -> #N/A | E29: =VLOOKUP($F29,УЧАСТНИКИ!$A$2:$L$1106,8,FALSE) -> #N/A | J29: =VLOOKUP($F29,УЧАСТНИКИ!$A$2:$L$1106,9,FALSE) -> #N/A
A30: 3 | B30: =VLOOKUP($F30,УЧАСТНИКИ!$A$2:$L$1106,3,FALSE) -> #N/A | C30: =VLOOKUP($F30,УЧАСТНИКИ!$A$2:$L$1106,4,FALSE) -> #N/A | D30: =VLOOKUP($F30,УЧАСТНИКИ!$A$2:$L$1106,5,FALSE) -> #N/A | E30: =VLOOKUP($F30,УЧАСТНИКИ!$A$2:$L$1106,8,FALSE) -> #N/A | J30: =VLOOKUP($F30,УЧАСТНИКИ!$A$2:$L$1106,9,FALSE) -> #N/A
A31: 4 | B31: =VLOOKUP($F31,УЧАСТНИКИ!$A$2:$L$1106,3,FALSE) -> #N/A | C31: =VLOOKUP($F31,УЧАСТНИКИ!$A$2:$L$1106,4,FALSE) -> #N/A | D31: =VLOOKUP($F31,УЧАСТНИКИ!$A$2:$L$1106,5,FALSE) -> #N/A | E31: =VLOOKUP($F31,УЧАСТНИКИ!$A$2:$L$1106,8,FALSE) -> #N/A | J31: =VLOOKUP($F31,УЧАСТНИКИ!$A$2:$L$1106,9,FALSE) -> #N/A
A32: 5 | B32: =VLOOKUP($F32,УЧАСТНИКИ!$A$2:$L$1106,3,FALSE) -> #N/A | C32: =VLOOKUP($F32,УЧАСТНИКИ!$A$2:$L$1106,4,FALSE) -> #N/A | D32: =VLOOKUP($F32,УЧАСТНИКИ!$A$2:$L$1106,5,FALSE) -> #N/A | E32: =VLOOKUP($F32,УЧАСТНИКИ!$A$2:$L$1106,8,FALSE) -> #N/A | J32: =VLOOKUP($F32,УЧАСТНИКИ!$A$2:$L$1106,9,FALSE) -> #N/A
A33: 6 | B33: =VLOOKUP($F33,УЧАСТНИКИ!$A$2:$L$1106,3,FALSE) -> #N/A | C33: =VLOOKUP($F33,УЧАСТНИКИ!$A$2:$L$1106,4,FALSE) -> #N/A | D33: =VLOOKUP($F33,УЧАСТНИКИ!$A$2:$L$1106,5,FALSE) -> #N/A | E33: =VLOOKUP($F33,УЧАСТНИКИ!$A$2:$L$1106,8,FALSE) -> #N/A | J33: =VLOOKUP($F33,УЧАСТНИКИ!$A$2:$L$1106,9,FALSE) -> #N/A
A34: 7 | B34: =VLOOKUP($F34,УЧАСТНИКИ!$A$2:$L$1106,3,FALSE) -> #N/A | C34: =VLOOKUP($F34,УЧАСТНИКИ!$A$2:$L$1106,4,FALSE) -> #N/A | D34: =VLOOKUP($F34,УЧАСТНИКИ!$A$2:$L$1106,5,FALSE) -> #N/A | E34: =VLOOKUP($F34,УЧАСТНИКИ!$A$2:$L$1106,8,FALSE) -> #N/A | J34: =VLOOKUP($F34,УЧАСТНИКИ!$A$2:$L$1106,9,FALSE) -> #N/A
A35: 8 | B35: =VLOOKUP($F35,УЧАСТНИКИ!$A$2:$L$1106,3,FALSE) -> #N/A | C35: =VLOOKUP($F35,УЧАСТНИКИ!$A$2:$L$1106,4,FALSE) -> #N/A | D35: =VLOOKUP($F35,УЧАСТНИКИ!$A$2:$L$1106,5,FALSE) -> #N/A | E35: =VLOOKUP($F35,УЧАСТНИКИ!$A$2:$L$1106,8,FALSE) -> #N/A | J35: =VLOOKUP($F35,УЧАСТНИКИ!$A$2:$L$1106,9,FALSE) -> #N/A
B36: 4 ЗАБЕГ
A37: 1 | B37: =VLOOKUP($F37,УЧАСТНИКИ!$A$2:$L$1106,3,FALSE) -> #N/A | C37: =VLOOKUP($F37,УЧАСТНИКИ!$A$2:$L$1106,4,FALSE) -> #N/A | D37: =VLOOKUP($F37,УЧАСТНИКИ!$A$2:$L$1106,5,FALSE) -> #N/A | E37: =VLOOKUP($F37,УЧАСТНИКИ!$A$2:$L$1106,8,FALSE) -> #N/A | J37: =VLOOKUP($F37,УЧАСТНИКИ!$A$2:$L$1106,9,FALSE) -> #N/A
A38: 2 | B38: =VLOOKUP($F38,УЧАСТНИКИ!$A$2:$L$1106,3,FALSE) -> #N/A | C38: =VLOOKUP($F38,УЧАСТНИКИ!$A$2:$L$1106,4,FALSE) -> #N/A | D38: =VLOOKUP($F38,УЧАСТНИКИ!$A$2:$L$1106,5,FALSE) -> #N/A | E38: =VLOOKUP($F38,УЧАСТНИКИ!$A$2:$L$1106,8,FALSE) -> #N/A | J38: =VLOOKUP($F38,УЧАСТНИКИ!$A$2:$L$1106,9,FALSE) -> #N/A
A39: 3 | B39: =VLOOKUP($F39,УЧАСТНИКИ!$A$2:$L$1106,3,FALSE) -> #N/A | C39: =VLOOKUP($F39,УЧАСТНИКИ!$A$2:$L$1106,4,FALSE) -> #N/A | D39: =VLOOKUP($F39,УЧАСТНИКИ!$A$2:$L$1106,5,FALSE) -> #N/A | E39: =VLOOKUP($F39,УЧАСТНИКИ!$A$2:$L$1106,8,FALSE) -> #N/A | J39: =VLOOKUP($F39,УЧАСТНИКИ!$A$2:$L$1106,9,FALSE) -> #N/A
A40: 4 | B40: =VLOOKUP($F40,УЧАСТНИКИ!$A$2:$L$1106,3,FALSE) -> #N/A | C40: =VLOOKUP($F40,УЧАСТНИКИ!$A$2:$L$1106,4,FALSE) -> #N/A | D40: =VLOOKUP($F40,УЧАСТНИКИ!$A$2:$L$1106,5,FALSE) -> #N/A | E40: =VLOOKUP($F40,УЧАСТНИКИ!$A$2:$L$1106,8,FALSE) -> #N/A | J40: =VLOOKUP($F40,УЧАСТНИКИ!$A$2:$L$1106,9,FALSE) -> #N/A
A41: 5 | B41: =VLOOKUP($F41,УЧАСТНИКИ!$A$2:$L$1106,3,FALSE) -> #N/A | C41: =VLOOKUP($F41,УЧАСТНИКИ!$A$2:$L$1106,4,FALSE) -> #N/A | D41: =VLOOKUP($F41,УЧАСТНИКИ!$A$2:$L$1106,5,FALSE) -> #N/A | E41: =VLOOKUP($F41,УЧАСТНИКИ!$A$2:$L$1106,8,FALSE) -> #N/A | J41: =VLOOKUP($F41,УЧАСТНИКИ!$A$2:$L$1106,9,FALSE) -> #N/A
A42: 6 | B42: =VLOOKUP($F42,УЧАСТНИКИ!$A$2:$L$1106,3,FALSE) -> #N/A | C42: =VLOOKUP($F42,УЧАСТНИКИ!$A$2:$L$1106,4,FALSE) -> #N/A | D42: =VLOOKUP($F42,УЧАСТНИКИ!$A$2:$L$1106,5,FALSE) -> #N/A | E42: =VLOOKUP($F42,УЧАСТНИКИ!$A$2:$L$1106,8,FALSE) -> #N/A | J42: =VLOOKUP($F42,УЧАСТНИКИ!$A$2:$L$1106,9,FALSE) -> #N/A
A43: 7 | B43: =VLOOKUP($F43,УЧАСТНИКИ!$A$2:$L$1106,3,FALSE) -> #N/A | C43: =VLOOKUP($F43,УЧАСТНИКИ!$A$2:$L$1106,4,FALSE) -> #N/A | D43: =VLOOKUP($F43,УЧАСТНИКИ!$A$2:$L$1106,5,FALSE) -> #N/A | E43: =VLOOKUP($F43,УЧАСТНИКИ!$A$2:$L$1106,8,FALSE) -> #N/A | J43: =VLOOKUP($F43,УЧАСТНИКИ!$A$2:$L$1106,9,FALSE) -> #N/A
A44: 8 | B44: =VLOOKUP($F44,УЧАСТНИКИ!$A$2:$L$1106,3,FALSE) -> #N/A | C44: =VLOOKUP($F44,УЧАСТНИКИ!$A$2:$L$1106,4,FALSE) -> #N/A | D44: =VLOOKUP($F44,УЧАСТНИКИ!$A$2:$L$1106,5,FALSE) -> #N/A | E44: =VLOOKUP($F44,УЧАСТНИКИ!$A$2:$L$1106,8,FALSE) -> #N/A | J44: =VLOOKUP($F44,УЧАСТНИКИ!$A$2:$L$1106,9,FALSE) -> #N/A
B45: 5 ЗАБЕГ
A46: 1 | B46: =VLOOKUP($F46,УЧАСТНИКИ!$A$2:$L$1106,3,FALSE) -> #N/A | C46: =VLOOKUP($F46,УЧАСТНИКИ!$A$2:$L$1106,4,FALSE) -> #N/A | D46: =VLOOKUP($F46,УЧАСТНИКИ!$A$2:$L$1106,5,FALSE) -> #N/A | E46: =VLOOKUP($F46,УЧАСТНИКИ!$A$2:$L$1106,8,FALSE) -> #N/A | J46: =VLOOKUP($F46,УЧАСТНИКИ!$A$2:$L$1106,9,FALSE) -> #N/A
A47: 2 | B47: =VLOOKUP($F47,УЧАСТНИКИ!$A$2:$L$1106,3,FALSE) -> #N/A | C47: =VLOOKUP($F47,УЧАСТНИКИ!$A$2:$L$1106,4,FALSE) -> #N/A | D47: =VLOOKUP($F47,УЧАСТНИКИ!$A$2:$L$1106,5,FALSE) -> #N/A | E47: =VLOOKUP($F47,УЧАСТНИКИ!$A$2:$L$1106,8,FALSE) -> #N/A | J47: =VLOOKUP($F47,УЧАСТНИКИ!$A$2:$L$1106,9,FALSE) -> #N/A
A48: 3 | B48: =VLOOKUP($F48,УЧАСТНИКИ!$A$2:$L$1106,3,FALSE) -> #N/A | C48: =VLOOKUP($F48,УЧАСТНИКИ!$A$2:$L$1106,4,FALSE) -> #N/A | D48: =VLOOKUP($F48,УЧАСТНИКИ!$A$2:$L$1106,5,FALSE) -> #N/A | E48: =VLOOKUP($F48,УЧАСТНИКИ!$A$2:$L$1106,8,FALSE) -> #N/A | J48: =VLOOKUP($F48,УЧАСТНИКИ!$A$2:$L$1106,9,FALSE) -> #N/A
A49: 4 | B49: =VLOOKUP($F49,УЧАСТНИКИ!$A$2:$L$1106,3,FALSE) -> #N/A | C49: =VLOOKUP($F49,УЧАСТНИКИ!$A$2:$L$1106,4,FALSE) -> #N/A | D49: =VLOOKUP($F49,УЧАСТНИКИ!$A$2:$L$1106,5,FALSE) -> #N/A | E49: =VLOOKUP($F49,УЧАСТНИКИ!$A$2:$L$1106,8,FALSE) -> #N/A | J49: =VLOOKUP($F49,УЧАСТНИКИ!$A$2:$L$1106,9,FALSE) -> #N/A
A50: 5 | B50: =VLOOKUP($F50,УЧАСТНИКИ!$A$2:$L$1106,3,FALSE) -> #N/A | C50: =VLOOKUP($F50,УЧАСТНИКИ!$A$2:$L$1106,4,FALSE) -> #N/A | D50: =VLOOKUP($F50,УЧАСТНИКИ!$A$2:$L$1106,5,FALSE) -> #N/A | E50: =VLOOKUP($F50,УЧАСТНИКИ!$A$2:$L$1106,8,FALSE) -> #N/A | J50: =VLOOKUP($F50,УЧАСТНИКИ!$A$2:$L$1106,9,FALSE) -> #N/A
A51: 6 | B51: =VLOOKUP($F51,УЧАСТНИКИ!$A$2:$L$1106,3,FALSE) -> #N/A | C51: =VLOOKUP($F51,УЧАСТНИКИ!$A$2:$L$1106,4,FALSE) -> #N/A | D51: =VLOOKUP($F51,УЧАСТНИКИ!$A$2:$L$1106,5,FALSE) -> #N/A | E51: =VLOOKUP($F51,УЧАСТНИКИ!$A$2:$L$1106,8,FALSE) -> #N/A | J51: =VLOOKUP($F51,УЧАСТНИКИ!$A$2:$L$1106,9,FALSE) -> #N/A
A52: 7 | B52: =VLOOKUP($F52,УЧАСТНИКИ!$A$2:$L$1106,3,FALSE) -> #N/A | C52: =VLOOKUP($F52,УЧАСТНИКИ!$A$2:$L$1106,4,FALSE) -> #N/A | D52: =VLOOKUP($F52,УЧАСТНИКИ!$A$2:$L$1106,5,FALSE) -> #N/A | E52: =VLOOKUP($F52,УЧАСТНИКИ!$A$2:$L$1106,8,FALSE) -> #N/A | J52: =VLOOKUP($F52,УЧАСТНИКИ!$A$2:$L$1106,9,FALSE) -> #N/A
A53: 8 | B53: =VLOOKUP($F53,УЧАСТНИКИ!$A$2:$L$1106,3,FALSE) -> #N/A | C53: =VLOOKUP($F53,УЧАСТНИКИ!$A$2:$L$1106,4,FALSE) -> #N/A | D53: =VLOOKUP($F53,УЧАСТНИКИ!$A$2:$L$1106,5,FALSE) -> #N/A | E53: =VLOOKUP($F53,УЧАСТНИКИ!$A$2:$L$1106,8,FALSE) -> #N/A | J53: =VLOOKUP($F53,УЧАСТНИКИ!$A$2:$L$1106,9,FALSE) -> #N/A
B54: 6 ЗАБЕГ
A55: 1 | B55: =VLOOKUP($F55,УЧАСТНИКИ!$A$2:$L$1106,3,FALSE) -> #N/A | C55: =VLOOKUP($F55,УЧАСТНИКИ!$A$2:$L$1106,4,FALSE) -> #N/A | D55: =VLOOKUP($F55,УЧАСТНИКИ!$A$2:$L$1106,5,FALSE) -> #N/A | E55: =VLOOKUP($F55,УЧАСТНИКИ!$A$2:$L$1106,8,FALSE) -> #N/A | J55: =VLOOKUP($F55,УЧАСТНИКИ!$A$2:$L$1106,9,FALSE) -> #N/A
A56: 2 | B56: =VLOOKUP($F56,УЧАСТНИКИ!$A$2:$L$1106,3,FALSE) -> #N/A | C56: =VLOOKUP($F56,УЧАСТНИКИ!$A$2:$L$1106,4,FALSE) -> #N/A | D56: =VLOOKUP($F56,УЧАСТНИКИ!$A$2:$L$1106,5,FALSE) -> #N/A | E56: =VLOOKUP($F56,УЧАСТНИКИ!$A$2:$L$1106,8,FALSE) -> #N/A | J56: =VLOOKUP($F56,УЧАСТНИКИ!$A$2:$L$1106,9,FALSE) -> #N/A
A57: 3 | B57: =VLOOKUP($F57,УЧАСТНИКИ!$A$2:$L$1106,3,FALSE) -> #N/A | C57: =VLOOKUP($F57,УЧАСТНИКИ!$A$2:$L$1106,4,FALSE) -> #N/A | D57: =VLOOKUP($F57,УЧАСТНИКИ!$A$2:$L$1106,5,FALSE) -> #N/A | E57: =VLOOKUP($F57,УЧАСТНИКИ!$A$2:$L$1106,8,FALSE) -> #N/A | J57: =VLOOKUP($F57,УЧАСТНИКИ!$A$2:$L$1106,9,FALSE) -> #N/A
A58: 4 | B58: =VLOOKUP($F58,УЧАСТНИКИ!$A$2:$L$1106,3,FALSE) -> #N/A | C58: =VLOOKUP($F58,УЧАСТНИКИ!$A$2:$L$1106,4,FALSE) -> #N/A | D58: =VLOOKUP($F58,УЧАСТНИКИ!$A$2:$L$1106,5,FALSE) -> #N/A | E58: =VLOOKUP($F58,УЧАСТНИКИ!$A$2:$L$1106,8,FALSE) -> #N/A | J58: =VLOOKUP($F58,УЧАСТНИКИ!$A$2:$L$1106,9,FALSE) -> #N/A
A59: 5 | B59: =VLOOKUP($F59,УЧАСТНИКИ!$A$2:$L$1106,3,FALSE) -> #N/A | C59: =VLOOKUP($F59,УЧАСТНИКИ!$A$2:$L$1106,4,FALSE) -> #N/A | D59: =VLOOKUP($F59,УЧАСТНИКИ!$A$2:$L$1106,5,FALSE) -> #N/A | E59: =VLOOKUP($F59,УЧАСТНИКИ!$A$2:$L$1106,8,FALSE) -> #N/A | J59: =VLOOKUP($F59,УЧАСТНИКИ!$A$2:$L$1106,9,FALSE) -> #N/A
A60: 6 | B60: =VLOOKUP($F60,УЧАСТНИКИ!$A$2:$L$1106,3,FALSE) -> #N/A | C60: =VLOOKUP($F60,УЧАСТНИКИ!$A$2:$L$1106,4,FALSE) -> #N/A | D60: =VLOOKUP($F60,УЧАСТНИКИ!$A$2:$L$1106,5,FALSE) -> #N/A | E60: =VLOOKUP($F60,УЧАСТНИКИ!$A$2:$L$1106,8,FALSE) -> #N/A | J60: =VLOOKUP($F60,УЧАСТНИКИ!$A$2:$L$1106,9,FALSE) -> #N/A
A61: 7 | B61: =VLOOKUP($F61,УЧАСТНИКИ!$A$2:$L$1106,3,FALSE) -> #N/A | C61: =VLOOKUP($F61,УЧАСТНИКИ!$A$2:$L$1106,4,FALSE) -> #N/A | D61: =VLOOKUP($F61,УЧАСТНИКИ!$A$2:$L$1106,5,FALSE) -> #N/A | E61: =VLOOKUP($F61,УЧАСТНИКИ!$A$2:$L$1106,8,FALSE) -> #N/A | J61: =VLOOKUP($F61,УЧАСТНИКИ!$A$2:$L$1106,9,FALSE) -> #N/A
A62: 8 | B62: =VLOOKUP($F62,УЧАСТНИКИ!$A$2:$L$1106,3,FALSE) -> #N/A | C62: =VLOOKUP($F62,УЧАСТНИКИ!$A$2:$L$1106,4,FALSE) -> #N/A | D62: =VLOOKUP($F62,УЧАСТНИКИ!$A$2:$L$1106,5,FALSE) -> #N/A | E62: =VLOOKUP($F62,УЧАСТНИКИ!$A$2:$L$1106,8,FALSE) -> #N/A | J62: =VLOOKUP($F62,УЧАСТНИКИ!$A$2:$L$1106,9,FALSE) -> #N/A
B63: 7 ЗАБЕГ
A64: 1 | B64: =VLOOKUP($F64,УЧАСТНИКИ!$A$2:$L$1106,3,FALSE) -> #N/A | C64: =VLOOKUP($F64,УЧАСТНИКИ!$A$2:$L$1106,4,FALSE) -> #N/A | D64: =VLOOKUP($F64,УЧАСТНИКИ!$A$2:$L$1106,5,FALSE) -> #N/A | E64: =VLOOKUP($F64,УЧАСТНИКИ!$A$2:$L$1106,8,FALSE) -> #N/A | J64: =VLOOKUP($F64,УЧАСТНИКИ!$A$2:$L$1106,9,FALSE) -> #N/A
A65: 2 | B65: =VLOOKUP($F65,УЧАСТНИКИ!$A$2:$L$1106,3,FALSE) -> #N/A | C65: =VLOOKUP($F65,УЧАСТНИКИ!$A$2:$L$1106,4,FALSE) -> #N/A | D65: =VLOOKUP($F65,УЧАСТНИКИ!$A$2:$L$1106,5,FALSE) -> #N/A | E65: =VLOOKUP($F65,УЧАСТНИКИ!$A$2:$L$1106,8,FALSE) -> #N/A | J65: =VLOOKUP($F65,УЧАСТНИКИ!$A$2:$L$1106,9,FALSE) -> #N/A
A66: 3 | B66: =VLOOKUP($F66,УЧАСТНИКИ!$A$2:$L$1106,3,FALSE) -> #N/A | C66: =VLOOKUP($F66,УЧАСТНИКИ!$A$2:$L$1106,4,FALSE) -> #N/A | D66: =VLOOKUP($F66,УЧАСТНИКИ!$A$2:$L$1106,5,FALSE) -> #N/A | E66: =VLOOKUP($F66,УЧАСТНИКИ!$A$2:$L$1106,8,FALSE) -> #N/A | J66: =VLOOKUP($F66,УЧАСТНИКИ!$A$2:$L$1106,9,FALSE) -> #N/A
A67: 4 | B67: =VLOOKUP($F67,УЧАСТНИКИ!$A$2:$L$1106,3,FALSE) -> #N/A | C67: =VLOOKUP($F67,УЧАСТНИКИ!$A$2:$L$1106,4,FALSE) -> #N/A | D67: =VLOOKUP($F67,УЧАСТНИКИ!$A$2:$L$1106,5,FALSE) -> #N/A | E67: =VLOOKUP($F67,УЧАСТНИКИ!$A$2:$L$1106,8,FALSE) -> #N/A | J67: =VLOOKUP($F67,УЧАСТНИКИ!$A$2:$L$1106,9,FALSE) -> #N/A
A68: 5 | B68: =VLOOKUP($F68,УЧАСТНИКИ!$A$2:$L$1106,3,FALSE) -> #N/A | C68: =VLOOKUP($F68,УЧАСТНИКИ!$A$2:$L$1106,4,FALSE) -> #N/A | D68: =VLOOKUP($F68,УЧАСТНИКИ!$A$2:$L$1106,5,FALSE) -> #N/A | E68: =VLOOKUP($F68,УЧАСТНИКИ!$A$2:$L$1106,8,FALSE) -> #N/A | J68: =VLOOKUP($F68,УЧАСТНИКИ!$A$2:$L$1106,9,FALSE) -> #N/A
A69: 6 | B69: =VLOOKUP($F69,УЧАСТНИКИ!$A$2:$L$1106,3,FALSE) -> #N/A | C69: =VLOOKUP($F69,УЧАСТНИКИ!$A$2:$L$1106,4,FALSE) -> #N/A | D69: =VLOOKUP($F69,УЧАСТНИКИ!$A$2:$L$1106,5,FALSE) -> #N/A | E69: =VLOOKUP($F69,УЧАСТНИКИ!$A$2:$L$1106,8,FALSE) -> #N/A | J69: =VLOOKUP($F69,УЧАСТНИКИ!$A$2:$L$1106,9,FALSE) -> #N/A
A70: 7 | B70: =VLOOKUP($F70,УЧАСТНИКИ!$A$2:$L$1106,3,FALSE) -> #N/A | C70: =VLOOKUP($F70,УЧАСТНИКИ!$A$2:$L$1106,4,FALSE) -> #N/A | D70: =VLOOKUP($F70,УЧАСТНИКИ!$A$2:$L$1106,5,FALSE) -> #N/A | E70: =VLOOKUP($F70,УЧАСТНИКИ!$A$2:$L$1106,8,FALSE) -> #N/A | J70: =VLOOKUP($F70,УЧАСТНИКИ!$A$2:$L$1106,9,FALSE) -> #N/A
A71: 8 | B71: =VLOOKUP($F71,УЧАСТНИКИ!$A$2:$L$1106,3,FALSE) -> #N/A | C71: =VLOOKUP($F71,УЧАСТНИКИ!$A$2:$L$1106,4,FALSE) -> #N/A | D71: =VLOOKUP($F71,УЧАСТНИКИ!$A$2:$L$1106,5,FALSE) -> #N/A | E71: =VLOOKUP($F71,УЧАСТНИКИ!$A$2:$L$1106,8,FALSE) -> #N/A | J71: =VLOOKUP($F71,УЧАСТНИКИ!$A$2:$L$1106,9,FALSE) -> #N/A
A74: Рефери по бегу:
A75: Ст.судья:
A76: Ст.хронометрист:
A77: Секретарь:

Sheet 20Ф-М
A1: =Name_2 -> ВСЕРОССИЙСКАЯ ФЕДЕРАЦИЯ ЛЕГКОЙ АТЛЕТИКИ
A2: СТАРТОВЫЙ ПРОТОКОЛ
A3: КУБОК РОССИИ
A4: МУЖЧИНЫ
A5: Бег 200 м
K6: РР- 20.23
B7: ФИНАЛЬНЫЙ ЗАБЕГ | C7: 12:55 | D7: =d_1 -> 28.05.2019г. | E7: окончание соревнований: | K7: =d_5 -> г. Сочи, ул. Бзугу 2, ст. им. Славы Метревели
A8: № п/п | B8: Фамилия, имя участника | C8: Дата рождения | D8: Территория | E8: Заявленный разряд | F8: Номер участника | G8: рез-тат забега | H8: приход | I8: Результат | J8: Место | K8: Примеч.
A10: 1 | B10: =VLOOKUP($F10,УЧАСТНИКИ!$A$2:$L$1106,3,FALSE) -> #N/A | C10: =VLOOKUP($F10,УЧАСТНИКИ!$A$2:$L$1106,4,FALSE) -> #N/A | D10: =VLOOKUP($F10,УЧАСТНИКИ!$A$2:$L$1106,5,FALSE) -> #N/A | E10: =VLOOKUP($F10,УЧАСТНИКИ!$A$2:$L$1106,8,FALSE) -> #N/A | K10: =VLOOKUP($F10,УЧАСТНИКИ!$A$2:$L$1106,9,FALSE) -> #N/A
A11: 2 | B11: =VLOOKUP($F11,УЧАСТНИКИ!$A$2:$L$1106,3,FALSE) -> #N/A | C11: =VLOOKUP($F11,УЧАСТНИКИ!$A$2:$L$1106,4,FALSE) -> #N/A | D11: =VLOOKUP($F11,УЧАСТНИКИ!$A$2:$L$1106,5,FALSE) -> #N/A | E11: =VLOOKUP($F11,УЧАСТНИКИ!$A$2:$L$1106,8,FALSE) -> #N/A | K11: =VLOOKUP($F11,УЧАСТНИКИ!$A$2:$L$1106,9,FALSE) -> #N/A
A12: 3 | B12: =VLOOKUP($F12,УЧАСТНИКИ!$A$2:$L$1106,3,FALSE) -> #N/A | C12: =VLOOKUP($F12,УЧАСТНИКИ!$A$2:$L$1106,4,FALSE) -> #N/A | D12: =VLOOKUP($F12,УЧАСТНИКИ!$A$2:$L$1106,5,FALSE) -> #N/A | E12: =VLOOKUP($F12,УЧАСТНИКИ!$A$2:$L$1106,8,FALSE) -> #N/A | K12: =VLOOKUP($F12,УЧАСТНИКИ!$A$2:$L$1106,9,FALSE) -> #N/A
A13: 4 | B13: =VLOOKUP($F13,УЧАСТНИКИ!$A$2:$L$1106,3,FALSE) -> #N/A | C13: =VLOOKUP($F13,УЧАСТНИКИ!$A$2:$L$1106,4,FALSE) -> #N/A | D13: =VLOOKUP($F13,УЧАСТНИКИ!$A$2:$L$1106,5,FALSE) -> #N/A | E13: =VLOOKUP($F13,УЧАСТНИКИ!$A$2:$L$1106,8,FALSE) -> #N/A | K13: =VLOOKUP($F13,УЧАСТНИКИ!$A$2:$L$1106,9,FALSE) -> #N/A
A14: 5 | B14: =VLOOKUP($F14,УЧАСТНИКИ!$A$2:$L$1106,3,FALSE) -> #N/A | C14: =VLOOKUP($F14,УЧАСТНИКИ!$A$2:$L$1106,4,FALSE) -> #N/A | D14: =VLOOKUP($F14,УЧАСТНИКИ!$A$2:$L$1106,5,FALSE) -> #N/A | E14: =VLOOKUP($F14,УЧАСТНИКИ!$A$2:$L$1106,8,FALSE) -> #N/A | K14: =VLOOKUP($F14,УЧАСТНИКИ!$A$2:$L$1106,9,FALSE) -> #N/A
A15: 6 | B15: =VLOOKUP($F15,УЧАСТНИКИ!$A$2:$L$1106,3,FALSE) -> #N/A | C15: =VLOOKUP($F15,УЧАСТНИКИ!$A$2:$L$1106,4,FALSE) -> #N/A | D15: =VLOOKUP($F15,УЧАСТНИКИ!$A$2:$L$1106,5,FALSE) -> #N/A | E15: =VLOOKUP($F15,УЧАСТНИКИ!$A$2:$L$1106,8,FALSE) -> #N/A | K15: =VLOOKUP($F15,УЧАСТНИКИ!$A$2:$L$1106,9,FALSE) -> #N/A
A16: 7 | B16: =VLOOKUP($F16,УЧАСТНИКИ!$A$2:$L$1106,3,FALSE) -> #N/A | C16: =VLOOKUP($F16,УЧАСТНИКИ!$A$2:$L$1106,4,FALSE) -> #N/A | D16: =VLOOKUP($F16,УЧАСТНИКИ!$A$2:$L$1106,5,FALSE) -> #N/A | E16: =VLOOKUP($F16,УЧАСТНИКИ!$A$2:$L$1106,8,FALSE) -> #N/A | K16: =VLOOKUP($F16,УЧАСТНИКИ!$A$2:$L$1106,9,FALSE) -> #N/A
A17: 8 | B17: =VLOOKUP($F17,УЧАСТНИКИ!$A$2:$L$1106,3,FALSE) -> #N/A | C17: =VLOOKUP($F17,УЧАСТНИКИ!$A$2:$L$1106,4,FALSE) -> #N/A | D17: =VLOOKUP($F17,УЧАСТНИКИ!$A$2:$L$1106,5,FALSE) -> #N/A | E17: =VLOOKUP($F17,УЧАСТНИКИ!$A$2:$L$1106,8,FALSE) -> #N/A | K17: =VLOOKUP($F17,УЧАСТНИКИ!$A$2:$L$1106,9,FALSE) -> #N/A
A20: Рефери по бегу:
A21: Ст.судья:
A22: Ст.хронометрист:
A23: Секретарь:

Sheet 40-М
A1: =Name_2 -> ВСЕРОССИЙСКАЯ ФЕДЕРАЦИЯ ЛЕГКОЙ АТЛЕТИКИ
A2: СТАРТОВЫЙ ПРОТОКОЛ
A3: КУБОК РОССИИ
A4: МУЖЧИНЫ
A5: Бег 400 м
J6: РР- 44.60
B7: ФИНАЛЬНЫЕ ЗАБЕГИ | C7: 15:55 | D7: =d_1 -> 28.05.2019г. | E7: окончание соревнований: | J7: =d_5 -> г. Сочи, ул. Бзугу 2, ст. им. Славы Метревели
A8: № п/п | B8: Фамилия, имя участника | C8: Дата рождения | D8: Территория | E8: Заявленный разряд | F8: Номер участника | G8: Приход | H8: Результат | I8: Место | J8: Примеч.
B9: 1 ЗАБЕГ
A10: 1
A11: 2 | B11: =VLOOKUP($F11,УЧАСТНИКИ!$A$2:$L$1106,3,FALSE) -> Мазный Богдан | C11: =VLOOKUP($F11,УЧАСТНИКИ!$A$2:$L$1106,4,FALSE) -> 26.10.1999 | D11: =VLOOKUP($F11,УЧАСТНИКИ!$A$2:$L$1106,5,FALSE) -> ЮФО (К) | E11: =VLOOKUP($F11,УЧАСТНИКИ!$A$2:$L$1106,8,FALSE) -> КМС | F11: 433 | J11: =VLOOKUP($F11,УЧАСТНИКИ!$A$2:$L$1106,9,FALSE) -> К
A12: 3 | B12: =VLOOKUP($F12,УЧАСТНИКИ!$A$2:$L$1106,3,FALSE) -> Чурилов Антон | C12: =VLOOKUP($F12,УЧАСТНИКИ!$A$2:$L$1106,4,FALSE) -> 28.04.1998 | D12: =VLOOKUP($F12,УЧАСТНИКИ!$A$2:$L$1106,5,FALSE) -> Липецкая область | E12: =VLOOKUP($F12,УЧАСТНИКИ!$A$2:$L$1106,8,FALSE) -> КМС | F12: 125 | J12: =VLOOKUP($F12,УЧАСТНИКИ!$A$2:$L$1106,9,FALSE) -> К
A13: 4 | B13: =VLOOKUP($F13,УЧАСТНИКИ!$A$2:$L$1106,3,FALSE) -> Маркунасов Антон | C13: =VLOOKUP($F13,УЧАСТНИКИ!$A$2:$L$1106,4,FALSE) -> 07.11.1998 | D13: =VLOOKUP($F13,УЧАСТНИКИ!$A$2:$L$1106,5,FALSE) -> Свердловская область Челябинская область | E13: =VLOOKUP($F13,УЧАСТНИКИ!$A$2:$L$1106,8,FALSE) -> МС | F13: 65 | J13: =VLOOKUP($F13,УЧАСТНИКИ!$A$2:$L$1106,9,FALSE) -> К
A14: 5 | B14: =VLOOKUP($F14,УЧАСТНИКИ!$A$2:$L$1106,3,FALSE) -> Сидоров Андрей | C14: =VLOOKUP($F14,УЧАСТНИКИ!$A$2:$L$1106,4,FALSE) -> 18.11.1996 | D14: =VLOOKUP($F14,УЧАСТНИКИ!$A$2:$L$1106,5,FALSE) -> Республика Мордовия | E14: =VLOOKUP($F14,УЧАСТНИКИ!$A$2:$L$1106,8,FALSE) -> КМС | F14: 220 | J14: =VLOOKUP($F14,УЧАСТНИКИ!$A$2:$L$1106,9,FALSE) -> К
A15: 6 | B15: =VLOOKUP($F15,УЧАСТНИКИ!$A$2:$L$1106,3,FALSE) -> Романов Егор | C15: =VLOOKUP($F15,УЧАСТНИКИ!$A$2:$L$1106,4,FALSE) -> 07.11.1998 | D15: =VLOOKUP($F15,УЧАСТНИКИ!$A$2:$L$1106,5,FALSE) -> Санкт-Петербург | E15: =VLOOKUP($F15,УЧАСТНИКИ!$A$2:$L$1106,8,FALSE) -> КМС | F15: 302 | J15: =VLOOKUP($F15,УЧАСТНИКИ!$A$2:$L$1106,9,FALSE) -> Л
A16: 7 | B16: =VLOOKUP($F16,УЧАСТНИКИ!$A$2:$L$1106,3,FALSE) -> Тиммиев Василий | C16: =VLOOKUP($F16,УЧАСТНИКИ!$A$2:$L$1106,4,FALSE) -> 11.03.1999 | D16: =VLOOKUP($F16,УЧАСТНИКИ!$A$2:$L$1106,5,FALSE) -> Санкт-Петербург Архангельская область | E16: =VLOOKUP($F16,УЧАСТНИКИ!$A$2:$L$1106,8,FALSE) -> КМС | F16: 313 | J16: =VLOOKUP($F16,УЧАСТНИКИ!$A$2:$L$1106,9,FALSE) -> Л
A17: 8 | B17: =VLOOKUP($F17,УЧАСТНИКИ!$A$2:$L$1106,3,FALSE) -> Чернов Никита | C17: =VLOOKUP($F17,УЧАСТНИКИ!$A$2:$L$1106,4,FALSE) -> 27.04.2002 | D17: =VLOOKUP($F17,УЧАСТНИКИ!$A$2:$L$1106,5,FALSE) -> ЮФО (К) | E17: =VLOOKUP($F17,УЧАСТНИКИ!$A$2:$L$1106,8,FALSE) -> 2 | F17: 440 | J17: =VLOOKUP($F17,УЧАСТНИКИ!$A$2:$L$1106,9,FALSE) -> К
B18: 2 ЗАБЕГ
A19: 1
A20: 2 | B20: =VLOOKUP($F20,УЧАСТНИКИ!$A$2:$L$1106,3,FALSE) -> #N/A | C20: =VLOOKUP($F20,УЧАСТНИКИ!$A$2:$L$1106,4,FALSE) -> #N/A | D20: =VLOOKUP($F20,УЧАСТНИКИ!$A$2:$L$1106,5,FALSE) -> #N/A | E20: =VLOOKUP($F20,УЧАСТНИКИ!$A$2:$L$1106,8,FALSE) -> #N/A | F20: 163 | J20: =VLOOKUP($F20,УЧАСТНИКИ!$A$2:$L$1106,9,FALSE) -> #N/A
A21: 3 | B21: =VLOOKUP($F21,УЧАСТНИКИ!$A$2:$L$1106,3,FALSE) -> Матвеев Никита | C21: =VLOOKUP($F21,УЧАСТНИКИ!$A$2:$L$1106,4,FALSE) -> 28.03.2000 | D21: =VLOOKUP($F21,УЧАСТНИКИ!$A$2:$L$1106,5,FALSE) -> Ямало-Ненецкий автономный округ Владимирская область | E21: =VLOOKUP($F21,УЧАСТНИКИ!$A$2:$L$1106,8,FALSE) -> КМС | F21: 212 | J21: =VLOOKUP($F21,УЧАСТНИКИ!$A$2:$L$1106,9,FALSE) -> К
A22: 4 | B22: =VLOOKUP($F22,УЧАСТНИКИ!$A$2:$L$1106,3,FALSE) -> Филиппов Егор | C22: =VLOOKUP($F22,УЧАСТНИКИ!$A$2:$L$1106,4,FALSE) -> 04.07.1999 | D22: =VLOOKUP($F22,УЧАСТНИКИ!$A$2:$L$1106,5,FALSE) -> Московская область | E22: =VLOOKUP($F22,УЧАСТНИКИ!$A$2:$L$1106,8,FALSE) -> МС | F22: 471 | J22: =VLOOKUP($F22,УЧАСТНИКИ!$A$2:$L$1106,9,FALSE) -> К
A23: 5 | B23: =VLOOKUP($F23,УЧАСТНИКИ!$A$2:$L$1106,3,FALSE) -> Рафилович Максим | C23: =VLOOKUP($F23,УЧАСТНИКИ!$A$2:$L$1106,4,FALSE) -> 07.12.1986 | D23: =VLOOKUP($F23,УЧАСТНИКИ!$A$2:$L$1106,5,FALSE) -> Санкт-Петербург Вологодская область | E23: =VLOOKUP($F23,УЧАСТНИКИ!$A$2:$L$1106,8,FALSE) -> МС | F23: 301 | J23: =VLOOKUP($F23,УЧАСТНИКИ!$A$2:$L$1106,9,FALSE) -> К
A24: 6 | B24: =VLOOKUP($F24,УЧАСТНИКИ!$A$2:$L$1106,3,FALSE) -> Гребеньщиков Константин | C24: =VLOOKUP($F24,УЧАСТНИКИ!$A$2:$L$1106,4,FALSE) -> 02.01.1990 | D24: =VLOOKUP($F24,УЧАСТНИКИ!$A$2:$L$1106,5,FALSE) -> Тюменская область | E24: =VLOOKUP($F24,УЧАСТНИКИ!$A$2:$L$1106,8,FALSE) -> КМС | F24: 86 | J24: =VLOOKUP($F24,УЧАСТНИКИ!$A$2:$L$1106,9,FALSE) -> К
A25: 7 | B25: =VLOOKUP($F25,УЧАСТНИКИ!$A$2:$L$1106,3,FALSE) -> Антипов Георгий | C25: =VLOOKUP($F25,УЧАСТНИКИ!$A$2:$L$1106,4,FALSE) -> 05.04.1999 | D25: =VLOOKUP($F25,УЧАСТНИКИ!$A$2:$L$1106,5,FALSE) -> Санкт-Петербург | E25: =VLOOKUP($F25,УЧАСТНИКИ!$A$2:$L$1106,8,FALSE) -> КМС | F25: 260 | J25: =VLOOKUP($F25,УЧАСТНИКИ!$A$2:$L$1106,9,FALSE) -> Л
A26: 8
B27: 3 ЗАБЕГ
A28: 1
A29: 2 | B29: =VLOOKUP($F29,УЧАСТНИКИ!$A$2:$L$1106,3,FALSE) -> Никитин Олег | C29: =VLOOKUP($F29,УЧАСТНИКИ!$A$2:$L$1106,4,FALSE) -> 06.06.1997 | D29: =VLOOKUP($F29,УЧАСТНИКИ!$A$2:$L$1106,5,FALSE) -> Ульяновская область | E29: =VLOOKUP($F29,УЧАСТНИКИ!$A$2:$L$1106,8,FALSE) -> КМС | F29: 196 | J29: =VLOOKUP($F29,УЧАСТНИКИ!$A$2:$L$1106,9,FALSE) -> К
A30: 3 | B30: =VLOOKUP($F30,УЧАСТНИКИ!$A$2:$L$1106,3,FALSE) -> Переметов Данил | C30: =VLOOKUP($F30,УЧАСТНИКИ!$A$2:$L$1106,4,FALSE) -> 18.03.1995 | D30: =VLOOKUP($F30,УЧАСТНИКИ!$A$2:$L$1106,5,FALSE) -> Краснодарский край | E30: =VLOOKUP($F30,УЧАСТНИКИ!$A$2:$L$1106,8,FALSE) -> МС | F30: 160 | J30: =VLOOKUP($F30,УЧАСТНИКИ!$A$2:$L$1106,9,FALSE) -> К
A31: 4 | B31: =VLOOKUP($F31,УЧАСТНИКИ!$A$2:$L$1106,3,FALSE) -> Колесов Кирилл | C31: =VLOOKUP($F31,УЧАСТНИКИ!$A$2:$L$1106,4,FALSE) -> 26.04.1998 | D31: =VLOOKUP($F31,УЧАСТНИКИ!$A$2:$L$1106,5,FALSE) -> Санкт-Петербург | E31: =VLOOKUP($F31,УЧАСТНИКИ!$A$2:$L$1106,8,FALSE) -> МС | F31: 281 | J31: =VLOOKUP($F31,УЧАСТНИКИ!$A$2:$L$1106,9,FALSE) -> Л
A32: 5 | B32: =VLOOKUP($F32,УЧАСТНИКИ!$A$2:$L$1106,3,FALSE) -> Ефремов Андрей | C32: =VLOOKUP($F32,УЧАСТНИКИ!$A$2:$L$1106,4,FALSE) -> 15.08.1996 | D32: =VLOOKUP($F32,УЧАСТНИКИ!$A$2:$L$1106,5,FALSE) -> Москва Липецкая область | E32: =VLOOKUP($F32,УЧАСТНИКИ!$A$2:$L$1106,8,FALSE) -> МС | F32: 123 | J32: =VLOOKUP($F32,УЧАСТНИКИ!$A$2:$L$1106,9,FALSE) -> К
A33: 6 | B33: =VLOOKUP($F33,УЧАСТНИКИ!$A$2:$L$1106,3,FALSE) -> Карасёв Леонид | C33: =VLOOKUP($F33,УЧАСТНИКИ!$A$2:$L$1106,4,FALSE) -> 30.07.1998 | D33: =VLOOKUP($F33,УЧАСТНИКИ!$A$2:$L$1106,5,FALSE) -> Московская область Брянская область | E33: =VLOOKUP($F33,УЧАСТНИКИ!$A$2:$L$1106,8,FALSE) -> МС | F33: 34 | J33: =VLOOKUP($F33,УЧАСТНИКИ!$A$2:$L$1106,9,FALSE) -> К
A34: 7 | B34: =VLOOKUP($F34,УЧАСТНИКИ!$A$2:$L$1106,3,FALSE) -> Гончаров Артём | C34: =VLOOKUP($F34,УЧАСТНИКИ!$A$2:$L$1106,4,FALSE) -> 01.08.1999 | D34: =VLOOKUP($F34,УЧАСТНИКИ!$A$2:$L$1106,5,FALSE) -> Тульская область | E34: =VLOOKUP($F34,УЧАСТНИКИ!$A$2:$L$1106,8,FALSE) -> КМС | F34: 402 | J34: =VLOOKUP($F34,УЧАСТНИКИ!$A$2:$L$1106,9,FALSE) -> К
A35: 8
B36: 4 ЗАБЕГ
A37: 1
A38: 2 | B38: =VLOOKUP($F38,УЧАСТНИКИ!$A$2:$L$1106,3,FALSE) -> Абдулин Ильяс | C38: =VLOOKUP($F38,УЧАСТНИКИ!$A$2:$L$1106,4,FALSE) -> 23.07.1996 | D38: =VLOOKUP($F38,УЧАСТНИКИ!$A$2:$L$1106,5,FALSE) -> Челябинская область | E38: =VLOOKUP($F38,УЧАСТНИКИ!$A$2:$L$1106,8,FALSE) -> КМС | F38: 52 | J38: =VLOOKUP($F38,УЧАСТНИКИ!$A$2:$L$1106,9,FALSE) -> К
A39: 3 | B39: =VLOOKUP($F39,УЧАСТНИКИ!$A$2:$L$1106,3,FALSE) -> Буяновский Александр | C39: =VLOOKUP($F39,УЧАСТНИКИ!$A$2:$L$1106,4,FALSE) -> 23.04.1994 | D39: =VLOOKUP($F39,УЧАСТНИКИ!$A$2:$L$1106,5,FALSE) -> Самарская область | E39: =VLOOKUP($F39,УЧАСТНИКИ!$A$2:$L$1106,8,FALSE) -> МС | F39: 412 | J39: =VLOOKUP($F39,УЧАСТНИКИ!$A$2:$L$1106,9,FALSE) -> К
A40: 4 | B40: =VLOOKUP($F40,УЧАСТНИКИ!$A$2:$L$1106,3,FALSE) -> Денмухаметов Артём | C40: =VLOOKUP($F40,УЧАСТНИКИ!$A$2:$L$1106,4,FALSE) -> 15.05.1993 | D40: =VLOOKUP($F40,УЧАСТНИКИ!$A$2:$L$1106,5,FALSE) -> Свердловская область Челябинская область | E40: =VLOOKUP($F40,УЧАСТНИКИ!$A$2:$L$1106,8,FALSE) -> МСМК | F40: 64 | J40: =VLOOKUP($F40,УЧАСТНИКИ!$A$2:$L$1106,9,FALSE) -> К
A41: 5 | B41: =VLOOKUP($F41,УЧАСТНИКИ!$A$2:$L$1106,3,FALSE) -> Галацков Андрей | C41: =VLOOKUP($F41,УЧАСТНИКИ!$A$2:$L$1106,4,FALSE) -> 13.02.1992 | D41: =VLOOKUP($F41,УЧАСТНИКИ!$A$2:$L$1106,5,FALSE) -> Ульяновская область | E41: =VLOOKUP($F41,УЧАСТНИКИ!$A$2:$L$1106,8,FALSE) -> МС | F41: 193 | J41: =VLOOKUP($F41,УЧАСТНИКИ!$A$2:$L$1106,9,FALSE) -> К
A42: 6 | B42: =VLOOKUP($F42,УЧАСТНИКИ!$A$2:$L$1106,3,FALSE) -> Балыкин Антон | C42: =VLOOKUP($F42,УЧАСТНИКИ!$A$2:$L$1106,4,FALSE) -> 20.02.1996 | D42: =VLOOKUP($F42,УЧАСТНИКИ!$A$2:$L$1106,5,FALSE) -> Свердловская область | E42: =VLOOKUP($F42,УЧАСТНИКИ!$A$2:$L$1106,8,FALSE) -> МС | F42: 63 | J42: =VLOOKUP($F42,УЧАСТНИКИ!$A$2:$L$1106,9,FALSE) -> К
A43: 7 | B43: =VLOOKUP($F43,УЧАСТНИКИ!$A$2:$L$1106,3,FALSE) -> Прокофьев Константин | C43: =VLOOKUP($F43,УЧАСТНИКИ!$A$2:$L$1106,4,FALSE) -> 03.11.1997 | D43: =VLOOKUP($F43,УЧАСТНИКИ!$A$2:$L$1106,5,FALSE) -> Санкт-Петербург | E43: =VLOOKUP($F43,УЧАСТНИКИ!$A$2:$L$1106,8,FALSE) -> КМС | F43: 300 | J43: =VLOOKUP($F43,УЧАСТНИКИ!$A$2:$L$1106,9,FALSE) -> Л
A44: 8 | B44: =VLOOKUP($F44,УЧАСТНИКИ!$A$2:$L$1106,3,FALSE) -> Федотов Артём | C44: =VLOOKUP($F44,УЧАСТНИКИ!$A$2:$L$1106,4,FALSE) -> 12.11.1991 | D44: =VLOOKUP($F44,УЧАСТНИКИ!$A$2:$L$1106,5,FALSE) -> Ульяновская область | E44: =VLOOKUP($F44,УЧАСТНИКИ!$A$2:$L$1106,8,FALSE) -> МС | F44: 198 | J44: =VLOOKUP($F44,УЧАСТНИКИ!$A$2:$L$1106,9,FALSE) -> К
B45: 5 ЗАБЕГ
A46: 1
A47: 2 | B47: =VLOOKUP($F47,УЧАСТНИКИ!$A$2:$L$1106,3,FALSE) -> Масютенко Александр | C47: =VLOOKUP($F47,УЧАСТНИКИ!$A$2:$L$1106,4,FALSE) -> 27.04.1998 | D47: =VLOOKUP($F47,УЧАСТНИКИ!$A$2:$L$1106,5,FALSE) -> Краснодарский край | E47: =VLOOKUP($F47,УЧАСТНИКИ!$A$2:$L$1106,8,FALSE) -> КМС | F47: 157 | J47: =VLOOKUP($F47,УЧАСТНИКИ!$A$2:$L$1106,9,FALSE) -> Л
A48: 3 | B48: =VLOOKUP($F48,УЧАСТНИКИ!$A$2:$L$1106,3,FALSE) -> Ткалич Ярослав | C48: =VLOOKUP($F48,УЧАСТНИКИ!$A$2:$L$1106,4,FALSE) -> 05.06.1996 | D48: =VLOOKUP($F48,УЧАСТНИКИ!$A$2:$L$1106,5,FALSE) -> Смоленская область | E48: =VLOOKUP($F48,УЧАСТНИКИ!$A$2:$L$1106,8,FALSE) -> МС | F48: 384 | J48: =VLOOKUP($F48,УЧАСТНИКИ!$A$2:$L$1106,9,FALSE) -> К
A49: 4 | B49: =VLOOKUP($F49,УЧАСТНИКИ!$A$2:$L$1106,3,FALSE) -> Филатов Михаил | C49: =VLOOKUP($F49,УЧАСТНИКИ!$A$2:$L$1106,4,FALSE) -> 01.07.1994 | D49: =VLOOKUP($F49,УЧАСТНИКИ!$A$2:$L$1106,5,FALSE) -> Санкт-Петербург | E49: =VLOOKUP($F49,УЧАСТНИКИ!$A$2:$L$1106,8,FALSE) -> МС | F49: 316 | J49: =VLOOKUP($F49,УЧАСТНИКИ!$A$2:$L$1106,9,FALSE) -> К
A50: 5 | B50: =VLOOKUP($F50,УЧАСТНИКИ!$A$2:$L$1106,3,FALSE) -> Федяев Максим | C50: =VLOOKUP($F50,УЧАСТНИКИ!$A$2:$L$1106,4,FALSE) -> 01.12.1997 | D50: =VLOOKUP($F50,УЧАСТНИКИ!$A$2:$L$1106,5,FALSE) -> Московская область Курская область | E50: =VLOOKUP($F50,УЧАСТНИКИ!$A$2:$L$1106,8,FALSE) -> МСМК | F50: 191 | J50: =VLOOKUP($F50,УЧАСТНИКИ!$A$2:$L$1106,9,FALSE) -> К
A51: 6 | B51: =VLOOKUP($F51,УЧАСТНИКИ!$A$2:$L$1106,3,FALSE) -> Ивашко Павел | C51: =VLOOKUP($F51,УЧАСТНИКИ!$A$2:$L$1106,4,FALSE) -> 01.06.1994 | D51: =VLOOKUP($F51,УЧАСТНИКИ!$A$2:$L$1106,5,FALSE) -> Ханты-Мансийский автономный округ - Югра Пермский край | E51: =VLOOKUP($F51,УЧАСТНИКИ!$A$2:$L$1106,8,FALSE) -> МСМК | F51: 51 | J51: =VLOOKUP($F51,УЧАСТНИКИ!$A$2:$L$1106,9,FALSE) -> К
A52: 7 | B52: =VLOOKUP($F52,УЧАСТНИКИ!$A$2:$L$1106,3,FALSE) -> Маркелов Михаил | C52: =VLOOKUP($F52,УЧАСТНИКИ!$A$2:$L$1106,4,FALSE) -> 01.09.1997 | D52: =VLOOKUP($F52,УЧАСТНИКИ!$A$2:$L$1106,5,FALSE) -> Волгоградская область | E52: =VLOOKUP($F52,УЧАСТНИКИ!$A$2:$L$1106,8,FALSE) -> КМС | F52: 17 | J52: =VLOOKUP($F52,УЧАСТНИКИ!$A$2:$L$1106,9,FALSE) -> К
A53: 8 | B53: =VLOOKUP($F53,УЧАСТНИКИ!$A$2:$L$1106,3,FALSE) -> Оленковичус Илья | C53: =VLOOKUP($F53,УЧАСТНИКИ!$A$2:$L$1106,4,FALSE) -> 28.12.1998 | D53: =VLOOKUP($F53,УЧАСТНИКИ!$A$2:$L$1106,5,FALSE) -> Санкт-Петербург | E53: =VLOOKUP($F53,УЧАСТНИКИ!$A$2:$L$1106,8,FALSE) -> КМС | F53: 291 | J53: =VLOOKUP($F53,УЧАСТНИКИ!$A$2:$L$1106,9,FALSE) -> Л
B54: 6 ЗАБЕГ
A55: 1 | B55: =VLOOKUP($F55,УЧАСТНИКИ!$A$2:$L$1106,3,FALSE) -> #N/A | C55: =VLOOKUP($F55,УЧАСТНИКИ!$A$2:$L$1106,4,FALSE) -> #N/A | D55: =VLOOKUP($F55,УЧАСТНИКИ!$A$2:$L$1106,5,FALSE) -> #N/A | E55: =VLOOKUP($F55,УЧАСТНИКИ!$A$2:$L$1106,8,FALSE) -> #N/A | J55: =VLOOKUP($F55,УЧАСТНИКИ!$A$2:$L$1106,9,FALSE) -> #N/A
A56: 2 | B56: =VLOOKUP($F56,УЧАСТНИКИ!$A$2:$L$1106,3,FALSE) -> #N/A | C56: =VLOOKUP($F56,УЧАСТНИКИ!$A$2:$L$1106,4,FALSE) -> #N/A | D56: =VLOOKUP($F56,УЧАСТНИКИ!$A$2:$L$1106,5,FALSE) -> #N/A | E56: =VLOOKUP($F56,УЧАСТНИКИ!$A$2:$L$1106,8,FALSE) -> #N/A | J56: =VLOOKUP($F56,УЧАСТНИКИ!$A$2:$L$1106,9,FALSE) -> #N/A
A57: 3 | B57: =VLOOKUP($F57,УЧАСТНИКИ!$A$2:$L$1106,3,FALSE) -> #N/A | C57: =VLOOKUP($F57,УЧАСТНИКИ!$A$2:$L$1106,4,FALSE) -> #N/A | D57: =VLOOKUP($F57,УЧАСТНИКИ!$A$2:$L$1106,5,FALSE) -> #N/A | E57: =VLOOKUP($F57,УЧАСТНИКИ!$A$2:$L$1106,8,FALSE) -> #N/A | J57: =VLOOKUP($F57,УЧАСТНИКИ!$A$2:$L$1106,9,FALSE) -> #N/A
A58: 4 | B58: =VLOOKUP($F58,УЧАСТНИКИ!$A$2:$L$1106,3,FALSE) -> #N/A | C58: =VLOOKUP($F58,УЧАСТНИКИ!$A$2:$L$1106,4,FALSE) -> #N/A | D58: =VLOOKUP($F58,УЧАСТНИКИ!$A$2:$L$1106,5,FALSE) -> #N/A | E58: =VLOOKUP($F58,УЧАСТНИКИ!$A$2:$L$1106,8,FALSE) -> #N/A | J58: =VLOOKUP($F58,УЧАСТНИКИ!$A$2:$L$1106,9,FALSE) -> #N/A
A59: 5 | B59: =VLOOKUP($F59,УЧАСТНИКИ!$A$2:$L$1106,3,FALSE) -> #N/A | C59: =VLOOKUP($F59,УЧАСТНИКИ!$A$2:$L$1106,4,FALSE) -> #N/A | D59: =VLOOKUP($F59,УЧАСТНИКИ!$A$2:$L$1106,5,FALSE) -> #N/A | E59: =VLOOKUP($F59,УЧАСТНИКИ!$A$2:$L$1106,8,FALSE) -> #N/A | J59: =VLOOKUP($F59,УЧАСТНИКИ!$A$2:$L$1106,9,FALSE) -> #N/A
A60: 6 | B60: =VLOOKUP($F60,УЧАСТНИКИ!$A$2:$L$1106,3,FALSE) -> #N/A | C60: =VLOOKUP($F60,УЧАСТНИКИ!$A$2:$L$1106,4,FALSE) -> #N/A | D60: =VLOOKUP($F60,УЧАСТНИКИ!$A$2:$L$1106,5,FALSE) -> #N/A | E60: =VLOOKUP($F60,УЧАСТНИКИ!$A$2:$L$1106,8,FALSE) -> #N/A | J60: =VLOOKUP($F60,УЧАСТНИКИ!$A$2:$L$1106,9,FALSE) -> #N/A
A61: 7 | B61: =VLOOKUP($F61,УЧАСТНИКИ!$A$2:$L$1106,3,FALSE) -> #N/A | C61: =VLOOKUP($F61,УЧАСТНИКИ!$A$2:$L$1106,4,FALSE) -> #N/A | D61: =VLOOKUP($F61,УЧАСТНИКИ!$A$2:$L$1106,5,FALSE) -> #N/A | E61: =VLOOKUP($F61,УЧАСТНИКИ!$A$2:$L$1106,8,FALSE) -> #N/A | J61: =VLOOKUP($F61,УЧАСТНИКИ!$A$2:$L$1106,9,FALSE) -> #N/A
A62: 8 | B62: =VLOOKUP($F62,УЧАСТНИКИ!$A$2:$L$1106,3,FALSE) -> #N/A | C62: =VLOOKUP($F62,УЧАСТНИКИ!$A$2:$L$1106,4,FALSE) -> #N/A | D62: =VLOOKUP($F62,УЧАСТНИКИ!$A$2:$L$1106,5,FALSE) -> #N/A | E62: =VLOOKUP($F62,УЧАСТНИКИ!$A$2:$L$1106,8,FALSE) -> #N/A | J62: =VLOOKUP($F62,УЧАСТНИКИ!$A$2:$L$1106,9,FALSE) -> #N/A
B63: 7 ЗАБЕГ
A64: 1 | B64: =VLOOKUP($F64,УЧАСТНИКИ!$A$2:$L$1106,3,FALSE) -> #N/A | C64: =VLOOKUP($F64,УЧАСТНИКИ!$A$2:$L$1106,4,FALSE) -> #N/A | D64: =VLOOKUP($F64,УЧАСТНИКИ!$A$2:$L$1106,5,FALSE) -> #N/A | E64: =VLOOKUP($F64,УЧАСТНИКИ!$A$2:$L$1106,8,FALSE) -> #N/A | J64: =VLOOKUP($F64,УЧАСТНИКИ!$A$2:$L$1106,9,FALSE) -> #N/A
A65: 2 | B65: =VLOOKUP($F65,УЧАСТНИКИ!$A$2:$L$1106,3,FALSE) -> #N/A | C65: =VLOOKUP($F65,УЧАСТНИКИ!$A$2:$L$1106,4,FALSE) -> #N/A | D65: =VLOOKUP($F65,УЧАСТНИКИ!$A$2:$L$1106,5,FALSE) -> #N/A | E65: =VLOOKUP($F65,УЧАСТНИКИ!$A$2:$L$1106,8,FALSE) -> #N/A | J65: =VLOOKUP($F65,УЧАСТНИКИ!$A$2:$L$1106,9,FALSE) -> #N/A
A66: 3 | B66: =VLOOKUP($F66,УЧАСТНИКИ!$A$2:$L$1106,3,FALSE) -> #N/A | C66: =VLOOKUP($F66,УЧАСТНИКИ!$A$2:$L$1106,4,FALSE) -> #N/A | D66: =VLOOKUP($F66,УЧАСТНИКИ!$A$2:$L$1106,5,FALSE) -> #N/A | E66: =VLOOKUP($F66,УЧАСТНИКИ!$A$2:$L$1106,8,FALSE) -> #N/A | J66: =VLOOKUP($F66,УЧАСТНИКИ!$A$2:$L$1106,9,FALSE) -> #N/A
A67: 4 | B67: =VLOOKUP($F67,УЧАСТНИКИ!$A$2:$L$1106,3,FALSE) -> #N/A | C67: =VLOOKUP($F67,УЧАСТНИКИ!$A$2:$L$1106,4,FALSE) -> #N/A | D67: =VLOOKUP($F67,УЧАСТНИКИ!$A$2:$L$1106,5,FALSE) -> #N/A | E67: =VLOOKUP($F67,УЧАСТНИКИ!$A$2:$L$1106,8,FALSE) -> #N/A | J67: =VLOOKUP($F67,УЧАСТНИКИ!$A$2:$L$1106,9,FALSE) -> #N/A
A68: 5 | B68: =VLOOKUP($F68,УЧАСТНИКИ!$A$2:$L$1106,3,FALSE) -> #N/A | C68: =VLOOKUP($F68,УЧАСТНИКИ!$A$2:$L$1106,4,FALSE) -> #N/A | D68: =VLOOKUP($F68,УЧАСТНИКИ!$A$2:$L$1106,5,FALSE) -> #N/A | E68: =VLOOKUP($F68,УЧАСТНИКИ!$A$2:$L$1106,8,FALSE) -> #N/A | J68: =VLOOKUP($F68,УЧАСТНИКИ!$A$2:$L$1106,9,FALSE) -> #N/A
A69: 6 | B69: =VLOOKUP($F69,УЧАСТНИКИ!$A$2:$L$1106,3,FALSE) -> #N/A | C69: =VLOOKUP($F69,УЧАСТНИКИ!$A$2:$L$1106,4,FALSE) -> #N/A | D69: =VLOOKUP($F69,УЧАСТНИКИ!$A$2:$L$1106,5,FALSE) -> #N/A | E69: =VLOOKUP($F69,УЧАСТНИКИ!$A$2:$L$1106,8,FALSE) -> #N/A | J69: =VLOOKUP($F69,УЧАСТНИКИ!$A$2:$L$1106,9,FALSE) -> #N/A
A70: 7 | B70: =VLOOKUP($F70,УЧАСТНИКИ!$A$2:$L$1106,3,FALSE) -> #N/A | C70: =VLOOKUP($F70,УЧАСТНИКИ!$A$2:$L$1106,4,FALSE) -> #N/A | D70: =VLOOKUP($F70,УЧАСТНИКИ!$A$2:$L$1106,5,FALSE) -> #N/A | E70: =VLOOKUP($F70,УЧАСТНИКИ!$A$2:$L$1106,8,FALSE) -> #N/A | J70: =VLOOKUP($F70,УЧАСТНИКИ!$A$2:$L$1106,9,FALSE) -> #N/A
A71: 8 | B71: =VLOOKUP($F71,УЧАСТНИКИ!$A$2:$L$1106,3,FALSE) -> #N/A | C71: =VLOOKUP($F71,УЧАСТНИКИ!$A$2:$L$1106,4,FALSE) -> #N/A | D71: =VLOOKUP($F71,УЧАСТНИКИ!$A$2:$L$1106,5,FALSE) -> #N/A | E71: =VLOOKUP($F71,УЧАСТНИКИ!$A$2:$L$1106,8,FALSE) -> #N/A | J71: =VLOOKUP($F71,УЧАСТНИКИ!$A$2:$L$1106,9,FALSE) -> #N/A
A74: Рефери по бегу:
A75: Ст.судья:
A76: Ст.хронометрист:
A77: Секретарь:

Sheet 80-М
A1: =Name_2 -> ВСЕРОССИЙСКАЯ ФЕДЕРАЦИЯ ЛЕГКОЙ АТЛЕТИКИ
A2: СТАРТОВЫЙ ПРОТОКОЛ
A3: КУБОК РОССИИ
A4: МУЖЧИНЫ
A5: Бег 800 м
J6: РР- 1:42.47
B7: ФИНАЛЬНЫЕ ЗАБЕГИ | C7: 17:05 | D7: =d_2 -> 29.05.2019г. | E7: окончание соревнований: | J7: =d_5 -> г. Сочи, ул. Бзугу 2, ст. им. Славы Метревели
A8: № п/п | B8: Фамилия, имя участника | C8: Дата рождения | D8: Территория | E8: Заявленный разряд | F8: Номер участника | G8: Приход | H8: Результат | I8: Место | J8: Примеч.
B9: 1 ЗАБЕГ
A10: 1
A11: 2 | B11: =VLOOKUP($F11,УЧАСТНИКИ!$A$2:$L$1106,3,FALSE) -> Миронов Евгений | C11: =VLOOKUP($F11,УЧАСТНИКИ!$A$2:$L$1106,4,FALSE) -> 21.04.1993 | D11: =VLOOKUP($F11,УЧАСТНИКИ!$A$2:$L$1106,5,FALSE) -> Мурманская область | E11: =VLOOKUP($F11,УЧАСТНИКИ!$A$2:$L$1106,8,FALSE) -> КМС | F11: 44 | J11: =VLOOKUP($F11,УЧАСТНИКИ!$A$2:$L$1106,9,FALSE) -> К
A12: 3 | B12: =VLOOKUP($F12,УЧАСТНИКИ!$A$2:$L$1106,3,FALSE) -> Семёнов Владислав | C12: =VLOOKUP($F12,УЧАСТНИКИ!$A$2:$L$1106,4,FALSE) -> 07.06.1999 | D12: =VLOOKUP($F12,УЧАСТНИКИ!$A$2:$L$1106,5,FALSE) -> Санкт-Петербург | E12: =VLOOKUP($F12,УЧАСТНИКИ!$A$2:$L$1106,8,FALSE) -> КМС | F12: 306 | J12: =VLOOKUP($F12,УЧАСТНИКИ!$A$2:$L$1106,9,FALSE) -> Л
A13: 4 | B13: =VLOOKUP($F13,УЧАСТНИКИ!$A$2:$L$1106,3,FALSE) -> Троценко Роман | C13: =VLOOKUP($F13,УЧАСТНИКИ!$A$2:$L$1106,4,FALSE) -> 09.05.1992 | D13: =VLOOKUP($F13,УЧАСТНИКИ!$A$2:$L$1106,5,FALSE) -> Республика Бурятия | E13: =VLOOKUP($F13,УЧАСТНИКИ!$A$2:$L$1106,8,FALSE) -> МС | F13: 383 | J13: =VLOOKUP($F13,УЧАСТНИКИ!$A$2:$L$1106,9,FALSE) -> К
A14: 5 | B14: =VLOOKUP($F14,УЧАСТНИКИ!$A$2:$L$1106,3,FALSE) -> Назаренко Михаил | C14: =VLOOKUP($F14,УЧАСТНИКИ!$A$2:$L$1106,4,FALSE) -> 23.11.1995 | D14: =VLOOKUP($F14,УЧАСТНИКИ!$A$2:$L$1106,5,FALSE) -> ЮФО (К) | E14: =VLOOKUP($F14,УЧАСТНИКИ!$A$2:$L$1106,8,FALSE) -> 1 | F14: 435 | J14: =VLOOKUP($F14,УЧАСТНИКИ!$A$2:$L$1106,9,FALSE) -> К
A15: 6 | B15: =VLOOKUP($F15,УЧАСТНИКИ!$A$2:$L$1106,3,FALSE) -> Имангулов Руслан | C15: =VLOOKUP($F15,УЧАСТНИКИ!$A$2:$L$1106,4,FALSE) -> 06.01.1989 | D15: =VLOOKUP($F15,УЧАСТНИКИ!$A$2:$L$1106,5,FALSE) -> Республика Татарстан | E15: =VLOOKUP($F15,УЧАСТНИКИ!$A$2:$L$1106,8,FALSE) -> 1 | F15: 244 | J15: =VLOOKUP($F15,УЧАСТНИКИ!$A$2:$L$1106,9,FALSE) -> К
A16: 7 | B16: =VLOOKUP($F16,УЧАСТНИКИ!$A$2:$L$1106,3,FALSE) -> Кривчиков Егор | C16: =VLOOKUP($F16,УЧАСТНИКИ!$A$2:$L$1106,4,FALSE) -> 07.05.1998 | D16: =VLOOKUP($F16,УЧАСТНИКИ!$A$2:$L$1106,5,FALSE) -> Ростовская область | E16: =VLOOKUP($F16,УЧАСТНИКИ!$A$2:$L$1106,8,FALSE) -> КМС | F16: 479 | J16: =VLOOKUP($F16,УЧАСТНИКИ!$A$2:$L$1106,9,FALSE) -> К
A17: 8 | B17: =VLOOKUP($F17,УЧАСТНИКИ!$A$2:$L$1106,3,FALSE) -> Гадельшин Вильдан | C17: =VLOOKUP($F17,УЧАСТНИКИ!$A$2:$L$1106,4,FALSE) -> 12.04.1995 | D17: =VLOOKUP($F17,УЧАСТНИКИ!$A$2:$L$1106,5,FALSE) -> Республика Башкортостан | E17: =VLOOKUP($F17,УЧАСТНИКИ!$A$2:$L$1106,8,FALSE) -> КМС | F17: 201 | J17: =VLOOKUP($F17,УЧАСТНИКИ!$A$2:$L$1106,9,FALSE) -> К
B18: 2 ЗАБЕГ
A19: 1
A20: 2 | B20: =VLOOKUP($F20,УЧАСТНИКИ!$A$2:$L$1106,3,FALSE) -> Попов Артем | C20: =VLOOKUP($F20,УЧАСТНИКИ!$A$2:$L$1106,4,FALSE) -> 05.07.2001 | D20: =VLOOKUP($F20,УЧАСТНИКИ!$A$2:$L$1106,5,FALSE) -> Республика Хакасия | E20: =VLOOKUP($F20,УЧАСТНИКИ!$A$2:$L$1106,8,FALSE) -> КМС | F20: 1 | J20: =VLOOKUP($F20,УЧАСТНИКИ!$A$2:$L$1106,9,FALSE) -> К
A21: 3 | B21: =VLOOKUP($F21,УЧАСТНИКИ!$A$2:$L$1106,3,FALSE) -> Попов Владимир | C21: =VLOOKUP($F21,УЧАСТНИКИ!$A$2:$L$1106,4,FALSE) -> 19.03.1992 | D21: =VLOOKUP($F21,УЧАСТНИКИ!$A$2:$L$1106,5,FALSE) -> Чувашская республика Оренбургская область | E21: =VLOOKUP($F21,УЧАСТНИКИ!$A$2:$L$1106,8,FALSE) -> МС | F21: 379 | J21: =VLOOKUP($F21,УЧАСТНИКИ!$A$2:$L$1106,9,FALSE) -> К
A22: 4 | B22: =VLOOKUP($F22,УЧАСТНИКИ!$A$2:$L$1106,3,FALSE) -> Хворостухин Павел | C22: =VLOOKUP($F22,УЧАСТНИКИ!$A$2:$L$1106,4,FALSE) -> 18.06.1986 | D22: =VLOOKUP($F22,УЧАСТНИКИ!$A$2:$L$1106,5,FALSE) -> Москва Санкт-Петербург | E22: =VLOOKUP($F22,УЧАСТНИКИ!$A$2:$L$1106,8,FALSE) -> МС | F22: 319 | J22: =VLOOKUP($F22,УЧАСТНИКИ!$A$2:$L$1106,9,FALSE) -> Л
A23: 5 | B23: =VLOOKUP($F23,УЧАСТНИКИ!$A$2:$L$1106,3,FALSE) -> Пономарев Дмитрий | C23: =VLOOKUP($F23,УЧАСТНИКИ!$A$2:$L$1106,4,FALSE) -> 05.02.1999 | D23: =VLOOKUP($F23,УЧАСТНИКИ!$A$2:$L$1106,5,FALSE) -> Краснодарский край Республика Адыгея | E23: =VLOOKUP($F23,УЧАСТНИКИ!$A$2:$L$1106,8,FALSE) -> КМС | F23: 166 | J23: =VLOOKUP($F23,УЧАСТНИКИ!$A$2:$L$1106,9,FALSE) -> Л
A24: 6 | B24: =VLOOKUP($F24,УЧАСТНИКИ!$A$2:$L$1106,3,FALSE) -> Смольняковский Даниил | C24: =VLOOKUP($F24,УЧАСТНИКИ!$A$2:$L$1106,4,FALSE) -> 06.04.1998 | D24: =VLOOKUP($F24,УЧАСТНИКИ!$A$2:$L$1106,5,FALSE) -> Краснодарский край Ставропольский край | E24: =VLOOKUP($F24,УЧАСТНИКИ!$A$2:$L$1106,8,FALSE) -> КМС | F24: 172 | J24: =VLOOKUP($F24,УЧАСТНИКИ!$A$2:$L$1106,9,FALSE) -> Л
A25: 7 | B25: =VLOOKUP($F25,УЧАСТНИКИ!$A$2:$L$1106,3,FALSE) -> Селиванов Олег | C25: =VLOOKUP($F25,УЧАСТНИКИ!$A$2:$L$1106,4,FALSE) -> 07.05.1994 | D25: =VLOOKUP($F25,УЧАСТНИКИ!$A$2:$L$1106,5,FALSE) -> Санкт-Петербург | E25: =VLOOKUP($F25,УЧАСТНИКИ!$A$2:$L$1106,8,FALSE) -> КМС | F25: 304 | J25: =VLOOKUP($F25,УЧАСТНИКИ!$A$2:$L$1106,9,FALSE) -> Л
A26: 8 | B26: =VLOOKUP($F26,УЧАСТНИКИ!$A$2:$L$1106,3,FALSE) -> Тимко Вадим | C26: =VLOOKUP($F26,УЧАСТНИКИ!$A$2:$L$1106,4,FALSE) -> 03.11.1997 | D26: =VLOOKUP($F26,УЧАСТНИКИ!$A$2:$L$1106,5,FALSE) -> Республика Бурятия | E26: =VLOOKUP($F26,УЧАСТНИКИ!$A$2:$L$1106,8,FALSE) -> КМС | F26: 382 | J26: =VLOOKUP($F26,УЧАСТНИКИ!$A$2:$L$1106,9,FALSE) -> К
B27: 3 ЗАБЕГ
A28: 1 | B28: =VLOOKUP($F28,УЧАСТНИКИ!$A$2:$L$1106,3,FALSE) -> Сидоров Олег | C28: =VLOOKUP($F28,УЧАСТНИКИ!$A$2:$L$1106,4,FALSE) -> 07.06.1990 | D28: =VLOOKUP($F28,УЧАСТНИКИ!$A$2:$L$1106,5,FALSE) -> Республика Татарстан | E28: =VLOOKUP($F28,УЧАСТНИКИ!$A$2:$L$1106,8,FALSE) -> МС | F28: 247 | J28: =VLOOKUP($F28,УЧАСТНИКИ!$A$2:$L$1106,9,FALSE) -> К
A29: 2 | B29: =VLOOKUP($F29,УЧАСТНИКИ!$A$2:$L$1106,3,FALSE) -> Надыров Ильдар | C29: =VLOOKUP($F29,УЧАСТНИКИ!$A$2:$L$1106,4,FALSE) -> 22.04.1994 | D29: =VLOOKUP($F29,УЧАСТНИКИ!$A$2:$L$1106,5,FALSE) -> Алтайский край | E29: =VLOOKUP($F29,УЧАСТНИКИ!$A$2:$L$1106,8,FALSE) -> КМС | F29: 19 | J29: =VLOOKUP($F29,УЧАСТНИКИ!$A$2:$L$1106,9,FALSE) -> К
A30: 3 | B30: =VLOOKUP($F30,УЧАСТНИКИ!$A$2:$L$1106,3,FALSE) -> Вербицкий Николай | C30: =VLOOKUP($F30,УЧАСТНИКИ!$A$2:$L$1106,4,FALSE) -> 16.12.1995 | D30: =VLOOKUP($F30,УЧАСТНИКИ!$A$2:$L$1106,5,FALSE) -> Московская область Республика Бурятия | E30: =VLOOKUP($F30,УЧАСТНИКИ!$A$2:$L$1106,8,FALSE) -> МС | F30: 380 | J30: =VLOOKUP($F30,УЧАСТНИКИ!$A$2:$L$1106,9,FALSE) -> К
A31: 4 | B31: =VLOOKUP($F31,УЧАСТНИКИ!$A$2:$L$1106,3,FALSE) -> Холмогоров Константин | C31: =VLOOKUP($F31,УЧАСТНИКИ!$A$2:$L$1106,4,FALSE) -> 07.02.1996 | D31: =VLOOKUP($F31,УЧАСТНИКИ!$A$2:$L$1106,5,FALSE) -> Москва Пермский край | E31: =VLOOKUP($F31,УЧАСТНИКИ!$A$2:$L$1106,8,FALSE) -> МСМК | F31: 27 | J31: =VLOOKUP($F31,УЧАСТНИКИ!$A$2:$L$1106,9,FALSE) -> К
A32: 5 | B32: =VLOOKUP($F32,УЧАСТНИКИ!$A$2:$L$1106,3,FALSE) -> Переметов Данил | C32: =VLOOKUP($F32,УЧАСТНИКИ!$A$2:$L$1106,4,FALSE) -> 18.03.1995 | D32: =VLOOKUP($F32,УЧАСТНИКИ!$A$2:$L$1106,5,FALSE) -> Краснодарский край | E32: =VLOOKUP($F32,УЧАСТНИКИ!$A$2:$L$1106,8,FALSE) -> МС | F32: 160 | J32: =VLOOKUP($F32,УЧАСТНИКИ!$A$2:$L$1106,9,FALSE) -> К
A33: 6 | B33: =VLOOKUP($F33,УЧАСТНИКИ!$A$2:$L$1106,3,FALSE) -> Филиппов Егор | C33: =VLOOKUP($F33,УЧАСТНИКИ!$A$2:$L$1106,4,FALSE) -> 04.07.1999 | D33: =VLOOKUP($F33,УЧАСТНИКИ!$A$2:$L$1106,5,FALSE) -> Московская область | E33: =VLOOKUP($F33,УЧАСТНИКИ!$A$2:$L$1106,8,FALSE) -> МС | F33: 471 | J33: =VLOOKUP($F33,УЧАСТНИКИ!$A$2:$L$1106,9,FALSE) -> К
A34: 7 | B34: =VLOOKUP($F34,УЧАСТНИКИ!$A$2:$L$1106,3,FALSE) -> Ефремов Данила | C34: =VLOOKUP($F34,УЧАСТНИКИ!$A$2:$L$1106,4,FALSE) -> 19.06.1990 | D34: =VLOOKUP($F34,УЧАСТНИКИ!$A$2:$L$1106,5,FALSE) -> Ямало-Ненецкий автономный округ | E34: =VLOOKUP($F34,УЧАСТНИКИ!$A$2:$L$1106,8,FALSE) -> МС | F34: 250 | J34: =VLOOKUP($F34,УЧАСТНИКИ!$A$2:$L$1106,9,FALSE) -> К
A35: 8
B36: 4 ЗАБЕГ
A37: 1 | B37: =VLOOKUP($F37,УЧАСТНИКИ!$A$2:$L$1106,3,FALSE) -> Мазный Богдан | C37: =VLOOKUP($F37,УЧАСТНИКИ!$A$2:$L$1106,4,FALSE) -> 26.10.1999 | D37: =VLOOKUP($F37,УЧАСТНИКИ!$A$2:$L$1106,5,FALSE) -> ЮФО (К) | E37: =VLOOKUP($F37,УЧАСТНИКИ!$A$2:$L$1106,8,FALSE) -> КМС | F37: 433 | J37: =VLOOKUP($F37,УЧАСТНИКИ!$A$2:$L$1106,9,FALSE) -> К
A38: 2 | B38: =VLOOKUP($F38,УЧАСТНИКИ!$A$2:$L$1106,3,FALSE) -> Шаров Егор | C38: =VLOOKUP($F38,УЧАСТНИКИ!$A$2:$L$1106,4,FALSE) -> 16.12.1988 | D38: =VLOOKUP($F38,УЧАСТНИКИ!$A$2:$L$1106,5,FALSE) -> Свердловская область Алтайский край | E38: =VLOOKUP($F38,УЧАСТНИКИ!$A$2:$L$1106,8,FALSE) -> ЗМС | F38: 24 | J38: =VLOOKUP($F38,УЧАСТНИКИ!$A$2:$L$1106,9,FALSE) -> К
A39: 3 | B39: =VLOOKUP($F39,УЧАСТНИКИ!$A$2:$L$1106,3,FALSE) -> Зуев Константин | C39: =VLOOKUP($F39,УЧАСТНИКИ!$A$2:$L$1106,4,FALSE) -> 23.12.1998 | D39: =VLOOKUP($F39,УЧАСТНИКИ!$A$2:$L$1106,5,FALSE) -> Московская область | E39: =VLOOKUP($F39,УЧАСТНИКИ!$A$2:$L$1106,8,FALSE) -> КМС | F39: 453 | J39: =VLOOKUP($F39,УЧАСТНИКИ!$A$2:$L$1106,9,FALSE) -> Л
A40: 4 | B40: =VLOOKUP($F40,УЧАСТНИКИ!$A$2:$L$1106,3,FALSE) -> Дубровский Сергей | C40: =VLOOKUP($F40,УЧАСТНИКИ!$A$2:$L$1106,4,FALSE) -> 20.01.1995 | D40: =VLOOKUP($F40,УЧАСТНИКИ!$A$2:$L$1106,5,FALSE) -> Московская область Белгородская область | E40: =VLOOKUP($F40,УЧАСТНИКИ!$A$2:$L$1106,8,FALSE) -> МС | F40: 446 | J40: =VLOOKUP($F40,УЧАСТНИКИ!$A$2:$L$1106,9,FALSE) -> К
A41: 5 | B41: =VLOOKUP($F41,УЧАСТНИКИ!$A$2:$L$1106,3,FALSE) -> Савлуков Савелий | C41: =VLOOKUP($F41,УЧАСТНИКИ!$A$2:$L$1106,4,FALSE) -> 06.01.2000 | D41: =VLOOKUP($F41,УЧАСТНИКИ!$A$2:$L$1106,5,FALSE) -> Алтайский край | E41: =VLOOKUP($F41,УЧАСТНИКИ!$A$2:$L$1106,8,FALSE) -> 1 | F41: 23 | J41: =VLOOKUP($F41,УЧАСТНИКИ!$A$2:$L$1106,9,FALSE) -> К
A42: 6 | B42: =VLOOKUP($F42,УЧАСТНИКИ!$A$2:$L$1106,3,FALSE) -> Стрельников Данил | C42: =VLOOKUP($F42,УЧАСТНИКИ!$A$2:$L$1106,4,FALSE) -> 03.05.1992 | D42: =VLOOKUP($F42,УЧАСТНИКИ!$A$2:$L$1106,5,FALSE) -> Республика Башкортостан | E42: =VLOOKUP($F42,УЧАСТНИКИ!$A$2:$L$1106,8,FALSE) -> МС | F42: 203 | J42: =VLOOKUP($F42,УЧАСТНИКИ!$A$2:$L$1106,9,FALSE) -> К
A43: 7 | B43: =VLOOKUP($F43,УЧАСТНИКИ!$A$2:$L$1106,3,FALSE) -> Козлов Антон | C43: =VLOOKUP($F43,УЧАСТНИКИ!$A$2:$L$1106,4,FALSE) -> 09.03.1994 | D43: =VLOOKUP($F43,УЧАСТНИКИ!$A$2:$L$1106,5,FALSE) -> Ямало-Ненецкий автономный округ Владимирская область | E43: =VLOOKUP($F43,УЧАСТНИКИ!$A$2:$L$1106,8,FALSE) -> МС | F43: 209 | J43: =VLOOKUP($F43,УЧАСТНИКИ!$A$2:$L$1106,9,FALSE) -> К
A44: 8
B45: 5 ЗАБЕГ
A46: 1 | B46: =VLOOKUP($F46,УЧАСТНИКИ!$A$2:$L$1106,3,FALSE) -> #N/A | C46: =VLOOKUP($F46,УЧАСТНИКИ!$A$2:$L$1106,4,FALSE) -> #N/A | D46: =VLOOKUP($F46,УЧАСТНИКИ!$A$2:$L$1106,5,FALSE) -> #N/A | E46: =VLOOKUP($F46,УЧАСТНИКИ!$A$2:$L$1106,8,FALSE) -> #N/A | J46: =VLOOKUP($F46,УЧАСТНИКИ!$A$2:$L$1106,9,FALSE) -> #N/A
A47: 2 | B47: =VLOOKUP($F47,УЧАСТНИКИ!$A$2:$L$1106,3,FALSE) -> #N/A | C47: =VLOOKUP($F47,УЧАСТНИКИ!$A$2:$L$1106,4,FALSE) -> #N/A | D47: =VLOOKUP($F47,УЧАСТНИКИ!$A$2:$L$1106,5,FALSE) -> #N/A | E47: =VLOOKUP($F47,УЧАСТНИКИ!$A$2:$L$1106,8,FALSE) -> #N/A | J47: =VLOOKUP($F47,УЧАСТНИКИ!$A$2:$L$1106,9,FALSE) -> #N/A
A48: 3 | B48: =VLOOKUP($F48,УЧАСТНИКИ!$A$2:$L$1106,3,FALSE) -> #N/A | C48: =VLOOKUP($F48,УЧАСТНИКИ!$A$2:$L$1106,4,FALSE) -> #N/A | D48: =VLOOKUP($F48,УЧАСТНИКИ!$A$2:$L$1106,5,FALSE) -> #N/A | E48: =VLOOKUP($F48,УЧАСТНИКИ!$A$2:$L$1106,8,FALSE) -> #N/A | J48: =VLOOKUP($F48,УЧАСТНИКИ!$A$2:$L$1106,9,FALSE) -> #N/A
A49: 4 | B49: =VLOOKUP($F49,УЧАСТНИКИ!$A$2:$L$1106,3,FALSE) -> #N/A | C49: =VLOOKUP($F49,УЧАСТНИКИ!$A$2:$L$1106,4,FALSE) -> #N/A | D49: =VLOOKUP($F49,УЧАСТНИКИ!$A$2:$L$1106,5,FALSE) -> #N/A | E49: =VLOOKUP($F49,УЧАСТНИКИ!$A$2:$L$1106,8,FALSE) -> #N/A | J49: =VLOOKUP($F49,УЧАСТНИКИ!$A$2:$L$1106,9,FALSE) -> #N/A
A50: 5 | B50: =VLOOKUP($F50,УЧАСТНИКИ!$A$2:$L$1106,3,FALSE) -> #N/A | C50: =VLOOKUP($F50,УЧАСТНИКИ!$A$2:$L$1106,4,FALSE) -> #N/A | D50: =VLOOKUP($F50,УЧАСТНИКИ!$A$2:$L$1106,5,FALSE) -> #N/A | E50: =VLOOKUP($F50,УЧАСТНИКИ!$A$2:$L$1106,8,FALSE) -> #N/A | J50: =VLOOKUP($F50,УЧАСТНИКИ!$A$2:$L$1106,9,FALSE) -> #N/A
A51: 6 | B51: =VLOOKUP($F51,УЧАСТНИКИ!$A$2:$L$1106,3,FALSE) -> #N/A | C51: =VLOOKUP($F51,УЧАСТНИКИ!$A$2:$L$1106,4,FALSE) -> #N/A | D51: =VLOOKUP($F51,УЧАСТНИКИ!$A$2:$L$1106,5,FALSE) -> #N/A | E51: =VLOOKUP($F51,УЧАСТНИКИ!$A$2:$L$1106,8,FALSE) -> #N/A | J51: =VLOOKUP($F51,УЧАСТНИКИ!$A$2:$L$1106,9,FALSE) -> #N/A
A52: 7 | B52: =VLOOKUP($F52,УЧАСТНИКИ!$A$2:$L$1106,3,FALSE) -> #N/A | C52: =VLOOKUP($F52,УЧАСТНИКИ!$A$2:$L$1106,4,FALSE) -> #N/A | D52: =VLOOKUP($F52,УЧАСТНИКИ!$A$2:$L$1106,5,FALSE) -> #N/A | E52: =VLOOKUP($F52,УЧАСТНИКИ!$A$2:$L$1106,8,FALSE) -> #N/A | J52: =VLOOKUP($F52,УЧАСТНИКИ!$A$2:$L$1106,9,FALSE) -> #N/A
A53: 8 | B53: =VLOOKUP($F53,УЧАСТНИКИ!$A$2:$L$1106,3,FALSE) -> #N/A | C53: =VLOOKUP($F53,УЧАСТНИКИ!$A$2:$L$1106,4,FALSE) -> #N/A | D53: =VLOOKUP($F53,УЧАСТНИКИ!$A$2:$L$1106,5,FALSE) -> #N/A | E53: =VLOOKUP($F53,УЧАСТНИКИ!$A$2:$L$1106,8,FALSE) -> #N/A | J53: =VLOOKUP($F53,УЧАСТНИКИ!$A$2:$L$1106,9,FALSE) -> #N/A
B54: 6 ЗАБЕГ
A55: 1 | B55: =VLOOKUP($F55,УЧАСТНИКИ!$A$2:$L$1106,3,FALSE) -> #N/A | C55: =VLOOKUP($F55,УЧАСТНИКИ!$A$2:$L$1106,4,FALSE) -> #N/A | D55: =VLOOKUP($F55,УЧАСТНИКИ!$A$2:$L$1106,5,FALSE) -> #N/A | E55: =VLOOKUP($F55,УЧАСТНИКИ!$A$2:$L$1106,8,FALSE) -> #N/A | J55: =VLOOKUP($F55,УЧАСТНИКИ!$A$2:$L$1106,9,FALSE) -> #N/A
A56: 2 | B56: =VLOOKUP($F56,УЧАСТНИКИ!$A$2:$L$1106,3,FALSE) -> #N/A | C56: =VLOOKUP($F56,УЧАСТНИКИ!$A$2:$L$1106,4,FALSE) -> #N/A | D56: =VLOOKUP($F56,УЧАСТНИКИ!$A$2:$L$1106,5,FALSE) -> #N/A | E56: =VLOOKUP($F56,УЧАСТНИКИ!$A$2:$L$1106,8,FALSE) -> #N/A | J56: =VLOOKUP($F56,УЧАСТНИКИ!$A$2:$L$1106,9,FALSE) -> #N/A
A57: 3 | B57: =VLOOKUP($F57,УЧАСТНИКИ!$A$2:$L$1106,3,FALSE) -> #N/A | C57: =VLOOKUP($F57,УЧАСТНИКИ!$A$2:$L$1106,4,FALSE) -> #N/A | D57: =VLOOKUP($F57,УЧАСТНИКИ!$A$2:$L$1106,5,FALSE) -> #N/A | E57: =VLOOKUP($F57,УЧАСТНИКИ!$A$2:$L$1106,8,FALSE) -> #N/A | J57: =VLOOKUP($F57,УЧАСТНИКИ!$A$2:$L$1106,9,FALSE) -> #N/A
A58: 4 | B58: =VLOOKUP($F58,УЧАСТНИКИ!$A$2:$L$1106,3,FALSE) -> #N/A | C58: =VLOOKUP($F58,УЧАСТНИКИ!$A$2:$L$1106,4,FALSE) -> #N/A | D58: =VLOOKUP($F58,УЧАСТНИКИ!$A$2:$L$1106,5,FALSE) -> #N/A | E58: =VLOOKUP($F58,УЧАСТНИКИ!$A$2:$L$1106,8,FALSE) -> #N/A | J58: =VLOOKUP($F58,УЧАСТНИКИ!$A$2:$L$1106,9,FALSE) -> #N/A
A59: 5 | B59: =VLOOKUP($F59,УЧАСТНИКИ!$A$2:$L$1106,3,FALSE) -> #N/A | C59: =VLOOKUP($F59,УЧАСТНИКИ!$A$2:$L$1106,4,FALSE) -> #N/A | D59: =VLOOKUP($F59,УЧАСТНИКИ!$A$2:$L$1106,5,FALSE) -> #N/A | E59: =VLOOKUP($F59,УЧАСТНИКИ!$A$2:$L$1106,8,FALSE) -> #N/A | J59: =VLOOKUP($F59,УЧАСТНИКИ!$A$2:$L$1106,9,FALSE) -> #N/A
A60: 6 | B60: =VLOOKUP($F60,УЧАСТНИКИ!$A$2:$L$1106,3,FALSE) -> #N/A | C60: =VLOOKUP($F60,УЧАСТНИКИ!$A$2:$L$1106,4,FALSE) -> #N/A | D60: =VLOOKUP($F60,УЧАСТНИКИ!$A$2:$L$1106,5,FALSE) -> #N/A | E60: =VLOOKUP($F60,УЧАСТНИКИ!$A$2:$L$1106,8,FALSE) -> #N/A | J60: =VLOOKUP($F60,УЧАСТНИКИ!$A$2:$L$1106,9,FALSE) -> #N/A
A61: 7 | B61: =VLOOKUP($F61,УЧАСТНИКИ!$A$2:$L$1106,3,FALSE) -> #N/A | C61: =VLOOKUP($F61,УЧАСТНИКИ!$A$2:$L$1106,4,FALSE) -> #N/A | D61: =VLOOKUP($F61,УЧАСТНИКИ!$A$2:$L$1106,5,FALSE) -> #N/A | E61: =VLOOKUP($F61,УЧАСТНИКИ!$A$2:$L$1106,8,FALSE) -> #N/A | J61: =VLOOKUP($F61,УЧАСТНИКИ!$A$2:$L$1106,9,FALSE) -> #N/A
A62: 8 | B62: =VLOOKUP($F62,УЧАСТНИКИ!$A$2:$L$1106,3,FALSE) -> #N/A | C62: =VLOOKUP($F62,УЧАСТНИКИ!$A$2:$L$1106,4,FALSE) -> #N/A | D62: =VLOOKUP($F62,УЧАСТНИКИ!$A$2:$L$1106,5,FALSE) -> #N/A | E62: =VLOOKUP($F62,УЧАСТНИКИ!$A$2:$L$1106,8,FALSE) -> #N/A | J62: =VLOOKUP($F62,УЧАСТНИКИ!$A$2:$L$1106,9,FALSE) -> #N/A
A64: Рефери по бегу:
A65: Ст.судья:
A66: Ст.хронометрист:
A67: Секретарь:

Sheet 150-М
A1: =Name_2 -> ВСЕРОССИЙСКАЯ ФЕДЕРАЦИЯ ЛЕГКОЙ АТЛЕТИКИ
A2: СТАРТОВЫЙ ПРОТОКОЛ
A3: КУБОК РОССИИ
A4: МУЖЧИНЫ
A5: Бег 1500 м
J6: РР- 3:32.28
B7: ФИНАЛЬНЫЕ ЗАБЕГИ | C7: 17:45 | D7: =d_1 -> 28.05.2019г. | E7: окончание соревнований: | J7: =d_5 -> г. Сочи, ул. Бзугу 2, ст. им. Славы Метревели
A8: № п/п | B8: Фамилия, имя участника | C8: Дата рождения | D8: Территория | E8: Заявленный разряд | F8: Номер участника | G8: Приход | H8: Результат | I8: Место | J8: Примеч.
B9: 1 ЗАБЕГ
A10: 1 | B10: =VLOOKUP($F10,УЧАСТНИКИ!$A$2:$L$1106,3,FALSE) -> Ефремов Данила | C10: =VLOOKUP($F10,УЧАСТНИКИ!$A$2:$L$1106,4,FALSE) -> 19.06.1990 | D10: =VLOOKUP($F10,УЧАСТНИКИ!$A$2:$L$1106,5,FALSE) -> Ямало-Ненецкий автономный округ | E10: =VLOOKUP($F10,УЧАСТНИКИ!$A$2:$L$1106,8,FALSE) -> МС | F10: 250 | J10: =VLOOKUP($F10,УЧАСТНИКИ!$A$2:$L$1106,9,FALSE) -> К
A11: 2 | B11: =VLOOKUP($F11,УЧАСТНИКИ!$A$2:$L$1106,3,FALSE) -> Баганов Данил | C11: =VLOOKUP($F11,УЧАСТНИКИ!$A$2:$L$1106,4,FALSE) -> 10.05.1992 | D11: =VLOOKUP($F11,УЧАСТНИКИ!$A$2:$L$1106,5,FALSE) -> Тюменская область | E11: =VLOOKUP($F11,УЧАСТНИКИ!$A$2:$L$1106,8,FALSE) -> КМС | F11: 85 | J11: =VLOOKUP($F11,УЧАСТНИКИ!$A$2:$L$1106,9,FALSE) -> К
A12: 3 | B12: =VLOOKUP($F12,УЧАСТНИКИ!$A$2:$L$1106,3,FALSE) -> Гадельшин Вильдан | C12: =VLOOKUP($F12,УЧАСТНИКИ!$A$2:$L$1106,4,FALSE) -> 12.04.1995 | D12: =VLOOKUP($F12,УЧАСТНИКИ!$A$2:$L$1106,5,FALSE) -> Республика Башкортостан | E12: =VLOOKUP($F12,УЧАСТНИКИ!$A$2:$L$1106,8,FALSE) -> КМС | F12: 201 | J12: =VLOOKUP($F12,УЧАСТНИКИ!$A$2:$L$1106,9,FALSE) -> К
A13: 4 | B13: =VLOOKUP($F13,УЧАСТНИКИ!$A$2:$L$1106,3,FALSE) -> Назаренко Михаил | C13: =VLOOKUP($F13,УЧАСТНИКИ!$A$2:$L$1106,4,FALSE) -> 23.11.1995 | D13: =VLOOKUP($F13,УЧАСТНИКИ!$A$2:$L$1106,5,FALSE) -> ЮФО (К) | E13: =VLOOKUP($F13,УЧАСТНИКИ!$A$2:$L$1106,8,FALSE) -> 1 | F13: 435 | J13: =VLOOKUP($F13,УЧАСТНИКИ!$A$2:$L$1106,9,FALSE) -> К
A14: 5 | B14: =VLOOKUP($F14,УЧАСТНИКИ!$A$2:$L$1106,3,FALSE) -> Овчинников Вaдим | C14: =VLOOKUP($F14,УЧАСТНИКИ!$A$2:$L$1106,4,FALSE) -> 04.01.1996 | D14: =VLOOKUP($F14,УЧАСТНИКИ!$A$2:$L$1106,5,FALSE) -> Свердловская область | E14: =VLOOKUP($F14,УЧАСТНИКИ!$A$2:$L$1106,8,FALSE) -> КМС | F14: 72 | J14: =VLOOKUP($F14,УЧАСТНИКИ!$A$2:$L$1106,9,FALSE) -> К
A15: 6 | B15: =VLOOKUP($F15,УЧАСТНИКИ!$A$2:$L$1106,3,FALSE) -> Рахманов Руслан | C15: =VLOOKUP($F15,УЧАСТНИКИ!$A$2:$L$1106,4,FALSE) -> 24.04.1997 | D15: =VLOOKUP($F15,УЧАСТНИКИ!$A$2:$L$1106,5,FALSE) -> Краснодарский край | E15: =VLOOKUP($F15,УЧАСТНИКИ!$A$2:$L$1106,8,FALSE) -> КМС | F15: 168 | J15: =VLOOKUP($F15,УЧАСТНИКИ!$A$2:$L$1106,9,FALSE) -> Л
A16: 7 | B16: =VLOOKUP($F16,УЧАСТНИКИ!$A$2:$L$1106,3,FALSE) -> Хворостухин Павел | C16: =VLOOKUP($F16,УЧАСТНИКИ!$A$2:$L$1106,4,FALSE) -> 18.06.1986 | D16: =VLOOKUP($F16,УЧАСТНИКИ!$A$2:$L$1106,5,FALSE) -> Москва Санкт-Петербург | E16: =VLOOKUP($F16,УЧАСТНИКИ!$A$2:$L$1106,8,FALSE) -> МС | F16: 319 | J16: =VLOOKUP($F16,УЧАСТНИКИ!$A$2:$L$1106,9,FALSE) -> Л
A17: 8 | B17: =VLOOKUP($F17,УЧАСТНИКИ!$A$2:$L$1106,3,FALSE) -> Семёнов Владислав | C17: =VLOOKUP($F17,УЧАСТНИКИ!$A$2:$L$1106,4,FALSE) -> 07.06.1999 | D17: =VLOOKUP($F17,УЧАСТНИКИ!$A$2:$L$1106,5,FALSE) -> Санкт-Петербург | E17: =VLOOKUP($F17,УЧАСТНИКИ!$A$2:$L$1106,8,FALSE) -> КМС | F17: 306 | J17: =VLOOKUP($F17,УЧАСТНИКИ!$A$2:$L$1106,9,FALSE) -> Л
A18: 9 | B18: =VLOOKUP($F18,УЧАСТНИКИ!$A$2:$L$1106,3,FALSE) -> Сидоров Олег | C18: =VLOOKUP($F18,УЧАСТНИКИ!$A$2:$L$1106,4,FALSE) -> 07.06.1990 | D18: =VLOOKUP($F18,УЧАСТНИКИ!$A$2:$L$1106,5,FALSE) -> Республика Татарстан | E18: =VLOOKUP($F18,УЧАСТНИКИ!$A$2:$L$1106,8,FALSE) -> МС | F18: 247 | J18: =VLOOKUP($F18,УЧАСТНИКИ!$A$2:$L$1106,9,FALSE) -> К
A19: 10 | B19: =VLOOKUP($F19,УЧАСТНИКИ!$A$2:$L$1106,3,FALSE) -> #N/A | C19: =VLOOKUP($F19,УЧАСТНИКИ!$A$2:$L$1106,4,FALSE) -> #N/A | D19: =VLOOKUP($F19,УЧАСТНИКИ!$A$2:$L$1106,5,FALSE) -> #N/A | E19: =VLOOKUP($F19,УЧАСТНИКИ!$A$2:$L$1106,8,FALSE) -> #N/A | J19: =VLOOKUP($F19,УЧАСТНИКИ!$A$2:$L$1106,9,FALSE) -> #N/A
A20: 11 | B20: =VLOOKUP($F20,УЧАСТНИКИ!$A$2:$L$1106,3,FALSE) -> #N/A | C20: =VLOOKUP($F20,УЧАСТНИКИ!$A$2:$L$1106,4,FALSE) -> #N/A | D20: =VLOOKUP($F20,УЧАСТНИКИ!$A$2:$L$1106,5,FALSE) -> #N/A | E20: =VLOOKUP($F20,УЧАСТНИКИ!$A$2:$L$1106,8,FALSE) -> #N/A | J20: =VLOOKUP($F20,УЧАСТНИКИ!$A$2:$L$1106,9,FALSE) -> #N/A
A21: 12 | B21: =VLOOKUP($F21,УЧАСТНИКИ!$A$2:$L$1106,3,FALSE) -> #N/A | C21: =VLOOKUP($F21,УЧАСТНИКИ!$A$2:$L$1106,4,FALSE) -> #N/A | D21: =VLOOKUP($F21,УЧАСТНИКИ!$A$2:$L$1106,5,FALSE) -> #N/A | E21: =VLOOKUP($F21,УЧАСТНИКИ!$A$2:$L$1106,8,FALSE) -> #N/A | J21: =VLOOKUP($F21,УЧАСТНИКИ!$A$2:$L$1106,9,FALSE) -> #N/A
A22: 13 | B22: =VLOOKUP($F22,УЧАСТНИКИ!$A$2:$L$1106,3,FALSE) -> #N/A | C22: =VLOOKUP($F22,УЧАСТНИКИ!$A$2:$L$1106,4,FALSE) -> #N/A | D22: =VLOOKUP($F22,УЧАСТНИКИ!$A$2:$L$1106,5,FALSE) -> #N/A | E22: =VLOOKUP($F22,УЧАСТНИКИ!$A$2:$L$1106,8,FALSE) -> #N/A | J22: =VLOOKUP($F22,УЧАСТНИКИ!$A$2:$L$1106,9,FALSE) -> #N/A
A23: 14 | B23: =VLOOKUP($F23,УЧАСТНИКИ!$A$2:$L$1106,3,FALSE) -> #N/A | C23: =VLOOKUP($F23,УЧАСТНИКИ!$A$2:$L$1106,4,FALSE) -> #N/A | D23: =VLOOKUP($F23,УЧАСТНИКИ!$A$2:$L$1106,5,FALSE) -> #N/A | E23: =VLOOKUP($F23,УЧАСТНИКИ!$A$2:$L$1106,8,FALSE) -> #N/A | J23: =VLOOKUP($F23,УЧАСТНИКИ!$A$2:$L$1106,9,FALSE) -> #N/A
A24: 15 | B24: =VLOOKUP($F24,УЧАСТНИКИ!$A$2:$L$1106,3,FALSE) -> #N/A | C24: =VLOOKUP($F24,УЧАСТНИКИ!$A$2:$L$1106,4,FALSE) -> #N/A | D24: =VLOOKUP($F24,УЧАСТНИКИ!$A$2:$L$1106,5,FALSE) -> #N/A | E24: =VLOOKUP($F24,УЧАСТНИКИ!$A$2:$L$1106,8,FALSE) -> #N/A | J24: =VLOOKUP($F24,УЧАСТНИКИ!$A$2:$L$1106,9,FALSE) -> #N/A
A25: 16 | B25: =VLOOKUP($F25,УЧАСТНИКИ!$A$2:$L$1106,3,FALSE) -> #N/A | C25: =VLOOKUP($F25,УЧАСТНИКИ!$A$2:$L$1106,4,FALSE) -> #N/A | D25: =VLOOKUP($F25,УЧАСТНИКИ!$A$2:$L$1106,5,FALSE) -> #N/A | E25: =VLOOKUP($F25,УЧАСТНИКИ!$A$2:$L$1106,8,FALSE) -> #N/A | J25: =VLOOKUP($F25,УЧАСТНИКИ!$A$2:$L$1106,9,FALSE) -> #N/A
B26: 2 ЗАБЕГ
A27: 1 | B27: =VLOOKUP($F27,УЧАСТНИКИ!$A$2:$L$1106,3,FALSE) -> Анисимов Алексей | C27: =VLOOKUP($F27,УЧАСТНИКИ!$A$2:$L$1106,4,FALSE) -> 05.06.1994 | D27: =VLOOKUP($F27,УЧАСТНИКИ!$A$2:$L$1106,5,FALSE) -> Воронежская область | E27: =VLOOKUP($F27,УЧАСТНИКИ!$A$2:$L$1106,8,FALSE) -> КМС | F27: 389 | J27: =VLOOKUP($F27,УЧАСТНИКИ!$A$2:$L$1106,9,FALSE) -> К
A28: 2 | B28: =VLOOKUP($F28,УЧАСТНИКИ!$A$2:$L$1106,3,FALSE) -> Никитин Владимир | C28: =VLOOKUP($F28,УЧАСТНИКИ!$A$2:$L$1106,4,FALSE) -> 05.08.1992 | D28: =VLOOKUP($F28,УЧАСТНИКИ!$A$2:$L$1106,5,FALSE) -> Москва Пермский край | E28: =VLOOKUP($F28,УЧАСТНИКИ!$A$2:$L$1106,8,FALSE) -> МСМК | F28: 26 | J28: =VLOOKUP($F28,УЧАСТНИКИ!$A$2:$L$1106,9,FALSE) -> К
A29: 3 | B29: =VLOOKUP($F29,УЧАСТНИКИ!$A$2:$L$1106,3,FALSE) -> Дубровский Сергей | C29: =VLOOKUP($F29,УЧАСТНИКИ!$A$2:$L$1106,4,FALSE) -> 20.01.1995 | D29: =VLOOKUP($F29,УЧАСТНИКИ!$A$2:$L$1106,5,FALSE) -> Московская область Белгородская область | E29: =VLOOKUP($F29,УЧАСТНИКИ!$A$2:$L$1106,8,FALSE) -> МС | F29: 446 | J29: =VLOOKUP($F29,УЧАСТНИКИ!$A$2:$L$1106,9,FALSE) -> К
A30: 4 | B30: =VLOOKUP($F30,УЧАСТНИКИ!$A$2:$L$1106,3,FALSE) -> Горин Николай | C30: =VLOOKUP($F30,УЧАСТНИКИ!$A$2:$L$1106,4,FALSE) -> 03.01.1995 | D30: =VLOOKUP($F30,УЧАСТНИКИ!$A$2:$L$1106,5,FALSE) -> Москва Республика Мордовия | E30: =VLOOKUP($F30,УЧАСТНИКИ!$A$2:$L$1106,8,FALSE) -> МС | F30: 217 | J30: =VLOOKUP($F30,УЧАСТНИКИ!$A$2:$L$1106,9,FALSE) -> К
A31: 5 | B31: =VLOOKUP($F31,УЧАСТНИКИ!$A$2:$L$1106,3,FALSE) -> Кунц Евгений | C31: =VLOOKUP($F31,УЧАСТНИКИ!$A$2:$L$1106,4,FALSE) -> 21.04.1993 | D31: =VLOOKUP($F31,УЧАСТНИКИ!$A$2:$L$1106,5,FALSE) -> Москва Алтайский край | E31: =VLOOKUP($F31,УЧАСТНИКИ!$A$2:$L$1106,8,FALSE) -> МСМК | F31: 354 | J31: =VLOOKUP($F31,УЧАСТНИКИ!$A$2:$L$1106,9,FALSE) -> Л
A32: 6 | B32: =VLOOKUP($F32,УЧАСТНИКИ!$A$2:$L$1106,3,FALSE) -> Попов Артем | C32: =VLOOKUP($F32,УЧАСТНИКИ!$A$2:$L$1106,4,FALSE) -> 05.07.2001 | D32: =VLOOKUP($F32,УЧАСТНИКИ!$A$2:$L$1106,5,FALSE) -> Республика Хакасия | E32: =VLOOKUP($F32,УЧАСТНИКИ!$A$2:$L$1106,8,FALSE) -> КМС | F32: 1 | J32: =VLOOKUP($F32,УЧАСТНИКИ!$A$2:$L$1106,9,FALSE) -> К
A33: 7 | B33: =VLOOKUP($F33,УЧАСТНИКИ!$A$2:$L$1106,3,FALSE) -> Корепин Григорий | C33: =VLOOKUP($F33,УЧАСТНИКИ!$A$2:$L$1106,4,FALSE) -> 27.01.2000 | D33: =VLOOKUP($F33,УЧАСТНИКИ!$A$2:$L$1106,5,FALSE) -> Санкт-Петербург | E33: =VLOOKUP($F33,УЧАСТНИКИ!$A$2:$L$1106,8,FALSE) -> КМС | F33: 284 | J33: =VLOOKUP($F33,УЧАСТНИКИ!$A$2:$L$1106,9,FALSE) -> Л
A34: 8 | B34: =VLOOKUP($F34,УЧАСТНИКИ!$A$2:$L$1106,3,FALSE) -> Петров Тимофей | C34: =VLOOKUP($F34,УЧАСТНИКИ!$A$2:$L$1106,4,FALSE) -> 25.08.1988 | D34: =VLOOKUP($F34,УЧАСТНИКИ!$A$2:$L$1106,5,FALSE) -> Санкт-Петербург | E34: =VLOOKUP($F34,УЧАСТНИКИ!$A$2:$L$1106,8,FALSE) -> МС | F34: 294 | J34: =VLOOKUP($F34,УЧАСТНИКИ!$A$2:$L$1106,9,FALSE) -> Л
A35: 9 | B35: =VLOOKUP($F35,УЧАСТНИКИ!$A$2:$L$1106,3,FALSE) -> Попов Алексей | C35: =VLOOKUP($F35,УЧАСТНИКИ!$A$2:$L$1106,4,FALSE) -> 17.06.1987 | D35: =VLOOKUP($F35,УЧАСТНИКИ!$A$2:$L$1106,5,FALSE) -> Воронежская область | E35: =VLOOKUP($F35,УЧАСТНИКИ!$A$2:$L$1106,8,FALSE) -> МСМК | F35: 396 | J35: =VLOOKUP($F35,УЧАСТНИКИ!$A$2:$L$1106,9,FALSE) -> К
A36: 10 | B36: =VLOOKUP($F36,УЧАСТНИКИ!$A$2:$L$1106,3,FALSE) -> Попов Владимир | C36: =VLOOKUP($F36,УЧАСТНИКИ!$A$2:$L$1106,4,FALSE) -> 19.03.1992 | D36: =VLOOKUP($F36,УЧАСТНИКИ!$A$2:$L$1106,5,FALSE) -> Чувашская республика Оренбургская область | E36: =VLOOKUP($F36,УЧАСТНИКИ!$A$2:$L$1106,8,FALSE) -> МС | F36: 379 | J36: =VLOOKUP($F36,УЧАСТНИКИ!$A$2:$L$1106,9,FALSE) -> К
A37: 11 | B37: =VLOOKUP($F37,УЧАСТНИКИ!$A$2:$L$1106,3,FALSE) -> #N/A | C37: =VLOOKUP($F37,УЧАСТНИКИ!$A$2:$L$1106,4,FALSE) -> #N/A | D37: =VLOOKUP($F37,УЧАСТНИКИ!$A$2:$L$1106,5,FALSE) -> #N/A | E37: =VLOOKUP($F37,УЧАСТНИКИ!$A$2:$L$1106,8,FALSE) -> #N/A | J37: =VLOOKUP($F37,УЧАСТНИКИ!$A$2:$L$1106,9,FALSE) -> #N/A
A38: 12 | B38: =VLOOKUP($F38,УЧАСТНИКИ!$A$2:$L$1106,3,FALSE) -> #N/A | C38: =VLOOKUP($F38,УЧАСТНИКИ!$A$2:$L$1106,4,FALSE) -> #N/A | D38: =VLOOKUP($F38,УЧАСТНИКИ!$A$2:$L$1106,5,FALSE) -> #N/A | E38: =VLOOKUP($F38,УЧАСТНИКИ!$A$2:$L$1106,8,FALSE) -> #N/A | J38: =VLOOKUP($F38,УЧАСТНИКИ!$A$2:$L$1106,9,FALSE) -> #N/A
A39: 13 | B39: =VLOOKUP($F39,УЧАСТНИКИ!$A$2:$L$1106,3,FALSE) -> #N/A | C39: =VLOOKUP($F39,УЧАСТНИКИ!$A$2:$L$1106,4,FALSE) -> #N/A | D39: =VLOOKUP($F39,УЧАСТНИКИ!$A$2:$L$1106,5,FALSE) -> #N/A | E39: =VLOOKUP($F39,УЧАСТНИКИ!$A$2:$L$1106,8,FALSE) -> #N/A | J39: =VLOOKUP($F39,УЧАСТНИКИ!$A$2:$L$1106,9,FALSE) -> #N/A
A40: 14 | B40: =VLOOKUP($F40,УЧАСТНИКИ!$A$2:$L$1106,3,FALSE) -> #N/A | C40: =VLOOKUP($F40,УЧАСТНИКИ!$A$2:$L$1106,4,FALSE) -> #N/A | D40: =VLOOKUP($F40,УЧАСТНИКИ!$A$2:$L$1106,5,FALSE) -> #N/A | E40: =VLOOKUP($F40,УЧАСТНИКИ!$A$2:$L$1106,8,FALSE) -> #N/A | J40: =VLOOKUP($F40,УЧАСТНИКИ!$A$2:$L$1106,9,FALSE) -> #N/A
A41: 15 | B41: =VLOOKUP($F41,УЧАСТНИКИ!$A$2:$L$1106,3,FALSE) -> #N/A | C41: =VLOOKUP($F41,УЧАСТНИКИ!$A$2:$L$1106,4,FALSE) -> #N/A | D41: =VLOOKUP($F41,УЧАСТНИКИ!$A$2:$L$1106,5,FALSE) -> #N/A | E41: =VLOOKUP($F41,УЧАСТНИКИ!$A$2:$L$1106,8,FALSE) -> #N/A | J41: =VLOOKUP($F41,УЧАСТНИКИ!$A$2:$L$1106,9,FALSE) -> #N/A
A42: 16 | B42: =VLOOKUP($F42,УЧАСТНИКИ!$A$2:$L$1106,3,FALSE) -> #N/A | C42: =VLOOKUP($F42,УЧАСТНИКИ!$A$2:$L$1106,4,FALSE) -> #N/A | D42: =VLOOKUP($F42,УЧАСТНИКИ!$A$2:$L$1106,5,FALSE) -> #N/A | E42: =VLOOKUP($F42,УЧАСТНИКИ!$A$2:$L$1106,8,FALSE) -> #N/A | J42: =VLOOKUP($F42,УЧАСТНИКИ!$A$2:$L$1106,9,FALSE) -> #N/A
A45: Рефери по бегу:
A46: Ст.судья:
A47: Ст.хронометрист:
A48: Секретарь:

Sheet 500-М
A1: =Name_2 -> ВСЕРОССИЙСКАЯ ФЕДЕРАЦИЯ ЛЕГКОЙ АТЛЕТИКИ
A2: СТАРТОВЫЙ ПРОТОКОЛ
A3: КУБОК РОССИИ
A4: МУЖЧИНЫ
A5: Бег 5000 м
J6: РР- 13:11.99
B7: ФИНАЛЬНЫЕ ЗАБЕГИ | C7: 19:10 | D7: =d_2 -> 29.05.2019г. | E7: окончание соревнований: | J7: =d_5 -> г. Сочи, ул. Бзугу 2, ст. им. Славы Метревели
A8: № п/п | B8: Фамилия, имя участника | C8: Дата рождения | D8: Территория | E8: Заявленный разряд | F8: Номер участника | G8: Приход | H8: Результат | I8: Место | J8: Примеч.
B9: 1 ЗАБЕГ
A10: 1 | B10: =VLOOKUP($F10,УЧАСТНИКИ!$A$2:$L$1106,3,FALSE) -> Садиков Нияз | C10: =VLOOKUP($F10,УЧАСТНИКИ!$A$2:$L$1106,4,FALSE) -> 31.01.1997 | D10: =VLOOKUP($F10,УЧАСТНИКИ!$A$2:$L$1106,5,FALSE) -> Республика Татарстан | E10: =VLOOKUP($F10,УЧАСТНИКИ!$A$2:$L$1106,8,FALSE) -> КМС | F10: 245 | J10: =VLOOKUP($F10,УЧАСТНИКИ!$A$2:$L$1106,9,FALSE) -> К
A11: 2 | B11: =VLOOKUP($F11,УЧАСТНИКИ!$A$2:$L$1106,3,FALSE) -> Чертыков Денис | C11: =VLOOKUP($F11,УЧАСТНИКИ!$A$2:$L$1106,4,FALSE) -> 07.05.1994 | D11: =VLOOKUP($F11,УЧАСТНИКИ!$A$2:$L$1106,5,FALSE) -> Республика Хакасия | E11: =VLOOKUP($F11,УЧАСТНИКИ!$A$2:$L$1106,8,FALSE) -> КМС | F11: 2 | J11: =VLOOKUP($F11,УЧАСТНИКИ!$A$2:$L$1106,9,FALSE) -> К
A12: 3 | B12: =VLOOKUP($F12,УЧАСТНИКИ!$A$2:$L$1106,3,FALSE) -> Харитонов Алексей | C12: =VLOOKUP($F12,УЧАСТНИКИ!$A$2:$L$1106,4,FALSE) -> 04.07.1991 | D12: =VLOOKUP($F12,УЧАСТНИКИ!$A$2:$L$1106,5,FALSE) -> Санкт-Петербург | E12: =VLOOKUP($F12,УЧАСТНИКИ!$A$2:$L$1106,8,FALSE) -> МС | F12: 317 | J12: =VLOOKUP($F12,УЧАСТНИКИ!$A$2:$L$1106,9,FALSE) -> Л
A13: 4 | B13: =VLOOKUP($F13,УЧАСТНИКИ!$A$2:$L$1106,3,FALSE) -> Стрелков Михаил | C13: =VLOOKUP($F13,УЧАСТНИКИ!$A$2:$L$1106,4,FALSE) -> 25.07.1994 | D13: =VLOOKUP($F13,УЧАСТНИКИ!$A$2:$L$1106,5,FALSE) -> Москва Орловская область | E13: =VLOOKUP($F13,УЧАСТНИКИ!$A$2:$L$1106,8,FALSE) -> МСМК | F13: 368 | J13: =VLOOKUP($F13,УЧАСТНИКИ!$A$2:$L$1106,9,FALSE) -> Л
A14: 5 | B14: =VLOOKUP($F14,УЧАСТНИКИ!$A$2:$L$1106,3,FALSE) -> Соловьев Сергей | C14: =VLOOKUP($F14,УЧАСТНИКИ!$A$2:$L$1106,4,FALSE) -> 05.10.1997 | D14: =VLOOKUP($F14,УЧАСТНИКИ!$A$2:$L$1106,5,FALSE) -> Республика Бурятия | E14: =VLOOKUP($F14,УЧАСТНИКИ!$A$2:$L$1106,8,FALSE) -> 1 | F14: 381 | J14: =VLOOKUP($F14,УЧАСТНИКИ!$A$2:$L$1106,9,FALSE) -> К
A15: 6 | B15: =VLOOKUP($F15,УЧАСТНИКИ!$A$2:$L$1106,3,FALSE) -> Смирнов Валентин | C15: =VLOOKUP($F15,УЧАСТНИКИ!$A$2:$L$1106,4,FALSE) -> 13.02.1986 | D15: =VLOOKUP($F15,УЧАСТНИКИ!$A$2:$L$1106,5,FALSE) -> Санкт-Петербург Челябинская область | E15: =VLOOKUP($F15,УЧАСТНИКИ!$A$2:$L$1106,8,FALSE) -> МСМК | F15: 309 | J15: =VLOOKUP($F15,УЧАСТНИКИ!$A$2:$L$1106,9,FALSE) -> К
A16: 7 | B16: =VLOOKUP($F16,УЧАСТНИКИ!$A$2:$L$1106,3,FALSE) -> Рыбаков Евгений | C16: =VLOOKUP($F16,УЧАСТНИКИ!$A$2:$L$1106,4,FALSE) -> 27.02.1985 | D16: =VLOOKUP($F16,УЧАСТНИКИ!$A$2:$L$1106,5,FALSE) -> Кемеровская область | E16: =VLOOKUP($F16,УЧАСТНИКИ!$A$2:$L$1106,8,FALSE) -> МСМК | F16: 4 | J16: =VLOOKUP($F16,УЧАСТНИКИ!$A$2:$L$1106,9,FALSE) -> К
A17: 8 | B17: =VLOOKUP($F17,УЧАСТНИКИ!$A$2:$L$1106,3,FALSE) -> Рыбаков Анатолий | C17: =VLOOKUP($F17,УЧАСТНИКИ!$A$2:$L$1106,4,FALSE) -> 27.02.1985 | D17: =VLOOKUP($F17,УЧАСТНИКИ!$A$2:$L$1106,5,FALSE) -> Кемеровская область | E17: =VLOOKUP($F17,УЧАСТНИКИ!$A$2:$L$1106,8,FALSE) -> МСМК | F17: 3 | J17: =VLOOKUP($F17,УЧАСТНИКИ!$A$2:$L$1106,9,FALSE) -> К
A18: 9 | B18: =VLOOKUP($F18,УЧАСТНИКИ!$A$2:$L$1106,3,FALSE) -> Попов Алексей | C18: =VLOOKUP($F18,УЧАСТНИКИ!$A$2:$L$1106,4,FALSE) -> 17.06.1987 | D18: =VLOOKUP($F18,УЧАСТНИКИ!$A$2:$L$1106,5,FALSE) -> Воронежская область | E18: =VLOOKUP($F18,УЧАСТНИКИ!$A$2:$L$1106,8,FALSE) -> МСМК | F18: 396 | J18: =VLOOKUP($F18,УЧАСТНИКИ!$A$2:$L$1106,9,FALSE) -> К
A19: 10 | B19: =VLOOKUP($F19,УЧАСТНИКИ!$A$2:$L$1106,3,FALSE) -> Никитин Владимир | C19: =VLOOKUP($F19,УЧАСТНИКИ!$A$2:$L$1106,4,FALSE) -> 05.08.1992 | D19: =VLOOKUP($F19,УЧАСТНИКИ!$A$2:$L$1106,5,FALSE) -> Москва Пермский край | E19: =VLOOKUP($F19,УЧАСТНИКИ!$A$2:$L$1106,8,FALSE) -> МСМК | F19: 26 | J19: =VLOOKUP($F19,УЧАСТНИКИ!$A$2:$L$1106,9,FALSE) -> К
A20: 11 | B20: =VLOOKUP($F20,УЧАСТНИКИ!$A$2:$L$1106,3,FALSE) -> Николаев Егор | C20: =VLOOKUP($F20,УЧАСТНИКИ!$A$2:$L$1106,4,FALSE) -> 28.04.1988 | D20: =VLOOKUP($F20,УЧАСТНИКИ!$A$2:$L$1106,5,FALSE) -> Московская область Республика Башкортостан | E20: =VLOOKUP($F20,УЧАСТНИКИ!$A$2:$L$1106,8,FALSE) -> МСМК | F20: 202 | J20: =VLOOKUP($F20,УЧАСТНИКИ!$A$2:$L$1106,9,FALSE) -> К
A21: 12 | B21: =VLOOKUP($F21,УЧАСТНИКИ!$A$2:$L$1106,3,FALSE) -> Дорофеев Алексей | C21: =VLOOKUP($F21,УЧАСТНИКИ!$A$2:$L$1106,4,FALSE) -> 08.04.1994 | D21: =VLOOKUP($F21,УЧАСТНИКИ!$A$2:$L$1106,5,FALSE) -> Тульская область | E21: =VLOOKUP($F21,УЧАСТНИКИ!$A$2:$L$1106,8,FALSE) -> МС | F21: 403 | J21: =VLOOKUP($F21,УЧАСТНИКИ!$A$2:$L$1106,9,FALSE) -> К
A22: 13 | B22: =VLOOKUP($F22,УЧАСТНИКИ!$A$2:$L$1106,3,FALSE) -> #N/A | C22: =VLOOKUP($F22,УЧАСТНИКИ!$A$2:$L$1106,4,FALSE) -> #N/A | D22: =VLOOKUP($F22,УЧАСТНИКИ!$A$2:$L$1106,5,FALSE) -> #N/A | E22: =VLOOKUP($F22,УЧАСТНИКИ!$A$2:$L$1106,8,FALSE) -> #N/A | J22: =VLOOKUP($F22,УЧАСТНИКИ!$A$2:$L$1106,9,FALSE) -> #N/A
A23: 14 | B23: =VLOOKUP($F23,УЧАСТНИКИ!$A$2:$L$1106,3,FALSE) -> #N/A | C23: =VLOOKUP($F23,УЧАСТНИКИ!$A$2:$L$1106,4,FALSE) -> #N/A | D23: =VLOOKUP($F23,УЧАСТНИКИ!$A$2:$L$1106,5,FALSE) -> #N/A | E23: =VLOOKUP($F23,УЧАСТНИКИ!$A$2:$L$1106,8,FALSE) -> #N/A | J23: =VLOOKUP($F23,УЧАСТНИКИ!$A$2:$L$1106,9,FALSE) -> #N/A
A26: Рефери по бегу:
A27: Ст.судья:
A28: Ст.хронометрист:
A29: Секретарь:

Sheet 4х10-М
A1: =Name_2 -> ВСЕРОССИЙСКАЯ ФЕДЕРАЦИЯ ЛЕГКОЙ АТЛЕТИКИ
A2: СТАРТОВЫЙ ПРОТОКОЛ
A3: КУБОК РОССИИ
A4: МУЖЧИНЫ
A5: Эстафета 4 х 100 м
J6: РР- 38.46
B7: ФИНАЛЬНЫЕ ЗАБЕГИ | C7: 19:30 | D7: =d_1 -> 28.05.2019г. | E7: окончание соревнований: | J7: =d_5 -> г. Сочи, ул. Бзугу 2, ст. им. Славы Метревели
A8: № п/п | B8: Фамилия, имя участника | C8: Дата рождения | D8: Территория | E8: Заявленный разряд | F8: Номер участника | G8: Приход | H8: Результат | I8: Место | J8: Примеч.
B9: 1 ЗАБЕГ
A10: 1
A11: 1
A12: 1
A13: 1
A14: 1
A15: 1
A17: 2 | B17: =VLOOKUP($F17,УЧАСТНИКИ!$A$2:$L$1106,3,FALSE) -> Никитин Олег | C17: =VLOOKUP($F17,УЧАСТНИКИ!$A$2:$L$1106,4,FALSE) -> 06.06.1997 | D17: =VLOOKUP($F17,УЧАСТНИКИ!$A$2:$L$1106,5,FALSE) -> Ульяновская область | E17: =VLOOKUP($F17,УЧАСТНИКИ!$A$2:$L$1106,8,FALSE) -> КМС | F17: 196 | J17: =VLOOKUP($F17,УЧАСТНИКИ!$A$2:$L$1106,9,FALSE) -> К
A18: 2 | B18: =VLOOKUP($F18,УЧАСТНИКИ!$A$2:$L$1106,3,FALSE) -> Юфимов Алексей | C18: =VLOOKUP($F18,УЧАСТНИКИ!$A$2:$L$1106,4,FALSE) -> 05.06.1998 | D18: =VLOOKUP($F18,УЧАСТНИКИ!$A$2:$L$1106,5,FALSE) -> Ульяновская область | E18: =VLOOKUP($F18,УЧАСТНИКИ!$A$2:$L$1106,8,FALSE) -> МС | F18: 199 | J18: =VLOOKUP($F18,УЧАСТНИКИ!$A$2:$L$1106,9,FALSE) -> К
A19: 2 | B19: =VLOOKUP($F19,УЧАСТНИКИ!$A$2:$L$1106,3,FALSE) -> Галацков Андрей | C19: =VLOOKUP($F19,УЧАСТНИКИ!$A$2:$L$1106,4,FALSE) -> 13.02.1992 | D19: =VLOOKUP($F19,УЧАСТНИКИ!$A$2:$L$1106,5,FALSE) -> Ульяновская область | E19: =VLOOKUP($F19,УЧАСТНИКИ!$A$2:$L$1106,8,FALSE) -> МС | F19: 193 | J19: =VLOOKUP($F19,УЧАСТНИКИ!$A$2:$L$1106,9,FALSE) -> К
A20: 2 | B20: =VLOOKUP($F20,УЧАСТНИКИ!$A$2:$L$1106,3,FALSE) -> Садеев Ильфат | C20: =VLOOKUP($F20,УЧАСТНИКИ!$A$2:$L$1106,4,FALSE) -> 17.12.1988 | D20: =VLOOKUP($F20,УЧАСТНИКИ!$A$2:$L$1106,5,FALSE) -> Ульяновская область | E20: =VLOOKUP($F20,УЧАСТНИКИ!$A$2:$L$1106,8,FALSE) -> МС | F20: 197 | J20: =VLOOKUP($F20,УЧАСТНИКИ!$A$2:$L$1106,9,FALSE) -> К
A21: 2 | B21: =VLOOKUP($F21,УЧАСТНИКИ!$A$2:$L$1106,3,FALSE) -> Федотов Артём | C21: =VLOOKUP($F21,УЧАСТНИКИ!$A$2:$L$1106,4,FALSE) -> 12.11.1991 | D21: =VLOOKUP($F21,УЧАСТНИКИ!$A$2:$L$1106,5,FALSE) -> Ульяновская область | E21: =VLOOKUP($F21,УЧАСТНИКИ!$A$2:$L$1106,8,FALSE) -> МС | F21: 198 | J21: =VLOOKUP($F21,УЧАСТНИКИ!$A$2:$L$1106,9,FALSE) -> К
A23: 3 | B23: =VLOOKUP($F23,УЧАСТНИКИ!$A$2:$L$1106,3,FALSE) -> Ежов Денис | C23: =VLOOKUP($F23,УЧАСТНИКИ!$A$2:$L$1106,4,FALSE) -> 18.03.1994 | D23: =VLOOKUP($F23,УЧАСТНИКИ!$A$2:$L$1106,5,FALSE) -> Краснодарский край Кабардино-Балкарская республика | E23: =VLOOKUP($F23,УЧАСТНИКИ!$A$2:$L$1106,8,FALSE) -> МС | F23: 141 | J23: =VLOOKUP($F23,УЧАСТНИКИ!$A$2:$L$1106,9,FALSE) -> К
A24: 3 | B24: =VLOOKUP($F24,УЧАСТНИКИ!$A$2:$L$1106,3,FALSE) -> Кислых Руслан | C24: =VLOOKUP($F24,УЧАСТНИКИ!$A$2:$L$1106,4,FALSE) -> 11.07.2000 | D24: =VLOOKUP($F24,УЧАСТНИКИ!$A$2:$L$1106,5,FALSE) -> Краснодарский край Белгородская область | E24: =VLOOKUP($F24,УЧАСТНИКИ!$A$2:$L$1106,8,FALSE) -> МС | F24: 147 | J24: =VLOOKUP($F24,УЧАСТНИКИ!$A$2:$L$1106,9,FALSE) -> Л
A25: 3 | B25: =VLOOKUP($F25,УЧАСТНИКИ!$A$2:$L$1106,3,FALSE) -> Лопин Дмитрий | C25: =VLOOKUP($F25,УЧАСТНИКИ!$A$2:$L$1106,4,FALSE) -> 29.07.1991 | D25: =VLOOKUP($F25,УЧАСТНИКИ!$A$2:$L$1106,5,FALSE) -> Краснодарский край Самарская область | E25: =VLOOKUP($F25,УЧАСТНИКИ!$A$2:$L$1106,8,FALSE) -> МС | F25: 153 | J25: =VLOOKUP($F25,УЧАСТНИКИ!$A$2:$L$1106,9,FALSE) -> К
A26: 3 | B26: =VLOOKUP($F26,УЧАСТНИКИ!$A$2:$L$1106,3,FALSE) -> Перестюк Руслан | C26: =VLOOKUP($F26,УЧАСТНИКИ!$A$2:$L$1106,4,FALSE) -> 22.04.1991 | D26: =VLOOKUP($F26,УЧАСТНИКИ!$A$2:$L$1106,5,FALSE) -> Краснодарский край ЮФО (К) | E26: =VLOOKUP($F26,УЧАСТНИКИ!$A$2:$L$1106,8,FALSE) -> МС | F26: 161 | J26: =VLOOKUP($F26,УЧАСТНИКИ!$A$2:$L$1106,9,FALSE) -> К
A27: 3 | B27: =VLOOKUP($F27,УЧАСТНИКИ!$A$2:$L$1106,3,FALSE) -> Хомутов Дмитрий | C27: =VLOOKUP($F27,УЧАСТНИКИ!$A$2:$L$1106,4,FALSE) -> 04.01.1992 | D27: =VLOOKUP($F27,УЧАСТНИКИ!$A$2:$L$1106,5,FALSE) -> Краснодарский край | E27: =VLOOKUP($F27,УЧАСТНИКИ!$A$2:$L$1106,8,FALSE) -> МС | F27: 180 | J27: =VLOOKUP($F27,УЧАСТНИКИ!$A$2:$L$1106,9,FALSE) -> Л
A28: 3 | B28: =VLOOKUP($F28,УЧАСТНИКИ!$A$2:$L$1106,3,FALSE) -> Цыплаков Даниил | C28: =VLOOKUP($F28,УЧАСТНИКИ!$A$2:$L$1106,4,FALSE) -> 29.07.1992 | D28: =VLOOKUP($F28,УЧАСТНИКИ!$A$2:$L$1106,5,FALSE) -> Краснодарский край Хабаровский край | E28: =VLOOKUP($F28,УЧАСТНИКИ!$A$2:$L$1106,8,FALSE) -> МСМК | F28: 181 | J28: =VLOOKUP($F28,УЧАСТНИКИ!$A$2:$L$1106,9,FALSE) -> К
A30: 4 | B30: =VLOOKUP($F30,УЧАСТНИКИ!$A$2:$L$1106,3,FALSE) -> Водичев Александр | C30: =VLOOKUP($F30,УЧАСТНИКИ!$A$2:$L$1106,4,FALSE) -> 14.11.1999 | D30: =VLOOKUP($F30,УЧАСТНИКИ!$A$2:$L$1106,5,FALSE) -> Калининградская область Санкт-Петербург | E30: =VLOOKUP($F30,УЧАСТНИКИ!$A$2:$L$1106,8,FALSE) -> КМС | F30: 270 | J30: =VLOOKUP($F30,УЧАСТНИКИ!$A$2:$L$1106,9,FALSE) -> Л
... A49: 6 | B49: =VLOOKUP($F49,УЧАСТНИКИ!$A$2:$L$1106,3,FALSE) -> Цыпкус Марк | C49: =VLOOKUP($F49,УЧАСТНИКИ!$A$2:$L$1106,4,FALSE) -> 05.02.1999 | D49: =VLOOKUP($F49,УЧАСТНИКИ!$A$2:$L$1106,5,FALSE) -> Вологодская область | E49: =VLOOKUP($F49,УЧАСТНИКИ!$A$2:$L$1106,8,FALSE) -> КМС | F49: 445 | J49: =VLOOKUP($F49,УЧАСТНИКИ!$A$2:$L$1106,9,FALSE) -> К
A53: Рефери по бегу:
A54: Ст.судья:
A55: Ст.хронометрист:
A56: Секретарь:

Sheet 4х40-м
A1: =Name_2 -> ВСЕРОССИЙСКАЯ ФЕДЕРАЦИЯ ЛЕГКОЙ АТЛЕТИКИ
A2: СТАРТОВЫЙ ПРОТОКОЛ
A3: КУБОК РОССИИ
A4: МУЖЧИНЫ
A5: Эстафета 4 х 100 м
J6: РР- 38.46
B7: ФИНАЛЬНЫЕ ЗАБЕГИ | C7: 12:55 | D7: =d_1 -> 28.05.2019г. | E7: окончание соревнований: | J7: =d_5 -> г. Сочи, ул. Бзугу 2, ст. им. Славы Метревели
A8: № п/п | B8: Фамилия, имя участника | C8: Дата рождения | D8: Территория | E8: Заявленный разряд | F8: Номер участника | G8: Приход | H8: Результат | I8: Место | J8: Примеч.
B9: 1 ЗАБЕГ
A10: 1 | B10: =VLOOKUP($F10,УЧАСТНИКИ!$A$2:$L$1106,3,FALSE) -> #N/A | C10: =VLOOKUP($F10,УЧАСТНИКИ!$A$2:$L$1106,4,FALSE) -> #N/A | D10: =VLOOKUP($F10,УЧАСТНИКИ!$A$2:$L$1106,5,FALSE) -> #N/A | E10: =VLOOKUP($F10,УЧАСТНИКИ!$A$2:$L$1106,8,FALSE) -> #N/A | J10: =VLOOKUP($F10,УЧАСТНИКИ!$A$2:$L$1106,9,FALSE) -> #N/A
A11: 1 | B11: =VLOOKUP($F11,УЧАСТНИКИ!$A$2:$L$1106,3,FALSE) -> #N/A | C11: =VLOOKUP($F11,УЧАСТНИКИ!$A$2:$L$1106,4,FALSE) -> #N/A | D11: =VLOOKUP($F11,УЧАСТНИКИ!$A$2:$L$1106,5,FALSE) -> #N/A | E11: =VLOOKUP($F11,УЧАСТНИКИ!$A$2:$L$1106,8,FALSE) -> #N/A | J11: =VLOOKUP($F11,УЧАСТНИКИ!$A$2:$L$1106,9,FALSE) -> #N/A
A12: 1 | B12: =VLOOKUP($F12,УЧАСТНИКИ!$A$2:$L$1106,3,FALSE) -> #N/A | C12: =VLOOKUP($F12,УЧАСТНИКИ!$A$2:$L$1106,4,FALSE) -> #N/A | D12: =VLOOKUP($F12,УЧАСТНИКИ!$A$2:$L$1106,5,FALSE) -> #N/A | E12: =VLOOKUP($F12,УЧАСТНИКИ!$A$2:$L$1106,8,FALSE) -> #N/A | J12: =VLOOKUP($F12,УЧАСТНИКИ!$A$2:$L$1106,9,FALSE) -> #N/A
A13: 1 | B13: =VLOOKUP($F13,УЧАСТНИКИ!$A$2:$L$1106,3,FALSE) -> #N/A | C13: =VLOOKUP($F13,УЧАСТНИКИ!$A$2:$L$1106,4,FALSE) -> #N/A | D13: =VLOOKUP($F13,УЧАСТНИКИ!$A$2:$L$1106,5,FALSE) -> #N/A | E13: =VLOOKUP($F13,УЧАСТНИКИ!$A$2:$L$1106,8,FALSE) -> #N/A | J13: =VLOOKUP($F13,УЧАСТНИКИ!$A$2:$L$1106,9,FALSE) -> #N/A
A14: 1 | B14: =VLOOKUP($F14,УЧАСТНИКИ!$A$2:$L$1106,3,FALSE) -> #N/A | C14: =VLOOKUP($F14,УЧАСТНИКИ!$A$2:$L$1106,4,FALSE) -> #N/A | D14: =VLOOKUP($F14,УЧАСТНИКИ!$A$2:$L$1106,5,FALSE) -> #N/A | E14: =VLOOKUP($F14,УЧАСТНИКИ!$A$2:$L$1106,8,FALSE) -> #N/A | J14: =VLOOKUP($F14,УЧАСТНИКИ!$A$2:$L$1106,9,FALSE) -> #N/A
A15: 1 | B15: =VLOOKUP($F15,УЧАСТНИКИ!$A$2:$L$1106,3,FALSE) -> #N/A | C15: =VLOOKUP($F15,УЧАСТНИКИ!$A$2:$L$1106,4,FALSE) -> #N/A | D15: =VLOOKUP($F15,УЧАСТНИКИ!$A$2:$L$1106,5,FALSE) -> #N/A | E15: =VLOOKUP($F15,УЧАСТНИКИ!$A$2:$L$1106,8,FALSE) -> #N/A | J15: =VLOOKUP($F15,УЧАСТНИКИ!$A$2:$L$1106,9,FALSE) -> #N/A
A17: 2 | B17: =VLOOKUP($F17,УЧАСТНИКИ!$A$2:$L$1106,3,FALSE) -> #N/A | C17: =VLOOKUP($F17,УЧАСТНИКИ!$A$2:$L$1106,4,FALSE) -> #N/A | D17: =VLOOKUP($F17,УЧАСТНИКИ!$A$2:$L$1106,5,FALSE) -> #N/A | E17: =VLOOKUP($F17,УЧАСТНИКИ!$A$2:$L$1106,8,FALSE) -> #N/A | J17: =VLOOKUP($F17,УЧАСТНИКИ!$A$2:$L$1106,9,FALSE) -> #N/A
A18: 2 | B18: =VLOOKUP($F18,УЧАСТНИКИ!$A$2:$L$1106,3,FALSE) -> #N/A | C18: =VLOOKUP($F18,УЧАСТНИКИ!$A$2:$L$1106,4,FALSE) -> #N/A | D18: =VLOOKUP($F18,УЧАСТНИКИ!$A$2:$L$1106,5,FALSE) -> #N/A | E18: =VLOOKUP($F18,УЧАСТНИКИ!$A$2:$L$1106,8,FALSE) -> #N/A | J18: =VLOOKUP($F18,УЧАСТНИКИ!$A$2:$L$1106,9,FALSE) -> #N/A
A19: 2 | B19: =VLOOKUP($F19,УЧАСТНИКИ!$A$2:$L$1106,3,FALSE) -> #N/A | C19: =VLOOKUP($F19,УЧАСТНИКИ!$A$2:$L$1106,4,FALSE) -> #N/A | D19: =VLOOKUP($F19,УЧАСТНИКИ!$A$2:$L$1106,5,FALSE) -> #N/A | E19: =VLOOKUP($F19,УЧАСТНИКИ!$A$2:$L$1106,8,FALSE) -> #N/A | J19: =VLOOKUP($F19,УЧАСТНИКИ!$A$2:$L$1106,9,FALSE) -> #N/A
A20: 2 | B20: =VLOOKUP($F20,УЧАСТНИКИ!$A$2:$L$1106,3,FALSE) -> #N/A | C20: =VLOOKUP($F20,УЧАСТНИКИ!$A$2:$L$1106,4,FALSE) -> #N/A | D20: =VLOOKUP($F20,УЧАСТНИКИ!$A$2:$L$1106,5,FALSE) -> #N/A | E20: =VLOOKUP($F20,УЧАСТНИКИ!$A$2:$L$1106,8,FALSE) -> #N/A | J20: =VLOOKUP($F20,УЧАСТНИКИ!$A$2:$L$1106,9,FALSE) -> #N/A
A21: 2 | B21: =VLOOKUP($F21,УЧАСТНИКИ!$A$2:$L$1106,3,FALSE) -> #N/A | C21: =VLOOKUP($F21,УЧАСТНИКИ!$A$2:$L$1106,4,FALSE) -> #N/A | D21: =VLOOKUP($F21,УЧАСТНИКИ!$A$2:$L$1106,5,FALSE) -> #N/A | E21: =VLOOKUP($F21,УЧАСТНИКИ!$A$2:$L$1106,8,FALSE) -> #N/A | J21: =VLOOKUP($F21,УЧАСТНИКИ!$A$2:$L$1106,9,FALSE) -> #N/A
A22: 2 | B22: =VLOOKUP($F22,УЧАСТНИКИ!$A$2:$L$1106,3,FALSE) -> #N/A | C22: =VLOOKUP($F22,УЧАСТНИКИ!$A$2:$L$1106,4,FALSE) -> #N/A | D22: =VLOOKUP($F22,УЧАСТНИКИ!$A$2:$L$1106,5,FALSE) -> #N/A | J22: =VLOOKUP($F22,УЧАСТНИКИ!$A$2:$L$1106,9,FALSE) -> #N/A
A24: 3 | B24: =VLOOKUP($F24,УЧАСТНИКИ!$A$2:$L$1106,3,FALSE) -> #N/A | C24: =VLOOKUP($F24,УЧАСТНИКИ!$A$2:$L$1106,4,FALSE) -> #N/A | D24: =VLOOKUP($F24,УЧАСТНИКИ!$A$2:$L$1106,5,FALSE) -> #N/A | E24: =VLOOKUP($F24,УЧАСТНИКИ!$A$2:$L$1106,8,FALSE) -> #N/A | J24: =VLOOKUP($F24,УЧАСТНИКИ!$A$2:$L$1106,9,FALSE) -> #N/A
A25: 3 | B25: =VLOOKUP($F25,УЧАСТНИКИ!$A$2:$L$1106,3,FALSE) -> #N/A | C25: =VLOOKUP($F25,УЧАСТНИКИ!$A$2:$L$1106,4,FALSE) -> #N/A | D25: =VLOOKUP($F25,УЧАСТНИКИ!$A$2:$L$1106,5,FALSE) -> #N/A | E25: =VLOOKUP($F25,УЧАСТНИКИ!$A$2:$L$1106,8,FALSE) -> #N/A | J25: =VLOOKUP($F25,УЧАСТНИКИ!$A$2:$L$1106,9,FALSE) -> #N/A
A26: 3 | B26: =VLOOKUP($F26,УЧАСТНИКИ!$A$2:$L$1106,3,FALSE) -> #N/A | C26: =VLOOKUP($F26,УЧАСТНИКИ!$A$2:$L$1106,4,FALSE) -> #N/A | D26: =VLOOKUP($F26,УЧАСТНИКИ!$A$2:$L$1106,5,FALSE) -> #N/A | E26: =VLOOKUP($F26,УЧАСТНИКИ!$A$2:$L$1106,8,FALSE) -> #N/A | J26: =VLOOKUP($F26,УЧАСТНИКИ!$A$2:$L$1106,9,FALSE) -> #N/A
A27: 3 | B27: =VLOOKUP($F27,УЧАСТНИКИ!$A$2:$L$1106,3,FALSE) -> #N/A | C27: =VLOOKUP($F27,УЧАСТНИКИ!$A$2:$L$1106,4,FALSE) -> #N/A | D27: =VLOOKUP($F27,УЧАСТНИКИ!$A$2:$L$1106,5,FALSE) -> #N/A | E27: =VLOOKUP($F27,УЧАСТНИКИ!$A$2:$L$1106,8,FALSE) -> #N/A | J27: =VLOOKUP($F27,УЧАСТНИКИ!$A$2:$L$1106,9,FALSE) -> #N/A
A28: 3 | B28: =VLOOKUP($F28,УЧАСТНИКИ!$A$2:$L$1106,3,FALSE) -> #N/A | C28: =VLOOKUP($F28,УЧАСТНИКИ!$A$2:$L$1106,4,FALSE) -> #N/A | D28: =VLOOKUP($F28,УЧАСТНИКИ!$A$2:$L$1106,5,FALSE) -> #N/A | E28: =VLOOKUP($F28,УЧАСТНИКИ!$A$2:$L$1106,8,FALSE) -> #N/A | J28: =VLOOKUP($F28,УЧАСТНИКИ!$A$2:$L$1106,9,FALSE) -> #N/A
A29: 3 | B29: =VLOOKUP($F29,УЧАСТНИКИ!$A$2:$L$1106,3,FALSE) -> #N/A | C29: =VLOOKUP($F29,УЧАСТНИКИ!$A$2:$L$1106,4,FALSE) -> #N/A | D29: =VLOOKUP($F29,УЧАСТНИКИ!$A$2:$L$1106,5,FALSE) -> #N/A | E29: =VLOOKUP($F29,УЧАСТНИКИ!$A$2:$L$1106,8,FALSE) -> #N/A | J29: =VLOOKUP($F29,УЧАСТНИКИ!$A$2:$L$1106,9,FALSE) -> #N/A
A31: 4 | B31: =VLOOKUP($F31,УЧАСТНИКИ!$A$2:$L$1106,3,FALSE) -> #N/A | C31: =VLOOKUP($F31,УЧАСТНИКИ!$A$2:$L$1106,4,FALSE) -> #N/A | D31: =VLOOKUP($F31,УЧАСТНИКИ!$A$2:$L$1106,5,FALSE) -> #N/A | E31: =VLOOKUP($F31,УЧАСТНИКИ!$A$2:$L$1106,8,FALSE) -> #N/A | J31: =VLOOKUP($F31,УЧАСТНИКИ!$A$2:$L$1106,9,FALSE) -> #N/A
A32: 4 | B32: =VLOOKUP($F32,УЧАСТНИКИ!$A$2:$L$1106,3,FALSE) -> #N/A | C32: =VLOOKUP($F32,УЧАСТНИКИ!$A$2:$L$1106,4,FALSE) -> #N/A | D32: =VLOOKUP($F32,УЧАСТНИКИ!$A$2:$L$1106,5,FALSE) -> #N/A | E32: =VLOOKUP($F32,УЧАСТНИКИ!$A$2:$L$1106,8,FALSE) -> #N/A | J32: =VLOOKUP($F32,УЧАСТНИКИ!$A$2:$L$1106,9,FALSE) -> #N/A
A33: 4 | B33: =VLOOKUP($F33,УЧАСТНИКИ!$A$2:$L$1106,3,FALSE) -> #N/A | C33: =VLOOKUP($F33,УЧАСТНИКИ!$A$2:$L$1106,4,FALSE) -> #N/A | D33: =VLOOKUP($F33,УЧАСТНИКИ!$A$2:$L$1106,5,FALSE) -> #N/A | E33: =VLOOKUP($F33,УЧАСТНИКИ!$A$2:$L$1106,8,FALSE) -> #N/A | J33: =VLOOKUP($F33,УЧАСТНИКИ!$A$2:$L$1106,9,FALSE) -> #N/A
A34: 4 | B34: =VLOOKUP($F34,УЧАСТНИКИ!$A$2:$L$1106,3,FALSE) -> #N/A | C34: =VLOOKUP($F34,УЧАСТНИКИ!$A$2:$L$1106,4,FALSE) -> #N/A | D34: =VLOOKUP($F34,УЧАСТНИКИ!$A$2:$L$1106,5,FALSE) -> #N/A | E34: =VLOOKUP($F34,УЧАСТНИКИ!$A$2:$L$1106,8,FALSE) -> #N/A | J34: =VLOOKUP($F34,УЧАСТНИКИ!$A$2:$L$1106,9,FALSE) -> #N/A
A35: 4 | B35: =VLOOKUP($F35,УЧАСТНИКИ!$A$2:$L$1106,3,FALSE) -> #N/A | C35: =VLOOKUP($F35,УЧАСТНИКИ!$A$2:$L$1106,4,FALSE) -> #N/A | D35: =VLOOKUP($F35,УЧАСТНИКИ!$A$2:$L$1106,5,FALSE) -> #N/A | E35: =VLOOKUP($F35,УЧАСТНИКИ!$A$2:$L$1106,8,FALSE) -> #N/A | J35: =VLOOKUP($F35,УЧАСТНИКИ!$A$2:$L$1106,9,FALSE) -> #N/A
A36: 4 | B36: =VLOOKUP($F36,УЧАСТНИКИ!$A$2:$L$1106,3,FALSE) -> #N/A | C36: =VLOOKUP($F36,УЧАСТНИКИ!$A$2:$L$1106,4,FALSE) -> #N/A | D36: =VLOOKUP($F36,УЧАСТНИКИ!$A$2:$L$1106,5,FALSE) -> #N/A | E36: =VLOOKUP($F36,УЧАСТНИКИ!$A$2:$L$1106,8,FALSE) -> #N/A | J36: =VLOOKUP($F36,УЧАСТНИКИ!$A$2:$L$1106,9,FALSE) -> #N/A
... A64: 8 | B64: =VLOOKUP($F64,УЧАСТНИКИ!$A$2:$L$1106,3,FALSE) -> #N/A | C64: =VLOOKUP($F64,УЧАСТНИКИ!$A$2:$L$1106,4,FALSE) -> #N/A | D64: =VLOOKUP($F64,УЧАСТНИКИ!$A$2:$L$1106,5,FALSE) -> #N/A | E64: =VLOOKUP($F64,УЧАСТНИКИ!$A$2:$L$1106,8,FALSE) -> #N/A | J64: =VLOOKUP($F64,УЧАСТНИКИ!$A$2:$L$1106,9,FALSE) -> #N/A
B65: 2 ЗАБЕГ
A66: 1 | B66: =VLOOKUP($F66,УЧАСТНИКИ!$A$2:$L$1106,3,FALSE) -> #N/A | C66: =VLOOKUP($F66,УЧАСТНИКИ!$A$2:$L$1106,4,FALSE) -> #N/A | D66: =VLOOKUP($F66,УЧАСТНИКИ!$A$2:$L$1106,5,FALSE) -> #N/A | E66: =VLOOKUP($F66,УЧАСТНИКИ!$A$2:$L$1106,8,FALSE) -> #N/A | J66: =VLOOKUP($F66,УЧАСТНИКИ!$A$2:$L$1106,9,FALSE) -> #N/A
A67: 1 | B67: =VLOOKUP($F67,УЧАСТНИКИ!$A$2:$L$1106,3,FALSE) -> #N/A | C67: =VLOOKUP($F67,УЧАСТНИКИ!$A$2:$L$1106,4,FALSE) -> #N/A | D67: =VLOOKUP($F67,УЧАСТНИКИ!$A$2:$L$1106,5,FALSE) -> #N/A | E67: =VLOOKUP($F67,УЧАСТНИКИ!$A$2:$L$1106,8,FALSE) -> #N/A | J67: =VLOOKUP($F67,УЧАСТНИКИ!$A$2:$L$1106,9,FALSE) -> #N/A
A68: 1 | B68: =VLOOKUP($F68,УЧАСТНИКИ!$A$2:$L$1106,3,FALSE) -> #N/A | C68: =VLOOKUP($F68,УЧАСТНИКИ!$A$2:$L$1106,4,FALSE) -> #N/A | D68: =VLOOKUP($F68,УЧАСТНИКИ!$A$2:$L$1106,5,FALSE) -> #N/A | E68: =VLOOKUP($F68,УЧАСТНИКИ!$A$2:$L$1106,8,FALSE) -> #N/A | J68: =VLOOKUP($F68,УЧАСТНИКИ!$A$2:$L$1106,9,FALSE) -> #N/A
A69: 1 | B69: =VLOOKUP($F69,УЧАСТНИКИ!$A$2:$L$1106,3,FALSE) -> #N/A | C69: =VLOOKUP($F69,УЧАСТНИКИ!$A$2:$L$1106,4,FALSE) -> #N/A | D69: =VLOOKUP($F69,УЧАСТНИКИ!$A$2:$L$1106,5,FALSE) -> #N/A | E69: =VLOOKUP($F69,УЧАСТНИКИ!$A$2:$L$1106,8,FALSE) -> #N/A | J69: =VLOOKUP($F69,УЧАСТНИКИ!$A$2:$L$1106,9,FALSE) -> #N/A
A70: 1 | B70: =VLOOKUP($F70,УЧАСТНИКИ!$A$2:$L$1106,3,FALSE) -> #N/A | C70: =VLOOKUP($F70,УЧАСТНИКИ!$A$2:$L$1106,4,FALSE) -> #N/A | D70: =VLOOKUP($F70,УЧАСТНИКИ!$A$2:$L$1106,5,FALSE) -> #N/A | E70: =VLOOKUP($F70,УЧАСТНИКИ!$A$2:$L$1106,8,FALSE) -> #N/A | J70: =VLOOKUP($F70,УЧАСТНИКИ!$A$2:$L$1106,9,FALSE) -> #N/A
A71: 1 | B71: =VLOOKUP($F71,УЧАСТНИКИ!$A$2:$L$1106,3,FALSE) -> #N/A | C71: =VLOOKUP($F71,УЧАСТНИКИ!$A$2:$L$1106,4,FALSE) -> #N/A | D71: =VLOOKUP($F71,УЧАСТНИКИ!$A$2:$L$1106,5,FALSE) -> #N/A | E71: =VLOOKUP($F71,УЧАСТНИКИ!$A$2:$L$1106,8,FALSE) -> #N/A | J71: =VLOOKUP($F71,УЧАСТНИКИ!$A$2:$L$1106,9,FALSE) -> #N/A
A73: 2 | B73: =VLOOKUP($F73,УЧАСТНИКИ!$A$2:$L$1106,3,FALSE) -> #N/A | C73: =VLOOKUP($F73,УЧАСТНИКИ!$A$2:$L$1106,4,FALSE) -> #N/A | D73: =VLOOKUP($F73,УЧАСТНИКИ!$A$2:$L$1106,5,FALSE) -> #N/A | E73: =VLOOKUP($F73,УЧАСТНИКИ!$A$2:$L$1106,8,FALSE) -> #N/A | J73: =VLOOKUP($F73,УЧАСТНИКИ!$A$2:$L$1106,9,FALSE) -> #N/A
A74: 2 | B74: =VLOOKUP($F74,УЧАСТНИКИ!$A$2:$L$1106,3,FALSE) -> #N/A | C74: =VLOOKUP($F74,УЧАСТНИКИ!$A$2:$L$1106,4,FALSE) -> #N/A | D74: =VLOOKUP($F74,УЧАСТНИКИ!$A$2:$L$1106,5,FALSE) -> #N/A | E74: =VLOOKUP($F74,УЧАСТНИКИ!$A$2:$L$1106,8,FALSE) -> #N/A | J74: =VLOOKUP($F74,УЧАСТНИКИ!$A$2:$L$1106,9,FALSE) -> #N/A
A75: 2 | B75: =VLOOKUP($F75,УЧАСТНИКИ!$A$2:$L$1106,3,FALSE) -> #N/A | C75: =VLOOKUP($F75,УЧАСТНИКИ!$A$2:$L$1106,4,FALSE) -> #N/A | D75: =VLOOKUP($F75,УЧАСТНИКИ!$A$2:$L$1106,5,FALSE) -> #N/A | E75: =VLOOKUP($F75,УЧАСТНИКИ!$A$2:$L$1106,8,FALSE) -> #N/A | J75: =VLOOKUP($F75,УЧАСТНИКИ!$A$2:$L$1106,9,FALSE) -> #N/A
A76: 2 | B76: =VLOOKUP($F76,УЧАСТНИКИ!$A$2:$L$1106,3,FALSE) -> #N/A | C76: =VLOOKUP($F76,УЧАСТНИКИ!$A$2:$L$1106,4,FALSE) -> #N/A | D76: =VLOOKUP($F76,УЧАСТНИКИ!$A$2:$L$1106,5,FALSE) -> #N/A | E76: =VLOOKUP($F76,УЧАСТНИКИ!$A$2:$L$1106,8,FALSE) -> #N/A | J76: =VLOOKUP($F76,УЧАСТНИКИ!$A$2:$L$1106,9,FALSE) -> #N/A
A77: 2 | B77: =VLOOKUP($F77,УЧАСТНИКИ!$A$2:$L$1106,3,FALSE) -> #N/A | C77: =VLOOKUP($F77,УЧАСТНИКИ!$A$2:$L$1106,4,FALSE) -> #N/A | D77: =VLOOKUP($F77,УЧАСТНИКИ!$A$2:$L$1106,5,FALSE) -> #N/A | E77: =VLOOKUP($F77,УЧАСТНИКИ!$A$2:$L$1106,8,FALSE) -> #N/A | J77: =VLOOKUP($F77,УЧАСТНИКИ!$A$2:$L$1106,9,FALSE) -> #N/A
A78: 2 | B78: =VLOOKUP($F78,УЧАСТНИКИ!$A$2:$L$1106,3,FALSE) -> #N/A | C78: =VLOOKUP($F78,УЧАСТНИКИ!$A$2:$L$1106,4,FALSE) -> #N/A | D78: =VLOOKUP($F78,УЧАСТНИКИ!$A$2:$L$1106,5,FALSE) -> #N/A | E78: =VLOOKUP($F78,УЧАСТНИКИ!$A$2:$L$1106,8,FALSE) -> #N/A | J78: =VLOOKUP($F78,УЧАСТНИКИ!$A$2:$L$1106,9,FALSE) -> #N/A
... A120: 8 | B120: =VLOOKUP($F120,УЧАСТНИКИ!$A$2:$L$1106,3,FALSE) -> #N/A | C120: =VLOOKUP($F120,УЧАСТНИКИ!$A$2:$L$1106,4,FALSE) -> #N/A | D120: =VLOOKUP($F120,УЧАСТНИКИ!$A$2:$L$1106,5,FALSE) -> #N/A | E120: =VLOOKUP($F120,УЧАСТНИКИ!$A$2:$L$1106,8,FALSE) -> #N/A | J120: =VLOOKUP($F120,УЧАСТНИКИ!$A$2:$L$1106,9,FALSE) -> #N/A
A124: Рефери по бегу:
A125: Ст.судья:
A126: Ст.хронометрист:
A127: Секретарь:

Sheet 110-М
A1: =Name_2 -> ВСЕРОССИЙСКАЯ ФЕДЕРАЦИЯ ЛЕГКОЙ АТЛЕТИКИ
A2: СТАРТОВЫЙ ПРОТОКОЛ
A3: КУБОК РОССИИ
A4: МУЖЧИНЫ
A5: Бег с барьерами 110 м
A6: h-1,067 м | J6: РР- 12.92
B7: ЗАБЕГИ | C7: 15:35 | D7: =d_1 -> 28.05.2019г. | E7: окончание соревнований: | J7: =d_5 -> г. Сочи, ул. Бзугу 2, ст. им. Славы Метревели
A8: № п/п | B8: Фамилия, имя участника | C8: Дата рождения | D8: Территория | E8: Заявленный разряд | F8: Номер участника | G8: Приход | H8: Результат | I8: Место | J8: Примеч.
B9: 1 ЗАБЕГ
A10: 1
A11: 2 | B11: =VLOOKUP($F11,УЧАСТНИКИ!$A$2:$L$1106,3,FALSE) -> Асеев Илья | C11: =VLOOKUP($F11,УЧАСТНИКИ!$A$2:$L$1106,4,FALSE) -> 23.03.1994 | D11: =VLOOKUP($F11,УЧАСТНИКИ!$A$2:$L$1106,5,FALSE) -> Санкт-Петербург | E11: =VLOOKUP($F11,УЧАСТНИКИ!$A$2:$L$1106,8,FALSE) -> КМС | F11: 261 | J11: =VLOOKUP($F11,УЧАСТНИКИ!$A$2:$L$1106,9,FALSE) -> Л
A12: 3 | B12: =VLOOKUP($F12,УЧАСТНИКИ!$A$2:$L$1106,3,FALSE) -> Челноков Константин | C12: =VLOOKUP($F12,УЧАСТНИКИ!$A$2:$L$1106,4,FALSE) -> 01.11.1986 | D12: =VLOOKUP($F12,УЧАСТНИКИ!$A$2:$L$1106,5,FALSE) -> Краснодарский край Карачаево-Черкесская республика | E12: =VLOOKUP($F12,УЧАСТНИКИ!$A$2:$L$1106,8,FALSE) -> МС | F12: 182 | J12: =VLOOKUP($F12,УЧАСТНИКИ!$A$2:$L$1106,9,FALSE) -> К
A13: 4 | B13: =VLOOKUP($F13,УЧАСТНИКИ!$A$2:$L$1106,3,FALSE) -> Шабанов Филипп | C13: =VLOOKUP($F13,УЧАСТНИКИ!$A$2:$L$1106,4,FALSE) -> 29.01.1991 | D13: =VLOOKUP($F13,УЧАСТНИКИ!$A$2:$L$1106,5,FALSE) -> Москва Псковская область | E13: =VLOOKUP($F13,УЧАСТНИКИ!$A$2:$L$1106,8,FALSE) -> МС | F13: 373 | J13: =VLOOKUP($F13,УЧАСТНИКИ!$A$2:$L$1106,9,FALSE) -> Л
A14: 5 | B14: =VLOOKUP($F14,УЧАСТНИКИ!$A$2:$L$1106,3,FALSE) -> Егоров Глеб | C14: =VLOOKUP($F14,УЧАСТНИКИ!$A$2:$L$1106,4,FALSE) -> 27.06.1997 | D14: =VLOOKUP($F14,УЧАСТНИКИ!$A$2:$L$1106,5,FALSE) -> Свердловская область | E14: =VLOOKUP($F14,УЧАСТНИКИ!$A$2:$L$1106,8,FALSE) -> МС | F14: 66 | J14: =VLOOKUP($F14,УЧАСТНИКИ!$A$2:$L$1106,9,FALSE) -> К
A15: 6 | B15: =VLOOKUP($F15,УЧАСТНИКИ!$A$2:$L$1106,3,FALSE) -> Рудченко Александр | C15: =VLOOKUP($F15,УЧАСТНИКИ!$A$2:$L$1106,4,FALSE) -> 08.03.1999 | D15: =VLOOKUP($F15,УЧАСТНИКИ!$A$2:$L$1106,5,FALSE) -> Московская область | E15: =VLOOKUP($F15,УЧАСТНИКИ!$A$2:$L$1106,8,FALSE) -> КМС | F15: 466 | J15: =VLOOKUP($F15,УЧАСТНИКИ!$A$2:$L$1106,9,FALSE) -> Л
A16: 7 | B16: =VLOOKUP($F16,УЧАСТНИКИ!$A$2:$L$1106,3,FALSE) -> Лобков Максим | C16: =VLOOKUP($F16,УЧАСТНИКИ!$A$2:$L$1106,4,FALSE) -> 20.05.1997 | D16: =VLOOKUP($F16,УЧАСТНИКИ!$A$2:$L$1106,5,FALSE) -> Волгоградская область | E16: =VLOOKUP($F16,УЧАСТНИКИ!$A$2:$L$1106,8,FALSE) -> МС | F16: 15 | J16: =VLOOKUP($F16,УЧАСТНИКИ!$A$2:$L$1106,9,FALSE) -> К
A17: 8 | B17: =VLOOKUP($F17,УЧАСТНИКИ!$A$2:$L$1106,3,FALSE) -> Кузнецов Артем | C17: =VLOOKUP($F17,УЧАСТНИКИ!$A$2:$L$1106,4,FALSE) -> 29.07.1999 | D17: =VLOOKUP($F17,УЧАСТНИКИ!$A$2:$L$1106,5,FALSE) -> Москва Владимирская область | E17: =VLOOKUP($F17,УЧАСТНИКИ!$A$2:$L$1106,8,FALSE) -> КМС | F17: 210 | J17: =VLOOKUP($F17,УЧАСТНИКИ!$A$2:$L$1106,9,FALSE) -> К
B18: 2 ЗАБЕГ
A19: 1
A20: 2 | B20: =VLOOKUP($F20,УЧАСТНИКИ!$A$2:$L$1106,3,FALSE) -> Ветлугин Сергей | C20: =VLOOKUP($F20,УЧАСТНИКИ!$A$2:$L$1106,4,FALSE) -> 17.11.1995 | D20: =VLOOKUP($F20,УЧАСТНИКИ!$A$2:$L$1106,5,FALSE) -> Красноярский край | E20: =VLOOKUP($F20,УЧАСТНИКИ!$A$2:$L$1106,8,FALSE) -> КМС | F20: 100 | J20: =VLOOKUP($F20,УЧАСТНИКИ!$A$2:$L$1106,9,FALSE) -> К
A21: 3 | B21: =VLOOKUP($F21,УЧАСТНИКИ!$A$2:$L$1106,3,FALSE) -> Солодов Сергей | C21: =VLOOKUP($F21,УЧАСТНИКИ!$A$2:$L$1106,4,FALSE) -> 03.01.1996 | D21: =VLOOKUP($F21,УЧАСТНИКИ!$A$2:$L$1106,5,FALSE) -> Санкт-Петербург | E21: =VLOOKUP($F21,УЧАСТНИКИ!$A$2:$L$1106,8,FALSE) -> МС | F21: 310 | J21: =VLOOKUP($F21,УЧАСТНИКИ!$A$2:$L$1106,9,FALSE) -> К
A22: 4 | B22: =VLOOKUP($F22,УЧАСТНИКИ!$A$2:$L$1106,3,FALSE) -> Шабанов Константин | C22: =VLOOKUP($F22,УЧАСТНИКИ!$A$2:$L$1106,4,FALSE) -> 17.11.1989 | D22: =VLOOKUP($F22,УЧАСТНИКИ!$A$2:$L$1106,5,FALSE) -> Москва Псковская область | E22: =VLOOKUP($F22,УЧАСТНИКИ!$A$2:$L$1106,8,FALSE) -> МСМК | F22: 372 | J22: =VLOOKUP($F22,УЧАСТНИКИ!$A$2:$L$1106,9,FALSE) -> Л
A23: 5 | B23: =VLOOKUP($F23,УЧАСТНИКИ!$A$2:$L$1106,3,FALSE) -> Дремин Алексей | C23: =VLOOKUP($F23,УЧАСТНИКИ!$A$2:$L$1106,4,FALSE) -> 10.05.1989 | D23: =VLOOKUP($F23,УЧАСТНИКИ!$A$2:$L$1106,5,FALSE) -> Челябинская область | E23: =VLOOKUP($F23,УЧАСТНИКИ!$A$2:$L$1106,8,FALSE) -> МСМК | F23: 53 | J23: =VLOOKUP($F23,УЧАСТНИКИ!$A$2:$L$1106,9,FALSE) -> К
A24: 6 | B24: =VLOOKUP($F24,УЧАСТНИКИ!$A$2:$L$1106,3,FALSE) -> Пронских Евгений | C24: =VLOOKUP($F24,УЧАСТНИКИ!$A$2:$L$1106,4,FALSE) -> 30.01.1995 | D24: =VLOOKUP($F24,УЧАСТНИКИ!$A$2:$L$1106,5,FALSE) -> Алтайский край | E24: =VLOOKUP($F24,УЧАСТНИКИ!$A$2:$L$1106,8,FALSE) -> КМС | F24: 21 | J24: =VLOOKUP($F24,УЧАСТНИКИ!$A$2:$L$1106,9,FALSE) -> К
A25: 7 | B25: =VLOOKUP($F25,УЧАСТНИКИ!$A$2:$L$1106,3,FALSE) -> Маляренко Григорий | C25: =VLOOKUP($F25,УЧАСТНИКИ!$A$2:$L$1106,4,FALSE) -> 28.12.1998 | D25: =VLOOKUP($F25,УЧАСТНИКИ!$A$2:$L$1106,5,FALSE) -> Омская область | E25: =VLOOKUP($F25,УЧАСТНИКИ!$A$2:$L$1106,8,FALSE) -> КМС | F25: 114 | J25: =VLOOKUP($F25,УЧАСТНИКИ!$A$2:$L$1106,9,FALSE) -> К
A26: 8 | B26: =VLOOKUP($F26,УЧАСТНИКИ!$A$2:$L$1106,3,FALSE) -> Ламков Арсен | C26: =VLOOKUP($F26,УЧАСТНИКИ!$A$2:$L$1106,4,FALSE) -> 05.05.1999 | D26: =VLOOKUP($F26,УЧАСТНИКИ!$A$2:$L$1106,5,FALSE) -> Ставропольский край Карачаево-Черкесская республика | E26: =VLOOKUP($F26,УЧАСТНИКИ!$A$2:$L$1106,8,FALSE) -> КМС | F26: 185 | J26: =VLOOKUP($F26,УЧАСТНИКИ!$A$2:$L$1106,9,FALSE) -> К
B27: 3 ЗАБЕГ
A28: 1
A29: 2 | B29: =VLOOKUP($F29,УЧАСТНИКИ!$A$2:$L$1106,3,FALSE) -> Киреев Кирилл | C29: =VLOOKUP($F29,УЧАСТНИКИ!$A$2:$L$1106,4,FALSE) -> 28.08.1997 | D29: =VLOOKUP($F29,УЧАСТНИКИ!$A$2:$L$1106,5,FALSE) -> Ростовская область | E29: =VLOOKUP($F29,УЧАСТНИКИ!$A$2:$L$1106,8,FALSE) -> КМС | F29: 478 | J29: =VLOOKUP($F29,УЧАСТНИКИ!$A$2:$L$1106,9,FALSE) -> К
A30: 3 | B30: =VLOOKUP($F30,УЧАСТНИКИ!$A$2:$L$1106,3,FALSE) -> Ежов Денис | C30: =VLOOKUP($F30,УЧАСТНИКИ!$A$2:$L$1106,4,FALSE) -> 18.03.1994 | D30: =VLOOKUP($F30,УЧАСТНИКИ!$A$2:$L$1106,5,FALSE) -> Краснодарский край Кабардино-Балкарская республика | E30: =VLOOKUP($F30,УЧАСТНИКИ!$A$2:$L$1106,8,FALSE) -> МС | F30: 141 | J30: =VLOOKUP($F30,УЧАСТНИКИ!$A$2:$L$1106,9,FALSE) -> К
A31: 4 | B31: =VLOOKUP($F31,УЧАСТНИКИ!$A$2:$L$1106,3,FALSE) -> Спиридонов Олег | C31: =VLOOKUP($F31,УЧАСТНИКИ!$A$2:$L$1106,4,FALSE) -> 16.08.1999 | D31: =VLOOKUP($F31,УЧАСТНИКИ!$A$2:$L$1106,5,FALSE) -> Калининградская область Санкт-Петербург | E31: =VLOOKUP($F31,УЧАСТНИКИ!$A$2:$L$1106,8,FALSE) -> МС | F31: 50 | J31: =VLOOKUP($F31,УЧАСТНИКИ!$A$2:$L$1106,9,FALSE) -> К
A32: 5 | B32: =VLOOKUP($F32,УЧАСТНИКИ!$A$2:$L$1106,3,FALSE) -> Рыльщиков Денис | C32: =VLOOKUP($F32,УЧАСТНИКИ!$A$2:$L$1106,4,FALSE) -> 30.07.1998 | D32: =VLOOKUP($F32,УЧАСТНИКИ!$A$2:$L$1106,5,FALSE) -> Краснодарский край | E32: =VLOOKUP($F32,УЧАСТНИКИ!$A$2:$L$1106,8,FALSE) -> КМС | F32: 169 | J32: =VLOOKUP($F32,УЧАСТНИКИ!$A$2:$L$1106,9,FALSE) -> Л
A33: 6 | B33: =VLOOKUP($F33,УЧАСТНИКИ!$A$2:$L$1106,3,FALSE) -> Нечаев Александр | C33: =VLOOKUP($F33,УЧАСТНИКИ!$A$2:$L$1106,4,FALSE) -> 09.02.1999 | D33: =VLOOKUP($F33,УЧАСТНИКИ!$A$2:$L$1106,5,FALSE) -> Республика Саха (Якутия) | E33: =VLOOKUP($F33,УЧАСТНИКИ!$A$2:$L$1106,8,FALSE) -> КМС | F33: 61 | J33: =VLOOKUP($F33,УЧАСТНИКИ!$A$2:$L$1106,9,FALSE) -> К
A34: 7 | B34: =VLOOKUP($F34,УЧАСТНИКИ!$A$2:$L$1106,3,FALSE) -> Зюков Владислав | C34: =VLOOKUP($F34,УЧАСТНИКИ!$A$2:$L$1106,4,FALSE) -> 23.07.1993 | D34: =VLOOKUP($F34,УЧАСТНИКИ!$A$2:$L$1106,5,FALSE) -> Москва Брянская область | E34: =VLOOKUP($F34,УЧАСТНИКИ!$A$2:$L$1106,8,FALSE) -> МС | F34: 33 | J34: =VLOOKUP($F34,УЧАСТНИКИ!$A$2:$L$1106,9,FALSE) -> К
A35: 8 | B35: =VLOOKUP($F35,УЧАСТНИКИ!$A$2:$L$1106,3,FALSE) -> .Васильев Сослан | C35: =VLOOKUP($F35,УЧАСТНИКИ!$A$2:$L$1106,4,FALSE) -> 12.09.1996 | D35: =VLOOKUP($F35,УЧАСТНИКИ!$A$2:$L$1106,5,FALSE) -> Россия | E35: =VLOOKUP($F35,УЧАСТНИКИ!$A$2:$L$1106,8,FALSE) -> КМС | F35: 235 | J35: =VLOOKUP($F35,УЧАСТНИКИ!$A$2:$L$1106,9,FALSE) -> Л
A37: Рефери по бегу:
A38: Ст.судья:
A39: Ст.хронометрист:
A40: Секретарь:

Sheet 110Ф-М
A1: =Name_2 -> ВСЕРОССИЙСКАЯ ФЕДЕРАЦИЯ ЛЕГКОЙ АТЛЕТИКИ
A2: СТАРТОВЫЙ ПРОТОКОЛ
A3: КУБОК РОССИИ
A4: МУЖЧИНЫ
A5: Бег с барьерами 110 м
A6: h-1,067 м | K6: РР- 12.92
B7: ФИНАЛЬНЫЙ ЗАБЕГ | C7: 12:55 | D7: =d_1 -> 28.05.2019г. | E7: окончание соревнований: | K7: =d_5 -> г. Сочи, ул. Бзугу 2, ст. им. Славы Метревели
A8: № п/п | B8: Фамилия, имя участника | C8: Дата рождения | D8: Территория | E8: Заявленный разряд | F8: Номер участника | G8: рез-тат забега | H8: приход | I8: Результат | J8: Место | K8: Примеч.
A10: 1 | B10: =VLOOKUP($F10,УЧАСТНИКИ!$A$2:$L$1106,3,FALSE) -> #N/A | C10: =VLOOKUP($F10,УЧАСТНИКИ!$A$2:$L$1106,4,FALSE) -> #N/A | D10: =VLOOKUP($F10,УЧАСТНИКИ!$A$2:$L$1106,5,FALSE) -> #N/A | E10: =VLOOKUP($F10,УЧАСТНИКИ!$A$2:$L$1106,8,FALSE) -> #N/A | K10: =VLOOKUP($F10,УЧАСТНИКИ!$A$2:$L$1106,9,FALSE) -> #N/A
A11: 2 | B11: =VLOOKUP($F11,УЧАСТНИКИ!$A$2:$L$1106,3,FALSE) -> #N/A | C11: =VLOOKUP($F11,УЧАСТНИКИ!$A$2:$L$1106,4,FALSE) -> #N/A | D11: =VLOOKUP($F11,УЧАСТНИКИ!$A$2:$L$1106,5,FALSE) -> #N/A | E11: =VLOOKUP($F11,УЧАСТНИКИ!$A$2:$L$1106,8,FALSE) -> #N/A | K11: =VLOOKUP($F11,УЧАСТНИКИ!$A$2:$L$1106,9,FALSE) -> #N/A
A12: 3 | B12: =VLOOKUP($F12,УЧАСТНИКИ!$A$2:$L$1106,3,FALSE) -> #N/A | C12: =VLOOKUP($F12,УЧАСТНИКИ!$A$2:$L$1106,4,FALSE) -> #N/A | D12: =VLOOKUP($F12,УЧАСТНИКИ!$A$2:$L$1106,5,FALSE) -> #N/A | E12: =VLOOKUP($F12,УЧАСТНИКИ!$A$2:$L$1106,8,FALSE) -> #N/A | K12: =VLOOKUP($F12,УЧАСТНИКИ!$A$2:$L$1106,9,FALSE) -> #N/A
A13: 4 | B13: =VLOOKUP($F13,УЧАСТНИКИ!$A$2:$L$1106,3,FALSE) -> #N/A | C13: =VLOOKUP($F13,УЧАСТНИКИ!$A$2:$L$1106,4,FALSE) -> #N/A | D13: =VLOOKUP($F13,УЧАСТНИКИ!$A$2:$L$1106,5,FALSE) -> #N/A | E13: =VLOOKUP($F13,УЧАСТНИКИ!$A$2:$L$1106,8,FALSE) -> #N/A | K13: =VLOOKUP($F13,УЧАСТНИКИ!$A$2:$L$1106,9,FALSE) -> #N/A
A14: 5 | B14: =VLOOKUP($F14,УЧАСТНИКИ!$A$2:$L$1106,3,FALSE) -> #N/A | C14: =VLOOKUP($F14,УЧАСТНИКИ!$A$2:$L$1106,4,FALSE) -> #N/A | D14: =VLOOKUP($F14,УЧАСТНИКИ!$A$2:$L$1106,5,FALSE) -> #N/A | E14: =VLOOKUP($F14,УЧАСТНИКИ!$A$2:$L$1106,8,FALSE) -> #N/A | K14: =VLOOKUP($F14,УЧАСТНИКИ!$A$2:$L$1106,9,FALSE) -> #N/A
A15: 6 | B15: =VLOOKUP($F15,УЧАСТНИКИ!$A$2:$L$1106,3,FALSE) -> #N/A | C15: =VLOOKUP($F15,УЧАСТНИКИ!$A$2:$L$1106,4,FALSE) -> #N/A | D15: =VLOOKUP($F15,УЧАСТНИКИ!$A$2:$L$1106,5,FALSE) -> #N/A | E15: =VLOOKUP($F15,УЧАСТНИКИ!$A$2:$L$1106,8,FALSE) -> #N/A | K15: =VLOOKUP($F15,УЧАСТНИКИ!$A$2:$L$1106,9,FALSE) -> #N/A
A16: 7 | B16: =VLOOKUP($F16,УЧАСТНИКИ!$A$2:$L$1106,3,FALSE) -> #N/A | C16: =VLOOKUP($F16,УЧАСТНИКИ!$A$2:$L$1106,4,FALSE) -> #N/A | D16: =VLOOKUP($F16,УЧАСТНИКИ!$A$2:$L$1106,5,FALSE) -> #N/A | E16: =VLOOKUP($F16,УЧАСТНИКИ!$A$2:$L$1106,8,FALSE) -> #N/A | K16: =VLOOKUP($F16,УЧАСТНИКИ!$A$2:$L$1106,9,FALSE) -> #N/A
A17: 8 | B17: =VLOOKUP($F17,УЧАСТНИКИ!$A$2:$L$1106,3,FALSE) -> #N/A | C17: =VLOOKUP($F17,УЧАСТНИКИ!$A$2:$L$1106,4,FALSE) -> #N/A | D17: =VLOOKUP($F17,УЧАСТНИКИ!$A$2:$L$1106,5,FALSE) -> #N/A | E17: =VLOOKUP($F17,УЧАСТНИКИ!$A$2:$L$1106,8,FALSE) -> #N/A | K17: =VLOOKUP($F17,УЧАСТНИКИ!$A$2:$L$1106,9,FALSE) -> #N/A
A20: Рефери по бегу:
A21: Ст.судья:
A22: Ст.хронометрист:
A23: Секретарь:

Sheet 400СБ-М
A1: =Name_2 -> ВСЕРОССИЙСКАЯ ФЕДЕРАЦИЯ ЛЕГКОЙ АТЛЕТИКИ
A2: СТАРТОВЫЙ ПРОТОКОЛ
A3: КУБОК РОССИИ
A4: МУЖЧИНЫ
A5: Бег с барьерами 400 м
A6: h-0,914 м | J6: РР- 48.05
B7: ФИНАЛЬНЫЕ ЗАБЕГИ | C7: 16:10 | D7: =d_2 -> 29.05.2019г. | E7: окончание соревнований: | J7: =d_5 -> г. Сочи, ул. Бзугу 2, ст. им. Славы Метревели
A8: № п/п | B8: Фамилия, имя участника | C8: Дата рождения | D8: Территория | E8: Заявленный разряд | F8: Номер участника | G8: Приход | H8: Результат | I8: Место | J8: Примеч.
B9: 1 ЗАБЕГ
A10: 1
A11: 2 | B11: =VLOOKUP($F11,УЧАСТНИКИ!$A$2:$L$1106,3,FALSE) -> Тыщенко Алан | C11: =VLOOKUP($F11,УЧАСТНИКИ!$A$2:$L$1106,4,FALSE) -> 16.03.1989 | D11: =VLOOKUP($F11,УЧАСТНИКИ!$A$2:$L$1106,5,FALSE) -> Краснодарский край | E11: =VLOOKUP($F11,УЧАСТНИКИ!$A$2:$L$1106,8,FALSE) -> КМС | F11: 179 | J11: =VLOOKUP($F11,УЧАСТНИКИ!$A$2:$L$1106,9,FALSE) -> Л
A12: 3 | B12: =VLOOKUP($F12,УЧАСТНИКИ!$A$2:$L$1106,3,FALSE) -> Таратынов Марк | C12: =VLOOKUP($F12,УЧАСТНИКИ!$A$2:$L$1106,4,FALSE) -> 31.05.1994 | D12: =VLOOKUP($F12,УЧАСТНИКИ!$A$2:$L$1106,5,FALSE) -> Санкт-Петербург | E12: =VLOOKUP($F12,УЧАСТНИКИ!$A$2:$L$1106,8,FALSE) -> МС | F12: 312 | J12: =VLOOKUP($F12,УЧАСТНИКИ!$A$2:$L$1106,9,FALSE) -> Л
A13: 4 | B13: =VLOOKUP($F13,УЧАСТНИКИ!$A$2:$L$1106,3,FALSE) -> Кукалев Вадим | C13: =VLOOKUP($F13,УЧАСТНИКИ!$A$2:$L$1106,4,FALSE) -> 22.08.1998 | D13: =VLOOKUP($F13,УЧАСТНИКИ!$A$2:$L$1106,5,FALSE) -> Тюменская область | E13: =VLOOKUP($F13,УЧАСТНИКИ!$A$2:$L$1106,8,FALSE) -> КМС | F13: 91 | J13: =VLOOKUP($F13,УЧАСТНИКИ!$A$2:$L$1106,9,FALSE) -> К
A14: 5 | B14: =VLOOKUP($F14,УЧАСТНИКИ!$A$2:$L$1106,3,FALSE) -> Бакай Алексей | C14: =VLOOKUP($F14,УЧАСТНИКИ!$A$2:$L$1106,4,FALSE) -> 21.01.1999 | D14: =VLOOKUP($F14,УЧАСТНИКИ!$A$2:$L$1106,5,FALSE) -> Краснодарский край | E14: =VLOOKUP($F14,УЧАСТНИКИ!$A$2:$L$1106,8,FALSE) -> КМС | F14: 129 | J14: =VLOOKUP($F14,УЧАСТНИКИ!$A$2:$L$1106,9,FALSE) -> Л
A15: 6 | B15: =VLOOKUP($F15,УЧАСТНИКИ!$A$2:$L$1106,3,FALSE) -> Ламков Арсен | C15: =VLOOKUP($F15,УЧАСТНИКИ!$A$2:$L$1106,4,FALSE) -> 05.05.1999 | D15: =VLOOKUP($F15,УЧАСТНИКИ!$A$2:$L$1106,5,FALSE) -> Ставропольский край Карачаево-Черкесская республика | E15: =VLOOKUP($F15,УЧАСТНИКИ!$A$2:$L$1106,8,FALSE) -> КМС | F15: 185 | J15: =VLOOKUP($F15,УЧАСТНИКИ!$A$2:$L$1106,9,FALSE) -> К
A16: 7 | B16: =VLOOKUP($F16,УЧАСТНИКИ!$A$2:$L$1106,3,FALSE) -> Роженко Виктор | C16: =VLOOKUP($F16,УЧАСТНИКИ!$A$2:$L$1106,4,FALSE) -> 01.08.1993 | D16: =VLOOKUP($F16,УЧАСТНИКИ!$A$2:$L$1106,5,FALSE) -> Воронежская область | E16: =VLOOKUP($F16,УЧАСТНИКИ!$A$2:$L$1106,8,FALSE) -> КМС | F16: 397 | J16: =VLOOKUP($F16,УЧАСТНИКИ!$A$2:$L$1106,9,FALSE) -> К
A17: 8
B18: 2 ЗАБЕГ
A19: 1
A20: 2 | B20: =VLOOKUP($F20,УЧАСТНИКИ!$A$2:$L$1106,3,FALSE) -> Гребеньщиков Константин | C20: =VLOOKUP($F20,УЧАСТНИКИ!$A$2:$L$1106,4,FALSE) -> 02.01.1990 | D20: =VLOOKUP($F20,УЧАСТНИКИ!$A$2:$L$1106,5,FALSE) -> Тюменская область | E20: =VLOOKUP($F20,УЧАСТНИКИ!$A$2:$L$1106,8,FALSE) -> КМС | F20: 86 | J20: =VLOOKUP($F20,УЧАСТНИКИ!$A$2:$L$1106,9,FALSE) -> К
A21: 3 | B21: =VLOOKUP($F21,УЧАСТНИКИ!$A$2:$L$1106,3,FALSE) -> Чубровский Роман | C21: =VLOOKUP($F21,УЧАСТНИКИ!$A$2:$L$1106,4,FALSE) -> 21.12.1994 | D21: =VLOOKUP($F21,УЧАСТНИКИ!$A$2:$L$1106,5,FALSE) -> Новосибирская область | E21: =VLOOKUP($F21,УЧАСТНИКИ!$A$2:$L$1106,8,FALSE) -> МС | F21: 430 | J21: =VLOOKUP($F21,УЧАСТНИКИ!$A$2:$L$1106,9,FALSE) -> К
A22: 4 | B22: =VLOOKUP($F22,УЧАСТНИКИ!$A$2:$L$1106,3,FALSE) -> Лысенко Владимир | C22: =VLOOKUP($F22,УЧАСТНИКИ!$A$2:$L$1106,4,FALSE) -> 10.06.1998 | D22: =VLOOKUP($F22,УЧАСТНИКИ!$A$2:$L$1106,5,FALSE) -> Московская область | E22: =VLOOKUP($F22,УЧАСТНИКИ!$A$2:$L$1106,8,FALSE) -> МС | F22: 461 | J22: =VLOOKUP($F22,УЧАСТНИКИ!$A$2:$L$1106,9,FALSE) -> К
A23: 5 | B23: =VLOOKUP($F23,УЧАСТНИКИ!$A$2:$L$1106,3,FALSE) -> Кудрявцев Денис | C23: =VLOOKUP($F23,УЧАСТНИКИ!$A$2:$L$1106,4,FALSE) -> 13.04.1992 | D23: =VLOOKUP($F23,УЧАСТНИКИ!$A$2:$L$1106,5,FALSE) -> Тюменская область | E23: =VLOOKUP($F23,УЧАСТНИКИ!$A$2:$L$1106,8,FALSE) -> ЗМС | F23: 90 | J23: =VLOOKUP($F23,УЧАСТНИКИ!$A$2:$L$1106,9,FALSE) -> К
A24: 6 | B24: =VLOOKUP($F24,УЧАСТНИКИ!$A$2:$L$1106,3,FALSE) -> Логинов Иван | C24: =VLOOKUP($F24,УЧАСТНИКИ!$A$2:$L$1106,4,FALSE) -> 19.06.1997 | D24: =VLOOKUP($F24,УЧАСТНИКИ!$A$2:$L$1106,5,FALSE) -> Москва Владимирская область | E24: =VLOOKUP($F24,УЧАСТНИКИ!$A$2:$L$1106,8,FALSE) -> МС | F24: 211 | J24: =VLOOKUP($F24,УЧАСТНИКИ!$A$2:$L$1106,9,FALSE) -> К
A25: 7 | B25: =VLOOKUP($F25,УЧАСТНИКИ!$A$2:$L$1106,3,FALSE) -> Рубцов Артем | C25: =VLOOKUP($F25,УЧАСТНИКИ!$A$2:$L$1106,4,FALSE) -> 30.05.1998 | D25: =VLOOKUP($F25,УЧАСТНИКИ!$A$2:$L$1106,5,FALSE) -> Москва Оренбургская область | E25: =VLOOKUP($F25,УЧАСТНИКИ!$A$2:$L$1106,8,FALSE) -> КМС | F25: 363 | J25: =VLOOKUP($F25,УЧАСТНИКИ!$A$2:$L$1106,9,FALSE) -> Л
A26: 8 | B26: =VLOOKUP($F26,УЧАСТНИКИ!$A$2:$L$1106,3,FALSE) -> Федотов Артём | C26: =VLOOKUP($F26,УЧАСТНИКИ!$A$2:$L$1106,4,FALSE) -> 12.11.1991 | D26: =VLOOKUP($F26,УЧАСТНИКИ!$A$2:$L$1106,5,FALSE) -> Ульяновская область | E26: =VLOOKUP($F26,УЧАСТНИКИ!$A$2:$L$1106,8,FALSE) -> МС | F26: 198 | J26: =VLOOKUP($F26,УЧАСТНИКИ!$A$2:$L$1106,9,FALSE) -> К
B27: 3 ЗАБЕГ
A28: 1 | B28: =VLOOKUP($F28,УЧАСТНИКИ!$A$2:$L$1106,3,FALSE) -> #N/A | C28: =VLOOKUP($F28,УЧАСТНИКИ!$A$2:$L$1106,4,FALSE) -> #N/A | D28: =VLOOKUP($F28,УЧАСТНИКИ!$A$2:$L$1106,5,FALSE) -> #N/A | E28: =VLOOKUP($F28,УЧАСТНИКИ!$A$2:$L$1106,8,FALSE) -> #N/A | J28: =VLOOKUP($F28,УЧАСТНИКИ!$A$2:$L$1106,9,FALSE) -> #N/A
A29: 2 | B29: =VLOOKUP($F29,УЧАСТНИКИ!$A$2:$L$1106,3,FALSE) -> #N/A | C29: =VLOOKUP($F29,УЧАСТНИКИ!$A$2:$L$1106,4,FALSE) -> #N/A | D29: =VLOOKUP($F29,УЧАСТНИКИ!$A$2:$L$1106,5,FALSE) -> #N/A | E29: =VLOOKUP($F29,УЧАСТНИКИ!$A$2:$L$1106,8,FALSE) -> #N/A | J29: =VLOOKUP($F29,УЧАСТНИКИ!$A$2:$L$1106,9,FALSE) -> #N/A
A30: 3 | B30: =VLOOKUP($F30,УЧАСТНИКИ!$A$2:$L$1106,3,FALSE) -> #N/A | C30: =VLOOKUP($F30,УЧАСТНИКИ!$A$2:$L$1106,4,FALSE) -> #N/A | D30: =VLOOKUP($F30,УЧАСТНИКИ!$A$2:$L$1106,5,FALSE) -> #N/A | E30: =VLOOKUP($F30,УЧАСТНИКИ!$A$2:$L$1106,8,FALSE) -> #N/A | J30: =VLOOKUP($F30,УЧАСТНИКИ!$A$2:$L$1106,9,FALSE) -> #N/A
A31: 4 | B31: =VLOOKUP($F31,УЧАСТНИКИ!$A$2:$L$1106,3,FALSE) -> #N/A | C31: =VLOOKUP($F31,УЧАСТНИКИ!$A$2:$L$1106,4,FALSE) -> #N/A | D31: =VLOOKUP($F31,УЧАСТНИКИ!$A$2:$L$1106,5,FALSE) -> #N/A | E31: =VLOOKUP($F31,УЧАСТНИКИ!$A$2:$L$1106,8,FALSE) -> #N/A | J31: =VLOOKUP($F31,УЧАСТНИКИ!$A$2:$L$1106,9,FALSE) -> #N/A
A32: 5 | B32: =VLOOKUP($F32,УЧАСТНИКИ!$A$2:$L$1106,3,FALSE) -> #N/A | C32: =VLOOKUP($F32,УЧАСТНИКИ!$A$2:$L$1106,4,FALSE) -> #N/A | D32: =VLOOKUP($F32,УЧАСТНИКИ!$A$2:$L$1106,5,FALSE) -> #N/A | E32: =VLOOKUP($F32,УЧАСТНИКИ!$A$2:$L$1106,8,FALSE) -> #N/A | J32: =VLOOKUP($F32,УЧАСТНИКИ!$A$2:$L$1106,9,FALSE) -> #N/A
A33: 6 | B33: =VLOOKUP($F33,УЧАСТНИКИ!$A$2:$L$1106,3,FALSE) -> #N/A | C33: =VLOOKUP($F33,УЧАСТНИКИ!$A$2:$L$1106,4,FALSE) -> #N/A | D33: =VLOOKUP($F33,УЧАСТНИКИ!$A$2:$L$1106,5,FALSE) -> #N/A | E33: =VLOOKUP($F33,УЧАСТНИКИ!$A$2:$L$1106,8,FALSE) -> #N/A | J33: =VLOOKUP($F33,УЧАСТНИКИ!$A$2:$L$1106,9,FALSE) -> #N/A
A34: 7 | B34: =VLOOKUP($F34,УЧАСТНИКИ!$A$2:$L$1106,3,FALSE) -> #N/A | C34: =VLOOKUP($F34,УЧАСТНИКИ!$A$2:$L$1106,4,FALSE) -> #N/A | D34: =VLOOKUP($F34,УЧАСТНИКИ!$A$2:$L$1106,5,FALSE) -> #N/A | E34: =VLOOKUP($F34,УЧАСТНИКИ!$A$2:$L$1106,8,FALSE) -> #N/A | J34: =VLOOKUP($F34,УЧАСТНИКИ!$A$2:$L$1106,9,FALSE) -> #N/A
A35: 8 | B35: =VLOOKUP($F35,УЧАСТНИКИ!$A$2:$L$1106,3,FALSE) -> #N/A | C35: =VLOOKUP($F35,УЧАСТНИКИ!$A$2:$L$1106,4,FALSE) -> #N/A | D35: =VLOOKUP($F35,УЧАСТНИКИ!$A$2:$L$1106,5,FALSE) -> #N/A | E35: =VLOOKUP($F35,УЧАСТНИКИ!$A$2:$L$1106,8,FALSE) -> #N/A | J35: =VLOOKUP($F35,УЧАСТНИКИ!$A$2:$L$1106,9,FALSE) -> #N/A
B36: 4 ЗАБЕГ
A37: 1 | B37: =VLOOKUP($F37,УЧАСТНИКИ!$A$2:$L$1106,3,FALSE) -> #N/A | C37: =VLOOKUP($F37,УЧАСТНИКИ!$A$2:$L$1106,4,FALSE) -> #N/A | D37: =VLOOKUP($F37,УЧАСТНИКИ!$A$2:$L$1106,5,FALSE) -> #N/A | E37: =VLOOKUP($F37,УЧАСТНИКИ!$A$2:$L$1106,8,FALSE) -> #N/A | J37: =VLOOKUP($F37,УЧАСТНИКИ!$A$2:$L$1106,9,FALSE) -> #N/A
A38: 2 | B38: =VLOOKUP($F38,УЧАСТНИКИ!$A$2:$L$1106,3,FALSE) -> #N/A | C38: =VLOOKUP($F38,УЧАСТНИКИ!$A$2:$L$1106,4,FALSE) -> #N/A | D38: =VLOOKUP($F38,УЧАСТНИКИ!$A$2:$L$1106,5,FALSE) -> #N/A | E38: =VLOOKUP($F38,УЧАСТНИКИ!$A$2:$L$1106,8,FALSE) -> #N/A | J38: =VLOOKUP($F38,УЧАСТНИКИ!$A$2:$L$1106,9,FALSE) -> #N/A
A39: 3 | B39: =VLOOKUP($F39,УЧАСТНИКИ!$A$2:$L$1106,3,FALSE) -> #N/A | C39: =VLOOKUP($F39,УЧАСТНИКИ!$A$2:$L$1106,4,FALSE) -> #N/A | D39: =VLOOKUP($F39,УЧАСТНИКИ!$A$2:$L$1106,5,FALSE) -> #N/A | E39: =VLOOKUP($F39,УЧАСТНИКИ!$A$2:$L$1106,8,FALSE) -> #N/A | J39: =VLOOKUP($F39,УЧАСТНИКИ!$A$2:$L$1106,9,FALSE) -> #N/A
A40: 4 | B40: =VLOOKUP($F40,УЧАСТНИКИ!$A$2:$L$1106,3,FALSE) -> #N/A | C40: =VLOOKUP($F40,УЧАСТНИКИ!$A$2:$L$1106,4,FALSE) -> #N/A | D40: =VLOOKUP($F40,УЧАСТНИКИ!$A$2:$L$1106,5,FALSE) -> #N/A | E40: =VLOOKUP($F40,УЧАСТНИКИ!$A$2:$L$1106,8,FALSE) -> #N/A | J40: =VLOOKUP($F40,УЧАСТНИКИ!$A$2:$L$1106,9,FALSE) -> #N/A
A41: 5 | B41: =VLOOKUP($F41,УЧАСТНИКИ!$A$2:$L$1106,3,FALSE) -> #N/A | C41: =VLOOKUP($F41,УЧАСТНИКИ!$A$2:$L$1106,4,FALSE) -> #N/A | D41: =VLOOKUP($F41,УЧАСТНИКИ!$A$2:$L$1106,5,FALSE) -> #N/A | E41: =VLOOKUP($F41,УЧАСТНИКИ!$A$2:$L$1106,8,FALSE) -> #N/A | J41: =VLOOKUP($F41,УЧАСТНИКИ!$A$2:$L$1106,9,FALSE) -> #N/A
A42: 6 | B42: =VLOOKUP($F42,УЧАСТНИКИ!$A$2:$L$1106,3,FALSE) -> #N/A | C42: =VLOOKUP($F42,УЧАСТНИКИ!$A$2:$L$1106,4,FALSE) -> #N/A | D42: =VLOOKUP($F42,УЧАСТНИКИ!$A$2:$L$1106,5,FALSE) -> #N/A | E42: =VLOOKUP($F42,УЧАСТНИКИ!$A$2:$L$1106,8,FALSE) -> #N/A | J42: =VLOOKUP($F42,УЧАСТНИКИ!$A$2:$L$1106,9,FALSE) -> #N/A
A43: 7 | B43: =VLOOKUP($F43,УЧАСТНИКИ!$A$2:$L$1106,3,FALSE) -> #N/A | C43: =VLOOKUP($F43,УЧАСТНИКИ!$A$2:$L$1106,4,FALSE) -> #N/A | D43: =VLOOKUP($F43,УЧАСТНИКИ!$A$2:$L$1106,5,FALSE) -> #N/A | E43: =VLOOKUP($F43,УЧАСТНИКИ!$A$2:$L$1106,8,FALSE) -> #N/A | J43: =VLOOKUP($F43,УЧАСТНИКИ!$A$2:$L$1106,9,FALSE) -> #N/A
A44: 8 | B44: =VLOOKUP($F44,УЧАСТНИКИ!$A$2:$L$1106,3,FALSE) -> #N/A | C44: =VLOOKUP($F44,УЧАСТНИКИ!$A$2:$L$1106,4,FALSE) -> #N/A | D44: =VLOOKUP($F44,УЧАСТНИКИ!$A$2:$L$1106,5,FALSE) -> #N/A | E44: =VLOOKUP($F44,УЧАСТНИКИ!$A$2:$L$1106,8,FALSE) -> #N/A | J44: =VLOOKUP($F44,УЧАСТНИКИ!$A$2:$L$1106,9,FALSE) -> #N/A
B45: 5 ЗАБЕГ
A46: 1 | B46: =VLOOKUP($F46,УЧАСТНИКИ!$A$2:$L$1106,3,FALSE) -> #N/A | C46: =VLOOKUP($F46,УЧАСТНИКИ!$A$2:$L$1106,4,FALSE) -> #N/A | D46: =VLOOKUP($F46,УЧАСТНИКИ!$A$2:$L$1106,5,FALSE) -> #N/A | E46: =VLOOKUP($F46,УЧАСТНИКИ!$A$2:$L$1106,8,FALSE) -> #N/A | J46: =VLOOKUP($F46,УЧАСТНИКИ!$A$2:$L$1106,9,FALSE) -> #N/A
A47: 2 | B47: =VLOOKUP($F47,УЧАСТНИКИ!$A$2:$L$1106,3,FALSE) -> #N/A | C47: =VLOOKUP($F47,УЧАСТНИКИ!$A$2:$L$1106,4,FALSE) -> #N/A | D47: =VLOOKUP($F47,УЧАСТНИКИ!$A$2:$L$1106,5,FALSE) -> #N/A | E47: =VLOOKUP($F47,УЧАСТНИКИ!$A$2:$L$1106,8,FALSE) -> #N/A | J47: =VLOOKUP($F47,УЧАСТНИКИ!$A$2:$L$1106,9,FALSE) -> #N/A
A48: 3 | B48: =VLOOKUP($F48,УЧАСТНИКИ!$A$2:$L$1106,3,FALSE) -> #N/A | C48: =VLOOKUP($F48,УЧАСТНИКИ!$A$2:$L$1106,4,FALSE) -> #N/A | D48: =VLOOKUP($F48,УЧАСТНИКИ!$A$2:$L$1106,5,FALSE) -> #N/A | E48: =VLOOKUP($F48,УЧАСТНИКИ!$A$2:$L$1106,8,FALSE) -> #N/A | J48: =VLOOKUP($F48,УЧАСТНИКИ!$A$2:$L$1106,9,FALSE) -> #N/A
A49: 4 | B49: =VLOOKUP($F49,УЧАСТНИКИ!$A$2:$L$1106,3,FALSE) -> #N/A | C49: =VLOOKUP($F49,УЧАСТНИКИ!$A$2:$L$1106,4,FALSE) -> #N/A | D49: =VLOOKUP($F49,УЧАСТНИКИ!$A$2:$L$1106,5,FALSE) -> #N/A | E49: =VLOOKUP($F49,УЧАСТНИКИ!$A$2:$L$1106,8,FALSE) -> #N/A | J49: =VLOOKUP($F49,УЧАСТНИКИ!$A$2:$L$1106,9,FALSE) -> #N/A
A50: 5 | B50: =VLOOKUP($F50,УЧАСТНИКИ!$A$2:$L$1106,3,FALSE) -> #N/A | C50: =VLOOKUP($F50,УЧАСТНИКИ!$A$2:$L$1106,4,FALSE) -> #N/A | D50: =VLOOKUP($F50,УЧАСТНИКИ!$A$2:$L$1106,5,FALSE) -> #N/A | E50: =VLOOKUP($F50,УЧАСТНИКИ!$A$2:$L$1106,8,FALSE) -> #N/A | J50: =VLOOKUP($F50,УЧАСТНИКИ!$A$2:$L$1106,9,FALSE) -> #N/A
A51: 6 | B51: =VLOOKUP($F51,УЧАСТНИКИ!$A$2:$L$1106,3,FALSE) -> #N/A | C51: =VLOOKUP($F51,УЧАСТНИКИ!$A$2:$L$1106,4,FALSE) -> #N/A | D51: =VLOOKUP($F51,УЧАСТНИКИ!$A$2:$L$1106,5,FALSE) -> #N/A | E51: =VLOOKUP($F51,УЧАСТНИКИ!$A$2:$L$1106,8,FALSE) -> #N/A | J51: =VLOOKUP($F51,УЧАСТНИКИ!$A$2:$L$1106,9,FALSE) -> #N/A
A52: 7 | B52: =VLOOKUP($F52,УЧАСТНИКИ!$A$2:$L$1106,3,FALSE) -> #N/A | C52: =VLOOKUP($F52,УЧАСТНИКИ!$A$2:$L$1106,4,FALSE) -> #N/A | D52: =VLOOKUP($F52,УЧАСТНИКИ!$A$2:$L$1106,5,FALSE) -> #N/A | E52: =VLOOKUP($F52,УЧАСТНИКИ!$A$2:$L$1106,8,FALSE) -> #N/A | J52: =VLOOKUP($F52,УЧАСТНИКИ!$A$2:$L$1106,9,FALSE) -> #N/A
A53: 8 | B53: =VLOOKUP($F53,УЧАСТНИКИ!$A$2:$L$1106,3,FALSE) -> #N/A | C53: =VLOOKUP($F53,УЧАСТНИКИ!$A$2:$L$1106,4,FALSE) -> #N/A | D53: =VLOOKUP($F53,УЧАСТНИКИ!$A$2:$L$1106,5,FALSE) -> #N/A | E53: =VLOOKUP($F53,УЧАСТНИКИ!$A$2:$L$1106,8,FALSE) -> #N/A | J53: =VLOOKUP($F53,УЧАСТНИКИ!$A$2:$L$1106,9,FALSE) -> #N/A
B54: 6 ЗАБЕГ
A55: 1 | B55: =VLOOKUP($F55,УЧАСТНИКИ!$A$2:$L$1106,3,FALSE) -> #N/A | C55: =VLOOKUP($F55,УЧАСТНИКИ!$A$2:$L$1106,4,FALSE) -> #N/A | D55: =VLOOKUP($F55,УЧАСТНИКИ!$A$2:$L$1106,5,FALSE) -> #N/A | E55: =VLOOKUP($F55,УЧАСТНИКИ!$A$2:$L$1106,8,FALSE) -> #N/A | J55: =VLOOKUP($F55,УЧАСТНИКИ!$A$2:$L$1106,9,FALSE) -> #N/A
A56: 2 | B56: =VLOOKUP($F56,УЧАСТНИКИ!$A$2:$L$1106,3,FALSE) -> #N/A | C56: =VLOOKUP($F56,УЧАСТНИКИ!$A$2:$L$1106,4,FALSE) -> #N/A | D56: =VLOOKUP($F56,УЧАСТНИКИ!$A$2:$L$1106,5,FALSE) -> #N/A | E56: =VLOOKUP($F56,УЧАСТНИКИ!$A$2:$L$1106,8,FALSE) -> #N/A | J56: =VLOOKUP($F56,УЧАСТНИКИ!$A$2:$L$1106,9,FALSE) -> #N/A
A57: 3 | B57: =VLOOKUP($F57,УЧАСТНИКИ!$A$2:$L$1106,3,FALSE) -> #N/A | C57: =VLOOKUP($F57,УЧАСТНИКИ!$A$2:$L$1106,4,FALSE) -> #N/A | D57: =VLOOKUP($F57,УЧАСТНИКИ!$A$2:$L$1106,5,FALSE) -> #N/A | E57: =VLOOKUP($F57,УЧАСТНИКИ!$A$2:$L$1106,8,FALSE) -> #N/A | J57: =VLOOKUP($F57,УЧАСТНИКИ!$A$2:$L$1106,9,FALSE) -> #N/A
A58: 4 | B58: =VLOOKUP($F58,УЧАСТНИКИ!$A$2:$L$1106,3,FALSE) -> #N/A | C58: =VLOOKUP($F58,УЧАСТНИКИ!$A$2:$L$1106,4,FALSE) -> #N/A | D58: =VLOOKUP($F58,УЧАСТНИКИ!$A$2:$L$1106,5,FALSE) -> #N/A | E58: =VLOOKUP($F58,УЧАСТНИКИ!$A$2:$L$1106,8,FALSE) -> #N/A | J58: =VLOOKUP($F58,УЧАСТНИКИ!$A$2:$L$1106,9,FALSE) -> #N/A
A59: 5 | B59: =VLOOKUP($F59,УЧАСТНИКИ!$A$2:$L$1106,3,FALSE) -> #N/A | C59: =VLOOKUP($F59,УЧАСТНИКИ!$A$2:$L$1106,4,FALSE) -> #N/A | D59: =VLOOKUP($F59,УЧАСТНИКИ!$A$2:$L$1106,5,FALSE) -> #N/A | E59: =VLOOKUP($F59,УЧАСТНИКИ!$A$2:$L$1106,8,FALSE) -> #N/A | J59: =VLOOKUP($F59,УЧАСТНИКИ!$A$2:$L$1106,9,FALSE) -> #N/A
A60: 6 | B60: =VLOOKUP($F60,УЧАСТНИКИ!$A$2:$L$1106,3,FALSE) -> #N/A | C60: =VLOOKUP($F60,УЧАСТНИКИ!$A$2:$L$1106,4,FALSE) -> #N/A | D60: =VLOOKUP($F60,УЧАСТНИКИ!$A$2:$L$1106,5,FALSE) -> #N/A | E60: =VLOOKUP($F60,УЧАСТНИКИ!$A$2:$L$1106,8,FALSE) -> #N/A | J60: =VLOOKUP($F60,УЧАСТНИКИ!$A$2:$L$1106,9,FALSE) -> #N/A
A61: 7 | B61: =VLOOKUP($F61,УЧАСТНИКИ!$A$2:$L$1106,3,FALSE) -> #N/A | C61: =VLOOKUP($F61,УЧАСТНИКИ!$A$2:$L$1106,4,FALSE) -> #N/A | D61: =VLOOKUP($F61,УЧАСТНИКИ!$A$2:$L$1106,5,FALSE) -> #N/A | E61: =VLOOKUP($F61,УЧАСТНИКИ!$A$2:$L$1106,8,FALSE) -> #N/A | J61: =VLOOKUP($F61,УЧАСТНИКИ!$A$2:$L$1106,9,FALSE) -> #N/A
A62: 8 | B62: =VLOOKUP($F62,УЧАСТНИКИ!$A$2:$L$1106,3,FALSE) -> #N/A | C62: =VLOOKUP($F62,УЧАСТНИКИ!$A$2:$L$1106,4,FALSE) -> #N/A | D62: =VLOOKUP($F62,УЧАСТНИКИ!$A$2:$L$1106,5,FALSE) -> #N/A | E62: =VLOOKUP($F62,УЧАСТНИКИ!$A$2:$L$1106,8,FALSE) -> #N/A | J62: =VLOOKUP($F62,УЧАСТНИКИ!$A$2:$L$1106,9,FALSE) -> #N/A
B63: 7 ЗАБЕГ
A64: 1 | B64: =VLOOKUP($F64,УЧАСТНИКИ!$A$2:$L$1106,3,FALSE) -> #N/A | C64: =VLOOKUP($F64,УЧАСТНИКИ!$A$2:$L$1106,4,FALSE) -> #N/A | D64: =VLOOKUP($F64,УЧАСТНИКИ!$A$2:$L$1106,5,FALSE) -> #N/A | E64: =VLOOKUP($F64,УЧАСТНИКИ!$A$2:$L$1106,8,FALSE) -> #N/A | J64: =VLOOKUP($F64,УЧАСТНИКИ!$A$2:$L$1106,9,FALSE) -> #N/A
A65: 2 | B65: =VLOOKUP($F65,УЧАСТНИКИ!$A$2:$L$1106,3,FALSE) -> #N/A | C65: =VLOOKUP($F65,УЧАСТНИКИ!$A$2:$L$1106,4,FALSE) -> #N/A | D65: =VLOOKUP($F65,УЧАСТНИКИ!$A$2:$L$1106,5,FALSE) -> #N/A | E65: =VLOOKUP($F65,УЧАСТНИКИ!$A$2:$L$1106,8,FALSE) -> #N/A | J65: =VLOOKUP($F65,УЧАСТНИКИ!$A$2:$L$1106,9,FALSE) -> #N/A
A66: 3 | B66: =VLOOKUP($F66,УЧАСТНИКИ!$A$2:$L$1106,3,FALSE) -> #N/A | C66: =VLOOKUP($F66,УЧАСТНИКИ!$A$2:$L$1106,4,FALSE) -> #N/A | D66: =VLOOKUP($F66,УЧАСТНИКИ!$A$2:$L$1106,5,FALSE) -> #N/A | E66: =VLOOKUP($F66,УЧАСТНИКИ!$A$2:$L$1106,8,FALSE) -> #N/A | J66: =VLOOKUP($F66,УЧАСТНИКИ!$A$2:$L$1106,9,FALSE) -> #N/A
A67: 4 | B67: =VLOOKUP($F67,УЧАСТНИКИ!$A$2:$L$1106,3,FALSE) -> #N/A | C67: =VLOOKUP($F67,УЧАСТНИКИ!$A$2:$L$1106,4,FALSE) -> #N/A | D67: =VLOOKUP($F67,УЧАСТНИКИ!$A$2:$L$1106,5,FALSE) -> #N/A | E67: =VLOOKUP($F67,УЧАСТНИКИ!$A$2:$L$1106,8,FALSE) -> #N/A | J67: =VLOOKUP($F67,УЧАСТНИКИ!$A$2:$L$1106,9,FALSE) -> #N/A
A68: 5 | B68: =VLOOKUP($F68,УЧАСТНИКИ!$A$2:$L$1106,3,FALSE) -> #N/A | C68: =VLOOKUP($F68,УЧАСТНИКИ!$A$2:$L$1106,4,FALSE) -> #N/A | D68: =VLOOKUP($F68,УЧАСТНИКИ!$A$2:$L$1106,5,FALSE) -> #N/A | E68: =VLOOKUP($F68,УЧАСТНИКИ!$A$2:$L$1106,8,FALSE) -> #N/A | J68: =VLOOKUP($F68,УЧАСТНИКИ!$A$2:$L$1106,9,FALSE) -> #N/A
A69: 6 | B69: =VLOOKUP($F69,УЧАСТНИКИ!$A$2:$L$1106,3,FALSE) -> #N/A | C69: =VLOOKUP($F69,УЧАСТНИКИ!$A$2:$L$1106,4,FALSE) -> #N/A | D69: =VLOOKUP($F69,УЧАСТНИКИ!$A$2:$L$1106,5,FALSE) -> #N/A | E69: =VLOOKUP($F69,УЧАСТНИКИ!$A$2:$L$1106,8,FALSE) -> #N/A | J69: =VLOOKUP($F69,УЧАСТНИКИ!$A$2:$L$1106,9,FALSE) -> #N/A
A70: 7 | B70: =VLOOKUP($F70,УЧАСТНИКИ!$A$2:$L$1106,3,FALSE) -> #N/A | C70: =VLOOKUP($F70,УЧАСТНИКИ!$A$2:$L$1106,4,FALSE) -> #N/A | D70: =VLOOKUP($F70,УЧАСТНИКИ!$A$2:$L$1106,5,FALSE) -> #N/A | E70: =VLOOKUP($F70,УЧАСТНИКИ!$A$2:$L$1106,8,FALSE) -> #N/A | J70: =VLOOKUP($F70,УЧАСТНИКИ!$A$2:$L$1106,9,FALSE) -> #N/A
A71: 8 | B71: =VLOOKUP($F71,УЧАСТНИКИ!$A$2:$L$1106,3,FALSE) -> #N/A | C71: =VLOOKUP($F71,УЧАСТНИКИ!$A$2:$L$1106,4,FALSE) -> #N/A | D71: =VLOOKUP($F71,УЧАСТНИКИ!$A$2:$L$1106,5,FALSE) -> #N/A | E71: =VLOOKUP($F71,УЧАСТНИКИ!$A$2:$L$1106,8,FALSE) -> #N/A | J71: =VLOOKUP($F71,УЧАСТНИКИ!$A$2:$L$1106,9,FALSE) -> #N/A
A75: Рефери по бегу:
A76: Ст.судья:
A77: Ст.хронометрист:
A78: Секретарь:

Sheet 3000СБ-М
A1: =Name_2 -> ВСЕРОССИЙСКАЯ ФЕДЕРАЦИЯ ЛЕГКОЙ АТЛЕТИКИ
A2: СТАРТОВЫЙ ПРОТОКОЛ
A3: КУБОК РОССИИ
A4: МУЖЧИНЫ
A5: Бег с припятствиями 3000 м
J6: РР- 8:15.54
B7: ФИНАЛЬНЫЕ ЗАБЕГИ | C7: 18:55 | D7: =d_1 -> 28.05.2019г. | E7: окончание соревнований: | J7: =d_5 -> г. Сочи, ул. Бзугу 2, ст. им. Славы Метревели
A8: № п/п | B8: Фамилия, имя участника | C8: Дата рождения | D8: Территория | E8: Заявленный разряд | F8: Номер участника | G8: Приход | H8: Результат | I8: Место | J8: Примеч.
B9: 1 ЗАБЕГ
A10: 1 | B10: =VLOOKUP($F10,УЧАСТНИКИ!$A$2:$L$1106,3,FALSE) -> Рыбаков Михаил | C10: =VLOOKUP($F10,УЧАСТНИКИ!$A$2:$L$1106,4,FALSE) -> 28.10.1993 | D10: =VLOOKUP($F10,УЧАСТНИКИ!$A$2:$L$1106,5,FALSE) -> Ямало-Ненецкий автономный округ Чувашская республика | E10: =VLOOKUP($F10,УЧАСТНИКИ!$A$2:$L$1106,8,FALSE) -> КМС | F10: 252 | J10: =VLOOKUP($F10,УЧАСТНИКИ!$A$2:$L$1106,9,FALSE) -> К
A11: 2 | B11: =VLOOKUP($F11,УЧАСТНИКИ!$A$2:$L$1106,3,FALSE) -> Егоров Геннадий | C11: =VLOOKUP($F11,УЧАСТНИКИ!$A$2:$L$1106,4,FALSE) -> 16.04.1997 | D11: =VLOOKUP($F11,УЧАСТНИКИ!$A$2:$L$1106,5,FALSE) -> Республика Татарстан | E11: =VLOOKUP($F11,УЧАСТНИКИ!$A$2:$L$1106,8,FALSE) -> КМС | F11: 243 | J11: =VLOOKUP($F11,УЧАСТНИКИ!$A$2:$L$1106,9,FALSE) -> К
A12: 3 | B12: =VLOOKUP($F12,УЧАСТНИКИ!$A$2:$L$1106,3,FALSE) -> Забралов Виталий | C12: =VLOOKUP($F12,УЧАСТНИКИ!$A$2:$L$1106,4,FALSE) -> 28.11.1996 | D12: =VLOOKUP($F12,УЧАСТНИКИ!$A$2:$L$1106,5,FALSE) -> Санкт-Петербург | E12: =VLOOKUP($F12,УЧАСТНИКИ!$A$2:$L$1106,8,FALSE) -> КМС | F12: 276 | J12: =VLOOKUP($F12,УЧАСТНИКИ!$A$2:$L$1106,9,FALSE) -> Л
A13: 4 | B13: =VLOOKUP($F13,УЧАСТНИКИ!$A$2:$L$1106,3,FALSE) -> Александров Никита | C13: =VLOOKUP($F13,УЧАСТНИКИ!$A$2:$L$1106,4,FALSE) -> 22.10.1983 | D13: =VLOOKUP($F13,УЧАСТНИКИ!$A$2:$L$1106,5,FALSE) -> Ярославская область | E13: =VLOOKUP($F13,УЧАСТНИКИ!$A$2:$L$1106,8,FALSE) -> МС | F13: 237 | J13: =VLOOKUP($F13,УЧАСТНИКИ!$A$2:$L$1106,9,FALSE) -> К
A14: 5 | B14: =VLOOKUP($F14,УЧАСТНИКИ!$A$2:$L$1106,3,FALSE) -> Клопцов Юрий | C14: =VLOOKUP($F14,УЧАСТНИКИ!$A$2:$L$1106,4,FALSE) -> 22.12.1989 | D14: =VLOOKUP($F14,УЧАСТНИКИ!$A$2:$L$1106,5,FALSE) -> Москва Алтайский край | E14: =VLOOKUP($F14,УЧАСТНИКИ!$A$2:$L$1106,8,FALSE) -> МСМК | F14: 347 | J14: =VLOOKUP($F14,УЧАСТНИКИ!$A$2:$L$1106,9,FALSE) -> Л
A15: 6 | B15: =VLOOKUP($F15,УЧАСТНИКИ!$A$2:$L$1106,3,FALSE) -> Захаров Дмитрий | C15: =VLOOKUP($F15,УЧАСТНИКИ!$A$2:$L$1106,4,FALSE) -> 20.06.1998 | D15: =VLOOKUP($F15,УЧАСТНИКИ!$A$2:$L$1106,5,FALSE) -> ЮФО (К) | E15: =VLOOKUP($F15,УЧАСТНИКИ!$A$2:$L$1106,8,FALSE) -> 1 | F15: 431 | J15: =VLOOKUP($F15,УЧАСТНИКИ!$A$2:$L$1106,9,FALSE) -> К
A16: 7 | B16: =VLOOKUP($F16,УЧАСТНИКИ!$A$2:$L$1106,3,FALSE) -> Якушев Максим | C16: =VLOOKUP($F16,УЧАСТНИКИ!$A$2:$L$1106,4,FALSE) -> 15.03.1992 | D16: =VLOOKUP($F16,УЧАСТНИКИ!$A$2:$L$1106,5,FALSE) -> Свердловская область | E16: =VLOOKUP($F16,УЧАСТНИКИ!$A$2:$L$1106,8,FALSE) -> МСМК | F16: 75 | J16: =VLOOKUP($F16,УЧАСТНИКИ!$A$2:$L$1106,9,FALSE) -> К
A17: 8 | B17: =VLOOKUP($F17,УЧАСТНИКИ!$A$2:$L$1106,3,FALSE) -> Надыров Ильдар | C17: =VLOOKUP($F17,УЧАСТНИКИ!$A$2:$L$1106,4,FALSE) -> 22.04.1994 | D17: =VLOOKUP($F17,УЧАСТНИКИ!$A$2:$L$1106,5,FALSE) -> Алтайский край | E17: =VLOOKUP($F17,УЧАСТНИКИ!$A$2:$L$1106,8,FALSE) -> КМС | F17: 19 | J17: =VLOOKUP($F17,УЧАСТНИКИ!$A$2:$L$1106,9,FALSE) -> К
A18: 9 | B18: =VLOOKUP($F18,УЧАСТНИКИ!$A$2:$L$1106,3,FALSE) -> Плохотников Константин | C18: =VLOOKUP($F18,УЧАСТНИКИ!$A$2:$L$1106,4,FALSE) -> 24.03.1997 | D18: =VLOOKUP($F18,УЧАСТНИКИ!$A$2:$L$1106,5,FALSE) -> Краснодарский край | E18: =VLOOKUP($F18,УЧАСТНИКИ!$A$2:$L$1106,8,FALSE) -> МС | F18: 162 | J18: =VLOOKUP($F18,УЧАСТНИКИ!$A$2:$L$1106,9,FALSE) -> К
A19: 10 | B19: =VLOOKUP($F19,УЧАСТНИКИ!$A$2:$L$1106,3,FALSE) -> Калганов Никита | C19: =VLOOKUP($F19,УЧАСТНИКИ!$A$2:$L$1106,4,FALSE) -> 07.06.1999 | D19: =VLOOKUP($F19,УЧАСТНИКИ!$A$2:$L$1106,5,FALSE) -> Москва Орловская область | E19: =VLOOKUP($F19,УЧАСТНИКИ!$A$2:$L$1106,8,FALSE) -> КМС | F19: 345 | J19: =VLOOKUP($F19,УЧАСТНИКИ!$A$2:$L$1106,9,FALSE) -> Л
A20: 11 | B20: =VLOOKUP($F20,УЧАСТНИКИ!$A$2:$L$1106,3,FALSE) -> Калашников Юрий | C20: =VLOOKUP($F20,УЧАСТНИКИ!$A$2:$L$1106,4,FALSE) -> 06.01.1999 | D20: =VLOOKUP($F20,УЧАСТНИКИ!$A$2:$L$1106,5,FALSE) -> Краснодарский край | E20: =VLOOKUP($F20,УЧАСТНИКИ!$A$2:$L$1106,8,FALSE) -> КМС | F20: 143 | J20: =VLOOKUP($F20,УЧАСТНИКИ!$A$2:$L$1106,9,FALSE) -> Л
A21: 12 | B21: =VLOOKUP($F21,УЧАСТНИКИ!$A$2:$L$1106,3,FALSE) -> Дятлов Кирилл | C21: =VLOOKUP($F21,УЧАСТНИКИ!$A$2:$L$1106,4,FALSE) -> 25.07.1997 | D21: =VLOOKUP($F21,УЧАСТНИКИ!$A$2:$L$1106,5,FALSE) -> Республика Татарстан | E21: =VLOOKUP($F21,УЧАСТНИКИ!$A$2:$L$1106,8,FALSE) -> КМС | F21: 242 | J21: =VLOOKUP($F21,УЧАСТНИКИ!$A$2:$L$1106,9,FALSE) -> К
A22: 13 | B22: =VLOOKUP($F22,УЧАСТНИКИ!$A$2:$L$1106,3,FALSE) -> Батыршин Эдуард | C22: =VLOOKUP($F22,УЧАСТНИКИ!$A$2:$L$1106,4,FALSE) -> 04.12.1998 | D22: =VLOOKUP($F22,УЧАСТНИКИ!$A$2:$L$1106,5,FALSE) -> Республика Башкортостан | E22: =VLOOKUP($F22,УЧАСТНИКИ!$A$2:$L$1106,8,FALSE) -> МС | F22: 200 | J22: =VLOOKUP($F22,УЧАСТНИКИ!$A$2:$L$1106,9,FALSE) -> К
A23: 14 | B23: =VLOOKUP($F23,УЧАСТНИКИ!$A$2:$L$1106,3,FALSE) -> #N/A | C23: =VLOOKUP($F23,УЧАСТНИКИ!$A$2:$L$1106,4,FALSE) -> #N/A | D23: =VLOOKUP($F23,УЧАСТНИКИ!$A$2:$L$1106,5,FALSE) -> #N/A | E23: =VLOOKUP($F23,УЧАСТНИКИ!$A$2:$L$1106,8,FALSE) -> #N/A | J23: =VLOOKUP($F23,УЧАСТНИКИ!$A$2:$L$1106,9,FALSE) -> #N/A
A24: 15 | B24: =VLOOKUP($F24,УЧАСТНИКИ!$A$2:$L$1106,3,FALSE) -> #N/A | C24: =VLOOKUP($F24,УЧАСТНИКИ!$A$2:$L$1106,4,FALSE) -> #N/A | D24: =VLOOKUP($F24,УЧАСТНИКИ!$A$2:$L$1106,5,FALSE) -> #N/A | E24: =VLOOKUP($F24,УЧАСТНИКИ!$A$2:$L$1106,8,FALSE) -> #N/A | J24: =VLOOKUP($F24,УЧАСТНИКИ!$A$2:$L$1106,9,FALSE) -> #N/A
A25: 16 | B25: =VLOOKUP($F25,УЧАСТНИКИ!$A$2:$L$1106,3,FALSE) -> #N/A | C25: =VLOOKUP($F25,УЧАСТНИКИ!$A$2:$L$1106,4,FALSE) -> #N/A | D25: =VLOOKUP($F25,УЧАСТНИКИ!$A$2:$L$1106,5,FALSE) -> #N/A | E25: =VLOOKUP($F25,УЧАСТНИКИ!$A$2:$L$1106,8,FALSE) -> #N/A | J25: =VLOOKUP($F25,УЧАСТНИКИ!$A$2:$L$1106,9,FALSE) -> #N/A
B26: 2 ЗАБЕГ
A27: 1 | B27: =VLOOKUP($F27,УЧАСТНИКИ!$A$2:$L$1106,3,FALSE) -> #N/A | C27: =VLOOKUP($F27,УЧАСТНИКИ!$A$2:$L$1106,4,FALSE) -> #N/A | D27: =VLOOKUP($F27,УЧАСТНИКИ!$A$2:$L$1106,5,FALSE) -> #N/A | E27: =VLOOKUP($F27,УЧАСТНИКИ!$A$2:$L$1106,8,FALSE) -> #N/A | J27: =VLOOKUP($F27,УЧАСТНИКИ!$A$2:$L$1106,9,FALSE) -> #N/A
A28: 2 | B28: =VLOOKUP($F28,УЧАСТНИКИ!$A$2:$L$1106,3,FALSE) -> #N/A | C28: =VLOOKUP($F28,УЧАСТНИКИ!$A$2:$L$1106,4,FALSE) -> #N/A | D28: =VLOOKUP($F28,УЧАСТНИКИ!$A$2:$L$1106,5,FALSE) -> #N/A | E28: =VLOOKUP($F28,УЧАСТНИКИ!$A$2:$L$1106,8,FALSE) -> #N/A | J28: =VLOOKUP($F28,УЧАСТНИКИ!$A$2:$L$1106,9,FALSE) -> #N/A
A29: 3 | B29: =VLOOKUP($F29,УЧАСТНИКИ!$A$2:$L$1106,3,FALSE) -> #N/A | C29: =VLOOKUP($F29,УЧАСТНИКИ!$A$2:$L$1106,4,FALSE) -> #N/A | D29: =VLOOKUP($F29,УЧАСТНИКИ!$A$2:$L$1106,5,FALSE) -> #N/A | E29: =VLOOKUP($F29,УЧАСТНИКИ!$A$2:$L$1106,8,FALSE) -> #N/A | J29: =VLOOKUP($F29,УЧАСТНИКИ!$A$2:$L$1106,9,FALSE) -> #N/A
A30: 4 | B30: =VLOOKUP($F30,УЧАСТНИКИ!$A$2:$L$1106,3,FALSE) -> #N/A | C30: =VLOOKUP($F30,УЧАСТНИКИ!$A$2:$L$1106,4,FALSE) -> #N/A | D30: =VLOOKUP($F30,УЧАСТНИКИ!$A$2:$L$1106,5,FALSE) -> #N/A | E30: =VLOOKUP($F30,УЧАСТНИКИ!$A$2:$L$1106,8,FALSE) -> #N/A | J30: =VLOOKUP($F30,УЧАСТНИКИ!$A$2:$L$1106,9,FALSE) -> #N/A
A31: 5 | B31: =VLOOKUP($F31,УЧАСТНИКИ!$A$2:$L$1106,3,FALSE) -> #N/A | C31: =VLOOKUP($F31,УЧАСТНИКИ!$A$2:$L$1106,4,FALSE) -> #N/A | D31: =VLOOKUP($F31,УЧАСТНИКИ!$A$2:$L$1106,5,FALSE) -> #N/A | E31: =VLOOKUP($F31,УЧАСТНИКИ!$A$2:$L$1106,8,FALSE) -> #N/A | J31: =VLOOKUP($F31,УЧАСТНИКИ!$A$2:$L$1106,9,FALSE) -> #N/A
A32: 6 | B32: =VLOOKUP($F32,УЧАСТНИКИ!$A$2:$L$1106,3,FALSE) -> #N/A | C32: =VLOOKUP($F32,УЧАСТНИКИ!$A$2:$L$1106,4,FALSE) -> #N/A | D32: =VLOOKUP($F32,УЧАСТНИКИ!$A$2:$L$1106,5,FALSE) -> #N/A | E32: =VLOOKUP($F32,УЧАСТНИКИ!$A$2:$L$1106,8,FALSE) -> #N/A | J32: =VLOOKUP($F32,УЧАСТНИКИ!$A$2:$L$1106,9,FALSE) -> #N/A
A33: 7 | B33: =VLOOKUP($F33,УЧАСТНИКИ!$A$2:$L$1106,3,FALSE) -> #N/A | C33: =VLOOKUP($F33,УЧАСТНИКИ!$A$2:$L$1106,4,FALSE) -> #N/A | D33: =VLOOKUP($F33,УЧАСТНИКИ!$A$2:$L$1106,5,FALSE) -> #N/A | E33: =VLOOKUP($F33,УЧАСТНИКИ!$A$2:$L$1106,8,FALSE) -> #N/A | J33: =VLOOKUP($F33,УЧАСТНИКИ!$A$2:$L$1106,9,FALSE) -> #N/A
A34: 8 | B34: =VLOOKUP($F34,УЧАСТНИКИ!$A$2:$L$1106,3,FALSE) -> #N/A | C34: =VLOOKUP($F34,УЧАСТНИКИ!$A$2:$L$1106,4,FALSE) -> #N/A | D34: =VLOOKUP($F34,УЧАСТНИКИ!$A$2:$L$1106,5,FALSE) -> #N/A | E34: =VLOOKUP($F34,УЧАСТНИКИ!$A$2:$L$1106,8,FALSE) -> #N/A | J34: =VLOOKUP($F34,УЧАСТНИКИ!$A$2:$L$1106,9,FALSE) -> #N/A
A35: 9 | B35: =VLOOKUP($F35,УЧАСТНИКИ!$A$2:$L$1106,3,FALSE) -> #N/A | C35: =VLOOKUP($F35,УЧАСТНИКИ!$A$2:$L$1106,4,FALSE) -> #N/A | D35: =VLOOKUP($F35,УЧАСТНИКИ!$A$2:$L$1106,5,FALSE) -> #N/A | E35: =VLOOKUP($F35,УЧАСТНИКИ!$A$2:$L$1106,8,FALSE) -> #N/A | J35: =VLOOKUP($F35,УЧАСТНИКИ!$A$2:$L$1106,9,FALSE) -> #N/A
A36: 10 | B36: =VLOOKUP($F36,УЧАСТНИКИ!$A$2:$L$1106,3,FALSE) -> #N/A | C36: =VLOOKUP($F36,УЧАСТНИКИ!$A$2:$L$1106,4,FALSE) -> #N/A | D36: =VLOOKUP($F36,УЧАСТНИКИ!$A$2:$L$1106,5,FALSE) -> #N/A | E36: =VLOOKUP($F36,УЧАСТНИКИ!$A$2:$L$1106,8,FALSE) -> #N/A | J36: =VLOOKUP($F36,УЧАСТНИКИ!$A$2:$L$1106,9,FALSE) -> #N/A
A37: 11 | B37: =VLOOKUP($F37,УЧАСТНИКИ!$A$2:$L$1106,3,FALSE) -> #N/A | C37: =VLOOKUP($F37,УЧАСТНИКИ!$A$2:$L$1106,4,FALSE) -> #N/A | D37: =VLOOKUP($F37,УЧАСТНИКИ!$A$2:$L$1106,5,FALSE) -> #N/A | E37: =VLOOKUP($F37,УЧАСТНИКИ!$A$2:$L$1106,8,FALSE) -> #N/A | J37: =VLOOKUP($F37,УЧАСТНИКИ!$A$2:$L$1106,9,FALSE) -> #N/A
A38: 12 | B38: =VLOOKUP($F38,УЧАСТНИКИ!$A$2:$L$1106,3,FALSE) -> #N/A | C38: =VLOOKUP($F38,УЧАСТНИКИ!$A$2:$L$1106,4,FALSE) -> #N/A | D38: =VLOOKUP($F38,УЧАСТНИКИ!$A$2:$L$1106,5,FALSE) -> #N/A | E38: =VLOOKUP($F38,УЧАСТНИКИ!$A$2:$L$1106,8,FALSE) -> #N/A | J38: =VLOOKUP($F38,УЧАСТНИКИ!$A$2:$L$1106,9,FALSE) -> #N/A
... A42: 16 | B42: =VLOOKUP($F42,УЧАСТНИКИ!$A$2:$L$1106,3,FALSE) -> #N/A | C42: =VLOOKUP($F42,УЧАСТНИКИ!$A$2:$L$1106,4,FALSE) -> #N/A | D42: =VLOOKUP($F42,УЧАСТНИКИ!$A$2:$L$1106,5,FALSE) -> #N/A | E42: =VLOOKUP($F42,УЧАСТНИКИ!$A$2:$L$1106,8,FALSE) -> #N/A | J42: =VLOOKUP($F42,УЧАСТНИКИ!$A$2:$L$1106,9,FALSE) -> #N/A
A45: Рефери по бегу:
A46: Ст.судья:
A47: Ст.хронометрист:
A48: Секретарь:

Sheet В-М
A1: =Name_2 -> ВСЕРОССИЙСКАЯ ФЕДЕРАЦИЯ ЛЕГКОЙ АТЛЕТИКИ
A2: СТАРТОВЫЙ ПРОТОКОЛ
A3: КУБОК РОССИИ
A4: МУЖЧИНЫ
A5: Прыжок в высоту
F6: Порядок подьема высот: | AO6: РР- 2.42
B7: ФИНАЛЬНЫЕ СОРЕВНОВАНИЯ | C7: 12:55 | D7: =d_1 -> 28.05.2019г. | F7: окончание соревнований: | AO7: =d_5 -> г. Сочи, ул. Бзугу 2, ст. им. Славы Метревели
A8: № п/п | B8: Фамилия, имя участника | C8: Дата рождения | D8: Территория | E8: Заявленный разряд | F8: Номер участника | G8: В Ы С О Т Ы | AM8: Лучший результ. | AN8: Место | AO8: Примеч.
AK9: А | AL9: Б
A10: 1 | B10: =VLOOKUP($F10,УЧАСТНИКИ!$A$2:$L$1106,3,FALSE) -> Петров Александр | C10: =VLOOKUP($F10,УЧАСТНИКИ!$A$2:$L$1106,4,FALSE) -> 09.08.1986 | D10: =VLOOKUP($F10,УЧАСТНИКИ!$A$2:$L$1106,5,FALSE) -> Брянская область | E10: =VLOOKUP($F10,УЧАСТНИКИ!$A$2:$L$1106,8,FALSE) -> МСМК | F10: 38 | AO10: =VLOOKUP($F10,УЧАСТНИКИ!$A$2:$L$1106,9,FALSE) -> К
A11: 2 | B11: =VLOOKUP($F11,УЧАСТНИКИ!$A$2:$L$1106,3,FALSE) -> Новиков Илья | C11: =VLOOKUP($F11,УЧАСТНИКИ!$A$2:$L$1106,4,FALSE) -> 08.09.1996 | D11: =VLOOKUP($F11,УЧАСТНИКИ!$A$2:$L$1106,5,FALSE) -> Республика Карелия | E11: =VLOOKUP($F11,УЧАСТНИКИ!$A$2:$L$1106,8,FALSE) -> КМС | F11: 484 | AO11: =VLOOKUP($F11,УЧАСТНИКИ!$A$2:$L$1106,9,FALSE) -> К
A12: 3 | B12: =VLOOKUP($F12,УЧАСТНИКИ!$A$2:$L$1106,3,FALSE) -> Муравьев Виталий | C12: =VLOOKUP($F12,УЧАСТНИКИ!$A$2:$L$1106,4,FALSE) -> 01.10.1993 | D12: =VLOOKUP($F12,УЧАСТНИКИ!$A$2:$L$1106,5,FALSE) -> Красноярский край | E12: =VLOOKUP($F12,УЧАСТНИКИ!$A$2:$L$1106,8,FALSE) -> МС | F12: 102 | AO12: =VLOOKUP($F12,УЧАСТНИКИ!$A$2:$L$1106,9,FALSE) -> К
A13: 4 | B13: =VLOOKUP($F13,УЧАСТНИКИ!$A$2:$L$1106,3,FALSE) -> Ряполов Анатолий | C13: =VLOOKUP($F13,УЧАСТНИКИ!$A$2:$L$1106,4,FALSE) -> 31.01.1997 | D13: =VLOOKUP($F13,УЧАСТНИКИ!$A$2:$L$1106,5,FALSE) -> Краснодарский край | E13: =VLOOKUP($F13,УЧАСТНИКИ!$A$2:$L$1106,8,FALSE) -> МС | F13: 170 | AO13: =VLOOKUP($F13,УЧАСТНИКИ!$A$2:$L$1106,9,FALSE) -> К
A14: 5 | B14: =VLOOKUP($F14,УЧАСТНИКИ!$A$2:$L$1106,3,FALSE) -> Шалин Павел | C14: =VLOOKUP($F14,УЧАСТНИКИ!$A$2:$L$1106,4,FALSE) -> 06.03.1987 | D14: =VLOOKUP($F14,УЧАСТНИКИ!$A$2:$L$1106,5,FALSE) -> Москва Липецкая область | E14: =VLOOKUP($F14,УЧАСТНИКИ!$A$2:$L$1106,8,FALSE) -> МСМК | F14: 126 | AO14: =VLOOKUP($F14,УЧАСТНИКИ!$A$2:$L$1106,9,FALSE) -> К
A15: 6 | B15: =VLOOKUP($F15,УЧАСТНИКИ!$A$2:$L$1106,3,FALSE) -> Тимофеев Евгений | C15: =VLOOKUP($F15,УЧАСТНИКИ!$A$2:$L$1106,4,FALSE) -> 30.05.1998 | D15: =VLOOKUP($F15,УЧАСТНИКИ!$A$2:$L$1106,5,FALSE) -> Самарская область | E15: =VLOOKUP($F15,УЧАСТНИКИ!$A$2:$L$1106,8,FALSE) -> МС | F15: 418 | AO15: =VLOOKUP($F15,УЧАСТНИКИ!$A$2:$L$1106,9,FALSE) -> К
A16: 7 | B16: =VLOOKUP($F16,УЧАСТНИКИ!$A$2:$L$1106,3,FALSE) -> Абольский Алексей | C16: =VLOOKUP($F16,УЧАСТНИКИ!$A$2:$L$1106,4,FALSE) -> 03.05.1998 | D16: =VLOOKUP($F16,УЧАСТНИКИ!$A$2:$L$1106,5,FALSE) -> Омская область | E16: =VLOOKUP($F16,УЧАСТНИКИ!$A$2:$L$1106,8,FALSE) -> КМС | F16: 108 | AO16: =VLOOKUP($F16,УЧАСТНИКИ!$A$2:$L$1106,9,FALSE) -> К
A17: 8 | B17: =VLOOKUP($F17,УЧАСТНИКИ!$A$2:$L$1106,3,FALSE) -> Полянский Сергей | C17: =VLOOKUP($F17,УЧАСТНИКИ!$A$2:$L$1106,4,FALSE) -> 29.10.1989 | D17: =VLOOKUP($F17,УЧАСТНИКИ!$A$2:$L$1106,5,FALSE) -> Краснодарский край | E17: =VLOOKUP($F17,УЧАСТНИКИ!$A$2:$L$1106,8,FALSE) -> МСМК | F17: 165 | AO17: =VLOOKUP($F17,УЧАСТНИКИ!$A$2:$L$1106,9,FALSE) -> Л
A18: 9 | B18: =VLOOKUP($F18,УЧАСТНИКИ!$A$2:$L$1106,3,FALSE) -> Губин Евгений | C18: =VLOOKUP($F18,УЧАСТНИКИ!$A$2:$L$1106,4,FALSE) -> 02.07.1997 | D18: =VLOOKUP($F18,УЧАСТНИКИ!$A$2:$L$1106,5,FALSE) -> Москва Челябинская область | E18: =VLOOKUP($F18,УЧАСТНИКИ!$A$2:$L$1106,8,FALSE) -> КМС | F18: 338 | AO18: =VLOOKUP($F18,УЧАСТНИКИ!$A$2:$L$1106,9,FALSE) -> К
A19: 10 | B19: =VLOOKUP($F19,УЧАСТНИКИ!$A$2:$L$1106,3,FALSE) -> Богданов Денис | C19: =VLOOKUP($F19,УЧАСТНИКИ!$A$2:$L$1106,4,FALSE) -> 02.04.1991 | D19: =VLOOKUP($F19,УЧАСТНИКИ!$A$2:$L$1106,5,FALSE) -> Волгоградская область Москва | E19: =VLOOKUP($F19,УЧАСТНИКИ!$A$2:$L$1106,8,FALSE) -> МС | F19: 6 | AO19: =VLOOKUP($F19,УЧАСТНИКИ!$A$2:$L$1106,9,FALSE) -> К
A20: 11 | B20: =VLOOKUP($F20,УЧАСТНИКИ!$A$2:$L$1106,3,FALSE) -> Бобков Дмитрий | C20: =VLOOKUP($F20,УЧАСТНИКИ!$A$2:$L$1106,4,FALSE) -> 20.03.1988 | D20: =VLOOKUP($F20,УЧАСТНИКИ!$A$2:$L$1106,5,FALSE) -> Краснодарский край | E20: =VLOOKUP($F20,УЧАСТНИКИ!$A$2:$L$1106,8,FALSE) -> МС | F20: 132 | AO20: =VLOOKUP($F20,УЧАСТНИКИ!$A$2:$L$1106,9,FALSE) -> Л
A21: 12 | B21: =VLOOKUP($F21,УЧАСТНИКИ!$A$2:$L$1106,3,FALSE) -> Ндимбе Роман | C21: =VLOOKUP($F21,УЧАСТНИКИ!$A$2:$L$1106,4,FALSE) -> 06.07.1996 | D21: =VLOOKUP($F21,УЧАСТНИКИ!$A$2:$L$1106,5,FALSE) -> Санкт-Петербург | E21: =VLOOKUP($F21,УЧАСТНИКИ!$A$2:$L$1106,8,FALSE) -> КМС | F21: 290 | AO21: =VLOOKUP($F21,УЧАСТНИКИ!$A$2:$L$1106,9,FALSE) -> Л
... A29: 20 | B29: =VLOOKUP($F29,УЧАСТНИКИ!$A$2:$L$1106,3,FALSE) -> Сардарян Эдуард | C29: =VLOOKUP($F29,УЧАСТНИКИ!$A$2:$L$1106,4,FALSE) -> 23.03.1999 | D29: =VLOOKUP($F29,УЧАСТНИКИ!$A$2:$L$1106,5,FALSE) -> Краснодарский край | E29: =VLOOKUP($F29,УЧАСТНИКИ!$A$2:$L$1106,8,FALSE) -> КМС | F29: 171 | AO29: =VLOOKUP($F29,УЧАСТНИКИ!$A$2:$L$1106,9,FALSE) -> Л
A31: Рефери _________________ ( __________________________________________________________ )
A32: Ст. судья _________________ ( __________________________________________________________ )
A33: Секретарь ________________ ( __________________________________________________________ )

Sheet Ш-М
A1: =Name_2 -> ВСЕРОССИЙСКАЯ ФЕДЕРАЦИЯ ЛЕГКОЙ АТЛЕТИКИ
A2: СТАРТОВЫЙ ПРОТОКОЛ
A3: КУБОК РОССИИ
A4: МУЖЧИНЫ
A5: Прыжок с шестом
F6: Порядок подьема высот: | AO6: РР- 6.05
B7: ФИНАЛЬНЫЕ СОРЕВНОВАНИЯ | C7: 16:45 | D7: =d_1 -> 28.05.2019г. | F7: окончание соревнований: | AO7: =d_5 -> г. Сочи, ул. Бзугу 2, ст. им. Славы Метревели
A8: № п/п | B8: Фамилия, имя участника | C8: Дата рождения | D8: Территория | E8: Заявленный разряд | F8: Номер участника | G8: В Ы С О Т Ы | AM8: Лучший результ. | AN8: Место | AO8: Примеч.
AK9: А | AL9: Б
A10: 1 | B10: =VLOOKUP($F10,УЧАСТНИКИ!$A$2:$L$1106,3,FALSE) -> Желябин Дмитрий | C10: =VLOOKUP($F10,УЧАСТНИКИ!$A$2:$L$1106,4,FALSE) -> 20.05.1990 | D10: =VLOOKUP($F10,УЧАСТНИКИ!$A$2:$L$1106,5,FALSE) -> Москва Ставропольский край | E10: =VLOOKUP($F10,УЧАСТНИКИ!$A$2:$L$1106,8,FALSE) -> МСМК | F10: 342 | AO10: =VLOOKUP($F10,УЧАСТНИКИ!$A$2:$L$1106,9,FALSE) -> К
A11: 2 | B11: =VLOOKUP($F11,УЧАСТНИКИ!$A$2:$L$1106,3,FALSE) -> Просвирин Илья | C11: =VLOOKUP($F11,УЧАСТНИКИ!$A$2:$L$1106,4,FALSE) -> 28.02.1995 | D11: =VLOOKUP($F11,УЧАСТНИКИ!$A$2:$L$1106,5,FALSE) -> Ярославская область | E11: =VLOOKUP($F11,УЧАСТНИКИ!$A$2:$L$1106,8,FALSE) -> МС | F11: 239 | AO11: =VLOOKUP($F11,УЧАСТНИКИ!$A$2:$L$1106,9,FALSE) -> К
A12: 3 | B12: =VLOOKUP($F12,УЧАСТНИКИ!$A$2:$L$1106,3,FALSE) -> Гавриленко Максим | C12: =VLOOKUP($F12,УЧАСТНИКИ!$A$2:$L$1106,4,FALSE) -> 18.07.1993 | D12: =VLOOKUP($F12,УЧАСТНИКИ!$A$2:$L$1106,5,FALSE) -> Краснодарский край | E12: =VLOOKUP($F12,УЧАСТНИКИ!$A$2:$L$1106,8,FALSE) -> КМС | F12: 134 | AO12: =VLOOKUP($F12,УЧАСТНИКИ!$A$2:$L$1106,9,FALSE) -> Л
A13: 4 | B13: =VLOOKUP($F13,УЧАСТНИКИ!$A$2:$L$1106,3,FALSE) -> Калмыков Владимир | C13: =VLOOKUP($F13,УЧАСТНИКИ!$A$2:$L$1106,4,FALSE) -> 18.05.1992 | D13: =VLOOKUP($F13,УЧАСТНИКИ!$A$2:$L$1106,5,FALSE) -> Кировская область Челябинская область | E13: =VLOOKUP($F13,УЧАСТНИКИ!$A$2:$L$1106,8,FALSE) -> МС | F13: 255 | AO13: =VLOOKUP($F13,УЧАСТНИКИ!$A$2:$L$1106,9,FALSE) -> К
A14: 5 | B14: =VLOOKUP($F14,УЧАСТНИКИ!$A$2:$L$1106,3,FALSE) -> Горохов Георгий | C14: =VLOOKUP($F14,УЧАСТНИКИ!$A$2:$L$1106,4,FALSE) -> 20.04.1993 | D14: =VLOOKUP($F14,УЧАСТНИКИ!$A$2:$L$1106,5,FALSE) -> Москва Брянская область | E14: =VLOOKUP($F14,УЧАСТНИКИ!$A$2:$L$1106,8,FALSE) -> МСМК | F14: 30 | AO14: =VLOOKUP($F14,УЧАСТНИКИ!$A$2:$L$1106,9,FALSE) -> К
A15: 6 | B15: =VLOOKUP($F15,УЧАСТНИКИ!$A$2:$L$1106,3,FALSE) -> Мудров Илья | C15: =VLOOKUP($F15,УЧАСТНИКИ!$A$2:$L$1106,4,FALSE) -> 17.11.1991 | D15: =VLOOKUP($F15,УЧАСТНИКИ!$A$2:$L$1106,5,FALSE) -> Московская область Ярославская область | E15: =VLOOKUP($F15,УЧАСТНИКИ!$A$2:$L$1106,8,FALSE) -> МС | F15: 240 | AO15: =VLOOKUP($F15,УЧАСТНИКИ!$A$2:$L$1106,9,FALSE) -> К
A16: 7 | B16: =VLOOKUP($F16,УЧАСТНИКИ!$A$2:$L$1106,3,FALSE) -> Лукьяненко Евгений | C16: =VLOOKUP($F16,УЧАСТНИКИ!$A$2:$L$1106,4,FALSE) -> 23.01.1985 | D16: =VLOOKUP($F16,УЧАСТНИКИ!$A$2:$L$1106,5,FALSE) -> Краснодарский край Москва | E16: =VLOOKUP($F16,УЧАСТНИКИ!$A$2:$L$1106,8,FALSE) -> ЗМС | F16: 154 | AO16: =VLOOKUP($F16,УЧАСТНИКИ!$A$2:$L$1106,9,FALSE) -> К
A17: 8 | B17: =VLOOKUP($F17,УЧАСТНИКИ!$A$2:$L$1106,3,FALSE) -> Грипич Александр | C17: =VLOOKUP($F17,УЧАСТНИКИ!$A$2:$L$1106,4,FALSE) -> 21.09.1986 | D17: =VLOOKUP($F17,УЧАСТНИКИ!$A$2:$L$1106,5,FALSE) -> Краснодарский край | E17: =VLOOKUP($F17,УЧАСТНИКИ!$A$2:$L$1106,8,FALSE) -> ЗМС | F17: 137 | AO17: =VLOOKUP($F17,УЧАСТНИКИ!$A$2:$L$1106,9,FALSE) -> К
A18: 9 | B18: =VLOOKUP($F18,УЧАСТНИКИ!$A$2:$L$1106,3,FALSE) -> Акиньшин Денис | C18: =VLOOKUP($F18,УЧАСТНИКИ!$A$2:$L$1106,4,FALSE) -> 1998 | D18: =VLOOKUP($F18,УЧАСТНИКИ!$A$2:$L$1106,5,FALSE) -> Москва | E18: =VLOOKUP($F18,УЧАСТНИКИ!$A$2:$L$1106,8,FALSE) -> КМС | F18: 490 | AO18: =VLOOKUP($F18,УЧАСТНИКИ!$A$2:$L$1106,9,FALSE) -> Л
A19: 10 | B19: =VLOOKUP($F19,УЧАСТНИКИ!$A$2:$L$1106,3,FALSE) -> #N/A | C19: =VLOOKUP($F19,УЧАСТНИКИ!$A$2:$L$1106,4,FALSE) -> #N/A | D19: =VLOOKUP($F19,УЧАСТНИКИ!$A$2:$L$1106,5,FALSE) -> #N/A | E19: =VLOOKUP($F19,УЧАСТНИКИ!$A$2:$L$1106,8,FALSE) -> #N/A | AO19: =VLOOKUP($F19,УЧАСТНИКИ!$A$2:$L$1106,9,FALSE) -> #N/A
A20: 11 | B20: =VLOOKUP($F20,УЧАСТНИКИ!$A$2:$L$1106,3,FALSE) -> #N/A | C20: =VLOOKUP($F20,УЧАСТНИКИ!$A$2:$L$1106,4,FALSE) -> #N/A | D20: =VLOOKUP($F20,УЧАСТНИКИ!$A$2:$L$1106,5,FALSE) -> #N/A | E20: =VLOOKUP($F20,УЧАСТНИКИ!$A$2:$L$1106,8,FALSE) -> #N/A | AO20: =VLOOKUP($F20,УЧАСТНИКИ!$A$2:$L$1106,9,FALSE) -> #N/A
A21: 12 | B21: =VLOOKUP($F21,УЧАСТНИКИ!$A$2:$L$1106,3,FALSE) -> #N/A | C21: =VLOOKUP($F21,УЧАСТНИКИ!$A$2:$L$1106,4,FALSE) -> #N/A | D21: =VLOOKUP($F21,УЧАСТНИКИ!$A$2:$L$1106,5,FALSE) -> #N/A | E21: =VLOOKUP($F21,УЧАСТНИКИ!$A$2:$L$1106,8,FALSE) -> #N/A | AO21: =VLOOKUP($F21,УЧАСТНИКИ!$A$2:$L$1106,9,FALSE) -> #N/A
A22: 13 | B22: =VLOOKUP($F22,УЧАСТНИКИ!$A$2:$L$1106,3,FALSE) -> #N/A | C22: =VLOOKUP($F22,УЧАСТНИКИ!$A$2:$L$1106,4,FALSE) -> #N/A | D22: =VLOOKUP($F22,УЧАСТНИКИ!$A$2:$L$1106,5,FALSE) -> #N/A | E22: =VLOOKUP($F22,УЧАСТНИКИ!$A$2:$L$1106,8,FALSE) -> #N/A | AO22: =VLOOKUP($F22,УЧАСТНИКИ!$A$2:$L$1106,9,FALSE) -> #N/A
A23: 14 | B23: =VLOOKUP($F23,УЧАСТНИКИ!$A$2:$L$1106,3,FALSE) -> #N/A | C23: =VLOOKUP($F23,УЧАСТНИКИ!$A$2:$L$1106,4,FALSE) -> #N/A | D23: =VLOOKUP($F23,УЧАСТНИКИ!$A$2:$L$1106,5,FALSE) -> #N/A | E23: =VLOOKUP($F23,УЧАСТНИКИ!$A$2:$L$1106,8,FALSE) -> #N/A | AO23: =VLOOKUP($F23,УЧАСТНИКИ!$A$2:$L$1106,9,FALSE) -> #N/A
A24: 15 | B24: =VLOOKUP($F24,УЧАСТНИКИ!$A$2:$L$1106,3,FALSE) -> #N/A | C24: =VLOOKUP($F24,УЧАСТНИКИ!$A$2:$L$1106,4,FALSE) -> #N/A | D24: =VLOOKUP($F24,УЧАСТНИКИ!$A$2:$L$1106,5,FALSE) -> #N/A | E24: =VLOOKUP($F24,УЧАСТНИКИ!$A$2:$L$1106,8,FALSE) -> #N/A | AO24: =VLOOKUP($F24,УЧАСТНИКИ!$A$2:$L$1106,9,FALSE) -> #N/A
A25: 16 | B25: =VLOOKUP($F25,УЧАСТНИКИ!$A$2:$L$1106,3,FALSE) -> #N/A | C25: =VLOOKUP($F25,УЧАСТНИКИ!$A$2:$L$1106,4,FALSE) -> #N/A | D25: =VLOOKUP($F25,УЧАСТНИКИ!$A$2:$L$1106,5,FALSE) -> #N/A | E25: =VLOOKUP($F25,УЧАСТНИКИ!$A$2:$L$1106,8,FALSE) -> #N/A | AO25: =VLOOKUP($F25,УЧАСТНИКИ!$A$2:$L$1106,9,FALSE) -> #N/A
A26: 17 | B26: =VLOOKUP($F26,УЧАСТНИКИ!$A$2:$L$1106,3,FALSE) -> #N/A | C26: =VLOOKUP($F26,УЧАСТНИКИ!$A$2:$L$1106,4,FALSE) -> #N/A | D26: =VLOOKUP($F26,УЧАСТНИКИ!$A$2:$L$1106,5,FALSE) -> #N/A | E26: =VLOOKUP($F26,УЧАСТНИКИ!$A$2:$L$1106,8,FALSE) -> #N/A | AO26: =VLOOKUP($F26,УЧАСТНИКИ!$A$2:$L$1106,9,FALSE) -> #N/A
A28: Рефери _________________ ( __________________________________________________________ )
A29: Ст. судья _________________ ( __________________________________________________________ )
A30: Секретарь ________________ ( __________________________________________________________ )

Sheet Д-М
A1: =Name_2 -> ВСЕРОССИЙСКАЯ ФЕДЕРАЦИЯ ЛЕГКОЙ АТЛЕТИКИ
A2: СТАРТОВЫЙ ПРОТОКОЛ
A3: КУБОК РОССИИ
A4: МУЖЧИНЫ
A5: Прыжок в длину
P6: РР- 8.56
B7: ФИНАЛЬНЫЕ СОРЕВНОВАНИЯ | C7: 17:20 | D7: =d_1 -> 28.05.2019г. | F7: окончание соревнований: | P7: =d_5 -> г. Сочи, ул. Бзугу 2, ст. им. Славы Метревели
A8: № п/п | B8: Фамилия, имя участника | C8: Дата рождения | D8: Территория | E8: Заявленный разряд | F8: Номер участника | G8: Попытки | J8: Жеребьевка | K8: Попытки | N8: Лучший результат | O8: Место | P8: Примечание
G9: 1 | H9: 2 | I9: 3 | K9: 4 | L9: 5 | M9: 6
A10: 1 | B10: =VLOOKUP($F10,УЧАСТНИКИ!$A$2:$L$1106,3,FALSE) -> Петров Александр | C10: =VLOOKUP($F10,УЧАСТНИКИ!$A$2:$L$1106,4,FALSE) -> 09.08.1986 | D10: =VLOOKUP($F10,УЧАСТНИКИ!$A$2:$L$1106,5,FALSE) -> Брянская область | E10: =VLOOKUP($F10,УЧАСТНИКИ!$A$2:$L$1106,8,FALSE) -> МСМК | F10: 38 | P10: =VLOOKUP($F10,УЧАСТНИКИ!$A$2:$L$1106,9,FALSE) -> К
A12: 2 | B12: =VLOOKUP($F12,УЧАСТНИКИ!$A$2:$L$1106,3,FALSE) -> Новиков Илья | C12: =VLOOKUP($F12,УЧАСТНИКИ!$A$2:$L$1106,4,FALSE) -> 08.09.1996 | D12: =VLOOKUP($F12,УЧАСТНИКИ!$A$2:$L$1106,5,FALSE) -> Республика Карелия | E12: =VLOOKUP($F12,УЧАСТНИКИ!$A$2:$L$1106,8,FALSE) -> КМС | F12: 484 | P12: =VLOOKUP($F12,УЧАСТНИКИ!$A$2:$L$1106,9,FALSE) -> К
A14: 3 | B14: =VLOOKUP($F14,УЧАСТНИКИ!$A$2:$L$1106,3,FALSE) -> Муравьев Виталий | C14: =VLOOKUP($F14,УЧАСТНИКИ!$A$2:$L$1106,4,FALSE) -> 01.10.1993 | D14: =VLOOKUP($F14,УЧАСТНИКИ!$A$2:$L$1106,5,FALSE) -> Красноярский край | E14: =VLOOKUP($F14,УЧАСТНИКИ!$A$2:$L$1106,8,FALSE) -> МС | F14: 102 | P14: =VLOOKUP($F14,УЧАСТНИКИ!$A$2:$L$1106,9,FALSE) -> К
A16: 4 | B16: =VLOOKUP($F16,УЧАСТНИКИ!$A$2:$L$1106,3,FALSE) -> Ряполов Анатолий | C16: =VLOOKUP($F16,УЧАСТНИКИ!$A$2:$L$1106,4,FALSE) -> 31.01.1997 | D16: =VLOOKUP($F16,УЧАСТНИКИ!$A$2:$L$1106,5,FALSE) -> Краснодарский край | E16: =VLOOKUP($F16,УЧАСТНИКИ!$A$2:$L$1106,8,FALSE) -> МС | F16: 170 | P16: =VLOOKUP($F16,УЧАСТНИКИ!$A$2:$L$1106,9,FALSE) -> К
A18: 5 | B18: =VLOOKUP($F18,УЧАСТНИКИ!$A$2:$L$1106,3,FALSE) -> Шалин Павел | C18: =VLOOKUP($F18,УЧАСТНИКИ!$A$2:$L$1106,4,FALSE) -> 06.03.1987 | D18: =VLOOKUP($F18,УЧАСТНИКИ!$A$2:$L$1106,5,FALSE) -> Москва Липецкая область | E18: =VLOOKUP($F18,УЧАСТНИКИ!$A$2:$L$1106,8,FALSE) -> МСМК | F18: 126 | P18: =VLOOKUP($F18,УЧАСТНИКИ!$A$2:$L$1106,9,FALSE) -> К
A20: 6 | B20: =VLOOKUP($F20,УЧАСТНИКИ!$A$2:$L$1106,3,FALSE) -> Тимофеев Евгений | C20: =VLOOKUP($F20,УЧАСТНИКИ!$A$2:$L$1106,4,FALSE) -> 30.05.1998 | D20: =VLOOKUP($F20,УЧАСТНИКИ!$A$2:$L$1106,5,FALSE) -> Самарская область | E20: =VLOOKUP($F20,УЧАСТНИКИ!$A$2:$L$1106,8,FALSE) -> МС | F20: 418 | P20: =VLOOKUP($F20,УЧАСТНИКИ!$A$2:$L$1106,9,FALSE) -> К
A22: 7 | B22: =VLOOKUP($F22,УЧАСТНИКИ!$A$2:$L$1106,3,FALSE) -> Абольский Алексей | C22: =VLOOKUP($F22,УЧАСТНИКИ!$A$2:$L$1106,4,FALSE) -> 03.05.1998 | D22: =VLOOKUP($F22,УЧАСТНИКИ!$A$2:$L$1106,5,FALSE) -> Омская область | E22: =VLOOKUP($F22,УЧАСТНИКИ!$A$2:$L$1106,8,FALSE) -> КМС | F22: 108 | P22: =VLOOKUP($F22,УЧАСТНИКИ!$A$2:$L$1106,9,FALSE) -> К
A24: 8 | B24: =VLOOKUP($F24,УЧАСТНИКИ!$A$2:$L$1106,3,FALSE) -> Полянский Сергей | C24: =VLOOKUP($F24,УЧАСТНИКИ!$A$2:$L$1106,4,FALSE) -> 29.10.1989 | D24: =VLOOKUP($F24,УЧАСТНИКИ!$A$2:$L$1106,5,FALSE) -> Краснодарский край | E24: =VLOOKUP($F24,УЧАСТНИКИ!$A$2:$L$1106,8,FALSE) -> МСМК | F24: 165 | P24: =VLOOKUP($F24,УЧАСТНИКИ!$A$2:$L$1106,9,FALSE) -> Л
A26: 9 | B26: =VLOOKUP($F26,УЧАСТНИКИ!$A$2:$L$1106,3,FALSE) -> Губин Евгений | C26: =VLOOKUP($F26,УЧАСТНИКИ!$A$2:$L$1106,4,FALSE) -> 02.07.1997 | D26: =VLOOKUP($F26,УЧАСТНИКИ!$A$2:$L$1106,5,FALSE) -> Москва Челябинская область | E26: =VLOOKUP($F26,УЧАСТНИКИ!$A$2:$L$1106,8,FALSE) -> КМС | F26: 338 | P26: =VLOOKUP($F26,УЧАСТНИКИ!$A$2:$L$1106,9,FALSE) -> К
A28: 10 | B28: =VLOOKUP($F28,УЧАСТНИКИ!$A$2:$L$1106,3,FALSE) -> Богданов Денис | C28: =VLOOKUP($F28,УЧАСТНИКИ!$A$2:$L$1106,4,FALSE) -> 02.04.1991 | D28: =VLOOKUP($F28,УЧАСТНИКИ!$A$2:$L$1106,5,FALSE) -> Волгоградская область Москва | E28: =VLOOKUP($F28,УЧАСТНИКИ!$A$2:$L$1106,8,FALSE) -> МС | F28: 6 | P28: =VLOOKUP($F28,УЧАСТНИКИ!$A$2:$L$1106,9,FALSE) -> К
A29: 12
A30: 11 | B30: =VLOOKUP($F30,УЧАСТНИКИ!$A$2:$L$1106,3,FALSE) -> Бобков Дмитрий | C30: =VLOOKUP($F30,УЧАСТНИКИ!$A$2:$L$1106,4,FALSE) -> 20.03.1988 | D30: =VLOOKUP($F30,УЧАСТНИКИ!$A$2:$L$1106,5,FALSE) -> Краснодарский край | E30: =VLOOKUP($F30,УЧАСТНИКИ!$A$2:$L$1106,8,FALSE) -> МС | F30: 132 | P30: =VLOOKUP($F30,УЧАСТНИКИ!$A$2:$L$1106,9,FALSE) -> Л
A31: 14
A32: 12 | B32: =VLOOKUP($F32,УЧАСТНИКИ!$A$2:$L$1106,3,FALSE) -> Ндимбе Роман | C32: =VLOOKUP($F32,УЧАСТНИКИ!$A$2:$L$1106,4,FALSE) -> 06.07.1996 | D32: =VLOOKUP($F32,УЧАСТНИКИ!$A$2:$L$1106,5,FALSE) -> Санкт-Петербург | E32: =VLOOKUP($F32,УЧАСТНИКИ!$A$2:$L$1106,8,FALSE) -> КМС | F32: 290 | P32: =VLOOKUP($F32,УЧАСТНИКИ!$A$2:$L$1106,9,FALSE) -> Л
A33: 16
A34: 13 | B34: =VLOOKUP($F34,УЧАСТНИКИ!$A$2:$L$1106,3,FALSE) -> Юнякин Максим | C34: =VLOOKUP($F34,УЧАСТНИКИ!$A$2:$L$1106,4,FALSE) -> 13.02.1996 | D34: =VLOOKUP($F34,УЧАСТНИКИ!$A$2:$L$1106,5,FALSE) -> Москва Саратовская область | E34: =VLOOKUP($F34,УЧАСТНИКИ!$A$2:$L$1106,8,FALSE) -> МС | F34: 374 | P34: =VLOOKUP($F34,УЧАСТНИКИ!$A$2:$L$1106,9,FALSE) -> Л
A35: 18
A36: 14 | B36: =VLOOKUP($F36,УЧАСТНИКИ!$A$2:$L$1106,3,FALSE) -> Головачев Никита | C36: =VLOOKUP($F36,УЧАСТНИКИ!$A$2:$L$1106,4,FALSE) -> 24.12.1992 | D36: =VLOOKUP($F36,УЧАСТНИКИ!$A$2:$L$1106,5,FALSE) -> Краснодарский край | E36: =VLOOKUP($F36,УЧАСТНИКИ!$A$2:$L$1106,8,FALSE) -> 1 | F36: 136 | P36: =VLOOKUP($F36,УЧАСТНИКИ!$A$2:$L$1106,9,FALSE) -> Л
A37: 10
A38: 15 | B38: =VLOOKUP($F38,УЧАСТНИКИ!$A$2:$L$1106,3,FALSE) -> Сехин Александр | C38: =VLOOKUP($F38,УЧАСТНИКИ!$A$2:$L$1106,4,FALSE) -> 05.06.1992 | D38: =VLOOKUP($F38,УЧАСТНИКИ!$A$2:$L$1106,5,FALSE) -> Москва Брянская область | E38: =VLOOKUP($F38,УЧАСТНИКИ!$A$2:$L$1106,8,FALSE) -> МС | F38: 40 | P38: =VLOOKUP($F38,УЧАСТНИКИ!$A$2:$L$1106,9,FALSE) -> К
A39: 12
A40: 16 | B40: =VLOOKUP($F40,УЧАСТНИКИ!$A$2:$L$1106,3,FALSE) -> Меньков Александр | C40: =VLOOKUP($F40,УЧАСТНИКИ!$A$2:$L$1106,4,FALSE) -> 07.12.1990 | D40: =VLOOKUP($F40,УЧАСТНИКИ!$A$2:$L$1106,5,FALSE) -> Красноярский край Республика Мордовия | E40: =VLOOKUP($F40,УЧАСТНИКИ!$A$2:$L$1106,8,FALSE) -> ЗМС | F40: 101 | P40: =VLOOKUP($F40,УЧАСТНИКИ!$A$2:$L$1106,9,FALSE) -> К
A41: 14
A42: 17 | B42: =VLOOKUP($F42,УЧАСТНИКИ!$A$2:$L$1106,3,FALSE) -> Примак Артём | C42: =VLOOKUP($F42,УЧАСТНИКИ!$A$2:$L$1106,4,FALSE) -> 14.01.1993 | D42: =VLOOKUP($F42,УЧАСТНИКИ!$A$2:$L$1106,5,FALSE) -> Краснодарский край Хабаровский край | E42: =VLOOKUP($F42,УЧАСТНИКИ!$A$2:$L$1106,8,FALSE) -> МСМК | F42: 167 | P42: =VLOOKUP($F42,УЧАСТНИКИ!$A$2:$L$1106,9,FALSE) -> К
A43: 16
A44: 18 | B44: =VLOOKUP($F44,УЧАСТНИКИ!$A$2:$L$1106,3,FALSE) -> Харитонов Кирилл | C44: =VLOOKUP($F44,УЧАСТНИКИ!$A$2:$L$1106,4,FALSE) -> 05.02.1999 | D44: =VLOOKUP($F44,УЧАСТНИКИ!$A$2:$L$1106,5,FALSE) -> Санкт-Петербург | E44: =VLOOKUP($F44,УЧАСТНИКИ!$A$2:$L$1106,8,FALSE) -> КМС | F44: 318 | P44: =VLOOKUP($F44,УЧАСТНИКИ!$A$2:$L$1106,9,FALSE) -> Л
A45: 9
A46: 19 | B46: =VLOOKUP($F46,УЧАСТНИКИ!$A$2:$L$1106,3,FALSE) -> Кутуев Раиль | C46: =VLOOKUP($F46,УЧАСТНИКИ!$A$2:$L$1106,4,FALSE) -> 06.08.1996 | D46: =VLOOKUP($F46,УЧАСТНИКИ!$A$2:$L$1106,5,FALSE) -> Москва Оренбургская область | E46: =VLOOKUP($F46,УЧАСТНИКИ!$A$2:$L$1106,8,FALSE) -> МСМК | F46: 356 | P46: =VLOOKUP($F46,УЧАСТНИКИ!$A$2:$L$1106,9,FALSE) -> К
A48: 20 | B48: =VLOOKUP($F48,УЧАСТНИКИ!$A$2:$L$1106,3,FALSE) -> Сардарян Эдуард | C48: =VLOOKUP($F48,УЧАСТНИКИ!$A$2:$L$1106,4,FALSE) -> 23.03.1999 | D48: =VLOOKUP($F48,УЧАСТНИКИ!$A$2:$L$1106,5,FALSE) -> Краснодарский край | E48: =VLOOKUP($F48,УЧАСТНИКИ!$A$2:$L$1106,8,FALSE) -> КМС | F48: 171 | P48: =VLOOKUP($F48,УЧАСТНИКИ!$A$2:$L$1106,9,FALSE) -> Л
A50: Рефери _________________ ( __________________________________________________________ )
A51: Ст. судья _________________ ( __________________________________________________________ )
A52: Секретарь ________________ ( __________________________________________________________ )

Sheet Т-М
A1: =Name_2 -> ВСЕРОССИЙСКАЯ ФЕДЕРАЦИЯ ЛЕГКОЙ АТЛЕТИКИ
A2: СТАРТОВЫЙ ПРОТОКОЛ
A3: КУБОК РОССИИ
A4: МУЖЧИНЫ
A5: Прыжок тройной
P6: РР- 17.77
B7: ФИНАЛЬНЫЕ СОРЕВНОВАНИЯ | C7: 12:55 | D7: =d_1 -> 28.05.2019г. | E7: окончание соревнований: | L7: =d_5 -> г. Сочи, ул. Бзугу 2, ст. им. Славы Метревели | P7: =d_5 -> г. Сочи, ул. Бзугу 2, ст. им. Славы Метревели
A8: № п/п | B8: Фамилия, имя участника | C8: Дата рождения | D8: Территория | E8: Заявленный разряд | F8: Номер участника | G8: Попытки | J8: Жеребьевка | K8: Попытки | N8: Лучший результат | O8: Место | P8: Примечание
G9: 1 | H9: 2 | I9: 3 | K9: 4 | L9: 5 | M9: 6
A10: 1 | B10: =VLOOKUP($F10,УЧАСТНИКИ!$A$2:$L$1106,3,FALSE) -> #N/A | C10: =VLOOKUP($F10,УЧАСТНИКИ!$A$2:$L$1106,4,FALSE) -> #N/A | D10: =VLOOKUP($F10,УЧАСТНИКИ!$A$2:$L$1106,5,FALSE) -> #N/A | E10: =VLOOKUP($F10,УЧАСТНИКИ!$A$2:$L$1106,8,FALSE) -> #N/A | P10: =VLOOKUP($F10,УЧАСТНИКИ!$A$2:$L$1106,9,FALSE) -> #N/A
E11: =VLOOKUP($F11,УЧАСТНИКИ!$A$2:$L$1106,8,FALSE) -> #N/A
A12: 2 | B12: =VLOOKUP($F12,УЧАСТНИКИ!$A$2:$L$1106,3,FALSE) -> #N/A | C12: =VLOOKUP($F12,УЧАСТНИКИ!$A$2:$L$1106,4,FALSE) -> #N/A | D12: =VLOOKUP($F12,УЧАСТНИКИ!$A$2:$L$1106,5,FALSE) -> #N/A | E12: =VLOOKUP($F12,УЧАСТНИКИ!$A$2:$L$1106,8,FALSE) -> #N/A | P12: =VLOOKUP($F12,УЧАСТНИКИ!$A$2:$L$1106,9,FALSE) -> #N/A
E13: =VLOOKUP($F13,УЧАСТНИКИ!$A$2:$L$1106,8,FALSE) -> #N/A
A14: 3 | B14: =VLOOKUP($F14,УЧАСТНИКИ!$A$2:$L$1106,3,FALSE) -> #N/A | C14: =VLOOKUP($F14,УЧАСТНИКИ!$A$2:$L$1106,4,FALSE) -> #N/A | D14: =VLOOKUP($F14,УЧАСТНИКИ!$A$2:$L$1106,5,FALSE) -> #N/A | E14: =VLOOKUP($F14,УЧАСТНИКИ!$A$2:$L$1106,8,FALSE) -> #N/A | P14: =VLOOKUP($F14,УЧАСТНИКИ!$A$2:$L$1106,9,FALSE) -> #N/A
E15: =VLOOKUP($F15,УЧАСТНИКИ!$A$2:$L$1106,8,FALSE) -> #N/A
A16: 4 | B16: =VLOOKUP($F16,УЧАСТНИКИ!$A$2:$L$1106,3,FALSE) -> #N/A | C16: =VLOOKUP($F16,УЧАСТНИКИ!$A$2:$L$1106,4,FALSE) -> #N/A | D16: =VLOOKUP($F16,УЧАСТНИКИ!$A$2:$L$1106,5,FALSE) -> #N/A | E16: =VLOOKUP($F16,УЧАСТНИКИ!$A$2:$L$1106,8,FALSE) -> #N/A | P16: =VLOOKUP($F16,УЧАСТНИКИ!$A$2:$L$1106,9,FALSE) -> #N/A
E17: =VLOOKUP($F17,УЧАСТНИКИ!$A$2:$L$1106,8,FALSE) -> #N/A
A18: 5 | B18: =VLOOKUP($F18,УЧАСТНИКИ!$A$2:$L$1106,3,FALSE) -> #N/A | C18: =VLOOKUP($F18,УЧАСТНИКИ!$A$2:$L$1106,4,FALSE) -> #N/A | D18: =VLOOKUP($F18,УЧАСТНИКИ!$A$2:$L$1106,5,FALSE) -> #N/A | E18: =VLOOKUP($F18,УЧАСТНИКИ!$A$2:$L$1106,8,FALSE) -> #N/A | P18: =VLOOKUP($F18,УЧАСТНИКИ!$A$2:$L$1106,9,FALSE) -> #N/A
E19: =VLOOKUP($F19,УЧАСТНИКИ!$A$2:$L$1106,8,FALSE) -> #N/A
A20: 6 | B20: =VLOOKUP($F20,УЧАСТНИКИ!$A$2:$L$1106,3,FALSE) -> #N/A | C20: =VLOOKUP($F20,УЧАСТНИКИ!$A$2:$L$1106,4,FALSE) -> #N/A | D20: =VLOOKUP($F20,УЧАСТНИКИ!$A$2:$L$1106,5,FALSE) -> #N/A | E20: =VLOOKUP($F20,УЧАСТНИКИ!$A$2:$L$1106,8,FALSE) -> #N/A | P20: =VLOOKUP($F20,УЧАСТНИКИ!$A$2:$L$1106,9,FALSE) -> #N/A
E21: =VLOOKUP($F21,УЧАСТНИКИ!$A$2:$L$1106,8,FALSE) -> #N/A
A22: 7 | B22: =VLOOKUP($F22,УЧАСТНИКИ!$A$2:$L$1106,3,FALSE) -> #N/A | C22: =VLOOKUP($F22,УЧАСТНИКИ!$A$2:$L$1106,4,FALSE) -> #N/A | D22: =VLOOKUP($F22,УЧАСТНИКИ!$A$2:$L$1106,5,FALSE) -> #N/A | E22: =VLOOKUP($F22,УЧАСТНИКИ!$A$2:$L$1106,8,FALSE) -> #N/A | P22: =VLOOKUP($F22,УЧАСТНИКИ!$A$2:$L$1106,9,FALSE) -> #N/A
E23: =VLOOKUP($F23,УЧАСТНИКИ!$A$2:$L$1106,8,FALSE) -> #N/A
A24: 8 | B24: =VLOOKUP($F24,УЧАСТНИКИ!$A$2:$L$1106,3,FALSE) -> #N/A | C24: =VLOOKUP($F24,УЧАСТНИКИ!$A$2:$L$1106,4,FALSE) -> #N/A | D24: =VLOOKUP($F24,УЧАСТНИКИ!$A$2:$L$1106,5,FALSE) -> #N/A | E24: =VLOOKUP($F24,УЧАСТНИКИ!$A$2:$L$1106,8,FALSE) -> #N/A | P24: =VLOOKUP($F24,УЧАСТНИКИ!$A$2:$L$1106,9,FALSE) -> #N/A
E25: =VLOOKUP($F25,УЧАСТНИКИ!$A$2:$L$1106,8,FALSE) -> #N/A
A26: 9 | B26: =VLOOKUP($F26,УЧАСТНИКИ!$A$2:$L$1106,3,FALSE) -> #N/A | C26: =VLOOKUP($F26,УЧАСТНИКИ!$A$2:$L$1106,4,FALSE) -> #N/A | D26: =VLOOKUP($F26,УЧАСТНИКИ!$A$2:$L$1106,5,FALSE) -> #N/A | E26: =VLOOKUP($F26,УЧАСТНИКИ!$A$2:$L$1106,8,FALSE) -> #N/A | P26: =VLOOKUP($F26,УЧАСТНИКИ!$A$2:$L$1106,9,FALSE) -> #N/A
E27: =VLOOKUP($F27,УЧАСТНИКИ!$A$2:$L$1106,8,FALSE) -> #N/A
A28: 10 | B28: =VLOOKUP($F28,УЧАСТНИКИ!$A$2:$L$1106,3,FALSE) -> #N/A | C28: =VLOOKUP($F28,УЧАСТНИКИ!$A$2:$L$1106,4,FALSE) -> #N/A | D28: =VLOOKUP($F28,УЧАСТНИКИ!$A$2:$L$1106,5,FALSE) -> #N/A | E28: =VLOOKUP($F28,УЧАСТНИКИ!$A$2:$L$1106,8,FALSE) -> #N/A | P28: =VLOOKUP($F28,УЧАСТНИКИ!$A$2:$L$1106,9,FALSE) -> #N/A
A29: 12 | P29: =VLOOKUP($F29,УЧАСТНИКИ!$A$2:$L$1106,9,FALSE) -> #N/A
A30: 11 | B30: =VLOOKUP($F30,УЧАСТНИКИ!$A$2:$L$1106,3,FALSE) -> #N/A | C30: =VLOOKUP($F30,УЧАСТНИКИ!$A$2:$L$1106,4,FALSE) -> #N/A | D30: =VLOOKUP($F30,УЧАСТНИКИ!$A$2:$L$1106,5,FALSE) -> #N/A | E30: =VLOOKUP($F30,УЧАСТНИКИ!$A$2:$L$1106,8,FALSE) -> #N/A | P30: =VLOOKUP($F30,УЧАСТНИКИ!$A$2:$L$1106,9,FALSE) -> #N/A
A31: 14 | E31: =VLOOKUP($F31,УЧАСТНИКИ!$A$2:$L$1106,8,FALSE) -> #N/A | P31: =VLOOKUP($F31,УЧАСТНИКИ!$A$2:$L$1106,9,FALSE) -> #N/A
A32: 12 | B32: =VLOOKUP($F32,УЧАСТНИКИ!$A$2:$L$1106,3,FALSE) -> #N/A | C32: =VLOOKUP($F32,УЧАСТНИКИ!$A$2:$L$1106,4,FALSE) -> #N/A | D32: =VLOOKUP($F32,УЧАСТНИКИ!$A$2:$L$1106,5,FALSE) -> #N/A | E32: =VLOOKUP($F32,УЧАСТНИКИ!$A$2:$L$1106,8,FALSE) -> #N/A | P32: =VLOOKUP($F32,УЧАСТНИКИ!$A$2:$L$1106,9,FALSE) -> #N/A
A33: 16 | E33: =VLOOKUP($F33,УЧАСТНИКИ!$A$2:$L$1106,8,FALSE) -> #N/A | P33: =VLOOKUP($F33,УЧАСТНИКИ!$A$2:$L$1106,9,FALSE) -> #N/A
A34: 13 | B34: =VLOOKUP($F34,УЧАСТНИКИ!$A$2:$L$1106,3,FALSE) -> #N/A | C34: =VLOOKUP($F34,УЧАСТНИКИ!$A$2:$L$1106,4,FALSE) -> #N/A | D34: =VLOOKUP($F34,УЧАСТНИКИ!$A$2:$L$1106,5,FALSE) -> #N/A | E34: =VLOOKUP($F34,УЧАСТНИКИ!$A$2:$L$1106,8,FALSE) -> #N/A | P34: =VLOOKUP($F34,УЧАСТНИКИ!$A$2:$L$1106,9,FALSE) -> #N/A
A35: 18 | E35: =VLOOKUP($F35,УЧАСТНИКИ!$A$2:$L$1106,8,FALSE) -> #N/A | P35: =VLOOKUP($F35,УЧАСТНИКИ!$A$2:$L$1106,9,FALSE) -> #N/A
A36: 14 | B36: =VLOOKUP($F36,УЧАСТНИКИ!$A$2:$L$1106,3,FALSE) -> #N/A | C36: =VLOOKUP($F36,УЧАСТНИКИ!$A$2:$L$1106,4,FALSE) -> #N/A | D36: =VLOOKUP($F36,УЧАСТНИКИ!$A$2:$L$1106,5,FALSE) -> #N/A | E36: =VLOOKUP($F36,УЧАСТНИКИ!$A$2:$L$1106,8,FALSE) -> #N/A | P36: =VLOOKUP($F36,УЧАСТНИКИ!$A$2:$L$1106,9,FALSE) -> #N/A
A37: 10 | E37: =VLOOKUP($F37,УЧАСТНИКИ!$A$2:$L$1106,8,FALSE) -> #N/A | P37: =VLOOKUP($F37,УЧАСТНИКИ!$A$2:$L$1106,9,FALSE) -> #N/A
A38: 15 | B38: =VLOOKUP($F38,УЧАСТНИКИ!$A$2:$L$1106,3,FALSE) -> #N/A | C38: =VLOOKUP($F38,УЧАСТНИКИ!$A$2:$L$1106,4,FALSE) -> #N/A | D38: =VLOOKUP($F38,УЧАСТНИКИ!$A$2:$L$1106,5,FALSE) -> #N/A | E38: =VLOOKUP($F38,УЧАСТНИКИ!$A$2:$L$1106,8,FALSE) -> #N/A | P38: =VLOOKUP($F38,УЧАСТНИКИ!$A$2:$L$1106,9,FALSE) -> #N/A
A39: 12 | E39: =VLOOKUP($F39,УЧАСТНИКИ!$A$2:$L$1106,8,FALSE) -> #N/A | P39: =VLOOKUP($F39,УЧАСТНИКИ!$A$2:$L$1106,9,FALSE) -> #N/A
A40: 16 | B40: =VLOOKUP($F40,УЧАСТНИКИ!$A$2:$L$1106,3,FALSE) -> #N/A | C40: =VLOOKUP($F40,УЧАСТНИКИ!$A$2:$L$1106,4,FALSE) -> #N/A | D40: =VLOOKUP($F40,УЧАСТНИКИ!$A$2:$L$1106,5,FALSE) -> #N/A | E40: =VLOOKUP($F40,УЧАСТНИКИ!$A$2:$L$1106,8,FALSE) -> #N/A | P40: =VLOOKUP($F40,УЧАСТНИКИ!$A$2:$L$1106,9,FALSE) -> #N/A
A41: 14 | E41: =VLOOKUP($F41,УЧАСТНИКИ!$A$2:$L$1106,8,FALSE) -> #N/A | P41: =VLOOKUP($F41,УЧАСТНИКИ!$A$2:$L$1106,9,FALSE) -> #N/A
A42: 17 | B42: =VLOOKUP($F42,УЧАСТНИКИ!$A$2:$L$1106,3,FALSE) -> #N/A | C42: =VLOOKUP($F42,УЧАСТНИКИ!$A$2:$L$1106,4,FALSE) -> #N/A | D42: =VLOOKUP($F42,УЧАСТНИКИ!$A$2:$L$1106,5,FALSE) -> #N/A | E42: =VLOOKUP($F42,УЧАСТНИКИ!$A$2:$L$1106,8,FALSE) -> #N/A | P42: =VLOOKUP($F42,УЧАСТНИКИ!$A$2:$L$1106,9,FALSE) -> #N/A
A43: 16 | E43: =VLOOKUP($F43,УЧАСТНИКИ!$A$2:$L$1106,8,FALSE) -> #N/A | P43: =VLOOKUP($F43,УЧАСТНИКИ!$A$2:$L$1106,9,FALSE) -> #N/A
A44: 18 | B44: =VLOOKUP($F44,УЧАСТНИКИ!$A$2:$L$1106,3,FALSE) -> #N/A | C44: =VLOOKUP($F44,УЧАСТНИКИ!$A$2:$L$1106,4,FALSE) -> #N/A | D44: =VLOOKUP($F44,УЧАСТНИКИ!$A$2:$L$1106,5,FALSE) -> #N/A | E44: =VLOOKUP($F44,УЧАСТНИКИ!$A$2:$L$1106,8,FALSE) -> #N/A | P44: =VLOOKUP($F44,УЧАСТНИКИ!$A$2:$L$1106,9,FALSE) -> #N/A
A45: 9 | E45: =VLOOKUP($F45,УЧАСТНИКИ!$A$2:$L$1106,8,FALSE) -> #N/A | P45: =VLOOKUP($F45,УЧАСТНИКИ!$A$2:$L$1106,9,FALSE) -> #N/A
A46: 19 | B46: =VLOOKUP($F46,УЧАСТНИКИ!$A$2:$L$1106,3,FALSE) -> #N/A | C46: =VLOOKUP($F46,УЧАСТНИКИ!$A$2:$L$1106,4,FALSE) -> #N/A | D46: =VLOOKUP($F46,УЧАСТНИКИ!$A$2:$L$1106,5,FALSE) -> #N/A | E46: =VLOOKUP($F46,УЧАСТНИКИ!$A$2:$L$1106,8,FALSE) -> #N/A | P46: =VLOOKUP($F46,УЧАСТНИКИ!$A$2:$L$1106,9,FALSE) -> #N/A
E47: =VLOOKUP($F47,УЧАСТНИКИ!$A$2:$L$1106,8,FALSE) -> #N/A | P47: =VLOOKUP($F47,УЧАСТНИКИ!$A$2:$L$1106,9,FALSE) -> #N/A
A48: 20 | B48: =VLOOKUP($F48,УЧАСТНИКИ!$A$2:$L$1106,3,FALSE) -> #N/A | C48: =VLOOKUP($F48,УЧАСТНИКИ!$A$2:$L$1106,4,FALSE) -> #N/A | D48: =VLOOKUP($F48,УЧАСТНИКИ!$A$2:$L$1106,5,FALSE) -> #N/A | E48: =VLOOKUP($F48,УЧАСТНИКИ!$A$2:$L$1106,8,FALSE) -> #N/A | P48: =VLOOKUP($F48,УЧАСТНИКИ!$A$2:$L$1106,9,FALSE) -> #N/A
E49: =VLOOKUP($F49,УЧАСТНИКИ!$A$2:$L$1106,8,FALSE) -> #N/A | P49: =VLOOKUP($F49,УЧАСТНИКИ!$A$2:$L$1106,9,FALSE) -> #N/A
A50: 21 | B50: =VLOOKUP($F50,УЧАСТНИКИ!$A$2:$L$1106,3,FALSE) -> #N/A | C50: =VLOOKUP($F50,УЧАСТНИКИ!$A$2:$L$1106,4,FALSE) -> #N/A | D50: =VLOOKUP($F50,УЧАСТНИКИ!$A$2:$L$1106,5,FALSE) -> #N/A | E50: =VLOOKUP($F50,УЧАСТНИКИ!$A$2:$L$1106,8,FALSE) -> #N/A | P50: =VLOOKUP($F50,УЧАСТНИКИ!$A$2:$L$1106,9,FALSE) -> #N/A
E51: =VLOOKUP($F51,УЧАСТНИКИ!$A$2:$L$1106,8,FALSE) -> #N/A | P51: =VLOOKUP($F51,УЧАСТНИКИ!$A$2:$L$1106,9,FALSE) -> #N/A
A52: 22 | B52: =VLOOKUP($F52,УЧАСТНИКИ!$A$2:$L$1106,3,FALSE) -> #N/A | C52: =VLOOKUP($F52,УЧАСТНИКИ!$A$2:$L$1106,4,FALSE) -> #N/A | D52: =VLOOKUP($F52,УЧАСТНИКИ!$A$2:$L$1106,5,FALSE) -> #N/A | E52: =VLOOKUP($F52,УЧАСТНИКИ!$A$2:$L$1106,8,FALSE) -> #N/A | P52: =VLOOKUP($F52,УЧАСТНИКИ!$A$2:$L$1106,9,FALSE) -> #N/A
A54: Рефери _________________ ( __________________________________________________________ )
A55: Ст. судья _________________ ( __________________________________________________________ )
A56: Секретарь ________________ ( __________________________________________________________ )

Sheet ДИ-М
A1: =Name_2 -> ВСЕРОССИЙСКАЯ ФЕДЕРАЦИЯ ЛЕГКОЙ АТЛЕТИКИ
A2: СТАРТОВЫЙ ПРОТОКОЛ
A3: КУБОК РОССИИ
A4: МУЖЧИНЫ
A5: Метание диска
A6: Вес снаряда - 2,0 кг | P6: РР- 71.86
B7: ФИНАЛЬНЫЕ СОРЕВНОВАНИЯ | C7: 12:00 | D7: =d_1 -> 28.05.2019г. | F7: окончание соревнований: | P7: г. Сочи, Адлерский район, ул. Ленина, СК «Юность»
A8: № п/п | B8: Фамилия, имя участника | C8: Дата рождения | D8: Территория | E8: Заявленный разряд | F8: Номер участника | G8: Попытки | J8: Жеребьевка | K8: Попытки | N8: Лучший результат | O8: Место | P8: Примечание
G9: 1 | H9: 2 | I9: 3 | K9: 4 | L9: 5 | M9: 6
A10: 1 | B10: =VLOOKUP($F10,УЧАСТНИКИ!$A$2:$L$1106,3,FALSE) -> Горбачев Александр | C10: =VLOOKUP($F10,УЧАСТНИКИ!$A$2:$L$1106,4,FALSE) -> 12.05.1993 | D10: =VLOOKUP($F10,УЧАСТНИКИ!$A$2:$L$1106,5,FALSE) -> Воронежская область | E10: =VLOOKUP($F10,УЧАСТНИКИ!$A$2:$L$1106,8,FALSE) -> КМС | F10: 394 | P10: =VLOOKUP($F10,УЧАСТНИКИ!$A$2:$L$1106,9,FALSE) -> К
A11: 2 | B11: =VLOOKUP($F11,УЧАСТНИКИ!$A$2:$L$1106,3,FALSE) -> Седюк Николай | C11: =VLOOKUP($F11,УЧАСТНИКИ!$A$2:$L$1106,4,FALSE) -> 29.04.1988 | D11: =VLOOKUP($F11,УЧАСТНИКИ!$A$2:$L$1106,5,FALSE) -> Москва Нижегородская область | E11: =VLOOKUP($F11,УЧАСТНИКИ!$A$2:$L$1106,8,FALSE) -> МСМК | F11: 231 | P11: =VLOOKUP($F11,УЧАСТНИКИ!$A$2:$L$1106,9,FALSE) -> К
A12: 3 | B12: =VLOOKUP($F12,УЧАСТНИКИ!$A$2:$L$1106,3,FALSE) -> Кириа Александр | C12: =VLOOKUP($F12,УЧАСТНИКИ!$A$2:$L$1106,4,FALSE) -> 23.03.1992 | D12: =VLOOKUP($F12,УЧАСТНИКИ!$A$2:$L$1106,5,FALSE) -> Краснодарский край | E12: =VLOOKUP($F12,УЧАСТНИКИ!$A$2:$L$1106,8,FALSE) -> МС | F12: 145 | P12: =VLOOKUP($F12,УЧАСТНИКИ!$A$2:$L$1106,9,FALSE) -> Л
A13: 4 | B13: =VLOOKUP($F13,УЧАСТНИКИ!$A$2:$L$1106,3,FALSE) -> Королёв Максим | C13: =VLOOKUP($F13,УЧАСТНИКИ!$A$2:$L$1106,4,FALSE) -> 06.01.1988 | D13: =VLOOKUP($F13,УЧАСТНИКИ!$A$2:$L$1106,5,FALSE) -> Липецкая область | E13: =VLOOKUP($F13,УЧАСТНИКИ!$A$2:$L$1106,8,FALSE) -> МС | F13: 124 | P13: =VLOOKUP($F13,УЧАСТНИКИ!$A$2:$L$1106,9,FALSE) -> К
A14: 5 | B14: =VLOOKUP($F14,УЧАСТНИКИ!$A$2:$L$1106,3,FALSE) -> Бабанин Павел | C14: =VLOOKUP($F14,УЧАСТНИКИ!$A$2:$L$1106,4,FALSE) -> 24.06.1997 | D14: =VLOOKUP($F14,УЧАСТНИКИ!$A$2:$L$1106,5,FALSE) -> Омская область | E14: =VLOOKUP($F14,УЧАСТНИКИ!$A$2:$L$1106,8,FALSE) -> КМС | F14: 109 | P14: =VLOOKUP($F14,УЧАСТНИКИ!$A$2:$L$1106,9,FALSE) -> К
A15: 6 | B15: =VLOOKUP($F15,УЧАСТНИКИ!$A$2:$L$1106,3,FALSE) -> Добренький Александр | C15: =VLOOKUP($F15,УЧАСТНИКИ!$A$2:$L$1106,4,FALSE) -> 11.03.1994 | D15: =VLOOKUP($F15,УЧАСТНИКИ!$A$2:$L$1106,5,FALSE) -> Московская область Кабардино-Балкарская республика | E15: =VLOOKUP($F15,УЧАСТНИКИ!$A$2:$L$1106,8,FALSE) -> МС | F15: 451 | P15: =VLOOKUP($F15,УЧАСТНИКИ!$A$2:$L$1106,9,FALSE) -> К
A16: 7 | B16: =VLOOKUP($F16,УЧАСТНИКИ!$A$2:$L$1106,3,FALSE) -> Бутенко Виктор | C16: =VLOOKUP($F16,УЧАСТНИКИ!$A$2:$L$1106,4,FALSE) -> 10.03.1993 | D16: =VLOOKUP($F16,УЧАСТНИКИ!$A$2:$L$1106,5,FALSE) -> Москва | E16: =VLOOKUP($F16,УЧАСТНИКИ!$A$2:$L$1106,8,FALSE) -> МСМК | F16: 335 | P16: =VLOOKUP($F16,УЧАСТНИКИ!$A$2:$L$1106,9,FALSE) -> Л
A17: 8 | B17: =VLOOKUP($F17,УЧАСТНИКИ!$A$2:$L$1106,3,FALSE) -> Семенов Геннадий | C17: =VLOOKUP($F17,УЧАСТНИКИ!$A$2:$L$1106,4,FALSE) -> 05.08.1997 | D17: =VLOOKUP($F17,УЧАСТНИКИ!$A$2:$L$1106,5,FALSE) -> Владимирская область | E17: =VLOOKUP($F17,УЧАСТНИКИ!$A$2:$L$1106,8,FALSE) -> КМС | F17: 213 | P17: =VLOOKUP($F17,УЧАСТНИКИ!$A$2:$L$1106,9,FALSE) -> К
