Workbook
Name CUMM: '110-Ж'!#REF!
Name CUMM: '150-Ж'!#REF!
Name CUMM: '20-Ж'!#REF!
Name CUMM: '3000СБ-Ж'!#REF!
Name CUMM: '400СБ-Ж'!#REF!
Name CUMM: '40-Ж'!#REF!
Name CUMM: '4х10-Ж'!#REF!
Name CUMM: '500-Ж'!#REF!
Name CUMM: '80-Ж'!#REF!
Name CUMM: '10-Ж'!#REF!
Name CUMM: '10-Ж'!#REF!
Name CUMM: '10-Ж'!#REF!
Name d_1: '1'!$A$1
Name d_2: '1'!$A$2
Name d_3: '1'!$A$3
Name d_4: '1'!$A$4
Name d_5: '1'!$A$5
Name d_6: '1'!$A$6
Name d_7: '1'!$A$7
Name date_1: '1'!$A$1
Name Name_1: '1'!$A$9
Name Name_2: '1'!$A$10
Name Name_3: '1'!$A$11
Name Name_4: '1'!$A$12
Name Name_5: '1'!$A$12
Name Name_6: '1'!$A$13
Name OLE_LINK1: УЧАСТНИКИ!$D$2
Name Tit_1: '1'!$A$9

Sheet 1
A1: 28.05.2019г.
A2: 29.05.2019г.
A3: 09.06.2019г.
A4: ЖЕНЩИНЫ
A5: г. Сочи, ул. Бзугу 2, ст. им. Славы Метревели
A6: t° +17 вл. 91%
A7: Адлер с/к "Юность"
A9: МИНИСТЕРСТВО ФИЗИЧЕСКОЙ КУЛЬТУРЫ И СПОРТА РОССИЙСКОЙ ФЕДЕРАЦИИ
A10: ВСЕРОССИЙСКАЯ ФЕДЕРАЦИЯ ЛЕГКОЙ АТЛЕТИКИ
A11: МИНИСТЕРСТВО ФИЗИЧЕСКОЙ КУЛЬТУРЫ И СПОРТА КРАСНОДАРСКОГО КРАЯ
A12: ФЕДЕРАЦИЯ ЛЕГКОЙ АТЛЕТИКИ КРАСНОДАРСКОГО КРАЯ
A13: ФЕДЕРАЦИЯ ЛЕГКОЙ АТЛЕТИКИ КРАСНОДАРСКОГО КРАЯ
A21: дисквал п.п. 162.7 | C21: фальстарт

Sheet УЧАСТНИКИ
A1: № уч-ка | B1: №№ | C1: ФАМИЛИЯ ИМЯ УЧАСТНИКА | D1: Год.рожд | E1: НАЗВАНИЕ КОМАНДЫ | F1: ВИД | G1: Округ | H1: Разряд | I1: лично | J1: ТРЕНЕР(ы) | K1: ДСО Ведомство
A2: 299 | C2: Преснякова Алиса | D2: 07.03.1998 | E2: Санкт-Петербург | F2: Прыжок в высоту | H2: МС | I2: к | J2: Семашко Е.В., Волкова И.В. | K2: СПб ГБПОУ "УОР № 1
A3: 20 | C3: Паренчук Лика | D3: 06.04.2002 | E3: Алтайский край | F3: Бег 400 м | H3: КМС | I3: К | J3: Клевцова Н.В., Панина Е.А. | K3: КГБ ПОУ "Алтайское училище олимпийского резерва"
A4: 491 | C4: Нерубенко Людмила | D4: 20.04.1998 | E4: Белгородская область | F4: Прыжок с шестом | H4: КМС | I4: К | J4: Кушкин В.Ю. | K4: МБУДО ДЮСШ №2 г. Белгород
A5: 266 | C5: Бузанакова Алия | D5: 28.01.1997 | E5: Санкт-Петербург | F5: Метание копья | H5: КМС | I5: л | J5: Королёв В.В. | K5: ГБУ СШОР "Академия легкой атлетики Санкт-Петербурга"
A6: 258 | C6: Алисова Елизавета | D6: 21.06.2000 | E6: Санкт-Петербург Липецкая область | F6: Бег 100 м | H6: КМС | I6: Л | J6: Шекин Д.А., Бахвалова Е.А., Бурмистрова Н.И. | K6: ГБУ "СШОР" "Академия легкой атлетики Санкт-Петербурга"
A7: 258 | C7: Алисова Елизавета | D7: 21.06.2000 | E7: Санкт-Петербург Липецкая область | F7: Бег 200 м | H7: КМС | I7: Л | J7: Шекин Д.А., Бахвалова Е.А., Бурмистрова Н.И. | K7: ГБУ "СШОР" "Академия легкой атлетики Санкт-Петербурга"
A8: 16 | C8: Малинина (Ткаченко) Светлана | D8: 27.07.1994 | E8: Волгоградская область | F8: Барьерный бег 400 м | H8: КМС | I8: К | J8: Клочкова Е.Ю. | K8: МБУ СШОР № 5 (г. Волгоград)
A9: 131 | C9: Белякова Алена | D9: 21.12.1998 | E9: Краснодарский край ЮФО (К) | F9: Метание диска | H9: МС | I9: К | J9: Синицын А.В., Беляков Ю.Б. | K9: ГБУ КК "ЦОП по легкой атлетике", ГБУ КК"РЦСП по легкой атлетике"
A10: 215 | C10: Белова (Трифонова) Ирина | D10: 21.01.1994 | E10: Республика Мордовия | F10: Бег 100 м | H10: МС | I10: К | J10: Бусаров В.М., Дерунов В.Т., Бусарова С.В. | K10: ГБУ РМ "КСШОР"
A11: 29 | C11: Алымова Вера | D11: 24.11.1995 | E11: Санкт-Петербург Брянская область | F11: Бег 200 м | H11: МС | I11: К | J11: Назаров В.И., Петров С.Г., Трубин Ю.Н. | K11: СПб ГБУ ЦОП "ШВСМ по легкой атлетике", ГБУ БО СШОР по легкой атлетике им. В.Д. Самотесова., СПб ГБУ ЦОП "ШВСМ по легкой атлетике"
A12: 9 | C12: Герасимова Анастасия | D12: 18.03.1998 | E12: Волгоградская область Саратовская область | F12: Бег 800 м | H12: КМС | I12: К | J12: Сачева Т.В., Лупачев А.С. | K12: МБУ СШОР № 5 (г. Волгоград), ГАПОУ ВО "УОР имени дважды Героя Советского Союза А.И. Родимцева"
A13: 272 | C13: Григорьева Анастасия | D13: 07.11.1993 | E13: Санкт-Петербург | F13: Бег 100 м | H13: МС | I13: К | J13: Куликова Е.Ю., Буровцева Н.В. | K13: СПб ГБУ ЦОП "ШВСМ по легкой атлетике"
... A15: 390 | C15: Аплачкина Светлана | D15: 28.11.1992 | E15: Воронежская область | F15: Бег 1500 м | H15: МС | I15: К | J15: Осипов С.А., Аплачкин А.И. | K15: ГБУ ВО "СШОР № 21", АУ ВО "ЦСПСК"
C16: Аплачкина Светлана | D16: 28.11.1992 | E16: Воронежская область | F16: Бег 5 000 м | H16: МС | I16: К | J16: Осипов С.А., Аплачкин А.И. | K16: ГБУ ВО "СШОР № 21", АУ ВО "ЦСПСК"
A17: 391 | C17: Баулина Ирина | D17: 04.01.1999 | E17: Воронежская область | F17: Барьерный бег 400 м | H17: МС | I17: К | J17: Мащенко Р.М., Самсоненкова Н.И. | K17: МБУ "СШОР № 5"
A18: 392 | C18: Буреева Олеся | D18: 05.07.1998 | E18: Воронежская область | F18: Барьерный бег 400 м | H18: МС | I18: К | J18: Омельченко Д.А., Бабкин А.П., Демиденкова Г.А. | K18: ГБУ ВО "СШОР № 21"
A19: 393 | C19: Воробьева Анастасия | D19: 01.04.1999 | E19: Воронежская область | F19: Барьерный бег 100 м | H19: КМС | I19: К | J19: Мащенко Р.М. | K19: МБУ "СШОР № 5"
A20: 79 | C20: Жаткина Любовь | D20: 30.03.1990 | E20: Москва Ставропольский край | F20: Метание копья | H20: МС | I20: К | J20: Чернявская О.М., Чернявский С.К. | K20: ГБУ "ЦОП по легкой атлетике" Москомспорта, ГБУ СК "СШОР по легкой атлетике"
A21: 399 | C21: Рытикова Валерия | D21: 13.12.1995 | E21: Воронежская область | F21: Барьерный бег 100 м | H21: КМС | I21: К | J21: Бабкин А.П., Демиденкова Г.А. | K21: ГБУ ВО "СШОР № 21"
A22: 87 | C22: Денисова Надежда | D22: 16.03.2000 | E22: Тюменская область | F22: Бег 100 м | H22: КМС | I22: К | J22: Сергеев О.В., Артемьев Н.И. | K22: ГАУ ТО "ОСШОР", ТЮМГУ
A23: 215 | C23: Белова (Трифонова) Ирина | D23: 21.01.1994 | E23: Республика Мордовия | F23: Бег 200 м | H23: МС | I23: К | J23: Бусаров В.М., Дерунов В.Т., Бусарова С.В. | K23: ГБУ РМ "КСШОР"
A24: 110 | C24: Бизякина Светлана | D24: 06.11.1994 | E24: Омская область | F24: Метание диска | H24: КМС | I24: К | J24: Бабанин С.Н., Белов М.К. | K24: ФГБУ ПОО "Сибирское ГУОР"
A25: 277 | C25: Зыбина Ксения | D25: 01.02.1989 | E25: Санкт-Петербург | F25: Метание копья | H25: МС | I25: К | J25: Горшков А.И. | K25: ГБУ СШОР "Академия легкой атлетики Санкт-Петербурга"
A26: 401 | C26: Волкова Анастасия | D26: 18.05.2000 | E26: Тульская область | F26: Бег 200 м | H26: КМС | I26: К | J26: Волкова И.В., Волков А.А. | K26: ГУ ТО ЦСП, МБУ СШОР "Легкая атлетика" г. Тула
A27: 49 | C27: Зуйкевич Елена | D27: 26.02.1990 | E27: Калининградская область Пермский край | F27: Бег 400 м | H27: МС | I27: К | J27: Малиновская Н.А., Верещагина З.Г. | K27: ГАУ КО "ЦСП СК", МБУ "СШОР "Старт"
A28: 320 | C28: Цаплина Валерия | D28: 19.02.1997 | E28: Кировская область Санкт-Петербург | F28: Бег 400 м | H28: КМС | I28: л | J28: Егоров А.А., Куликова Е.Ю. | K28: КОГАУ "ВятСШОР" ,СПб ГБУ ЦОП "ШВСМ по легкой атлетике"
... A52: 178 | C52: Тронева Наталья | D52: 24.02.1993 | E52: Краснодарский край | F52: Толкание ядра | H52: МС | I52: Л | J52: Синицын А.В. | K52: Динамо ГБУ КК "РЦСП по легкой атлетике", ГБУ КК "ЦОП по легкой атлетике"
C53: Червинская Вероника | D53: 28.06.1998 | E53: Краснодарский край | F53: Барьерный бег 100 м | H53: МС | I53: К | J53: Дементьев С.Б., Глебов В.Д., Дементьева Т.В. | K53: ГБУ КК "РЦСП по легкой атлетике"
A54: 278 | C54: Иванова Виктория | D54: 07.07.2000 | E54: Санкт-Петербург | F54: Бег 200 м | H54: КМС | I54: л | J54: Агарков В.Н., Пономарев В.В., Куликова Е.Ю. | K54: СПб ГБУ ЦОП "ШВСМ по легкой атлетике"
A55: 140 | C55: Думен (Рябенко) Елена | D55: 13.01.1994 | E55: Краснодарский край Карачаево-Черкесская республика | F55: Барьерный бег 100 м | H55: МС | I55: К | J55: Вяльцева В.Г. | K55: Министерство спорта ГБУ КК "РЦСП по легкой атлетике", ЦСП КЧР, ГБУ КК "ЦОП по легкой атлетике"
A56: 184 | C56: Шатурная Светлана | D56: 15.06.1995 | E56: Краснодарский край Карачаево-Черкесская республика | F56: Барьерный бег 400 м | H56: КМС | I56: К | J56: Вяльцева В.Г. | K56: Министерство спорта ГБУ КК "ЦОП по легкой атлетике", РГБУ "КСШ " СПАРТАК"
A57: 183 | C57: Чернышева Елизавета | D57: 11.11.1996 | E57: Краснодарский край Саратовская область | F57: Барьерный бег 100 м | H57: МС | I57: Л | J57: Азизьян А.А., Беликов Ю.Б., Беликова Н.И. | K57: ГБУ КК "ЦОП по легкой атлетике", ГБУ КК "РЦСП по легкой атлетике"
A58: 275 | C58: Дрожжина Елизавета | D58: 11.02.1998 | E58: Санкт-Петербург | F58: Прыжок в длину | H58: КМС | I58: л | J58: Черепанова И.Н., Черепанов А.Н. | K58: СПб ГБУ ЦОП "ШВСМ по легкой атлетике"
A59: 150 | C59: Конева Екатерина | D59: 25.09.1988 | E59: Краснодарский край Хабаровский край | F59: Прыжок тройной | H59: ЗМС | I59: К | J59: Цыплаков А.В., Лупатов Р.М. | K59: ГБУ КК "РЦСП по легкой атлетике", ГБУ КК "ЦОП по легкой атлетике", МБОУ ДО ДЮСШ "Максимум"
A60: 328 | C60: Аникиенко Елизавета | D60: 30.06.1994 | E60: Москва Московская область | F60: Барьерный бег 400 м | H60: МС | I60: К | J60: Чемерисов Н.Ф. | K60: ГБУ "МГФСО" Москомспорта, ГБУ МО "СШОР по легкой атлетике"
A61: 139 | C61: Дорохова Анастасия | D61: 28.05.1999 | E61: Краснодарский край ЮФО (К) | F61: Барьерный бег 400 м | H61: КМС | I61: К | J61: Вяльцева В.Г., Сухова В.В. | K61: ГБУ КК "ЦОП по легкой атлетике", ГБУ РК "Спортивная школа №1"
A62: 103 | C62: Лапшова Алина | D62: 06.09.1998 | E62: Красноярский край | F62: Барьерный бег 400 м | H62: 2 | I62: К | J62: Зубрилина Т.Г., Вашкевич И.Е., Чалый Ю.В. | K62: Академия летних видов спорта КГАУ "РЦСП "Академия летних видов спорта", МАУ "СШОР "Спутник"
A63: 104 | C63: Лихачёва Юлия | D63: 26.08.1998 | E63: Красноярский край | F63: Бег с препятствиями 3 000 м | H63: КМС | I63: К | J63: Ромащенко А.А., Вашкевич И.Е., Чалый Ю.В. | K63: Академия летних видов спорта КГАУ "РЦСП "Академия летних видов спорта", МАУ "СШОР "Спутник"
A64: 107 | C64: Степанова Екатерина | D64: 24.07.1994 | E64: Красноярский край | F64: Прыжок в высоту | H64: МС | I64: К | J64: Мочалов С.С., Мочалова Е.С. | K64: КГАУ "РЦСП "Академия летних видов спорта", МАУ "СШОР "Спутник"
A65: 442 | C65: Навацкая Софья | D65: 11.02.1999 | E65: Вологодская область | F65: Бег 100 м | H65: КМС | I65: К | J65: Селюцкий С.А., Лебедев А.В. | K65: АУ ФКиС ВО "ЦСП"
... A76: 186 | C76: Купина Екатерина | D76: 02.02.1986 | E76: Курская область | F76: Эстафетный бег 4 х 400 м | H76: МСМК | I76: К | J76: Купин А.Д. | K76: ОБУ СШОР "Урожай"
C77: Ольховская Ольга | D77: 08.01.1998 | E77: Санкт-Петербург | F77: Бег 100 м | H77: КМС | I77: К | J77: Назаров В.И., Петров С.Г., Шекин Д.А. | K77: СПб ГБУ ЦОП "ШВСМ по легкой атлетике"
C78: Колесникова Дарья | D78: 28.07.2002 | E78: Краснодарский край | F78: Бег 200 м | H78: 1 | I78: Л | J78: Полонников А.В. | K78: МБУ СШОР №1 г. Сочи
A79: 190 | C79: Петрищева Юлия | D79: 02.03.1997 | E79: Курская область | F79: Эстафетный бег 4 х 400 м | H79: КМС | I79: К | J79: Шумаков Е.Г., Шумакова Н.Л. | K79: МБУ ДО «ДЮСШ №1»
A80: 188 | C80: Рыбкина Анастасия | D80: 14.04.1999 | E80: Курская область | F80: Бег 400 м | H80: КМС | I80: К | J80: Руденко В.Д., Руденко Е.Н. | K80: ОБУ СШОР "Урожай"
A81: 188 | C81: Рыбкина Анастасия | D81: 14.04.1999 | E81: Курская область | F81: Эстафетный бег 4 х 400 м | H81: КМС | I81: К | J81: Руденко В.Д., Руденко Е.Н. | K81: ОБУ СШОР "Урожай"
C82: Шмыгарёва Екатерина | D82: 04.07.1995 | E82: Курская область | F82: Бег 800 м | H82: КМС | I82: К | J82: Тихонов А.В., Тихонова М.С. | K82: ОБУ ЦСП "ШВСМ", СШОР Железногорск
C83: Шмыгарёва Екатерина | D83: 04.07.1995 | E83: Курская область | F83: Эстафетный бег 4 х 400 м | H83: КМС | I83: К | J83: Тихонов А.В., Тихонова М.С. | K83: ОБУ ЦСП "ШВСМ", СШОР Железногорск
A84: 76 | C84: Ермаченкова Татьяна | D84: 09.09.1998 | E84: Ленинградская область Санкт-Петербург | F84: Прыжок в высоту | H84: МС | I84: К | J84: Баканов О.Д., Семенов В.О. | K84: ЦСП ЛО "Ижора",МБОУ ДО "Гатчинская ДЮСШ № 1",ГБУ СШОР "Академия легкой атлетики Санк-Петербурга"
A85: 121 | C85: Королёва (Полтавец) Кристина | D85: 06.11.1990 | E85: Липецкая область Кемеровская область | F85: Прыжок в высоту | H85: МСМК | I85: К | J85: Королев М.И., Канашевич А.М., Стегачёв И.Н. | K85: ГБУ ЛО ЦСП, ГБФСУ КО "СШОР по легкой атлетике им. В.А. Савенкова"
A86: 328 | C86: Аникиенко Елизавета | D86: 30.06.1994 | E86: Москва Московская область | F86: Эстафетный бег 4 х 400 м | H86: МС | I86: К | J86: Чемерисов Н.Ф. | K86: ГБУ "МГФСО" Москомспорта, ГБУ МО "СШОР по легкой атлетике"
A87: 476 | C87: Безрученко Елена | D87: 23.07.1996 | E87: Москва Ростовская область | F87: Толкание ядра | H87: МС | I87: К | J87: Карлова А.Н., Бендерский С.Б. | K87: ГБУ "ФСО "Юность Москвы"Москомспорта, ГБПОУ РО "РОУОР"
A88: 332 | C88: Беспалова Екатерина | D88: 21.11.1997 | E88: Москва Смоленская область | F88: Бег 1500 м | H88: КМС | I88: Л | J88: Осипов С.А., Кругликов Н.И. | K88: ГБУ "ЦОП по легкой атлетике" Москомспорта, СОГБУ "ЦСП ССК Смоленской области"
A89: 332 | C89: Беспалова Екатерина | D89: 21.11.1997 | E89: Москва Смоленская область | F89: Бег 5 000 м | H89: КМС | I89: Л | J89: Осипов С.А., Кругликов Н.И. | K89: ГБУ "ЦОП по легкой атлетике" Москомспорта, СОГБУ "ЦСП ССК Смоленской области"
A90: 340 | C90: Евстюнина Александра | D90: 08.07.1993 | E90: Москва Республика Карелия | F90: Прыжок в длину | H90: МС | I90: К | J90: Савинов Е.В., Шемигон О.С. | K90: ГБУ "ЦОП по легкой атлетике" Москомспорта
A91: 334 | C91: Бочарова Виктория | D91: 01.02.1995 | E91: Москва | F91: Бег 400 м | H91: КМС | I91: Л | J91: Голубенко Ю.И., Еремин М. | K91: МГФСО ГБУ "МГФСО" Москомспорта
A92: 334 | C92: Бочарова Виктория | D92: 01.02.1995 | E92: Москва | F92: Эстафетный бег 4 х 400 м | H92: КМС | I92: Л | J92: Голубенко Ю.И., Еремин М. | K92: МГФСО ГБУ "МГФСО" Москомспорта
A93: 269 | C93: Витюгова Анастасия | D93: 13.03.1997 | E93: Москва Санкт-Петербург | F93: Метание диска | H93: МС | I93: к | J93: Боричевский А.Я., Дернов Л. | K93: ГБУ "ЦОП по легкой атлетике" Москомспорта , ГБУ СШОР "Академия легкой атлетики Санк-Петербурга"
A94: 336 | C94: Гафурова Евгения | D94: 22.03.1994 | E94: Москва | F94: Барьерный бег 100 м | H94: МС | I94: Л | J94: Вдовин М.В., Полоницкий А.Е., Гатауллин Р.А. | K94: ФАУ МО РФ ЦСКА СШОР по легкой атлетике имени Н.А. Пономаревой
A95: 337 | C95: Гордеева (Бугакова) Алёна | D95: 24.04.1997 | E95: Москва Тверская область | F95: Толкание ядра | H95: МС | I95: К | J95: Березуцкая Н.Н., Березуцкий В.В., Бугаков С.А. | K95: ВС ГБУ "ФСО "Юность Москвы" Москомспорта, ГБУ Тверской области ЦСП "ШВСМ", ГБУ "КСШОР № 2"
... A128: 288 | C128: Манакова (Решеткина) Ирина | D128: 30.01.1989 | E128: Москва Санкт-Петербург | F128: Эстафетный бег 4 х 100 м | H128: МС | I128: к | J128: Климов А.Г. | K128: РА ГБУ "ЦСП по легкой атлетике" Москомспорта, ГБУ "ЦОП по легкой атлетике" Москомспорта, СПб ГБУ ЦОП "ШВСМ по легкой атлетике"
A129: 288 | C129: Манакова (Решеткина) Ирина | D129: 30.01.1989 | E129: Москва Санкт-Петербург | F129: Бег 200 м | H129: МС | J129: Климов А.Г. | K129: РА ГБУ "ЦСП по легкой атлетике" Москомспорта, ГБУ "ЦОП по легкой атлетике" Москомспорта, СПб ГБУ ЦОП "ШВСМ по легкой атлетике"
A130: 226 | C130: Мельчанова Кристина | D130: 01.10.1997 | E130: Москва Нижегородская область | F130: Метание молота | H130: КМС | I130: К | J130: Садов М.В., Садова В.М. | K130: ГБУ "СШОР "Луч" Москомспорта, МБУ "КСШОР № 1"
A131: 360 | C131: Мендаева Лилия | D131: 01.06.2000 | E131: Москва Ханты-Мансийский автономный округ - Югра | F131: Бег 1500 м | H131: КМС | I131: Л | J131: Телятников М.М., Кульпин С.Ю. | K131: Москомспорт ГБУ "ЦОП по легкой атлетике" Москомспорта
A132: 360 | C132: Мендаева Лилия | D132: 01.06.2000 | E132: Москва Ханты-Мансийский автономный округ - Югра | F132: Бег 5 000 м | H132: КМС | I132: Л | J132: Телятников М.М., Кульпин С.Ю. | K132: Москомспорт ГБУ "ЦОП по легкой атлетике" Москомспорта
A133: 36 | C133: Нидбайкина Дарья | D133: 26.12.1994 | E133: Москва Брянская область | F133: Прыжок тройной | H133: МС | I133: К | J133: Тер-Аванесов Е.М., Сехина Т.Г., Ширяев С.П. | K133: ГБУ "ЦОП по легкой атлетике" Москомспорта, ГБУ БО "СШОР "Русь"
A134: 361 | C134: Огрицко Мария | D134: 01.03.1994 | E134: Москва | F134: Метание диска | H134: МС | I134: Л | J134: Запольский Д.В., Пестрецова С.Н., Васильев С.В. | K134: ГБУ "ЦОП по легкой атлетике" Москомспорта
A135: 205 | C135: Панова Елена | D135: 02.03.1987 | E135: Москва Владимирская область | F135: Метание диска | H135: МСМК | I135: К | J135: Котов С.В., Диаздинов О.В. | K135: ГБУ "МГФСО" Москомспорта
A136: 362 | C136: Пронкина Анна | D136: 07.09.1996 | E136: Москва | F136: Метание молота | H136: МС | I136: Л | J136: Херсонцев В.С. | K136: ГБУ "СШОР "Луч" Москомспорта
A137: 156 | C137: Маилова Эмма | D137: 21.02.1997 | E137: Краснодарский край | F137: Метание копья | H137: КМС | I137: К | J137: Синицын А.В., Горяинова Е.В., Горяинов В.И. | K137: ГБУ КК "ЦОП по легкой атлетике", ГБУ КК "РЦСП по легкой атлетике"
A138: 364 | C138: Рудакова Вера | D138: 20.03.1992 | E138: Москва Пермский край | F138: Барьерный бег 400 м | H138: МСМК | I138: К | J138: Куликова Е.Ю., Зеленцова Т.П., Силкин А.Ф. | K138: ВС ГБУ "ЦОП по легкой атлетике" Москомспорта, КГАОУ ДО "СДЮСШОР "Старт"
A139: 229 | C139: Савинова Юлия | D139: 28.06.1994 | E139: Москва Нижегородская область | F139: Метание диска | H139: КМС | I139: К | J139: Садов М.В., Зубовский В.Г. | K139: ГБУ "СШОР "Луч" Москомспорта, МБУ "КСШОР № 1"
A140: 230 | C140: Садова Виктория | D140: 18.03.1993 | E140: Москва Нижегородская область | F140: Метание молота | H140: МС | I140: К | J140: Коптюх И.Н., Садов М.В. | K140: ГБУ "СШОР "Луч" Москомспорта, МБУ "КСШОР № 1"
A141: 365 | C141: Самуйлова Екатерина | D141: 05.11.1999 | E141: Москва Тверская область | F141: Бег 1500 м | H141: КМС | I141: К | J141: Фролова Т.С., Комолов В.А. | K141: ГБУ "ЦОП по легкой атлетике" Москомспорта, МУДО "КС СДЮСШОР № 1" г. Ржева
C142: Самуйлова Екатерина | D142: 05.11.1999 | E142: Москва Тверская область | F142: Бег 400 м | H142: КМС | I142: Л | J142: Фролова Т.С., Комолов В.А. | K142: ГБУ "ЦОП по легкой атлетике" Москомспорта, МУДО "КС СДЮСШОР № 1" г. Ржева
A143: 365 | C143: Самуйлова Екатерина | D143: 05.11.1999 | E143: Москва Тверская область | F143: Бег 800 м | H143: КМС | I143: К | J143: Фролова Т.С., Комолов В.А. | K143: ГБУ "ЦОП по легкой атлетике" Москомспорта, МУДО "КС СДЮСШОР № 1" г. Ржева
C144: Самуйлова Екатерина | D144: 05.11.1999 | E144: Москва Тверская область | F144: Эстафетный бег 4 х 400 м | H144: КМС | I144: Л | J144: Фролова Т.С., Комолов В.А. | K144: ГБУ "ЦОП по легкой атлетике" Москомспорта, МУДО "КС СДЮСШОР № 1" г. Ржева
C145: Смирнова (Вороненкова) Екатерина | D145: 08.09.1988 | E145: Москва | F145: Эстафетный бег 4 х 100 м | H145: МСМК | I145: Л | J145: Михеева В.В., Смирнов Р.П. | K145: ВС, ЦСКА ГБУ "СШОР "Луч" Москомспорта
A146: 367 | C146: Смирнова (Вороненкова) Екатерина | D146: 08.09.1988 | E146: Москва | F146: Бег 100 м | H146: МСМК | I146: Л | J146: Михеева В.В., Смирнов Р.П. | K146: ВС, ЦСКА ГБУ "СШОР "Луч" Москомспорта
A147: 367 | C147: Смирнова (Вороненкова) Екатерина | D147: 08.09.1988 | E147: Москва | F147: Бег 200 м | H147: МСМК | I147: Л | J147: Михеева В.В., Смирнов Р.П. | K147: ВС, ЦСКА ГБУ "СШОР "Луч" Москомспорта
A148: 450 | C148: Гутенкова Дарья | D148: 22.07.1996 | E148: Московская область | F148: Прыжок с шестом | H148: МС | I148: Л | J148: Гутенкова Г.Н., Смольяков С.М. | K148: МАУ "КСШОР"
A149: 285 | C149: Кузминчук Олеся | D149: 04.12.1998 | E149: Санкт-Петербург | F149: Бег 200 м | H149: КМС | I149: К | J149: Лотова Э.В. | K149: ГБУ СШОР № 2 Московского района
A150: 447 | C150: Еремеева Анастасия | D150: 01.03.1998 | E150: Московская область | F150: Бег 400 м | H150: МС | I150: л | J150: Чебыкина Т.Г., Матюхин Н.И., Ларюкова Е.М. | K150: ГБУ МО "ЦСП ОВС", ГБУ МО «СШОР по легкой атлетике»
A151: 447 | C151: Еремеева Анастасия | D151: 01.03.1998 | E151: Московская область | F151: Эстафетный бег 4 х 100 м | H151: МС | I151: л | J151: Чебыкина Т.Г., Матюхин Н.И., Ларюкова Е.М. | K151: ГБУ МО "ЦСП ОВС", ГБУ МО «СШОР по легкой атлетике»
C152: Еремеева Анастасия | D152: 01.03.1998 | E152: Московская область | F152: Эстафетный бег 4 х 400 м | H152: МС | I152: К | J152: Чебыкина Т.Г., Матюхин Н.И., Ларюкова Е.М. | K152: ГБУ МО "ЦСП ОВС", ГБУ МО «СШОР по легкой атлетике»
A153: 452 | C153: Зимарева Ксения | D153: 11.11.1994 | E153: Московская область | F153: Барьерный бег 400 м | H153: КМС | I153: л | J153: Журавский Г.А., Зотов А.С., Маслов А.М. | K153: МБУ ФСО "СШОР "Авангард", СК "Химик"
A154: 452 | C154: Зимарева Ксения | D154: 11.11.1994 | E154: Московская область | F154: Бег 400 м | H154: КМС | I154: л | J154: Журавский Г.А., Зотов А.С., Маслов А.М. | K154: МБУ ФСО "СШОР "Авангард", СК "Химик"
A155: 452 | C155: Зимарева Ксения | D155: 11.11.1994 | E155: Московская область | F155: Эстафетный бег 4 х 400 м | H155: КМС | I155: л | J155: Журавский Г.А., Зотов А.С., Маслов А.М. | K155: МБУ ФСО "СШОР "Авангард", СК "Химик"
A156: 408 | C156: Пекова Залина | D156: 06.03.2000 | E156: Кабардино-Балкарская республика | F156: Метание диска | H156: КМС | I156: К | J156: Озроков А.Б., Рыженко С.Н. | K156: Минспорт КБР ГКУ "ЦСП СК КБР", ГКУ КБР "СШОР № 1"
A157: 416 | C157: Палкина Софья | D157: 09.06.1998 | E157: Московская область Самарская область | F157: Метание молота | H157: МСМК | I157: К | J157: Быков В.А., Шикунов И.В. | K157: ВС ГБУ МО "ЦСП ОВС", ГАУ СО "ЦСПССКСО", МБУДО СДЮСШОР № 3 "Легкая атлетика"
A158: 81 | C158: Поспелова Наталья | D158: 28.06.1996 | E158: Свердловская область Ставропольский край | F158: Метание молота | H158: МС | I158: К | J158: Шевченко В.В., Козлов В.О. | K158: ГАУ СО "ЦСП", ГБУ СК "РЦСП"
A159: 385 | C159: Митькова Мария | D159: 04.12.1999 | E159: Смоленская область | F159: Метание копья | H159: КМС | I159: К | J159: Креглева И.А. | K159: СШОР им. Ф.Т.Михеенко
A160: 232 | C160: Строкова Екатерина | D160: 17.12.1989 | E160: Москва Нижегородская область | F160: Метание диска | H160: МСМК | I160: К | J160: Садов М.В., Садова Н.И. | K160: ГБУ "СШОР "Луч", МБУ "КСШОР №1"
A161: 473 | C161: Цыганова Елизавета | D161: 10.10.1997 | E161: Московская область | F161: Бег 800 м | H161: МС | I161: л | J161: Белоусов А.О., Сычаев М.М., Сударева Н.И. | K161: ГБУ МО "ЦСП ОВС", ГБУ МО "СШОР по легкой атлетике"
A162: 370 | C162: Чекан Полина | D162: 17.11.1999 | E162: Москва | F162: Барьерный бег 100 м | H162: КМС | I162: Л | J162: Шабанов Г.К., Муханев А.В. | K162: ГБУ "СШОР "Луч" Москомспорта
A163: 475 | C163: Яковлева Мария | D163: 10.06.2004 | E163: Московская область | F163: Прыжок с шестом | H163: КМС | I163: л | J163: Гутенкова Г.Н., Смольяков С.М. | K163: МАУ "КСШОР"
A164: 28 | C164: Агейченкова Елена | D164: 03.04.1999 | E164: Московская область Брянская область | F164: Бег 800 м | H164: КМС | I164: К | J164: Белова С.И., Белова Е.А., Шармин Е.А. | K164: ГБУ МО "ЦСП ОВС", ГБУ БО СШОР по легкой атлетике им. В.Д. Самотесова.
... A168: 426 | C168: Седова Елена | D168: 01.03.1990 | E168: Московская область Новосибирская область | F168: Бег 5 000 м | H168: МС | I168: К | J168: Седов С.В., Шармин Е.А. | K168: ВС ГБУ МО "ЦСП ОВС", ГБУ МО "СШОР по легкой атлетике", ГАУ НСО "РЦСП СК и СР"
C169: Погодина Ольга | D169: 29.07.2004 | E169: Краснодарский край | F169: Бег 100 м | H169: 1 | I169: Л | J169: Полонников А.В. | K169: МБУ СШОР № 1 г. Сочи
...

Sheet 10-Ж
A1: =Name_2 -> ВСЕРОССИЙСКАЯ ФЕДЕРАЦИЯ ЛЕГКОЙ АТЛЕТИКИ
A2: СТАРТОВЫЙ ПРОТОКОЛ
A3: КУБОК РОССИИ
A4: ЖЕНЩИНЫ
A5: Бег 100 м
J6: РР- 10.77
B7: ЗАБЕГИ | C7: 17:20 | D7: =d_1 -> 28.05.2019г. | J7: =d_5 -> г. Сочи, ул. Бзугу 2, ст. им. Славы Метревели
A8: № п/п | B8: Фамилия, имя участника | C8: Дата рождения | D8: Территория | E8: Заявленный разряд | F8: Номер участника | G8: Приход | H8: Результат | I8: Место | J8: Примеч.
B9: 1 ЗАБЕГ
A10: 1
A11: 2
A12: 3 | B12: =VLOOKUP($F12,УЧАСТНИКИ!$A$2:$L$1099,3,FALSE) -> Максимова (Сизова) Марина | C12: =VLOOKUP($F12,УЧАСТНИКИ!$A$2:$L$1099,4,FALSE) -> 18.02.1997 | D12: =VLOOKUP($F12,УЧАСТНИКИ!$A$2:$L$1099,5,FALSE) -> Нижегородская область Чувашская республика | E12: =VLOOKUP($F12,УЧАСТНИКИ!$A$2:$L$1099,8,FALSE) -> МС | F12: 225 | J12: =VLOOKUP($F12,УЧАСТНИКИ!$A$2:$L$1099,9,FALSE) -> К
A13: 4 | B13: =VLOOKUP($F13,УЧАСТНИКИ!$A$2:$L$1099,3,FALSE) -> Черняева (Козлова) Елена | C13: =VLOOKUP($F13,УЧАСТНИКИ!$A$2:$L$1099,4,FALSE) -> 19.09.1988 | D13: =VLOOKUP($F13,УЧАСТНИКИ!$A$2:$L$1099,5,FALSE) -> Санкт-Петербург Вологодская область | E13: =VLOOKUP($F13,УЧАСТНИКИ!$A$2:$L$1099,8,FALSE) -> МС | F13: 322 | J13: =VLOOKUP($F13,УЧАСТНИКИ!$A$2:$L$1099,9,FALSE) -> К
A14: 5 | B14: =VLOOKUP($F14,УЧАСТНИКИ!$A$2:$L$1099,3,FALSE) -> Смирнова (Вороненкова) Екатерина | C14: =VLOOKUP($F14,УЧАСТНИКИ!$A$2:$L$1099,4,FALSE) -> 08.09.1988 | D14: =VLOOKUP($F14,УЧАСТНИКИ!$A$2:$L$1099,5,FALSE) -> Москва | E14: =VLOOKUP($F14,УЧАСТНИКИ!$A$2:$L$1099,8,FALSE) -> МСМК | F14: 367 | J14: =VLOOKUP($F14,УЧАСТНИКИ!$A$2:$L$1099,9,FALSE) -> Л
A15: 6 | B15: =VLOOKUP($F15,УЧАСТНИКИ!$A$2:$L$1099,3,FALSE) -> Ткачёва Екатерина | C15: =VLOOKUP($F15,УЧАСТНИКИ!$A$2:$L$1099,4,FALSE) -> 15.02.1999 | D15: =VLOOKUP($F15,УЧАСТНИКИ!$A$2:$L$1099,5,FALSE) -> Новосибирская область | E15: =VLOOKUP($F15,УЧАСТНИКИ!$A$2:$L$1099,8,FALSE) -> КМС | F15: 429 | J15: =VLOOKUP($F15,УЧАСТНИКИ!$A$2:$L$1099,9,FALSE) -> К
A16: 7 | B16: =VLOOKUP($F16,УЧАСТНИКИ!$A$2:$L$1099,3,FALSE) -> Алисова Елизавета | C16: =VLOOKUP($F16,УЧАСТНИКИ!$A$2:$L$1099,4,FALSE) -> 21.06.2000 | D16: =VLOOKUP($F16,УЧАСТНИКИ!$A$2:$L$1099,5,FALSE) -> Санкт-Петербург Липецкая область | E16: =VLOOKUP($F16,УЧАСТНИКИ!$A$2:$L$1099,8,FALSE) -> КМС | F16: 258 | J16: =VLOOKUP($F16,УЧАСТНИКИ!$A$2:$L$1099,9,FALSE) -> Л
A17: 8
B18: 2 ЗАБЕГ
A19: 1
A20: 2 | B20: =VLOOKUP($F20,УЧАСТНИКИ!$A$2:$L$1099,3,FALSE) -> Кученева Юлия | C20: =VLOOKUP($F20,УЧАСТНИКИ!$A$2:$L$1099,4,FALSE) -> 11.09.1999 | D20: =VLOOKUP($F20,УЧАСТНИКИ!$A$2:$L$1099,5,FALSE) -> Волгоградская область | E20: =VLOOKUP($F20,УЧАСТНИКИ!$A$2:$L$1099,8,FALSE) -> КМС | F20: 14 | J20: =VLOOKUP($F20,УЧАСТНИКИ!$A$2:$L$1099,9,FALSE) -> К
A21: 3 | B21: =VLOOKUP($F21,УЧАСТНИКИ!$A$2:$L$1099,3,FALSE) -> Белова (Трифонова) Ирина | C21: =VLOOKUP($F21,УЧАСТНИКИ!$A$2:$L$1099,4,FALSE) -> 21.01.1994 | D21: =VLOOKUP($F21,УЧАСТНИКИ!$A$2:$L$1099,5,FALSE) -> Республика Мордовия | E21: =VLOOKUP($F21,УЧАСТНИКИ!$A$2:$L$1099,8,FALSE) -> МС | F21: 215 | J21: =VLOOKUP($F21,УЧАСТНИКИ!$A$2:$L$1099,9,FALSE) -> К
A22: 4 | B22: =VLOOKUP($F22,УЧАСТНИКИ!$A$2:$L$1099,3,FALSE) -> Хорошева Кристина | C22: =VLOOKUP($F22,УЧАСТНИКИ!$A$2:$L$1099,4,FALSE) -> 05.04.1993 | D22: =VLOOKUP($F22,УЧАСТНИКИ!$A$2:$L$1099,5,FALSE) -> Пензенская область Тульская область | E22: =VLOOKUP($F22,УЧАСТНИКИ!$A$2:$L$1099,8,FALSE) -> МС | F22: 406 | J22: =VLOOKUP($F22,УЧАСТНИКИ!$A$2:$L$1099,9,FALSE) -> К
A23: 5 | B23: =VLOOKUP($F23,УЧАСТНИКИ!$A$2:$L$1099,3,FALSE) -> Погребняк Наталья | C23: =VLOOKUP($F23,УЧАСТНИКИ!$A$2:$L$1099,4,FALSE) -> 19.02.1988 | D23: =VLOOKUP($F23,УЧАСТНИКИ!$A$2:$L$1099,5,FALSE) -> Краснодарский край | E23: =VLOOKUP($F23,УЧАСТНИКИ!$A$2:$L$1099,8,FALSE) -> МСМК | F23: 163 | J23: =VLOOKUP($F23,УЧАСТНИКИ!$A$2:$L$1099,9,FALSE) -> К
A24: 6 | B24: =VLOOKUP($F24,УЧАСТНИКИ!$A$2:$L$1099,3,FALSE) -> Тарасова Алина | C24: =VLOOKUP($F24,УЧАСТНИКИ!$A$2:$L$1099,4,FALSE) -> 11.05.1999 | D24: =VLOOKUP($F24,УЧАСТНИКИ!$A$2:$L$1099,5,FALSE) -> Красноярский край | E24: =VLOOKUP($F24,УЧАСТНИКИ!$A$2:$L$1099,8,FALSE) -> КМС | F24: 105 | J24: =VLOOKUP($F24,УЧАСТНИКИ!$A$2:$L$1099,9,FALSE) -> К
A25: 7 | B25: =VLOOKUP($F25,УЧАСТНИКИ!$A$2:$L$1099,3,FALSE) -> Петрищева Юлия | C25: =VLOOKUP($F25,УЧАСТНИКИ!$A$2:$L$1099,4,FALSE) -> 02.03.1997 | D25: =VLOOKUP($F25,УЧАСТНИКИ!$A$2:$L$1099,5,FALSE) -> Курская область | E25: =VLOOKUP($F25,УЧАСТНИКИ!$A$2:$L$1099,8,FALSE) -> КМС | F25: 190 | J25: =VLOOKUP($F25,УЧАСТНИКИ!$A$2:$L$1099,9,FALSE) -> К
A26: 8
B27: 3 ЗАБЕГ
A28: 1
A29: 2 | B29: =VLOOKUP($F29,УЧАСТНИКИ!$A$2:$L$1099,3,FALSE) -> Довженко Юлия | C29: =VLOOKUP($F29,УЧАСТНИКИ!$A$2:$L$1099,4,FALSE) -> 23.01.1998 | D29: =VLOOKUP($F29,УЧАСТНИКИ!$A$2:$L$1099,5,FALSE) -> Ставропольский край | E29: =VLOOKUP($F29,УЧАСТНИКИ!$A$2:$L$1099,8,FALSE) -> КМС | F29: 77 | J29: =VLOOKUP($F29,УЧАСТНИКИ!$A$2:$L$1099,9,FALSE) -> К
A30: 3 | B30: =VLOOKUP($F30,УЧАСТНИКИ!$A$2:$L$1099,3,FALSE) -> Стародубова Ангелина | C30: =VLOOKUP($F30,УЧАСТНИКИ!$A$2:$L$1099,4,FALSE) -> 11.10.1998 | D30: =VLOOKUP($F30,УЧАСТНИКИ!$A$2:$L$1099,5,FALSE) -> Московская область Пензенская область | E30: =VLOOKUP($F30,УЧАСТНИКИ!$A$2:$L$1099,8,FALSE) -> МС | F30: 469 | J30: =VLOOKUP($F30,УЧАСТНИКИ!$A$2:$L$1099,9,FALSE) -> л
A31: 4 | B31: =VLOOKUP($F31,УЧАСТНИКИ!$A$2:$L$1099,3,FALSE) -> Соколова (Полищук) Анастасия | C31: =VLOOKUP($F31,УЧАСТНИКИ!$A$2:$L$1099,4,FALSE) -> 20.05.1994 | D31: =VLOOKUP($F31,УЧАСТНИКИ!$A$2:$L$1099,5,FALSE) -> Свердловская область Челябинская область | E31: =VLOOKUP($F31,УЧАСТНИКИ!$A$2:$L$1099,8,FALSE) -> МС | F31: 73 | J31: =VLOOKUP($F31,УЧАСТНИКИ!$A$2:$L$1099,9,FALSE) -> К
A32: 5 | B32: =VLOOKUP($F32,УЧАСТНИКИ!$A$2:$L$1099,3,FALSE) -> Кукушкина Анна | C32: =VLOOKUP($F32,УЧАСТНИКИ!$A$2:$L$1099,4,FALSE) -> 13.12.1992 | D32: =VLOOKUP($F32,УЧАСТНИКИ!$A$2:$L$1099,5,FALSE) -> Московская область Ямало-Ненецкий автономный округ | E32: =VLOOKUP($F32,УЧАСТНИКИ!$A$2:$L$1099,8,FALSE) -> МС | F32: 251 | J32: =VLOOKUP($F32,УЧАСТНИКИ!$A$2:$L$1099,9,FALSE) -> К
A33: 6 | B33: =VLOOKUP($F33,УЧАСТНИКИ!$A$2:$L$1099,3,FALSE) -> Спиридонова Валерия | C33: =VLOOKUP($F33,УЧАСТНИКИ!$A$2:$L$1099,4,FALSE) -> 27.12.2000 | D33: =VLOOKUP($F33,УЧАСТНИКИ!$A$2:$L$1099,5,FALSE) -> Краснодарский край | E33: =VLOOKUP($F33,УЧАСТНИКИ!$A$2:$L$1099,8,FALSE) -> 1 | F33: 176 | J33: =VLOOKUP($F33,УЧАСТНИКИ!$A$2:$L$1099,9,FALSE) -> Л
A34: 7 | B34: =VLOOKUP($F34,УЧАСТНИКИ!$A$2:$L$1099,3,FALSE) -> Колесникова Дарья | C34: =VLOOKUP($F34,УЧАСТНИКИ!$A$2:$L$1099,4,FALSE) -> 28.07.2002 | D34: =VLOOKUP($F34,УЧАСТНИКИ!$A$2:$L$1099,5,FALSE) -> Краснодарский край | E34: =VLOOKUP($F34,УЧАСТНИКИ!$A$2:$L$1099,8,FALSE) -> 1 | F34: 487 | J34: =VLOOKUP($F34,УЧАСТНИКИ!$A$2:$L$1099,9,FALSE) -> Л
A35: 8
B36: 4 ЗАБЕГ
A37: 1
A38: 2 | B38: =VLOOKUP($F38,УЧАСТНИКИ!$A$2:$L$1099,3,FALSE) -> Денисова Надежда | C38: =VLOOKUP($F38,УЧАСТНИКИ!$A$2:$L$1099,4,FALSE) -> 16.03.2000 | D38: =VLOOKUP($F38,УЧАСТНИКИ!$A$2:$L$1099,5,FALSE) -> Тюменская область | E38: =VLOOKUP($F38,УЧАСТНИКИ!$A$2:$L$1099,8,FALSE) -> КМС | F38: 87 | J38: =VLOOKUP($F38,УЧАСТНИКИ!$A$2:$L$1099,9,FALSE) -> К
A39: 3 | B39: =VLOOKUP($F39,УЧАСТНИКИ!$A$2:$L$1099,3,FALSE) -> Стародубова Виолетта | C39: =VLOOKUP($F39,УЧАСТНИКИ!$A$2:$L$1099,4,FALSE) -> 15.12.1999 | D39: =VLOOKUP($F39,УЧАСТНИКИ!$A$2:$L$1099,5,FALSE) -> Воронежская область | E39: =VLOOKUP($F39,УЧАСТНИКИ!$A$2:$L$1099,8,FALSE) -> КМС | F39: 400 | J39: =VLOOKUP($F39,УЧАСТНИКИ!$A$2:$L$1099,9,FALSE) -> К
A40: 4 | B40: =VLOOKUP($F40,УЧАСТНИКИ!$A$2:$L$1099,3,FALSE) -> Сластникова Тамара | C40: =VLOOKUP($F40,УЧАСТНИКИ!$A$2:$L$1099,4,FALSE) -> 21.05.1993 | D40: =VLOOKUP($F40,УЧАСТНИКИ!$A$2:$L$1099,5,FALSE) -> Новосибирская область | E40: =VLOOKUP($F40,УЧАСТНИКИ!$A$2:$L$1099,8,FALSE) -> МС | F40: 427 | J40: =VLOOKUP($F40,УЧАСТНИКИ!$A$2:$L$1099,9,FALSE) -> К
A41: 5 | B41: =VLOOKUP($F41,УЧАСТНИКИ!$A$2:$L$1099,3,FALSE) -> Григорьева Анастасия | C41: =VLOOKUP($F41,УЧАСТНИКИ!$A$2:$L$1099,4,FALSE) -> 07.11.1993 | D41: =VLOOKUP($F41,УЧАСТНИКИ!$A$2:$L$1099,5,FALSE) -> Санкт-Петербург | E41: =VLOOKUP($F41,УЧАСТНИКИ!$A$2:$L$1099,8,FALSE) -> МС | F41: 272 | J41: =VLOOKUP($F41,УЧАСТНИКИ!$A$2:$L$1099,9,FALSE) -> К
A42: 6 | B42: =VLOOKUP($F42,УЧАСТНИКИ!$A$2:$L$1099,3,FALSE) -> Соколова Вера | C42: =VLOOKUP($F42,УЧАСТНИКИ!$A$2:$L$1099,4,FALSE) -> 27.07.1992 | D42: =VLOOKUP($F42,УЧАСТНИКИ!$A$2:$L$1099,5,FALSE) -> Краснодарский край | E42: =VLOOKUP($F42,УЧАСТНИКИ!$A$2:$L$1099,8,FALSE) -> КМС | F42: 174 | J42: =VLOOKUP($F42,УЧАСТНИКИ!$A$2:$L$1099,9,FALSE) -> Л
A43: 7 | B43: =VLOOKUP($F43,УЧАСТНИКИ!$A$2:$L$1099,3,FALSE) -> Навацкая Софья | C43: =VLOOKUP($F43,УЧАСТНИКИ!$A$2:$L$1099,4,FALSE) -> 11.02.1999 | D43: =VLOOKUP($F43,УЧАСТНИКИ!$A$2:$L$1099,5,FALSE) -> Вологодская область | E43: =VLOOKUP($F43,УЧАСТНИКИ!$A$2:$L$1099,8,FALSE) -> КМС | F43: 442 | J43: =VLOOKUP($F43,УЧАСТНИКИ!$A$2:$L$1099,9,FALSE) -> К
A44: 8
B45: 5 ЗАБЕГ
A46: 1 | B46: =VLOOKUP($F46,УЧАСТНИКИ!$A$2:$L$1099,3,FALSE) -> #N/A | C46: =VLOOKUP($F46,УЧАСТНИКИ!$A$2:$L$1099,4,FALSE) -> #N/A | D46: =VLOOKUP($F46,УЧАСТНИКИ!$A$2:$L$1099,5,FALSE) -> #N/A | E46: =VLOOKUP($F46,УЧАСТНИКИ!$A$2:$L$1099,8,FALSE) -> #N/A | J46: =VLOOKUP($F46,УЧАСТНИКИ!$A$2:$L$1099,9,FALSE) -> #N/A
A47: 2 | B47: =VLOOKUP($F47,УЧАСТНИКИ!$A$2:$L$1099,3,FALSE) -> #N/A | C47: =VLOOKUP($F47,УЧАСТНИКИ!$A$2:$L$1099,4,FALSE) -> #N/A | D47: =VLOOKUP($F47,УЧАСТНИКИ!$A$2:$L$1099,5,FALSE) -> #N/A | E47: =VLOOKUP($F47,УЧАСТНИКИ!$A$2:$L$1099,8,FALSE) -> #N/A | J47: =VLOOKUP($F47,УЧАСТНИКИ!$A$2:$L$1099,9,FALSE) -> #N/A
A48: 3 | B48: =VLOOKUP($F48,УЧАСТНИКИ!$A$2:$L$1099,3,FALSE) -> #N/A | C48: =VLOOKUP($F48,УЧАСТНИКИ!$A$2:$L$1099,4,FALSE) -> #N/A | D48: =VLOOKUP($F48,УЧАСТНИКИ!$A$2:$L$1099,5,FALSE) -> #N/A | E48: =VLOOKUP($F48,УЧАСТНИКИ!$A$2:$L$1099,8,FALSE) -> #N/A | J48: =VLOOKUP($F48,УЧАСТНИКИ!$A$2:$L$1099,9,FALSE) -> #N/A
A49: 4 | B49: =VLOOKUP($F49,УЧАСТНИКИ!$A$2:$L$1099,3,FALSE) -> #N/A | C49: =VLOOKUP($F49,УЧАСТНИКИ!$A$2:$L$1099,4,FALSE) -> #N/A | D49: =VLOOKUP($F49,УЧАСТНИКИ!$A$2:$L$1099,5,FALSE) -> #N/A | E49: =VLOOKUP($F49,УЧАСТНИКИ!$A$2:$L$1099,8,FALSE) -> #N/A | J49: =VLOOKUP($F49,УЧАСТНИКИ!$A$2:$L$1099,9,FALSE) -> #N/A
A50: 5 | B50: =VLOOKUP($F50,УЧАСТНИКИ!$A$2:$L$1099,3,FALSE) -> #N/A | C50: =VLOOKUP($F50,УЧАСТНИКИ!$A$2:$L$1099,4,FALSE) -> #N/A | D50: =VLOOKUP($F50,УЧАСТНИКИ!$A$2:$L$1099,5,FALSE) -> #N/A | E50: =VLOOKUP($F50,УЧАСТНИКИ!$A$2:$L$1099,8,FALSE) -> #N/A | J50: =VLOOKUP($F50,УЧАСТНИКИ!$A$2:$L$1099,9,FALSE) -> #N/A
A51: 6 | B51: =VLOOKUP($F51,УЧАСТНИКИ!$A$2:$L$1099,3,FALSE) -> #N/A | C51: =VLOOKUP($F51,УЧАСТНИКИ!$A$2:$L$1099,4,FALSE) -> #N/A | D51: =VLOOKUP($F51,УЧАСТНИКИ!$A$2:$L$1099,5,FALSE) -> #N/A | E51: =VLOOKUP($F51,УЧАСТНИКИ!$A$2:$L$1099,8,FALSE) -> #N/A | J51: =VLOOKUP($F51,УЧАСТНИКИ!$A$2:$L$1099,9,FALSE) -> #N/A
A52: 7 | B52: =VLOOKUP($F52,УЧАСТНИКИ!$A$2:$L$1099,3,FALSE) -> #N/A | C52: =VLOOKUP($F52,УЧАСТНИКИ!$A$2:$L$1099,4,FALSE) -> #N/A | D52: =VLOOKUP($F52,УЧАСТНИКИ!$A$2:$L$1099,5,FALSE) -> #N/A | E52: =VLOOKUP($F52,УЧАСТНИКИ!$A$2:$L$1099,8,FALSE) -> #N/A | J52: =VLOOKUP($F52,УЧАСТНИКИ!$A$2:$L$1099,9,FALSE) -> #N/A
A53: 8 | B53: =VLOOKUP($F53,УЧАСТНИКИ!$A$2:$L$1099,3,FALSE) -> #N/A | C53: =VLOOKUP($F53,УЧАСТНИКИ!$A$2:$L$1099,4,FALSE) -> #N/A | D53: =VLOOKUP($F53,УЧАСТНИКИ!$A$2:$L$1099,5,FALSE) -> #N/A | E53: =VLOOKUP($F53,УЧАСТНИКИ!$A$2:$L$1099,8,FALSE) -> #N/A | J53: =VLOOKUP($F53,УЧАСТНИКИ!$A$2:$L$1099,9,FALSE) -> #N/A
B54: 6 ЗАБЕГ
A55: 1 | B55: =VLOOKUP($F55,УЧАСТНИКИ!$A$2:$L$1099,3,FALSE) -> #N/A | C55: =VLOOKUP($F55,УЧАСТНИКИ!$A$2:$L$1099,4,FALSE) -> #N/A | D55: =VLOOKUP($F55,УЧАСТНИКИ!$A$2:$L$1099,5,FALSE) -> #N/A | E55: =VLOOKUP($F55,УЧАСТНИКИ!$A$2:$L$1099,8,FALSE) -> #N/A | J55: =VLOOKUP($F55,УЧАСТНИКИ!$A$2:$L$1099,9,FALSE) -> #N/A
A56: 2 | B56: =VLOOKUP($F56,УЧАСТНИКИ!$A$2:$L$1099,3,FALSE) -> #N/A | C56: =VLOOKUP($F56,УЧАСТНИКИ!$A$2:$L$1099,4,FALSE) -> #N/A | D56: =VLOOKUP($F56,УЧАСТНИКИ!$A$2:$L$1099,5,FALSE) -> #N/A | E56: =VLOOKUP($F56,УЧАСТНИКИ!$A$2:$L$1099,8,FALSE) -> #N/A | J56: =VLOOKUP($F56,УЧАСТНИКИ!$A$2:$L$1099,9,FALSE) -> #N/A
A57: 3 | B57: =VLOOKUP($F57,УЧАСТНИКИ!$A$2:$L$1099,3,FALSE) -> #N/A | C57: =VLOOKUP($F57,УЧАСТНИКИ!$A$2:$L$1099,4,FALSE) -> #N/A | D57: =VLOOKUP($F57,УЧАСТНИКИ!$A$2:$L$1099,5,FALSE) -> #N/A | E57: =VLOOKUP($F57,УЧАСТНИКИ!$A$2:$L$1099,8,FALSE) -> #N/A | J57: =VLOOKUP($F57,УЧАСТНИКИ!$A$2:$L$1099,9,FALSE) -> #N/A
A58: 4 | B58: =VLOOKUP($F58,УЧАСТНИКИ!$A$2:$L$1099,3,FALSE) -> #N/A | C58: =VLOOKUP($F58,УЧАСТНИКИ!$A$2:$L$1099,4,FALSE) -> #N/A | D58: =VLOOKUP($F58,УЧАСТНИКИ!$A$2:$L$1099,5,FALSE) -> #N/A | E58: =VLOOKUP($F58,УЧАСТНИКИ!$A$2:$L$1099,8,FALSE) -> #N/A | J58: =VLOOKUP($F58,УЧАСТНИКИ!$A$2:$L$1099,9,FALSE) -> #N/A
A59: 5 | B59: =VLOOKUP($F59,УЧАСТНИКИ!$A$2:$L$1099,3,FALSE) -> #N/A | C59: =VLOOKUP($F59,УЧАСТНИКИ!$A$2:$L$1099,4,FALSE) -> #N/A | D59: =VLOOKUP($F59,УЧАСТНИКИ!$A$2:$L$1099,5,FALSE) -> #N/A | E59: =VLOOKUP($F59,УЧАСТНИКИ!$A$2:$L$1099,8,FALSE) -> #N/A | J59: =VLOOKUP($F59,УЧАСТНИКИ!$A$2:$L$1099,9,FALSE) -> #N/A
A60: 6 | B60: =VLOOKUP($F60,УЧАСТНИКИ!$A$2:$L$1099,3,FALSE) -> #N/A | C60: =VLOOKUP($F60,УЧАСТНИКИ!$A$2:$L$1099,4,FALSE) -> #N/A | D60: =VLOOKUP($F60,УЧАСТНИКИ!$A$2:$L$1099,5,FALSE) -> #N/A | E60: =VLOOKUP($F60,УЧАСТНИКИ!$A$2:$L$1099,8,FALSE) -> #N/A | J60: =VLOOKUP($F60,УЧАСТНИКИ!$A$2:$L$1099,9,FALSE) -> #N/A
A61: 7 | B61: =VLOOKUP($F61,УЧАСТНИКИ!$A$2:$L$1099,3,FALSE) -> #N/A | C61: =VLOOKUP($F61,УЧАСТНИКИ!$A$2:$L$1099,4,FALSE) -> #N/A | D61: =VLOOKUP($F61,УЧАСТНИКИ!$A$2:$L$1099,5,FALSE) -> #N/A | E61: =VLOOKUP($F61,УЧАСТНИКИ!$A$2:$L$1099,8,FALSE) -> #N/A | J61: =VLOOKUP($F61,УЧАСТНИКИ!$A$2:$L$1099,9,FALSE) -> #N/A
A62: 8 | B62: =VLOOKUP($F62,УЧАСТНИКИ!$A$2:$L$1099,3,FALSE) -> #N/A | C62: =VLOOKUP($F62,УЧАСТНИКИ!$A$2:$L$1099,4,FALSE) -> #N/A | D62: =VLOOKUP($F62,УЧАСТНИКИ!$A$2:$L$1099,5,FALSE) -> #N/A | E62: =VLOOKUP($F62,УЧАСТНИКИ!$A$2:$L$1099,8,FALSE) -> #N/A | J62: =VLOOKUP($F62,УЧАСТНИКИ!$A$2:$L$1099,9,FALSE) -> #N/A
A63: Рефери по бегу:
A64: Ст.судья:
A65: Ст. судья на фотофинише:
A66: Секретарь:

Sheet 10Ф-Ж
A1: =Name_2 -> ВСЕРОССИЙСКАЯ ФЕДЕРАЦИЯ ЛЕГКОЙ АТЛЕТИКИ
A2: СТАРТОВЫЙ ПРОТОКОЛ
A3: КУБОК РОССИИ
A4: ЖЕНЩИНЫ
A5: Бег 100 м
K6: РР- 10.77
B7: ФИНАЛЬНЫЙ ЗАБЕГ | C7: 12:55 | D7: =d_1 -> 28.05.2019г. | K7: =d_5 -> г. Сочи, ул. Бзугу 2, ст. им. Славы Метревели
A8: № п/п | B8: Фамилия, имя участника | C8: Дата рождения | D8: Территория | E8: Заявленный разряд | F8: Номер участника | G8: рез-тат забега | H8: приход | I8: Результат | J8: Место | K8: Примеч.
A10: 1 | B10: =VLOOKUP($F10,УЧАСТНИКИ!$A$2:$L$1099,3,FALSE) -> #N/A | C10: =VLOOKUP($F10,УЧАСТНИКИ!$A$2:$L$1099,4,FALSE) -> #N/A | D10: =VLOOKUP($F10,УЧАСТНИКИ!$A$2:$L$1099,5,FALSE) -> #N/A | E10: =VLOOKUP($F10,УЧАСТНИКИ!$A$2:$L$1099,8,FALSE) -> #N/A | K10: =VLOOKUP($F10,УЧАСТНИКИ!$A$2:$L$1099,9,FALSE) -> #N/A
A11: 2 | B11: =VLOOKUP($F11,УЧАСТНИКИ!$A$2:$L$1099,3,FALSE) -> #N/A | C11: =VLOOKUP($F11,УЧАСТНИКИ!$A$2:$L$1099,4,FALSE) -> #N/A | D11: =VLOOKUP($F11,УЧАСТНИКИ!$A$2:$L$1099,5,FALSE) -> #N/A | E11: =VLOOKUP($F11,УЧАСТНИКИ!$A$2:$L$1099,8,FALSE) -> #N/A | K11: =VLOOKUP($F11,УЧАСТНИКИ!$A$2:$L$1099,9,FALSE) -> #N/A
A12: 3 | B12: =VLOOKUP($F12,УЧАСТНИКИ!$A$2:$L$1099,3,FALSE) -> #N/A | C12: =VLOOKUP($F12,УЧАСТНИКИ!$A$2:$L$1099,4,FALSE) -> #N/A | D12: =VLOOKUP($F12,УЧАСТНИКИ!$A$2:$L$1099,5,FALSE) -> #N/A | E12: =VLOOKUP($F12,УЧАСТНИКИ!$A$2:$L$1099,8,FALSE) -> #N/A | K12: =VLOOKUP($F12,УЧАСТНИКИ!$A$2:$L$1099,9,FALSE) -> #N/A
A13: 4 | B13: =VLOOKUP($F13,УЧАСТНИКИ!$A$2:$L$1099,3,FALSE) -> #N/A | C13: =VLOOKUP($F13,УЧАСТНИКИ!$A$2:$L$1099,4,FALSE) -> #N/A | D13: =VLOOKUP($F13,УЧАСТНИКИ!$A$2:$L$1099,5,FALSE) -> #N/A | E13: =VLOOKUP($F13,УЧАСТНИКИ!$A$2:$L$1099,8,FALSE) -> #N/A | K13: =VLOOKUP($F13,УЧАСТНИКИ!$A$2:$L$1099,9,FALSE) -> #N/A
A14: 5 | B14: =VLOOKUP($F14,УЧАСТНИКИ!$A$2:$L$1099,3,FALSE) -> #N/A | C14: =VLOOKUP($F14,УЧАСТНИКИ!$A$2:$L$1099,4,FALSE) -> #N/A | D14: =VLOOKUP($F14,УЧАСТНИКИ!$A$2:$L$1099,5,FALSE) -> #N/A | E14: =VLOOKUP($F14,УЧАСТНИКИ!$A$2:$L$1099,8,FALSE) -> #N/A | K14: =VLOOKUP($F14,УЧАСТНИКИ!$A$2:$L$1099,9,FALSE) -> #N/A
A15: 6 | B15: =VLOOKUP($F15,УЧАСТНИКИ!$A$2:$L$1099,3,FALSE) -> #N/A | C15: =VLOOKUP($F15,УЧАСТНИКИ!$A$2:$L$1099,4,FALSE) -> #N/A | D15: =VLOOKUP($F15,УЧАСТНИКИ!$A$2:$L$1099,5,FALSE) -> #N/A | E15: =VLOOKUP($F15,УЧАСТНИКИ!$A$2:$L$1099,8,FALSE) -> #N/A | K15: =VLOOKUP($F15,УЧАСТНИКИ!$A$2:$L$1099,9,FALSE) -> #N/A
A16: 7 | B16: =VLOOKUP($F16,УЧАСТНИКИ!$A$2:$L$1099,3,FALSE) -> #N/A | C16: =VLOOKUP($F16,УЧАСТНИКИ!$A$2:$L$1099,4,FALSE) -> #N/A | D16: =VLOOKUP($F16,УЧАСТНИКИ!$A$2:$L$1099,5,FALSE) -> #N/A | E16: =VLOOKUP($F16,УЧАСТНИКИ!$A$2:$L$1099,8,FALSE) -> #N/A | K16: =VLOOKUP($F16,УЧАСТНИКИ!$A$2:$L$1099,9,FALSE) -> #N/A
A17: 8 | B17: =VLOOKUP($F17,УЧАСТНИКИ!$A$2:$L$1099,3,FALSE) -> #N/A | C17: =VLOOKUP($F17,УЧАСТНИКИ!$A$2:$L$1099,4,FALSE) -> #N/A | D17: =VLOOKUP($F17,УЧАСТНИКИ!$A$2:$L$1099,5,FALSE) -> #N/A | E17: =VLOOKUP($F17,УЧАСТНИКИ!$A$2:$L$1099,8,FALSE) -> #N/A | K17: =VLOOKUP($F17,УЧАСТНИКИ!$A$2:$L$1099,9,FALSE) -> #N/A
A19: Рефери по бегу: | D19: / Вяльцева.В.Г.
A20: Ст.судья:
A21: Ст. судья на фотофинише:
A22: Секретарь:

Sheet 20-Ж
A1: =Name_2 -> ВСЕРОССИЙСКАЯ ФЕДЕРАЦИЯ ЛЕГКОЙ АТЛЕТИКИ
A2: СТАРТОВЫЙ ПРОТОКОЛ
A3: КУБОК РОССИИ
A4: ЖЕНЩИНЫ
A5: Бег 200 м
J6: РР- 21.87
B7: ЗАБЕГИ | C7: 12:55 | D7: =d_1 -> 28.05.2019г. | J7: =d_5 -> г. Сочи, ул. Бзугу 2, ст. им. Славы Метревели
A8: № п/п | B8: Фамилия, имя участника | C8: Дата рождения | D8: Территория | E8: Заявленный разряд | F8: Номер участника | G8: Приход | H8: Результат | I8: Место | J8: Примеч.
B9: 1 ЗАБЕГ
A10: 1 | B10: =VLOOKUP($F10,УЧАСТНИКИ!$A$2:$L$1099,3,FALSE) -> #N/A | C10: =VLOOKUP($F10,УЧАСТНИКИ!$A$2:$L$1099,4,FALSE) -> #N/A | D10: =VLOOKUP($F10,УЧАСТНИКИ!$A$2:$L$1099,5,FALSE) -> #N/A | E10: =VLOOKUP($F10,УЧАСТНИКИ!$A$2:$L$1099,8,FALSE) -> #N/A | J10: =VLOOKUP($F10,УЧАСТНИКИ!$A$2:$L$1099,9,FALSE) -> #N/A
A11: 2 | B11: =VLOOKUP($F11,УЧАСТНИКИ!$A$2:$L$1099,3,FALSE) -> #N/A | C11: =VLOOKUP($F11,УЧАСТНИКИ!$A$2:$L$1099,4,FALSE) -> #N/A | D11: =VLOOKUP($F11,УЧАСТНИКИ!$A$2:$L$1099,5,FALSE) -> #N/A | E11: =VLOOKUP($F11,УЧАСТНИКИ!$A$2:$L$1099,8,FALSE) -> #N/A | J11: =VLOOKUP($F11,УЧАСТНИКИ!$A$2:$L$1099,9,FALSE) -> #N/A
A12: 3 | B12: =VLOOKUP($F12,УЧАСТНИКИ!$A$2:$L$1099,3,FALSE) -> #N/A | C12: =VLOOKUP($F12,УЧАСТНИКИ!$A$2:$L$1099,4,FALSE) -> #N/A | D12: =VLOOKUP($F12,УЧАСТНИКИ!$A$2:$L$1099,5,FALSE) -> #N/A | E12: =VLOOKUP($F12,УЧАСТНИКИ!$A$2:$L$1099,8,FALSE) -> #N/A | J12: =VLOOKUP($F12,УЧАСТНИКИ!$A$2:$L$1099,9,FALSE) -> #N/A
A13: 4 | B13: =VLOOKUP($F13,УЧАСТНИКИ!$A$2:$L$1099,3,FALSE) -> #N/A | C13: =VLOOKUP($F13,УЧАСТНИКИ!$A$2:$L$1099,4,FALSE) -> #N/A | D13: =VLOOKUP($F13,УЧАСТНИКИ!$A$2:$L$1099,5,FALSE) -> #N/A | E13: =VLOOKUP($F13,УЧАСТНИКИ!$A$2:$L$1099,8,FALSE) -> #N/A | J13: =VLOOKUP($F13,УЧАСТНИКИ!$A$2:$L$1099,9,FALSE) -> #N/A
A14: 5 | B14: =VLOOKUP($F14,УЧАСТНИКИ!$A$2:$L$1099,3,FALSE) -> #N/A | C14: =VLOOKUP($F14,УЧАСТНИКИ!$A$2:$L$1099,4,FALSE) -> #N/A | D14: =VLOOKUP($F14,УЧАСТНИКИ!$A$2:$L$1099,5,FALSE) -> #N/A | E14: =VLOOKUP($F14,УЧАСТНИКИ!$A$2:$L$1099,8,FALSE) -> #N/A | J14: =VLOOKUP($F14,УЧАСТНИКИ!$A$2:$L$1099,9,FALSE) -> #N/A
A15: 6 | B15: =VLOOKUP($F15,УЧАСТНИКИ!$A$2:$L$1099,3,FALSE) -> #N/A | C15: =VLOOKUP($F15,УЧАСТНИКИ!$A$2:$L$1099,4,FALSE) -> #N/A | D15: =VLOOKUP($F15,УЧАСТНИКИ!$A$2:$L$1099,5,FALSE) -> #N/A | E15: =VLOOKUP($F15,УЧАСТНИКИ!$A$2:$L$1099,8,FALSE) -> #N/A | J15: =VLOOKUP($F15,УЧАСТНИКИ!$A$2:$L$1099,9,FALSE) -> #N/A
A16: 7 | B16: =VLOOKUP($F16,УЧАСТНИКИ!$A$2:$L$1099,3,FALSE) -> #N/A | C16: =VLOOKUP($F16,УЧАСТНИКИ!$A$2:$L$1099,4,FALSE) -> #N/A | D16: =VLOOKUP($F16,УЧАСТНИКИ!$A$2:$L$1099,5,FALSE) -> #N/A | E16: =VLOOKUP($F16,УЧАСТНИКИ!$A$2:$L$1099,8,FALSE) -> #N/A | J16: =VLOOKUP($F16,УЧАСТНИКИ!$A$2:$L$1099,9,FALSE) -> #N/A
A17: 8 | B17: =VLOOKUP($F17,УЧАСТНИКИ!$A$2:$L$1099,3,FALSE) -> #N/A | C17: =VLOOKUP($F17,УЧАСТНИКИ!$A$2:$L$1099,4,FALSE) -> #N/A | D17: =VLOOKUP($F17,УЧАСТНИКИ!$A$2:$L$1099,5,FALSE) -> #N/A | E17: =VLOOKUP($F17,УЧАСТНИКИ!$A$2:$L$1099,8,FALSE) -> #N/A | J17: =VLOOKUP($F17,УЧАСТНИКИ!$A$2:$L$1099,9,FALSE) -> #N/A
B18: 2 ЗАБЕГ
A19: 1 | B19: =VLOOKUP($F19,УЧАСТНИКИ!$A$2:$L$1099,3,FALSE) -> #N/A | C19: =VLOOKUP($F19,УЧАСТНИКИ!$A$2:$L$1099,4,FALSE) -> #N/A | D19: =VLOOKUP($F19,УЧАСТНИКИ!$A$2:$L$1099,5,FALSE) -> #N/A | E19: =VLOOKUP($F19,УЧАСТНИКИ!$A$2:$L$1099,8,FALSE) -> #N/A | J19: =VLOOKUP($F19,УЧАСТНИКИ!$A$2:$L$1099,9,FALSE) -> #N/A
A20: 2 | B20: =VLOOKUP($F20,УЧАСТНИКИ!$A$2:$L$1099,3,FALSE) -> #N/A | C20: =VLOOKUP($F20,УЧАСТНИКИ!$A$2:$L$1099,4,FALSE) -> #N/A | D20: =VLOOKUP($F20,УЧАСТНИКИ!$A$2:$L$1099,5,FALSE) -> #N/A | E20: =VLOOKUP($F20,УЧАСТНИКИ!$A$2:$L$1099,8,FALSE) -> #N/A | J20: =VLOOKUP($F20,УЧАСТНИКИ!$A$2:$L$1099,9,FALSE) -> #N/A
A21: 3 | B21: =VLOOKUP($F21,УЧАСТНИКИ!$A$2:$L$1099,3,FALSE) -> #N/A | C21: =VLOOKUP($F21,УЧАСТНИКИ!$A$2:$L$1099,4,FALSE) -> #N/A | D21: =VLOOKUP($F21,УЧАСТНИКИ!$A$2:$L$1099,5,FALSE) -> #N/A | E21: =VLOOKUP($F21,УЧАСТНИКИ!$A$2:$L$1099,8,FALSE) -> #N/A | J21: =VLOOKUP($F21,УЧАСТНИКИ!$A$2:$L$1099,9,FALSE) -> #N/A
A22: 4 | B22: =VLOOKUP($F22,УЧАСТНИКИ!$A$2:$L$1099,3,FALSE) -> #N/A | C22: =VLOOKUP($F22,УЧАСТНИКИ!$A$2:$L$1099,4,FALSE) -> #N/A | D22: =VLOOKUP($F22,УЧАСТНИКИ!$A$2:$L$1099,5,FALSE) -> #N/A | E22: =VLOOKUP($F22,УЧАСТНИКИ!$A$2:$L$1099,8,FALSE) -> #N/A | J22: =VLOOKUP($F22,УЧАСТНИКИ!$A$2:$L$1099,9,FALSE) -> #N/A
A23: 5 | B23: =VLOOKUP($F23,УЧАСТНИКИ!$A$2:$L$1099,3,FALSE) -> #N/A | C23: =VLOOKUP($F23,УЧАСТНИКИ!$A$2:$L$1099,4,FALSE) -> #N/A | D23: =VLOOKUP($F23,УЧАСТНИКИ!$A$2:$L$1099,5,FALSE) -> #N/A | E23: =VLOOKUP($F23,УЧАСТНИКИ!$A$2:$L$1099,8,FALSE) -> #N/A | J23: =VLOOKUP($F23,УЧАСТНИКИ!$A$2:$L$1099,9,FALSE) -> #N/A
A24: 6 | B24: =VLOOKUP($F24,УЧАСТНИКИ!$A$2:$L$1099,3,FALSE) -> #N/A | C24: =VLOOKUP($F24,УЧАСТНИКИ!$A$2:$L$1099,4,FALSE) -> #N/A | D24: =VLOOKUP($F24,УЧАСТНИКИ!$A$2:$L$1099,5,FALSE) -> #N/A | E24: =VLOOKUP($F24,УЧАСТНИКИ!$A$2:$L$1099,8,FALSE) -> #N/A | J24: =VLOOKUP($F24,УЧАСТНИКИ!$A$2:$L$1099,9,FALSE) -> #N/A
A25: 7 | B25: =VLOOKUP($F25,УЧАСТНИКИ!$A$2:$L$1099,3,FALSE) -> #N/A | C25: =VLOOKUP($F25,УЧАСТНИКИ!$A$2:$L$1099,4,FALSE) -> #N/A | D25: =VLOOKUP($F25,УЧАСТНИКИ!$A$2:$L$1099,5,FALSE) -> #N/A | E25: =VLOOKUP($F25,УЧАСТНИКИ!$A$2:$L$1099,8,FALSE) -> #N/A | J25: =VLOOKUP($F25,УЧАСТНИКИ!$A$2:$L$1099,9,FALSE) -> #N/A
A26: 8 | B26: =VLOOKUP($F26,УЧАСТНИКИ!$A$2:$L$1099,3,FALSE) -> #N/A | C26: =VLOOKUP($F26,УЧАСТНИКИ!$A$2:$L$1099,4,FALSE) -> #N/A | D26: =VLOOKUP($F26,УЧАСТНИКИ!$A$2:$L$1099,5,FALSE) -> #N/A | E26: =VLOOKUP($F26,УЧАСТНИКИ!$A$2:$L$1099,8,FALSE) -> #N/A | J26: =VLOOKUP($F26,УЧАСТНИКИ!$A$2:$L$1099,9,FALSE) -> #N/A
B27: 3 ЗАБЕГ
A28: 1 | B28: =VLOOKUP($F28,УЧАСТНИКИ!$A$2:$L$1099,3,FALSE) -> #N/A | C28: =VLOOKUP($F28,УЧАСТНИКИ!$A$2:$L$1099,4,FALSE) -> #N/A | D28: =VLOOKUP($F28,УЧАСТНИКИ!$A$2:$L$1099,5,FALSE) -> #N/A | E28: =VLOOKUP($F28,УЧАСТНИКИ!$A$2:$L$1099,8,FALSE) -> #N/A | J28: =VLOOKUP($F28,УЧАСТНИКИ!$A$2:$L$1099,9,FALSE) -> #N/A
A29: 2 | B29: =VLOOKUP($F29,УЧАСТНИКИ!$A$2:$L$1099,3,FALSE) -> #N/A | C29: =VLOOKUP($F29,УЧАСТНИКИ!$A$2:$L$1099,4,FALSE) -> #N/A | D29: =VLOOKUP($F29,УЧАСТНИКИ!$A$2:$L$1099,5,FALSE) -> #N/A | E29: =VLOOKUP($F29,УЧАСТНИКИ!$A$2:$L$1099,8,FALSE) -> #N/A | J29: =VLOOKUP($F29,УЧАСТНИКИ!$A$2:$L$1099,9,FALSE) -> #N/A
A30: 3 | B30: =VLOOKUP($F30,УЧАСТНИКИ!$A$2:$L$1099,3,FALSE) -> #N/A | C30: =VLOOKUP($F30,УЧАСТНИКИ!$A$2:$L$1099,4,FALSE) -> #N/A | D30: =VLOOKUP($F30,УЧАСТНИКИ!$A$2:$L$1099,5,FALSE) -> #N/A | E30: =VLOOKUP($F30,УЧАСТНИКИ!$A$2:$L$1099,8,FALSE) -> #N/A | J30: =VLOOKUP($F30,УЧАСТНИКИ!$A$2:$L$1099,9,FALSE) -> #N/A
A31: 4 | B31: =VLOOKUP($F31,УЧАСТНИКИ!$A$2:$L$1099,3,FALSE) -> #N/A | C31: =VLOOKUP($F31,УЧАСТНИКИ!$A$2:$L$1099,4,FALSE) -> #N/A | D31: =VLOOKUP($F31,УЧАСТНИКИ!$A$2:$L$1099,5,FALSE) -> #N/A | E31: =VLOOKUP($F31,УЧАСТНИКИ!$A$2:$L$1099,8,FALSE) -> #N/A | J31: =VLOOKUP($F31,УЧАСТНИКИ!$A$2:$L$1099,9,FALSE) -> #N/A
A32: 5 | B32: =VLOOKUP($F32,УЧАСТНИКИ!$A$2:$L$1099,3,FALSE) -> #N/A | C32: =VLOOKUP($F32,УЧАСТНИКИ!$A$2:$L$1099,4,FALSE) -> #N/A | D32: =VLOOKUP($F32,УЧАСТНИКИ!$A$2:$L$1099,5,FALSE) -> #N/A | E32: =VLOOKUP($F32,УЧАСТНИКИ!$A$2:$L$1099,8,FALSE) -> #N/A | J32: =VLOOKUP($F32,УЧАСТНИКИ!$A$2:$L$1099,9,FALSE) -> #N/A
A33: 6 | B33: =VLOOKUP($F33,УЧАСТНИКИ!$A$2:$L$1099,3,FALSE) -> #N/A | C33: =VLOOKUP($F33,УЧАСТНИКИ!$A$2:$L$1099,4,FALSE) -> #N/A | D33: =VLOOKUP($F33,УЧАСТНИКИ!$A$2:$L$1099,5,FALSE) -> #N/A | E33: =VLOOKUP($F33,УЧАСТНИКИ!$A$2:$L$1099,8,FALSE) -> #N/A | J33: =VLOOKUP($F33,УЧАСТНИКИ!$A$2:$L$1099,9,FALSE) -> #N/A
A34: 7 | B34: =VLOOKUP($F34,УЧАСТНИКИ!$A$2:$L$1099,3,FALSE) -> #N/A | C34: =VLOOKUP($F34,УЧАСТНИКИ!$A$2:$L$1099,4,FALSE) -> #N/A | D34: =VLOOKUP($F34,УЧАСТНИКИ!$A$2:$L$1099,5,FALSE) -> #N/A | E34: =VLOOKUP($F34,УЧАСТНИКИ!$A$2:$L$1099,8,FALSE) -> #N/A | J34: =VLOOKUP($F34,УЧАСТНИКИ!$A$2:$L$1099,9,FALSE) -> #N/A
A35: 8 | B35: =VLOOKUP($F35,УЧАСТНИКИ!$A$2:$L$1099,3,FALSE) -> #N/A | C35: =VLOOKUP($F35,УЧАСТНИКИ!$A$2:$L$1099,4,FALSE) -> #N/A | D35: =VLOOKUP($F35,УЧАСТНИКИ!$A$2:$L$1099,5,FALSE) -> #N/A | E35: =VLOOKUP($F35,УЧАСТНИКИ!$A$2:$L$1099,8,FALSE) -> #N/A | J35: =VLOOKUP($F35,УЧАСТНИКИ!$A$2:$L$1099,9,FALSE) -> #N/A
B36: 4 ЗАБЕГ
A37: 1 | B37: =VLOOKUP($F37,УЧАСТНИКИ!$A$2:$L$1099,3,FALSE) -> #N/A | C37: =VLOOKUP($F37,УЧАСТНИКИ!$A$2:$L$1099,4,FALSE) -> #N/A | D37: =VLOOKUP($F37,УЧАСТНИКИ!$A$2:$L$1099,5,FALSE) -> #N/A | E37: =VLOOKUP($F37,УЧАСТНИКИ!$A$2:$L$1099,8,FALSE) -> #N/A | J37: =VLOOKUP($F37,УЧАСТНИКИ!$A$2:$L$1099,9,FALSE) -> #N/A
A38: 2 | B38: =VLOOKUP($F38,УЧАСТНИКИ!$A$2:$L$1099,3,FALSE) -> #N/A | C38: =VLOOKUP($F38,УЧАСТНИКИ!$A$2:$L$1099,4,FALSE) -> #N/A | D38: =VLOOKUP($F38,УЧАСТНИКИ!$A$2:$L$1099,5,FALSE) -> #N/A | E38: =VLOOKUP($F38,УЧАСТНИКИ!$A$2:$L$1099,8,FALSE) -> #N/A | J38: =VLOOKUP($F38,УЧАСТНИКИ!$A$2:$L$1099,9,FALSE) -> #N/A
A39: 3 | B39: =VLOOKUP($F39,УЧАСТНИКИ!$A$2:$L$1099,3,FALSE) -> #N/A | C39: =VLOOKUP($F39,УЧАСТНИКИ!$A$2:$L$1099,4,FALSE) -> #N/A | D39: =VLOOKUP($F39,УЧАСТНИКИ!$A$2:$L$1099,5,FALSE) -> #N/A | E39: =VLOOKUP($F39,УЧАСТНИКИ!$A$2:$L$1099,8,FALSE) -> #N/A | J39: =VLOOKUP($F39,УЧАСТНИКИ!$A$2:$L$1099,9,FALSE) -> #N/A
A40: 4 | B40: =VLOOKUP($F40,УЧАСТНИКИ!$A$2:$L$1099,3,FALSE) -> #N/A | C40: =VLOOKUP($F40,УЧАСТНИКИ!$A$2:$L$1099,4,FALSE) -> #N/A | D40: =VLOOKUP($F40,УЧАСТНИКИ!$A$2:$L$1099,5,FALSE) -> #N/A | E40: =VLOOKUP($F40,УЧАСТНИКИ!$A$2:$L$1099,8,FALSE) -> #N/A | J40: =VLOOKUP($F40,УЧАСТНИКИ!$A$2:$L$1099,9,FALSE) -> #N/A
A41: 5 | B41: =VLOOKUP($F41,УЧАСТНИКИ!$A$2:$L$1099,3,FALSE) -> #N/A | C41: =VLOOKUP($F41,УЧАСТНИКИ!$A$2:$L$1099,4,FALSE) -> #N/A | D41: =VLOOKUP($F41,УЧАСТНИКИ!$A$2:$L$1099,5,FALSE) -> #N/A | E41: =VLOOKUP($F41,УЧАСТНИКИ!$A$2:$L$1099,8,FALSE) -> #N/A | J41: =VLOOKUP($F41,УЧАСТНИКИ!$A$2:$L$1099,9,FALSE) -> #N/A
A42: 6 | B42: =VLOOKUP($F42,УЧАСТНИКИ!$A$2:$L$1099,3,FALSE) -> #N/A | C42: =VLOOKUP($F42,УЧАСТНИКИ!$A$2:$L$1099,4,FALSE) -> #N/A | D42: =VLOOKUP($F42,УЧАСТНИКИ!$A$2:$L$1099,5,FALSE) -> #N/A | E42: =VLOOKUP($F42,УЧАСТНИКИ!$A$2:$L$1099,8,FALSE) -> #N/A | J42: =VLOOKUP($F42,УЧАСТНИКИ!$A$2:$L$1099,9,FALSE) -> #N/A
A43: 7 | B43: =VLOOKUP($F43,УЧАСТНИКИ!$A$2:$L$1099,3,FALSE) -> #N/A | C43: =VLOOKUP($F43,УЧАСТНИКИ!$A$2:$L$1099,4,FALSE) -> #N/A | D43: =VLOOKUP($F43,УЧАСТНИКИ!$A$2:$L$1099,5,FALSE) -> #N/A | E43: =VLOOKUP($F43,УЧАСТНИКИ!$A$2:$L$1099,8,FALSE) -> #N/A | J43: =VLOOKUP($F43,УЧАСТНИКИ!$A$2:$L$1099,9,FALSE) -> #N/A
A44: 8 | B44: =VLOOKUP($F44,УЧАСТНИКИ!$A$2:$L$1099,3,FALSE) -> #N/A | C44: =VLOOKUP($F44,УЧАСТНИКИ!$A$2:$L$1099,4,FALSE) -> #N/A | D44: =VLOOKUP($F44,УЧАСТНИКИ!$A$2:$L$1099,5,FALSE) -> #N/A | E44: =VLOOKUP($F44,УЧАСТНИКИ!$A$2:$L$1099,8,FALSE) -> #N/A | J44: =VLOOKUP($F44,УЧАСТНИКИ!$A$2:$L$1099,9,FALSE) -> #N/A
B45: 5 ЗАБЕГ
A46: 1 | B46: =VLOOKUP($F46,УЧАСТНИКИ!$A$2:$L$1099,3,FALSE) -> #N/A | C46: =VLOOKUP($F46,УЧАСТНИКИ!$A$2:$L$1099,4,FALSE) -> #N/A | D46: =VLOOKUP($F46,УЧАСТНИКИ!$A$2:$L$1099,5,FALSE) -> #N/A | E46: =VLOOKUP($F46,УЧАСТНИКИ!$A$2:$L$1099,8,FALSE) -> #N/A | J46: =VLOOKUP($F46,УЧАСТНИКИ!$A$2:$L$1099,9,FALSE) -> #N/A
A47: 2 | B47: =VLOOKUP($F47,УЧАСТНИКИ!$A$2:$L$1099,3,FALSE) -> #N/A | C47: =VLOOKUP($F47,УЧАСТНИКИ!$A$2:$L$1099,4,FALSE) -> #N/A | D47: =VLOOKUP($F47,УЧАСТНИКИ!$A$2:$L$1099,5,FALSE) -> #N/A | E47: =VLOOKUP($F47,УЧАСТНИКИ!$A$2:$L$1099,8,FALSE) -> #N/A | J47: =VLOOKUP($F47,УЧАСТНИКИ!$A$2:$L$1099,9,FALSE) -> #N/A
A48: 3 | B48: =VLOOKUP($F48,УЧАСТНИКИ!$A$2:$L$1099,3,FALSE) -> #N/A | C48: =VLOOKUP($F48,УЧАСТНИКИ!$A$2:$L$1099,4,FALSE) -> #N/A | D48: =VLOOKUP($F48,УЧАСТНИКИ!$A$2:$L$1099,5,FALSE) -> #N/A | E48: =VLOOKUP($F48,УЧАСТНИКИ!$A$2:$L$1099,8,FALSE) -> #N/A | J48: =VLOOKUP($F48,УЧАСТНИКИ!$A$2:$L$1099,9,FALSE) -> #N/A
A49: 4 | B49: =VLOOKUP($F49,УЧАСТНИКИ!$A$2:$L$1099,3,FALSE) -> #N/A | C49: =VLOOKUP($F49,УЧАСТНИКИ!$A$2:$L$1099,4,FALSE) -> #N/A | D49: =VLOOKUP($F49,УЧАСТНИКИ!$A$2:$L$1099,5,FALSE) -> #N/A | E49: =VLOOKUP($F49,УЧАСТНИКИ!$A$2:$L$1099,8,FALSE) -> #N/A | J49: =VLOOKUP($F49,УЧАСТНИКИ!$A$2:$L$1099,9,FALSE) -> #N/A
A50: 5 | B50: =VLOOKUP($F50,УЧАСТНИКИ!$A$2:$L$1099,3,FALSE) -> #N/A | C50: =VLOOKUP($F50,УЧАСТНИКИ!$A$2:$L$1099,4,FALSE) -> #N/A | D50: =VLOOKUP($F50,УЧАСТНИКИ!$A$2:$L$1099,5,FALSE) -> #N/A | E50: =VLOOKUP($F50,УЧАСТНИКИ!$A$2:$L$1099,8,FALSE) -> #N/A | J50: =VLOOKUP($F50,УЧАСТНИКИ!$A$2:$L$1099,9,FALSE) -> #N/A
A51: 6 | B51: =VLOOKUP($F51,УЧАСТНИКИ!$A$2:$L$1099,3,FALSE) -> #N/A | C51: =VLOOKUP($F51,УЧАСТНИКИ!$A$2:$L$1099,4,FALSE) -> #N/A | D51: =VLOOKUP($F51,УЧАСТНИКИ!$A$2:$L$1099,5,FALSE) -> #N/A | E51: =VLOOKUP($F51,УЧАСТНИКИ!$A$2:$L$1099,8,FALSE) -> #N/A | J51: =VLOOKUP($F51,УЧАСТНИКИ!$A$2:$L$1099,9,FALSE) -> #N/A
A52: 7 | B52: =VLOOKUP($F52,УЧАСТНИКИ!$A$2:$L$1099,3,FALSE) -> #N/A | C52: =VLOOKUP($F52,УЧАСТНИКИ!$A$2:$L$1099,4,FALSE) -> #N/A | D52: =VLOOKUP($F52,УЧАСТНИКИ!$A$2:$L$1099,5,FALSE) -> #N/A | E52: =VLOOKUP($F52,УЧАСТНИКИ!$A$2:$L$1099,8,FALSE) -> #N/A | J52: =VLOOKUP($F52,УЧАСТНИКИ!$A$2:$L$1099,9,FALSE) -> #N/A
A53: 8 | B53: =VLOOKUP($F53,УЧАСТНИКИ!$A$2:$L$1099,3,FALSE) -> #N/A | C53: =VLOOKUP($F53,УЧАСТНИКИ!$A$2:$L$1099,4,FALSE) -> #N/A | D53: =VLOOKUP($F53,УЧАСТНИКИ!$A$2:$L$1099,5,FALSE) -> #N/A | E53: =VLOOKUP($F53,УЧАСТНИКИ!$A$2:$L$1099,8,FALSE) -> #N/A | J53: =VLOOKUP($F53,УЧАСТНИКИ!$A$2:$L$1099,9,FALSE) -> #N/A
B54: 6 ЗАБЕГ
A55: 1 | B55: =VLOOKUP($F55,УЧАСТНИКИ!$A$2:$L$1099,3,FALSE) -> #N/A | C55: =VLOOKUP($F55,УЧАСТНИКИ!$A$2:$L$1099,4,FALSE) -> #N/A | D55: =VLOOKUP($F55,УЧАСТНИКИ!$A$2:$L$1099,5,FALSE) -> #N/A | E55: =VLOOKUP($F55,УЧАСТНИКИ!$A$2:$L$1099,8,FALSE) -> #N/A | J55: =VLOOKUP($F55,УЧАСТНИКИ!$A$2:$L$1099,9,FALSE) -> #N/A
A56: 2 | B56: =VLOOKUP($F56,УЧАСТНИКИ!$A$2:$L$1099,3,FALSE) -> #N/A | C56: =VLOOKUP($F56,УЧАСТНИКИ!$A$2:$L$1099,4,FALSE) -> #N/A | D56: =VLOOKUP($F56,УЧАСТНИКИ!$A$2:$L$1099,5,FALSE) -> #N/A | E56: =VLOOKUP($F56,УЧАСТНИКИ!$A$2:$L$1099,8,FALSE) -> #N/A | J56: =VLOOKUP($F56,УЧАСТНИКИ!$A$2:$L$1099,9,FALSE) -> #N/A
A57: 3 | B57: =VLOOKUP($F57,УЧАСТНИКИ!$A$2:$L$1099,3,FALSE) -> #N/A | C57: =VLOOKUP($F57,УЧАСТНИКИ!$A$2:$L$1099,4,FALSE) -> #N/A | D57: =VLOOKUP($F57,УЧАСТНИКИ!$A$2:$L$1099,5,FALSE) -> #N/A | E57: =VLOOKUP($F57,УЧАСТНИКИ!$A$2:$L$1099,8,FALSE) -> #N/A | J57: =VLOOKUP($F57,УЧАСТНИКИ!$A$2:$L$1099,9,FALSE) -> #N/A
A58: 4 | B58: =VLOOKUP($F58,УЧАСТНИКИ!$A$2:$L$1099,3,FALSE) -> #N/A | C58: =VLOOKUP($F58,УЧАСТНИКИ!$A$2:$L$1099,4,FALSE) -> #N/A | D58: =VLOOKUP($F58,УЧАСТНИКИ!$A$2:$L$1099,5,FALSE) -> #N/A | E58: =VLOOKUP($F58,УЧАСТНИКИ!$A$2:$L$1099,8,FALSE) -> #N/A | J58: =VLOOKUP($F58,УЧАСТНИКИ!$A$2:$L$1099,9,FALSE) -> #N/A
A59: 5 | B59: =VLOOKUP($F59,УЧАСТНИКИ!$A$2:$L$1099,3,FALSE) -> #N/A | C59: =VLOOKUP($F59,УЧАСТНИКИ!$A$2:$L$1099,4,FALSE) -> #N/A | D59: =VLOOKUP($F59,УЧАСТНИКИ!$A$2:$L$1099,5,FALSE) -> #N/A | E59: =VLOOKUP($F59,УЧАСТНИКИ!$A$2:$L$1099,8,FALSE) -> #N/A | J59: =VLOOKUP($F59,УЧАСТНИКИ!$A$2:$L$1099,9,FALSE) -> #N/A
A60: 6 | B60: =VLOOKUP($F60,УЧАСТНИКИ!$A$2:$L$1099,3,FALSE) -> #N/A | C60: =VLOOKUP($F60,УЧАСТНИКИ!$A$2:$L$1099,4,FALSE) -> #N/A | D60: =VLOOKUP($F60,УЧАСТНИКИ!$A$2:$L$1099,5,FALSE) -> #N/A | E60: =VLOOKUP($F60,УЧАСТНИКИ!$A$2:$L$1099,8,FALSE) -> #N/A | J60: =VLOOKUP($F60,УЧАСТНИКИ!$A$2:$L$1099,9,FALSE) -> #N/A
A61: 7 | B61: =VLOOKUP($F61,УЧАСТНИКИ!$A$2:$L$1099,3,FALSE) -> #N/A | C61: =VLOOKUP($F61,УЧАСТНИКИ!$A$2:$L$1099,4,FALSE) -> #N/A | D61: =VLOOKUP($F61,УЧАСТНИКИ!$A$2:$L$1099,5,FALSE) -> #N/A | E61: =VLOOKUP($F61,УЧАСТНИКИ!$A$2:$L$1099,8,FALSE) -> #N/A | J61: =VLOOKUP($F61,УЧАСТНИКИ!$A$2:$L$1099,9,FALSE) -> #N/A
A62: 8 | B62: =VLOOKUP($F62,УЧАСТНИКИ!$A$2:$L$1099,3,FALSE) -> #N/A | C62: =VLOOKUP($F62,УЧАСТНИКИ!$A$2:$L$1099,4,FALSE) -> #N/A | D62: =VLOOKUP($F62,УЧАСТНИКИ!$A$2:$L$1099,5,FALSE) -> #N/A | E62: =VLOOKUP($F62,УЧАСТНИКИ!$A$2:$L$1099,8,FALSE) -> #N/A | J62: =VLOOKUP($F62,УЧАСТНИКИ!$A$2:$L$1099,9,FALSE) -> #N/A
B63: 7 ЗАБЕГ
A64: 1 | B64: =VLOOKUP($F64,УЧАСТНИКИ!$A$2:$L$1099,3,FALSE) -> #N/A | C64: =VLOOKUP($F64,УЧАСТНИКИ!$A$2:$L$1099,4,FALSE) -> #N/A | D64: =VLOOKUP($F64,УЧАСТНИКИ!$A$2:$L$1099,5,FALSE) -> #N/A | E64: =VLOOKUP($F64,УЧАСТНИКИ!$A$2:$L$1099,8,FALSE) -> #N/A | J64: =VLOOKUP($F64,УЧАСТНИКИ!$A$2:$L$1099,9,FALSE) -> #N/A
A65: 2 | B65: =VLOOKUP($F65,УЧАСТНИКИ!$A$2:$L$1099,3,FALSE) -> #N/A | C65: =VLOOKUP($F65,УЧАСТНИКИ!$A$2:$L$1099,4,FALSE) -> #N/A | D65: =VLOOKUP($F65,УЧАСТНИКИ!$A$2:$L$1099,5,FALSE) -> #N/A | E65: =VLOOKUP($F65,УЧАСТНИКИ!$A$2:$L$1099,8,FALSE) -> #N/A | J65: =VLOOKUP($F65,УЧАСТНИКИ!$A$2:$L$1099,9,FALSE) -> #N/A
A66: 3 | B66: =VLOOKUP($F66,УЧАСТНИКИ!$A$2:$L$1099,3,FALSE) -> #N/A | C66: =VLOOKUP($F66,УЧАСТНИКИ!$A$2:$L$1099,4,FALSE) -> #N/A | D66: =VLOOKUP($F66,УЧАСТНИКИ!$A$2:$L$1099,5,FALSE) -> #N/A | E66: =VLOOKUP($F66,УЧАСТНИКИ!$A$2:$L$1099,8,FALSE) -> #N/A | J66: =VLOOKUP($F66,УЧАСТНИКИ!$A$2:$L$1099,9,FALSE) -> #N/A
A67: 4 | B67: =VLOOKUP($F67,УЧАСТНИКИ!$A$2:$L$1099,3,FALSE) -> #N/A | C67: =VLOOKUP($F67,УЧАСТНИКИ!$A$2:$L$1099,4,FALSE) -> #N/A | D67: =VLOOKUP($F67,УЧАСТНИКИ!$A$2:$L$1099,5,FALSE) -> #N/A | E67: =VLOOKUP($F67,УЧАСТНИКИ!$A$2:$L$1099,8,FALSE) -> #N/A | J67: =VLOOKUP($F67,УЧАСТНИКИ!$A$2:$L$1099,9,FALSE) -> #N/A
A68: 5 | B68: =VLOOKUP($F68,УЧАСТНИКИ!$A$2:$L$1099,3,FALSE) -> #N/A | C68: =VLOOKUP($F68,УЧАСТНИКИ!$A$2:$L$1099,4,FALSE) -> #N/A | D68: =VLOOKUP($F68,УЧАСТНИКИ!$A$2:$L$1099,5,FALSE) -> #N/A | E68: =VLOOKUP($F68,УЧАСТНИКИ!$A$2:$L$1099,8,FALSE) -> #N/A | J68: =VLOOKUP($F68,УЧАСТНИКИ!$A$2:$L$1099,9,FALSE) -> #N/A
A69: 6 | B69: =VLOOKUP($F69,УЧАСТНИКИ!$A$2:$L$1099,3,FALSE) -> #N/A | C69: =VLOOKUP($F69,УЧАСТНИКИ!$A$2:$L$1099,4,FALSE) -> #N/A | D69: =VLOOKUP($F69,УЧАСТНИКИ!$A$2:$L$1099,5,FALSE) -> #N/A | E69: =VLOOKUP($F69,УЧАСТНИКИ!$A$2:$L$1099,8,FALSE) -> #N/A | J69: =VLOOKUP($F69,УЧАСТНИКИ!$A$2:$L$1099,9,FALSE) -> #N/A
A70: 7 | B70: =VLOOKUP($F70,УЧАСТНИКИ!$A$2:$L$1099,3,FALSE) -> #N/A | C70: =VLOOKUP($F70,УЧАСТНИКИ!$A$2:$L$1099,4,FALSE) -> #N/A | D70: =VLOOKUP($F70,УЧАСТНИКИ!$A$2:$L$1099,5,FALSE) -> #N/A | E70: =VLOOKUP($F70,УЧАСТНИКИ!$A$2:$L$1099,8,FALSE) -> #N/A | J70: =VLOOKUP($F70,УЧАСТНИКИ!$A$2:$L$1099,9,FALSE) -> #N/A
A71: 8 | B71: =VLOOKUP($F71,УЧАСТНИКИ!$A$2:$L$1099,3,FALSE) -> #N/A | C71: =VLOOKUP($F71,УЧАСТНИКИ!$A$2:$L$1099,4,FALSE) -> #N/A | D71: =VLOOKUP($F71,УЧАСТНИКИ!$A$2:$L$1099,5,FALSE) -> #N/A | E71: =VLOOKUP($F71,УЧАСТНИКИ!$A$2:$L$1099,8,FALSE) -> #N/A | J71: =VLOOKUP($F71,УЧАСТНИКИ!$A$2:$L$1099,9,FALSE) -> #N/A
A74: Рефери по бегу:
A75: Ст.судья:
A76: Ст.хронометрист:
A77: Секретарь:

Sheet 20Ф-Ж
A1: =Name_2 -> ВСЕРОССИЙСКАЯ ФЕДЕРАЦИЯ ЛЕГКОЙ АТЛЕТИКИ
A2: СТАРТОВЫЙ ПРОТОКОЛ
A3: КУБОК РОССИИ
A4: ЖЕНЩИНЫ
A5: Бег 200 м
K6: РР- 21.87
B7: ФИНАЛЬНЫЙ ЗАБЕГ | C7: 12:55 | D7: =d_1 -> 28.05.2019г. | K7: =d_5 -> г. Сочи, ул. Бзугу 2, ст. им. Славы Метревели
A8: № п/п | B8: Фамилия, имя участника | C8: Дата рождения | D8: Территория | E8: Заявленный разряд | F8: Номер участника | G8: рез-тат забега | H8: приход | I8: Результат | J8: Место | K8: Примеч.
A10: 1 | B10: =VLOOKUP($F10,УЧАСТНИКИ!$A$2:$L$1099,3,FALSE) -> #N/A | C10: =VLOOKUP($F10,УЧАСТНИКИ!$A$2:$L$1099,4,FALSE) -> #N/A | D10: =VLOOKUP($F10,УЧАСТНИКИ!$A$2:$L$1099,5,FALSE) -> #N/A | E10: =VLOOKUP($F10,УЧАСТНИКИ!$A$2:$L$1099,8,FALSE) -> #N/A | K10: =VLOOKUP($F10,УЧАСТНИКИ!$A$2:$L$1099,9,FALSE) -> #N/A
A11: 2 | B11: =VLOOKUP($F11,УЧАСТНИКИ!$A$2:$L$1099,3,FALSE) -> #N/A | C11: =VLOOKUP($F11,УЧАСТНИКИ!$A$2:$L$1099,4,FALSE) -> #N/A | D11: =VLOOKUP($F11,УЧАСТНИКИ!$A$2:$L$1099,5,FALSE) -> #N/A | E11: =VLOOKUP($F11,УЧАСТНИКИ!$A$2:$L$1099,8,FALSE) -> #N/A | K11: =VLOOKUP($F11,УЧАСТНИКИ!$A$2:$L$1099,9,FALSE) -> #N/A
A12: 3 | B12: =VLOOKUP($F12,УЧАСТНИКИ!$A$2:$L$1099,3,FALSE) -> #N/A | C12: =VLOOKUP($F12,УЧАСТНИКИ!$A$2:$L$1099,4,FALSE) -> #N/A | D12: =VLOOKUP($F12,УЧАСТНИКИ!$A$2:$L$1099,5,FALSE) -> #N/A | E12: =VLOOKUP($F12,УЧАСТНИКИ!$A$2:$L$1099,8,FALSE) -> #N/A | K12: =VLOOKUP($F12,УЧАСТНИКИ!$A$2:$L$1099,9,FALSE) -> #N/A
A13: 4 | B13: =VLOOKUP($F13,УЧАСТНИКИ!$A$2:$L$1099,3,FALSE) -> #N/A | C13: =VLOOKUP($F13,УЧАСТНИКИ!$A$2:$L$1099,4,FALSE) -> #N/A | D13: =VLOOKUP($F13,УЧАСТНИКИ!$A$2:$L$1099,5,FALSE) -> #N/A | E13: =VLOOKUP($F13,УЧАСТНИКИ!$A$2:$L$1099,8,FALSE) -> #N/A | K13: =VLOOKUP($F13,УЧАСТНИКИ!$A$2:$L$1099,9,FALSE) -> #N/A
A14: 5 | B14: =VLOOKUP($F14,УЧАСТНИКИ!$A$2:$L$1099,3,FALSE) -> #N/A | C14: =VLOOKUP($F14,УЧАСТНИКИ!$A$2:$L$1099,4,FALSE) -> #N/A | D14: =VLOOKUP($F14,УЧАСТНИКИ!$A$2:$L$1099,5,FALSE) -> #N/A | E14: =VLOOKUP($F14,УЧАСТНИКИ!$A$2:$L$1099,8,FALSE) -> #N/A | K14: =VLOOKUP($F14,УЧАСТНИКИ!$A$2:$L$1099,9,FALSE) -> #N/A
A15: 6 | B15: =VLOOKUP($F15,УЧАСТНИКИ!$A$2:$L$1099,3,FALSE) -> #N/A | C15: =VLOOKUP($F15,УЧАСТНИКИ!$A$2:$L$1099,4,FALSE) -> #N/A | D15: =VLOOKUP($F15,УЧАСТНИКИ!$A$2:$L$1099,5,FALSE) -> #N/A | E15: =VLOOKUP($F15,УЧАСТНИКИ!$A$2:$L$1099,8,FALSE) -> #N/A | K15: =VLOOKUP($F15,УЧАСТНИКИ!$A$2:$L$1099,9,FALSE) -> #N/A
A16: 7 | B16: =VLOOKUP($F16,УЧАСТНИКИ!$A$2:$L$1099,3,FALSE) -> #N/A | C16: =VLOOKUP($F16,УЧАСТНИКИ!$A$2:$L$1099,4,FALSE) -> #N/A | D16: =VLOOKUP($F16,УЧАСТНИКИ!$A$2:$L$1099,5,FALSE) -> #N/A | E16: =VLOOKUP($F16,УЧАСТНИКИ!$A$2:$L$1099,8,FALSE) -> #N/A | K16: =VLOOKUP($F16,УЧАСТНИКИ!$A$2:$L$1099,9,FALSE) -> #N/A
A17: 8 | B17: =VLOOKUP($F17,УЧАСТНИКИ!$A$2:$L$1099,3,FALSE) -> #N/A | C17: =VLOOKUP($F17,УЧАСТНИКИ!$A$2:$L$1099,4,FALSE) -> #N/A | D17: =VLOOKUP($F17,УЧАСТНИКИ!$A$2:$L$1099,5,FALSE) -> #N/A | E17: =VLOOKUP($F17,УЧАСТНИКИ!$A$2:$L$1099,8,FALSE) -> #N/A | K17: =VLOOKUP($F17,УЧАСТНИКИ!$A$2:$L$1099,9,FALSE) -> #N/A
A20: Рефери по бегу:
A21: Ст.судья:
A22: Ст.хронометрист:
A23: Секретарь:

Sheet 40-Ж
A1: =Name_2 -> ВСЕРОССИЙСКАЯ ФЕДЕРАЦИЯ ЛЕГКОЙ АТЛЕТИКИ
A2: СТАРТОВЫЙ ПРОТОКОЛ
A3: КУБОК РОССИИ
A4: ЖЕНЩИНЫ
A5: Бег 400 м
J6: РР- 49.11
B7: ФИНАЛЬНЫЕ ЗАБЕГИ | C7: 16:10 | D7: =d_1 -> 28.05.2019г. | J7: =d_5 -> г. Сочи, ул. Бзугу 2, ст. им. Славы Метревели
A8: № п/п | B8: Фамилия, имя участника | C8: Дата рождения | D8: Территория | E8: Заявленный разряд | F8: Номер участника | G8: Приход | H8: Результат | I8: Место | J8: Примеч.
B9: 1 ЗАБЕГ
A10: 1
A11: 2 | B11: =VLOOKUP($F11,УЧАСТНИКИ!$A$2:$L$1099,3,FALSE) -> Миглан Мария | C11: =VLOOKUP($F11,УЧАСТНИКИ!$A$2:$L$1099,4,FALSE) -> 20.02.1997 | D11: =VLOOKUP($F11,УЧАСТНИКИ!$A$2:$L$1099,5,FALSE) -> Тюменская область | E11: =VLOOKUP($F11,УЧАСТНИКИ!$A$2:$L$1099,8,FALSE) -> КМС | F11: 92 | J11: =VLOOKUP($F11,УЧАСТНИКИ!$A$2:$L$1099,9,FALSE) -> К
A12: 3 | B12: =VLOOKUP($F12,УЧАСТНИКИ!$A$2:$L$1099,3,FALSE) -> Галацкова (Панасенко) Екатерина | C12: =VLOOKUP($F12,УЧАСТНИКИ!$A$2:$L$1099,4,FALSE) -> 06.01.1995 | D12: =VLOOKUP($F12,УЧАСТНИКИ!$A$2:$L$1099,5,FALSE) -> Ульяновская область | E12: =VLOOKUP($F12,УЧАСТНИКИ!$A$2:$L$1099,8,FALSE) -> КМС | F12: 194 | J12: =VLOOKUP($F12,УЧАСТНИКИ!$A$2:$L$1099,9,FALSE) -> К
A13: 4 | B13: =VLOOKUP($F13,УЧАСТНИКИ!$A$2:$L$1099,3,FALSE) -> Зуйкевич Елена | C13: =VLOOKUP($F13,УЧАСТНИКИ!$A$2:$L$1099,4,FALSE) -> 26.02.1990 | D13: =VLOOKUP($F13,УЧАСТНИКИ!$A$2:$L$1099,5,FALSE) -> Калининградская область Пермский край | E13: =VLOOKUP($F13,УЧАСТНИКИ!$A$2:$L$1099,8,FALSE) -> МС | F13: 49 | J13: =VLOOKUP($F13,УЧАСТНИКИ!$A$2:$L$1099,9,FALSE) -> К
A14: 5 | B14: =VLOOKUP($F14,УЧАСТНИКИ!$A$2:$L$1099,3,FALSE) -> Краснова Карина | C14: =VLOOKUP($F14,УЧАСТНИКИ!$A$2:$L$1099,4,FALSE) -> 09.07.2000 | D14: =VLOOKUP($F14,УЧАСТНИКИ!$A$2:$L$1099,5,FALSE) -> Московская область Тульская область | E14: =VLOOKUP($F14,УЧАСТНИКИ!$A$2:$L$1099,8,FALSE) -> КМС | F14: 458 | J14: =VLOOKUP($F14,УЧАСТНИКИ!$A$2:$L$1099,9,FALSE) -> л
A15: 6 | B15: =VLOOKUP($F15,УЧАСТНИКИ!$A$2:$L$1099,3,FALSE) -> Палиенко Ольга | C15: =VLOOKUP($F15,УЧАСТНИКИ!$A$2:$L$1099,4,FALSE) -> 21.11.1995 | D15: =VLOOKUP($F15,УЧАСТНИКИ!$A$2:$L$1099,5,FALSE) -> Новосибирская область | E15: =VLOOKUP($F15,УЧАСТНИКИ!$A$2:$L$1099,8,FALSE) -> КМС | F15: 424 | J15: =VLOOKUP($F15,УЧАСТНИКИ!$A$2:$L$1099,9,FALSE) -> К
A16: 7 | B16: =VLOOKUP($F16,УЧАСТНИКИ!$A$2:$L$1099,3,FALSE) -> Еремеева Анастасия | C16: =VLOOKUP($F16,УЧАСТНИКИ!$A$2:$L$1099,4,FALSE) -> 01.03.1998 | D16: =VLOOKUP($F16,УЧАСТНИКИ!$A$2:$L$1099,5,FALSE) -> Московская область | E16: =VLOOKUP($F16,УЧАСТНИКИ!$A$2:$L$1099,8,FALSE) -> МС | F16: 447 | J16: =VLOOKUP($F16,УЧАСТНИКИ!$A$2:$L$1099,9,FALSE) -> л
A17: 8
B18: 2 ЗАБЕГ
A19: 1
A20: 2 | B20: =VLOOKUP($F20,УЧАСТНИКИ!$A$2:$L$1099,3,FALSE) -> Цаплина Валерия | C20: =VLOOKUP($F20,УЧАСТНИКИ!$A$2:$L$1099,4,FALSE) -> 19.02.1997 | D20: =VLOOKUP($F20,УЧАСТНИКИ!$A$2:$L$1099,5,FALSE) -> Кировская область Санкт-Петербург | E20: =VLOOKUP($F20,УЧАСТНИКИ!$A$2:$L$1099,8,FALSE) -> КМС | F20: 320 | J20: =VLOOKUP($F20,УЧАСТНИКИ!$A$2:$L$1099,9,FALSE) -> л
A21: 3 | B21: =VLOOKUP($F21,УЧАСТНИКИ!$A$2:$L$1099,3,FALSE) -> Глотова Яна | C21: =VLOOKUP($F21,УЧАСТНИКИ!$A$2:$L$1099,4,FALSE) -> 17.01.1995 | D21: =VLOOKUP($F21,УЧАСТНИКИ!$A$2:$L$1099,5,FALSE) -> Московская область Липецкая область | E21: =VLOOKUP($F21,УЧАСТНИКИ!$A$2:$L$1099,8,FALSE) -> МС | F21: 120 | J21: =VLOOKUP($F21,УЧАСТНИКИ!$A$2:$L$1099,9,FALSE) -> Л
A22: 4 | B22: =VLOOKUP($F22,УЧАСТНИКИ!$A$2:$L$1099,3,FALSE) -> Мамина (Тамкова) Алена | C22: =VLOOKUP($F22,УЧАСТНИКИ!$A$2:$L$1099,4,FALSE) -> 30.05.1990 | D22: =VLOOKUP($F22,УЧАСТНИКИ!$A$2:$L$1099,5,FALSE) -> Московская область Свердловская область | E22: =VLOOKUP($F22,УЧАСТНИКИ!$A$2:$L$1099,8,FALSE) -> МСМК | F22: 71 | J22: =VLOOKUP($F22,УЧАСТНИКИ!$A$2:$L$1099,9,FALSE) -> К
A23: 5 | B23: =VLOOKUP($F23,УЧАСТНИКИ!$A$2:$L$1099,3,FALSE) -> Аксенова (Усталова) Ксения | C23: =VLOOKUP($F23,УЧАСТНИКИ!$A$2:$L$1099,4,FALSE) -> 14.01.1988 | D23: =VLOOKUP($F23,УЧАСТНИКИ!$A$2:$L$1099,5,FALSE) -> Свердловская область Ямало-Ненецкий автономный округ | E23: =VLOOKUP($F23,УЧАСТНИКИ!$A$2:$L$1099,8,FALSE) -> ЗМС | F23: 62 | J23: =VLOOKUP($F23,УЧАСТНИКИ!$A$2:$L$1099,9,FALSE) -> К
A24: 6 | B24: =VLOOKUP($F24,УЧАСТНИКИ!$A$2:$L$1099,3,FALSE) -> Габдуллина Дина | C24: =VLOOKUP($F24,УЧАСТНИКИ!$A$2:$L$1099,4,FALSE) -> 12.03.1995 | D24: =VLOOKUP($F24,УЧАСТНИКИ!$A$2:$L$1099,5,FALSE) -> Ямало-Ненецкий автономный округ | E24: =VLOOKUP($F24,УЧАСТНИКИ!$A$2:$L$1099,8,FALSE) -> КМС | F24: 249 | J24: =VLOOKUP($F24,УЧАСТНИКИ!$A$2:$L$1099,9,FALSE) -> К
A25: 7 | B25: =VLOOKUP($F25,УЧАСТНИКИ!$A$2:$L$1099,3,FALSE) -> Лебедева Александра | C25: =VLOOKUP($F25,УЧАСТНИКИ!$A$2:$L$1099,4,FALSE) -> 04.02.1996 | D25: =VLOOKUP($F25,УЧАСТНИКИ!$A$2:$L$1099,5,FALSE) -> Новосибирская область | E25: =VLOOKUP($F25,УЧАСТНИКИ!$A$2:$L$1099,8,FALSE) -> КМС | F25: 423 | J25: =VLOOKUP($F25,УЧАСТНИКИ!$A$2:$L$1099,9,FALSE) -> К
A26: 8
B27: 3 ЗАБЕГ
A28: 1
A29: 2 | B29: =VLOOKUP($F29,УЧАСТНИКИ!$A$2:$L$1099,3,FALSE) -> Рыбкина Анастасия | C29: =VLOOKUP($F29,УЧАСТНИКИ!$A$2:$L$1099,4,FALSE) -> 14.04.1999 | D29: =VLOOKUP($F29,УЧАСТНИКИ!$A$2:$L$1099,5,FALSE) -> Курская область | E29: =VLOOKUP($F29,УЧАСТНИКИ!$A$2:$L$1099,8,FALSE) -> КМС | F29: 188 | J29: =VLOOKUP($F29,УЧАСТНИКИ!$A$2:$L$1099,9,FALSE) -> К
A30: 3 | B30: =VLOOKUP($F30,УЧАСТНИКИ!$A$2:$L$1099,3,FALSE) -> Паренчук Лика | C30: =VLOOKUP($F30,УЧАСТНИКИ!$A$2:$L$1099,4,FALSE) -> 06.04.2002 | D30: =VLOOKUP($F30,УЧАСТНИКИ!$A$2:$L$1099,5,FALSE) -> Алтайский край | E30: =VLOOKUP($F30,УЧАСТНИКИ!$A$2:$L$1099,8,FALSE) -> КМС | F30: 20 | J30: =VLOOKUP($F30,УЧАСТНИКИ!$A$2:$L$1099,9,FALSE) -> К
A31: 4 | B31: =VLOOKUP($F31,УЧАСТНИКИ!$A$2:$L$1099,3,FALSE) -> Котлярова Надежда | C31: =VLOOKUP($F31,УЧАСТНИКИ!$A$2:$L$1099,4,FALSE) -> 12.06.1989 | D31: =VLOOKUP($F31,УЧАСТНИКИ!$A$2:$L$1099,5,FALSE) -> Москва Республика Карелия | E31: =VLOOKUP($F31,УЧАСТНИКИ!$A$2:$L$1099,8,FALSE) -> МСМК | F31: 482 | J31: =VLOOKUP($F31,УЧАСТНИКИ!$A$2:$L$1099,9,FALSE) -> К
A32: 5 | B32: =VLOOKUP($F32,УЧАСТНИКИ!$A$2:$L$1099,3,FALSE) -> Алымова Вера | C32: =VLOOKUP($F32,УЧАСТНИКИ!$A$2:$L$1099,4,FALSE) -> 24.11.1995 | D32: =VLOOKUP($F32,УЧАСТНИКИ!$A$2:$L$1099,5,FALSE) -> Санкт-Петербург Брянская область | E32: =VLOOKUP($F32,УЧАСТНИКИ!$A$2:$L$1099,8,FALSE) -> МС | F32: 29 | J32: =VLOOKUP($F32,УЧАСТНИКИ!$A$2:$L$1099,9,FALSE) -> К
A33: 6 | B33: =VLOOKUP($F33,УЧАСТНИКИ!$A$2:$L$1099,3,FALSE) -> Брагина Анастасия | C33: =VLOOKUP($F33,УЧАСТНИКИ!$A$2:$L$1099,4,FALSE) -> 01.06.1998 | D33: =VLOOKUP($F33,УЧАСТНИКИ!$A$2:$L$1099,5,FALSE) -> Новосибирская область | E33: =VLOOKUP($F33,УЧАСТНИКИ!$A$2:$L$1099,8,FALSE) -> МС | F33: 421 | J33: =VLOOKUP($F33,УЧАСТНИКИ!$A$2:$L$1099,9,FALSE) -> К
A34: 7 | B34: =VLOOKUP($F34,УЧАСТНИКИ!$A$2:$L$1099,3,FALSE) -> Завьялова Яника | C34: =VLOOKUP($F34,УЧАСТНИКИ!$A$2:$L$1099,4,FALSE) -> 12.10.1996 | D34: =VLOOKUP($F34,УЧАСТНИКИ!$A$2:$L$1099,5,FALSE) -> Свердловская область Ханты-Мансийский автономный округ - Югра | E34: =VLOOKUP($F34,УЧАСТНИКИ!$A$2:$L$1099,8,FALSE) -> КМС | F34: 68 | J34: =VLOOKUP($F34,УЧАСТНИКИ!$A$2:$L$1099,9,FALSE) -> К
A35: 8 | B35: =VLOOKUP($F35,УЧАСТНИКИ!$A$2:$L$1099,3,FALSE) -> Гудожникова Екатерина | C35: =VLOOKUP($F35,УЧАСТНИКИ!$A$2:$L$1099,4,FALSE) -> 28.10.2000 | D35: =VLOOKUP($F35,УЧАСТНИКИ!$A$2:$L$1099,5,FALSE) -> Омская область | E35: =VLOOKUP($F35,УЧАСТНИКИ!$A$2:$L$1099,8,FALSE) -> 2 | F35: 112 | J35: =VLOOKUP($F35,УЧАСТНИКИ!$A$2:$L$1099,9,FALSE) -> К
B36: 4 ЗАБЕГ
A37: 1
A38: 2 | B38: =VLOOKUP($F38,УЧАСТНИКИ!$A$2:$L$1099,3,FALSE) -> Богомолова Инесса | C38: =VLOOKUP($F38,УЧАСТНИКИ!$A$2:$L$1099,4,FALSE) -> 24.06.1997 | D38: =VLOOKUP($F38,УЧАСТНИКИ!$A$2:$L$1099,5,FALSE) -> Новосибирская область | E38: =VLOOKUP($F38,УЧАСТНИКИ!$A$2:$L$1099,8,FALSE) -> КМС | F38: 420 | J38: =VLOOKUP($F38,УЧАСТНИКИ!$A$2:$L$1099,9,FALSE) -> К
A39: 3 | B39: =VLOOKUP($F39,УЧАСТНИКИ!$A$2:$L$1099,3,FALSE) -> Бочарова Виктория | C39: =VLOOKUP($F39,УЧАСТНИКИ!$A$2:$L$1099,4,FALSE) -> 01.02.1995 | D39: =VLOOKUP($F39,УЧАСТНИКИ!$A$2:$L$1099,5,FALSE) -> Москва | E39: =VLOOKUP($F39,УЧАСТНИКИ!$A$2:$L$1099,8,FALSE) -> КМС | F39: 334 | J39: =VLOOKUP($F39,УЧАСТНИКИ!$A$2:$L$1099,9,FALSE) -> Л
A40: 4 | B40: =VLOOKUP($F40,УЧАСТНИКИ!$A$2:$L$1099,3,FALSE) -> Жданова Анастасия | C40: =VLOOKUP($F40,УЧАСТНИКИ!$A$2:$L$1099,4,FALSE) -> 15.04.1994 | D40: =VLOOKUP($F40,УЧАСТНИКИ!$A$2:$L$1099,5,FALSE) -> Свердловская область | E40: =VLOOKUP($F40,УЧАСТНИКИ!$A$2:$L$1099,8,FALSE) -> МС | F40: 67 | J40: =VLOOKUP($F40,УЧАСТНИКИ!$A$2:$L$1099,9,FALSE) -> К
A41: 5 | B41: =VLOOKUP($F41,УЧАСТНИКИ!$A$2:$L$1099,3,FALSE) -> Такунцева Ирина | C41: =VLOOKUP($F41,УЧАСТНИКИ!$A$2:$L$1099,4,FALSE) -> 14.11.1990 | D41: =VLOOKUP($F41,УЧАСТНИКИ!$A$2:$L$1099,5,FALSE) -> Свердловская область Курганская область | E41: =VLOOKUP($F41,УЧАСТНИКИ!$A$2:$L$1099,8,FALSE) -> МС | F41: 48 | J41: =VLOOKUP($F41,УЧАСТНИКИ!$A$2:$L$1099,9,FALSE) -> К
A42: 6 | B42: =VLOOKUP($F42,УЧАСТНИКИ!$A$2:$L$1099,3,FALSE) -> Семёнова Любовь | C42: =VLOOKUP($F42,УЧАСТНИКИ!$A$2:$L$1099,4,FALSE) -> 22.04.1989 | D42: =VLOOKUP($F42,УЧАСТНИКИ!$A$2:$L$1099,5,FALSE) -> Санкт-Петербург | E42: =VLOOKUP($F42,УЧАСТНИКИ!$A$2:$L$1099,8,FALSE) -> МС | F42: 307 | J42: =VLOOKUP($F42,УЧАСТНИКИ!$A$2:$L$1099,9,FALSE) -> л
A43: 7 | B43: =VLOOKUP($F43,УЧАСТНИКИ!$A$2:$L$1099,3,FALSE) -> Кузминчук Олеся | C43: =VLOOKUP($F43,УЧАСТНИКИ!$A$2:$L$1099,4,FALSE) -> 04.12.1998 | D43: =VLOOKUP($F43,УЧАСТНИКИ!$A$2:$L$1099,5,FALSE) -> Санкт-Петербург | E43: =VLOOKUP($F43,УЧАСТНИКИ!$A$2:$L$1099,8,FALSE) -> КМС | F43: 285 | J43: =VLOOKUP($F43,УЧАСТНИКИ!$A$2:$L$1099,9,FALSE) -> К
A44: 8 | B44: =VLOOKUP($F44,УЧАСТНИКИ!$A$2:$L$1099,3,FALSE) -> Емельянова Анастасия | C44: =VLOOKUP($F44,УЧАСТНИКИ!$A$2:$L$1099,4,FALSE) -> 17.06.1991 | D44: =VLOOKUP($F44,УЧАСТНИКИ!$A$2:$L$1099,5,FALSE) -> Москва | E44: =VLOOKUP($F44,УЧАСТНИКИ!$A$2:$L$1099,8,FALSE) -> МС | F44: 341 | J44: =VLOOKUP($F44,УЧАСТНИКИ!$A$2:$L$1099,9,FALSE) -> Л
B45: 5 ЗАБЕГ
A46: 1
A47: 2 | B47: =VLOOKUP($F47,УЧАСТНИКИ!$A$2:$L$1099,3,FALSE) -> Кравченко Марта | C47: =VLOOKUP($F47,УЧАСТНИКИ!$A$2:$L$1099,4,FALSE) -> 07.08.2000 | D47: =VLOOKUP($F47,УЧАСТНИКИ!$A$2:$L$1099,5,FALSE) -> Москва | E47: =VLOOKUP($F47,УЧАСТНИКИ!$A$2:$L$1099,8,FALSE) -> КМС | F47: 352 | J47: =VLOOKUP($F47,УЧАСТНИКИ!$A$2:$L$1099,9,FALSE) -> Л
A48: 3 | B48: =VLOOKUP($F48,УЧАСТНИКИ!$A$2:$L$1099,3,FALSE) -> Иванова Виктория | C48: =VLOOKUP($F48,УЧАСТНИКИ!$A$2:$L$1099,4,FALSE) -> 07.07.2000 | D48: =VLOOKUP($F48,УЧАСТНИКИ!$A$2:$L$1099,5,FALSE) -> Санкт-Петербург | E48: =VLOOKUP($F48,УЧАСТНИКИ!$A$2:$L$1099,8,FALSE) -> КМС | F48: 278 | J48: =VLOOKUP($F48,УЧАСТНИКИ!$A$2:$L$1099,9,FALSE) -> л
A49: 4 | B49: =VLOOKUP($F49,УЧАСТНИКИ!$A$2:$L$1099,3,FALSE) -> Купина Екатерина | C49: =VLOOKUP($F49,УЧАСТНИКИ!$A$2:$L$1099,4,FALSE) -> 02.02.1986 | D49: =VLOOKUP($F49,УЧАСТНИКИ!$A$2:$L$1099,5,FALSE) -> Курская область | E49: =VLOOKUP($F49,УЧАСТНИКИ!$A$2:$L$1099,8,FALSE) -> МСМК | F49: 186 | J49: =VLOOKUP($F49,УЧАСТНИКИ!$A$2:$L$1099,9,FALSE) -> К
A50: 5 | B50: =VLOOKUP($F50,УЧАСТНИКИ!$A$2:$L$1099,3,FALSE) -> Кондрашкина Юлия | C50: =VLOOKUP($F50,УЧАСТНИКИ!$A$2:$L$1099,4,FALSE) -> 10.08.1997 | D50: =VLOOKUP($F50,УЧАСТНИКИ!$A$2:$L$1099,5,FALSE) -> Краснодарский край | E50: =VLOOKUP($F50,УЧАСТНИКИ!$A$2:$L$1099,8,FALSE) -> МС | F50: 149 | J50: =VLOOKUP($F50,УЧАСТНИКИ!$A$2:$L$1099,9,FALSE) -> Л
A51: 6 | B51: =VLOOKUP($F51,УЧАСТНИКИ!$A$2:$L$1099,3,FALSE) -> Копрова Екатерина | C51: =VLOOKUP($F51,УЧАСТНИКИ!$A$2:$L$1099,4,FALSE) -> 07.02.1999 | D51: =VLOOKUP($F51,УЧАСТНИКИ!$A$2:$L$1099,5,FALSE) -> Санкт-Петербург | E51: =VLOOKUP($F51,УЧАСТНИКИ!$A$2:$L$1099,8,FALSE) -> КМС | F51: 283 | J51: =VLOOKUP($F51,УЧАСТНИКИ!$A$2:$L$1099,9,FALSE) -> л
A52: 7 | B52: =VLOOKUP($F52,УЧАСТНИКИ!$A$2:$L$1099,3,FALSE) -> Котельникова Елена | C52: =VLOOKUP($F52,УЧАСТНИКИ!$A$2:$L$1099,4,FALSE) -> 03.04.1997 | D52: =VLOOKUP($F52,УЧАСТНИКИ!$A$2:$L$1099,5,FALSE) -> Курская область | E52: =VLOOKUP($F52,УЧАСТНИКИ!$A$2:$L$1099,8,FALSE) -> КМС | F52: 187 | J52: =VLOOKUP($F52,УЧАСТНИКИ!$A$2:$L$1099,9,FALSE) -> К
A53: 8 | B53: =VLOOKUP($F53,УЧАСТНИКИ!$A$2:$L$1099,3,FALSE) -> Зимарева Ксения | C53: =VLOOKUP($F53,УЧАСТНИКИ!$A$2:$L$1099,4,FALSE) -> 11.11.1994 | D53: =VLOOKUP($F53,УЧАСТНИКИ!$A$2:$L$1099,5,FALSE) -> Московская область | E53: =VLOOKUP($F53,УЧАСТНИКИ!$A$2:$L$1099,8,FALSE) -> КМС | F53: 452 | J53: =VLOOKUP($F53,УЧАСТНИКИ!$A$2:$L$1099,9,FALSE) -> л
B54: 6 ЗАБЕГ
A55: 1 | B55: =VLOOKUP($F55,УЧАСТНИКИ!$A$2:$L$1099,3,FALSE) -> #N/A | C55: =VLOOKUP($F55,УЧАСТНИКИ!$A$2:$L$1099,4,FALSE) -> #N/A | D55: =VLOOKUP($F55,УЧАСТНИКИ!$A$2:$L$1099,5,FALSE) -> #N/A | E55: =VLOOKUP($F55,УЧАСТНИКИ!$A$2:$L$1099,8,FALSE) -> #N/A | J55: =VLOOKUP($F55,УЧАСТНИКИ!$A$2:$L$1099,9,FALSE) -> #N/A
A56: 2 | B56: =VLOOKUP($F56,УЧАСТНИКИ!$A$2:$L$1099,3,FALSE) -> #N/A | C56: =VLOOKUP($F56,УЧАСТНИКИ!$A$2:$L$1099,4,FALSE) -> #N/A | D56: =VLOOKUP($F56,УЧАСТНИКИ!$A$2:$L$1099,5,FALSE) -> #N/A | E56: =VLOOKUP($F56,УЧАСТНИКИ!$A$2:$L$1099,8,FALSE) -> #N/A | J56: =VLOOKUP($F56,УЧАСТНИКИ!$A$2:$L$1099,9,FALSE) -> #N/A
A57: 3 | B57: =VLOOKUP($F57,УЧАСТНИКИ!$A$2:$L$1099,3,FALSE) -> #N/A | C57: =VLOOKUP($F57,УЧАСТНИКИ!$A$2:$L$1099,4,FALSE) -> #N/A | D57: =VLOOKUP($F57,УЧАСТНИКИ!$A$2:$L$1099,5,FALSE) -> #N/A | E57: =VLOOKUP($F57,УЧАСТНИКИ!$A$2:$L$1099,8,FALSE) -> #N/A | J57: =VLOOKUP($F57,УЧАСТНИКИ!$A$2:$L$1099,9,FALSE) -> #N/A
A58: 4 | B58: =VLOOKUP($F58,УЧАСТНИКИ!$A$2:$L$1099,3,FALSE) -> #N/A | C58: =VLOOKUP($F58,УЧАСТНИКИ!$A$2:$L$1099,4,FALSE) -> #N/A | D58: =VLOOKUP($F58,УЧАСТНИКИ!$A$2:$L$1099,5,FALSE) -> #N/A | E58: =VLOOKUP($F58,УЧАСТНИКИ!$A$2:$L$1099,8,FALSE) -> #N/A | J58: =VLOOKUP($F58,УЧАСТНИКИ!$A$2:$L$1099,9,FALSE) -> #N/A
A59: 5 | B59: =VLOOKUP($F59,УЧАСТНИКИ!$A$2:$L$1099,3,FALSE) -> #N/A | C59: =VLOOKUP($F59,УЧАСТНИКИ!$A$2:$L$1099,4,FALSE) -> #N/A | D59: =VLOOKUP($F59,УЧАСТНИКИ!$A$2:$L$1099,5,FALSE) -> #N/A | E59: =VLOOKUP($F59,УЧАСТНИКИ!$A$2:$L$1099,8,FALSE) -> #N/A | J59: =VLOOKUP($F59,УЧАСТНИКИ!$A$2:$L$1099,9,FALSE) -> #N/A
A60: 6 | B60: =VLOOKUP($F60,УЧАСТНИКИ!$A$2:$L$1099,3,FALSE) -> #N/A | C60: =VLOOKUP($F60,УЧАСТНИКИ!$A$2:$L$1099,4,FALSE) -> #N/A | D60: =VLOOKUP($F60,УЧАСТНИКИ!$A$2:$L$1099,5,FALSE) -> #N/A | E60: =VLOOKUP($F60,УЧАСТНИКИ!$A$2:$L$1099,8,FALSE) -> #N/A | J60: =VLOOKUP($F60,УЧАСТНИКИ!$A$2:$L$1099,9,FALSE) -> #N/A
A61: 7 | B61: =VLOOKUP($F61,УЧАСТНИКИ!$A$2:$L$1099,3,FALSE) -> #N/A | C61: =VLOOKUP($F61,УЧАСТНИКИ!$A$2:$L$1099,4,FALSE) -> #N/A | D61: =VLOOKUP($F61,УЧАСТНИКИ!$A$2:$L$1099,5,FALSE) -> #N/A | E61: =VLOOKUP($F61,УЧАСТНИКИ!$A$2:$L$1099,8,FALSE) -> #N/A | J61: =VLOOKUP($F61,УЧАСТНИКИ!$A$2:$L$1099,9,FALSE) -> #N/A
A62: 8 | B62: =VLOOKUP($F62,УЧАСТНИКИ!$A$2:$L$1099,3,FALSE) -> #N/A | C62: =VLOOKUP($F62,УЧАСТНИКИ!$A$2:$L$1099,4,FALSE) -> #N/A | D62: =VLOOKUP($F62,УЧАСТНИКИ!$A$2:$L$1099,5,FALSE) -> #N/A | E62: =VLOOKUP($F62,УЧАСТНИКИ!$A$2:$L$1099,8,FALSE) -> #N/A | J62: =VLOOKUP($F62,УЧАСТНИКИ!$A$2:$L$1099,9,FALSE) -> #N/A
B63: 7 ЗАБЕГ
A64: 1 | B64: =VLOOKUP($F64,УЧАСТНИКИ!$A$2:$L$1099,3,FALSE) -> #N/A | C64: =VLOOKUP($F64,УЧАСТНИКИ!$A$2:$L$1099,4,FALSE) -> #N/A | D64: =VLOOKUP($F64,УЧАСТНИКИ!$A$2:$L$1099,5,FALSE) -> #N/A | E64: =VLOOKUP($F64,УЧАСТНИКИ!$A$2:$L$1099,8,FALSE) -> #N/A | J64: =VLOOKUP($F64,УЧАСТНИКИ!$A$2:$L$1099,9,FALSE) -> #N/A
A65: 2 | B65: =VLOOKUP($F65,УЧАСТНИКИ!$A$2:$L$1099,3,FALSE) -> #N/A | C65: =VLOOKUP($F65,УЧАСТНИКИ!$A$2:$L$1099,4,FALSE) -> #N/A | D65: =VLOOKUP($F65,УЧАСТНИКИ!$A$2:$L$1099,5,FALSE) -> #N/A | E65: =VLOOKUP($F65,УЧАСТНИКИ!$A$2:$L$1099,8,FALSE) -> #N/A | J65: =VLOOKUP($F65,УЧАСТНИКИ!$A$2:$L$1099,9,FALSE) -> #N/A
A66: 3 | B66: =VLOOKUP($F66,УЧАСТНИКИ!$A$2:$L$1099,3,FALSE) -> #N/A | C66: =VLOOKUP($F66,УЧАСТНИКИ!$A$2:$L$1099,4,FALSE) -> #N/A | D66: =VLOOKUP($F66,УЧАСТНИКИ!$A$2:$L$1099,5,FALSE) -> #N/A | E66: =VLOOKUP($F66,УЧАСТНИКИ!$A$2:$L$1099,8,FALSE) -> #N/A | J66: =VLOOKUP($F66,УЧАСТНИКИ!$A$2:$L$1099,9,FALSE) -> #N/A
A67: 4 | B67: =VLOOKUP($F67,УЧАСТНИКИ!$A$2:$L$1099,3,FALSE) -> #N/A | C67: =VLOOKUP($F67,УЧАСТНИКИ!$A$2:$L$1099,4,FALSE) -> #N/A | D67: =VLOOKUP($F67,УЧАСТНИКИ!$A$2:$L$1099,5,FALSE) -> #N/A | E67: =VLOOKUP($F67,УЧАСТНИКИ!$A$2:$L$1099,8,FALSE) -> #N/A | J67: =VLOOKUP($F67,УЧАСТНИКИ!$A$2:$L$1099,9,FALSE) -> #N/A
A68: 5 | B68: =VLOOKUP($F68,УЧАСТНИКИ!$A$2:$L$1099,3,FALSE) -> #N/A | C68: =VLOOKUP($F68,УЧАСТНИКИ!$A$2:$L$1099,4,FALSE) -> #N/A | D68: =VLOOKUP($F68,УЧАСТНИКИ!$A$2:$L$1099,5,FALSE) -> #N/A | E68: =VLOOKUP($F68,УЧАСТНИКИ!$A$2:$L$1099,8,FALSE) -> #N/A | J68: =VLOOKUP($F68,УЧАСТНИКИ!$A$2:$L$1099,9,FALSE) -> #N/A
A69: 6 | B69: =VLOOKUP($F69,УЧАСТНИКИ!$A$2:$L$1099,3,FALSE) -> #N/A | C69: =VLOOKUP($F69,УЧАСТНИКИ!$A$2:$L$1099,4,FALSE) -> #N/A | D69: =VLOOKUP($F69,УЧАСТНИКИ!$A$2:$L$1099,5,FALSE) -> #N/A | E69: =VLOOKUP($F69,УЧАСТНИКИ!$A$2:$L$1099,8,FALSE) -> #N/A | J69: =VLOOKUP($F69,УЧАСТНИКИ!$A$2:$L$1099,9,FALSE) -> #N/A
A70: 7 | B70: =VLOOKUP($F70,УЧАСТНИКИ!$A$2:$L$1099,3,FALSE) -> #N/A | C70: =VLOOKUP($F70,УЧАСТНИКИ!$A$2:$L$1099,4,FALSE) -> #N/A | D70: =VLOOKUP($F70,УЧАСТНИКИ!$A$2:$L$1099,5,FALSE) -> #N/A | E70: =VLOOKUP($F70,УЧАСТНИКИ!$A$2:$L$1099,8,FALSE) -> #N/A | J70: =VLOOKUP($F70,УЧАСТНИКИ!$A$2:$L$1099,9,FALSE) -> #N/A
A71: 8 | B71: =VLOOKUP($F71,УЧАСТНИКИ!$A$2:$L$1099,3,FALSE) -> #N/A | C71: =VLOOKUP($F71,УЧАСТНИКИ!$A$2:$L$1099,4,FALSE) -> #N/A | D71: =VLOOKUP($F71,УЧАСТНИКИ!$A$2:$L$1099,5,FALSE) -> #N/A | E71: =VLOOKUP($F71,УЧАСТНИКИ!$A$2:$L$1099,8,FALSE) -> #N/A | J71: =VLOOKUP($F71,УЧАСТНИКИ!$A$2:$L$1099,9,FALSE) -> #N/A
A74: Рефери по бегу:
A75: Ст.судья:
A76: Ст.хронометрист:
A77: Секретарь:

Sheet 80-Ж
A1: =Name_2 -> ВСЕРОССИЙСКАЯ ФЕДЕРАЦИЯ ЛЕГКОЙ АТЛЕТИКИ
A2: СТАРТОВЫЙ ПРОТОКОЛ
A3: КУБОК РОССИИ
A4: ЖЕНЩИНЫ
A5: Бег 800 м
J6: РР- 1:53.43
B7: ФИНАЛЬНЫЕ ЗАБЕГИ | C7: 12:55 | D7: =d_1 -> 28.05.2019г. | J7: =d_5 -> г. Сочи, ул. Бзугу 2, ст. им. Славы Метревели
A8: № п/п | B8: Фамилия, имя участника | C8: Дата рождения | D8: Территория | E8: Заявленный разряд | F8: Номер участника | G8: Приход | H8: Результат | I8: Место | J8: Примеч.
B9: 1 ЗАБЕГ
A10: 1 | B10: =VLOOKUP($F10,УЧАСТНИКИ!$A$2:$L$1099,3,FALSE) -> #N/A | C10: =VLOOKUP($F10,УЧАСТНИКИ!$A$2:$L$1099,4,FALSE) -> #N/A | D10: =VLOOKUP($F10,УЧАСТНИКИ!$A$2:$L$1099,5,FALSE) -> #N/A | E10: =VLOOKUP($F10,УЧАСТНИКИ!$A$2:$L$1099,8,FALSE) -> #N/A | J10: =VLOOKUP($F10,УЧАСТНИКИ!$A$2:$L$1099,9,FALSE) -> #N/A
A11: 2 | B11: =VLOOKUP($F11,УЧАСТНИКИ!$A$2:$L$1099,3,FALSE) -> #N/A | C11: =VLOOKUP($F11,УЧАСТНИКИ!$A$2:$L$1099,4,FALSE) -> #N/A | D11: =VLOOKUP($F11,УЧАСТНИКИ!$A$2:$L$1099,5,FALSE) -> #N/A | E11: =VLOOKUP($F11,УЧАСТНИКИ!$A$2:$L$1099,8,FALSE) -> #N/A | J11: =VLOOKUP($F11,УЧАСТНИКИ!$A$2:$L$1099,9,FALSE) -> #N/A
A12: 3 | B12: =VLOOKUP($F12,УЧАСТНИКИ!$A$2:$L$1099,3,FALSE) -> #N/A | C12: =VLOOKUP($F12,УЧАСТНИКИ!$A$2:$L$1099,4,FALSE) -> #N/A | D12: =VLOOKUP($F12,УЧАСТНИКИ!$A$2:$L$1099,5,FALSE) -> #N/A | E12: =VLOOKUP($F12,УЧАСТНИКИ!$A$2:$L$1099,8,FALSE) -> #N/A | J12: =VLOOKUP($F12,УЧАСТНИКИ!$A$2:$L$1099,9,FALSE) -> #N/A
A13: 4 | B13: =VLOOKUP($F13,УЧАСТНИКИ!$A$2:$L$1099,3,FALSE) -> #N/A | C13: =VLOOKUP($F13,УЧАСТНИКИ!$A$2:$L$1099,4,FALSE) -> #N/A | D13: =VLOOKUP($F13,УЧАСТНИКИ!$A$2:$L$1099,5,FALSE) -> #N/A | E13: =VLOOKUP($F13,УЧАСТНИКИ!$A$2:$L$1099,8,FALSE) -> #N/A | J13: =VLOOKUP($F13,УЧАСТНИКИ!$A$2:$L$1099,9,FALSE) -> #N/A
A14: 5 | B14: =VLOOKUP($F14,УЧАСТНИКИ!$A$2:$L$1099,3,FALSE) -> #N/A | C14: =VLOOKUP($F14,УЧАСТНИКИ!$A$2:$L$1099,4,FALSE) -> #N/A | D14: =VLOOKUP($F14,УЧАСТНИКИ!$A$2:$L$1099,5,FALSE) -> #N/A | E14: =VLOOKUP($F14,УЧАСТНИКИ!$A$2:$L$1099,8,FALSE) -> #N/A | J14: =VLOOKUP($F14,УЧАСТНИКИ!$A$2:$L$1099,9,FALSE) -> #N/A
A15: 6 | B15: =VLOOKUP($F15,УЧАСТНИКИ!$A$2:$L$1099,3,FALSE) -> #N/A | C15: =VLOOKUP($F15,УЧАСТНИКИ!$A$2:$L$1099,4,FALSE) -> #N/A | D15: =VLOOKUP($F15,УЧАСТНИКИ!$A$2:$L$1099,5,FALSE) -> #N/A | E15: =VLOOKUP($F15,УЧАСТНИКИ!$A$2:$L$1099,8,FALSE) -> #N/A | J15: =VLOOKUP($F15,УЧАСТНИКИ!$A$2:$L$1099,9,FALSE) -> #N/A
A16: 7 | B16: =VLOOKUP($F16,УЧАСТНИКИ!$A$2:$L$1099,3,FALSE) -> #N/A | C16: =VLOOKUP($F16,УЧАСТНИКИ!$A$2:$L$1099,4,FALSE) -> #N/A | D16: =VLOOKUP($F16,УЧАСТНИКИ!$A$2:$L$1099,5,FALSE) -> #N/A | E16: =VLOOKUP($F16,УЧАСТНИКИ!$A$2:$L$1099,8,FALSE) -> #N/A | J16: =VLOOKUP($F16,УЧАСТНИКИ!$A$2:$L$1099,9,FALSE) -> #N/A
A17: 8 | B17: =VLOOKUP($F17,УЧАСТНИКИ!$A$2:$L$1099,3,FALSE) -> #N/A | C17: =VLOOKUP($F17,УЧАСТНИКИ!$A$2:$L$1099,4,FALSE) -> #N/A | D17: =VLOOKUP($F17,УЧАСТНИКИ!$A$2:$L$1099,5,FALSE) -> #N/A | E17: =VLOOKUP($F17,УЧАСТНИКИ!$A$2:$L$1099,8,FALSE) -> #N/A | J17: =VLOOKUP($F17,УЧАСТНИКИ!$A$2:$L$1099,9,FALSE) -> #N/A
B18: 2 ЗАБЕГ
A19: 1 | B19: =VLOOKUP($F19,УЧАСТНИКИ!$A$2:$L$1099,3,FALSE) -> #N/A | C19: =VLOOKUP($F19,УЧАСТНИКИ!$A$2:$L$1099,4,FALSE) -> #N/A | D19: =VLOOKUP($F19,УЧАСТНИКИ!$A$2:$L$1099,5,FALSE) -> #N/A | E19: =VLOOKUP($F19,УЧАСТНИКИ!$A$2:$L$1099,8,FALSE) -> #N/A | J19: =VLOOKUP($F19,УЧАСТНИКИ!$A$2:$L$1099,9,FALSE) -> #N/A
A20: 2 | B20: =VLOOKUP($F20,УЧАСТНИКИ!$A$2:$L$1099,3,FALSE) -> #N/A | C20: =VLOOKUP($F20,УЧАСТНИКИ!$A$2:$L$1099,4,FALSE) -> #N/A | D20: =VLOOKUP($F20,УЧАСТНИКИ!$A$2:$L$1099,5,FALSE) -> #N/A | E20: =VLOOKUP($F20,УЧАСТНИКИ!$A$2:$L$1099,8,FALSE) -> #N/A | J20: =VLOOKUP($F20,УЧАСТНИКИ!$A$2:$L$1099,9,FALSE) -> #N/A
A21: 3 | B21: =VLOOKUP($F21,УЧАСТНИКИ!$A$2:$L$1099,3,FALSE) -> #N/A | C21: =VLOOKUP($F21,УЧАСТНИКИ!$A$2:$L$1099,4,FALSE) -> #N/A | D21: =VLOOKUP($F21,УЧАСТНИКИ!$A$2:$L$1099,5,FALSE) -> #N/A | E21: =VLOOKUP($F21,УЧАСТНИКИ!$A$2:$L$1099,8,FALSE) -> #N/A | J21: =VLOOKUP($F21,УЧАСТНИКИ!$A$2:$L$1099,9,FALSE) -> #N/A
A22: 4 | B22: =VLOOKUP($F22,УЧАСТНИКИ!$A$2:$L$1099,3,FALSE) -> #N/A | C22: =VLOOKUP($F22,УЧАСТНИКИ!$A$2:$L$1099,4,FALSE) -> #N/A | D22: =VLOOKUP($F22,УЧАСТНИКИ!$A$2:$L$1099,5,FALSE) -> #N/A | E22: =VLOOKUP($F22,УЧАСТНИКИ!$A$2:$L$1099,8,FALSE) -> #N/A | J22: =VLOOKUP($F22,УЧАСТНИКИ!$A$2:$L$1099,9,FALSE) -> #N/A
A23: 5 | B23: =VLOOKUP($F23,УЧАСТНИКИ!$A$2:$L$1099,3,FALSE) -> #N/A | C23: =VLOOKUP($F23,УЧАСТНИКИ!$A$2:$L$1099,4,FALSE) -> #N/A | D23: =VLOOKUP($F23,УЧАСТНИКИ!$A$2:$L$1099,5,FALSE) -> #N/A | E23: =VLOOKUP($F23,УЧАСТНИКИ!$A$2:$L$1099,8,FALSE) -> #N/A | J23: =VLOOKUP($F23,УЧАСТНИКИ!$A$2:$L$1099,9,FALSE) -> #N/A
A24: 6 | B24: =VLOOKUP($F24,УЧАСТНИКИ!$A$2:$L$1099,3,FALSE) -> #N/A | C24: =VLOOKUP($F24,УЧАСТНИКИ!$A$2:$L$1099,4,FALSE) -> #N/A | D24: =VLOOKUP($F24,УЧАСТНИКИ!$A$2:$L$1099,5,FALSE) -> #N/A | E24: =VLOOKUP($F24,УЧАСТНИКИ!$A$2:$L$1099,8,FALSE) -> #N/A | J24: =VLOOKUP($F24,УЧАСТНИКИ!$A$2:$L$1099,9,FALSE) -> #N/A
A25: 7 | B25: =VLOOKUP($F25,УЧАСТНИКИ!$A$2:$L$1099,3,FALSE) -> #N/A | C25: =VLOOKUP($F25,УЧАСТНИКИ!$A$2:$L$1099,4,FALSE) -> #N/A | D25: =VLOOKUP($F25,УЧАСТНИКИ!$A$2:$L$1099,5,FALSE) -> #N/A | E25: =VLOOKUP($F25,УЧАСТНИКИ!$A$2:$L$1099,8,FALSE) -> #N/A | J25: =VLOOKUP($F25,УЧАСТНИКИ!$A$2:$L$1099,9,FALSE) -> #N/A
A26: 8 | B26: =VLOOKUP($F26,УЧАСТНИКИ!$A$2:$L$1099,3,FALSE) -> #N/A | C26: =VLOOKUP($F26,УЧАСТНИКИ!$A$2:$L$1099,4,FALSE) -> #N/A | D26: =VLOOKUP($F26,УЧАСТНИКИ!$A$2:$L$1099,5,FALSE) -> #N/A | E26: =VLOOKUP($F26,УЧАСТНИКИ!$A$2:$L$1099,8,FALSE) -> #N/A | J26: =VLOOKUP($F26,УЧАСТНИКИ!$A$2:$L$1099,9,FALSE) -> #N/A
B27: 3 ЗАБЕГ
A28: 1 | B28: =VLOOKUP($F28,УЧАСТНИКИ!$A$2:$L$1099,3,FALSE) -> #N/A | C28: =VLOOKUP($F28,УЧАСТНИКИ!$A$2:$L$1099,4,FALSE) -> #N/A | D28: =VLOOKUP($F28,УЧАСТНИКИ!$A$2:$L$1099,5,FALSE) -> #N/A | E28: =VLOOKUP($F28,УЧАСТНИКИ!$A$2:$L$1099,8,FALSE) -> #N/A | J28: =VLOOKUP($F28,УЧАСТНИКИ!$A$2:$L$1099,9,FALSE) -> #N/A
A29: 2 | B29: =VLOOKUP($F29,УЧАСТНИКИ!$A$2:$L$1099,3,FALSE) -> #N/A | C29: =VLOOKUP($F29,УЧАСТНИКИ!$A$2:$L$1099,4,FALSE) -> #N/A | D29: =VLOOKUP($F29,УЧАСТНИКИ!$A$2:$L$1099,5,FALSE) -> #N/A | E29: =VLOOKUP($F29,УЧАСТНИКИ!$A$2:$L$1099,8,FALSE) -> #N/A | J29: =VLOOKUP($F29,УЧАСТНИКИ!$A$2:$L$1099,9,FALSE) -> #N/A
A30: 3 | B30: =VLOOKUP($F30,УЧАСТНИКИ!$A$2:$L$1099,3,FALSE) -> #N/A | C30: =VLOOKUP($F30,УЧАСТНИКИ!$A$2:$L$1099,4,FALSE) -> #N/A | D30: =VLOOKUP($F30,УЧАСТНИКИ!$A$2:$L$1099,5,FALSE) -> #N/A | E30: =VLOOKUP($F30,УЧАСТНИКИ!$A$2:$L$1099,8,FALSE) -> #N/A | J30: =VLOOKUP($F30,УЧАСТНИКИ!$A$2:$L$1099,9,FALSE) -> #N/A
A31: 4 | B31: =VLOOKUP($F31,УЧАСТНИКИ!$A$2:$L$1099,3,FALSE) -> #N/A | C31: =VLOOKUP($F31,УЧАСТНИКИ!$A$2:$L$1099,4,FALSE) -> #N/A | D31: =VLOOKUP($F31,УЧАСТНИКИ!$A$2:$L$1099,5,FALSE) -> #N/A | E31: =VLOOKUP($F31,УЧАСТНИКИ!$A$2:$L$1099,8,FALSE) -> #N/A | J31: =VLOOKUP($F31,УЧАСТНИКИ!$A$2:$L$1099,9,FALSE) -> #N/A
A32: 5 | B32: =VLOOKUP($F32,УЧАСТНИКИ!$A$2:$L$1099,3,FALSE) -> #N/A | C32: =VLOOKUP($F32,УЧАСТНИКИ!$A$2:$L$1099,4,FALSE) -> #N/A | D32: =VLOOKUP($F32,УЧАСТНИКИ!$A$2:$L$1099,5,FALSE) -> #N/A | E32: =VLOOKUP($F32,УЧАСТНИКИ!$A$2:$L$1099,8,FALSE) -> #N/A | J32: =VLOOKUP($F32,УЧАСТНИКИ!$A$2:$L$1099,9,FALSE) -> #N/A
A33: 6 | B33: =VLOOKUP($F33,УЧАСТНИКИ!$A$2:$L$1099,3,FALSE) -> #N/A | C33: =VLOOKUP($F33,УЧАСТНИКИ!$A$2:$L$1099,4,FALSE) -> #N/A | D33: =VLOOKUP($F33,УЧАСТНИКИ!$A$2:$L$1099,5,FALSE) -> #N/A | E33: =VLOOKUP($F33,УЧАСТНИКИ!$A$2:$L$1099,8,FALSE) -> #N/A | J33: =VLOOKUP($F33,УЧАСТНИКИ!$A$2:$L$1099,9,FALSE) -> #N/A
A34: 7 | B34: =VLOOKUP($F34,УЧАСТНИКИ!$A$2:$L$1099,3,FALSE) -> #N/A | C34: =VLOOKUP($F34,УЧАСТНИКИ!$A$2:$L$1099,4,FALSE) -> #N/A | D34: =VLOOKUP($F34,УЧАСТНИКИ!$A$2:$L$1099,5,FALSE) -> #N/A | E34: =VLOOKUP($F34,УЧАСТНИКИ!$A$2:$L$1099,8,FALSE) -> #N/A | J34: =VLOOKUP($F34,УЧАСТНИКИ!$A$2:$L$1099,9,FALSE) -> #N/A
A35: 8 | B35: =VLOOKUP($F35,УЧАСТНИКИ!$A$2:$L$1099,3,FALSE) -> #N/A | C35: =VLOOKUP($F35,УЧАСТНИКИ!$A$2:$L$1099,4,FALSE) -> #N/A | D35: =VLOOKUP($F35,УЧАСТНИКИ!$A$2:$L$1099,5,FALSE) -> #N/A | E35: =VLOOKUP($F35,УЧАСТНИКИ!$A$2:$L$1099,8,FALSE) -> #N/A | J35: =VLOOKUP($F35,УЧАСТНИКИ!$A$2:$L$1099,9,FALSE) -> #N/A
B36: 4 ЗАБЕГ
A37: 1 | B37: =VLOOKUP($F37,УЧАСТНИКИ!$A$2:$L$1099,3,FALSE) -> #N/A | C37: =VLOOKUP($F37,УЧАСТНИКИ!$A$2:$L$1099,4,FALSE) -> #N/A | D37: =VLOOKUP($F37,УЧАСТНИКИ!$A$2:$L$1099,5,FALSE) -> #N/A | E37: =VLOOKUP($F37,УЧАСТНИКИ!$A$2:$L$1099,8,FALSE) -> #N/A | J37: =VLOOKUP($F37,УЧАСТНИКИ!$A$2:$L$1099,9,FALSE) -> #N/A
A38: 2 | B38: =VLOOKUP($F38,УЧАСТНИКИ!$A$2:$L$1099,3,FALSE) -> #N/A | C38: =VLOOKUP($F38,УЧАСТНИКИ!$A$2:$L$1099,4,FALSE) -> #N/A | D38: =VLOOKUP($F38,УЧАСТНИКИ!$A$2:$L$1099,5,FALSE) -> #N/A | E38: =VLOOKUP($F38,УЧАСТНИКИ!$A$2:$L$1099,8,FALSE) -> #N/A | J38: =VLOOKUP($F38,УЧАСТНИКИ!$A$2:$L$1099,9,FALSE) -> #N/A
A39: 3 | B39: =VLOOKUP($F39,УЧАСТНИКИ!$A$2:$L$1099,3,FALSE) -> #N/A | C39: =VLOOKUP($F39,УЧАСТНИКИ!$A$2:$L$1099,4,FALSE) -> #N/A | D39: =VLOOKUP($F39,УЧАСТНИКИ!$A$2:$L$1099,5,FALSE) -> #N/A | E39: =VLOOKUP($F39,УЧАСТНИКИ!$A$2:$L$1099,8,FALSE) -> #N/A | J39: =VLOOKUP($F39,УЧАСТНИКИ!$A$2:$L$1099,9,FALSE) -> #N/A
A40: 4 | B40: =VLOOKUP($F40,УЧАСТНИКИ!$A$2:$L$1099,3,FALSE) -> #N/A | C40: =VLOOKUP($F40,УЧАСТНИКИ!$A$2:$L$1099,4,FALSE) -> #N/A | D40: =VLOOKUP($F40,УЧАСТНИКИ!$A$2:$L$1099,5,FALSE) -> #N/A | E40: =VLOOKUP($F40,УЧАСТНИКИ!$A$2:$L$1099,8,FALSE) -> #N/A | J40: =VLOOKUP($F40,УЧАСТНИКИ!$A$2:$L$1099,9,FALSE) -> #N/A
A41: 5 | B41: =VLOOKUP($F41,УЧАСТНИКИ!$A$2:$L$1099,3,FALSE) -> #N/A | C41: =VLOOKUP($F41,УЧАСТНИКИ!$A$2:$L$1099,4,FALSE) -> #N/A | D41: =VLOOKUP($F41,УЧАСТНИКИ!$A$2:$L$1099,5,FALSE) -> #N/A | E41: =VLOOKUP($F41,УЧАСТНИКИ!$A$2:$L$1099,8,FALSE) -> #N/A | J41: =VLOOKUP($F41,УЧАСТНИКИ!$A$2:$L$1099,9,FALSE) -> #N/A
A42: 6 | B42: =VLOOKUP($F42,УЧАСТНИКИ!$A$2:$L$1099,3,FALSE) -> #N/A | C42: =VLOOKUP($F42,УЧАСТНИКИ!$A$2:$L$1099,4,FALSE) -> #N/A | D42: =VLOOKUP($F42,УЧАСТНИКИ!$A$2:$L$1099,5,FALSE) -> #N/A | E42: =VLOOKUP($F42,УЧАСТНИКИ!$A$2:$L$1099,8,FALSE) -> #N/A | J42: =VLOOKUP($F42,УЧАСТНИКИ!$A$2:$L$1099,9,FALSE) -> #N/A
A43: 7 | B43: =VLOOKUP($F43,УЧАСТНИКИ!$A$2:$L$1099,3,FALSE) -> #N/A | C43: =VLOOKUP($F43,УЧАСТНИКИ!$A$2:$L$1099,4,FALSE) -> #N/A | D43: =VLOOKUP($F43,УЧАСТНИКИ!$A$2:$L$1099,5,FALSE) -> #N/A | E43: =VLOOKUP($F43,УЧАСТНИКИ!$A$2:$L$1099,8,FALSE) -> #N/A | J43: =VLOOKUP($F43,УЧАСТНИКИ!$A$2:$L$1099,9,FALSE) -> #N/A
A44: 8 | B44: =VLOOKUP($F44,УЧАСТНИКИ!$A$2:$L$1099,3,FALSE) -> #N/A | C44: =VLOOKUP($F44,УЧАСТНИКИ!$A$2:$L$1099,4,FALSE) -> #N/A | D44: =VLOOKUP($F44,УЧАСТНИКИ!$A$2:$L$1099,5,FALSE) -> #N/A | E44: =VLOOKUP($F44,УЧАСТНИКИ!$A$2:$L$1099,8,FALSE) -> #N/A | J44: =VLOOKUP($F44,УЧАСТНИКИ!$A$2:$L$1099,9,FALSE) -> #N/A
B45: 5 ЗАБЕГ
A46: 1 | B46: =VLOOKUP($F46,УЧАСТНИКИ!$A$2:$L$1099,3,FALSE) -> #N/A | C46: =VLOOKUP($F46,УЧАСТНИКИ!$A$2:$L$1099,4,FALSE) -> #N/A | D46: =VLOOKUP($F46,УЧАСТНИКИ!$A$2:$L$1099,5,FALSE) -> #N/A | E46: =VLOOKUP($F46,УЧАСТНИКИ!$A$2:$L$1099,8,FALSE) -> #N/A | J46: =VLOOKUP($F46,УЧАСТНИКИ!$A$2:$L$1099,9,FALSE) -> #N/A
A47: 2 | B47: =VLOOKUP($F47,УЧАСТНИКИ!$A$2:$L$1099,3,FALSE) -> #N/A | C47: =VLOOKUP($F47,УЧАСТНИКИ!$A$2:$L$1099,4,FALSE) -> #N/A | D47: =VLOOKUP($F47,УЧАСТНИКИ!$A$2:$L$1099,5,FALSE) -> #N/A | E47: =VLOOKUP($F47,УЧАСТНИКИ!$A$2:$L$1099,8,FALSE) -> #N/A | J47: =VLOOKUP($F47,УЧАСТНИКИ!$A$2:$L$1099,9,FALSE) -> #N/A
A48: 3 | B48: =VLOOKUP($F48,УЧАСТНИКИ!$A$2:$L$1099,3,FALSE) -> #N/A | C48: =VLOOKUP($F48,УЧАСТНИКИ!$A$2:$L$1099,4,FALSE) -> #N/A | D48: =VLOOKUP($F48,УЧАСТНИКИ!$A$2:$L$1099,5,FALSE) -> #N/A | E48: =VLOOKUP($F48,УЧАСТНИКИ!$A$2:$L$1099,8,FALSE) -> #N/A | J48: =VLOOKUP($F48,УЧАСТНИКИ!$A$2:$L$1099,9,FALSE) -> #N/A
A49: 4 | B49: =VLOOKUP($F49,УЧАСТНИКИ!$A$2:$L$1099,3,FALSE) -> #N/A | C49: =VLOOKUP($F49,УЧАСТНИКИ!$A$2:$L$1099,4,FALSE) -> #N/A | D49: =VLOOKUP($F49,УЧАСТНИКИ!$A$2:$L$1099,5,FALSE) -> #N/A | E49: =VLOOKUP($F49,УЧАСТНИКИ!$A$2:$L$1099,8,FALSE) -> #N/A | J49: =VLOOKUP($F49,УЧАСТНИКИ!$A$2:$L$1099,9,FALSE) -> #N/A
A50: 5 | B50: =VLOOKUP($F50,УЧАСТНИКИ!$A$2:$L$1099,3,FALSE) -> #N/A | C50: =VLOOKUP($F50,УЧАСТНИКИ!$A$2:$L$1099,4,FALSE) -> #N/A | D50: =VLOOKUP($F50,УЧАСТНИКИ!$A$2:$L$1099,5,FALSE) -> #N/A | E50: =VLOOKUP($F50,УЧАСТНИКИ!$A$2:$L$1099,8,FALSE) -> #N/A | J50: =VLOOKUP($F50,УЧАСТНИКИ!$A$2:$L$1099,9,FALSE) -> #N/A
A51: 6 | B51: =VLOOKUP($F51,УЧАСТНИКИ!$A$2:$L$1099,3,FALSE) -> #N/A | C51: =VLOOKUP($F51,УЧАСТНИКИ!$A$2:$L$1099,4,FALSE) -> #N/A | D51: =VLOOKUP($F51,УЧАСТНИКИ!$A$2:$L$1099,5,FALSE) -> #N/A | E51: =VLOOKUP($F51,УЧАСТНИКИ!$A$2:$L$1099,8,FALSE) -> #N/A | J51: =VLOOKUP($F51,УЧАСТНИКИ!$A$2:$L$1099,9,FALSE) -> #N/A
A52: 7 | B52: =VLOOKUP($F52,УЧАСТНИКИ!$A$2:$L$1099,3,FALSE) -> #N/A | C52: =VLOOKUP($F52,УЧАСТНИКИ!$A$2:$L$1099,4,FALSE) -> #N/A | D52: =VLOOKUP($F52,УЧАСТНИКИ!$A$2:$L$1099,5,FALSE) -> #N/A | E52: =VLOOKUP($F52,УЧАСТНИКИ!$A$2:$L$1099,8,FALSE) -> #N/A | J52: =VLOOKUP($F52,УЧАСТНИКИ!$A$2:$L$1099,9,FALSE) -> #N/A
A53: 8 | B53: =VLOOKUP($F53,УЧАСТНИКИ!$A$2:$L$1099,3,FALSE) -> #N/A | C53: =VLOOKUP($F53,УЧАСТНИКИ!$A$2:$L$1099,4,FALSE) -> #N/A | D53: =VLOOKUP($F53,УЧАСТНИКИ!$A$2:$L$1099,5,FALSE) -> #N/A | E53: =VLOOKUP($F53,УЧАСТНИКИ!$A$2:$L$1099,8,FALSE) -> #N/A | J53: =VLOOKUP($F53,УЧАСТНИКИ!$A$2:$L$1099,9,FALSE) -> #N/A
B54: 6 ЗАБЕГ
A55: 1 | B55: =VLOOKUP($F55,УЧАСТНИКИ!$A$2:$L$1099,3,FALSE) -> #N/A | C55: =VLOOKUP($F55,УЧАСТНИКИ!$A$2:$L$1099,4,FALSE) -> #N/A | D55: =VLOOKUP($F55,УЧАСТНИКИ!$A$2:$L$1099,5,FALSE) -> #N/A | E55: =VLOOKUP($F55,УЧАСТНИКИ!$A$2:$L$1099,8,FALSE) -> #N/A | J55: =VLOOKUP($F55,УЧАСТНИКИ!$A$2:$L$1099,9,FALSE) -> #N/A
A56: 2 | B56: =VLOOKUP($F56,УЧАСТНИКИ!$A$2:$L$1099,3,FALSE) -> #N/A | C56: =VLOOKUP($F56,УЧАСТНИКИ!$A$2:$L$1099,4,FALSE) -> #N/A | D56: =VLOOKUP($F56,УЧАСТНИКИ!$A$2:$L$1099,5,FALSE) -> #N/A | E56: =VLOOKUP($F56,УЧАСТНИКИ!$A$2:$L$1099,8,FALSE) -> #N/A | J56: =VLOOKUP($F56,УЧАСТНИКИ!$A$2:$L$1099,9,FALSE) -> #N/A
A57: 3 | B57: =VLOOKUP($F57,УЧАСТНИКИ!$A$2:$L$1099,3,FALSE) -> #N/A | C57: =VLOOKUP($F57,УЧАСТНИКИ!$A$2:$L$1099,4,FALSE) -> #N/A | D57: =VLOOKUP($F57,УЧАСТНИКИ!$A$2:$L$1099,5,FALSE) -> #N/A | E57: =VLOOKUP($F57,УЧАСТНИКИ!$A$2:$L$1099,8,FALSE) -> #N/A | J57: =VLOOKUP($F57,УЧАСТНИКИ!$A$2:$L$1099,9,FALSE) -> #N/A
A58: 4 | B58: =VLOOKUP($F58,УЧАСТНИКИ!$A$2:$L$1099,3,FALSE) -> #N/A | C58: =VLOOKUP($F58,УЧАСТНИКИ!$A$2:$L$1099,4,FALSE) -> #N/A | D58: =VLOOKUP($F58,УЧАСТНИКИ!$A$2:$L$1099,5,FALSE) -> #N/A | E58: =VLOOKUP($F58,УЧАСТНИКИ!$A$2:$L$1099,8,FALSE) -> #N/A | J58: =VLOOKUP($F58,УЧАСТНИКИ!$A$2:$L$1099,9,FALSE) -> #N/A
A59: 5 | B59: =VLOOKUP($F59,УЧАСТНИКИ!$A$2:$L$1099,3,FALSE) -> #N/A | C59: =VLOOKUP($F59,УЧАСТНИКИ!$A$2:$L$1099,4,FALSE) -> #N/A | D59: =VLOOKUP($F59,УЧАСТНИКИ!$A$2:$L$1099,5,FALSE) -> #N/A | E59: =VLOOKUP($F59,УЧАСТНИКИ!$A$2:$L$1099,8,FALSE) -> #N/A | J59: =VLOOKUP($F59,УЧАСТНИКИ!$A$2:$L$1099,9,FALSE) -> #N/A
A60: 6 | B60: =VLOOKUP($F60,УЧАСТНИКИ!$A$2:$L$1099,3,FALSE) -> #N/A | C60: =VLOOKUP($F60,УЧАСТНИКИ!$A$2:$L$1099,4,FALSE) -> #N/A | D60: =VLOOKUP($F60,УЧАСТНИКИ!$A$2:$L$1099,5,FALSE) -> #N/A | E60: =VLOOKUP($F60,УЧАСТНИКИ!$A$2:$L$1099,8,FALSE) -> #N/A | J60: =VLOOKUP($F60,УЧАСТНИКИ!$A$2:$L$1099,9,FALSE) -> #N/A
A61: 7 | B61: =VLOOKUP($F61,УЧАСТНИКИ!$A$2:$L$1099,3,FALSE) -> #N/A | C61: =VLOOKUP($F61,УЧАСТНИКИ!$A$2:$L$1099,4,FALSE) -> #N/A | D61: =VLOOKUP($F61,УЧАСТНИКИ!$A$2:$L$1099,5,FALSE) -> #N/A | E61: =VLOOKUP($F61,УЧАСТНИКИ!$A$2:$L$1099,8,FALSE) -> #N/A | J61: =VLOOKUP($F61,УЧАСТНИКИ!$A$2:$L$1099,9,FALSE) -> #N/A
A62: 8 | B62: =VLOOKUP($F62,УЧАСТНИКИ!$A$2:$L$1099,3,FALSE) -> #N/A | C62: =VLOOKUP($F62,УЧАСТНИКИ!$A$2:$L$1099,4,FALSE) -> #N/A | D62: =VLOOKUP($F62,УЧАСТНИКИ!$A$2:$L$1099,5,FALSE) -> #N/A | E62: =VLOOKUP($F62,УЧАСТНИКИ!$A$2:$L$1099,8,FALSE) -> #N/A | J62: =VLOOKUP($F62,УЧАСТНИКИ!$A$2:$L$1099,9,FALSE) -> #N/A
A64: Рефери по бегу:
A65: Ст.судья:
A66: Ст.хронометрист:
A67: Секретарь:

Sheet 150-Ж
A1: =Name_2 -> ВСЕРОССИЙСКАЯ ФЕДЕРАЦИЯ ЛЕГКОЙ АТЛЕТИКИ
A2: СТАРТОВЫЙ ПРОТОКОЛ
A3: КУБОК РОССИИ
A4: ЖЕНЩИНЫ
A5: Бег 1500 м
J6: РР- 3:52.47
B7: ФИНАЛЬНЫЕ ЗАБЕГИ | C7: 18:00 | D7: =d_1 -> 28.05.2019г. | J7: =d_5 -> г. Сочи, ул. Бзугу 2, ст. им. Славы Метревели
A8: № п/п | B8: Фамилия, имя участника | C8: Дата рождения | D8: Территория | E8: Заявленный разряд | F8: Номер участника | G8: Приход | H8: Результат | I8: Место | J8: Примеч.
B9: 1 ЗАБЕГ
A10: 1 | B10: =VLOOKUP($F10,УЧАСТНИКИ!$A$2:$L$1099,3,FALSE) -> Беспалова Екатерина | C10: =VLOOKUP($F10,УЧАСТНИКИ!$A$2:$L$1099,4,FALSE) -> 21.11.1997 | D10: =VLOOKUP($F10,УЧАСТНИКИ!$A$2:$L$1099,5,FALSE) -> Москва Смоленская область | E10: =VLOOKUP($F10,УЧАСТНИКИ!$A$2:$L$1099,8,FALSE) -> КМС | F10: 332 | J10: =VLOOKUP($F10,УЧАСТНИКИ!$A$2:$L$1099,9,FALSE) -> Л
A11: 2 | B11: =VLOOKUP($F11,УЧАСТНИКИ!$A$2:$L$1099,3,FALSE) -> Большакова Дарья | C11: =VLOOKUP($F11,УЧАСТНИКИ!$A$2:$L$1099,4,FALSE) -> 24.07.1990 | D11: =VLOOKUP($F11,УЧАСТНИКИ!$A$2:$L$1099,5,FALSE) -> Санкт-Петербург | E11: =VLOOKUP($F11,УЧАСТНИКИ!$A$2:$L$1099,8,FALSE) -> МС | F11: 265 | J11: =VLOOKUP($F11,УЧАСТНИКИ!$A$2:$L$1099,9,FALSE) -> л
A12: 3 | B12: =VLOOKUP($F12,УЧАСТНИКИ!$A$2:$L$1099,3,FALSE) -> Купаева Анна | C12: =VLOOKUP($F12,УЧАСТНИКИ!$A$2:$L$1099,4,FALSE) -> 24.11.1990 | D12: =VLOOKUP($F12,УЧАСТНИКИ!$A$2:$L$1099,5,FALSE) -> Мурманская область | E12: =VLOOKUP($F12,УЧАСТНИКИ!$A$2:$L$1099,8,FALSE) -> МС | F12: 43 | J12: =VLOOKUP($F12,УЧАСТНИКИ!$A$2:$L$1099,9,FALSE) -> К
A13: 4 | B13: =VLOOKUP($F13,УЧАСТНИКИ!$A$2:$L$1099,3,FALSE) -> Лунева Элина | C13: =VLOOKUP($F13,УЧАСТНИКИ!$A$2:$L$1099,4,FALSE) -> 29.01.1997 | D13: =VLOOKUP($F13,УЧАСТНИКИ!$A$2:$L$1099,5,FALSE) -> Челябинская область | E13: =VLOOKUP($F13,УЧАСТНИКИ!$A$2:$L$1099,8,FALSE) -> КМС | F13: 57 | J13: =VLOOKUP($F13,УЧАСТНИКИ!$A$2:$L$1099,9,FALSE) -> К
A14: 5 | B14: =VLOOKUP($F14,УЧАСТНИКИ!$A$2:$L$1099,3,FALSE) -> Малышенок Виолетта | C14: =VLOOKUP($F14,УЧАСТНИКИ!$A$2:$L$1099,4,FALSE) -> 27.02.1996 | D14: =VLOOKUP($F14,УЧАСТНИКИ!$A$2:$L$1099,5,FALSE) -> ЮФО (К) | E14: =VLOOKUP($F14,УЧАСТНИКИ!$A$2:$L$1099,8,FALSE) -> 1 | F14: 434 | J14: =VLOOKUP($F14,УЧАСТНИКИ!$A$2:$L$1099,9,FALSE) -> К
A15: 6 | B15: =VLOOKUP($F15,УЧАСТНИКИ!$A$2:$L$1099,3,FALSE) -> Онуфриенко Ольга | C15: =VLOOKUP($F15,УЧАСТНИКИ!$A$2:$L$1099,4,FALSE) -> 08.03.1988 | D15: =VLOOKUP($F15,УЧАСТНИКИ!$A$2:$L$1099,5,FALSE) -> Нижегородская область | E15: =VLOOKUP($F15,УЧАСТНИКИ!$A$2:$L$1099,8,FALSE) -> МС | F15: 227 | J15: =VLOOKUP($F15,УЧАСТНИКИ!$A$2:$L$1099,9,FALSE) -> К
A16: 7 | B16: =VLOOKUP($F16,УЧАСТНИКИ!$A$2:$L$1099,3,FALSE) -> Паушкина Елена | C16: =VLOOKUP($F16,УЧАСТНИКИ!$A$2:$L$1099,4,FALSE) -> 08.11.1998 | D16: =VLOOKUP($F16,УЧАСТНИКИ!$A$2:$L$1099,5,FALSE) -> Московская область Хабаровский край | E16: =VLOOKUP($F16,УЧАСТНИКИ!$A$2:$L$1099,8,FALSE) -> КМС | F16: 463 | J16: =VLOOKUP($F16,УЧАСТНИКИ!$A$2:$L$1099,9,FALSE) -> л
A17: 8 | B17: =VLOOKUP($F17,УЧАСТНИКИ!$A$2:$L$1099,3,FALSE) -> Самуйлова Екатерина | C17: =VLOOKUP($F17,УЧАСТНИКИ!$A$2:$L$1099,4,FALSE) -> 05.11.1999 | D17: =VLOOKUP($F17,УЧАСТНИКИ!$A$2:$L$1099,5,FALSE) -> Москва Тверская область | E17: =VLOOKUP($F17,УЧАСТНИКИ!$A$2:$L$1099,8,FALSE) -> КМС | F17: 365 | J17: =VLOOKUP($F17,УЧАСТНИКИ!$A$2:$L$1099,9,FALSE) -> К
A18: 9 | B18: =VLOOKUP($F18,УЧАСТНИКИ!$A$2:$L$1099,3,FALSE) -> Суханова Ольга | C18: =VLOOKUP($F18,УЧАСТНИКИ!$A$2:$L$1099,4,FALSE) -> 27.12.1996 | D18: =VLOOKUP($F18,УЧАСТНИКИ!$A$2:$L$1099,5,FALSE) -> Ямало-Ненецкий автономный округ Чувашская республика | E18: =VLOOKUP($F18,УЧАСТНИКИ!$A$2:$L$1099,8,FALSE) -> КМС | F18: 253 | J18: =VLOOKUP($F18,УЧАСТНИКИ!$A$2:$L$1099,9,FALSE) -> К
A19: 10 | B19: =VLOOKUP($F19,УЧАСТНИКИ!$A$2:$L$1099,3,FALSE) -> #N/A | C19: =VLOOKUP($F19,УЧАСТНИКИ!$A$2:$L$1099,4,FALSE) -> #N/A | D19: =VLOOKUP($F19,УЧАСТНИКИ!$A$2:$L$1099,5,FALSE) -> #N/A | E19: =VLOOKUP($F19,УЧАСТНИКИ!$A$2:$L$1099,8,FALSE) -> #N/A | J19: =VLOOKUP($F19,УЧАСТНИКИ!$A$2:$L$1099,9,FALSE) -> #N/A
A20: 11 | B20: =VLOOKUP($F20,УЧАСТНИКИ!$A$2:$L$1099,3,FALSE) -> #N/A | C20: =VLOOKUP($F20,УЧАСТНИКИ!$A$2:$L$1099,4,FALSE) -> #N/A | D20: =VLOOKUP($F20,УЧАСТНИКИ!$A$2:$L$1099,5,FALSE) -> #N/A | E20: =VLOOKUP($F20,УЧАСТНИКИ!$A$2:$L$1099,8,FALSE) -> #N/A | J20: =VLOOKUP($F20,УЧАСТНИКИ!$A$2:$L$1099,9,FALSE) -> #N/A
A21: 12 | B21: =VLOOKUP($F21,УЧАСТНИКИ!$A$2:$L$1099,3,FALSE) -> #N/A | C21: =VLOOKUP($F21,УЧАСТНИКИ!$A$2:$L$1099,4,FALSE) -> #N/A | D21: =VLOOKUP($F21,УЧАСТНИКИ!$A$2:$L$1099,5,FALSE) -> #N/A | E21: =VLOOKUP($F21,УЧАСТНИКИ!$A$2:$L$1099,8,FALSE) -> #N/A | J21: =VLOOKUP($F21,УЧАСТНИКИ!$A$2:$L$1099,9,FALSE) -> #N/A
A22: 13 | B22: =VLOOKUP($F22,УЧАСТНИКИ!$A$2:$L$1099,3,FALSE) -> #N/A | C22: =VLOOKUP($F22,УЧАСТНИКИ!$A$2:$L$1099,4,FALSE) -> #N/A | D22: =VLOOKUP($F22,УЧАСТНИКИ!$A$2:$L$1099,5,FALSE) -> #N/A | E22: =VLOOKUP($F22,УЧАСТНИКИ!$A$2:$L$1099,8,FALSE) -> #N/A | J22: =VLOOKUP($F22,УЧАСТНИКИ!$A$2:$L$1099,9,FALSE) -> #N/A
A23: 14 | B23: =VLOOKUP($F23,УЧАСТНИКИ!$A$2:$L$1099,3,FALSE) -> #N/A | C23: =VLOOKUP($F23,УЧАСТНИКИ!$A$2:$L$1099,4,FALSE) -> #N/A | D23: =VLOOKUP($F23,УЧАСТНИКИ!$A$2:$L$1099,5,FALSE) -> #N/A | E23: =VLOOKUP($F23,УЧАСТНИКИ!$A$2:$L$1099,8,FALSE) -> #N/A | J23: =VLOOKUP($F23,УЧАСТНИКИ!$A$2:$L$1099,9,FALSE) -> #N/A
A24: 15 | B24: =VLOOKUP($F24,УЧАСТНИКИ!$A$2:$L$1099,3,FALSE) -> #N/A | C24: =VLOOKUP($F24,УЧАСТНИКИ!$A$2:$L$1099,4,FALSE) -> #N/A | D24: =VLOOKUP($F24,УЧАСТНИКИ!$A$2:$L$1099,5,FALSE) -> #N/A | E24: =VLOOKUP($F24,УЧАСТНИКИ!$A$2:$L$1099,8,FALSE) -> #N/A | J24: =VLOOKUP($F24,УЧАСТНИКИ!$A$2:$L$1099,9,FALSE) -> #N/A
A25: 16 | B25: =VLOOKUP($F25,УЧАСТНИКИ!$A$2:$L$1099,3,FALSE) -> #N/A | C25: =VLOOKUP($F25,УЧАСТНИКИ!$A$2:$L$1099,4,FALSE) -> #N/A | D25: =VLOOKUP($F25,УЧАСТНИКИ!$A$2:$L$1099,5,FALSE) -> #N/A | E25: =VLOOKUP($F25,УЧАСТНИКИ!$A$2:$L$1099,8,FALSE) -> #N/A | J25: =VLOOKUP($F25,УЧАСТНИКИ!$A$2:$L$1099,9,FALSE) -> #N/A
B26: 2 ЗАБЕГ
A27: 1 | B27: =VLOOKUP($F27,УЧАСТНИКИ!$A$2:$L$1099,3,FALSE) -> Шухтуева Алена | C27: =VLOOKUP($F27,УЧАСТНИКИ!$A$2:$L$1099,4,FALSE) -> 07.12.1993 | D27: =VLOOKUP($F27,УЧАСТНИКИ!$A$2:$L$1099,5,FALSE) -> Республика Башкортостан | E27: =VLOOKUP($F27,УЧАСТНИКИ!$A$2:$L$1099,8,FALSE) -> МС | F27: 204 | J27: =VLOOKUP($F27,УЧАСТНИКИ!$A$2:$L$1099,9,FALSE) -> К
A28: 2 | B28: =VLOOKUP($F28,УЧАСТНИКИ!$A$2:$L$1099,3,FALSE) -> Князева Анна | C28: =VLOOKUP($F28,УЧАСТНИКИ!$A$2:$L$1099,4,FALSE) -> 20.03.1989 | D28: =VLOOKUP($F28,УЧАСТНИКИ!$A$2:$L$1099,5,FALSE) -> Свердловская область | E28: =VLOOKUP($F28,УЧАСТНИКИ!$A$2:$L$1099,8,FALSE) -> МС | F28: 69 | J28: =VLOOKUP($F28,УЧАСТНИКИ!$A$2:$L$1099,9,FALSE) -> К
A29: 3 | B29: =VLOOKUP($F29,УЧАСТНИКИ!$A$2:$L$1099,3,FALSE) -> Павленко Любовь | C29: =VLOOKUP($F29,УЧАСТНИКИ!$A$2:$L$1099,4,FALSE) -> 16.09.1997 | D29: =VLOOKUP($F29,УЧАСТНИКИ!$A$2:$L$1099,5,FALSE) -> Санкт-Петербург Тамбовская область | E29: =VLOOKUP($F29,УЧАСТНИКИ!$A$2:$L$1099,8,FALSE) -> КМС | F29: 292 | J29: =VLOOKUP($F29,УЧАСТНИКИ!$A$2:$L$1099,9,FALSE) -> л
A30: 4 | B30: =VLOOKUP($F30,УЧАСТНИКИ!$A$2:$L$1099,3,FALSE) -> Соколова Екатерина | C30: =VLOOKUP($F30,УЧАСТНИКИ!$A$2:$L$1099,4,FALSE) -> 16.12.1995 | D30: =VLOOKUP($F30,УЧАСТНИКИ!$A$2:$L$1099,5,FALSE) -> Московская область Брянская область | E30: =VLOOKUP($F30,УЧАСТНИКИ!$A$2:$L$1099,8,FALSE) -> МС | F30: 41 | J30: =VLOOKUP($F30,УЧАСТНИКИ!$A$2:$L$1099,9,FALSE) -> К
A31: 5 | B31: =VLOOKUP($F31,УЧАСТНИКИ!$A$2:$L$1099,3,FALSE) -> Сторожева (Шаповалова) Екатерина | C31: =VLOOKUP($F31,УЧАСТНИКИ!$A$2:$L$1099,4,FALSE) -> 22.01.1993 | D31: =VLOOKUP($F31,УЧАСТНИКИ!$A$2:$L$1099,5,FALSE) -> Московская область Санкт-Петербург | E31: =VLOOKUP($F31,УЧАСТНИКИ!$A$2:$L$1099,8,FALSE) -> МС | F31: 311 | J31: =VLOOKUP($F31,УЧАСТНИКИ!$A$2:$L$1099,9,FALSE) -> К
A32: 6 | B32: =VLOOKUP($F32,УЧАСТНИКИ!$A$2:$L$1099,3,FALSE) -> Шевченко Анжелика | C32: =VLOOKUP($F32,УЧАСТНИКИ!$A$2:$L$1099,4,FALSE) -> 29.10.1987 | D32: =VLOOKUP($F32,УЧАСТНИКИ!$A$2:$L$1099,5,FALSE) -> Санкт-Петербург | E32: =VLOOKUP($F32,УЧАСТНИКИ!$A$2:$L$1099,8,FALSE) -> МС | F32: 324 | J32: =VLOOKUP($F32,УЧАСТНИКИ!$A$2:$L$1099,9,FALSE) -> К
A33: 7 | B33: =VLOOKUP($F33,УЧАСТНИКИ!$A$2:$L$1099,3,FALSE) -> Мендаева Лилия | C33: =VLOOKUP($F33,УЧАСТНИКИ!$A$2:$L$1099,4,FALSE) -> 01.06.2000 | D33: =VLOOKUP($F33,УЧАСТНИКИ!$A$2:$L$1099,5,FALSE) -> Москва Ханты-Мансийский автономный округ - Югра | E33: =VLOOKUP($F33,УЧАСТНИКИ!$A$2:$L$1099,8,FALSE) -> КМС | F33: 360 | J33: =VLOOKUP($F33,УЧАСТНИКИ!$A$2:$L$1099,9,FALSE) -> Л
A34: 8 | B34: =VLOOKUP($F34,УЧАСТНИКИ!$A$2:$L$1099,3,FALSE) -> Ивонина Екатерина | C34: =VLOOKUP($F34,УЧАСТНИКИ!$A$2:$L$1099,4,FALSE) -> 14.06.1994 | D34: =VLOOKUP($F34,УЧАСТНИКИ!$A$2:$L$1099,5,FALSE) -> Московская область Пермский край | E34: =VLOOKUP($F34,УЧАСТНИКИ!$A$2:$L$1099,8,FALSE) -> МС | F34: 454 | J34: =VLOOKUP($F34,УЧАСТНИКИ!$A$2:$L$1099,9,FALSE) -> К
A35: 9 | B35: =VLOOKUP($F35,УЧАСТНИКИ!$A$2:$L$1099,3,FALSE) -> Аплачкина Светлана | C35: =VLOOKUP($F35,УЧАСТНИКИ!$A$2:$L$1099,4,FALSE) -> 28.11.1992 | D35: =VLOOKUP($F35,УЧАСТНИКИ!$A$2:$L$1099,5,FALSE) -> Воронежская область | E35: =VLOOKUP($F35,УЧАСТНИКИ!$A$2:$L$1099,8,FALSE) -> МС | F35: 390 | J35: =VLOOKUP($F35,УЧАСТНИКИ!$A$2:$L$1099,9,FALSE) -> К
A36: 10 | B36: =VLOOKUP($F36,УЧАСТНИКИ!$A$2:$L$1099,3,FALSE) -> Александрова Дина | C36: =VLOOKUP($F36,УЧАСТНИКИ!$A$2:$L$1099,4,FALSE) -> 09.08.1992 | D36: =VLOOKUP($F36,УЧАСТНИКИ!$A$2:$L$1099,5,FALSE) -> Курская область | E36: =VLOOKUP($F36,УЧАСТНИКИ!$A$2:$L$1099,8,FALSE) -> МС | F36: 192 | J36: =VLOOKUP($F36,УЧАСТНИКИ!$A$2:$L$1099,9,FALSE) -> К
A37: 11 | B37: =VLOOKUP($F37,УЧАСТНИКИ!$A$2:$L$1099,3,FALSE) -> #N/A | C37: =VLOOKUP($F37,УЧАСТНИКИ!$A$2:$L$1099,4,FALSE) -> #N/A | D37: =VLOOKUP($F37,УЧАСТНИКИ!$A$2:$L$1099,5,FALSE) -> #N/A | E37: =VLOOKUP($F37,УЧАСТНИКИ!$A$2:$L$1099,8,FALSE) -> #N/A | J37: =VLOOKUP($F37,УЧАСТНИКИ!$A$2:$L$1099,9,FALSE) -> #N/A
A38: 12 | B38: =VLOOKUP($F38,УЧАСТНИКИ!$A$2:$L$1099,3,FALSE) -> #N/A | C38: =VLOOKUP($F38,УЧАСТНИКИ!$A$2:$L$1099,4,FALSE) -> #N/A | D38: =VLOOKUP($F38,УЧАСТНИКИ!$A$2:$L$1099,5,FALSE) -> #N/A | E38: =VLOOKUP($F38,УЧАСТНИКИ!$A$2:$L$1099,8,FALSE) -> #N/A | J38: =VLOOKUP($F38,УЧАСТНИКИ!$A$2:$L$1099,9,FALSE) -> #N/A
A39: 13 | B39: =VLOOKUP($F39,УЧАСТНИКИ!$A$2:$L$1099,3,FALSE) -> #N/A | C39: =VLOOKUP($F39,УЧАСТНИКИ!$A$2:$L$1099,4,FALSE) -> #N/A | D39: =VLOOKUP($F39,УЧАСТНИКИ!$A$2:$L$1099,5,FALSE) -> #N/A | E39: =VLOOKUP($F39,УЧАСТНИКИ!$A$2:$L$1099,8,FALSE) -> #N/A | J39: =VLOOKUP($F39,УЧАСТНИКИ!$A$2:$L$1099,9,FALSE) -> #N/A
A40: 14 | B40: =VLOOKUP($F40,УЧАСТНИКИ!$A$2:$L$1099,3,FALSE) -> #N/A | C40: =VLOOKUP($F40,УЧАСТНИКИ!$A$2:$L$1099,4,FALSE) -> #N/A | D40: =VLOOKUP($F40,УЧАСТНИКИ!$A$2:$L$1099,5,FALSE) -> #N/A | E40: =VLOOKUP($F40,УЧАСТНИКИ!$A$2:$L$1099,8,FALSE) -> #N/A | J40: =VLOOKUP($F40,УЧАСТНИКИ!$A$2:$L$1099,9,FALSE) -> #N/A
A41: 15 | B41: =VLOOKUP($F41,УЧАСТНИКИ!$A$2:$L$1099,3,FALSE) -> #N/A | C41: =VLOOKUP($F41,УЧАСТНИКИ!$A$2:$L$1099,4,FALSE) -> #N/A | D41: =VLOOKUP($F41,УЧАСТНИКИ!$A$2:$L$1099,5,FALSE) -> #N/A | E41: =VLOOKUP($F41,УЧАСТНИКИ!$A$2:$L$1099,8,FALSE) -> #N/A | J41: =VLOOKUP($F41,УЧАСТНИКИ!$A$2:$L$1099,9,FALSE) -> #N/A
A42: 16 | B42: =VLOOKUP($F42,УЧАСТНИКИ!$A$2:$L$1099,3,FALSE) -> #N/A | C42: =VLOOKUP($F42,УЧАСТНИКИ!$A$2:$L$1099,4,FALSE) -> #N/A | D42: =VLOOKUP($F42,УЧАСТНИКИ!$A$2:$L$1099,5,FALSE) -> #N/A | E42: =VLOOKUP($F42,УЧАСТНИКИ!$A$2:$L$1099,8,FALSE) -> #N/A | J42: =VLOOKUP($F42,УЧАСТНИКИ!$A$2:$L$1099,9,FALSE) -> #N/A
A45: Рефери по бегу:
A46: Ст.судья:
A47: Ст.хронометрист:
A48: Секретарь:

Sheet 500-Ж
A1: =Name_2 -> ВСЕРОССИЙСКАЯ ФЕДЕРАЦИЯ ЛЕГКОЙ АТЛЕТИКИ
A2: СТАРТОВЫЙ ПРОТОКОЛ
A3: КУБОК РОССИИ
A4: ЖЕНЩИНЫ
A5: Бег 5000 м
J6: РР- 14:22.34
B7: ФИНАЛЬНЫЕ ЗАБЕГИ | C7: 12:55 | D7: =d_1 -> 28.05.2019г. | J7: =d_5 -> г. Сочи, ул. Бзугу 2, ст. им. Славы Метревели
A8: № п/п | B8: Фамилия, имя участника | C8: Дата рождения | D8: Территория | E8: Заявленный разряд | F8: Номер участника | G8: Приход | H8: Результат | I8: Место | J8: Примеч.
B9: 1 ЗАБЕГ
A10: 1 | B10: =VLOOKUP($F10,УЧАСТНИКИ!$A$2:$L$1099,3,FALSE) -> #N/A | C10: =VLOOKUP($F10,УЧАСТНИКИ!$A$2:$L$1099,4,FALSE) -> #N/A | D10: =VLOOKUP($F10,УЧАСТНИКИ!$A$2:$L$1099,5,FALSE) -> #N/A | E10: =VLOOKUP($F10,УЧАСТНИКИ!$A$2:$L$1099,8,FALSE) -> #N/A | J10: =VLOOKUP($F10,УЧАСТНИКИ!$A$2:$L$1099,9,FALSE) -> #N/A
A11: 2 | B11: =VLOOKUP($F11,УЧАСТНИКИ!$A$2:$L$1099,3,FALSE) -> #N/A | C11: =VLOOKUP($F11,УЧАСТНИКИ!$A$2:$L$1099,4,FALSE) -> #N/A | D11: =VLOOKUP($F11,УЧАСТНИКИ!$A$2:$L$1099,5,FALSE) -> #N/A | E11: =VLOOKUP($F11,УЧАСТНИКИ!$A$2:$L$1099,8,FALSE) -> #N/A | J11: =VLOOKUP($F11,УЧАСТНИКИ!$A$2:$L$1099,9,FALSE) -> #N/A
A12: 3 | B12: =VLOOKUP($F12,УЧАСТНИКИ!$A$2:$L$1099,3,FALSE) -> #N/A | C12: =VLOOKUP($F12,УЧАСТНИКИ!$A$2:$L$1099,4,FALSE) -> #N/A | D12: =VLOOKUP($F12,УЧАСТНИКИ!$A$2:$L$1099,5,FALSE) -> #N/A | E12: =VLOOKUP($F12,УЧАСТНИКИ!$A$2:$L$1099,8,FALSE) -> #N/A | J12: =VLOOKUP($F12,УЧАСТНИКИ!$A$2:$L$1099,9,FALSE) -> #N/A
A13: 4 | B13: =VLOOKUP($F13,УЧАСТНИКИ!$A$2:$L$1099,3,FALSE) -> #N/A | C13: =VLOOKUP($F13,УЧАСТНИКИ!$A$2:$L$1099,4,FALSE) -> #N/A | D13: =VLOOKUP($F13,УЧАСТНИКИ!$A$2:$L$1099,5,FALSE) -> #N/A | E13: =VLOOKUP($F13,УЧАСТНИКИ!$A$2:$L$1099,8,FALSE) -> #N/A | J13: =VLOOKUP($F13,УЧАСТНИКИ!$A$2:$L$1099,9,FALSE) -> #N/A
A14: 5 | B14: =VLOOKUP($F14,УЧАСТНИКИ!$A$2:$L$1099,3,FALSE) -> #N/A | C14: =VLOOKUP($F14,УЧАСТНИКИ!$A$2:$L$1099,4,FALSE) -> #N/A | D14: =VLOOKUP($F14,УЧАСТНИКИ!$A$2:$L$1099,5,FALSE) -> #N/A | E14: =VLOOKUP($F14,УЧАСТНИКИ!$A$2:$L$1099,8,FALSE) -> #N/A | J14: =VLOOKUP($F14,УЧАСТНИКИ!$A$2:$L$1099,9,FALSE) -> #N/A
A15: 6 | B15: =VLOOKUP($F15,УЧАСТНИКИ!$A$2:$L$1099,3,FALSE) -> #N/A | C15: =VLOOKUP($F15,УЧАСТНИКИ!$A$2:$L$1099,4,FALSE) -> #N/A | D15: =VLOOKUP($F15,УЧАСТНИКИ!$A$2:$L$1099,5,FALSE) -> #N/A | E15: =VLOOKUP($F15,УЧАСТНИКИ!$A$2:$L$1099,8,FALSE) -> #N/A | J15: =VLOOKUP($F15,УЧАСТНИКИ!$A$2:$L$1099,9,FALSE) -> #N/A
A16: 7 | B16: =VLOOKUP($F16,УЧАСТНИКИ!$A$2:$L$1099,3,FALSE) -> #N/A | C16: =VLOOKUP($F16,УЧАСТНИКИ!$A$2:$L$1099,4,FALSE) -> #N/A | D16: =VLOOKUP($F16,УЧАСТНИКИ!$A$2:$L$1099,5,FALSE) -> #N/A | E16: =VLOOKUP($F16,УЧАСТНИКИ!$A$2:$L$1099,8,FALSE) -> #N/A | J16: =VLOOKUP($F16,УЧАСТНИКИ!$A$2:$L$1099,9,FALSE) -> #N/A
A17: 8 | B17: =VLOOKUP($F17,УЧАСТНИКИ!$A$2:$L$1099,3,FALSE) -> #N/A | C17: =VLOOKUP($F17,УЧАСТНИКИ!$A$2:$L$1099,4,FALSE) -> #N/A | D17: =VLOOKUP($F17,УЧАСТНИКИ!$A$2:$L$1099,5,FALSE) -> #N/A | E17: =VLOOKUP($F17,УЧАСТНИКИ!$A$2:$L$1099,8,FALSE) -> #N/A | J17: =VLOOKUP($F17,УЧАСТНИКИ!$A$2:$L$1099,9,FALSE) -> #N/A
A18: 9 | B18: =VLOOKUP($F18,УЧАСТНИКИ!$A$2:$L$1099,3,FALSE) -> #N/A | C18: =VLOOKUP($F18,УЧАСТНИКИ!$A$2:$L$1099,4,FALSE) -> #N/A | D18: =VLOOKUP($F18,УЧАСТНИКИ!$A$2:$L$1099,5,FALSE) -> #N/A | E18: =VLOOKUP($F18,УЧАСТНИКИ!$A$2:$L$1099,8,FALSE) -> #N/A | J18: =VLOOKUP($F18,УЧАСТНИКИ!$A$2:$L$1099,9,FALSE) -> #N/A
A19: 10 | B19: =VLOOKUP($F19,УЧАСТНИКИ!$A$2:$L$1099,3,FALSE) -> #N/A | C19: =VLOOKUP($F19,УЧАСТНИКИ!$A$2:$L$1099,4,FALSE) -> #N/A | D19: =VLOOKUP($F19,УЧАСТНИКИ!$A$2:$L$1099,5,FALSE) -> #N/A | E19: =VLOOKUP($F19,УЧАСТНИКИ!$A$2:$L$1099,8,FALSE) -> #N/A | J19: =VLOOKUP($F19,УЧАСТНИКИ!$A$2:$L$1099,9,FALSE) -> #N/A
A20: 11 | B20: =VLOOKUP($F20,УЧАСТНИКИ!$A$2:$L$1099,3,FALSE) -> #N/A | C20: =VLOOKUP($F20,УЧАСТНИКИ!$A$2:$L$1099,4,FALSE) -> #N/A | D20: =VLOOKUP($F20,УЧАСТНИКИ!$A$2:$L$1099,5,FALSE) -> #N/A | E20: =VLOOKUP($F20,УЧАСТНИКИ!$A$2:$L$1099,8,FALSE) -> #N/A | J20: =VLOOKUP($F20,УЧАСТНИКИ!$A$2:$L$1099,9,FALSE) -> #N/A
A21: 12 | B21: =VLOOKUP($F21,УЧАСТНИКИ!$A$2:$L$1099,3,FALSE) -> #N/A | C21: =VLOOKUP($F21,УЧАСТНИКИ!$A$2:$L$1099,4,FALSE) -> #N/A | D21: =VLOOKUP($F21,УЧАСТНИКИ!$A$2:$L$1099,5,FALSE) -> #N/A | E21: =VLOOKUP($F21,УЧАСТНИКИ!$A$2:$L$1099,8,FALSE) -> #N/A | J21: =VLOOKUP($F21,УЧАСТНИКИ!$A$2:$L$1099,9,FALSE) -> #N/A
... A23: 14 | B23: =VLOOKUP($F23,УЧАСТНИКИ!$A$2:$L$1099,3,FALSE) -> #N/A | C23: =VLOOKUP($F23,УЧАСТНИКИ!$A$2:$L$1099,4,FALSE) -> #N/A | D23: =VLOOKUP($F23,УЧАСТНИКИ!$A$2:$L$1099,5,FALSE) -> #N/A | E23: =VLOOKUP($F23,УЧАСТНИКИ!$A$2:$L$1099,8,FALSE) -> #N/A | J23: =VLOOKUP($F23,УЧАСТНИКИ!$A$2:$L$1099,9,FALSE) -> #N/A
A26: Рефери по бегу:
A27: Ст.судья:
A28: Ст.хронометрист:
A29: Секретарь:

Sheet 4х10-Ж
A1: =Name_2 -> ВСЕРОССИЙСКАЯ ФЕДЕРАЦИЯ ЛЕГКОЙ АТЛЕТИКИ
A2: СТАРТОВЫЙ ПРОТОКОЛ
A3: КУБОК РОССИИ
A4: ЖЕНЩИНЫ
A5: Эстафета 4 х 100 м
J6: РР- 41.49
B7: ФИНАЛЬНЫЕ ЗАБЕГИ | C7: 19:20 | D7: =d_1 -> 28.05.2019г. | J7: =d_5 -> г. Сочи, ул. Бзугу 2, ст. им. Славы Метревели
A8: № п/п | B8: Фамилия, имя участника | C8: Дата рождения | D8: Территория | E8: Заявленный разряд | F8: Номер участника | G8: Приход | H8: Результат | I8: Место | J8: Примеч.
B9: 1 ЗАБЕГ
A10: 1 | B10: =VLOOKUP($F10,УЧАСТНИКИ!$A$2:$L$1099,3,FALSE) -> #N/A | C10: =VLOOKUP($F10,УЧАСТНИКИ!$A$2:$L$1099,4,FALSE) -> #N/A | D10: =VLOOKUP($F10,УЧАСТНИКИ!$A$2:$L$1099,5,FALSE) -> #N/A | E10: =VLOOKUP($F10,УЧАСТНИКИ!$A$2:$L$1099,8,FALSE) -> #N/A | J10: =VLOOKUP($F10,УЧАСТНИКИ!$A$2:$L$1099,9,FALSE) -> #N/A
A11: 1 | B11: =VLOOKUP($F11,УЧАСТНИКИ!$A$2:$L$1099,3,FALSE) -> #N/A | C11: =VLOOKUP($F11,УЧАСТНИКИ!$A$2:$L$1099,4,FALSE) -> #N/A | D11: =VLOOKUP($F11,УЧАСТНИКИ!$A$2:$L$1099,5,FALSE) -> #N/A | E11: =VLOOKUP($F11,УЧАСТНИКИ!$A$2:$L$1099,8,FALSE) -> #N/A | J11: =VLOOKUP($F11,УЧАСТНИКИ!$A$2:$L$1099,9,FALSE) -> #N/A
A12: 1 | B12: =VLOOKUP($F12,УЧАСТНИКИ!$A$2:$L$1099,3,FALSE) -> #N/A | C12: =VLOOKUP($F12,УЧАСТНИКИ!$A$2:$L$1099,4,FALSE) -> #N/A | D12: =VLOOKUP($F12,УЧАСТНИКИ!$A$2:$L$1099,5,FALSE) -> #N/A | E12: =VLOOKUP($F12,УЧАСТНИКИ!$A$2:$L$1099,8,FALSE) -> #N/A | J12: =VLOOKUP($F12,УЧАСТНИКИ!$A$2:$L$1099,9,FALSE) -> #N/A
A13: 1 | B13: =VLOOKUP($F13,УЧАСТНИКИ!$A$2:$L$1099,3,FALSE) -> #N/A | C13: =VLOOKUP($F13,УЧАСТНИКИ!$A$2:$L$1099,4,FALSE) -> #N/A | D13: =VLOOKUP($F13,УЧАСТНИКИ!$A$2:$L$1099,5,FALSE) -> #N/A | E13: =VLOOKUP($F13,УЧАСТНИКИ!$A$2:$L$1099,8,FALSE) -> #N/A | J13: =VLOOKUP($F13,УЧАСТНИКИ!$A$2:$L$1099,9,FALSE) -> #N/A
A14: 1 | B14: =VLOOKUP($F14,УЧАСТНИКИ!$A$2:$L$1099,3,FALSE) -> #N/A | C14: =VLOOKUP($F14,УЧАСТНИКИ!$A$2:$L$1099,4,FALSE) -> #N/A | D14: =VLOOKUP($F14,УЧАСТНИКИ!$A$2:$L$1099,5,FALSE) -> #N/A | E14: =VLOOKUP($F14,УЧАСТНИКИ!$A$2:$L$1099,8,FALSE) -> #N/A | J14: =VLOOKUP($F14,УЧАСТНИКИ!$A$2:$L$1099,9,FALSE) -> #N/A
A15: 1 | B15: =VLOOKUP($F15,УЧАСТНИКИ!$A$2:$L$1099,3,FALSE) -> #N/A | C15: =VLOOKUP($F15,УЧАСТНИКИ!$A$2:$L$1099,4,FALSE) -> #N/A | D15: =VLOOKUP($F15,УЧАСТНИКИ!$A$2:$L$1099,5,FALSE) -> #N/A | E15: =VLOOKUP($F15,УЧАСТНИКИ!$A$2:$L$1099,8,FALSE) -> #N/A | J15: =VLOOKUP($F15,УЧАСТНИКИ!$A$2:$L$1099,9,FALSE) -> #N/A
A17: 2 | B17: =VLOOKUP($F17,УЧАСТНИКИ!$A$2:$L$1099,3,FALSE) -> #N/A | C17: =VLOOKUP($F17,УЧАСТНИКИ!$A$2:$L$1099,4,FALSE) -> #N/A | D17: =VLOOKUP($F17,УЧАСТНИКИ!$A$2:$L$1099,5,FALSE) -> #N/A | E17: =VLOOKUP($F17,УЧАСТНИКИ!$A$2:$L$1099,8,FALSE) -> #N/A | J17: =VLOOKUP($F17,УЧАСТНИКИ!$A$2:$L$1099,9,FALSE) -> #N/A
A18: 2 | B18: =VLOOKUP($F18,УЧАСТНИКИ!$A$2:$L$1099,3,FALSE) -> #N/A | C18: =VLOOKUP($F18,УЧАСТНИКИ!$A$2:$L$1099,4,FALSE) -> #N/A | D18: =VLOOKUP($F18,УЧАСТНИКИ!$A$2:$L$1099,5,FALSE) -> #N/A | E18: =VLOOKUP($F18,УЧАСТНИКИ!$A$2:$L$1099,8,FALSE) -> #N/A | J18: =VLOOKUP($F18,УЧАСТНИКИ!$A$2:$L$1099,9,FALSE) -> #N/A
A19: 2 | B19: =VLOOKUP($F19,УЧАСТНИКИ!$A$2:$L$1099,3,FALSE) -> #N/A | C19: =VLOOKUP($F19,УЧАСТНИКИ!$A$2:$L$1099,4,FALSE) -> #N/A | D19: =VLOOKUP($F19,УЧАСТНИКИ!$A$2:$L$1099,5,FALSE) -> #N/A | E19: =VLOOKUP($F19,УЧАСТНИКИ!$A$2:$L$1099,8,FALSE) -> #N/A | J19: =VLOOKUP($F19,УЧАСТНИКИ!$A$2:$L$1099,9,FALSE) -> #N/A
A20: 2 | B20: =VLOOKUP($F20,УЧАСТНИКИ!$A$2:$L$1099,3,FALSE) -> #N/A | C20: =VLOOKUP($F20,УЧАСТНИКИ!$A$2:$L$1099,4,FALSE) -> #N/A | D20: =VLOOKUP($F20,УЧАСТНИКИ!$A$2:$L$1099,5,FALSE) -> #N/A | E20: =VLOOKUP($F20,УЧАСТНИКИ!$A$2:$L$1099,8,FALSE) -> #N/A | J20: =VLOOKUP($F20,УЧАСТНИКИ!$A$2:$L$1099,9,FALSE) -> #N/A
A21: 2 | B21: =VLOOKUP($F21,УЧАСТНИКИ!$A$2:$L$1099,3,FALSE) -> #N/A | C21: =VLOOKUP($F21,УЧАСТНИКИ!$A$2:$L$1099,4,FALSE) -> #N/A | D21: =VLOOKUP($F21,УЧАСТНИКИ!$A$2:$L$1099,5,FALSE) -> #N/A | E21: =VLOOKUP($F21,УЧАСТНИКИ!$A$2:$L$1099,8,FALSE) -> #N/A | J21: =VLOOKUP($F21,УЧАСТНИКИ!$A$2:$L$1099,9,FALSE) -> #N/A
A22: 2 | B22: =VLOOKUP($F22,УЧАСТНИКИ!$A$2:$L$1099,3,FALSE) -> #N/A | C22: =VLOOKUP($F22,УЧАСТНИКИ!$A$2:$L$1099,4,FALSE) -> #N/A | D22: =VLOOKUP($F22,УЧАСТНИКИ!$A$2:$L$1099,5,FALSE) -> #N/A | E22: =VLOOKUP($F22,УЧАСТНИКИ!$A$2:$L$1099,8,FALSE) -> #N/A | J22: =VLOOKUP($F22,УЧАСТНИКИ!$A$2:$L$1099,9,FALSE) -> #N/A
A24: 3 | B24: =VLOOKUP($F24,УЧАСТНИКИ!$A$2:$L$1099,3,FALSE) -> Блескина Екатерина | C24: =VLOOKUP($F24,УЧАСТНИКИ!$A$2:$L$1099,4,FALSE) -> 29.01.1993 | D24: =VLOOKUP($F24,УЧАСТНИКИ!$A$2:$L$1099,5,FALSE) -> Красноярский край Санкт-Петербург | E24: =VLOOKUP($F24,УЧАСТНИКИ!$A$2:$L$1099,8,FALSE) -> МС | F24: 99 | J24: =VLOOKUP($F24,УЧАСТНИКИ!$A$2:$L$1099,9,FALSE) -> К
A25: 3 | B25: =VLOOKUP($F25,УЧАСТНИКИ!$A$2:$L$1099,3,FALSE) -> Манакова (Решеткина) Ирина | C25: =VLOOKUP($F25,УЧАСТНИКИ!$A$2:$L$1099,4,FALSE) -> 30.01.1989 | D25: =VLOOKUP($F25,УЧАСТНИКИ!$A$2:$L$1099,5,FALSE) -> Москва Санкт-Петербург | E25: =VLOOKUP($F25,УЧАСТНИКИ!$A$2:$L$1099,8,FALSE) -> МС | F25: 288 | J25: =VLOOKUP($F25,УЧАСТНИКИ!$A$2:$L$1099,9,FALSE) -> к
A26: 3 | B26: =VLOOKUP($F26,УЧАСТНИКИ!$A$2:$L$1099,3,FALSE) -> Алисова Елизавета | C26: =VLOOKUP($F26,УЧАСТНИКИ!$A$2:$L$1099,4,FALSE) -> 21.06.2000 | D26: =VLOOKUP($F26,УЧАСТНИКИ!$A$2:$L$1099,5,FALSE) -> Санкт-Петербург Липецкая область | E26: =VLOOKUP($F26,УЧАСТНИКИ!$A$2:$L$1099,8,FALSE) -> КМС | F26: 258 | J26: =VLOOKUP($F26,УЧАСТНИКИ!$A$2:$L$1099,9,FALSE) -> Л
A27: 3 | B27: =VLOOKUP($F27,УЧАСТНИКИ!$A$2:$L$1099,3,FALSE) -> Черняева (Козлова) Елена | C27: =VLOOKUP($F27,УЧАСТНИКИ!$A$2:$L$1099,4,FALSE) -> 19.09.1988 | D27: =VLOOKUP($F27,УЧАСТНИКИ!$A$2:$L$1099,5,FALSE) -> Санкт-Петербург Вологодская область | E27: =VLOOKUP($F27,УЧАСТНИКИ!$A$2:$L$1099,8,FALSE) -> МС | F27: 322 | J27: =VLOOKUP($F27,УЧАСТНИКИ!$A$2:$L$1099,9,FALSE) -> К
A28: 3 | B28: =VLOOKUP($F28,УЧАСТНИКИ!$A$2:$L$1099,3,FALSE) -> Григорьева Анастасия | C28: =VLOOKUP($F28,УЧАСТНИКИ!$A$2:$L$1099,4,FALSE) -> 07.11.1993 | D28: =VLOOKUP($F28,УЧАСТНИКИ!$A$2:$L$1099,5,FALSE) -> Санкт-Петербург | E28: =VLOOKUP($F28,УЧАСТНИКИ!$A$2:$L$1099,8,FALSE) -> МС | F28: 272 | J28: =VLOOKUP($F28,УЧАСТНИКИ!$A$2:$L$1099,9,FALSE) -> К
A29: 3 | B29: =VLOOKUP($F29,УЧАСТНИКИ!$A$2:$L$1099,3,FALSE) -> Громова Валерия | C29: =VLOOKUP($F29,УЧАСТНИКИ!$A$2:$L$1099,4,FALSE) -> 08.04.2000 | D29: =VLOOKUP($F29,УЧАСТНИКИ!$A$2:$L$1099,5,FALSE) -> Санкт-Петербург | E29: =VLOOKUP($F29,УЧАСТНИКИ!$A$2:$L$1099,8,FALSE) -> КМС | F29: 273 | J29: =VLOOKUP($F29,УЧАСТНИКИ!$A$2:$L$1099,9,FALSE) -> Л
A31: 4 | B31: =VLOOKUP($F31,УЧАСТНИКИ!$A$2:$L$1099,3,FALSE) -> Сластникова Тамара | C31: =VLOOKUP($F31,УЧАСТНИКИ!$A$2:$L$1099,4,FALSE) -> 21.05.1993 | D31: =VLOOKUP($F31,УЧАСТНИКИ!$A$2:$L$1099,5,FALSE) -> Новосибирская область | E31: =VLOOKUP($F31,УЧАСТНИКИ!$A$2:$L$1099,8,FALSE) -> МС | F31: 427 | J31: =VLOOKUP($F31,УЧАСТНИКИ!$A$2:$L$1099,9,FALSE) -> К
A32: 4 | B32: =VLOOKUP($F32,УЧАСТНИКИ!$A$2:$L$1099,3,FALSE) -> Брагина Анастасия | C32: =VLOOKUP($F32,УЧАСТНИКИ!$A$2:$L$1099,4,FALSE) -> 01.06.1998 | D32: =VLOOKUP($F32,УЧАСТНИКИ!$A$2:$L$1099,5,FALSE) -> Новосибирская область | E32: =VLOOKUP($F32,УЧАСТНИКИ!$A$2:$L$1099,8,FALSE) -> МС | F32: 421 | J32: =VLOOKUP($F32,УЧАСТНИКИ!$A$2:$L$1099,9,FALSE) -> К
A33: 4 | B33: =VLOOKUP($F33,УЧАСТНИКИ!$A$2:$L$1099,3,FALSE) -> Печёнкина Вероника | C33: =VLOOKUP($F33,УЧАСТНИКИ!$A$2:$L$1099,4,FALSE) -> 31.08.1997 | D33: =VLOOKUP($F33,УЧАСТНИКИ!$A$2:$L$1099,5,FALSE) -> Новосибирская область | E33: =VLOOKUP($F33,УЧАСТНИКИ!$A$2:$L$1099,8,FALSE) -> МС | F33: 425 | J33: =VLOOKUP($F33,УЧАСТНИКИ!$A$2:$L$1099,9,FALSE) -> К
A34: 4 | B34: =VLOOKUP($F34,УЧАСТНИКИ!$A$2:$L$1099,3,FALSE) -> Лебедева Александра | C34: =VLOOKUP($F34,УЧАСТНИКИ!$A$2:$L$1099,4,FALSE) -> 04.02.1996 | D34: =VLOOKUP($F34,УЧАСТНИКИ!$A$2:$L$1099,5,FALSE) -> Новосибирская область | E34: =VLOOKUP($F34,УЧАСТНИКИ!$A$2:$L$1099,8,FALSE) -> КМС | F34: 423 | J34: =VLOOKUP($F34,УЧАСТНИКИ!$A$2:$L$1099,9,FALSE) -> К
A35: 4 | B35: =VLOOKUP($F35,УЧАСТНИКИ!$A$2:$L$1099,3,FALSE) -> Ткачёва Екатерина | C35: =VLOOKUP($F35,УЧАСТНИКИ!$A$2:$L$1099,4,FALSE) -> 15.02.1999 | D35: =VLOOKUP($F35,УЧАСТНИКИ!$A$2:$L$1099,5,FALSE) -> Новосибирская область | E35: =VLOOKUP($F35,УЧАСТНИКИ!$A$2:$L$1099,8,FALSE) -> КМС | F35: 429 | J35: =VLOOKUP($F35,УЧАСТНИКИ!$A$2:$L$1099,9,FALSE) -> К
A36: 4 | B36: =VLOOKUP($F36,УЧАСТНИКИ!$A$2:$L$1099,3,FALSE) -> Грошева Александра | C36: =VLOOKUP($F36,УЧАСТНИКИ!$A$2:$L$1099,4,FALSE) -> 19.08.1994 | D36: =VLOOKUP($F36,УЧАСТНИКИ!$A$2:$L$1099,5,FALSE) -> Новосибирская область | E36: =VLOOKUP($F36,УЧАСТНИКИ!$A$2:$L$1099,8,FALSE) -> МС | F36: 422 | J36: =VLOOKUP($F36,УЧАСТНИКИ!$A$2:$L$1099,9,FALSE) -> К
A38: 5 | B38: =VLOOKUP($F38,УЧАСТНИКИ!$A$2:$L$1099,3,FALSE) -> #N/A | C38: =VLOOKUP($F38,УЧАСТНИКИ!$A$2:$L$1099,4,FALSE) -> #N/A | D38: =VLOOKUP($F38,УЧАСТНИКИ!$A$2:$L$1099,5,FALSE) -> #N/A | E38: =VLOOKUP($F38,УЧАСТНИКИ!$A$2:$L$1099,8,FALSE) -> #N/A | J38: =VLOOKUP($F38,УЧАСТНИКИ!$A$2:$L$1099,9,FALSE) -> #N/A
A39: 5 | B39: =VLOOKUP($F39,УЧАСТНИКИ!$A$2:$L$1099,3,FALSE) -> #N/A | C39: =VLOOKUP($F39,УЧАСТНИКИ!$A$2:$L$1099,4,FALSE) -> #N/A | D39: =VLOOKUP($F39,УЧАСТНИКИ!$A$2:$L$1099,5,FALSE) -> #N/A | E39: =VLOOKUP($F39,УЧАСТНИКИ!$A$2:$L$1099,8,FALSE) -> #N/A | J39: =VLOOKUP($F39,УЧАСТНИКИ!$A$2:$L$1099,9,FALSE) -> #N/A
A40: 5 | B40: =VLOOKUP($F40,УЧАСТНИКИ!$A$2:$L$1099,3,FALSE) -> #N/A | C40: =VLOOKUP($F40,УЧАСТНИКИ!$A$2:$L$1099,4,FALSE) -> #N/A | D40: =VLOOKUP($F40,УЧАСТНИКИ!$A$2:$L$1099,5,FALSE) -> #N/A | E40: =VLOOKUP($F40,УЧАСТНИКИ!$A$2:$L$1099,8,FALSE) -> #N/A | J40: =VLOOKUP($F40,УЧАСТНИКИ!$A$2:$L$1099,9,FALSE) -> #N/A
A41: 5 | B41: =VLOOKUP($F41,УЧАСТНИКИ!$A$2:$L$1099,3,FALSE) -> #N/A | C41: =VLOOKUP($F41,УЧАСТНИКИ!$A$2:$L$1099,4,FALSE) -> #N/A | D41: =VLOOKUP($F41,УЧАСТНИКИ!$A$2:$L$1099,5,FALSE) -> #N/A | E41: =VLOOKUP($F41,УЧАСТНИКИ!$A$2:$L$1099,8,FALSE) -> #N/A | J41: =VLOOKUP($F41,УЧАСТНИКИ!$A$2:$L$1099,9,FALSE) -> #N/A
A42: 5 | B42: =VLOOKUP($F42,УЧАСТНИКИ!$A$2:$L$1099,3,FALSE) -> #N/A | C42: =VLOOKUP($F42,УЧАСТНИКИ!$A$2:$L$1099,4,FALSE) -> #N/A | D42: =VLOOKUP($F42,УЧАСТНИКИ!$A$2:$L$1099,5,FALSE) -> #N/A | E42: =VLOOKUP($F42,УЧАСТНИКИ!$A$2:$L$1099,8,FALSE) -> #N/A | J42: =VLOOKUP($F42,УЧАСТНИКИ!$A$2:$L$1099,9,FALSE) -> #N/A
A43: 5 | B43: =VLOOKUP($F43,УЧАСТНИКИ!$A$2:$L$1099,3,FALSE) -> #N/A | C43: =VLOOKUP($F43,УЧАСТНИКИ!$A$2:$L$1099,4,FALSE) -> #N/A | D43: =VLOOKUP($F43,УЧАСТНИКИ!$A$2:$L$1099,5,FALSE) -> #N/A | E43: =VLOOKUP($F43,УЧАСТНИКИ!$A$2:$L$1099,8,FALSE) -> #N/A | J43: =VLOOKUP($F43,УЧАСТНИКИ!$A$2:$L$1099,9,FALSE) -> #N/A
A45: 6 | B45: =VLOOKUP($F45,УЧАСТНИКИ!$A$2:$L$1099,3,FALSE) -> #N/A | C45: =VLOOKUP($F45,УЧАСТНИКИ!$A$2:$L$1099,4,FALSE) -> #N/A | D45: =VLOOKUP($F45,УЧАСТНИКИ!$A$2:$L$1099,5,FALSE) -> #N/A | E45: =VLOOKUP($F45,УЧАСТНИКИ!$A$2:$L$1099,8,FALSE) -> #N/A | J45: =VLOOKUP($F45,УЧАСТНИКИ!$A$2:$L$1099,9,FALSE) -> #N/A
A46: 6 | B46: =VLOOKUP($F46,УЧАСТНИКИ!$A$2:$L$1099,3,FALSE) -> #N/A | C46: =VLOOKUP($F46,УЧАСТНИКИ!$A$2:$L$1099,4,FALSE) -> #N/A | D46: =VLOOKUP($F46,УЧАСТНИКИ!$A$2:$L$1099,5,FALSE) -> #N/A | E46: =VLOOKUP($F46,УЧАСТНИКИ!$A$2:$L$1099,8,FALSE) -> #N/A | J46: =VLOOKUP($F46,УЧАСТНИКИ!$A$2:$L$1099,9,FALSE) -> #N/A
A47: 6 | B47: =VLOOKUP($F47,УЧАСТНИКИ!$A$2:$L$1099,3,FALSE) -> #N/A | C47: =VLOOKUP($F47,УЧАСТНИКИ!$A$2:$L$1099,4,FALSE) -> #N/A | D47: =VLOOKUP($F47,УЧАСТНИКИ!$A$2:$L$1099,5,FALSE) -> #N/A | E47: =VLOOKUP($F47,УЧАСТНИКИ!$A$2:$L$1099,8,FALSE) -> #N/A | J47: =VLOOKUP($F47,УЧАСТНИКИ!$A$2:$L$1099,9,FALSE) -> #N/A
A48: 6 | B48: =VLOOKUP($F48,УЧАСТНИКИ!$A$2:$L$1099,3,FALSE) -> #N/A | C48: =VLOOKUP($F48,УЧАСТНИКИ!$A$2:$L$1099,4,FALSE) -> #N/A | D48: =VLOOKUP($F48,УЧАСТНИКИ!$A$2:$L$1099,5,FALSE) -> #N/A | E48: =VLOOKUP($F48,УЧАСТНИКИ!$A$2:$L$1099,8,FALSE) -> #N/A | J48: =VLOOKUP($F48,УЧАСТНИКИ!$A$2:$L$1099,9,FALSE) -> #N/A
A49: 6 | B49: =VLOOKUP($F49,УЧАСТНИКИ!$A$2:$L$1099,3,FALSE) -> #N/A | C49: =VLOOKUP($F49,УЧАСТНИКИ!$A$2:$L$1099,4,FALSE) -> #N/A | D49: =VLOOKUP($F49,УЧАСТНИКИ!$A$2:$L$1099,5,FALSE) -> #N/A | E49: =VLOOKUP($F49,УЧАСТНИКИ!$A$2:$L$1099,8,FALSE) -> #N/A | J49: =VLOOKUP($F49,УЧАСТНИКИ!$A$2:$L$1099,9,FALSE) -> #N/A
A50: 6 | B50: =VLOOKUP($F50,УЧАСТНИКИ!$A$2:$L$1099,3,FALSE) -> #N/A | C50: =VLOOKUP($F50,УЧАСТНИКИ!$A$2:$L$1099,4,FALSE) -> #N/A | D50: =VLOOKUP($F50,УЧАСТНИКИ!$A$2:$L$1099,5,FALSE) -> #N/A | E50: =VLOOKUP($F50,УЧАСТНИКИ!$A$2:$L$1099,8,FALSE) -> #N/A | J50: =VLOOKUP($F50,УЧАСТНИКИ!$A$2:$L$1099,9,FALSE) -> #N/A
... A64: 8 | B64: =VLOOKUP($F64,УЧАСТНИКИ!$A$2:$L$1099,3,FALSE) -> #N/A | C64: =VLOOKUP($F64,УЧАСТНИКИ!$A$2:$L$1099,4,FALSE) -> #N/A | D64: =VLOOKUP($F64,УЧАСТНИКИ!$A$2:$L$1099,5,FALSE) -> #N/A | E64: =VLOOKUP($F64,УЧАСТНИКИ!$A$2:$L$1099,8,FALSE) -> #N/A | J64: =VLOOKUP($F64,УЧАСТНИКИ!$A$2:$L$1099,9,FALSE) -> #N/A
B65: 2 ЗАБЕГ
A66: 1 | B66: =VLOOKUP($F66,УЧАСТНИКИ!$A$2:$L$1099,3,FALSE) -> #N/A | C66: =VLOOKUP($F66,УЧАСТНИКИ!$A$2:$L$1099,4,FALSE) -> #N/A | D66: =VLOOKUP($F66,УЧАСТНИКИ!$A$2:$L$1099,5,FALSE) -> #N/A | E66: =VLOOKUP($F66,УЧАСТНИКИ!$A$2:$L$1099,8,FALSE) -> #N/A | J66: =VLOOKUP($F66,УЧАСТНИКИ!$A$2:$L$1099,9,FALSE) -> #N/A
A67: 1 | B67: =VLOOKUP($F67,УЧАСТНИКИ!$A$2:$L$1099,3,FALSE) -> #N/A | C67: =VLOOKUP($F67,УЧАСТНИКИ!$A$2:$L$1099,4,FALSE) -> #N/A | D67: =VLOOKUP($F67,УЧАСТНИКИ!$A$2:$L$1099,5,FALSE) -> #N/A | E67: =VLOOKUP($F67,УЧАСТНИКИ!$A$2:$L$1099,8,FALSE) -> #N/A | J67: =VLOOKUP($F67,УЧАСТНИКИ!$A$2:$L$1099,9,FALSE) -> #N/A
A68: 1 | B68: =VLOOKUP($F68,УЧАСТНИКИ!$A$2:$L$1099,3,FALSE) -> #N/A | C68: =VLOOKUP($F68,УЧАСТНИКИ!$A$2:$L$1099,4,FALSE) -> #N/A | D68: =VLOOKUP($F68,УЧАСТНИКИ!$A$2:$L$1099,5,FALSE) -> #N/A | E68: =VLOOKUP($F68,УЧАСТНИКИ!$A$2:$L$1099,8,FALSE) -> #N/A | J68: =VLOOKUP($F68,УЧАСТНИКИ!$A$2:$L$1099,9,FALSE) -> #N/A
A69: 1 | B69: =VLOOKUP($F69,УЧАСТНИКИ!$A$2:$L$1099,3,FALSE) -> #N/A | C69: =VLOOKUP($F69,УЧАСТНИКИ!$A$2:$L$1099,4,FALSE) -> #N/A | D69: =VLOOKUP($F69,УЧАСТНИКИ!$A$2:$L$1099,5,FALSE) -> #N/A | E69: =VLOOKUP($F69,УЧАСТНИКИ!$A$2:$L$1099,8,FALSE) -> #N/A | J69: =VLOOKUP($F69,УЧАСТНИКИ!$A$2:$L$1099,9,FALSE) -> #N/A
A70: 1 | B70: =VLOOKUP($F70,УЧАСТНИКИ!$A$2:$L$1099,3,FALSE) -> #N/A | C70: =VLOOKUP($F70,УЧАСТНИКИ!$A$2:$L$1099,4,FALSE) -> #N/A | D70: =VLOOKUP($F70,УЧАСТНИКИ!$A$2:$L$1099,5,FALSE) -> #N/A | E70: =VLOOKUP($F70,УЧАСТНИКИ!$A$2:$L$1099,8,FALSE) -> #N/A | J70: =VLOOKUP($F70,УЧАСТНИКИ!$A$2:$L$1099,9,FALSE) -> #N/A
A71: 1 | B71: =VLOOKUP($F71,УЧАСТНИКИ!$A$2:$L$1099,3,FALSE) -> #N/A | C71: =VLOOKUP($F71,УЧАСТНИКИ!$A$2:$L$1099,4,FALSE) -> #N/A | D71: =VLOOKUP($F71,УЧАСТНИКИ!$A$2:$L$1099,5,FALSE) -> #N/A | E71: =VLOOKUP($F71,УЧАСТНИКИ!$A$2:$L$1099,8,FALSE) -> #N/A | J71: =VLOOKUP($F71,УЧАСТНИКИ!$A$2:$L$1099,9,FALSE) -> #N/A
A73: 2 | B73: =VLOOKUP($F73,УЧАСТНИКИ!$A$2:$L$1099,3,FALSE) -> #N/A | C73: =VLOOKUP($F73,УЧАСТНИКИ!$A$2:$L$1099,4,FALSE) -> #N/A | D73: =VLOOKUP($F73,УЧАСТНИКИ!$A$2:$L$1099,5,FALSE) -> #N/A | E73: =VLOOKUP($F73,УЧАСТНИКИ!$A$2:$L$1099,8,FALSE) -> #N/A | J73: =VLOOKUP($F73,УЧАСТНИКИ!$A$2:$L$1099,9,FALSE) -> #N/A
A74: 2 | B74: =VLOOKUP($F74,УЧАСТНИКИ!$A$2:$L$1099,3,FALSE) -> #N/A | C74: =VLOOKUP($F74,УЧАСТНИКИ!$A$2:$L$1099,4,FALSE) -> #N/A | D74: =VLOOKUP($F74,УЧАСТНИКИ!$A$2:$L$1099,5,FALSE) -> #N/A | E74: =VLOOKUP($F74,УЧАСТНИКИ!$A$2:$L$1099,8,FALSE) -> #N/A | J74: =VLOOKUP($F74,УЧАСТНИКИ!$A$2:$L$1099,9,FALSE) -> #N/A
A75: 2 | B75: =VLOOKUP($F75,УЧАСТНИКИ!$A$2:$L$1099,3,FALSE) -> #N/A | C75: =VLOOKUP($F75,УЧАСТНИКИ!$A$2:$L$1099,4,FALSE) -> #N/A | D75: =VLOOKUP($F75,УЧАСТНИКИ!$A$2:$L$1099,5,FALSE) -> #N/A | E75: =VLOOKUP($F75,УЧАСТНИКИ!$A$2:$L$1099,8,FALSE) -> #N/A | J75: =VLOOKUP($F75,УЧАСТНИКИ!$A$2:$L$1099,9,FALSE) -> #N/A
A76: 2 | B76: =VLOOKUP($F76,УЧАСТНИКИ!$A$2:$L$1099,3,FALSE) -> #N/A | C76: =VLOOKUP($F76,УЧАСТНИКИ!$A$2:$L$1099,4,FALSE) -> #N/A | D76: =VLOOKUP($F76,УЧАСТНИКИ!$A$2:$L$1099,5,FALSE) -> #N/A | E76: =VLOOKUP($F76,УЧАСТНИКИ!$A$2:$L$1099,8,FALSE) -> #N/A | J76: =VLOOKUP($F76,УЧАСТНИКИ!$A$2:$L$1099,9,FALSE) -> #N/A
A77: 2 | B77: =VLOOKUP($F77,УЧАСТНИКИ!$A$2:$L$1099,3,FALSE) -> #N/A | C77: =VLOOKUP($F77,УЧАСТНИКИ!$A$2:$L$1099,4,FALSE) -> #N/A | D77: =VLOOKUP($F77,УЧАСТНИКИ!$A$2:$L$1099,5,FALSE) -> #N/A | E77: =VLOOKUP($F77,УЧАСТНИКИ!$A$2:$L$1099,8,FALSE) -> #N/A | J77: =VLOOKUP($F77,УЧАСТНИКИ!$A$2:$L$1099,9,FALSE) -> #N/A
A78: 2 | B78: =VLOOKUP($F78,УЧАСТНИКИ!$A$2:$L$1099,3,FALSE) -> #N/A | C78: =VLOOKUP($F78,УЧАСТНИКИ!$A$2:$L$1099,4,FALSE) -> #N/A | D78: =VLOOKUP($F78,УЧАСТНИКИ!$A$2:$L$1099,5,FALSE) -> #N/A | E78: =VLOOKUP($F78,УЧАСТНИКИ!$A$2:$L$1099,8,FALSE) -> #N/A | J78: =VLOOKUP($F78,УЧАСТНИКИ!$A$2:$L$1099,9,FALSE) -> #N/A
... A120: 8 | B120: =VLOOKUP($F120,УЧАСТНИКИ!$A$2:$L$1099,3,FALSE) -> #N/A | C120: =VLOOKUP($F120,УЧАСТНИКИ!$A$2:$L$1099,4,FALSE) -> #N/A | D120: =VLOOKUP($F120,УЧАСТНИКИ!$A$2:$L$1099,5,FALSE) -> #N/A | E120: =VLOOKUP($F120,УЧАСТНИКИ!$A$2:$L$1099,8,FALSE) -> #N/A | J120: =VLOOKUP($F120,УЧАСТНИКИ!$A$2:$L$1099,9,FALSE) -> #N/A
A124: Рефери по бегу:
A125: Ст.судья:
A126: Ст.хронометрист:
A127: Секретарь:

Sheet 4х40-Ж
A1: =Name_2 -> ВСЕРОССИЙСКАЯ ФЕДЕРАЦИЯ ЛЕГКОЙ АТЛЕТИКИ
A2: СТАРТОВЫЙ ПРОТОКОЛ
A3: КУБОК РОССИИ
A4: ЖЕНЩИНЫ
A5: Эстафета 4 х 400 м
J6: РР-
B7: ФИНАЛЬНЫЕ ЗАБЕГИ | C7: 12:55 | D7: =d_1 -> 28.05.2019г. | J7: =d_5 -> г. Сочи, ул. Бзугу 2, ст. им. Славы Метревели
A8: № п/п | B8: Фамилия, имя участника | C8: Дата рождения | D8: Территория | E8: Заявленный разряд | F8: Номер участника | G8: Приход | H8: Результат | I8: Место | J8: Примеч.
B9: 1 ЗАБЕГ
A10: 1 | B10: =VLOOKUP($F10,УЧАСТНИКИ!$A$2:$L$1099,3,FALSE) -> #N/A | C10: =VLOOKUP($F10,УЧАСТНИКИ!$A$2:$L$1099,4,FALSE) -> #N/A | D10: =VLOOKUP($F10,УЧАСТНИКИ!$A$2:$L$1099,5,FALSE) -> #N/A | E10: =VLOOKUP($F10,УЧАСТНИКИ!$A$2:$L$1099,8,FALSE) -> #N/A | J10: =VLOOKUP($F10,УЧАСТНИКИ!$A$2:$L$1099,9,FALSE) -> #N/A
A11: 1 | B11: =VLOOKUP($F11,УЧАСТНИКИ!$A$2:$L$1099,3,FALSE) -> #N/A | C11: =VLOOKUP($F11,УЧАСТНИКИ!$A$2:$L$1099,4,FALSE) -> #N/A | D11: =VLOOKUP($F11,УЧАСТНИКИ!$A$2:$L$1099,5,FALSE) -> #N/A | E11: =VLOOKUP($F11,УЧАСТНИКИ!$A$2:$L$1099,8,FALSE) -> #N/A | J11: =VLOOKUP($F11,УЧАСТНИКИ!$A$2:$L$1099,9,FALSE) -> #N/A
A12: 1 | B12: =VLOOKUP($F12,УЧАСТНИКИ!$A$2:$L$1099,3,FALSE) -> #N/A | C12: =VLOOKUP($F12,УЧАСТНИКИ!$A$2:$L$1099,4,FALSE) -> #N/A | D12: =VLOOKUP($F12,УЧАСТНИКИ!$A$2:$L$1099,5,FALSE) -> #N/A | E12: =VLOOKUP($F12,УЧАСТНИКИ!$A$2:$L$1099,8,FALSE) -> #N/A | J12: =VLOOKUP($F12,УЧАСТНИКИ!$A$2:$L$1099,9,FALSE) -> #N/A
A13: 1 | B13: =VLOOKUP($F13,УЧАСТНИКИ!$A$2:$L$1099,3,FALSE) -> #N/A | C13: =VLOOKUP($F13,УЧАСТНИКИ!$A$2:$L$1099,4,FALSE) -> #N/A | D13: =VLOOKUP($F13,УЧАСТНИКИ!$A$2:$L$1099,5,FALSE) -> #N/A | E13: =VLOOKUP($F13,УЧАСТНИКИ!$A$2:$L$1099,8,FALSE) -> #N/A | J13: =VLOOKUP($F13,УЧАСТНИКИ!$A$2:$L$1099,9,FALSE) -> #N/A
A14: 1 | B14: =VLOOKUP($F14,УЧАСТНИКИ!$A$2:$L$1099,3,FALSE) -> #N/A | C14: =VLOOKUP($F14,УЧАСТНИКИ!$A$2:$L$1099,4,FALSE) -> #N/A | D14: =VLOOKUP($F14,УЧАСТНИКИ!$A$2:$L$1099,5,FALSE) -> #N/A | E14: =VLOOKUP($F14,УЧАСТНИКИ!$A$2:$L$1099,8,FALSE) -> #N/A | J14: =VLOOKUP($F14,УЧАСТНИКИ!$A$2:$L$1099,9,FALSE) -> #N/A
A15: 1 | B15: =VLOOKUP($F15,УЧАСТНИКИ!$A$2:$L$1099,3,FALSE) -> #N/A | C15: =VLOOKUP($F15,УЧАСТНИКИ!$A$2:$L$1099,4,FALSE) -> #N/A | D15: =VLOOKUP($F15,УЧАСТНИКИ!$A$2:$L$1099,5,FALSE) -> #N/A | E15: =VLOOKUP($F15,УЧАСТНИКИ!$A$2:$L$1099,8,FALSE) -> #N/A | J15: =VLOOKUP($F15,УЧАСТНИКИ!$A$2:$L$1099,9,FALSE) -> #N/A
A17: 2 | B17: =VLOOKUP($F17,УЧАСТНИКИ!$A$2:$L$1099,3,FALSE) -> #N/A | C17: =VLOOKUP($F17,УЧАСТНИКИ!$A$2:$L$1099,4,FALSE) -> #N/A | D17: =VLOOKUP($F17,УЧАСТНИКИ!$A$2:$L$1099,5,FALSE) -> #N/A | E17: =VLOOKUP($F17,УЧАСТНИКИ!$A$2:$L$1099,8,FALSE) -> #N/A | J17: =VLOOKUP($F17,УЧАСТНИКИ!$A$2:$L$1099,9,FALSE) -> #N/A
A18: 2 | B18: =VLOOKUP($F18,УЧАСТНИКИ!$A$2:$L$1099,3,FALSE) -> #N/A | C18: =VLOOKUP($F18,УЧАСТНИКИ!$A$2:$L$1099,4,FALSE) -> #N/A | D18: =VLOOKUP($F18,УЧАСТНИКИ!$A$2:$L$1099,5,FALSE) -> #N/A | E18: =VLOOKUP($F18,УЧАСТНИКИ!$A$2:$L$1099,8,FALSE) -> #N/A | J18: =VLOOKUP($F18,УЧАСТНИКИ!$A$2:$L$1099,9,FALSE) -> #N/A
A19: 2 | B19: =VLOOKUP($F19,УЧАСТНИКИ!$A$2:$L$1099,3,FALSE) -> #N/A | C19: =VLOOKUP($F19,УЧАСТНИКИ!$A$2:$L$1099,4,FALSE) -> #N/A | D19: =VLOOKUP($F19,УЧАСТНИКИ!$A$2:$L$1099,5,FALSE) -> #N/A | E19: =VLOOKUP($F19,УЧАСТНИКИ!$A$2:$L$1099,8,FALSE) -> #N/A | J19: =VLOOKUP($F19,УЧАСТНИКИ!$A$2:$L$1099,9,FALSE) -> #N/A
A20: 2 | B20: =VLOOKUP($F20,УЧАСТНИКИ!$A$2:$L$1099,3,FALSE) -> #N/A | C20: =VLOOKUP($F20,УЧАСТНИКИ!$A$2:$L$1099,4,FALSE) -> #N/A | D20: =VLOOKUP($F20,УЧАСТНИКИ!$A$2:$L$1099,5,FALSE) -> #N/A | E20: =VLOOKUP($F20,УЧАСТНИКИ!$A$2:$L$1099,8,FALSE) -> #N/A | J20: =VLOOKUP($F20,УЧАСТНИКИ!$A$2:$L$1099,9,FALSE) -> #N/A
A21: 2 | B21: =VLOOKUP($F21,УЧАСТНИКИ!$A$2:$L$1099,3,FALSE) -> #N/A | C21: =VLOOKUP($F21,УЧАСТНИКИ!$A$2:$L$1099,4,FALSE) -> #N/A | D21: =VLOOKUP($F21,УЧАСТНИКИ!$A$2:$L$1099,5,FALSE) -> #N/A | E21: =VLOOKUP($F21,УЧАСТНИКИ!$A$2:$L$1099,8,FALSE) -> #N/A | J21: =VLOOKUP($F21,УЧАСТНИКИ!$A$2:$L$1099,9,FALSE) -> #N/A
A22: 2 | B22: =VLOOKUP($F22,УЧАСТНИКИ!$A$2:$L$1099,3,FALSE) -> #N/A | C22: =VLOOKUP($F22,УЧАСТНИКИ!$A$2:$L$1099,4,FALSE) -> #N/A | D22: =VLOOKUP($F22,УЧАСТНИКИ!$A$2:$L$1099,5,FALSE) -> #N/A | E22: =VLOOKUP($F22,УЧАСТНИКИ!$A$2:$L$1099,8,FALSE) -> #N/A | J22: =VLOOKUP($F22,УЧАСТНИКИ!$A$2:$L$1099,9,FALSE) -> #N/A
... A64: 8 | B64: =VLOOKUP($F64,УЧАСТНИКИ!$A$2:$L$1099,3,FALSE) -> #N/A | C64: =VLOOKUP($F64,УЧАСТНИКИ!$A$2:$L$1099,4,FALSE) -> #N/A | D64: =VLOOKUP($F64,УЧАСТНИКИ!$A$2:$L$1099,5,FALSE) -> #N/A | E64: =VLOOKUP($F64,УЧАСТНИКИ!$A$2:$L$1099,8,FALSE) -> #N/A | J64: =VLOOKUP($F64,УЧАСТНИКИ!$A$2:$L$1099,9,FALSE) -> #N/A
B65: 2 ЗАБЕГ
A66: 1 | B66: =VLOOKUP($F66,УЧАСТНИКИ!$A$2:$L$1099,3,FALSE) -> #N/A | C66: =VLOOKUP($F66,УЧАСТНИКИ!$A$2:$L$1099,4,FALSE) -> #N/A | D66: =VLOOKUP($F66,УЧАСТНИКИ!$A$2:$L$1099,5,FALSE) -> #N/A | E66: =VLOOKUP($F66,УЧАСТНИКИ!$A$2:$L$1099,8,FALSE) -> #N/A | J66: =VLOOKUP($F66,УЧАСТНИКИ!$A$2:$L$1099,9,FALSE) -> #N/A
A67: 1 | B67: =VLOOKUP($F67,УЧАСТНИКИ!$A$2:$L$1099,3,FALSE) -> #N/A | C67: =VLOOKUP($F67,УЧАСТНИКИ!$A$2:$L$1099,4,FALSE) -> #N/A | D67: =VLOOKUP($F67,УЧАСТНИКИ!$A$2:$L$1099,5,FALSE) -> #N/A | E67: =VLOOKUP($F67,УЧАСТНИКИ!$A$2:$L$1099,8,FALSE) -> #N/A | J67: =VLOOKUP($F67,УЧАСТНИКИ!$A$2:$L$1099,9,FALSE) -> #N/A
A68: 1 | B68: =VLOOKUP($F68,УЧАСТНИКИ!$A$2:$L$1099,3,FALSE) -> #N/A | C68: =VLOOKUP($F68,УЧАСТНИКИ!$A$2:$L$1099,4,FALSE) -> #N/A | D68: =VLOOKUP($F68,УЧАСТНИКИ!$A$2:$L$1099,5,FALSE) -> #N/A | E68: =VLOOKUP($F68,УЧАСТНИКИ!$A$2:$L$1099,8,FALSE) -> #N/A | J68: =VLOOKUP($F68,УЧАСТНИКИ!$A$2:$L$1099,9,FALSE) -> #N/A
A69: 1 | B69: =VLOOKUP($F69,УЧАСТНИКИ!$A$2:$L$1099,3,FALSE) -> #N/A | C69: =VLOOKUP($F69,УЧАСТНИКИ!$A$2:$L$1099,4,FALSE) -> #N/A | D69: =VLOOKUP($F69,УЧАСТНИКИ!$A$2:$L$1099,5,FALSE) -> #N/A | E69: =VLOOKUP($F69,УЧАСТНИКИ!$A$2:$L$1099,8,FALSE) -> #N/A | J69: =VLOOKUP($F69,УЧАСТНИКИ!$A$2:$L$1099,9,FALSE) -> #N/A
A70: 1 | B70: =VLOOKUP($F70,УЧАСТНИКИ!$A$2:$L$1099,3,FALSE) -> #N/A | C70: =VLOOKUP($F70,УЧАСТНИКИ!$A$2:$L$1099,4,FALSE) -> #N/A | D70: =VLOOKUP($F70,УЧАСТНИКИ!$A$2:$L$1099,5,FALSE) -> #N/A | E70: =VLOOKUP($F70,УЧАСТНИКИ!$A$2:$L$1099,8,FALSE) -> #N/A | J70: =VLOOKUP($F70,УЧАСТНИКИ!$A$2:$L$1099,9,FALSE) -> #N/A
A71: 1 | B71: =VLOOKUP($F71,УЧАСТНИКИ!$A$2:$L$1099,3,FALSE) -> #N/A | C71: =VLOOKUP($F71,УЧАСТНИКИ!$A$2:$L$1099,4,FALSE) -> #N/A | D71: =VLOOKUP($F71,УЧАСТНИКИ!$A$2:$L$1099,5,FALSE) -> #N/A | E71: =VLOOKUP($F71,УЧАСТНИКИ!$A$2:$L$1099,8,FALSE) -> #N/A | J71: =VLOOKUP($F71,УЧАСТНИКИ!$A$2:$L$1099,9,FALSE) -> #N/A
A73: 2 | B73: =VLOOKUP($F73,УЧАСТНИКИ!$A$2:$L$1099,3,FALSE) -> #N/A | C73: =VLOOKUP($F73,УЧАСТНИКИ!$A$2:$L$1099,4,FALSE) -> #N/A | D73: =VLOOKUP($F73,УЧАСТНИКИ!$A$2:$L$1099,5,FALSE) -> #N/A | E73: =VLOOKUP($F73,УЧАСТНИКИ!$A$2:$L$1099,8,FALSE) -> #N/A | J73: =VLOOKUP($F73,УЧАСТНИКИ!$A$2:$L$1099,9,FALSE) -> #N/A
A74: 2 | B74: =VLOOKUP($F74,УЧАСТНИКИ!$A$2:$L$1099,3,FALSE) -> #N/A | C74: =VLOOKUP($F74,УЧАСТНИКИ!$A$2:$L$1099,4,FALSE) -> #N/A | D74: =VLOOKUP($F74,УЧАСТНИКИ!$A$2:$L$1099,5,FALSE) -> #N/A | E74: =VLOOKUP($F74,УЧАСТНИКИ!$A$2:$L$1099,8,FALSE) -> #N/A | J74: =VLOOKUP($F74,УЧАСТНИКИ!$A$2:$L$1099,9,FALSE) -> #N/A
A75: 2 | B75: =VLOOKUP($F75,УЧАСТНИКИ!$A$2:$L$1099,3,FALSE) -> #N/A | C75: =VLOOKUP($F75,УЧАСТНИКИ!$A$2:$L$1099,4,FALSE) -> #N/A | D75: =VLOOKUP($F75,УЧАСТНИКИ!$A$2:$L$1099,5,FALSE) -> #N/A | E75: =VLOOKUP($F75,УЧАСТНИКИ!$A$2:$L$1099,8,FALSE) -> #N/A | J75: =VLOOKUP($F75,УЧАСТНИКИ!$A$2:$L$1099,9,FALSE) -> #N/A
A76: 2 | B76: =VLOOKUP($F76,УЧАСТНИКИ!$A$2:$L$1099,3,FALSE) -> #N/A | C76: =VLOOKUP($F76,УЧАСТНИКИ!$A$2:$L$1099,4,FALSE) -> #N/A | D76: =VLOOKUP($F76,УЧАСТНИКИ!$A$2:$L$1099,5,FALSE) -> #N/A | E76: =VLOOKUP($F76,УЧАСТНИКИ!$A$2:$L$1099,8,FALSE) -> #N/A | J76: =VLOOKUP($F76,УЧАСТНИКИ!$A$2:$L$1099,9,FALSE) -> #N/A
A77: 2 | B77: =VLOOKUP($F77,УЧАСТНИКИ!$A$2:$L$1099,3,FALSE) -> #N/A | C77: =VLOOKUP($F77,УЧАСТНИКИ!$A$2:$L$1099,4,FALSE) -> #N/A | D77: =VLOOKUP($F77,УЧАСТНИКИ!$A$2:$L$1099,5,FALSE) -> #N/A | E77: =VLOOKUP($F77,УЧАСТНИКИ!$A$2:$L$1099,8,FALSE) -> #N/A | J77: =VLOOKUP($F77,УЧАСТНИКИ!$A$2:$L$1099,9,FALSE) -> #N/A
A78: 2 | B78: =VLOOKUP($F78,УЧАСТНИКИ!$A$2:$L$1099,3,FALSE) -> #N/A | C78: =VLOOKUP($F78,УЧАСТНИКИ!$A$2:$L$1099,4,FALSE) -> #N/A | D78: =VLOOKUP($F78,УЧАСТНИКИ!$A$2:$L$1099,5,FALSE) -> #N/A | E78: =VLOOKUP($F78,УЧАСТНИКИ!$A$2:$L$1099,8,FALSE) -> #N/A | J78: =VLOOKUP($F78,УЧАСТНИКИ!$A$2:$L$1099,9,FALSE) -> #N/A
... A120: 8 | B120: =VLOOKUP($F120,УЧАСТНИКИ!$A$2:$L$1099,3,FALSE) -> #N/A | C120: =VLOOKUP($F120,УЧАСТНИКИ!$A$2:$L$1099,4,FALSE) -> #N/A | D120: =VLOOKUP($F120,УЧАСТНИКИ!$A$2:$L$1099,5,FALSE) -> #N/A | E120: =VLOOKUP($F120,УЧАСТНИКИ!$A$2:$L$1099,8,FALSE) -> #N/A | J120: =VLOOKUP($F120,УЧАСТНИКИ!$A$2:$L$1099,9,FALSE) -> #N/A
A124: Рефери по бегу:
A125: Ст.судья:
A126: Ст.хронометрист:
A127: Секретарь:

Sheet 110-Ж
A1: =Name_2 -> ВСЕРОССИЙСКАЯ ФЕДЕРАЦИЯ ЛЕГКОЙ АТЛЕТИКИ
A2: СТАРТОВЫЙ ПРОТОКОЛ
A3: КУБОК РОССИИ
A4: ЖЕНЩИНЫ
A5: Бег с барьерами 100 м
A6: h-0,84 м | J6: РР- 12.26
B7: ЗАБЕГИ | C7: 15:50 | D7: =d_1 -> 28.05.2019г. | J7: =d_5 -> г. Сочи, ул. Бзугу 2, ст. им. Славы Метревели
A8: № п/п | B8: Фамилия, имя участника | C8: Дата рождения | D8: Территория | E8: Заявленный разряд | F8: Номер участника | G8: Приход | H8: Результат | I8: Место | J8: Примеч.
B9: 1 ЗАБЕГ
A10: 1
A11: 2 | B11: =VLOOKUP($F11,УЧАСТНИКИ!$A$2:$L$1099,3,FALSE) -> Киселева Татьяна | C11: =VLOOKUP($F11,УЧАСТНИКИ!$A$2:$L$1099,4,FALSE) -> 06.02.1997 | D11: =VLOOKUP($F11,УЧАСТНИКИ!$A$2:$L$1099,5,FALSE) -> Курганская область | E11: =VLOOKUP($F11,УЧАСТНИКИ!$A$2:$L$1099,8,FALSE) -> КМС | F11: 47 | J11: =VLOOKUP($F11,УЧАСТНИКИ!$A$2:$L$1099,9,FALSE) -> К
A12: 3 | B12: =VLOOKUP($F12,УЧАСТНИКИ!$A$2:$L$1099,3,FALSE) -> Гафурова Евгения | C12: =VLOOKUP($F12,УЧАСТНИКИ!$A$2:$L$1099,4,FALSE) -> 22.03.1994 | D12: =VLOOKUP($F12,УЧАСТНИКИ!$A$2:$L$1099,5,FALSE) -> Москва | E12: =VLOOKUP($F12,УЧАСТНИКИ!$A$2:$L$1099,8,FALSE) -> МС | F12: 336 | J12: =VLOOKUP($F12,УЧАСТНИКИ!$A$2:$L$1099,9,FALSE) -> Л
A13: 4 | B13: =VLOOKUP($F13,УЧАСТНИКИ!$A$2:$L$1099,3,FALSE) -> Блескина Екатерина | C13: =VLOOKUP($F13,УЧАСТНИКИ!$A$2:$L$1099,4,FALSE) -> 29.01.1993 | D13: =VLOOKUP($F13,УЧАСТНИКИ!$A$2:$L$1099,5,FALSE) -> Красноярский край Санкт-Петербург | E13: =VLOOKUP($F13,УЧАСТНИКИ!$A$2:$L$1099,8,FALSE) -> МС | F13: 99 | J13: =VLOOKUP($F13,УЧАСТНИКИ!$A$2:$L$1099,9,FALSE) -> К
A14: 5 | B14: =VLOOKUP($F14,УЧАСТНИКИ!$A$2:$L$1099,3,FALSE) -> Грошева Александра | C14: =VLOOKUP($F14,УЧАСТНИКИ!$A$2:$L$1099,4,FALSE) -> 19.08.1994 | D14: =VLOOKUP($F14,УЧАСТНИКИ!$A$2:$L$1099,5,FALSE) -> Новосибирская область | E14: =VLOOKUP($F14,УЧАСТНИКИ!$A$2:$L$1099,8,FALSE) -> МС | F14: 422 | J14: =VLOOKUP($F14,УЧАСТНИКИ!$A$2:$L$1099,9,FALSE) -> К
A15: 6 | B15: =VLOOKUP($F15,УЧАСТНИКИ!$A$2:$L$1099,3,FALSE) -> Воробьева Анастасия | C15: =VLOOKUP($F15,УЧАСТНИКИ!$A$2:$L$1099,4,FALSE) -> 01.04.1999 | D15: =VLOOKUP($F15,УЧАСТНИКИ!$A$2:$L$1099,5,FALSE) -> Воронежская область | E15: =VLOOKUP($F15,УЧАСТНИКИ!$A$2:$L$1099,8,FALSE) -> КМС | F15: 393 | J15: =VLOOKUP($F15,УЧАСТНИКИ!$A$2:$L$1099,9,FALSE) -> К
A16: 7 | B16: =VLOOKUP($F16,УЧАСТНИКИ!$A$2:$L$1099,3,FALSE) -> Елизарова Елизавета | C16: =VLOOKUP($F16,УЧАСТНИКИ!$A$2:$L$1099,4,FALSE) -> 28.01.2001 | D16: =VLOOKUP($F16,УЧАСТНИКИ!$A$2:$L$1099,5,FALSE) -> Челябинская область Свердловская область | E16: =VLOOKUP($F16,УЧАСТНИКИ!$A$2:$L$1099,8,FALSE) -> КМС | F16: 54 | J16: =VLOOKUP($F16,УЧАСТНИКИ!$A$2:$L$1099,9,FALSE) -> К
A17: 8 | B17: =VLOOKUP($F17,УЧАСТНИКИ!$A$2:$L$1099,3,FALSE) -> Рытикова Валерия | C17: =VLOOKUP($F17,УЧАСТНИКИ!$A$2:$L$1099,4,FALSE) -> 13.12.1995 | D17: =VLOOKUP($F17,УЧАСТНИКИ!$A$2:$L$1099,5,FALSE) -> Воронежская область | E17: =VLOOKUP($F17,УЧАСТНИКИ!$A$2:$L$1099,8,FALSE) -> КМС | F17: 399 | J17: =VLOOKUP($F17,УЧАСТНИКИ!$A$2:$L$1099,9,FALSE) -> К
B18: 2 ЗАБЕГ
A19: 1
A20: 2 | B20: =VLOOKUP($F20,УЧАСТНИКИ!$A$2:$L$1099,3,FALSE) -> Клещева Кристина | C20: =VLOOKUP($F20,УЧАСТНИКИ!$A$2:$L$1099,4,FALSE) -> 26.03.1999 | D20: =VLOOKUP($F20,УЧАСТНИКИ!$A$2:$L$1099,5,FALSE) -> Челябинская область | E20: =VLOOKUP($F20,УЧАСТНИКИ!$A$2:$L$1099,8,FALSE) -> МС | F20: 56
A21: 3 | B21: =VLOOKUP($F21,УЧАСТНИКИ!$A$2:$L$1099,3,FALSE) -> Иванова Елизавета | C21: =VLOOKUP($F21,УЧАСТНИКИ!$A$2:$L$1099,4,FALSE) -> 22.05.1997 | D21: =VLOOKUP($F21,УЧАСТНИКИ!$A$2:$L$1099,5,FALSE) -> Московская область Ярославская область | E21: =VLOOKUP($F21,УЧАСТНИКИ!$A$2:$L$1099,8,FALSE) -> МС | F21: 238 | J21: =VLOOKUP($F21,УЧАСТНИКИ!$A$2:$L$1099,9,FALSE) -> К
A22: 4 | B22: =VLOOKUP($F22,УЧАСТНИКИ!$A$2:$L$1099,3,FALSE) -> Николаева Анастасия | C22: =VLOOKUP($F22,УЧАСТНИКИ!$A$2:$L$1099,4,FALSE) -> 24.09.1995 | D22: =VLOOKUP($F22,УЧАСТНИКИ!$A$2:$L$1099,5,FALSE) -> Московская область Самарская область | E22: =VLOOKUP($F22,УЧАСТНИКИ!$A$2:$L$1099,8,FALSE) -> МСМК | F22: 415 | J22: =VLOOKUP($F22,УЧАСТНИКИ!$A$2:$L$1099,9,FALSE) -> К
A23: 5 | B23: =VLOOKUP($F23,УЧАСТНИКИ!$A$2:$L$1099,3,FALSE) -> Чернышева Елизавета | C23: =VLOOKUP($F23,УЧАСТНИКИ!$A$2:$L$1099,4,FALSE) -> 11.11.1996 | D23: =VLOOKUP($F23,УЧАСТНИКИ!$A$2:$L$1099,5,FALSE) -> Краснодарский край Саратовская область | E23: =VLOOKUP($F23,УЧАСТНИКИ!$A$2:$L$1099,8,FALSE) -> МС | F23: 183 | J23: =VLOOKUP($F23,УЧАСТНИКИ!$A$2:$L$1099,9,FALSE) -> Л
A24: 6 | B24: =VLOOKUP($F24,УЧАСТНИКИ!$A$2:$L$1099,3,FALSE) -> Громова Валерия | C24: =VLOOKUP($F24,УЧАСТНИКИ!$A$2:$L$1099,4,FALSE) -> 08.04.2000 | D24: =VLOOKUP($F24,УЧАСТНИКИ!$A$2:$L$1099,5,FALSE) -> Санкт-Петербург | E24: =VLOOKUP($F24,УЧАСТНИКИ!$A$2:$L$1099,8,FALSE) -> КМС | F24: 273 | J24: =VLOOKUP($F24,УЧАСТНИКИ!$A$2:$L$1099,9,FALSE) -> Л
A25: 7 | B25: =VLOOKUP($F25,УЧАСТНИКИ!$A$2:$L$1099,3,FALSE) -> Ефименко Кристина | C25: =VLOOKUP($F25,УЧАСТНИКИ!$A$2:$L$1099,4,FALSE) -> 27.02.1998 | D25: =VLOOKUP($F25,УЧАСТНИКИ!$A$2:$L$1099,5,FALSE) -> Челябинская область | E25: =VLOOKUP($F25,УЧАСТНИКИ!$A$2:$L$1099,8,FALSE) -> КМС | F25: 55 | J25: =VLOOKUP($F25,УЧАСТНИКИ!$A$2:$L$1099,9,FALSE) -> К
A26: 8 | B26: =VLOOKUP($F26,УЧАСТНИКИ!$A$2:$L$1099,3,FALSE) -> Сланова Анастасия | C26: =VLOOKUP($F26,УЧАСТНИКИ!$A$2:$L$1099,4,FALSE) -> 14.04.2002 | D26: =VLOOKUP($F26,УЧАСТНИКИ!$A$2:$L$1099,5,FALSE) -> Россия | E26: =VLOOKUP($F26,УЧАСТНИКИ!$A$2:$L$1099,8,FALSE) -> КМС | F26: 236 | J26: =VLOOKUP($F26,УЧАСТНИКИ!$A$2:$L$1099,9,FALSE) -> Л
B27: 3 ЗАБЕГ
A28: 1
A29: 2 | B29: =VLOOKUP($F29,УЧАСТНИКИ!$A$2:$L$1099,3,FALSE) -> Манакова (Решеткина) Ирина | C29: =VLOOKUP($F29,УЧАСТНИКИ!$A$2:$L$1099,4,FALSE) -> 30.01.1989 | D29: =VLOOKUP($F29,УЧАСТНИКИ!$A$2:$L$1099,5,FALSE) -> Москва Санкт-Петербург | E29: =VLOOKUP($F29,УЧАСТНИКИ!$A$2:$L$1099,8,FALSE) -> МС | F29: 288 | J29: =VLOOKUP($F29,УЧАСТНИКИ!$A$2:$L$1099,9,FALSE) -> к
A30: 3 | B30: =VLOOKUP($F30,УЧАСТНИКИ!$A$2:$L$1099,3,FALSE) -> Чекан Полина | C30: =VLOOKUP($F30,УЧАСТНИКИ!$A$2:$L$1099,4,FALSE) -> 17.11.1999 | D30: =VLOOKUP($F30,УЧАСТНИКИ!$A$2:$L$1099,5,FALSE) -> Москва | E30: =VLOOKUP($F30,УЧАСТНИКИ!$A$2:$L$1099,8,FALSE) -> КМС | F30: 370 | J30: =VLOOKUP($F30,УЧАСТНИКИ!$A$2:$L$1099,9,FALSE) -> Л
A31: 4 | B31: =VLOOKUP($F31,УЧАСТНИКИ!$A$2:$L$1099,3,FALSE) -> Ватропина Анна | C31: =VLOOKUP($F31,УЧАСТНИКИ!$A$2:$L$1099,4,FALSE) -> 05.10.1990 | D31: =VLOOKUP($F31,УЧАСТНИКИ!$A$2:$L$1099,5,FALSE) -> Республика Татарстан | E31: =VLOOKUP($F31,УЧАСТНИКИ!$A$2:$L$1099,8,FALSE) -> МС | F31: 241 | J31: =VLOOKUP($F31,УЧАСТНИКИ!$A$2:$L$1099,9,FALSE) -> К
A32: 5 | B32: =VLOOKUP($F32,УЧАСТНИКИ!$A$2:$L$1099,3,FALSE) -> Печёнкина Вероника | C32: =VLOOKUP($F32,УЧАСТНИКИ!$A$2:$L$1099,4,FALSE) -> 31.08.1997 | D32: =VLOOKUP($F32,УЧАСТНИКИ!$A$2:$L$1099,5,FALSE) -> Новосибирская область | E32: =VLOOKUP($F32,УЧАСТНИКИ!$A$2:$L$1099,8,FALSE) -> МС | F32: 425 | J32: =VLOOKUP($F32,УЧАСТНИКИ!$A$2:$L$1099,9,FALSE) -> К
A33: 6 | B33: =VLOOKUP($F33,УЧАСТНИКИ!$A$2:$L$1099,3,FALSE) -> Думен (Рябенко) Елена | C33: =VLOOKUP($F33,УЧАСТНИКИ!$A$2:$L$1099,4,FALSE) -> 13.01.1994 | D33: =VLOOKUP($F33,УЧАСТНИКИ!$A$2:$L$1099,5,FALSE) -> Краснодарский край Карачаево-Черкесская республика | E33: =VLOOKUP($F33,УЧАСТНИКИ!$A$2:$L$1099,8,FALSE) -> МС | F33: 140 | J33: =VLOOKUP($F33,УЧАСТНИКИ!$A$2:$L$1099,9,FALSE) -> К
A34: 7 | B34: =VLOOKUP($F34,УЧАСТНИКИ!$A$2:$L$1099,3,FALSE) -> Ефимова Полина | C34: =VLOOKUP($F34,УЧАСТНИКИ!$A$2:$L$1099,4,FALSE) -> 16.12.2001 | D34: =VLOOKUP($F34,УЧАСТНИКИ!$A$2:$L$1099,5,FALSE) -> Курганская область | E34: =VLOOKUP($F34,УЧАСТНИКИ!$A$2:$L$1099,8,FALSE) -> КМС | F34: 46 | J34: =VLOOKUP($F34,УЧАСТНИКИ!$A$2:$L$1099,9,FALSE) -> К
A35: 8
A37: Рефери по бегу:
A38: Ст.судья:
A39: Ст.хронометрист:
A40: Секретарь:

Sheet 110Ф-Ж
A1: =Name_2 -> ВСЕРОССИЙСКАЯ ФЕДЕРАЦИЯ ЛЕГКОЙ АТЛЕТИКИ
A2: СТАРТОВЫЙ ПРОТОКОЛ
A3: КУБОК РОССИИ
A4: ЖЕНЩИНЫ
A5: Бег с барьерами 100 м
A6: h-1,067 м | K6: РР- 12.26
B7: ФИНАЛЬНЫЙ ЗАБЕГ | C7: 12:55 | D7: =d_1 -> 28.05.2019г. | K7: =d_5 -> г. Сочи, ул. Бзугу 2, ст. им. Славы Метревели
A8: № п/п | B8: Фамилия, имя участника | C8: Дата рождения | D8: Территория | E8: Заявленный разряд | F8: Номер участника | G8: рез-тат забега | H8: приход | I8: Результат | J8: Место | K8: Примеч.
A10: 1 | B10: =VLOOKUP($F10,УЧАСТНИКИ!$A$2:$L$1099,3,FALSE) -> #N/A | C10: =VLOOKUP($F10,УЧАСТНИКИ!$A$2:$L$1099,4,FALSE) -> #N/A | D10: =VLOOKUP($F10,УЧАСТНИКИ!$A$2:$L$1099,5,FALSE) -> #N/A | E10: =VLOOKUP($F10,УЧАСТНИКИ!$A$2:$L$1099,8,FALSE) -> #N/A | K10: =VLOOKUP($F10,УЧАСТНИКИ!$A$2:$L$1099,9,FALSE) -> #N/A
A11: 2 | B11: =VLOOKUP($F11,УЧАСТНИКИ!$A$2:$L$1099,3,FALSE) -> #N/A | C11: =VLOOKUP($F11,УЧАСТНИКИ!$A$2:$L$1099,4,FALSE) -> #N/A | D11: =VLOOKUP($F11,УЧАСТНИКИ!$A$2:$L$1099,5,FALSE) -> #N/A | E11: =VLOOKUP($F11,УЧАСТНИКИ!$A$2:$L$1099,8,FALSE) -> #N/A | K11: =VLOOKUP($F11,УЧАСТНИКИ!$A$2:$L$1099,9,FALSE) -> #N/A
A12: 3 | B12: =VLOOKUP($F12,УЧАСТНИКИ!$A$2:$L$1099,3,FALSE) -> #N/A | C12: =VLOOKUP($F12,УЧАСТНИКИ!$A$2:$L$1099,4,FALSE) -> #N/A | D12: =VLOOKUP($F12,УЧАСТНИКИ!$A$2:$L$1099,5,FALSE) -> #N/A | E12: =VLOOKUP($F12,УЧАСТНИКИ!$A$2:$L$1099,8,FALSE) -> #N/A | K12: =VLOOKUP($F12,УЧАСТНИКИ!$A$2:$L$1099,9,FALSE) -> #N/A
A13: 4 | B13: =VLOOKUP($F13,УЧАСТНИКИ!$A$2:$L$1099,3,FALSE) -> #N/A | C13: =VLOOKUP($F13,УЧАСТНИКИ!$A$2:$L$1099,4,FALSE) -> #N/A | D13: =VLOOKUP($F13,УЧАСТНИКИ!$A$2:$L$1099,5,FALSE) -> #N/A | E13: =VLOOKUP($F13,УЧАСТНИКИ!$A$2:$L$1099,8,FALSE) -> #N/A | K13: =VLOOKUP($F13,УЧАСТНИКИ!$A$2:$L$1099,9,FALSE) -> #N/A
A14: 5 | B14: =VLOOKUP($F14,УЧАСТНИКИ!$A$2:$L$1099,3,FALSE) -> #N/A | C14: =VLOOKUP($F14,УЧАСТНИКИ!$A$2:$L$1099,4,FALSE) -> #N/A | D14: =VLOOKUP($F14,УЧАСТНИКИ!$A$2:$L$1099,5,FALSE) -> #N/A | E14: =VLOOKUP($F14,УЧАСТНИКИ!$A$2:$L$1099,8,FALSE) -> #N/A | K14: =VLOOKUP($F14,УЧАСТНИКИ!$A$2:$L$1099,9,FALSE) -> #N/A
A15: 6 | B15: =VLOOKUP($F15,УЧАСТНИКИ!$A$2:$L$1099,3,FALSE) -> #N/A | C15: =VLOOKUP($F15,УЧАСТНИКИ!$A$2:$L$1099,4,FALSE) -> #N/A | D15: =VLOOKUP($F15,УЧАСТНИКИ!$A$2:$L$1099,5,FALSE) -> #N/A | E15: =VLOOKUP($F15,УЧАСТНИКИ!$A$2:$L$1099,8,FALSE) -> #N/A | K15: =VLOOKUP($F15,УЧАСТНИКИ!$A$2:$L$1099,9,FALSE) -> #N/A
A16: 7 | B16: =VLOOKUP($F16,УЧАСТНИКИ!$A$2:$L$1099,3,FALSE) -> #N/A | C16: =VLOOKUP($F16,УЧАСТНИКИ!$A$2:$L$1099,4,FALSE) -> #N/A | D16: =VLOOKUP($F16,УЧАСТНИКИ!$A$2:$L$1099,5,FALSE) -> #N/A | E16: =VLOOKUP($F16,УЧАСТНИКИ!$A$2:$L$1099,8,FALSE) -> #N/A | K16: =VLOOKUP($F16,УЧАСТНИКИ!$A$2:$L$1099,9,FALSE) -> #N/A
A17: 8 | B17: =VLOOKUP($F17,УЧАСТНИКИ!$A$2:$L$1099,3,FALSE) -> #N/A | C17: =VLOOKUP($F17,УЧАСТНИКИ!$A$2:$L$1099,4,FALSE) -> #N/A | D17: =VLOOKUP($F17,УЧАСТНИКИ!$A$2:$L$1099,5,FALSE) -> #N/A | E17: =VLOOKUP($F17,УЧАСТНИКИ!$A$2:$L$1099,8,FALSE) -> #N/A | K17: =VLOOKUP($F17,УЧАСТНИКИ!$A$2:$L$1099,9,FALSE) -> #N/A
A20: Рефери по бегу:
A21: Ст.судья:
A22: Ст.хронометрист:
A23: Секретарь:

Sheet 400СБ-Ж
A1: =Name_2 -> ВСЕРОССИЙСКАЯ ФЕДЕРАЦИЯ ЛЕГКОЙ АТЛЕТИКИ
A2: СТАРТОВЫЙ ПРОТОКОЛ
A3: КУБОК РОССИИ
A4: ЖЕНЩИНЫ
A5: Бег с барьерами 400 м
A6: h-0,914 м | J6: РР- 52.34
B7: ФИНАЛЬНЫЕ ЗАБЕГИ | C7: 12:55 | D7: =d_1 -> 28.05.2019г. | J7: =d_5 -> г. Сочи, ул. Бзугу 2, ст. им. Славы Метревели
A8: № п/п | B8: Фамилия, имя участника | C8: Дата рождения | D8: Территория | E8: Заявленный разряд | F8: Номер участника | G8: Приход | H8: Результат | I8: Место | J8: Примеч.
B9: 1 ЗАБЕГ
A10: 1 | B10: =VLOOKUP($F10,УЧАСТНИКИ!$A$2:$L$1099,3,FALSE) -> #N/A | C10: =VLOOKUP($F10,УЧАСТНИКИ!$A$2:$L$1099,4,FALSE) -> #N/A | D10: =VLOOKUP($F10,УЧАСТНИКИ!$A$2:$L$1099,5,FALSE) -> #N/A | E10: =VLOOKUP($F10,УЧАСТНИКИ!$A$2:$L$1099,8,FALSE) -> #N/A | J10: =VLOOKUP($F10,УЧАСТНИКИ!$A$2:$L$1099,9,FALSE) -> #N/A
A11: 2 | B11: =VLOOKUP($F11,УЧАСТНИКИ!$A$2:$L$1099,3,FALSE) -> #N/A | C11: =VLOOKUP($F11,УЧАСТНИКИ!$A$2:$L$1099,4,FALSE) -> #N/A | D11: =VLOOKUP($F11,УЧАСТНИКИ!$A$2:$L$1099,5,FALSE) -> #N/A | E11: =VLOOKUP($F11,УЧАСТНИКИ!$A$2:$L$1099,8,FALSE) -> #N/A | J11: =VLOOKUP($F11,УЧАСТНИКИ!$A$2:$L$1099,9,FALSE) -> #N/A
A12: 3 | B12: =VLOOKUP($F12,УЧАСТНИКИ!$A$2:$L$1099,3,FALSE) -> #N/A | C12: =VLOOKUP($F12,УЧАСТНИКИ!$A$2:$L$1099,4,FALSE) -> #N/A | D12: =VLOOKUP($F12,УЧАСТНИКИ!$A$2:$L$1099,5,FALSE) -> #N/A | E12: =VLOOKUP($F12,УЧАСТНИКИ!$A$2:$L$1099,8,FALSE) -> #N/A | J12: =VLOOKUP($F12,УЧАСТНИКИ!$A$2:$L$1099,9,FALSE) -> #N/A
A13: 4 | B13: =VLOOKUP($F13,УЧАСТНИКИ!$A$2:$L$1099,3,FALSE) -> #N/A | C13: =VLOOKUP($F13,УЧАСТНИКИ!$A$2:$L$1099,4,FALSE) -> #N/A | D13: =VLOOKUP($F13,УЧАСТНИКИ!$A$2:$L$1099,5,FALSE) -> #N/A | E13: =VLOOKUP($F13,УЧАСТНИКИ!$A$2:$L$1099,8,FALSE) -> #N/A | J13: =VLOOKUP($F13,УЧАСТНИКИ!$A$2:$L$1099,9,FALSE) -> #N/A
A14: 5 | B14: =VLOOKUP($F14,УЧАСТНИКИ!$A$2:$L$1099,3,FALSE) -> #N/A | C14: =VLOOKUP($F14,УЧАСТНИКИ!$A$2:$L$1099,4,FALSE) -> #N/A | D14: =VLOOKUP($F14,УЧАСТНИКИ!$A$2:$L$1099,5,FALSE) -> #N/A | E14: =VLOOKUP($F14,УЧАСТНИКИ!$A$2:$L$1099,8,FALSE) -> #N/A | J14: =VLOOKUP($F14,УЧАСТНИКИ!$A$2:$L$1099,9,FALSE) -> #N/A
A15: 6 | B15: =VLOOKUP($F15,УЧАСТНИКИ!$A$2:$L$1099,3,FALSE) -> #N/A | C15: =VLOOKUP($F15,УЧАСТНИКИ!$A$2:$L$1099,4,FALSE) -> #N/A | D15: =VLOOKUP($F15,УЧАСТНИКИ!$A$2:$L$1099,5,FALSE) -> #N/A | E15: =VLOOKUP($F15,УЧАСТНИКИ!$A$2:$L$1099,8,FALSE) -> #N/A | J15: =VLOOKUP($F15,УЧАСТНИКИ!$A$2:$L$1099,9,FALSE) -> #N/A
A16: 7 | B16: =VLOOKUP($F16,УЧАСТНИКИ!$A$2:$L$1099,3,FALSE) -> #N/A | C16: =VLOOKUP($F16,УЧАСТНИКИ!$A$2:$L$1099,4,FALSE) -> #N/A | D16: =VLOOKUP($F16,УЧАСТНИКИ!$A$2:$L$1099,5,FALSE) -> #N/A | E16: =VLOOKUP($F16,УЧАСТНИКИ!$A$2:$L$1099,8,FALSE) -> #N/A | J16: =VLOOKUP($F16,УЧАСТНИКИ!$A$2:$L$1099,9,FALSE) -> #N/A
A17: 8 | B17: =VLOOKUP($F17,УЧАСТНИКИ!$A$2:$L$1099,3,FALSE) -> #N/A | C17: =VLOOKUP($F17,УЧАСТНИКИ!$A$2:$L$1099,4,FALSE) -> #N/A | D17: =VLOOKUP($F17,УЧАСТНИКИ!$A$2:$L$1099,5,FALSE) -> #N/A | E17: =VLOOKUP($F17,УЧАСТНИКИ!$A$2:$L$1099,8,FALSE) -> #N/A | J17: =VLOOKUP($F17,УЧАСТНИКИ!$A$2:$L$1099,9,FALSE) -> #N/A
B18: 2 ЗАБЕГ
A19: 1 | B19: =VLOOKUP($F19,УЧАСТНИКИ!$A$2:$L$1099,3,FALSE) -> #N/A | C19: =VLOOKUP($F19,УЧАСТНИКИ!$A$2:$L$1099,4,FALSE) -> #N/A | D19: =VLOOKUP($F19,УЧАСТНИКИ!$A$2:$L$1099,5,FALSE) -> #N/A | E19: =VLOOKUP($F19,УЧАСТНИКИ!$A$2:$L$1099,8,FALSE) -> #N/A | J19: =VLOOKUP($F19,УЧАСТНИКИ!$A$2:$L$1099,9,FALSE) -> #N/A
A20: 2 | B20: =VLOOKUP($F20,УЧАСТНИКИ!$A$2:$L$1099,3,FALSE) -> #N/A | C20: =VLOOKUP($F20,УЧАСТНИКИ!$A$2:$L$1099,4,FALSE) -> #N/A | D20: =VLOOKUP($F20,УЧАСТНИКИ!$A$2:$L$1099,5,FALSE) -> #N/A | E20: =VLOOKUP($F20,УЧАСТНИКИ!$A$2:$L$1099,8,FALSE) -> #N/A | J20: =VLOOKUP($F20,УЧАСТНИКИ!$A$2:$L$1099,9,FALSE) -> #N/A
A21: 3 | B21: =VLOOKUP($F21,УЧАСТНИКИ!$A$2:$L$1099,3,FALSE) -> #N/A | C21: =VLOOKUP($F21,УЧАСТНИКИ!$A$2:$L$1099,4,FALSE) -> #N/A | D21: =VLOOKUP($F21,УЧАСТНИКИ!$A$2:$L$1099,5,FALSE) -> #N/A | E21: =VLOOKUP($F21,УЧАСТНИКИ!$A$2:$L$1099,8,FALSE) -> #N/A | J21: =VLOOKUP($F21,УЧАСТНИКИ!$A$2:$L$1099,9,FALSE) -> #N/A
A22: 4 | B22: =VLOOKUP($F22,УЧАСТНИКИ!$A$2:$L$1099,3,FALSE) -> #N/A | C22: =VLOOKUP($F22,УЧАСТНИКИ!$A$2:$L$1099,4,FALSE) -> #N/A | D22: =VLOOKUP($F22,УЧАСТНИКИ!$A$2:$L$1099,5,FALSE) -> #N/A | E22: =VLOOKUP($F22,УЧАСТНИКИ!$A$2:$L$1099,8,FALSE) -> #N/A | J22: =VLOOKUP($F22,УЧАСТНИКИ!$A$2:$L$1099,9,FALSE) -> #N/A
A23: 5 | B23: =VLOOKUP($F23,УЧАСТНИКИ!$A$2:$L$1099,3,FALSE) -> #N/A | C23: =VLOOKUP($F23,УЧАСТНИКИ!$A$2:$L$1099,4,FALSE) -> #N/A | D23: =VLOOKUP($F23,УЧАСТНИКИ!$A$2:$L$1099,5,FALSE) -> #N/A | E23: =VLOOKUP($F23,УЧАСТНИКИ!$A$2:$L$1099,8,FALSE) -> #N/A | J23: =VLOOKUP($F23,УЧАСТНИКИ!$A$2:$L$1099,9,FALSE) -> #N/A
A24: 6 | B24: =VLOOKUP($F24,УЧАСТНИКИ!$A$2:$L$1099,3,FALSE) -> #N/A | C24: =VLOOKUP($F24,УЧАСТНИКИ!$A$2:$L$1099,4,FALSE) -> #N/A | D24: =VLOOKUP($F24,УЧАСТНИКИ!$A$2:$L$1099,5,FALSE) -> #N/A | E24: =VLOOKUP($F24,УЧАСТНИКИ!$A$2:$L$1099,8,FALSE) -> #N/A | J24: =VLOOKUP($F24,УЧАСТНИКИ!$A$2:$L$1099,9,FALSE) -> #N/A
A25: 7 | B25: =VLOOKUP($F25,УЧАСТНИКИ!$A$2:$L$1099,3,FALSE) -> #N/A | C25: =VLOOKUP($F25,УЧАСТНИКИ!$A$2:$L$1099,4,FALSE) -> #N/A | D25: =VLOOKUP($F25,УЧАСТНИКИ!$A$2:$L$1099,5,FALSE) -> #N/A | E25: =VLOOKUP($F25,УЧАСТНИКИ!$A$2:$L$1099,8,FALSE) -> #N/A | J25: =VLOOKUP($F25,УЧАСТНИКИ!$A$2:$L$1099,9,FALSE) -> #N/A
A26: 8 | B26: =VLOOKUP($F26,УЧАСТНИКИ!$A$2:$L$1099,3,FALSE) -> #N/A | C26: =VLOOKUP($F26,УЧАСТНИКИ!$A$2:$L$1099,4,FALSE) -> #N/A | D26: =VLOOKUP($F26,УЧАСТНИКИ!$A$2:$L$1099,5,FALSE) -> #N/A | E26: =VLOOKUP($F26,УЧАСТНИКИ!$A$2:$L$1099,8,FALSE) -> #N/A | J26: =VLOOKUP($F26,УЧАСТНИКИ!$A$2:$L$1099,9,FALSE) -> #N/A
B27: 3 ЗАБЕГ
A28: 1 | B28: =VLOOKUP($F28,УЧАСТНИКИ!$A$2:$L$1099,3,FALSE) -> #N/A | C28: =VLOOKUP($F28,УЧАСТНИКИ!$A$2:$L$1099,4,FALSE) -> #N/A | D28: =VLOOKUP($F28,УЧАСТНИКИ!$A$2:$L$1099,5,FALSE) -> #N/A | E28: =VLOOKUP($F28,УЧАСТНИКИ!$A$2:$L$1099,8,FALSE) -> #N/A | J28: =VLOOKUP($F28,УЧАСТНИКИ!$A$2:$L$1099,9,FALSE) -> #N/A
A29: 2 | B29: =VLOOKUP($F29,УЧАСТНИКИ!$A$2:$L$1099,3,FALSE) -> #N/A | C29: =VLOOKUP($F29,УЧАСТНИКИ!$A$2:$L$1099,4,FALSE) -> #N/A | D29: =VLOOKUP($F29,УЧАСТНИКИ!$A$2:$L$1099,5,FALSE) -> #N/A | E29: =VLOOKUP($F29,УЧАСТНИКИ!$A$2:$L$1099,8,FALSE) -> #N/A | J29: =VLOOKUP($F29,УЧАСТНИКИ!$A$2:$L$1099,9,FALSE) -> #N/A
A30: 3 | B30: =VLOOKUP($F30,УЧАСТНИКИ!$A$2:$L$1099,3,FALSE) -> #N/A | C30: =VLOOKUP($F30,УЧАСТНИКИ!$A$2:$L$1099,4,FALSE) -> #N/A | D30: =VLOOKUP($F30,УЧАСТНИКИ!$A$2:$L$1099,5,FALSE) -> #N/A | E30: =VLOOKUP($F30,УЧАСТНИКИ!$A$2:$L$1099,8,FALSE) -> #N/A | J30: =VLOOKUP($F30,УЧАСТНИКИ!$A$2:$L$1099,9,FALSE) -> #N/A
A31: 4 | B31: =VLOOKUP($F31,УЧАСТНИКИ!$A$2:$L$1099,3,FALSE) -> #N/A | C31: =VLOOKUP($F31,УЧАСТНИКИ!$A$2:$L$1099,4,FALSE) -> #N/A | D31: =VLOOKUP($F31,УЧАСТНИКИ!$A$2:$L$1099,5,FALSE) -> #N/A | E31: =VLOOKUP($F31,УЧАСТНИКИ!$A$2:$L$1099,8,FALSE) -> #N/A | J31: =VLOOKUP($F31,УЧАСТНИКИ!$A$2:$L$1099,9,FALSE) -> #N/A
A32: 5 | B32: =VLOOKUP($F32,УЧАСТНИКИ!$A$2:$L$1099,3,FALSE) -> #N/A | C32: =VLOOKUP($F32,УЧАСТНИКИ!$A$2:$L$1099,4,FALSE) -> #N/A | D32: =VLOOKUP($F32,УЧАСТНИКИ!$A$2:$L$1099,5,FALSE) -> #N/A | E32: =VLOOKUP($F32,УЧАСТНИКИ!$A$2:$L$1099,8,FALSE) -> #N/A | J32: =VLOOKUP($F32,УЧАСТНИКИ!$A$2:$L$1099,9,FALSE) -> #N/A
A33: 6 | B33: =VLOOKUP($F33,УЧАСТНИКИ!$A$2:$L$1099,3,FALSE) -> #N/A | C33: =VLOOKUP($F33,УЧАСТНИКИ!$A$2:$L$1099,4,FALSE) -> #N/A | D33: =VLOOKUP($F33,УЧАСТНИКИ!$A$2:$L$1099,5,FALSE) -> #N/A | E33: =VLOOKUP($F33,УЧАСТНИКИ!$A$2:$L$1099,8,FALSE) -> #N/A | J33: =VLOOKUP($F33,УЧАСТНИКИ!$A$2:$L$1099,9,FALSE) -> #N/A
A34: 7 | B34: =VLOOKUP($F34,УЧАСТНИКИ!$A$2:$L$1099,3,FALSE) -> #N/A | C34: =VLOOKUP($F34,УЧАСТНИКИ!$A$2:$L$1099,4,FALSE) -> #N/A | D34: =VLOOKUP($F34,УЧАСТНИКИ!$A$2:$L$1099,5,FALSE) -> #N/A | E34: =VLOOKUP($F34,УЧАСТНИКИ!$A$2:$L$1099,8,FALSE) -> #N/A | J34: =VLOOKUP($F34,УЧАСТНИКИ!$A$2:$L$1099,9,FALSE) -> #N/A
A35: 8 | B35: =VLOOKUP($F35,УЧАСТНИКИ!$A$2:$L$1099,3,FALSE) -> #N/A | C35: =VLOOKUP($F35,УЧАСТНИКИ!$A$2:$L$1099,4,FALSE) -> #N/A | D35: =VLOOKUP($F35,УЧАСТНИКИ!$A$2:$L$1099,5,FALSE) -> #N/A | E35: =VLOOKUP($F35,УЧАСТНИКИ!$A$2:$L$1099,8,FALSE) -> #N/A | J35: =VLOOKUP($F35,УЧАСТНИКИ!$A$2:$L$1099,9,FALSE) -> #N/A
B36: 4 ЗАБЕГ
A37: 1 | B37: =VLOOKUP($F37,УЧАСТНИКИ!$A$2:$L$1099,3,FALSE) -> #N/A | C37: =VLOOKUP($F37,УЧАСТНИКИ!$A$2:$L$1099,4,FALSE) -> #N/A | D37: =VLOOKUP($F37,УЧАСТНИКИ!$A$2:$L$1099,5,FALSE) -> #N/A | E37: =VLOOKUP($F37,УЧАСТНИКИ!$A$2:$L$1099,8,FALSE) -> #N/A | J37: =VLOOKUP($F37,УЧАСТНИКИ!$A$2:$L$1099,9,FALSE) -> #N/A
A38: 2 | B38: =VLOOKUP($F38,УЧАСТНИКИ!$A$2:$L$1099,3,FALSE) -> #N/A | C38: =VLOOKUP($F38,УЧАСТНИКИ!$A$2:$L$1099,4,FALSE) -> #N/A | D38: =VLOOKUP($F38,УЧАСТНИКИ!$A$2:$L$1099,5,FALSE) -> #N/A | E38: =VLOOKUP($F38,УЧАСТНИКИ!$A$2:$L$1099,8,FALSE) -> #N/A | J38: =VLOOKUP($F38,УЧАСТНИКИ!$A$2:$L$1099,9,FALSE) -> #N/A
A39: 3 | B39: =VLOOKUP($F39,УЧАСТНИКИ!$A$2:$L$1099,3,FALSE) -> #N/A | C39: =VLOOKUP($F39,УЧАСТНИКИ!$A$2:$L$1099,4,FALSE) -> #N/A | D39: =VLOOKUP($F39,УЧАСТНИКИ!$A$2:$L$1099,5,FALSE) -> #N/A | E39: =VLOOKUP($F39,УЧАСТНИКИ!$A$2:$L$1099,8,FALSE) -> #N/A | J39: =VLOOKUP($F39,УЧАСТНИКИ!$A$2:$L$1099,9,FALSE) -> #N/A
A40: 4 | B40: =VLOOKUP($F40,УЧАСТНИКИ!$A$2:$L$1099,3,FALSE) -> #N/A | C40: =VLOOKUP($F40,УЧАСТНИКИ!$A$2:$L$1099,4,FALSE) -> #N/A | D40: =VLOOKUP($F40,УЧАСТНИКИ!$A$2:$L$1099,5,FALSE) -> #N/A | E40: =VLOOKUP($F40,УЧАСТНИКИ!$A$2:$L$1099,8,FALSE) -> #N/A | J40: =VLOOKUP($F40,УЧАСТНИКИ!$A$2:$L$1099,9,FALSE) -> #N/A
A41: 5 | B41: =VLOOKUP($F41,УЧАСТНИКИ!$A$2:$L$1099,3,FALSE) -> #N/A | C41: =VLOOKUP($F41,УЧАСТНИКИ!$A$2:$L$1099,4,FALSE) -> #N/A | D41: =VLOOKUP($F41,УЧАСТНИКИ!$A$2:$L$1099,5,FALSE) -> #N/A | E41: =VLOOKUP($F41,УЧАСТНИКИ!$A$2:$L$1099,8,FALSE) -> #N/A | J41: =VLOOKUP($F41,УЧАСТНИКИ!$A$2:$L$1099,9,FALSE) -> #N/A
A42: 6 | B42: =VLOOKUP($F42,УЧАСТНИКИ!$A$2:$L$1099,3,FALSE) -> #N/A | C42: =VLOOKUP($F42,УЧАСТНИКИ!$A$2:$L$1099,4,FALSE) -> #N/A | D42: =VLOOKUP($F42,УЧАСТНИКИ!$A$2:$L$1099,5,FALSE) -> #N/A | E42: =VLOOKUP($F42,УЧАСТНИКИ!$A$2:$L$1099,8,FALSE) -> #N/A | J42: =VLOOKUP($F42,УЧАСТНИКИ!$A$2:$L$1099,9,FALSE) -> #N/A
A43: 7 | B43: =VLOOKUP($F43,УЧАСТНИКИ!$A$2:$L$1099,3,FALSE) -> #N/A | C43: =VLOOKUP($F43,УЧАСТНИКИ!$A$2:$L$1099,4,FALSE) -> #N/A | D43: =VLOOKUP($F43,УЧАСТНИКИ!$A$2:$L$1099,5,FALSE) -> #N/A | E43: =VLOOKUP($F43,УЧАСТНИКИ!$A$2:$L$1099,8,FALSE) -> #N/A | J43: =VLOOKUP($F43,УЧАСТНИКИ!$A$2:$L$1099,9,FALSE) -> #N/A
A44: 8 | B44: =VLOOKUP($F44,УЧАСТНИКИ!$A$2:$L$1099,3,FALSE) -> #N/A | C44: =VLOOKUP($F44,УЧАСТНИКИ!$A$2:$L$1099,4,FALSE) -> #N/A | D44: =VLOOKUP($F44,УЧАСТНИКИ!$A$2:$L$1099,5,FALSE) -> #N/A | E44: =VLOOKUP($F44,УЧАСТНИКИ!$A$2:$L$1099,8,FALSE) -> #N/A | J44: =VLOOKUP($F44,УЧАСТНИКИ!$A$2:$L$1099,9,FALSE) -> #N/A
B45: 5 ЗАБЕГ
A46: 1 | B46: =VLOOKUP($F46,УЧАСТНИКИ!$A$2:$L$1099,3,FALSE) -> #N/A | C46: =VLOOKUP($F46,УЧАСТНИКИ!$A$2:$L$1099,4,FALSE) -> #N/A | D46: =VLOOKUP($F46,УЧАСТНИКИ!$A$2:$L$1099,5,FALSE) -> #N/A | E46: =VLOOKUP($F46,УЧАСТНИКИ!$A$2:$L$1099,8,FALSE) -> #N/A | J46: =VLOOKUP($F46,УЧАСТНИКИ!$A$2:$L$1099,9,FALSE) -> #N/A
A47: 2 | B47: =VLOOKUP($F47,УЧАСТНИКИ!$A$2:$L$1099,3,FALSE) -> #N/A | C47: =VLOOKUP($F47,УЧАСТНИКИ!$A$2:$L$1099,4,FALSE) -> #N/A | D47: =VLOOKUP($F47,УЧАСТНИКИ!$A$2:$L$1099,5,FALSE) -> #N/A | E47: =VLOOKUP($F47,УЧАСТНИКИ!$A$2:$L$1099,8,FALSE) -> #N/A | J47: =VLOOKUP($F47,УЧАСТНИКИ!$A$2:$L$1099,9,FALSE) -> #N/A
A48: 3 | B48: =VLOOKUP($F48,УЧАСТНИКИ!$A$2:$L$1099,3,FALSE) -> #N/A | C48: =VLOOKUP($F48,УЧАСТНИКИ!$A$2:$L$1099,4,FALSE) -> #N/A | D48: =VLOOKUP($F48,УЧАСТНИКИ!$A$2:$L$1099,5,FALSE) -> #N/A | E48: =VLOOKUP($F48,УЧАСТНИКИ!$A$2:$L$1099,8,FALSE) -> #N/A | J48: =VLOOKUP($F48,УЧАСТНИКИ!$A$2:$L$1099,9,FALSE) -> #N/A
A49: 4 | B49: =VLOOKUP($F49,УЧАСТНИКИ!$A$2:$L$1099,3,FALSE) -> #N/A | C49: =VLOOKUP($F49,УЧАСТНИКИ!$A$2:$L$1099,4,FALSE) -> #N/A | D49: =VLOOKUP($F49,УЧАСТНИКИ!$A$2:$L$1099,5,FALSE) -> #N/A | E49: =VLOOKUP($F49,УЧАСТНИКИ!$A$2:$L$1099,8,FALSE) -> #N/A | J49: =VLOOKUP($F49,УЧАСТНИКИ!$A$2:$L$1099,9,FALSE) -> #N/A
A50: 5 | B50: =VLOOKUP($F50,УЧАСТНИКИ!$A$2:$L$1099,3,FALSE) -> #N/A | C50: =VLOOKUP($F50,УЧАСТНИКИ!$A$2:$L$1099,4,FALSE) -> #N/A | D50: =VLOOKUP($F50,УЧАСТНИКИ!$A$2:$L$1099,5,FALSE) -> #N/A | E50: =VLOOKUP($F50,УЧАСТНИКИ!$A$2:$L$1099,8,FALSE) -> #N/A | J50: =VLOOKUP($F50,УЧАСТНИКИ!$A$2:$L$1099,9,FALSE) -> #N/A
A51: 6 | B51: =VLOOKUP($F51,УЧАСТНИКИ!$A$2:$L$1099,3,FALSE) -> #N/A | C51: =VLOOKUP($F51,УЧАСТНИКИ!$A$2:$L$1099,4,FALSE) -> #N/A | D51: =VLOOKUP($F51,УЧАСТНИКИ!$A$2:$L$1099,5,FALSE) -> #N/A | E51: =VLOOKUP($F51,УЧАСТНИКИ!$A$2:$L$1099,8,FALSE) -> #N/A | J51: =VLOOKUP($F51,УЧАСТНИКИ!$A$2:$L$1099,9,FALSE) -> #N/A
A52: 7 | B52: =VLOOKUP($F52,УЧАСТНИКИ!$A$2:$L$1099,3,FALSE) -> #N/A | C52: =VLOOKUP($F52,УЧАСТНИКИ!$A$2:$L$1099,4,FALSE) -> #N/A | D52: =VLOOKUP($F52,УЧАСТНИКИ!$A$2:$L$1099,5,FALSE) -> #N/A | E52: =VLOOKUP($F52,УЧАСТНИКИ!$A$2:$L$1099,8,FALSE) -> #N/A | J52: =VLOOKUP($F52,УЧАСТНИКИ!$A$2:$L$1099,9,FALSE) -> #N/A
A53: 8 | B53: =VLOOKUP($F53,УЧАСТНИКИ!$A$2:$L$1099,3,FALSE) -> #N/A | C53: =VLOOKUP($F53,УЧАСТНИКИ!$A$2:$L$1099,4,FALSE) -> #N/A | D53: =VLOOKUP($F53,УЧАСТНИКИ!$A$2:$L$1099,5,FALSE) -> #N/A | E53: =VLOOKUP($F53,УЧАСТНИКИ!$A$2:$L$1099,8,FALSE) -> #N/A | J53: =VLOOKUP($F53,УЧАСТНИКИ!$A$2:$L$1099,9,FALSE) -> #N/A
B54: 6 ЗАБЕГ
A55: 1 | B55: =VLOOKUP($F55,УЧАСТНИКИ!$A$2:$L$1099,3,FALSE) -> #N/A | C55: =VLOOKUP($F55,УЧАСТНИКИ!$A$2:$L$1099,4,FALSE) -> #N/A | D55: =VLOOKUP($F55,УЧАСТНИКИ!$A$2:$L$1099,5,FALSE) -> #N/A | E55: =VLOOKUP($F55,УЧАСТНИКИ!$A$2:$L$1099,8,FALSE) -> #N/A | J55: =VLOOKUP($F55,УЧАСТНИКИ!$A$2:$L$1099,9,FALSE) -> #N/A
A56: 2 | B56: =VLOOKUP($F56,УЧАСТНИКИ!$A$2:$L$1099,3,FALSE) -> #N/A | C56: =VLOOKUP($F56,УЧАСТНИКИ!$A$2:$L$1099,4,FALSE) -> #N/A | D56: =VLOOKUP($F56,УЧАСТНИКИ!$A$2:$L$1099,5,FALSE) -> #N/A | E56: =VLOOKUP($F56,УЧАСТНИКИ!$A$2:$L$1099,8,FALSE) -> #N/A | J56: =VLOOKUP($F56,УЧАСТНИКИ!$A$2:$L$1099,9,FALSE) -> #N/A
A57: 3 | B57: =VLOOKUP($F57,УЧАСТНИКИ!$A$2:$L$1099,3,FALSE) -> #N/A | C57: =VLOOKUP($F57,УЧАСТНИКИ!$A$2:$L$1099,4,FALSE) -> #N/A | D57: =VLOOKUP($F57,УЧАСТНИКИ!$A$2:$L$1099,5,FALSE) -> #N/A | E57: =VLOOKUP($F57,УЧАСТНИКИ!$A$2:$L$1099,8,FALSE) -> #N/A | J57: =VLOOKUP($F57,УЧАСТНИКИ!$A$2:$L$1099,9,FALSE) -> #N/A
A58: 4 | B58: =VLOOKUP($F58,УЧАСТНИКИ!$A$2:$L$1099,3,FALSE) -> #N/A | C58: =VLOOKUP($F58,УЧАСТНИКИ!$A$2:$L$1099,4,FALSE) -> #N/A | D58: =VLOOKUP($F58,УЧАСТНИКИ!$A$2:$L$1099,5,FALSE) -> #N/A | E58: =VLOOKUP($F58,УЧАСТНИКИ!$A$2:$L$1099,8,FALSE) -> #N/A | J58: =VLOOKUP($F58,УЧАСТНИКИ!$A$2:$L$1099,9,FALSE) -> #N/A
A59: 5 | B59: =VLOOKUP($F59,УЧАСТНИКИ!$A$2:$L$1099,3,FALSE) -> #N/A | C59: =VLOOKUP($F59,УЧАСТНИКИ!$A$2:$L$1099,4,FALSE) -> #N/A | D59: =VLOOKUP($F59,УЧАСТНИКИ!$A$2:$L$1099,5,FALSE) -> #N/A | E59: =VLOOKUP($F59,УЧАСТНИКИ!$A$2:$L$1099,8,FALSE) -> #N/A | J59: =VLOOKUP($F59,УЧАСТНИКИ!$A$2:$L$1099,9,FALSE) -> #N/A
A60: 6 | B60: =VLOOKUP($F60,УЧАСТНИКИ!$A$2:$L$1099,3,FALSE) -> #N/A | C60: =VLOOKUP($F60,УЧАСТНИКИ!$A$2:$L$1099,4,FALSE) -> #N/A | D60: =VLOOKUP($F60,УЧАСТНИКИ!$A$2:$L$1099,5,FALSE) -> #N/A | E60: =VLOOKUP($F60,УЧАСТНИКИ!$A$2:$L$1099,8,FALSE) -> #N/A | J60: =VLOOKUP($F60,УЧАСТНИКИ!$A$2:$L$1099,9,FALSE) -> #N/A
A61: 7 | B61: =VLOOKUP($F61,УЧАСТНИКИ!$A$2:$L$1099,3,FALSE) -> #N/A | C61: =VLOOKUP($F61,УЧАСТНИКИ!$A$2:$L$1099,4,FALSE) -> #N/A | D61: =VLOOKUP($F61,УЧАСТНИКИ!$A$2:$L$1099,5,FALSE) -> #N/A | E61: =VLOOKUP($F61,УЧАСТНИКИ!$A$2:$L$1099,8,FALSE) -> #N/A | J61: =VLOOKUP($F61,УЧАСТНИКИ!$A$2:$L$1099,9,FALSE) -> #N/A
A62: 8 | B62: =VLOOKUP($F62,УЧАСТНИКИ!$A$2:$L$1099,3,FALSE) -> #N/A | C62: =VLOOKUP($F62,УЧАСТНИКИ!$A$2:$L$1099,4,FALSE) -> #N/A | D62: =VLOOKUP($F62,УЧАСТНИКИ!$A$2:$L$1099,5,FALSE) -> #N/A | E62: =VLOOKUP($F62,УЧАСТНИКИ!$A$2:$L$1099,8,FALSE) -> #N/A | J62: =VLOOKUP($F62,УЧАСТНИКИ!$A$2:$L$1099,9,FALSE) -> #N/A
B63: 7 ЗАБЕГ
A64: 1 | B64: =VLOOKUP($F64,УЧАСТНИКИ!$A$2:$L$1099,3,FALSE) -> #N/A | C64: =VLOOKUP($F64,УЧАСТНИКИ!$A$2:$L$1099,4,FALSE) -> #N/A | D64: =VLOOKUP($F64,УЧАСТНИКИ!$A$2:$L$1099,5,FALSE) -> #N/A | E64: =VLOOKUP($F64,УЧАСТНИКИ!$A$2:$L$1099,8,FALSE) -> #N/A | J64: =VLOOKUP($F64,УЧАСТНИКИ!$A$2:$L$1099,9,FALSE) -> #N/A
A65: 2 | B65: =VLOOKUP($F65,УЧАСТНИКИ!$A$2:$L$1099,3,FALSE) -> #N/A | C65: =VLOOKUP($F65,УЧАСТНИКИ!$A$2:$L$1099,4,FALSE) -> #N/A | D65: =VLOOKUP($F65,УЧАСТНИКИ!$A$2:$L$1099,5,FALSE) -> #N/A | E65: =VLOOKUP($F65,УЧАСТНИКИ!$A$2:$L$1099,8,FALSE) -> #N/A | J65: =VLOOKUP($F65,УЧАСТНИКИ!$A$2:$L$1099,9,FALSE) -> #N/A
A66: 3 | B66: =VLOOKUP($F66,УЧАСТНИКИ!$A$2:$L$1099,3,FALSE) -> #N/A | C66: =VLOOKUP($F66,УЧАСТНИКИ!$A$2:$L$1099,4,FALSE) -> #N/A | D66: =VLOOKUP($F66,УЧАСТНИКИ!$A$2:$L$1099,5,FALSE) -> #N/A | E66: =VLOOKUP($F66,УЧАСТНИКИ!$A$2:$L$1099,8,FALSE) -> #N/A | J66: =VLOOKUP($F66,УЧАСТНИКИ!$A$2:$L$1099,9,FALSE) -> #N/A
A67: 4 | B67: =VLOOKUP($F67,УЧАСТНИКИ!$A$2:$L$1099,3,FALSE) -> #N/A | C67: =VLOOKUP($F67,УЧАСТНИКИ!$A$2:$L$1099,4,FALSE) -> #N/A | D67: =VLOOKUP($F67,УЧАСТНИКИ!$A$2:$L$1099,5,FALSE) -> #N/A | E67: =VLOOKUP($F67,УЧАСТНИКИ!$A$2:$L$1099,8,FALSE) -> #N/A | J67: =VLOOKUP($F67,УЧАСТНИКИ!$A$2:$L$1099,9,FALSE) -> #N/A
A68: 5 | B68: =VLOOKUP($F68,УЧАСТНИКИ!$A$2:$L$1099,3,FALSE) -> #N/A | C68: =VLOOKUP($F68,УЧАСТНИКИ!$A$2:$L$1099,4,FALSE) -> #N/A | D68: =VLOOKUP($F68,УЧАСТНИКИ!$A$2:$L$1099,5,FALSE) -> #N/A | E68: =VLOOKUP($F68,УЧАСТНИКИ!$A$2:$L$1099,8,FALSE) -> #N/A | J68: =VLOOKUP($F68,УЧАСТНИКИ!$A$2:$L$1099,9,FALSE) -> #N/A
A69: 6 | B69: =VLOOKUP($F69,УЧАСТНИКИ!$A$2:$L$1099,3,FALSE) -> #N/A | C69: =VLOOKUP($F69,УЧАСТНИКИ!$A$2:$L$1099,4,FALSE) -> #N/A | D69: =VLOOKUP($F69,УЧАСТНИКИ!$A$2:$L$1099,5,FALSE) -> #N/A | E69: =VLOOKUP($F69,УЧАСТНИКИ!$A$2:$L$1099,8,FALSE) -> #N/A | J69: =VLOOKUP($F69,УЧАСТНИКИ!$A$2:$L$1099,9,FALSE) -> #N/A
A70: 7 | B70: =VLOOKUP($F70,УЧАСТНИКИ!$A$2:$L$1099,3,FALSE) -> #N/A | C70: =VLOOKUP($F70,УЧАСТНИКИ!$A$2:$L$1099,4,FALSE) -> #N/A | D70: =VLOOKUP($F70,УЧАСТНИКИ!$A$2:$L$1099,5,FALSE) -> #N/A | E70: =VLOOKUP($F70,УЧАСТНИКИ!$A$2:$L$1099,8,FALSE) -> #N/A | J70: =VLOOKUP($F70,УЧАСТНИКИ!$A$2:$L$1099,9,FALSE) -> #N/A
A71: 8 | B71: =VLOOKUP($F71,УЧАСТНИКИ!$A$2:$L$1099,3,FALSE) -> #N/A | C71: =VLOOKUP($F71,УЧАСТНИКИ!$A$2:$L$1099,4,FALSE) -> #N/A | D71: =VLOOKUP($F71,УЧАСТНИКИ!$A$2:$L$1099,5,FALSE) -> #N/A | E71: =VLOOKUP($F71,УЧАСТНИКИ!$A$2:$L$1099,8,FALSE) -> #N/A | J71: =VLOOKUP($F71,УЧАСТНИКИ!$A$2:$L$1099,9,FALSE) -> #N/A
A75: Рефери по бегу:
A76: Ст.судья:
A77: Ст.хронометрист:
A78: Секретарь:

Sheet 3000СБ-Ж
A1: =Name_2 -> ВСЕРОССИЙСКАЯ ФЕДЕРАЦИЯ ЛЕГКОЙ АТЛЕТИКИ
A2: СТАРТОВЫЙ ПРОТОКОЛ
A3: КУБОК РОССИИ
A4: ЖЕНЩИНЫ
A5: Бег с припятствиями 3000 м
J6: РР- 8:58.81
B7: ФИНАЛЬНЫЕ ЗАБЕГИ | C7: 18:40 | D7: =d_1 -> 28.05.2019г. | J7: =d_5 -> г. Сочи, ул. Бзугу 2, ст. им. Славы Метревели
A8: № п/п | B8: Фамилия, имя участника | C8: Дата рождения | D8: Территория | E8: Заявленный разряд | F8: Номер участника | G8: Приход | H8: Результат | I8: Место | J8: Примеч.
B9: 1 ЗАБЕГ
A10: 1 | B10: =VLOOKUP($F10,УЧАСТНИКИ!$A$2:$L$1099,3,FALSE) -> Лихачёва Юлия | C10: =VLOOKUP($F10,УЧАСТНИКИ!$A$2:$L$1099,4,FALSE) -> 26.08.1998 | D10: =VLOOKUP($F10,УЧАСТНИКИ!$A$2:$L$1099,5,FALSE) -> Красноярский край | E10: =VLOOKUP($F10,УЧАСТНИКИ!$A$2:$L$1099,8,FALSE) -> КМС | F10: 104 | J10: =VLOOKUP($F10,УЧАСТНИКИ!$A$2:$L$1099,9,FALSE) -> К
A11: 2 | B11: =VLOOKUP($F11,УЧАСТНИКИ!$A$2:$L$1099,3,FALSE) -> Шипицына Ирина | C11: =VLOOKUP($F11,УЧАСТНИКИ!$A$2:$L$1099,4,FALSE) -> 18.06.2000 | D11: =VLOOKUP($F11,УЧАСТНИКИ!$A$2:$L$1099,5,FALSE) -> Пермский край | E11: =VLOOKUP($F11,УЧАСТНИКИ!$A$2:$L$1099,8,FALSE) -> КМС | F11: 25 | J11: =VLOOKUP($F11,УЧАСТНИКИ!$A$2:$L$1099,9,FALSE) -> К
A12: 3 | B12: =VLOOKUP($F12,УЧАСТНИКИ!$A$2:$L$1099,3,FALSE) -> Тропина Анна | C12: =VLOOKUP($F12,УЧАСТНИКИ!$A$2:$L$1099,4,FALSE) -> 03.11.1998 | D12: =VLOOKUP($F12,УЧАСТНИКИ!$A$2:$L$1099,5,FALSE) -> Свердловская область | E12: =VLOOKUP($F12,УЧАСТНИКИ!$A$2:$L$1099,8,FALSE) -> МС | F12: 74 | J12: =VLOOKUP($F12,УЧАСТНИКИ!$A$2:$L$1099,9,FALSE) -> К
A13: 4 | B13: =VLOOKUP($F13,УЧАСТНИКИ!$A$2:$L$1099,3,FALSE) -> Вовк Ольга | C13: =VLOOKUP($F13,УЧАСТНИКИ!$A$2:$L$1099,4,FALSE) -> 13.02.1993 | D13: =VLOOKUP($F13,УЧАСТНИКИ!$A$2:$L$1099,5,FALSE) -> Ростовская область | E13: =VLOOKUP($F13,УЧАСТНИКИ!$A$2:$L$1099,8,FALSE) -> МСМК | F13: 477 | J13: =VLOOKUP($F13,УЧАСТНИКИ!$A$2:$L$1099,9,FALSE) -> К
A14: 5 | B14: =VLOOKUP($F14,УЧАСТНИКИ!$A$2:$L$1099,3,FALSE) -> Соколенко Екатерина | C14: =VLOOKUP($F14,УЧАСТНИКИ!$A$2:$L$1099,4,FALSE) -> 13.09.1992 | D14: =VLOOKUP($F14,УЧАСТНИКИ!$A$2:$L$1099,5,FALSE) -> Томская область Новосибирская область | E14: =VLOOKUP($F14,УЧАСТНИКИ!$A$2:$L$1099,8,FALSE) -> МСМК | F14: 428 | J14: =VLOOKUP($F14,УЧАСТНИКИ!$A$2:$L$1099,9,FALSE) -> К
A15: 6 | B15: =VLOOKUP($F15,УЧАСТНИКИ!$A$2:$L$1099,3,FALSE) -> Колоскова (Власова) Наталья | C15: =VLOOKUP($F15,УЧАСТНИКИ!$A$2:$L$1099,4,FALSE) -> 19.07.1988 | D15: =VLOOKUP($F15,УЧАСТНИКИ!$A$2:$L$1099,5,FALSE) -> Москва Приморский край | E15: =VLOOKUP($F15,УЧАСТНИКИ!$A$2:$L$1099,8,FALSE) -> МСМК | F15: 350 | J15: =VLOOKUP($F15,УЧАСТНИКИ!$A$2:$L$1099,9,FALSE) -> Л
A16: 7
A17: 8
A18: 9
A19: 10
A20: 11
A21: 12
A22: 13
A23: 14
A24: 15
A25: 16
B26: 2 ЗАБЕГ
A27: 1 | B27: =VLOOKUP($F27,УЧАСТНИКИ!$A$2:$L$1099,3,FALSE) -> #N/A | C27: =VLOOKUP($F27,УЧАСТНИКИ!$A$2:$L$1099,4,FALSE) -> #N/A | D27: =VLOOKUP($F27,УЧАСТНИКИ!$A$2:$L$1099,5,FALSE) -> #N/A | E27: =VLOOKUP($F27,УЧАСТНИКИ!$A$2:$L$1099,8,FALSE) -> #N/A | J27: =VLOOKUP($F27,УЧАСТНИКИ!$A$2:$L$1099,9,FALSE) -> #N/A
A28: 2 | B28: =VLOOKUP($F28,УЧАСТНИКИ!$A$2:$L$1099,3,FALSE) -> #N/A | C28: =VLOOKUP($F28,УЧАСТНИКИ!$A$2:$L$1099,4,FALSE) -> #N/A | D28: =VLOOKUP($F28,УЧАСТНИКИ!$A$2:$L$1099,5,FALSE) -> #N/A | E28: =VLOOKUP($F28,УЧАСТНИКИ!$A$2:$L$1099,8,FALSE) -> #N/A | J28: =VLOOKUP($F28,УЧАСТНИКИ!$A$2:$L$1099,9,FALSE) -> #N/A
A29: 3 | B29: =VLOOKUP($F29,УЧАСТНИКИ!$A$2:$L$1099,3,FALSE) -> #N/A | C29: =VLOOKUP($F29,УЧАСТНИКИ!$A$2:$L$1099,4,FALSE) -> #N/A | D29: =VLOOKUP($F29,УЧАСТНИКИ!$A$2:$L$1099,5,FALSE) -> #N/A | E29: =VLOOKUP($F29,УЧАСТНИКИ!$A$2:$L$1099,8,FALSE) -> #N/A | J29: =VLOOKUP($F29,УЧАСТНИКИ!$A$2:$L$1099,9,FALSE) -> #N/A
A30: 4 | B30: =VLOOKUP($F30,УЧАСТНИКИ!$A$2:$L$1099,3,FALSE) -> #N/A | C30: =VLOOKUP($F30,УЧАСТНИКИ!$A$2:$L$1099,4,FALSE) -> #N/A | D30: =VLOOKUP($F30,УЧАСТНИКИ!$A$2:$L$1099,5,FALSE) -> #N/A | E30: =VLOOKUP($F30,УЧАСТНИКИ!$A$2:$L$1099,8,FALSE) -> #N/A | J30: =VLOOKUP($F30,УЧАСТНИКИ!$A$2:$L$1099,9,FALSE) -> #N/A
A31: 5 | B31: =VLOOKUP($F31,УЧАСТНИКИ!$A$2:$L$1099,3,FALSE) -> #N/A | C31: =VLOOKUP($F31,УЧАСТНИКИ!$A$2:$L$1099,4,FALSE) -> #N/A | D31: =VLOOKUP($F31,УЧАСТНИКИ!$A$2:$L$1099,5,FALSE) -> #N/A | E31: =VLOOKUP($F31,УЧАСТНИКИ!$A$2:$L$1099,8,FALSE) -> #N/A | J31: =VLOOKUP($F31,УЧАСТНИКИ!$A$2:$L$1099,9,FALSE) -> #N/A
A32: 6 | B32: =VLOOKUP($F32,УЧАСТНИКИ!$A$2:$L$1099,3,FALSE) -> #N/A | C32: =VLOOKUP($F32,УЧАСТНИКИ!$A$2:$L$1099,4,FALSE) -> #N/A | D32: =VLOOKUP($F32,УЧАСТНИКИ!$A$2:$L$1099,5,FALSE) -> #N/A | E32: =VLOOKUP($F32,УЧАСТНИКИ!$A$2:$L$1099,8,FALSE) -> #N/A | J32: =VLOOKUP($F32,УЧАСТНИКИ!$A$2:$L$1099,9,FALSE) -> #N/A
A33: 7 | B33: =VLOOKUP($F33,УЧАСТНИКИ!$A$2:$L$1099,3,FALSE) -> #N/A | C33: =VLOOKUP($F33,УЧАСТНИКИ!$A$2:$L$1099,4,FALSE) -> #N/A | D33: =VLOOKUP($F33,УЧАСТНИКИ!$A$2:$L$1099,5,FALSE) -> #N/A | E33: =VLOOKUP($F33,УЧАСТНИКИ!$A$2:$L$1099,8,FALSE) -> #N/A | J33: =VLOOKUP($F33,УЧАСТНИКИ!$A$2:$L$1099,9,FALSE) -> #N/A
A34: 8 | B34: =VLOOKUP($F34,УЧАСТНИКИ!$A$2:$L$1099,3,FALSE) -> #N/A | C34: =VLOOKUP($F34,УЧАСТНИКИ!$A$2:$L$1099,4,FALSE) -> #N/A | D34: =VLOOKUP($F34,УЧАСТНИКИ!$A$2:$L$1099,5,FALSE) -> #N/A | E34: =VLOOKUP($F34,УЧАСТНИКИ!$A$2:$L$1099,8,FALSE) -> #N/A | J34: =VLOOKUP($F34,УЧАСТНИКИ!$A$2:$L$1099,9,FALSE) -> #N/A
A35: 9 | B35: =VLOOKUP($F35,УЧАСТНИКИ!$A$2:$L$1099,3,FALSE) -> #N/A | C35: =VLOOKUP($F35,УЧАСТНИКИ!$A$2:$L$1099,4,FALSE) -> #N/A | D35: =VLOOKUP($F35,УЧАСТНИКИ!$A$2:$L$1099,5,FALSE) -> #N/A | E35: =VLOOKUP($F35,УЧАСТНИКИ!$A$2:$L$1099,8,FALSE) -> #N/A | J35: =VLOOKUP($F35,УЧАСТНИКИ!$A$2:$L$1099,9,FALSE) -> #N/A
A36: 10 | B36: =VLOOKUP($F36,УЧАСТНИКИ!$A$2:$L$1099,3,FALSE) -> #N/A | C36: =VLOOKUP($F36,УЧАСТНИКИ!$A$2:$L$1099,4,FALSE) -> #N/A | D36: =VLOOKUP($F36,УЧАСТНИКИ!$A$2:$L$1099,5,FALSE) -> #N/A | E36: =VLOOKUP($F36,УЧАСТНИКИ!$A$2:$L$1099,8,FALSE) -> #N/A | J36: =VLOOKUP($F36,УЧАСТНИКИ!$A$2:$L$1099,9,FALSE) -> #N/A
A37: 11 | B37: =VLOOKUP($F37,УЧАСТНИКИ!$A$2:$L$1099,3,FALSE) -> #N/A | C37: =VLOOKUP($F37,УЧАСТНИКИ!$A$2:$L$1099,4,FALSE) -> #N/A | D37: =VLOOKUP($F37,УЧАСТНИКИ!$A$2:$L$1099,5,FALSE) -> #N/A | E37: =VLOOKUP($F37,УЧАСТНИКИ!$A$2:$L$1099,8,FALSE) -> #N/A | J37: =VLOOKUP($F37,УЧАСТНИКИ!$A$2:$L$1099,9,FALSE) -> #N/A
A38: 12 | B38: =VLOOKUP($F38,УЧАСТНИКИ!$A$2:$L$1099,3,FALSE) -> #N/A | C38: =VLOOKUP($F38,УЧАСТНИКИ!$A$2:$L$1099,4,FALSE) -> #N/A | D38: =VLOOKUP($F38,УЧАСТНИКИ!$A$2:$L$1099,5,FALSE) -> #N/A | E38: =VLOOKUP($F38,УЧАСТНИКИ!$A$2:$L$1099,8,FALSE) -> #N/A | J38: =VLOOKUP($F38,УЧАСТНИКИ!$A$2:$L$1099,9,FALSE) -> #N/A
... A42: 16 | B42: =VLOOKUP($F42,УЧАСТНИКИ!$A$2:$L$1099,3,FALSE) -> #N/A | C42: =VLOOKUP($F42,УЧАСТНИКИ!$A$2:$L$1099,4,FALSE) -> #N/A | D42: =VLOOKUP($F42,УЧАСТНИКИ!$A$2:$L$1099,5,FALSE) -> #N/A | E42: =VLOOKUP($F42,УЧАСТНИКИ!$A$2:$L$1099,8,FALSE) -> #N/A | J42: =VLOOKUP($F42,УЧАСТНИКИ!$A$2:$L$1099,9,FALSE) -> #N/A
A45: Рефери по бегу:
A46: Ст.судья:
A47: Ст.хронометрист:
A48: Секретарь:

Sheet В-Ж
A1: =Name_2 -> ВСЕРОССИЙСКАЯ ФЕДЕРАЦИЯ ЛЕГКОЙ АТЛЕТИКИ
A2: СТАРТОВЫЙ ПРОТОКОЛ
A3: КУБОК РОССИИ
A4: ЖЕНЩИНЫ
A5: Прыжок в высоту
F6: Порядок подьема высот: | AO6: РР- 2.07
B7: ФИНАЛЬНЫЕ СОРЕВНОВАНИЯ | C7: 12:55 | D7: =d_1 -> 28.05.2019г. | AO7: =d_5 -> г. Сочи, ул. Бзугу 2, ст. им. Славы Метревели
A8: № п/п | B8: Фамилия, имя участника | C8: Дата рождения | D8: Территория | E8: Заявленный разряд | F8: Номер участника | G8: В Ы С О Т Ы | AM8: Лучший результ. | AN8: Место | AO8: Примеч.
AK9: А | AL9: Б
A10: 1 | B10: =VLOOKUP($F10,УЧАСТНИКИ!$A$2:$L$1099,3,FALSE) -> #N/A | C10: =VLOOKUP($F10,УЧАСТНИКИ!$A$2:$L$1099,4,FALSE) -> #N/A | D10: =VLOOKUP($F10,УЧАСТНИКИ!$A$2:$L$1099,5,FALSE) -> #N/A | E10: =VLOOKUP($F10,УЧАСТНИКИ!$A$2:$L$1099,8,FALSE) -> #N/A | AO10: =VLOOKUP($F10,УЧАСТНИКИ!$A$2:$L$1099,9,FALSE) -> #N/A
A11: 2 | B11: =VLOOKUP($F11,УЧАСТНИКИ!$A$2:$L$1099,3,FALSE) -> #N/A | C11: =VLOOKUP($F11,УЧАСТНИКИ!$A$2:$L$1099,4,FALSE) -> #N/A | D11: =VLOOKUP($F11,УЧАСТНИКИ!$A$2:$L$1099,5,FALSE) -> #N/A | E11: =VLOOKUP($F11,УЧАСТНИКИ!$A$2:$L$1099,8,FALSE) -> #N/A | AO11: =VLOOKUP($F11,УЧАСТНИКИ!$A$2:$L$1099,9,FALSE) -> #N/A
A12: 3 | B12: =VLOOKUP($F12,УЧАСТНИКИ!$A$2:$L$1099,3,FALSE) -> #N/A | C12: =VLOOKUP($F12,УЧАСТНИКИ!$A$2:$L$1099,4,FALSE) -> #N/A | D12: =VLOOKUP($F12,УЧАСТНИКИ!$A$2:$L$1099,5,FALSE) -> #N/A | E12: =VLOOKUP($F12,УЧАСТНИКИ!$A$2:$L$1099,8,FALSE) -> #N/A | AO12: =VLOOKUP($F12,УЧАСТНИКИ!$A$2:$L$1099,9,FALSE) -> #N/A
A13: 4 | B13: =VLOOKUP($F13,УЧАСТНИКИ!$A$2:$L$1099,3,FALSE) -> #N/A | C13: =VLOOKUP($F13,УЧАСТНИКИ!$A$2:$L$1099,4,FALSE) -> #N/A | D13: =VLOOKUP($F13,УЧАСТНИКИ!$A$2:$L$1099,5,FALSE) -> #N/A | E13: =VLOOKUP($F13,УЧАСТНИКИ!$A$2:$L$1099,8,FALSE) -> #N/A | AO13: =VLOOKUP($F13,УЧАСТНИКИ!$A$2:$L$1099,9,FALSE) -> #N/A
A14: 5 | B14: =VLOOKUP($F14,УЧАСТНИКИ!$A$2:$L$1099,3,FALSE) -> #N/A | C14: =VLOOKUP($F14,УЧАСТНИКИ!$A$2:$L$1099,4,FALSE) -> #N/A | D14: =VLOOKUP($F14,УЧАСТНИКИ!$A$2:$L$1099,5,FALSE) -> #N/A | E14: =VLOOKUP($F14,УЧАСТНИКИ!$A$2:$L$1099,8,FALSE) -> #N/A | AO14: =VLOOKUP($F14,УЧАСТНИКИ!$A$2:$L$1099,9,FALSE) -> #N/A
A15: 6 | B15: =VLOOKUP($F15,УЧАСТНИКИ!$A$2:$L$1099,3,FALSE) -> #N/A | C15: =VLOOKUP($F15,УЧАСТНИКИ!$A$2:$L$1099,4,FALSE) -> #N/A | D15: =VLOOKUP($F15,УЧАСТНИКИ!$A$2:$L$1099,5,FALSE) -> #N/A | E15: =VLOOKUP($F15,УЧАСТНИКИ!$A$2:$L$1099,8,FALSE) -> #N/A | AO15: =VLOOKUP($F15,УЧАСТНИКИ!$A$2:$L$1099,9,FALSE) -> #N/A
A16: 7 | B16: =VLOOKUP($F16,УЧАСТНИКИ!$A$2:$L$1099,3,FALSE) -> #N/A | C16: =VLOOKUP($F16,УЧАСТНИКИ!$A$2:$L$1099,4,FALSE) -> #N/A | D16: =VLOOKUP($F16,УЧАСТНИКИ!$A$2:$L$1099,5,FALSE) -> #N/A | E16: =VLOOKUP($F16,УЧАСТНИКИ!$A$2:$L$1099,8,FALSE) -> #N/A | AO16: =VLOOKUP($F16,УЧАСТНИКИ!$A$2:$L$1099,9,FALSE) -> #N/A
A17: 8 | B17: =VLOOKUP($F17,УЧАСТНИКИ!$A$2:$L$1099,3,FALSE) -> #N/A | C17: =VLOOKUP($F17,УЧАСТНИКИ!$A$2:$L$1099,4,FALSE) -> #N/A | D17: =VLOOKUP($F17,УЧАСТНИКИ!$A$2:$L$1099,5,FALSE) -> #N/A | E17: =VLOOKUP($F17,УЧАСТНИКИ!$A$2:$L$1099,8,FALSE) -> #N/A | AO17: =VLOOKUP($F17,УЧАСТНИКИ!$A$2:$L$1099,9,FALSE) -> #N/A
A18: 9 | B18: =VLOOKUP($F18,УЧАСТНИКИ!$A$2:$L$1099,3,FALSE) -> #N/A | C18: =VLOOKUP($F18,УЧАСТНИКИ!$A$2:$L$1099,4,FALSE) -> #N/A | D18: =VLOOKUP($F18,УЧАСТНИКИ!$A$2:$L$1099,5,FALSE) -> #N/A | E18: =VLOOKUP($F18,УЧАСТНИКИ!$A$2:$L$1099,8,FALSE) -> #N/A | AO18: =VLOOKUP($F18,УЧАСТНИКИ!$A$2:$L$1099,9,FALSE) -> #N/A
A19: 10 | B19: =VLOOKUP($F19,УЧАСТНИКИ!$A$2:$L$1099,3,FALSE) -> #N/A | C19: =VLOOKUP($F19,УЧАСТНИКИ!$A$2:$L$1099,4,FALSE) -> #N/A | D19: =VLOOKUP($F19,УЧАСТНИКИ!$A$2:$L$1099,5,FALSE) -> #N/A | E19: =VLOOKUP($F19,УЧАСТНИКИ!$A$2:$L$1099,8,FALSE) -> #N/A | AO19: =VLOOKUP($F19,УЧАСТНИКИ!$A$2:$L$1099,9,FALSE) -> #N/A
A20: 11 | B20: =VLOOKUP($F20,УЧАСТНИКИ!$A$2:$L$1099,3,FALSE) -> #N/A | C20: =VLOOKUP($F20,УЧАСТНИКИ!$A$2:$L$1099,4,FALSE) -> #N/A | D20: =VLOOKUP($F20,УЧАСТНИКИ!$A$2:$L$1099,5,FALSE) -> #N/A | E20: =VLOOKUP($F20,УЧАСТНИКИ!$A$2:$L$1099,8,FALSE) -> #N/A | AO20: =VLOOKUP($F20,УЧАСТНИКИ!$A$2:$L$1099,9,FALSE) -> #N/A
A21: 12 | B21: =VLOOKUP($F21,УЧАСТНИКИ!$A$2:$L$1099,3,FALSE) -> #N/A | C21: =VLOOKUP($F21,УЧАСТНИКИ!$A$2:$L$1099,4,FALSE) -> #N/A | D21: =VLOOKUP($F21,УЧАСТНИКИ!$A$2:$L$1099,5,FALSE) -> #N/A | E21: =VLOOKUP($F21,УЧАСТНИКИ!$A$2:$L$1099,8,FALSE) -> #N/A | AO21: =VLOOKUP($F21,УЧАСТНИКИ!$A$2:$L$1099,9,FALSE) -> #N/A
... A30: 21 | B30: =VLOOKUP($F30,УЧАСТНИКИ!$A$2:$L$1099,3,FALSE) -> #N/A | C30: =VLOOKUP($F30,УЧАСТНИКИ!$A$2:$L$1099,4,FALSE) -> #N/A | D30: =VLOOKUP($F30,УЧАСТНИКИ!$A$2:$L$1099,5,FALSE) -> #N/A | E30: =VLOOKUP($F30,УЧАСТНИКИ!$A$2:$L$1099,8,FALSE) -> #N/A | AO30: =VLOOKUP($F30,УЧАСТНИКИ!$A$2:$L$1099,9,FALSE) -> #N/A
A32: Рефери _________________ ( __________________________________________________________ )
A33: Ст. судья _________________ ( __________________________________________________________ )
A34: Секретарь ________________ ( __________________________________________________________ )

Sheet Ш-Ж
A1: =Name_2 -> ВСЕРОССИЙСКАЯ ФЕДЕРАЦИЯ ЛЕГКОЙ АТЛЕТИКИ
A2: СТАРТОВЫЙ ПРОТОКОЛ
A3: КУБОК РОССИИ
A4: ЖЕНЩИНЫ
A5: Прыжок с шестом
F6: Порядок подьема высот: | AO6: РР- 5.06
B7: ФИНАЛЬНЫЕ СОРЕВНОВАНИЯ | C7: 13:00 | D7: =d_1 -> 28.05.2019г. | AO7: =d_5 -> г. Сочи, ул. Бзугу 2, ст. им. Славы Метревели
A8: № п/п | B8: Фамилия, имя участника | C8: Дата рождения | D8: Территория | E8: Заявленный разряд | F8: Номер участника | G8: В Ы С О Т Ы | AM8: Лучший результ. | AN8: Место | AO8: Примеч.
AK9: А | AL9: Б
A10: 1 | B10: =VLOOKUP($F10,УЧАСТНИКИ!$A$2:$L$1099,3,FALSE) -> Яковлева Мария | C10: =VLOOKUP($F10,УЧАСТНИКИ!$A$2:$L$1099,4,FALSE) -> 10.06.2004 | D10: =VLOOKUP($F10,УЧАСТНИКИ!$A$2:$L$1099,5,FALSE) -> Московская область | E10: =VLOOKUP($F10,УЧАСТНИКИ!$A$2:$L$1099,8,FALSE) -> КМС | F10: 475 | AO10: =VLOOKUP($F10,УЧАСТНИКИ!$A$2:$L$1099,9,FALSE) -> л
A11: 2 | B11: =VLOOKUP($F11,УЧАСТНИКИ!$A$2:$L$1099,3,FALSE) -> Калмыкова (Казека) Екатерина | C11: =VLOOKUP($F11,УЧАСТНИКИ!$A$2:$L$1099,4,FALSE) -> 07.10.1990 | D11: =VLOOKUP($F11,УЧАСТНИКИ!$A$2:$L$1099,5,FALSE) -> Кировская область Челябинская область | E11: =VLOOKUP($F11,УЧАСТНИКИ!$A$2:$L$1099,8,FALSE) -> МС | F11: 254 | AO11: =VLOOKUP($F11,УЧАСТНИКИ!$A$2:$L$1099,9,FALSE) -> К
A12: 3 | B12: =VLOOKUP($F12,УЧАСТНИКИ!$A$2:$L$1099,3,FALSE) -> Тимофеева Рената | C12: =VLOOKUP($F12,УЧАСТНИКИ!$A$2:$L$1099,4,FALSE) -> 12.09.2002 | D12: =VLOOKUP($F12,УЧАСТНИКИ!$A$2:$L$1099,5,FALSE) -> Омская область | E12: =VLOOKUP($F12,УЧАСТНИКИ!$A$2:$L$1099,8,FALSE) -> 1 | F12: 118 | AO12: =VLOOKUP($F12,УЧАСТНИКИ!$A$2:$L$1099,9,FALSE) -> К
A13: 4 | B13: =VLOOKUP($F13,УЧАСТНИКИ!$A$2:$L$1099,3,FALSE) -> Бондаренко Елизавета | C13: =VLOOKUP($F13,УЧАСТНИКИ!$A$2:$L$1099,4,FALSE) -> 01.07.1999 | D13: =VLOOKUP($F13,УЧАСТНИКИ!$A$2:$L$1099,5,FALSE) -> Московская область Ростовская область | E13: =VLOOKUP($F13,УЧАСТНИКИ!$A$2:$L$1099,8,FALSE) -> МС | F13: 449 | AO13: =VLOOKUP($F13,УЧАСТНИКИ!$A$2:$L$1099,9,FALSE) -> К
A14: 5 | B14: =VLOOKUP($F14,УЧАСТНИКИ!$A$2:$L$1099,3,FALSE) -> Захаруткина Мария | C14: =VLOOKUP($F14,УЧАСТНИКИ!$A$2:$L$1099,4,FALSE) -> 14.08.1996 | D14: =VLOOKUP($F14,УЧАСТНИКИ!$A$2:$L$1099,5,FALSE) -> Москва | E14: =VLOOKUP($F14,УЧАСТНИКИ!$A$2:$L$1099,8,FALSE) -> МС | F14: 343 | AO14: =VLOOKUP($F14,УЧАСТНИКИ!$A$2:$L$1099,9,FALSE) -> Л
A15: 6 | B15: =VLOOKUP($F15,УЧАСТНИКИ!$A$2:$L$1099,3,FALSE) -> Меньшикова Виктория | C15: =VLOOKUP($F15,УЧАСТНИКИ!$A$2:$L$1099,4,FALSE) -> 09.05.2004 | D15: =VLOOKUP($F15,УЧАСТНИКИ!$A$2:$L$1099,5,FALSE) -> Краснодарский край | E15: =VLOOKUP($F15,УЧАСТНИКИ!$A$2:$L$1099,8,FALSE) -> КМС | F15: 488 | AO15: =VLOOKUP($F15,УЧАСТНИКИ!$A$2:$L$1099,9,FALSE) -> Л
A16: 7 | B16: =VLOOKUP($F16,УЧАСТНИКИ!$A$2:$L$1099,3,FALSE) -> Швыдкина Татьяна | C16: =VLOOKUP($F16,УЧАСТНИКИ!$A$2:$L$1099,4,FALSE) -> 08.05.1990 | D16: =VLOOKUP($F16,УЧАСТНИКИ!$A$2:$L$1099,5,FALSE) -> Москва Брянская область | E16: =VLOOKUP($F16,УЧАСТНИКИ!$A$2:$L$1099,8,FALSE) -> МС | F16: 42 | AO16: =VLOOKUP($F16,УЧАСТНИКИ!$A$2:$L$1099,9,FALSE) -> К
A17: 8 | B17: =VLOOKUP($F17,УЧАСТНИКИ!$A$2:$L$1099,3,FALSE) -> Самарская Елена | C17: =VLOOKUP($F17,УЧАСТНИКИ!$A$2:$L$1099,4,FALSE) -> 16.04.1999 | D17: =VLOOKUP($F17,УЧАСТНИКИ!$A$2:$L$1099,5,FALSE) -> Омская область | E17: =VLOOKUP($F17,УЧАСТНИКИ!$A$2:$L$1099,8,FALSE) -> КМС | F17: 117 | AO17: =VLOOKUP($F17,УЧАСТНИКИ!$A$2:$L$1099,9,FALSE) -> К
A18: 9 | B18: =VLOOKUP($F18,УЧАСТНИКИ!$A$2:$L$1099,3,FALSE) -> Нерубенко Людмила | C18: =VLOOKUP($F18,УЧАСТНИКИ!$A$2:$L$1099,4,FALSE) -> 20.04.1998 | D18: =VLOOKUP($F18,УЧАСТНИКИ!$A$2:$L$1099,5,FALSE) -> Белгородская область | E18: =VLOOKUP($F18,УЧАСТНИКИ!$A$2:$L$1099,8,FALSE) -> КМС | F18: 491 | AO18: =VLOOKUP($F18,УЧАСТНИКИ!$A$2:$L$1099,9,FALSE) -> К
A19: 10 | B19: =VLOOKUP($F19,УЧАСТНИКИ!$A$2:$L$1099,3,FALSE) -> Гутенкова Дарья | C19: =VLOOKUP($F19,УЧАСТНИКИ!$A$2:$L$1099,4,FALSE) -> 22.07.1996 | D19: =VLOOKUP($F19,УЧАСТНИКИ!$A$2:$L$1099,5,FALSE) -> Московская область | E19: =VLOOKUP($F19,УЧАСТНИКИ!$A$2:$L$1099,8,FALSE) -> МС | F19: 450 | AO19: =VLOOKUP($F19,УЧАСТНИКИ!$A$2:$L$1099,9,FALSE) -> Л
A20: 11 | B20: =VLOOKUP($F20,УЧАСТНИКИ!$A$2:$L$1099,3,FALSE) -> Иванова Ирина | C20: =VLOOKUP($F20,УЧАСТНИКИ!$A$2:$L$1099,4,FALSE) -> 19.04.1996 | D20: =VLOOKUP($F20,УЧАСТНИКИ!$A$2:$L$1099,5,FALSE) -> Омская область | E20: =VLOOKUP($F20,УЧАСТНИКИ!$A$2:$L$1099,8,FALSE) -> МС | F20: 113 | AO20: =VLOOKUP($F20,УЧАСТНИКИ!$A$2:$L$1099,9,FALSE) -> К
A21: 12 | B21: =VLOOKUP($F21,УЧАСТНИКИ!$A$2:$L$1099,3,FALSE) -> Петрова Людмила | C21: =VLOOKUP($F21,УЧАСТНИКИ!$A$2:$L$1099,4,FALSE) -> 15.12.1993 | D21: =VLOOKUP($F21,УЧАСТНИКИ!$A$2:$L$1099,5,FALSE) -> Челябинская область | E21: =VLOOKUP($F21,УЧАСТНИКИ!$A$2:$L$1099,8,FALSE) -> МС | F21: 58 | AO21: =VLOOKUP($F21,УЧАСТНИКИ!$A$2:$L$1099,9,FALSE) -> К
A22: 13
A23: 14
A25: Рефери _________________ ( __________________________________________________________ )
A26: Ст. судья _________________ ( __________________________________________________________ )
A27: Секретарь ________________ ( __________________________________________________________ )

Sheet Д-Ж
A1: =Name_2 -> ВСЕРОССИЙСКАЯ ФЕДЕРАЦИЯ ЛЕГКОЙ АТЛЕТИКИ
A2: СТАРТОВЫЙ ПРОТОКОЛ
A3: КУБОК РОССИИ
A4: ЖЕНЩИНЫ
A5: Прыжок в длину
Q6: РР- 7.52
B7: ФИНАЛЬНЫЕ СОРЕВНОВАНИЯ | C7: 15:20 | D7: =d_1 -> 28.05.2019г. | Q7: =d_5 -> г. Сочи, ул. Бзугу 2, ст. им. Славы Метревели
A8: № п/п | B8: Фамилия, имя участника | C8: Дата рождения | D8: Территория | E8: Заявленный разряд | F8: Номер участника | G8: Попытки | J8: Жеребьевка | K8: Попытки | M8: Жеребьевка | N8: Попытка | O8: Лучший результат | P8: Место | Q8: Примечание
G9: 1 | H9: 2 | I9: 3 | K9: 4 | L9: 5 | N9: 6
A10: 1 | B10: =VLOOKUP($F10,УЧАСТНИКИ!$A$2:$L$1099,3,FALSE) -> Садохина Виктория | C10: =VLOOKUP($F10,УЧАСТНИКИ!$A$2:$L$1099,4,FALSE) -> 18.07.1994 | D10: =VLOOKUP($F10,УЧАСТНИКИ!$A$2:$L$1099,5,FALSE) -> Самарская область | E10: =VLOOKUP($F10,УЧАСТНИКИ!$A$2:$L$1099,8,FALSE) -> КМС | F10: 417 | Q10: =VLOOKUP($F10,УЧАСТНИКИ!$A$2:$L$1099,9,FALSE) -> К
A12: 2 | B12: =VLOOKUP($F12,УЧАСТНИКИ!$A$2:$L$1099,3,FALSE) -> Дрожжина Елизавета | C12: =VLOOKUP($F12,УЧАСТНИКИ!$A$2:$L$1099,4,FALSE) -> 11.02.1998 | D12: =VLOOKUP($F12,УЧАСТНИКИ!$A$2:$L$1099,5,FALSE) -> Санкт-Петербург | E12: =VLOOKUP($F12,УЧАСТНИКИ!$A$2:$L$1099,8,FALSE) -> КМС | F12: 275 | Q12: =VLOOKUP($F12,УЧАСТНИКИ!$A$2:$L$1099,9,FALSE) -> л
A14: 3 | B14: =VLOOKUP($F14,УЧАСТНИКИ!$A$2:$L$1099,3,FALSE) -> Лукьяненкова Полина | C14: =VLOOKUP($F14,УЧАСТНИКИ!$A$2:$L$1099,4,FALSE) -> 15.07.1998 | D14: =VLOOKUP($F14,УЧАСТНИКИ!$A$2:$L$1099,5,FALSE) -> Краснодарский край | E14: =VLOOKUP($F14,УЧАСТНИКИ!$A$2:$L$1099,8,FALSE) -> МС | F14: 155 | Q14: =VLOOKUP($F14,УЧАСТНИКИ!$A$2:$L$1099,9,FALSE) -> К
A16: 4 | B16: =VLOOKUP($F16,УЧАСТНИКИ!$A$2:$L$1099,3,FALSE) -> Самитова (Ершова) Виктория | C16: =VLOOKUP($F16,УЧАСТНИКИ!$A$2:$L$1099,4,FALSE) -> 09.09.1994 | D16: =VLOOKUP($F16,УЧАСТНИКИ!$A$2:$L$1099,5,FALSE) -> Республика Татарстан | E16: =VLOOKUP($F16,УЧАСТНИКИ!$A$2:$L$1099,8,FALSE) -> МС | F16: 246 | Q16: =VLOOKUP($F16,УЧАСТНИКИ!$A$2:$L$1099,9,FALSE) -> К
A18: 5 | B18: =VLOOKUP($F18,УЧАСТНИКИ!$A$2:$L$1099,3,FALSE) -> Никулина Яна | C18: =VLOOKUP($F18,УЧАСТНИКИ!$A$2:$L$1099,4,FALSE) -> 02.07.1990 | D18: =VLOOKUP($F18,УЧАСТНИКИ!$A$2:$L$1099,5,FALSE) -> Хабаровский край | E18: =VLOOKUP($F18,УЧАСТНИКИ!$A$2:$L$1099,8,FALSE) -> МС | F18: 127 | Q18: =VLOOKUP($F18,УЧАСТНИКИ!$A$2:$L$1099,9,FALSE) -> К
A20: 6 | B20: =VLOOKUP($F20,УЧАСТНИКИ!$A$2:$L$1099,3,FALSE) -> Зеликова Жанна | C20: =VLOOKUP($F20,УЧАСТНИКИ!$A$2:$L$1099,4,FALSE) -> 22.02.1995 | D20: =VLOOKUP($F20,УЧАСТНИКИ!$A$2:$L$1099,5,FALSE) -> Краснодарский край | E20: =VLOOKUP($F20,УЧАСТНИКИ!$A$2:$L$1099,8,FALSE) -> МС | F20: 142 | Q20: =VLOOKUP($F20,УЧАСТНИКИ!$A$2:$L$1099,9,FALSE) -> Л
A22: 7 | B22: =VLOOKUP($F22,УЧАСТНИКИ!$A$2:$L$1099,3,FALSE) -> Подобаева Арина | C22: =VLOOKUP($F22,УЧАСТНИКИ!$A$2:$L$1099,4,FALSE) -> 02.04.1999 | D22: =VLOOKUP($F22,УЧАСТНИКИ!$A$2:$L$1099,5,FALSE) -> Санкт-Петербург | E22: =VLOOKUP($F22,УЧАСТНИКИ!$A$2:$L$1099,8,FALSE) -> КМС | F22: 297 | Q22: =VLOOKUP($F22,УЧАСТНИКИ!$A$2:$L$1099,9,FALSE) -> л
A24: 8 | B24: =VLOOKUP($F24,УЧАСТНИКИ!$A$2:$L$1099,3,FALSE) -> Белевская Маргарита | C24: =VLOOKUP($F24,УЧАСТНИКИ!$A$2:$L$1099,4,FALSE) -> 26.05.1999 | D24: =VLOOKUP($F24,УЧАСТНИКИ!$A$2:$L$1099,5,FALSE) -> Краснодарский край | E24: =VLOOKUP($F24,УЧАСТНИКИ!$A$2:$L$1099,8,FALSE) -> КМС | F24: 130 | Q24: =VLOOKUP($F24,УЧАСТНИКИ!$A$2:$L$1099,9,FALSE) -> Л
A26: 9 | B26: =VLOOKUP($F26,УЧАСТНИКИ!$A$2:$L$1099,3,FALSE) -> Адасько Диана | C26: =VLOOKUP($F26,УЧАСТНИКИ!$A$2:$L$1099,4,FALSE) -> 18.01.1999 | D26: =VLOOKUP($F26,УЧАСТНИКИ!$A$2:$L$1099,5,FALSE) -> Республика Саха (Якутия) | E26: =VLOOKUP($F26,УЧАСТНИКИ!$A$2:$L$1099,8,FALSE) -> КМС | F26: 59 | Q26: =VLOOKUP($F26,УЧАСТНИКИ!$A$2:$L$1099,9,FALSE) -> К
A28: 10 | B28: =VLOOKUP($F28,УЧАСТНИКИ!$A$2:$L$1099,3,FALSE) -> Евстюнина Александра | C28: =VLOOKUP($F28,УЧАСТНИКИ!$A$2:$L$1099,4,FALSE) -> 08.07.1993 | D28: =VLOOKUP($F28,УЧАСТНИКИ!$A$2:$L$1099,5,FALSE) -> Москва Республика Карелия | E28: =VLOOKUP($F28,УЧАСТНИКИ!$A$2:$L$1099,8,FALSE) -> МС | F28: 340 | Q28: =VLOOKUP($F28,УЧАСТНИКИ!$A$2:$L$1099,9,FALSE) -> К
A30: 11 | B30: =VLOOKUP($F30,УЧАСТНИКИ!$A$2:$L$1099,3,FALSE) -> Семашко (Мосина) Вероника | C30: =VLOOKUP($F30,УЧАСТНИКИ!$A$2:$L$1099,4,FALSE) -> 17.10.1990 | D30: =VLOOKUP($F30,УЧАСТНИКИ!$A$2:$L$1099,5,FALSE) -> Санкт-Петербург | E30: =VLOOKUP($F30,УЧАСТНИКИ!$A$2:$L$1099,8,FALSE) -> МСМК | F30: 305 | Q30: =VLOOKUP($F30,УЧАСТНИКИ!$A$2:$L$1099,9,FALSE) -> К
A32: 12 | B32: =VLOOKUP($F32,УЧАСТНИКИ!$A$2:$L$1099,3,FALSE) -> Ляпунова Анастасия | C32: =VLOOKUP($F32,УЧАСТНИКИ!$A$2:$L$1099,4,FALSE) -> 11.06.1997 | D32: =VLOOKUP($F32,УЧАСТНИКИ!$A$2:$L$1099,5,FALSE) -> Москва Саратовская область | E32: =VLOOKUP($F32,УЧАСТНИКИ!$A$2:$L$1099,8,FALSE) -> КМС | F32: 358 | Q32: =VLOOKUP($F32,УЧАСТНИКИ!$A$2:$L$1099,9,FALSE) -> Л
... A42: 17 | B42: =VLOOKUP($F42,УЧАСТНИКИ!$A$2:$L$1099,3,FALSE) -> Бирюкова (Деняева) Светлана | C42: =VLOOKUP($F42,УЧАСТНИКИ!$A$2:$L$1099,4,FALSE) -> 01.04.1991 | D42: =VLOOKUP($F42,УЧАСТНИКИ!$A$2:$L$1099,5,FALSE) -> Москва | E42: =VLOOKUP($F42,УЧАСТНИКИ!$A$2:$L$1099,8,FALSE) -> МСМК | F42: 333 | Q42: =VLOOKUP($F42,УЧАСТНИКИ!$A$2:$L$1099,9,FALSE) -> Л
A44: 18
A46: 19
A48: 20
A50: 21
A52: 22
A55: Рефери _________________ ( __________________________________________________________ )
A56: Ст. судья _________________ ( __________________________________________________________ )
A57: Секретарь ________________ ( __________________________________________________________ )

Sheet Т-Ж
A1: =Name_2 -> ВСЕРОССИЙСКАЯ ФЕДЕРАЦИЯ ЛЕГКОЙ АТЛЕТИКИ
A2: СТАРТОВЫЙ ПРОТОКОЛ
A3: КУБОК РОССИИ
A4: ЖЕНЩИНЫ
A5: Прыжок тройной
Q6: РР- 15.34
B7: ФИНАЛЬНЫЕ СОРЕВНОВАНИЯ | C7: 12:55 | D7: =d_1 -> 28.05.2019г. | L7: =d_5 -> г. Сочи, ул. Бзугу 2, ст. им. Славы Метревели | Q7: =d_5 -> г. Сочи, ул. Бзугу 2, ст. им. Славы Метревели
A8: № п/п | B8: Фамилия, имя участника | C8: Дата рождения | D8: Территория | E8: Заявленный разряд | F8: Номер участника | G8: Попытки | J8: Жеребьевка | K8: Попытки | M8: Жеребьевка | N8: Попытка | O8: Лучший результат | P8: Место | Q8: Примечание
G9: 1 | H9: 2 | I9: 3 | K9: 4 | L9: 5 | N9: 6
A10: 1 | B10: =VLOOKUP($F10,УЧАСТНИКИ!$A$2:$L$1099,3,FALSE) -> #N/A | C10: =VLOOKUP($F10,УЧАСТНИКИ!$A$2:$L$1099,4,FALSE) -> #N/A | D10: =VLOOKUP($F10,УЧАСТНИКИ!$A$2:$L$1099,5,FALSE) -> #N/A | E10: =VLOOKUP($F10,УЧАСТНИКИ!$A$2:$L$1099,8,FALSE) -> #N/A | Q10: =VLOOKUP($F10,УЧАСТНИКИ!$A$2:$L$1099,9,FALSE) -> #N/A
A12: 2 | B12: =VLOOKUP($F12,УЧАСТНИКИ!$A$2:$L$1099,3,FALSE) -> #N/A | C12: =VLOOKUP($F12,УЧАСТНИКИ!$A$2:$L$1099,4,FALSE) -> #N/A | D12: =VLOOKUP($F12,УЧАСТНИКИ!$A$2:$L$1099,5,FALSE) -> #N/A | E12: =VLOOKUP($F12,УЧАСТНИКИ!$A$2:$L$1099,8,FALSE) -> #N/A | Q12: =VLOOKUP($F12,УЧАСТНИКИ!$A$2:$L$1099,9,FALSE) -> #N/A
A14: 3 | B14: =VLOOKUP($F14,УЧАСТНИКИ!$A$2:$L$1099,3,FALSE) -> #N/A | C14: =VLOOKUP($F14,УЧАСТНИКИ!$A$2:$L$1099,4,FALSE) -> #N/A | D14: =VLOOKUP($F14,УЧАСТНИКИ!$A$2:$L$1099,5,FALSE) -> #N/A | E14: =VLOOKUP($F14,УЧАСТНИКИ!$A$2:$L$1099,8,FALSE) -> #N/A | Q14: =VLOOKUP($F14,УЧАСТНИКИ!$A$2:$L$1099,9,FALSE) -> #N/A
A16: 4 | B16: =VLOOKUP($F16,УЧАСТНИКИ!$A$2:$L$1099,3,FALSE) -> #N/A | C16: =VLOOKUP($F16,УЧАСТНИКИ!$A$2:$L$1099,4,FALSE) -> #N/A | D16: =VLOOKUP($F16,УЧАСТНИКИ!$A$2:$L$1099,5,FALSE) -> #N/A | E16: =VLOOKUP($F16,УЧАСТНИКИ!$A$2:$L$1099,8,FALSE) -> #N/A | Q16: =VLOOKUP($F16,УЧАСТНИКИ!$A$2:$L$1099,9,FALSE) -> #N/A
A18: 5 | B18: =VLOOKUP($F18,УЧАСТНИКИ!$A$2:$L$1099,3,FALSE) -> #N/A | C18: =VLOOKUP($F18,УЧАСТНИКИ!$A$2:$L$1099,4,FALSE) -> #N/A | D18: =VLOOKUP($F18,УЧАСТНИКИ!$A$2:$L$1099,5,FALSE) -> #N/A | E18: =VLOOKUP($F18,УЧАСТНИКИ!$A$2:$L$1099,8,FALSE) -> #N/A | Q18: =VLOOKUP($F18,УЧАСТНИКИ!$A$2:$L$1099,9,FALSE) -> #N/A
A20: 6 | B20: =VLOOKUP($F20,УЧАСТНИКИ!$A$2:$L$1099,3,FALSE) -> #N/A | C20: =VLOOKUP($F20,УЧАСТНИКИ!$A$2:$L$1099,4,FALSE) -> #N/A | D20: =VLOOKUP($F20,УЧАСТНИКИ!$A$2:$L$1099,5,FALSE) -> #N/A | E20: =VLOOKUP($F20,УЧАСТНИКИ!$A$2:$L$1099,8,FALSE) -> #N/A | Q20: =VLOOKUP($F20,УЧАСТНИКИ!$A$2:$L$1099,9,FALSE) -> #N/A
A22: 7 | B22: =VLOOKUP($F22,УЧАСТНИКИ!$A$2:$L$1099,3,FALSE) -> #N/A | C22: =VLOOKUP($F22,УЧАСТНИКИ!$A$2:$L$1099,4,FALSE) -> #N/A | D22: =VLOOKUP($F22,УЧАСТНИКИ!$A$2:$L$1099,5,FALSE) -> #N/A | E22: =VLOOKUP($F22,УЧАСТНИКИ!$A$2:$L$1099,8,FALSE) -> #N/A | Q22: =VLOOKUP($F22,УЧАСТНИКИ!$A$2:$L$1099,9,FALSE) -> #N/A
A24: 8 | B24: =VLOOKUP($F24,УЧАСТНИКИ!$A$2:$L$1099,3,FALSE) -> #N/A | C24: =VLOOKUP($F24,УЧАСТНИКИ!$A$2:$L$1099,4,FALSE) -> #N/A | D24: =VLOOKUP($F24,УЧАСТНИКИ!$A$2:$L$1099,5,FALSE) -> #N/A | E24: =VLOOKUP($F24,УЧАСТНИКИ!$A$2:$L$1099,8,FALSE) -> #N/A | Q24: =VLOOKUP($F24,УЧАСТНИКИ!$A$2:$L$1099,9,FALSE) -> #N/A
A26: 9 | B26: =VLOOKUP($F26,УЧАСТНИКИ!$A$2:$L$1099,3,FALSE) -> #N/A | C26: =VLOOKUP($F26,УЧАСТНИКИ!$A$2:$L$1099,4,FALSE) -> #N/A | D26: =VLOOKUP($F26,УЧАСТНИКИ!$A$2:$L$1099,5,FALSE) -> #N/A | E26: =VLOOKUP($F26,УЧАСТНИКИ!$A$2:$L$1099,8,FALSE) -> #N/A | Q26: =VLOOKUP($F26,УЧАСТНИКИ!$A$2:$L$1099,9,FALSE) -> #N/A
A28: 10 | B28: =VLOOKUP($F28,УЧАСТНИКИ!$A$2:$L$1099,3,FALSE) -> #N/A | C28: =VLOOKUP($F28,УЧАСТНИКИ!$A$2:$L$1099,4,FALSE) -> #N/A | D28: =VLOOKUP($F28,УЧАСТНИКИ!$A$2:$L$1099,5,FALSE) -> #N/A | E28: =VLOOKUP($F28,УЧАСТНИКИ!$A$2:$L$1099,8,FALSE) -> #N/A | Q28: =VLOOKUP($F28,УЧАСТНИКИ!$A$2:$L$1099,9,FALSE) -> #N/A
A30: 11 | B30: =VLOOKUP($F30,УЧАСТНИКИ!$A$2:$L$1099,3,FALSE) -> #N/A | C30: =VLOOKUP($F30,УЧАСТНИКИ!$A$2:$L$1099,4,FALSE) -> #N/A | D30: =VLOOKUP($F30,УЧАСТНИКИ!$A$2:$L$1099,5,FALSE) -> #N/A | E30: =VLOOKUP($F30,УЧАСТНИКИ!$A$2:$L$1099,8,FALSE) -> #N/A | Q30: =VLOOKUP($F30,УЧАСТНИКИ!$A$2:$L$1099,9,FALSE) -> #N/A
A32: 12 | B32: =VLOOKUP($F32,УЧАСТНИКИ!$A$2:$L$1099,3,FALSE) -> #N/A | C32: =VLOOKUP($F32,УЧАСТНИКИ!$A$2:$L$1099,4,FALSE) -> #N/A | D32: =VLOOKUP($F32,УЧАСТНИКИ!$A$2:$L$1099,5,FALSE) -> #N/A | E32: =VLOOKUP($F32,УЧАСТНИКИ!$A$2:$L$1099,8,FALSE) -> #N/A | Q32: =VLOOKUP($F32,УЧАСТНИКИ!$A$2:$L$1099,9,FALSE) -> #N/A
... A52: 22 | B52: =VLOOKUP($F52,УЧАСТНИКИ!$A$2:$L$1099,3,FALSE) -> #N/A | C52: =VLOOKUP($F52,УЧАСТНИКИ!$A$2:$L$1099,4,FALSE) -> #N/A | D52: =VLOOKUP($F52,УЧАСТНИКИ!$A$2:$L$1099,5,FALSE) -> #N/A | E52: =VLOOKUP($F52,УЧАСТНИКИ!$A$2:$L$1099,8,FALSE) -> #N/A | Q52: =VLOOKUP($F52,УЧАСТНИКИ!$A$2:$L$1099,9,FALSE) -> #N/A
A54: Рефери _________________ ( __________________________________________________________ )
A55: Ст. судья _________________ ( __________________________________________________________ )
A56: Секретарь ________________ ( __________________________________________________________ )

Sheet ДИ-Ж
A1: =Name_2 -> ВСЕРОССИЙСКАЯ ФЕДЕРАЦИЯ ЛЕГКОЙ АТЛЕТИКИ
A2: СТАРТОВЫЙ ПРОТОКОЛ
A3: КУБОК РОССИИ
A4: ЖЕНЩИНЫ
A5: Метание диска
A6: Вес снаряда - 1,0 кг | Q6: РР- 73,28
B7: ФИНАЛЬНЫЕ СОРЕВНОВАНИЯ | C7: 13:30 | D7: =d_1 -> 28.05.2019г. | Q7: г. Сочи, Адлерский район, ул. Ленина, СК «Юность»
A8: № п/п | B8: Фамилия, имя участника | C8: Дата рождения | D8: Территория | E8: Заявленный разряд | F8: Номер участника | G8: Попытки | J8: Жеребьевка | K8: Попытки | M8: Жеребьевка | O8: Лучший результат | P8: Место | Q8: Примечание
G9: 1 | H9: 2 | I9: 3 | K9: 4 | L9: 5 | N9: 6
A10: 1 | B10: =VLOOKUP($F10,УЧАСТНИКИ!$A$2:$L$1099,3,FALSE) -> Степакова Юлия | C10: =VLOOKUP($F10,УЧАСТНИКИ!$A$2:$L$1099,4,FALSE) -> 28.06.1998 | D10: =VLOOKUP($F10,УЧАСТНИКИ!$A$2:$L$1099,5,FALSE) -> Ставропольский край | E10: =VLOOKUP($F10,УЧАСТНИКИ!$A$2:$L$1099,8,FALSE) -> КМС | F10: 82 | Q10: =VLOOKUP($F10,УЧАСТНИКИ!$A$2:$L$1099,9,FALSE) -> К
A11: 2 | B11: =VLOOKUP($F11,УЧАСТНИКИ!$A$2:$L$1099,3,FALSE) -> Карабинцева Наталия | C11: =VLOOKUP($F11,УЧАСТНИКИ!$A$2:$L$1099,4,FALSE) -> 14.04.1998 | D11: =VLOOKUP($F11,УЧАСТНИКИ!$A$2:$L$1099,5,FALSE) -> Краснодарский край | E11: =VLOOKUP($F11,УЧАСТНИКИ!$A$2:$L$1099,8,FALSE) -> КМС | F11: 144 | Q11: =VLOOKUP($F11,УЧАСТНИКИ!$A$2:$L$1099,9,FALSE) -> Л
A12: 3 | B12: =VLOOKUP($F12,УЧАСТНИКИ!$A$2:$L$1099,3,FALSE) -> Белякова Алена | C12: =VLOOKUP($F12,УЧАСТНИКИ!$A$2:$L$1099,4,FALSE) -> 21.12.1998 | D12: =VLOOKUP($F12,УЧАСТНИКИ!$A$2:$L$1099,5,FALSE) -> Краснодарский край ЮФО (К) | E12: =VLOOKUP($F12,УЧАСТНИКИ!$A$2:$L$1099,8,FALSE) -> МС | F12: 131 | Q12: =VLOOKUP($F12,УЧАСТНИКИ!$A$2:$L$1099,9,FALSE) -> К
A13: 4 | B13: =VLOOKUP($F13,УЧАСТНИКИ!$A$2:$L$1099,3,FALSE) -> Витюгова Анастасия | C13: =VLOOKUP($F13,УЧАСТНИКИ!$A$2:$L$1099,4,FALSE) -> 13.03.1997 | D13: =VLOOKUP($F13,УЧАСТНИКИ!$A$2:$L$1099,5,FALSE) -> Москва Санкт-Петербург | E13: =VLOOKUP($F13,УЧАСТНИКИ!$A$2:$L$1099,8,FALSE) -> МС | F13: 269 | Q13: =VLOOKUP($F13,УЧАСТНИКИ!$A$2:$L$1099,9,FALSE) -> к
A14: 5 | B14: =VLOOKUP($F14,УЧАСТНИКИ!$A$2:$L$1099,3,FALSE) -> Кащавцева Елизавета | C14: =VLOOKUP($F14,УЧАСТНИКИ!$A$2:$L$1099,4,FALSE) -> 30.07.1997 | D14: =VLOOKUP($F14,УЧАСТНИКИ!$A$2:$L$1099,5,FALSE) -> Московская область | E14: =VLOOKUP($F14,УЧАСТНИКИ!$A$2:$L$1099,8,FALSE) -> ЗМС | F14: 456 | Q14: =VLOOKUP($F14,УЧАСТНИКИ!$A$2:$L$1099,9,FALSE) -> Л
A15: 6 | B15: =VLOOKUP($F15,УЧАСТНИКИ!$A$2:$L$1099,3,FALSE) -> Панова Елена | C15: =VLOOKUP($F15,УЧАСТНИКИ!$A$2:$L$1099,4,FALSE) -> 02.03.1987 | D15: =VLOOKUP($F15,УЧАСТНИКИ!$A$2:$L$1099,5,FALSE) -> Москва Владимирская область | E15: =VLOOKUP($F15,УЧАСТНИКИ!$A$2:$L$1099,8,FALSE) -> МСМК | F15: 205 | Q15: =VLOOKUP($F15,УЧАСТНИКИ!$A$2:$L$1099,9,FALSE) -> К
A16: 7 | B16: =VLOOKUP($F16,УЧАСТНИКИ!$A$2:$L$1099,3,FALSE) -> Бизякина Светлана | C16: =VLOOKUP($F16,УЧАСТНИКИ!$A$2:$L$1099,4,FALSE) -> 06.11.1994 | D16: =VLOOKUP($F16,УЧАСТНИКИ!$A$2:$L$1099,5,FALSE) -> Омская область | E16: =VLOOKUP($F16,УЧАСТНИКИ!$A$2:$L$1099,8,FALSE) -> КМС | F16: 110 | Q16: =VLOOKUP($F16,УЧАСТНИКИ!$A$2:$L$1099,9,FALSE) -> К
A17: 8 | B17: =VLOOKUP($F17,УЧАСТНИКИ!$A$2:$L$1099,3,FALSE) -> Строкова Екатерина | C17: =VLOOKUP($F17,УЧАСТНИКИ!$A$2:$L$1099,4,FALSE) -> 17.12.1989 | D17: =VLOOKUP($F17,УЧАСТНИКИ!$A$2:$L$1099,5,FALSE) -> Москва Нижегородская область | E17: =VLOOKUP($F17,УЧАСТНИКИ!$A$2:$L$1099,8,FALSE) -> МСМК | F17: 232 | Q17: =VLOOKUP($F17,УЧАСТНИКИ!$A$2:$L$1099,9,FALSE) -> К
A18: 9 | B18: =VLOOKUP($F18,УЧАСТНИКИ!$A$2:$L$1099,3,FALSE) -> Карпова (Широбокова) Наталья | C18: =VLOOKUP($F18,УЧАСТНИКИ!$A$2:$L$1099,4,FALSE) -> 18.01.1994 | D18: =VLOOKUP($F18,УЧАСТНИКИ!$A$2:$L$1099,5,FALSE) -> Омская область Санкт-Петербург | E18: =VLOOKUP($F18,УЧАСТНИКИ!$A$2:$L$1099,8,FALSE) -> МС | F18: 279 | Q18: =VLOOKUP($F18,УЧАСТНИКИ!$A$2:$L$1099,9,FALSE) -> к
A19: 10 | B19: =VLOOKUP($F19,УЧАСТНИКИ!$A$2:$L$1099,3,FALSE) -> Огрицко Мария | C19: =VLOOKUP($F19,УЧАСТНИКИ!$A$2:$L$1099,4,FALSE) -> 01.03.1994 | D19: =VLOOKUP($F19,УЧАСТНИКИ!$A$2:$L$1099,5,FALSE) -> Москва | E19: =VLOOKUP($F19,УЧАСТНИКИ!$A$2:$L$1099,8,FALSE) -> МС | F19: 361 | Q19: =VLOOKUP($F19,УЧАСТНИКИ!$A$2:$L$1099,9,FALSE) -> Л
A20: 11 | B20: =VLOOKUP($F20,УЧАСТНИКИ!$A$2:$L$1099,3,FALSE) -> Деркач Надежда | C20: =VLOOKUP($F20,УЧАСТНИКИ!$A$2:$L$1099,4,FALSE) -> 18.04.1996 | D20: =VLOOKUP($F20,УЧАСТНИКИ!$A$2:$L$1099,5,FALSE) -> Москва Нижегородская область | E20: =VLOOKUP($F20,УЧАСТНИКИ!$A$2:$L$1099,8,FALSE) -> МС | F20: 223 | Q20: =VLOOKUP($F20,УЧАСТНИКИ!$A$2:$L$1099,9,FALSE) -> К
A21: 12 | B21: =VLOOKUP($F21,УЧАСТНИКИ!$A$2:$L$1099,3,FALSE) -> Бурмистрова Екатерина | C21: =VLOOKUP($F21,УЧАСТНИКИ!$A$2:$L$1099,4,FALSE) -> 18.08.1990 | D21: =VLOOKUP($F21,УЧАСТНИКИ!$A$2:$L$1099,5,FALSE) -> Санкт-Петербург | E21: =VLOOKUP($F21,УЧАСТНИКИ!$A$2:$L$1099,8,FALSE) -> МС | F21: 267 | Q21: =VLOOKUP($F21,УЧАСТНИКИ!$A$2:$L$1099,9,FALSE) -> К
... A24: 15 | B24: =VLOOKUP($F24,УЧАСТНИКИ!$A$2:$L$1099,3,FALSE) -> Мальцева Юлия | C24: =VLOOKUP($F24,УЧАСТНИКИ!$A$2:$L$1099,4,FALSE) -> 30.11.1990 | D24: =VLOOKUP($F24,УЧАСТНИКИ!$A$2:$L$1099,5,FALSE) -> Москва Ханты-Мансийский автономный округ - Югра | E24: =VLOOKUP($F24,УЧАСТНИКИ!$A$2:$L$1099,8,FALSE) -> МСМК | F24: 359 | Q24: =VLOOKUP($F24,УЧАСТНИКИ!$A$2:$L$1099,9,FALSE) -> Л
A25: 16
A27: Рефери _________________ ( __________________________________________________________ )
A28: Ст. судья _________________ ( __________________________________________________________ )
A29: Секретарь ________________ ( __________________________________________________________ )

Sheet М-Ж
A1: =Name_2 -> ВСЕРОССИЙСКАЯ ФЕДЕРАЦИЯ ЛЕГКОЙ АТЛЕТИКИ
A2: СТАРТОВЫЙ ПРОТОКОЛ
A3: КУБОК РОССИИ
A4: ЖЕНЩИНЫ
A5: Метание молота
A6: Вес снаряда - 4,0 кг | Q6: РР-78.80
B7: ФИНАЛЬНЫЕ СОРЕВНОВАНИЯ | C7: 12:00 | D7: =d_1 -> 28.05.2019г. | Q7: г. Сочи, Адлерский район, ул. Ленина, СК «Юность»
A8: № п/п | B8: Фамилия, имя участника | C8: Дата рождения | D8: Территория | E8: Заявленный разряд | F8: Номер участника | G8: Попытки | J8: Жеребьевка | K8: Попытки | M8: Жеребьевка | O8: Лучший результат | P8: Место | Q8: Примечание
G9: 1 | H9: 2 | I9: 3 | K9: 4 | L9: 5 | N9: 6
A10: 1 | B10: =VLOOKUP($F10,УЧАСТНИКИ!$A$2:$L$1099,3,FALSE) -> Кузнецова Анастасия | C10: =VLOOKUP($F10,УЧАСТНИКИ!$A$2:$L$1099,4,FALSE) -> 07.05.2000 | D10: =VLOOKUP($F10,УЧАСТНИКИ!$A$2:$L$1099,5,FALSE) -> Московская область | E10: =VLOOKUP($F10,УЧАСТНИКИ!$A$2:$L$1099,8,FALSE) -> КМС | F10: 459 | Q10: =VLOOKUP($F10,УЧАСТНИКИ!$A$2:$L$1099,9,FALSE) -> К
A11: 2 | B11: =VLOOKUP($F11,УЧАСТНИКИ!$A$2:$L$1099,3,FALSE) -> Мельчанова Кристина | C11: =VLOOKUP($F11,УЧАСТНИКИ!$A$2:$L$1099,4,FALSE) -> 01.10.1997 | D11: =VLOOKUP($F11,УЧАСТНИКИ!$A$2:$L$1099,5,FALSE) -> Москва Нижегородская область | E11: =VLOOKUP($F11,УЧАСТНИКИ!$A$2:$L$1099,8,FALSE) -> КМС | F11: 226 | Q11: =VLOOKUP($F11,УЧАСТНИКИ!$A$2:$L$1099,9,FALSE) -> К
A12: 3 | B12: =VLOOKUP($F12,УЧАСТНИКИ!$A$2:$L$1099,3,FALSE) -> Поспелова Наталья | C12: =VLOOKUP($F12,УЧАСТНИКИ!$A$2:$L$1099,4,FALSE) -> 28.06.1996 | D12: =VLOOKUP($F12,УЧАСТНИКИ!$A$2:$L$1099,5,FALSE) -> Свердловская область Ставропольский край | E12: =VLOOKUP($F12,УЧАСТНИКИ!$A$2:$L$1099,8,FALSE) -> МС | F12: 81 | Q12: =VLOOKUP($F12,УЧАСТНИКИ!$A$2:$L$1099,9,FALSE) -> К
A13: 4 | B13: =VLOOKUP($F13,УЧАСТНИКИ!$A$2:$L$1099,3,FALSE) -> Коробова Анна | C13: =VLOOKUP($F13,УЧАСТНИКИ!$A$2:$L$1099,4,FALSE) -> 25.02.2000 | D13: =VLOOKUP($F13,УЧАСТНИКИ!$A$2:$L$1099,5,FALSE) -> Московская область | E13: =VLOOKUP($F13,УЧАСТНИКИ!$A$2:$L$1099,8,FALSE) -> МС | F13: 457 | Q13: =VLOOKUP($F13,УЧАСТНИКИ!$A$2:$L$1099,9,FALSE) -> Л
A14: 5 | B14: =VLOOKUP($F14,УЧАСТНИКИ!$A$2:$L$1099,3,FALSE) -> Садова Виктория | C14: =VLOOKUP($F14,УЧАСТНИКИ!$A$2:$L$1099,4,FALSE) -> 18.03.1993 | D14: =VLOOKUP($F14,УЧАСТНИКИ!$A$2:$L$1099,5,FALSE) -> Москва Нижегородская область | E14: =VLOOKUP($F14,УЧАСТНИКИ!$A$2:$L$1099,8,FALSE) -> МС | F14: 230 | Q14: =VLOOKUP($F14,УЧАСТНИКИ!$A$2:$L$1099,9,FALSE) -> К
A15: 6 | B15: =VLOOKUP($F15,УЧАСТНИКИ!$A$2:$L$1099,3,FALSE) -> Шкуратова Анастасия | C15: =VLOOKUP($F15,УЧАСТНИКИ!$A$2:$L$1099,4,FALSE) -> 29.12.1999 | D15: =VLOOKUP($F15,УЧАСТНИКИ!$A$2:$L$1099,5,FALSE) -> Московская область | E15: =VLOOKUP($F15,УЧАСТНИКИ!$A$2:$L$1099,8,FALSE) -> МС | F15: 474 | Q15: =VLOOKUP($F15,УЧАСТНИКИ!$A$2:$L$1099,9,FALSE) -> л
