Workbook
Name CUMM: '110-Ж'!#REF!
Name CUMM: '150-Ж'!#REF!
Name CUMM: '20-Ж'!#REF!
Name CUMM: '3000СБ-Ж'!#REF!
Name CUMM: '400СБ-Ж'!#REF!
Name CUMM: '40-Ж'!#REF!
Name CUMM: '4х10-Ж'!#REF!
Name CUMM: '500-Ж'!#REF!
Name CUMM: '80-Ж'!#REF!
Name CUMM: '10-Ж'!#REF!
Name CUMM: '10-Ж'!#REF!
Name CUMM: '10-Ж'!#REF!
Name d_1: '1'!$A$1
Name d_2: '1'!$A$2
Name d_3: '1'!$A$3
Name d_4: '1'!$A$4
Name d_5: '1'!$A$5
Name d_6: '1'!$A$6
Name d_7: '1'!$A$7
Name date_1: '1'!$A$1
Name Name_1: '1'!$A$9
Name Name_2: '1'!$A$10
Name Name_3: '1'!$A$11
Name Name_4: '1'!$A$12
Name Name_5: '1'!$A$12
Name Name_6: '1'!$A$13
Name OLE_LINK1: УЧАСТНИКИ!$D$2
Name Tit_1: '1'!$A$9

Sheet 1
A1: 28.05.2019г.
A2: 29.05.2019г.
A3: 09.06.2019г.
A4: ЖЕНЩИНЫ
A5: г. Сочи, ул. Бзугу 2, ст. им. Славы Метревели
A6: t° +17 вл. 91%
A7: Адлер с/к "Юность"
A9: МИНИСТЕРСТВО ФИЗИЧЕСКОЙ КУЛЬТУРЫ И СПОРТА РОССИЙСКОЙ ФЕДЕРАЦИИ
A10: ВСЕРОССИЙСКАЯ ФЕДЕРАЦИЯ ЛЕГКОЙ АТЛЕТИКИ
A11: МИНИСТЕРСТВО ФИЗИЧЕСКОЙ КУЛЬТУРЫ И СПОРТА КРАСНОДАРСКОГО КРАЯ
A12: ФЕДЕРАЦИЯ ЛЕГКОЙ АТЛЕТИКИ КРАСНОДАРСКОГО КРАЯ
A13: ФЕДЕРАЦИЯ ЛЕГКОЙ АТЛЕТИКИ КРАСНОДАРСКОГО КРАЯ
A21: дисквал п.п. 162.7 | C21: фальстарт

Sheet УЧАСТНИКИ
A1: № уч-ка | B1: №№ | C1: ФАМИЛИЯ ИМЯ УЧАСТНИКА | D1: Год.рожд | E1: НАЗВАНИЕ КОМАНДЫ | F1: ВИД | G1: Округ | H1: Разряд | I1: лично | J1: ТРЕНЕР(ы) | K1: ДСО Ведомство
A2: 299 | C2: Преснякова Алиса | D2: 07.03.1998 | E2: Санкт-Петербург | F2: Прыжок в высоту | H2: МС | I2: к | J2: Семашко Е.В., Волкова И.В. | K2: СПб ГБПОУ "УОР № 1
A3: 20 | C3: Паренчук Лика | D3: 06.04.2002 | E3: Алтайский край | F3: Бег 400 м | H3: КМС | I3: К | J3: Клевцова Н.В., Панина Е.А. | K3: КГБ ПОУ "Алтайское училище олимпийского резерва"
A4: 491 | C4: Нерубенко Людмила | D4: 20.04.1998 | E4: Белгородская область | F4: Прыжок с шестом | H4: КМС | I4: К | J4: Кушкин В.Ю. | K4: МБУДО ДЮСШ №2 г. Белгород
A5: 266 | C5: Бузанакова Алия | D5: 28.01.1997 | E5: Санкт-Петербург | F5: Метание копья | H5: КМС | I5: л | J5: Королёв В.В. | K5: ГБУ СШОР "Академия легкой атлетики Санкт-Петербурга"
A6: 258 | C6: Алисова Елизавета | D6: 21.06.2000 | E6: Санкт-Петербург Липецкая область | F6: Бег 100 м | H6: КМС | I6: Л | J6: Шекин Д.А., Бахвалова Е.А., Бурмистрова Н.И. | K6: ГБУ "СШОР" "Академия легкой атлетики Санкт-Петербурга"
A7: 258 | C7: Алисова Елизавета | D7: 21.06.2000 | E7: Санкт-Петербург Липецкая область | F7: Бег 200 м | H7: КМС | I7: Л | J7: Шекин Д.А., Бахвалова Е.А., Бурмистрова Н.И. | K7: ГБУ "СШОР" "Академия легкой атлетики Санкт-Петербурга"
A8: 16 | C8: Малинина (Ткаченко) Светлана | D8: 27.07.1994 | E8: Волгоградская область | F8: Барьерный бег 400 м | H8: КМС | I8: К | J8: Клочкова Е.Ю. | K8: МБУ СШОР № 5 (г. Волгоград)
A9: 131 | C9: Белякова Алена | D9: 21.12.1998 | E9: Краснодарский край ЮФО (К) | F9: Метание диска | H9: МС | I9: К | J9: Синицын А.В., Беляков Ю.Б. | K9: ГБУ КК "ЦОП по легкой атлетике", ГБУ КК"РЦСП по легкой атлетике"
A10: 215 | C10: Белова (Трифонова) Ирина | D10: 21.01.1994 | E10: Республика Мордовия | F10: Бег 100 м | H10: МС | I10: К | J10: Бусаров В.М., Дерунов В.Т., Бусарова С.В. | K10: ГБУ РМ "КСШОР"
A11: 29 | C11: Алымова Вера | D11: 24.11.1995 | E11: Санкт-Петербург Брянская область | F11: Бег 200 м | H11: МС | I11: К | J11: Назаров В.И., Петров С.Г., Трубин Ю.Н. | K11: СПб ГБУ ЦОП "ШВСМ по легкой атлетике", ГБУ БО СШОР по легкой атлетике им. В.Д. Самотесова., СПб ГБУ ЦОП "ШВСМ по легкой атлетике"
A12: 9 | C12: Герасимова Анастасия | D12: 18.03.1998 | E12: Волгоградская область Саратовская область | F12: Бег 800 м | H12: КМС | I12: К | J12: Сачева Т.В., Лупачев А.С. | K12: МБУ СШОР № 5 (г. Волгоград), ГАПОУ ВО "УОР имени дважды Героя Советского Союза А.И. Родимцева"
A13: 272 | C13: Григорьева Анастасия | D13: 07.11.1993 | E13: Санкт-Петербург | F13: Бег 100 м | H13: МС | I13: К | J13: Куликова Е.Ю., Буровцева Н.В. | K13: СПб ГБУ ЦОП "ШВСМ по легкой атлетике"
... A15: 390 | C15: Аплачкина Светлана | D15: 28.11.1992 | E15: Воронежская область | F15: Бег 1500 м | H15: МС | I15: К | J15: Осипов С.А., Аплачкин А.И. | K15: ГБУ ВО "СШОР № 21", АУ ВО "ЦСПСК"
C16: Аплачкина Светлана | D16: 28.11.1992 | E16: Воронежская область | F16: Бег 5 000 м | H16: МС | I16: К | J16: Осипов С.А., Аплачкин А.И. | K16: ГБУ ВО "СШОР № 21", АУ ВО "ЦСПСК"
A17: 391 | C17: Баулина Ирина | D17: 04.01.1999 | E17: Воронежская область | F17: Барьерный бег 400 м | H17: МС | I17: К | J17: Мащенко Р.М., Самсоненкова Н.И. | K17: МБУ "СШОР № 5"
A18: 392 | C18: Буреева Олеся | D18: 05.07.1998 | E18: Воронежская область | F18: Барьерный бег 400 м | H18: МС | I18: К | J18: Омельченко Д.А., Бабкин А.П., Демиденкова Г.А. | K18: ГБУ ВО "СШОР № 21"
A19: 393 | C19: Воробьева Анастасия | D19: 01.04.1999 | E19: Воронежская область | F19: Барьерный бег 100 м | H19: КМС | I19: К | J19: Мащенко Р.М. | K19: МБУ "СШОР № 5"
A20: 79 | C20: Жаткина Любовь | D20: 30.03.1990 | E20: Москва Ставропольский край | F20: Метание копья | H20: МС | I20: К | J20: Чернявская О.М., Чернявский С.К. | K20: ГБУ "ЦОП по легкой атлетике" Москомспорта, ГБУ СК "СШОР по легкой атлетике"
A21: 399 | C21: Рытикова Валерия | D21: 13.12.1995 | E21: Воронежская область | F21: Барьерный бег 100 м | H21: КМС | I21: К | J21: Бабкин А.П., Демиденкова Г.А. | K21: ГБУ ВО "СШОР № 21"
A22: 87 | C22: Денисова Надежда | D22: 16.03.2000 | E22: Тюменская область | F22: Бег 100 м | H22: КМС | I22: К | J22: Сергеев О.В., Артемьев Н.И. | K22: ГАУ ТО "ОСШОР", ТЮМГУ
A23: 215 | C23: Белова (Трифонова) Ирина | D23: 21.01.1994 | E23: Республика Мордовия | F23: Бег 200 м | H23: МС | I23: К | J23: Бусаров В.М., Дерунов В.Т., Бусарова С.В. | K23: ГБУ РМ "КСШОР"
A24: 110 | C24: Бизякина Светлана | D24: 06.11.1994 | E24: Омская область | F24: Метание диска | H24: КМС | I24: К | J24: Бабанин С.Н., Белов М.К. | K24: ФГБУ ПОО "Сибирское ГУОР"
A25: 277 | C25: Зыбина Ксения | D25: 01.02.1989 | E25: Санкт-Петербург | F25: Метание копья | H25: МС | I25: К | J25: Горшков А.И. | K25: ГБУ СШОР "Академия легкой атлетики Санкт-Петербурга"
A26: 401 | C26: Волкова Анастасия | D26: 18.05.2000 | E26: Тульская область | F26: Бег 200 м | H26: КМС | I26: К | J26: Волкова И.В., Волков А.А. | K26: ГУ ТО ЦСП, МБУ СШОР "Легкая атлетика" г. Тула
A27: 49 | C27: Зуйкевич Елена | D27: 26.02.1990 | E27: Калининградская область Пермский край | F27: Бег 400 м | H27: МС | I27: К | J27: Малиновская Н.А., Верещагина З.Г. | K27: ГАУ КО "ЦСП СК", МБУ "СШОР "Старт"
A28: 320 | C28: Цаплина Валерия | D28: 19.02.1997 | E28: Кировская область Санкт-Петербург | F28: Бег 400 м | H28: КМС | I28: л | J28: Егоров А.А., Куликова Е.Ю. | K28: КОГАУ "ВятСШОР" ,СПб ГБУ ЦОП "ШВСМ по легкой атлетике"
... A52: 178 | C52: Тронева Наталья | D52: 24.02.1993 | E52: Краснодарский край | F52: Толкание ядра | H52: МС | I52: Л | J52: Синицын А.В. | K52: Динамо ГБУ КК "РЦСП по легкой атлетике", ГБУ КК "ЦОП по легкой атлетике"
C53: Червинская Вероника | D53: 28.06.1998 | E53: Краснодарский край | F53: Барьерный бег 100 м | H53: МС | I53: К | J53: Дементьев С.Б., Глебов В.Д., Дементьева Т.В. | K53: ГБУ КК "РЦСП по легкой атлетике"
A54: 278 | C54: Иванова Виктория | D54: 07.07.2000 | E54: Санкт-Петербург | F54: Бег 200 м | H54: КМС | I54: л | J54: Агарков В.Н., Пономарев В.В., Куликова Е.Ю. | K54: СПб ГБУ ЦОП "ШВСМ по легкой атлетике"
A55: 140 | C55: Думен (Рябенко) Елена | D55: 13.01.1994 | E55: Краснодарский край Карачаево-Черкесская республика | F55: Барьерный бег 100 м | H55: МС | I55: К | J55: Вяльцева В.Г. | K55: Министерство спорта ГБУ КК "РЦСП по легкой атлетике", ЦСП КЧР, ГБУ КК "ЦОП по легкой атлетике"
A56: 184 | C56: Шатурная Светлана | D56: 15.06.1995 | E56: Краснодарский край Карачаево-Черкесская республика | F56: Барьерный бег 400 м | H56: КМС | I56: К | J56: Вяльцева В.Г. | K56: Министерство спорта ГБУ КК "ЦОП по легкой атлетике", РГБУ "КСШ " СПАРТАК"
A57: 183 | C57: Чернышева Елизавета | D57: 11.11.1996 | E57: Краснодарский край Саратовская область | F57: Барьерный бег 100 м | H57: МС | I57: Л | J57: Азизьян А.А., Беликов Ю.Б., Беликова Н.И. | K57: ГБУ КК "ЦОП по легкой атлетике", ГБУ КК "РЦСП по легкой атлетике"
A58: 275 | C58: Дрожжина Елизавета | D58: 11.02.1998 | E58: Санкт-Петербург | F58: Прыжок в длину | H58: КМС | I58: л | J58: Черепанова И.Н., Черепанов А.Н. | K58: СПб ГБУ ЦОП "ШВСМ по легкой атлетике"
A59: 150 | C59: Конева Екатерина | D59: 25.09.1988 | E59: Краснодарский край Хабаровский край | F59: Прыжок тройной | H59: ЗМС | I59: К | J59: Цыплаков А.В., Лупатов Р.М. | K59: ГБУ КК "РЦСП по легкой атлетике", ГБУ КК "ЦОП по легкой атлетике", МБОУ ДО ДЮСШ "Максимум"
A60: 328 | C60: Аникиенко Елизавета | D60: 30.06.1994 | E60: Москва Московская область | F60: Барьерный бег 400 м | H60: МС | I60: К | J60: Чемерисов Н.Ф. | K60: ГБУ "МГФСО" Москомспорта, ГБУ МО "СШОР по легкой атлетике"
A61: 139 | C61: Дорохова Анастасия | D61: 28.05.1999 | E61: Краснодарский край ЮФО (К) | F61: Барьерный бег 400 м | H61: КМС | I61: К | J61: Вяльцева В.Г., Сухова В.В. | K61: ГБУ КК "ЦОП по легкой атлетике", ГБУ РК "Спортивная школа №1"
A62: 103 | C62: Лапшова Алина | D62: 06.09.1998 | E62: Красноярский край | F62: Барьерный бег 400 м | H62: 2 | I62: К | J62: Зубрилина Т.Г., Вашкевич И.Е., Чалый Ю.В. | K62: Академия летних видов спорта КГАУ "РЦСП "Академия летних видов спорта", МАУ "СШОР "Спутник"
A63: 104 | C63: Лихачёва Юлия | D63: 26.08.1998 | E63: Красноярский край | F63: Бег с препятствиями 3 000 м | H63: КМС | I63: К | J63: Ромащенко А.А., Вашкевич И.Е., Чалый Ю.В. | K63: Академия летних видов спорта КГАУ "РЦСП "Академия летних видов спорта", МАУ "СШОР "Спутник"
A64: 107 | C64: Степанова Екатерина | D64: 24.07.1994 | E64: Красноярский край | F64: Прыжок в высоту | H64: МС | I64: К | J64: Мочалов С.С., Мочалова Е.С. | K64: КГАУ "РЦСП "Академия летних видов спорта", МАУ "СШОР "Спутник"
...

Sheet 10-Ж
A1: =Name_2 -> ВСЕРОССИЙСКАЯ ФЕДЕРАЦИЯ ЛЕГКОЙ АТЛЕТИКИ
A2: СТАРТОВЫЙ ПРОТОКОЛ
A3: КУБОК РОССИИ
A4: ЖЕНЩИНЫ
A5: Бег 100 м
J6: РР- 10.77
B7: ЗАБЕГИ | C7: 17:20 | D7: =d_1 -> 28.05.2019г. | J7: =d_5 -> г. Сочи, ул. Бзугу 2, ст. им. Славы Метревели
A8: № п/п | B8: Фамилия, имя участника | C8: Дата рождения | D8: Территория | E8: Заявленный разряд | F8: Номер участника | G8: Приход | H8: Результат | I8: Место | J8: Примеч.
B9: 1 ЗАБЕГ
A10: 1
A11: 2
A12: 3 | B12: =VLOOKUP($F12,УЧАСТНИКИ!$A$2:$L$1099,3,FALSE) -> Максимова (Сизова) Марина | C12: =VLOOKUP($F12,УЧАСТНИКИ!$A$2:$L$1099,4,FALSE) -> 18.02.1997 | D12: =VLOOKUP($F12,УЧАСТНИКИ!$A$2:$L$1099,5,FALSE) -> Нижегородская область Чувашская республика | E12: =VLOOKUP($F12,УЧАСТНИКИ!$A$2:$L$1099,8,FALSE) -> МС | F12: 225 | J12: =VLOOKUP($F12,УЧАСТНИКИ!$A$2:$L$1099,9,FALSE) -> К
A13: 4 | B13: =VLOOKUP($F13,УЧАСТНИКИ!$A$2:$L$1099,3,FALSE) -> Черняева (Козлова) Елена | C13: =VLOOKUP($F13,УЧАСТНИКИ!$A$2:$L$1099,4,FALSE) -> 19.09.1988 | D13: =VLOOKUP($F13,УЧАСТНИКИ!$A$2:$L$1099,5,FALSE) -> Санкт-Петербург Вологодская область | E13: =VLOOKUP($F13,УЧАСТНИКИ!$A$2:$L$1099,8,FALSE) -> МС | F13: 322 | J13: =VLOOKUP($F13,УЧАСТНИКИ!$A$2:$L$1099,9,FALSE) -> К
A14: 5 | B14: =VLOOKUP($F14,УЧАСТНИКИ!$A$2:$L$1099,3,FALSE) -> Смирнова (Вороненкова) Екатерина | C14: =VLOOKUP($F14,УЧАСТНИКИ!$A$2:$L$1099,4,FALSE) -> 08.09.1988 | D14: =VLOOKUP($F14,УЧАСТНИКИ!$A$2:$L$1099,5,FALSE) -> Москва | E14: =VLOOKUP($F14,УЧАСТНИКИ!$A$2:$L$1099,8,FALSE) -> МСМК | F14: 367 | J14: =VLOOKUP($F14,УЧАСТНИКИ!$A$2:$L$1099,9,FALSE) -> Л
A15: 6 | B15: =VLOOKUP($F15,УЧАСТНИКИ!$A$2:$L$1099,3,FALSE) -> Ткачёва Екатерина | C15: =VLOOKUP($F15,УЧАСТНИКИ!$A$2:$L$1099,4,FALSE) -> 15.02.1999 | D15: =VLOOKUP($F15,УЧАСТНИКИ!$A$2:$L$1099,5,FALSE) -> Новосибирская область | E15: =VLOOKUP($F15,УЧАСТНИКИ!$A$2:$L$1099,8,FALSE) -> КМС | F15: 429 | J15: =VLOOKUP($F15,УЧАСТНИКИ!$A$2:$L$1099,9,FALSE) -> К
A16: 7 | B16: =VLOOKUP($F16,УЧАСТНИКИ!$A$2:$L$1099,3,FALSE) -> Алисова Елизавета | C16: =VLOOKUP($F16,УЧАСТНИКИ!$A$2:$L$1099,4,FALSE) -> 21.06.2000 | D16: =VLOOKUP($F16,УЧАСТНИКИ!$A$2:$L$1099,5,FALSE) -> Санкт-Петербург Липецкая область | E16: =VLOOKUP($F16,УЧАСТНИКИ!$A$2:$L$1099,8,FALSE) -> КМС | F16: 258 | J16: =VLOOKUP($F16,УЧАСТНИКИ!$A$2:$L$1099,9,FALSE) -> Л
A17: 8
B18: 2 ЗАБЕГ
A19: 1
A20: 2 | B20: =VLOOKUP($F20,УЧАСТНИКИ!$A$2:$L$1099,3,FALSE) -> Кученева Юлия | C20: =VLOOKUP($F20,УЧАСТНИКИ!$A$2:$L$1099,4,FALSE) -> 11.09.1999 | D20: =VLOOKUP($F20,УЧАСТНИКИ!$A$2:$L$1099,5,FALSE) -> Волгоградская область | E20: =VLOOKUP($F20,УЧАСТНИКИ!$A$2:$L$1099,8,FALSE) -> КМС | F20: 14 | J20: =VLOOKUP($F20,УЧАСТНИКИ!$A$2:$L$1099,9,FALSE) -> К
A21: 3 | B21: =VLOOKUP($F21,УЧАСТНИКИ!$A$2:$L$1099,3,FALSE) -> Белова (Трифонова) Ирина | C21: =VLOOKUP($F21,УЧАСТНИКИ!$A$2:$L$1099,4,FALSE) -> 21.01.1994 | D21: =VLOOKUP($F21,УЧАСТНИКИ!$A$2:$L$1099,5,FALSE) -> Республика Мордовия | E21: =VLOOKUP($F21,УЧАСТНИКИ!$A$2:$L$1099,8,FALSE) -> МС | F21: 215 | J21: =VLOOKUP($F21,УЧАСТНИКИ!$A$2:$L$1099,9,FALSE) -> К
A22: 4 | B22: =VLOOKUP($F22,УЧАСТНИКИ!$A$2:$L$1099,3,FALSE) -> Хорошева Кристина | C22: =VLOOKUP($F22,УЧАСТНИКИ!$A$2:$L$1099,4,FALSE) -> 05.04.1993 | D22: =VLOOKUP($F22,УЧАСТНИКИ!$A$2:$L$1099,5,FALSE) -> Пензенская область Тульская область | E22: =VLOOKUP($F22,УЧАСТНИКИ!$A$2:$L$1099,8,FALSE) -> МС | F22: 406 | J22: =VLOOKUP($F22,УЧАСТНИКИ!$A$2:$L$1099,9,FALSE) -> К
A23: 5 | B23: =VLOOKUP($F23,УЧАСТНИКИ!$A$2:$L$1099,3,FALSE) -> Погребняк Наталья | C23: =VLOOKUP($F23,УЧАСТНИКИ!$A$2:$L$1099,4,FALSE) -> 19.02.1988 | D23: =VLOOKUP($F23,УЧАСТНИКИ!$A$2:$L$1099,5,FALSE) -> Краснодарский край | E23: =VLOOKUP($F23,УЧАСТНИКИ!$A$2:$L$1099,8,FALSE) -> МСМК | F23: 163 | J23: =VLOOKUP($F23,УЧАСТНИКИ!$A$2:$L$1099,9,FALSE) -> К
A24: 6 | B24: =VLOOKUP($F24,УЧАСТНИКИ!$A$2:$L$1099,3,FALSE) -> Тарасова Алина | C24: =VLOOKUP($F24,УЧАСТНИКИ!$A$2:$L$1099,4,FALSE) -> 11.05.1999 | D24: =VLOOKUP($F24,УЧАСТНИКИ!$A$2:$L$1099,5,FALSE) -> Красноярский край | E24: =VLOOKUP($F24,УЧАСТНИКИ!$A$2:$L$1099,8,FALSE) -> КМС | F24: 105 | J24: =VLOOKUP($F24,УЧАСТНИКИ!$A$2:$L$1099,9,FALSE) -> К
A25: 7 | B25: =VLOOKUP($F25,УЧАСТНИКИ!$A$2:$L$1099,3,FALSE) -> Петрищева Юлия | C25: =VLOOKUP($F25,УЧАСТНИКИ!$A$2:$L$1099,4,FALSE) -> 02.03.1997 | D25: =VLOOKUP($F25,УЧАСТНИКИ!$A$2:$L$1099,5,FALSE) -> Курская область | E25: =VLOOKUP($F25,УЧАСТНИКИ!$A$2:$L$1099,8,FALSE) -> КМС | F25: 190 | J25: =VLOOKUP($F25,УЧАСТНИКИ!$A$2:$L$1099,9,FALSE) -> К
A26: 8
B27: 3 ЗАБЕГ
A28: 1
A29: 2 | B29: =VLOOKUP($F29,УЧАСТНИКИ!$A$2:$L$1099,3,FALSE) -> Довженко Юлия | C29: =VLOOKUP($F29,УЧАСТНИКИ!$A$2:$L$1099,4,FALSE) -> 23.01.1998 | D29: =VLOOKUP($F29,УЧАСТНИКИ!$A$2:$L$1099,5,FALSE) -> Ставропольский край | E29: =VLOOKUP($F29,УЧАСТНИКИ!$A$2:$L$1099,8,FALSE) -> КМС | F29: 77 | J29: =VLOOKUP($F29,УЧАСТНИКИ!$A$2:$L$1099,9,FALSE) -> К
A30: 3 | B30: =VLOOKUP($F30,УЧАСТНИКИ!$A$2:$L$1099,3,FALSE) -> Стародубова Ангелина | C30: =VLOOKUP($F30,УЧАСТНИКИ!$A$2:$L$1099,4,FALSE) -> 11.10.1998 | D30: =VLOOKUP($F30,УЧАСТНИКИ!$A$2:$L$1099,5,FALSE) -> Московская область Пензенская область | E30: =VLOOKUP($F30,УЧАСТНИКИ!$A$2:$L$1099,8,FALSE) -> МС | F30: 469 | J30: =VLOOKUP($F30,УЧАСТНИКИ!$A$2:$L$1099,9,FALSE) -> л
A31: 4 | B31: =VLOOKUP($F31,УЧАСТНИКИ!$A$2:$L$1099,3,FALSE) -> Соколова (Полищук) Анастасия | C31: =VLOOKUP($F31,УЧАСТНИКИ!$A$2:$L$1099,4,FALSE) -> 20.05.1994 | D31: =VLOOKUP($F31,УЧАСТНИКИ!$A$2:$L$1099,5,FALSE) -> Свердловская область Челябинская область | E31: =VLOOKUP($F31,УЧАСТНИКИ!$A$2:$L$1099,8,FALSE) -> МС | F31: 73 | J31: =VLOOKUP($F31,УЧАСТНИКИ!$A$2:$L$1099,9,FALSE) -> К
A32: 5 | B32: =VLOOKUP($F32,УЧАСТНИКИ!$A$2:$L$1099,3,FALSE) -> Кукушкина Анна | C32: =VLOOKUP($F32,УЧАСТНИКИ!$A$2:$L$1099,4,FALSE) -> 13.12.1992 | D32: =VLOOKUP($F32,УЧАСТНИКИ!$A$2:$L$1099,5,FALSE) -> Московская область Ямало-Ненецкий автономный округ | E32: =VLOOKUP($F32,УЧАСТНИКИ!$A$2:$L$1099,8,FALSE) -> МС | F32: 251 | J32: =VLOOKUP($F32,УЧАСТНИКИ!$A$2:$L$1099,9,FALSE) -> К
A33: 6 | B33: =VLOOKUP($F33,УЧАСТНИКИ!$A$2:$L$1099,3,FALSE) -> Спиридонова Валерия | C33: =VLOOKUP($F33,УЧАСТНИКИ!$A$2:$L$1099,4,FALSE) -> 27.12.2000 | D33: =VLOOKUP($F33,УЧАСТНИКИ!$A$2:$L$1099,5,FALSE) -> Краснодарский край | E33: =VLOOKUP($F33,УЧАСТНИКИ!$A$2:$L$1099,8,FALSE) -> 1 | F33: 176 | J33: =VLOOKUP($F33,УЧАСТНИКИ!$A$2:$L$1099,9,FALSE) -> Л
A34: 7 | B34: =VLOOKUP($F34,УЧАСТНИКИ!$A$2:$L$1099,3,FALSE) -> Колесникова Дарья | C34: =VLOOKUP($F34,УЧАСТНИКИ!$A$2:$L$1099,4,FALSE) -> 28.07.2002 | D34: =VLOOKUP($F34,УЧАСТНИКИ!$A$2:$L$1099,5,FALSE) -> Краснодарский край | E34: =VLOOKUP($F34,УЧАСТНИКИ!$A$2:$L$1099,8,FALSE) -> 1 | F34: 487 | J34: =VLOOKUP($F34,УЧАСТНИКИ!$A$2:$L$1099,9,FALSE) -> Л
A35: 8
B36: 4 ЗАБЕГ
A37: 1
A38: 2 | B38: =VLOOKUP($F38,УЧАСТНИКИ!$A$2:$L$1099,3,FALSE) -> Денисова Надежда | C38: =VLOOKUP($F38,УЧАСТНИКИ!$A$2:$L$1099,4,FALSE) -> 16.03.2000 | D38: =VLOOKUP($F38,УЧАСТНИКИ!$A$2:$L$1099,5,FALSE) -> Тюменская область | E38: =VLOOKUP($F38,УЧАСТНИКИ!$A$2:$L$1099,8,FALSE) -> КМС | F38: 87 | J38: =VLOOKUP($F38,УЧАСТНИКИ!$A$2:$L$1099,9,FALSE) -> К
A39: 3 | B39: =VLOOKUP($F39,УЧАСТНИКИ!$A$2:$L$1099,3,FALSE) -> Стародубова Виолетта | C39: =VLOOKUP($F39,УЧАСТНИКИ!$A$2:$L$1099,4,FALSE) -> 15.12.1999 | D39: =VLOOKUP($F39,УЧАСТНИКИ!$A$2:$L$1099,5,FALSE) -> Воронежская область | E39: =VLOOKUP($F39,УЧАСТНИКИ!$A$2:$L$1099,8,FALSE) -> КМС | F39: 400 | J39: =VLOOKUP($F39,УЧАСТНИКИ!$A$2:$L$1099,9,FALSE) -> К
A40: 4 | B40: =VLOOKUP($F40,УЧАСТНИКИ!$A$2:$L$1099,3,FALSE) -> Сластникова Тамара | C40: =VLOOKUP($F40,УЧАСТНИКИ!$A$2:$L$1099,4,FALSE) -> 21.05.1993 | D40: =VLOOKUP($F40,УЧАСТНИКИ!$A$2:$L$1099,5,FALSE) -> Новосибирская область | E40: =VLOOKUP($F40,УЧАСТНИКИ!$A$2:$L$1099,8,FALSE) -> МС | F40: 427 | J40: =VLOOKUP($F40,УЧАСТНИКИ!$A$2:$L$1099,9,FALSE) -> К
...

Sheet 10Ф-Ж
A1: =Name_2 -> ВСЕРОССИЙСКАЯ ФЕДЕРАЦИЯ ЛЕГКОЙ АТЛЕТИКИ
A2: СТАРТОВЫЙ ПРОТОКОЛ
A3: КУБОК РОССИИ
A4: ЖЕНЩИНЫ
A5: Бег 100 м
K6: РР- 10.77
B7: ФИНАЛЬНЫЙ ЗАБЕГ | C7: 12:55 | D7: =d_1 -> 28.05.2019г. | K7: =d_5 -> г. Сочи, ул. Бзугу 2, ст. им. Славы Метревели
A8: № п/п | B8: Фамилия, имя участника | C8: Дата рождения | D8: Территория | E8: Заявленный разряд | F8: Номер участника | G8: рез-тат забега | H8: приход | I8: Результат | J8: Место | K8: Примеч.
A10: 1 | B10: =VLOOKUP($F10,УЧАСТНИКИ!$A$2:$L$1099,3,FALSE) -> #N/A | C10: =VLOOKUP($F10,УЧАСТНИКИ!$A$2:$L$1099,4,FALSE) -> #N/A | D10: =VLOOKUP($F10,УЧАСТНИКИ!$A$2:$L$1099,5,FALSE) -> #N/A | E10: =VLOOKUP($F10,УЧАСТНИКИ!$A$2:$L$1099,8,FALSE) -> #N/A | K10: =VLOOKUP($F10,УЧАСТНИКИ!$A$2:$L$1099,9,FALSE) -> #N/A
A11: 2 | B11: =VLOOKUP($F11,УЧАСТНИКИ!$A$2:$L$1099,3,FALSE) -> #N/A | C11: =VLOOKUP($F11,УЧАСТНИКИ!$A$2:$L$1099,4,FALSE) -> #N/A | D11: =VLOOKUP($F11,УЧАСТНИКИ!$A$2:$L$1099,5,FALSE) -> #N/A | E11: =VLOOKUP($F11,УЧАСТНИКИ!$A$2:$L$1099,8,FALSE) -> #N/A | K11: =VLOOKUP($F11,УЧАСТНИКИ!$A$2:$L$1099,9,FALSE) -> #N/A
A12: 3 | B12: =VLOOKUP($F12,УЧАСТНИКИ!$A$2:$L$1099,3,FALSE) -> #N/A | C12: =VLOOKUP($F12,УЧАСТНИКИ!$A$2:$L$1099,4,FALSE) -> #N/A | D12: =VLOOKUP($F12,УЧАСТНИКИ!$A$2:$L$1099,5,FALSE) -> #N/A | E12: =VLOOKUP($F12,УЧАСТНИКИ!$A$2:$L$1099,8,FALSE) -> #N/A | K12: =VLOOKUP($F12,УЧАСТНИКИ!$A$2:$L$1099,9,FALSE) -> #N/A
A13: 4 | B13: =VLOOKUP($F13,УЧАСТНИКИ!$A$2:$L$1099,3,FALSE) -> #N/A | C13: =VLOOKUP($F13,УЧАСТНИКИ!$A$2:$L$1099,4,FALSE) -> #N/A | D13: =VLOOKUP($F13,УЧАСТНИКИ!$A$2:$L$1099,5,FALSE) -> #N/A | E13: =VLOOKUP($F13,УЧАСТНИКИ!$A$2:$L$1099,8,FALSE) -> #N/A | K13: =VLOOKUP($F13,УЧАСТНИКИ!$A$2:$L$1099,9,FALSE) -> #N/A
A14: 5 | B14: =VLOOKUP($F14,УЧАСТНИКИ!$A$2:$L$1099,3,FALSE) -> #N/A | C14: =VLOOKUP($F14,УЧАСТНИКИ!$A$2:$L$1099,4,FALSE) -> #N/A | D14: =VLOOKUP($F14,УЧАСТНИКИ!$A$2:$L$1099,5,FALSE) -> #N/A | E14: =VLOOKUP($F14,УЧАСТНИКИ!$A$2:$L$1099,8,FALSE) -> #N/A | K14: =VLOOKUP($F14,УЧАСТНИКИ!$A$2:$L$1099,9,FALSE) -> #N/A
A15: 6 | B15: =VLOOKUP($F15,УЧАСТНИКИ!$A$2:$L$1099,3,FALSE) -> #N/A | C15: =VLOOKUP($F15,УЧАСТНИКИ!$A$2:$L$1099,4,FALSE) -> #N/A | D15: =VLOOKUP($F15,УЧАСТНИКИ!$A$2:$L$1099,5,FALSE) -> #N/A | E15: =VLOOKUP($F15,УЧАСТНИКИ!$A$2:$L$1099,8,FALSE) -> #N/A | K15: =VLOOKUP($F15,УЧАСТНИКИ!$A$2:$L$1099,9,FALSE) -> #N/A
A16: 7 | B16: =VLOOKUP($F16,УЧАСТНИКИ!$A$2:$L$1099,3,FALSE) -> #N/A | C16: =VLOOKUP($F16,УЧАСТНИКИ!$A$2:$L$1099,4,FALSE) -> #N/A | D16: =VLOOKUP($F16,УЧАСТНИКИ!$A$2:$L$1099,5,FALSE) -> #N/A | E16: =VLOOKUP($F16,УЧАСТНИКИ!$A$2:$L$1099,8,FALSE) -> #N/A | K16: =VLOOKUP($F16,УЧАСТНИКИ!$A$2:$L$1099,9,FALSE) -> #N/A
A17: 8 | B17: =VLOOKUP($F17,УЧАСТНИКИ!$A$2:$L$1099,3,FALSE) -> #N/A | C17: =VLOOKUP($F17,УЧАСТНИКИ!$A$2:$L$1099,4,FALSE) -> #N/A | D17: =VLOOKUP($F17,УЧАСТНИКИ!$A$2:$L$1099,5,FALSE) -> #N/A | E17: =VLOOKUP($F17,УЧАСТНИКИ!$A$2:$L$1099,8,FALSE) -> #N/A | K17: =VLOOKUP($F17,УЧАСТНИКИ!$A$2:$L$1099,9,FALSE) -> #N/A
A19: Рефери по бегу: | D19: / Вяльцева.В.Г.
A20: Ст.судья:
A21: Ст. судья на фотофинише:
A22: Секретарь:

Sheet 20-Ж
A1: =Name_2 -> ВСЕРОССИЙСКАЯ ФЕДЕРАЦИЯ ЛЕГКОЙ АТЛЕТИКИ
A2: СТАРТОВЫЙ ПРОТОКОЛ
A3: КУБОК РОССИИ
A4: ЖЕНЩИНЫ
A5: Бег 200 м
J6: РР- 21.87
B7: ЗАБЕГИ | C7: 12:55 | D7: =d_1 -> 28.05.2019г. | J7: =d_5 -> г. Сочи, ул. Бзугу 2, ст. им. Славы Метревели
A8: № п/п | B8: Фамилия, имя участника | C8: Дата рождения | D8: Территория | E8: Заявленный разряд | F8: Номер участника | G8: Приход | H8: Результат | I8: Место | J8: Примеч.
B9: 1 ЗАБЕГ
A10: 1 | B10: =VLOOKUP($F10,УЧАСТНИКИ!$A$2:$L$1099,3,FALSE) -> #N/A | C10: =VLOOKUP($F10,УЧАСТНИКИ!$A$2:$L$1099,4,FALSE) -> #N/A | D10: =VLOOKUP($F10,УЧАСТНИКИ!$A$2:$L$1099,5,FALSE) -> #N/A | E10: =VLOOKUP($F10,УЧАСТНИКИ!$A$2:$L$1099,8,FALSE) -> #N/A | J10: =VLOOKUP($F10,УЧАСТНИКИ!$A$2:$L$1099,9,FALSE) -> #N/A
A11: 2 | B11: =VLOOKUP($F11,УЧАСТНИКИ!$A$2:$L$1099,3,FALSE) -> #N/A | C11: =VLOOKUP($F11,УЧАСТНИКИ!$A$2:$L$1099,4,FALSE) -> #N/A | D11: =VLOOKUP($F11,УЧАСТНИКИ!$A$2:$L$1099,5,FALSE) -> #N/A | E11: =VLOOKUP($F11,УЧАСТНИКИ!$A$2:$L$1099,8,FALSE) -> #N/A | J11: =VLOOKUP($F11,УЧАСТНИКИ!$A$2:$L$1099,9,FALSE) -> #N/A
A12: 3 | B12: =VLOOKUP($F12,УЧАСТНИКИ!$A$2:$L$1099,3,FALSE) -> #N/A | C12: =VLOOKUP($F12,УЧАСТНИКИ!$A$2:$L$1099,4,FALSE) -> #N/A | D12: =VLOOKUP($F12,УЧАСТНИКИ!$A$2:$L$1099,5,FALSE) -> #N/A | E12: =VLOOKUP($F12,УЧАСТНИКИ!$A$2:$L$1099,8,FALSE) -> #N/A | J12: =VLOOKUP($F12,УЧАСТНИКИ!$A$2:$L$1099,9,FALSE) -> #N/A
A13: 4 | B13: =VLOOKUP($F13,УЧАСТНИКИ!$A$2:$L$1099,3,FALSE) -> #N/A | C13: =VLOOKUP($F13,УЧАСТНИКИ!$A$2:$L$1099,4,FALSE) -> #N/A | D13: =VLOOKUP($F13,УЧАСТНИКИ!$A$2:$L$1099,5,FALSE) -> #N/A | E13: =VLOOKUP($F13,УЧАСТНИКИ!$A$2:$L$1099,8,FALSE) -> #N/A | J13: =VLOOKUP($F13,УЧАСТНИКИ!$A$2:$L$1099,9,FALSE) -> #N/A
A14: 5 | B14: =VLOOKUP($F14,УЧАСТНИКИ!$A$2:$L$1099,3,FALSE) -> #N/A | C14: =VLOOKUP($F14,УЧАСТНИКИ!$A$2:$L$1099,4,FALSE) -> #N/A | D14: =VLOOKUP($F14,УЧАСТНИКИ!$A$2:$L$1099,5,FALSE) -> #N/A | E14: =VLOOKUP($F14,УЧАСТНИКИ!$A$2:$L$1099,8,FALSE) -> #N/A | J14: =VLOOKUP($F14,УЧАСТНИКИ!$A$2:$L$1099,9,FALSE) -> #N/A
A15: 6 | B15: =VLOOKUP($F15,УЧАСТНИКИ!$A$2:$L$1099,3,FALSE) -> #N/A | C15: =VLOOKUP($F15,УЧАСТНИКИ!$A$2:$L$1099,4,FALSE) -> #N/A | D15: =VLOOKUP($F15,УЧАСТНИКИ!$A$2:$L$1099,5,FALSE) -> #N/A | E15: =VLOOKUP($F15,УЧАСТНИКИ!$A$2:$L$1099,8,FALSE) -> #N/A | J15: =VLOOKUP($F15,УЧАСТНИКИ!$A$2:$L$1099,9,FALSE) -> #N/A
A16: 7 | B16: =VLOOKUP($F16,УЧАСТНИКИ!$A$2:$L$1099,3,FALSE) -> #N/A | C16: =VLOOKUP($F16,УЧАСТНИКИ!$A$2:$L$1099,4,FALSE) -> #N/A | D16: =VLOOKUP($F16,УЧАСТНИКИ!$A$2:$L$1099,5,FALSE) -> #N/A | E16: =VLOOKUP($F16,УЧАСТНИКИ!$A$2:$L$1099,8,FALSE) -> #N/A | J16: =VLOOKUP($F16,УЧАСТНИКИ!$A$2:$L$1099,9,FALSE) -> #N/A
A17: 8 | B17: =VLOOKUP($F17,УЧАСТНИКИ!$A$2:$L$1099,3,FALSE) -> #N/A | C17: =VLOOKUP($F17,УЧАСТНИКИ!$A$2:$L$1099,4,FALSE) -> #N/A | D17: =VLOOKUP($F17,УЧАСТНИКИ!$A$2:$L$1099,5,FALSE) -> #N/A | E17: =VLOOKUP($F17,УЧАСТНИКИ!$A$2:$L$1099,8,FALSE) -> #N/A | J17: =VLOOKUP($F17,УЧАСТНИКИ!$A$2:$L$1099,9,FALSE) -> #N/A
B18: 2 ЗАБЕГ
A19: 1 | B19: =VLOOKUP($F19,УЧАСТНИКИ!$A$2:$L$1099,3,FALSE) -> #N/A | C19: =VLOOKUP($F19,УЧАСТНИКИ!$A$2:$L$1099,4,FALSE) -> #N/A | D19: =VLOOKUP($F19,УЧАСТНИКИ!$A$2:$L$1099,5,FALSE) -> #N/A | E19: =VLOOKUP($F19,УЧАСТНИКИ!$A$2:$L$1099,8,FALSE) -> #N/A | J19: =VLOOKUP($F19,УЧАСТНИКИ!$A$2:$L$1099,9,FALSE) -> #N/A
A20: 2 | B20: =VLOOKUP($F20,УЧАСТНИКИ!$A$2:$L$1099,3,FALSE) -> #N/A | C20: =VLOOKUP($F20,УЧАСТНИКИ!$A$2:$L$1099,4,FALSE) -> #N/A | D20: =VLOOKUP($F20,УЧАСТНИКИ!$A$2:$L$1099,5,FALSE) -> #N/A | E20: =VLOOKUP($F20,УЧАСТНИКИ!$A$2:$L$1099,8,FALSE) -> #N/A | J20: =VLOOKUP($F20,УЧАСТНИКИ!$A$2:$L$1099,9,FALSE) -> #N/A
A21: 3 | B21: =VLOOKUP($F21,УЧАСТНИКИ!$A$2:$L$1099,3,FALSE) -> #N/A | C21: =VLOOKUP($F21,УЧАСТНИКИ!$A$2:$L$1099,4,FALSE) -> #N/A | D21: =VLOOKUP($F21,УЧАСТНИКИ!$A$2:$L$1099,5,FALSE) -> #N/A | E21: =VLOOKUP($F21,УЧАСТНИКИ!$A$2:$L$1099,8,FALSE) -> #N/A | J21: =VLOOKUP($F21,УЧАСТНИКИ!$A$2:$L$1099,9,FALSE) -> #N/A
A22: 4 | B22: =VLOOKUP($F22,УЧАСТНИКИ!$A$2:$L$1099,3,FALSE) -> #N/A | C22: =VLOOKUP($F22,УЧАСТНИКИ!$A$2:$L$1099,4,FALSE) -> #N/A | D22: =VLOOKUP($F22,УЧАСТНИКИ!$A$2:$L$1099,5,FALSE) -> #N/A | E22: =VLOOKUP($F22,УЧАСТНИКИ!$A$2:$L$1099,8,FALSE) -> #N/A | J22: =VLOOKUP($F22,УЧАСТНИКИ!$A$2:$L$1099,9,FALSE) -> #N/A
A23: 5 | B23: =VLOOKUP($F23,УЧАСТНИКИ!$A$2:$L$1099,3,FALSE) -> #N/A | C23: =VLOOKUP($F23,УЧАСТНИКИ!$A$2:$L$1099,4,FALSE) -> #N/A | D23: =VLOOKUP($F23,УЧАСТНИКИ!$A$2:$L$1099,5,FALSE) -> #N/A | E23: =VLOOKUP($F23,УЧАСТНИКИ!$A$2:$L$1099,8,FALSE) -> #N/A | J23: =VLOOKUP($F23,УЧАСТНИКИ!$A$2:$L$1099,9,FALSE) -> #N/A
A24: 6 | B24: =VLOOKUP($F24,УЧАСТНИКИ!$A$2:$L$1099,3,FALSE) -> #N/A | C24: =VLOOKUP($F24,УЧАСТНИКИ!$A$2:$L$1099,4,FALSE) -> #N/A | D24: =VLOOKUP($F24,УЧАСТНИКИ!$A$2:$L$1099,5,FALSE) -> #N/A | E24: =VLOOKUP($F24,УЧАСТНИКИ!$A$2:$L$1099,8,FALSE) -> #N/A | J24: =VLOOKUP($F24,УЧАСТНИКИ!$A$2:$L$1099,9,FALSE) -> #N/A
A25: 7 | B25: =VLOOKUP($F25,УЧАСТНИКИ!$A$2:$L$1099,3,FALSE) -> #N/A | C25: =VLOOKUP($F25,УЧАСТНИКИ!$A$2:$L$1099,4,FALSE) -> #N/A | D25: =VLOOKUP($F25,УЧАСТНИКИ!$A$2:$L$1099,5,FALSE) -> #N/A | E25: =VLOOKUP($F25,УЧАСТНИКИ!$A$2:$L$1099,8,FALSE) -> #N/A | J25: =VLOOKUP($F25,УЧАСТНИКИ!$A$2:$L$1099,9,FALSE) -> #N/A
A26: 8 | B26: =VLOOKUP($F26,УЧАСТНИКИ!$A$2:$L$1099,3,FALSE) -> #N/A | C26: =VLOOKUP($F26,УЧАСТНИКИ!$A$2:$L$1099,4,FALSE) -> #N/A | D26: =VLOOKUP($F26,УЧАСТНИКИ!$A$2:$L$1099,5,FALSE) -> #N/A | E26: =VLOOKUP($F26,УЧАСТНИКИ!$A$2:$L$1099,8,FALSE) -> #N/A | J26: =VLOOKUP($F26,УЧАСТНИКИ!$A$2:$L$1099,9,FALSE) -> #N/A
B27: 3 ЗАБЕГ
A28: 1 | B28: =VLOOKUP($F28,УЧАСТНИКИ!$A$2:$L$1099,3,FALSE) -> #N/A | C28: =VLOOKUP($F28,УЧАСТНИКИ!$A$2:$L$1099,4,FALSE) -> #N/A | D28: =VLOOKUP($F28,УЧАСТНИКИ!$A$2:$L$1099,5,FALSE) -> #N/A | E28: =VLOOKUP($F28,УЧАСТНИКИ!$A$2:$L$1099,8,FALSE) -> #N/A | J28: =VLOOKUP($F28,УЧАСТНИКИ!$A$2:$L$1099,9,FALSE) -> #N/A
A29: 2 | B29: =VLOOKUP($F29,УЧАСТНИКИ!$A$2:$L$1099,3,FALSE) -> #N/A | C29: =VLOOKUP($F29,УЧАСТНИКИ!$A$2:$L$1099,4,FALSE) -> #N/A | D29: =VLOOKUP($F29,УЧАСТНИКИ!$A$2:$L$1099,5,FALSE) -> #N/A | E29: =VLOOKUP($F29,УЧАСТНИКИ!$A$2:$L$1099,8,FALSE) -> #N/A | J29: =VLOOKUP($F29,УЧАСТНИКИ!$A$2:$L$1099,9,FALSE) -> #N/A
A30: 3 | B30: =VLOOKUP($F30,УЧАСТНИКИ!$A$2:$L$1099,3,FALSE) -> #N/A | C30: =VLOOKUP($F30,УЧАСТНИКИ!$A$2:$L$1099,4,FALSE) -> #N/A | D30: =VLOOKUP($F30,УЧАСТНИКИ!$A$2:$L$1099,5,FALSE) -> #N/A | E30: =VLOOKUP($F30,УЧАСТНИКИ!$A$2:$L$1099,8,FALSE) -> #N/A | J30: =VLOOKUP($F30,УЧАСТНИКИ!$A$2:$L$1099,9,FALSE) -> #N/A
A31: 4 | B31: =VLOOKUP($F31,УЧАСТНИКИ!$A$2:$L$1099,3,FALSE) -> #N/A | C31: =VLOOKUP($F31,УЧАСТНИКИ!$A$2:$L$1099,4,FALSE) -> #N/A | D31: =VLOOKUP($F31,УЧАСТНИКИ!$A$2:$L$1099,5,FALSE) -> #N/A | E31: =VLOOKUP($F31,УЧАСТНИКИ!$A$2:$L$1099,8,FALSE) -> #N/A | J31: =VLOOKUP($F31,УЧАСТНИКИ!$A$2:$L$1099,9,FALSE) -> #N/A
A32: 5 | B32: =VLOOKUP($F32,УЧАСТНИКИ!$A$2:$L$1099,3,FALSE) -> #N/A | C32: =VLOOKUP($F32,УЧАСТНИКИ!$A$2:$L$1099,4,FALSE) -> #N/A | D32: =VLOOKUP($F32,УЧАСТНИКИ!$A$2:$L$1099,5,FALSE) -> #N/A | E32: =VLOOKUP($F32,УЧАСТНИКИ!$A$2:$L$1099,8,FALSE) -> #N/A | J32: =VLOOKUP($F32,УЧАСТНИКИ!$A$2:$L$1099,9,FALSE) -> #N/A
A33: 6 | B33: =VLOOKUP($F33,УЧАСТНИКИ!$A$2:$L$1099,3,FALSE) -> #N/A | C33: =VLOOKUP($F33,УЧАСТНИКИ!$A$2:$L$1099,4,FALSE) -> #N/A | D33: =VLOOKUP($F33,УЧАСТНИКИ!$A$2:$L$1099,5,FALSE) -> #N/A | E33: =VLOOKUP($F33,УЧАСТНИКИ!$A$2:$L$1099,8,FALSE) -> #N/A | J33: =VLOOKUP($F33,УЧАСТНИКИ!$A$2:$L$1099,9,FALSE) -> #N/A
A34: 7 | B34: =VLOOKUP($F34,УЧАСТНИКИ!$A$2:$L$1099,3,FALSE) -> #N/A | C34: =VLOOKUP($F34,УЧАСТНИКИ!$A$2:$L$1099,4,FALSE) -> #N/A | D34: =VLOOKUP($F34,УЧАСТНИКИ!$A$2:$L$1099,5,FALSE) -> #N/A | E34: =VLOOKUP($F34,УЧАСТНИКИ!$A$2:$L$1099,8,FALSE) -> #N/A | J34: =VLOOKUP($F34,УЧАСТНИКИ!$A$2:$L$1099,9,FALSE) -> #N/A
A35: 8 | B35: =VLOOKUP($F35,УЧАСТНИКИ!$A$2:$L$1099,3,FALSE) -> #N/A | C35: =VLOOKUP($F35,УЧАСТНИКИ!$A$2:$L$1099,4,FALSE) -> #N/A | D35: =VLOOKUP($F35,УЧАСТНИКИ!$A$2:$L$1099,5,FALSE) -> #N/A | E35: =VLOOKUP($F35,УЧАСТНИКИ!$A$2:$L$1099,8,FALSE) -> #N/A | J35: =VLOOKUP($F35,УЧАСТНИКИ!$A$2:$L$1099,9,FALSE) -> #N/A
B36: 4 ЗАБЕГ
A37: 1 | B37: =VLOOKUP($F37,УЧАСТНИКИ!$A$2:$L$1099,3,FALSE) -> #N/A | C37: =VLOOKUP($F37,УЧАСТНИКИ!$A$2:$L$1099,4,FALSE) -> #N/A | D37: =VLOOKUP($F37,УЧАСТНИКИ!$A$2:$L$1099,5,FALSE) -> #N/A | E37: =VLOOKUP($F37,УЧАСТНИКИ!$A$2:$L$1099,8,FALSE) -> #N/A | J37: =VLOOKUP($F37,УЧАСТНИКИ!$A$2:$L$1099,9,FALSE) -> #N/A
A38: 2 | B38: =VLOOKUP($F38,УЧАСТНИКИ!$A$2:$L$1099,3,FALSE) -> #N/A | C38: =VLOOKUP($F38,УЧАСТНИКИ!$A$2:$L$1099,4,FALSE) -> #N/A | D38: =VLOOKUP($F38,УЧАСТНИКИ!$A$2:$L$1099,5,FALSE) -> #N/A | E38: =VLOOKUP($F38,УЧАСТНИКИ!$A$2:$L$1099,8,FALSE) -> #N/A | J38: =VLOOKUP($F38,УЧАСТНИКИ!$A$2:$L$1099,9,FALSE) -> #N/A
A39: 3 | B39: =VLOOKUP($F39,УЧАСТНИКИ!$A$2:$L$1099,3,FALSE) -> #N/A | C39: =VLOOKUP($F39,УЧАСТНИКИ!$A$2:$L$1099,4,FALSE) -> #N/A | D39: =VLOOKUP($F39,УЧАСТНИКИ!$A$2:$L$1099,5,FALSE) -> #N/A | E39: =VLOOKUP($F39,УЧАСТНИКИ!$A$2:$L$1099,8,FALSE) -> #N/A | J39: =VLOOKUP($F39,УЧАСТНИКИ!$A$2:$L$1099,9,FALSE) -> #N/A
A40: 4 | B40: =VLOOKUP($F40,УЧАСТНИКИ!$A$2:$L$1099,3,FALSE) -> #N/A | C40: =VLOOKUP($F40,УЧАСТНИКИ!$A$2:$L$1099,4,FALSE) -> #N/A | D40: =VLOOKUP($F40,УЧАСТНИКИ!$A$2:$L$1099,5,FALSE) -> #N/A | E40: =VLOOKUP($F40,УЧАСТНИКИ!$A$2:$L$1099,8,FALSE) -> #N/A | J40: =VLOOKUP($F40,УЧАСТНИКИ!$A$2:$L$1099,9,FALSE) -> #N/A
...

Sheet 20Ф-Ж
A1: =Name_2 -> ВСЕРОССИЙСКАЯ ФЕДЕРАЦИЯ ЛЕГКОЙ АТЛЕТИКИ
A2: СТАРТОВЫЙ ПРОТОКОЛ
A3: КУБОК РОССИИ
A4: ЖЕНЩИНЫ
A5: Бег 200 м
K6: РР- 21.87
B7: ФИНАЛЬНЫЙ ЗАБЕГ | C7: 12:55 | D7: =d_1 -> 28.05.2019г. | K7: =d_5 -> г. Сочи, ул. Бзугу 2, ст. им. Славы Метревели
A8: № п/п | B8: Фамилия, имя участника | C8: Дата рождения | D8: Территория | E8: Заявленный разряд | F8: Номер участника | G8: рез-тат забега | H8: приход | I8: Результат | J8: Место | K8: Примеч.
A10: 1 | B10: =VLOOKUP($F10,УЧАСТНИКИ!$A$2:$L$1099,3,FALSE) -> #N/A | C10: =VLOOKUP($F10,УЧАСТНИКИ!$A$2:$L$1099,4,FALSE) -> #N/A | D10: =VLOOKUP($F10,УЧАСТНИКИ!$A$2:$L$1099,5,FALSE) -> #N/A | E10: =VLOOKUP($F10,УЧАСТНИКИ!$A$2:$L$1099,8,FALSE) -> #N/A | K10: =VLOOKUP($F10,УЧАСТНИКИ!$A$2:$L$1099,9,FALSE) -> #N/A
A11: 2 | B11: =VLOOKUP($F11,УЧАСТНИКИ!$A$2:$L$1099,3,FALSE) -> #N/A | C11: =VLOOKUP($F11,УЧАСТНИКИ!$A$2:$L$1099,4,FALSE) -> #N/A | D11: =VLOOKUP($F11,УЧАСТНИКИ!$A$2:$L$1099,5,FALSE) -> #N/A | E11: =VLOOKUP($F11,УЧАСТНИКИ!$A$2:$L$1099,8,FALSE) -> #N/A | K11: =VLOOKUP($F11,УЧАСТНИКИ!$A$2:$L$1099,9,FALSE) -> #N/A
A12: 3 | B12: =VLOOKUP($F12,УЧАСТНИКИ!$A$2:$L$1099,3,FALSE) -> #N/A | C12: =VLOOKUP($F12,УЧАСТНИКИ!$A$2:$L$1099,4,FALSE) -> #N/A | D12: =VLOOKUP($F12,УЧАСТНИКИ!$A$2:$L$1099,5,FALSE) -> #N/A | E12: =VLOOKUP($F12,УЧАСТНИКИ!$A$2:$L$1099,8,FALSE) -> #N/A | K12: =VLOOKUP($F12,УЧАСТНИКИ!$A$2:$L$1099,9,FALSE) -> #N/A
A13: 4 | B13: =VLOOKUP($F13,УЧАСТНИКИ!$A$2:$L$1099,3,FALSE) -> #N/A | C13: =VLOOKUP($F13,УЧАСТНИКИ!$A$2:$L$1099,4,FALSE) -> #N/A | D13: =VLOOKUP($F13,УЧАСТНИКИ!$A$2:$L$1099,5,FALSE) -> #N/A | E13: =VLOOKUP($F13,УЧАСТНИКИ!$A$2:$L$1099,8,FALSE) -> #N/A | K13: =VLOOKUP($F13,УЧАСТНИКИ!$A$2:$L$1099,9,FALSE) -> #N/A
A14: 5 | B14: =VLOOKUP($F14,УЧАСТНИКИ!$A$2:$L$1099,3,FALSE) -> #N/A | C14: =VLOOKUP($F14,УЧАСТНИКИ!$A$2:$L$1099,4,FALSE) -> #N/A | D14: =VLOOKUP($F14,УЧАСТНИКИ!$A$2:$L$1099,5,FALSE) -> #N/A | E14: =VLOOKUP($F14,УЧАСТНИКИ!$A$2:$L$1099,8,FALSE) -> #N/A | K14: =VLOOKUP($F14,УЧАСТНИКИ!$A$2:$L$1099,9,FALSE) -> #N/A
A15: 6 | B15: =VLOOKUP($F15,УЧАСТНИКИ!$A$2:$L$1099,3,FALSE) -> #N/A | C15: =VLOOKUP($F15,УЧАСТНИКИ!$A$2:$L$1099,4,FALSE) -> #N/A | D15: =VLOOKUP($F15,УЧАСТНИКИ!$A$2:$L$1099,5,FALSE) -> #N/A | E15: =VLOOKUP($F15,УЧАСТНИКИ!$A$2:$L$1099,8,FALSE) -> #N/A | K15: =VLOOKUP($F15,УЧАСТНИКИ!$A$2:$L$1099,9,FALSE) -> #N/A
A16: 7 | B16: =VLOOKUP($F16,УЧАСТНИКИ!$A$2:$L$1099,3,FALSE) -> #N/A | C16: =VLOOKUP($F16,УЧАСТНИКИ!$A$2:$L$1099,4,FALSE) -> #N/A | D16: =VLOOKUP($F16,УЧАСТНИКИ!$A$2:$L$1099,5,FALSE) -> #N/A | E16: =VLOOKUP($F16,УЧАСТНИКИ!$A$2:$L$1099,8,FALSE) -> #N/A | K16: =VLOOKUP($F16,УЧАСТНИКИ!$A$2:$L$1099,9,FALSE) -> #N/A
A17: 8 | B17: =VLOOKUP($F17,УЧАСТНИКИ!$A$2:$L$1099,3,FALSE) -> #N/A | C17: =VLOOKUP($F17,УЧАСТНИКИ!$A$2:$L$1099,4,FALSE) -> #N/A | D17: =VLOOKUP($F17,УЧАСТНИКИ!$A$2:$L$1099,5,FALSE) -> #N/A | E17: =VLOOKUP($F17,УЧАСТНИКИ!$A$2:$L$1099,8,FALSE) -> #N/A | K17: =VLOOKUP($F17,УЧАСТНИКИ!$A$2:$L$1099,9,FALSE) -> #N/A
A20: Рефери по бегу:
A21: Ст.судья:
A22: Ст.хронометрист:
A23: Секретарь:

Sheet 40-Ж
A1: =Name_2 -> ВСЕРОССИЙСКАЯ ФЕДЕРАЦИЯ ЛЕГКОЙ АТЛЕТИКИ
A2: СТАРТОВЫЙ ПРОТОКОЛ
A3: КУБОК РОССИИ
A4: ЖЕНЩИНЫ
A5: Бег 400 м
J6: РР- 49.11
B7: ФИНАЛЬНЫЕ ЗАБЕГИ | C7: 16:10 | D7: =d_1 -> 28.05.2019г. | J7: =d_5 -> г. Сочи, ул. Бзугу 2, ст. им. Славы Метревели
A8: № п/п | B8: Фамилия, имя участника | C8: Дата рождения | D8: Территория | E8: Заявленный разряд | F8: Номер участника | G8: Приход | H8: Результат | I8: Место | J8: Примеч.
B9: 1 ЗАБЕГ
A10: 1
A11: 2 | B11: =VLOOKUP($F11,УЧАСТНИКИ!$A$2:$L$1099,3,FALSE) -> Миглан Мария | C11: =VLOOKUP($F11,УЧАСТНИКИ!$A$2:$L$1099,4,FALSE) -> 20.02.1997 | D11: =VLOOKUP($F11,УЧАСТНИКИ!$A$2:$L$1099,5,FALSE) -> Тюменская область | E11: =VLOOKUP($F11,УЧАСТНИКИ!$A$2:$L$1099,8,FALSE) -> КМС | F11: 92 | J11: =VLOOKUP($F11,УЧАСТНИКИ!$A$2:$L$1099,9,FALSE) -> К
A12: 3 | B12: =VLOOKUP($F12,УЧАСТНИКИ!$A$2:$L$1099,3,FALSE) -> Галацкова (Панасенко) Екатерина | C12: =VLOOKUP($F12,УЧАСТНИКИ!$A$2:$L$1099,4,FALSE) -> 06.01.1995 | D12: =VLOOKUP($F12,УЧАСТНИКИ!$A$2:$L$1099,5,FALSE) -> Ульяновская область | E12: =VLOOKUP($F12,УЧАСТНИКИ!$A$2:$L$1099,8,FALSE) -> КМС | F12: 194 | J12: =VLOOKUP($F12,УЧАСТНИКИ!$A$2:$L$1099,9,FALSE) -> К
A13: 4 | B13: =VLOOKUP($F13,УЧАСТНИКИ!$A$2:$L$1099,3,FALSE) -> Зуйкевич Елена | C13: =VLOOKUP($F13,УЧАСТНИКИ!$A$2:$L$1099,4,FALSE) -> 26.02.1990 | D13: =VLOOKUP($F13,УЧАСТНИКИ!$A$2:$L$1099,5,FALSE) -> Калининградская область Пермский край | E13: =VLOOKUP($F13,УЧАСТНИКИ!$A$2:$L$1099,8,FALSE) -> МС | F13: 49 | J13: =VLOOKUP($F13,УЧАСТНИКИ!$A$2:$L$1099,9,FALSE) -> К
A14: 5 | B14: =VLOOKUP($F14,УЧАСТНИКИ!$A$2:$L$1099,3,FALSE) -> Краснова Карина | C14: =VLOOKUP($F14,УЧАСТНИКИ!$A$2:$L$1099,4,FALSE) -> 09.07.2000 | D14: =VLOOKUP($F14,УЧАСТНИКИ!$A$2:$L$1099,5,FALSE) -> Московская область Тульская область | E14: =VLOOKUP($F14,УЧАСТНИКИ!$A$2:$L$1099,8,FALSE) -> КМС | F14: 458 | J14: =VLOOKUP($F14,УЧАСТНИКИ!$A$2:$L$1099,9,FALSE) -> л
A15: 6 | B15: =VLOOKUP($F15,УЧАСТНИКИ!$A$2:$L$1099,3,FALSE) -> Палиенко Ольга | C15: =VLOOKUP($F15,УЧАСТНИКИ!$A$2:$L$1099,4,FALSE) -> 21.11.1995 | D15: =VLOOKUP($F15,УЧАСТНИКИ!$A$2:$L$1099,5,FALSE) -> Новосибирская область | E15: =VLOOKUP($F15,УЧАСТНИКИ!$A$2:$L$1099,8,FALSE) -> КМС | F15: 424 | J15: =VLOOKUP($F15,УЧАСТНИКИ!$A$2:$L$1099,9,FALSE) -> К
A16: 7 | B16: =VLOOKUP($F16,УЧАСТНИКИ!$A$2:$L$1099,3,FALSE) -> Еремеева Анастасия | C16: =VLOOKUP($F16,УЧАСТНИКИ!$A$2:$L$1099,4,FALSE) -> 01.03.1998 | D16: =VLOOKUP($F16,УЧАСТНИКИ!$A$2:$L$1099,5,FALSE) -> Московская область | E16: =VLOOKUP($F16,УЧАСТНИКИ!$A$2:$L$1099,8,FALSE) -> МС | F16: 447 | J16: =VLOOKUP($F16,УЧАСТНИКИ!$A$2:$L$1099,9,FALSE) -> л
A17: 8
B18: 2 ЗАБЕГ
A19: 1
A20: 2 | B20: =VLOOKUP($F20,УЧАСТНИКИ!$A$2:$L$1099,3,FALSE) -> Цаплина Валерия | C20: =VLOOKUP($F20,УЧАСТНИКИ!$A$2:$L$1099,4,FALSE) -> 19.02.1997 | D20: =VLOOKUP($F20,УЧАСТНИКИ!$A$2:$L$1099,5,FALSE) -> Кировская область Санкт-Петербург | E20: =VLOOKUP($F20,УЧАСТНИКИ!$A$2:$L$1099,8,FALSE) -> КМС | F20: 320 | J20: =VLOOKUP($F20,УЧАСТНИКИ!$A$2:$L$1099,9,FALSE) -> л
A21: 3 | B21: =VLOOKUP($F21,УЧАСТНИКИ!$A$2:$L$1099,3,FALSE) -> Глотова Яна | C21: =VLOOKUP($F21,УЧАСТНИКИ!$A$2:$L$1099,4,FALSE) -> 17.01.1995 | D21: =VLOOKUP($F21,УЧАСТНИКИ!$A$2:$L$1099,5,FALSE) -> Московская область Липецкая область | E21: =VLOOKUP($F21,УЧАСТНИКИ!$A$2:$L$1099,8,FALSE) -> МС | F21: 120 | J21: =VLOOKUP($F21,УЧАСТНИКИ!$A$2:$L$1099,9,FALSE) -> Л
A22: 4 | B22: =VLOOKUP($F22,УЧАСТНИКИ!$A$2:$L$1099,3,FALSE) -> Мамина (Тамкова) Алена | C22: =VLOOKUP($F22,УЧАСТНИКИ!$A$2:$L$1099,4,FALSE) -> 30.05.1990 | D22: =VLOOKUP($F22,УЧАСТНИКИ!$A$2:$L$1099,5,FALSE) -> Московская область Свердловская область | E22: =VLOOKUP($F22,УЧАСТНИКИ!$A$2:$L$1099,8,FALSE) -> МСМК | F22: 71 | J22: =VLOOKUP($F22,УЧАСТНИКИ!$A$2:$L$1099,9,FALSE) -> К
A23: 5 | B23: =VLOOKUP($F23,УЧАСТНИКИ!$A$2:$L$1099,3,FALSE) -> Аксенова (Усталова) Ксения | C23: =VLOOKUP($F23,УЧАСТНИКИ!$A$2:$L$1099,4,FALSE) -> 14.01.1988 | D23: =VLOOKUP($F23,УЧАСТНИКИ!$A$2:$L$1099,5,FALSE) -> Свердловская область Ямало-Ненецкий автономный округ | E23: =VLOOKUP($F23,УЧАСТНИКИ!$A$2:$L$1099,8,FALSE) -> ЗМС | F23: 62 | J23: =VLOOKUP($F23,УЧАСТНИКИ!$A$2:$L$1099,9,FALSE) -> К
A24: 6 | B24: =VLOOKUP($F24,УЧАСТНИКИ!$A$2:$L$1099,3,FALSE) -> Габдуллина Дина | C24: =VLOOKUP($F24,УЧАСТНИКИ!$A$2:$L$1099,4,FALSE) -> 12.03.1995 | D24: =VLOOKUP($F24,УЧАСТНИКИ!$A$2:$L$1099,5,FALSE) -> Ямало-Ненецкий автономный округ | E24: =VLOOKUP($F24,УЧАСТНИКИ!$A$2:$L$1099,8,FALSE) -> КМС | F24: 249 | J24: =VLOOKUP($F24,УЧАСТНИКИ!$A$2:$L$1099,9,FALSE) -> К
A25: 7 | B25: =VLOOKUP($F25,УЧАСТНИКИ!$A$2:$L$1099,3,FALSE) -> Лебедева Александра | C25: =VLOOKUP($F25,УЧАСТНИКИ!$A$2:$L$1099,4,FALSE) -> 04.02.1996 | D25: =VLOOKUP($F25,УЧАСТНИКИ!$A$2:$L$1099,5,FALSE) -> Новосибирская область | E25: =VLOOKUP($F25,УЧАСТНИКИ!$A$2:$L$1099,8,FALSE) -> КМС | F25: 423 | J25: =VLOOKUP($F25,УЧАСТНИКИ!$A$2:$L$1099,9,FALSE) -> К
A26: 8
B27: 3 ЗАБЕГ
A28: 1
A29: 2 | B29: =VLOOKUP($F29,УЧАСТНИКИ!$A$2:$L$1099,3,FALSE) -> Рыбкина Анастасия | C29: =VLOOKUP($F29,УЧАСТНИКИ!$A$2:$L$1099,4,FALSE) -> 14.04.1999 | D29: =VLOOKUP($F29,УЧАСТНИКИ!$A$2:$L$1099,5,FALSE) -> Курская область | E29: =VLOOKUP($F29,УЧАСТНИКИ!$A$2:$L$1099,8,FALSE) -> КМС | F29: 188 | J29: =VLOOKUP($F29,УЧАСТНИКИ!$A$2:$L$1099,9,FALSE) -> К
A30: 3 | B30: =VLOOKUP($F30,УЧАСТНИКИ!$A$2:$L$1099,3,FALSE) -> Паренчук Лика | C30: =VLOOKUP($F30,УЧАСТНИКИ!$A$2:$L$1099,4,FALSE) -> 06.04.2002 | D30: =VLOOKUP($F30,УЧАСТНИКИ!$A$2:$L$1099,5,FALSE) -> Алтайский край | E30: =VLOOKUP($F30,УЧАСТНИКИ!$A$2:$L$1099,8,FALSE) -> КМС | F30: 20 | J30: =VLOOKUP($F30,УЧАСТНИКИ!$A$2:$L$1099,9,FALSE) -> К
A31: 4 | B31: =VLOOKUP($F31,УЧАСТНИКИ!$A$2:$L$1099,3,FALSE) -> Котлярова Надежда | C31: =VLOOKUP($F31,УЧАСТНИКИ!$A$2:$L$1099,4,FALSE) -> 12.06.1989 | D31: =VLOOKUP($F31,УЧАСТНИКИ!$A$2:$L$1099,5,FALSE) -> Москва Республика Карелия | E31: =VLOOKUP($F31,УЧАСТНИКИ!$A$2:$L$1099,8,FALSE) -> МСМК | F31: 482 | J31: =VLOOKUP($F31,УЧАСТНИКИ!$A$2:$L$1099,9,FALSE) -> К
A32: 5 | B32: =VLOOKUP($F32,УЧАСТНИКИ!$A$2:$L$1099,3,FALSE) -> Алымова Вера | C32: =VLOOKUP($F32,УЧАСТНИКИ!$A$2:$L$1099,4,FALSE) -> 24.11.1995 | D32: =VLOOKUP($F32,УЧАСТНИКИ!$A$2:$L$1099,5,FALSE) -> Санкт-Петербург Брянская область | E32: =VLOOKUP($F32,УЧАСТНИКИ!$A$2:$L$1099,8,FALSE) -> МС | F32: 29 | J32: =VLOOKUP($F32,УЧАСТНИКИ!$A$2:$L$1099,9,FALSE) -> К
A33: 6 | B33: =VLOOKUP($F33,УЧАСТНИКИ!$A$2:$L$1099,3,FALSE) -> Брагина Анастасия | C33: =VLOOKUP($F33,УЧАСТНИКИ!$A$2:$L$1099,4,FALSE) -> 01.06.1998 | D33: =VLOOKUP($F33,УЧАСТНИКИ!$A$2:$L$1099,5,FALSE) -> Новосибирская область | E33: =VLOOKUP($F33,УЧАСТНИКИ!$A$2:$L$1099,8,FALSE) -> МС | F33: 421 | J33: =VLOOKUP($F33,УЧАСТНИКИ!$A$2:$L$1099,9,FALSE) -> К
A34: 7 | B34: =VLOOKUP($F34,УЧАСТНИКИ!$A$2:$L$1099,3,FALSE) -> Завьялова Яника | C34: =VLOOKUP($F34,УЧАСТНИКИ!$A$2:$L$1099,4,FALSE) -> 12.10.1996 | D34: =VLOOKUP($F34,УЧАСТНИКИ!$A$2:$L$1099,5,FALSE) -> Свердловская область Ханты-Мансийский автономный округ - Югра | E34: =VLOOKUP($F34,УЧАСТНИКИ!$A$2:$L$1099,8,FALSE) -> КМС | F34: 68 | J34: =VLOOKUP($F34,УЧАСТНИКИ!$A$2:$L$1099,9,FALSE) -> К
A35: 8 | B35: =VLOOKUP($F35,УЧАСТНИКИ!$A$2:$L$1099,3,FALSE) -> Гудожникова Екатерина | C35: =VLOOKUP($F35,УЧАСТНИКИ!$A$2:$L$1099,4,FALSE) -> 28.10.2000 | D35: =VLOOKUP($F35,УЧАСТНИКИ!$A$2:$L$1099,5,FALSE) -> Омская область | E35: =VLOOKUP($F35,УЧАСТНИКИ!$A$2:$L$1099,8,FALSE) -> 2 | F35: 112 | J35: =VLOOKUP($F35,УЧАСТНИКИ!$A$2:$L$1099,9,FALSE) -> К
B36: 4 ЗАБЕГ
A37: 1
A38: 2 | B38: =VLOOKUP($F38,УЧАСТНИКИ!$A$2:$L$1099,3,FALSE) -> Богомолова Инесса | C38: =VLOOKUP($F38,УЧАСТНИКИ!$A$2:$L$1099,4,FALSE) -> 24.06.1997 | D38: =VLOOKUP($F38,УЧАСТНИКИ!$A$2:$L$1099,5,FALSE) -> Новосибирская область | E38: =VLOOKUP($F38,УЧАСТНИКИ!$A$2:$L$1099,8,FALSE) -> КМС | F38: 420 | J38: =VLOOKUP($F38,УЧАСТНИКИ!$A$2:$L$1099,9,FALSE) -> К
A39: 3 | B39: =VLOOKUP($F39,УЧАСТНИКИ!$A$2:$L$1099,3,FALSE) -> Бочарова Виктория | C39: =VLOOKUP($F39,УЧАСТНИКИ!$A$2:$L$1099,4,FALSE) -> 01.02.1995 | D39: =VLOOKUP($F39,УЧАСТНИКИ!$A$2:$L$1099,5,FALSE) -> Москва | E39: =VLOOKUP($F39,УЧАСТНИКИ!$A$2:$L$1099,8,FALSE) -> КМС | F39: 334 | J39: =VLOOKUP($F39,УЧАСТНИКИ!$A$2:$L$1099,9,FALSE) -> Л
A40: 4 | B40: =VLOOKUP($F40,УЧАСТНИКИ!$A$2:$L$1099,3,FALSE) -> Жданова Анастасия | C40: =VLOOKUP($F40,УЧАСТНИКИ!$A$2:$L$1099,4,FALSE) -> 15.04.1994 | D40: =VLOOKUP($F40,УЧАСТНИКИ!$A$2:$L$1099,5,FALSE) -> Свердловская область | E40: =VLOOKUP($F40,УЧАСТНИКИ!$A$2:$L$1099,8,FALSE) -> МС | F40: 67 | J40: =VLOOKUP($F40,УЧАСТНИКИ!$A$2:$L$1099,9,FALSE) -> К
...

Sheet 80-Ж
A1: =Name_2 -> ВСЕРОССИЙСКАЯ ФЕДЕРАЦИЯ ЛЕГКОЙ АТЛЕТИКИ
A2: СТАРТОВЫЙ ПРОТОКОЛ
A3: КУБОК РОССИИ
A4: ЖЕНЩИНЫ
A5: Бег 800 м
J6: РР- 1:53.43
B7: ФИНАЛЬНЫЕ ЗАБЕГИ | C7: 12:55 | D7: =d_1 -> 28.05.2019г. | J7: =d_5 -> г. Сочи, ул. Бзугу 2, ст. им. Славы Метревели
A8: № п/п | B8: Фамилия, имя участника | C8: Дата рождения | D8: Территория | E8: Заявленный разряд | F8: Номер участника | G8: Приход | H8: Результат | I8: Место | J8: Примеч.
B9: 1 ЗАБЕГ
A10: 1 | B10: =VLOOKUP($F10,УЧАСТНИКИ!$A$2:$L$1099,3,FALSE) -> #N/A | C10: =VLOOKUP($F10,УЧАСТНИКИ!$A$2:$L$1099,4,FALSE) -> #N/A | D10: =VLOOKUP($F10,УЧАСТНИКИ!$A$2:$L$1099,5,FALSE) -> #N/A | E10: =VLOOKUP($F10,УЧАСТНИКИ!$A$2:$L$1099,8,FALSE) -> #N/A | J10: =VLOOKUP($F10,УЧАСТНИКИ!$A$2:$L$1099,9,FALSE) -> #N/A
A11: 2 | B11: =VLOOKUP($F11,УЧАСТНИКИ!$A$2:$L$1099,3,FALSE) -> #N/A | C11: =VLOOKUP($F11,УЧАСТНИКИ!$A$2:$L$1099,4,FALSE) -> #N/A | D11: =VLOOKUP($F11,УЧАСТНИКИ!$A$2:$L$1099,5,FALSE) -> #N/A | E11: =VLOOKUP($F11,УЧАСТНИКИ!$A$2:$L$1099,8,FALSE) -> #N/A | J11: =VLOOKUP($F11,УЧАСТНИКИ!$A$2:$L$1099,9,FALSE) -> #N/A
A12: 3 | B12: =VLOOKUP($F12,УЧАСТНИКИ!$A$2:$L$1099,3,FALSE) -> #N/A | C12: =VLOOKUP($F12,УЧАСТНИКИ!$A$2:$L$1099,4,FALSE) -> #N/A | D12: =VLOOKUP($F12,УЧАСТНИКИ!$A$2:$L$1099,5,FALSE) -> #N/A | E12: =VLOOKUP($F12,УЧАСТНИКИ!$A$2:$L$1099,8,FALSE) -> #N/A | J12: =VLOOKUP($F12,УЧАСТНИКИ!$A$2:$L$1099,9,FALSE) -> #N/A
A13: 4 | B13: =VLOOKUP($F13,УЧАСТНИКИ!$A$2:$L$1099,3,FALSE) -> #N/A | C13: =VLOOKUP($F13,УЧАСТНИКИ!$A$2:$L$1099,4,FALSE) -> #N/A | D13: =VLOOKUP($F13,УЧАСТНИКИ!$A$2:$L$1099,5,FALSE) -> #N/A | E13: =VLOOKUP($F13,УЧАСТНИКИ!$A$2:$L$1099,8,FALSE) -> #N/A | J13: =VLOOKUP($F13,УЧАСТНИКИ!$A$2:$L$1099,9,FALSE) -> #N/A
A14: 5 | B14: =VLOOKUP($F14,УЧАСТНИКИ!$A$2:$L$1099,3,FALSE) -> #N/A | C14: =VLOOKUP($F14,УЧАСТНИКИ!$A$2:$L$1099,4,FALSE) -> #N/A | D14: =VLOOKUP($F14,УЧАСТНИКИ!$A$2:$L$1099,5,FALSE) -> #N/A | E14: =VLOOKUP($F14,УЧАСТНИКИ!$A$2:$L$1099,8,FALSE) -> #N/A | J14: =VLOOKUP($F14,УЧАСТНИКИ!$A$2:$L$1099,9,FALSE) -> #N/A
A15: 6 | B15: =VLOOKUP($F15,УЧАСТНИКИ!$A$2:$L$1099,3,FALSE) -> #N/A | C15: =VLOOKUP($F15,УЧАСТНИКИ!$A$2:$L$1099,4,FALSE) -> #N/A | D15: =VLOOKUP($F15,УЧАСТНИКИ!$A$2:$L$1099,5,FALSE) -> #N/A | E15: =VLOOKUP($F15,УЧАСТНИКИ!$A$2:$L$1099,8,FALSE) -> #N/A | J15: =VLOOKUP($F15,УЧАСТНИКИ!$A$2:$L$1099,9,FALSE) -> #N/A
A16: 7 | B16: =VLOOKUP($F16,УЧАСТНИКИ!$A$2:$L$1099,3,FALSE) -> #N/A | C16: =VLOOKUP($F16,УЧАСТНИКИ!$A$2:$L$1099,4,FALSE) -> #N/A | D16: =VLOOKUP($F16,УЧАСТНИКИ!$A$2:$L$1099,5,FALSE) -> #N/A | E16: =VLOOKUP($F16,УЧАСТНИКИ!$A$2:$L$1099,8,FALSE) -> #N/A | J16: =VLOOKUP($F16,УЧАСТНИКИ!$A$2:$L$1099,9,FALSE) -> #N/A
A17: 8 | B17: =VLOOKUP($F17,УЧАСТНИКИ!$A$2:$L$1099,3,FALSE) -> #N/A | C17: =VLOOKUP($F17,УЧАСТНИКИ!$A$2:$L$1099,4,FALSE) -> #N/A | D17: =VLOOKUP($F17,УЧАСТНИКИ!$A$2:$L$1099,5,FALSE) -> #N/A | E17: =VLOOKUP($F17,УЧАСТНИКИ!$A$2:$L$1099,8,FALSE) -> #N/A | J17: =VLOOKUP($F17,УЧАСТНИКИ!$A$2:$L$1099,9,FALSE) -> #N/A
B18: 2 ЗАБЕГ
A19: 1 | B19: =VLOOKUP($F19,УЧАСТНИКИ!$A$2:$L$1099,3,FALSE) -> #N/A | C19: =VLOOKUP($F19,УЧАСТНИКИ!$A$2:$L$1099,4,FALSE) -> #N/A | D19: =VLOOKUP($F19,УЧАСТНИКИ!$A$2:$L$1099,5,FALSE) -> #N/A | E19: =VLOOKUP($F19,УЧАСТНИКИ!$A$2:$L$1099,8,FALSE) -> #N/A | J19: =VLOOKUP($F19,УЧАСТНИКИ!$A$2:$L$1099,9,FALSE) -> #N/A
A20: 2 | B20: =VLOOKUP($F20,УЧАСТНИКИ!$A$2:$L$1099,3,FALSE) -> #N/A | C20: =VLOOKUP($F20,УЧАСТНИКИ!$A$2:$L$1099,4,FALSE) -> #N/A | D20: =VLOOKUP($F20,УЧАСТНИКИ!$A$2:$L$1099,5,FALSE) -> #N/A | E20: =VLOOKUP($F20,УЧАСТНИКИ!$A$2:$L$1099,8,FALSE) -> #N/A | J20: =VLOOKUP($F20,УЧАСТНИКИ!$A$2:$L$1099,9,FALSE) -> #N/A
A21: 3 | B21: =VLOOKUP($F21,УЧАСТНИКИ!$A$2:$L$1099,3,FALSE) -> #N/A | C21: =VLOOKUP($F21,УЧАСТНИКИ!$A$2:$L$1099,4,FALSE) -> #N/A | D21: =VLOOKUP($F21,УЧАСТНИКИ!$A$2:$L$1099,5,FALSE) -> #N/A | E21: =VLOOKUP($F21,УЧАСТНИКИ!$A$2:$L$1099,8,FALSE) -> #N/A | J21: =VLOOKUP($F21,УЧАСТНИКИ!$A$2:$L$1099,9,FALSE) -> #N/A
A22: 4 | B22: =VLOOKUP($F22,УЧАСТНИКИ!$A$2:$L$1099,3,FALSE) -> #N/A | C22: =VLOOKUP($F22,УЧАСТНИКИ!$A$2:$L$1099,4,FALSE) -> #N/A | D22: =VLOOKUP($F22,УЧАСТНИКИ!$A$2:$L$1099,5,FALSE) -> #N/A | E22: =VLOOKUP($F22,УЧАСТНИКИ!$A$2:$L$1099,8,FALSE) -> #N/A | J22: =VLOOKUP($F22,УЧАСТНИКИ!$A$2:$L$1099,9,FALSE) -> #N/A
A23: 5 | B23: =VLOOKUP($F23,УЧАСТНИКИ!$A$2:$L$1099,3,FALSE) -> #N/A | C23: =VLOOKUP($F23,УЧАСТНИКИ!$A$2:$L$1099,4,FALSE) -> #N/A | D23: =VLOOKUP($F23,УЧАСТНИКИ!$A$2:$L$1099,5,FALSE) -> #N/A | E23: =VLOOKUP($F23,УЧАСТНИКИ!$A$2:$L$1099,8,FALSE) -> #N/A | J23: =VLOOKUP($F23,УЧАСТНИКИ!$A$2:$L$1099,9,FALSE) -> #N/A
A24: 6 | B24: =VLOOKUP($F24,УЧАСТНИКИ!$A$2:$L$1099,3,FALSE) -> #N/A | C24: =VLOOKUP($F24,УЧАСТНИКИ!$A$2:$L$1099,4,FALSE) -> #N/A | D24: =VLOOKUP($F24,УЧАСТНИКИ!$A$2:$L$1099,5,FALSE) -> #N/A | E24: =VLOOKUP($F24,УЧАСТНИКИ!$A$2:$L$1099,8,FALSE) -> #N/A | J24: =VLOOKUP($F24,УЧАСТНИКИ!$A$2:$L$1099,9,FALSE) -> #N/A
A25: 7 | B25: =VLOOKUP($F25,УЧАСТНИКИ!$A$2:$L$1099,3,FALSE) -> #N/A | C25: =VLOOKUP($F25,УЧАСТНИКИ!$A$2:$L$1099,4,FALSE) -> #N/A | D25: =VLOOKUP($F25,УЧАСТНИКИ!$A$2:$L$1099,5,FALSE) -> #N/A | E25: =VLOOKUP($F25,УЧАСТНИКИ!$A$2:$L$1099,8,FALSE) -> #N/A | J25: =VLOOKUP($F25,УЧАСТНИКИ!$A$2:$L$1099,9,FALSE) -> #N/A
A26: 8 | B26: =VLOOKUP($F26,УЧАСТНИКИ!$A$2:$L$1099,3,FALSE) -> #N/A | C26: =VLOOKUP($F26,УЧАСТНИКИ!$A$2:$L$1099,4,FALSE) -> #N/A | D26: =VLOOKUP($F26,УЧАСТНИКИ!$A$2:$L$1099,5,FALSE) -> #N/A | E26: =VLOOKUP($F26,УЧАСТНИКИ!$A$2:$L$1099,8,FALSE) -> #N/A | J26: =VLOOKUP($F26,УЧАСТНИКИ!$A$2:$L$1099,9,FALSE) -> #N/A
B27: 3 ЗАБЕГ
A28: 1 | B28: =VLOOKUP($F28,УЧАСТНИКИ!$A$2:$L$1099,3,FALSE) -> #N/A | C28: =VLOOKUP($F28,УЧАСТНИКИ!$A$2:$L$1099,4,FALSE) -> #N/A | D28: =VLOOKUP($F28,УЧАСТНИКИ!$A$2:$L$1099,5,FALSE) -> #N/A | E28: =VLOOKUP($F28,УЧАСТНИКИ!$A$2:$L$1099,8,FALSE) -> #N/A | J28: =VLOOKUP($F28,УЧАСТНИКИ!$A$2:$L$1099,9,FALSE) -> #N/A
A29: 2 | B29: =VLOOKUP($F29,УЧАСТНИКИ!$A$2:$L$1099,3,FALSE) -> #N/A | C29: =VLOOKUP($F29,УЧАСТНИКИ!$A$2:$L$1099,4,FALSE) -> #N/A | D29: =VLOOKUP($F29,УЧАСТНИКИ!$A$2:$L$1099,5,FALSE) -> #N/A | E29: =VLOOKUP($F29,УЧАСТНИКИ!$A$2:$L$1099,8,FALSE) -> #N/A | J29: =VLOOKUP($F29,УЧАСТНИКИ!$A$2:$L$1099,9,FALSE) -> #N/A
A30: 3 | B30: =VLOOKUP($F30,УЧАСТНИКИ!$A$2:$L$1099,3,FALSE) -> #N/A | C30: =VLOOKUP($F30,УЧАСТНИКИ!$A$2:$L$1099,4,FALSE) -> #N/A | D30: =VLOOKUP($F30,УЧАСТНИКИ!$A$2:$L$1099,5,FALSE) -> #N/A | E30: =VLOOKUP($F30,УЧАСТНИКИ!$A$2:$L$1099,8,FALSE) -> #N/A | J30: =VLOOKUP($F30,УЧАСТНИКИ!$A$2:$L$1099,9,FALSE) -> #N/A
A31: 4 | B31: =VLOOKUP($F31,УЧАСТНИКИ!$A$2:$L$1099,3,FALSE) -> #N/A | C31: =VLOOKUP($F31,УЧАСТНИКИ!$A$2:$L$1099,4,FALSE) -> #N/A | D31: =VLOOKUP($F31,УЧАСТНИКИ!$A$2:$L$1099,5,FALSE) -> #N/A | E31: =VLOOKUP($F31,УЧАСТНИКИ!$A$2:$L$1099,8,FALSE) -> #N/A | J31: =VLOOKUP($F31,УЧАСТНИКИ!$A$2:$L$1099,9,FALSE) -> #N/A
A32: 5 | B32: =VLOOKUP($F32,УЧАСТНИКИ!$A$2:$L$1099,3,FALSE) -> #N/A | C32: =VLOOKUP($F32,УЧАСТНИКИ!$A$2:$L$1099,4,FALSE) -> #N/A | D32: =VLOOKUP($F32,УЧАСТНИКИ!$A$2:$L$1099,5,FALSE) -> #N/A | E32: =VLOOKUP($F32,УЧАСТНИКИ!$A$2:$L$1099,8,FALSE) -> #N/A | J32: =VLOOKUP($F32,УЧАСТНИКИ!$A$2:$L$1099,9,FALSE) -> #N/A
A33: 6 | B33: =VLOOKUP($F33,УЧАСТНИКИ!$A$2:$L$1099,3,FALSE) -> #N/A | C33: =VLOOKUP($F33,УЧАСТНИКИ!$A$2:$L$1099,4,FALSE) -> #N/A | D33: =VLOOKUP($F33,УЧАСТНИКИ!$A$2:$L$1099,5,FALSE) -> #N/A | E33: =VLOOKUP($F33,УЧАСТНИКИ!$A$2:$L$1099,8,FALSE) -> #N/A | J33: =VLOOKUP($F33,УЧАСТНИКИ!$A$2:$L$1099,9,FALSE) -> #N/A
A34: 7 | B34: =VLOOKUP($F34,УЧАСТНИКИ!$A$2:$L$1099,3,FALSE) -> #N/A | C34: =VLOOKUP($F34,УЧАСТНИКИ!$A$2:$L$1099,4,FALSE) -> #N/A | D34: =VLOOKUP($F34,УЧАСТНИКИ!$A$2:$L$1099,5,FALSE) -> #N/A | E34: =VLOOKUP($F34,УЧАСТНИКИ!$A$2:$L$1099,8,FALSE) -> #N/A | J34: =VLOOKUP($F34,УЧАСТНИКИ!$A$2:$L$1099,9,FALSE) -> #N/A
A35: 8 | B35: =VLOOKUP($F35,УЧАСТНИКИ!$A$2:$L$1099,3,FALSE) -> #N/A | C35: =VLOOKUP($F35,УЧАСТНИКИ!$A$2:$L$1099,4,FALSE) -> #N/A | D35: =VLOOKUP($F35,УЧАСТНИКИ!$A$2:$L$1099,5,FALSE) -> #N/A | E35: =VLOOKUP($F35,УЧАСТНИКИ!$A$2:$L$1099,8,FALSE) -> #N/A | J35: =VLOOKUP($F35,УЧАСТНИКИ!$A$2:$L$1099,9,FALSE) -> #N/A
B36: 4 ЗАБЕГ
A37: 1 | B37: =VLOOKUP($F37,УЧАСТНИКИ!$A$2:$L$1099,3,FALSE) -> #N/A | C37: =VLOOKUP($F37,УЧАСТНИКИ!$A$2:$L$1099,4,FALSE) -> #N/A | D37: =VLOOKUP($F37,УЧАСТНИКИ!$A$2:$L$1099,5,FALSE) -> #N/A | E37: =VLOOKUP($F37,УЧАСТНИКИ!$A$2:$L$1099,8,FALSE) -> #N/A | J37: =VLOOKUP($F37,УЧАСТНИКИ!$A$2:$L$1099,9,FALSE) -> #N/A
A38: 2 | B38: =VLOOKUP($F38,УЧАСТНИКИ!$A$2:$L$1099,3,FALSE) -> #N/A | C38: =VLOOKUP($F38,УЧАСТНИКИ!$A$2:$L$1099,4,FALSE) -> #N/A | D38: =VLOOKUP($F38,УЧАСТНИКИ!$A$2:$L$1099,5,FALSE) -> #N/A | E38: =VLOOKUP($F38,УЧАСТНИКИ!$A$2:$L$1099,8,FALSE) -> #N/A | J38: =VLOOKUP($F38,УЧАСТНИКИ!$A$2:$L$1099,9,FALSE) -> #N/A
A39: 3 | B39: =VLOOKUP($F39,УЧАСТНИКИ!$A$2:$L$1099,3,FALSE) -> #N/A | C39: =VLOOKUP($F39,УЧАСТНИКИ!$A$2:$L$1099,4,FALSE) -> #N/A | D39: =VLOOKUP($F39,УЧАСТНИКИ!$A$2:$L$1099,5,FALSE) -> #N/A | E39: =VLOOKUP($F39,УЧАСТНИКИ!$A$2:$L$1099,8,FALSE) -> #N/A | J39: =VLOOKUP($F39,УЧАСТНИКИ!$A$2:$L$1099,9,FALSE) -> #N/A
A40: 4 | B40: =VLOOKUP($F40,УЧАСТНИКИ!$A$2:$L$1099,3,FALSE) -> #N/A | C40: =VLOOKUP($F40,УЧАСТНИКИ!$A$2:$L$1099,4,FALSE) -> #N/A | D40: =VLOOKUP($F40,УЧАСТНИКИ!$A$2:$L$1099,5,FALSE) -> #N/A | E40: =VLOOKUP($F40,УЧАСТНИКИ!$A$2:$L$1099,8,FALSE) -> #N/A | J40: =VLOOKUP($F40,УЧАСТНИКИ!$A$2:$L$1099,9,FALSE) -> #N/A
...

Sheet 150-Ж
A1: =Name_2 -> ВСЕРОССИЙСКАЯ ФЕДЕРАЦИЯ ЛЕГКОЙ АТЛЕТИКИ
A2: СТАРТОВЫЙ ПРОТОКОЛ
A3: КУБОК РОССИИ
A4: ЖЕНЩИНЫ
A5: Бег 1500 м
J6: РР- 3:52.47
B7: ФИНАЛЬНЫЕ ЗАБЕГИ | C7: 18:00 | D7: =d_1 -> 28.05.2019г. | J7: =d_5 -> г. Сочи, ул. Бзугу 2, ст. им. Славы Метревели
A8: № п/п | B8: Фамилия, имя участника | C8: Дата рождения | D8: Территория | E8: Заявленный разряд | F8: Номер участника | G8: Приход | H8: Результат | I8: Место | J8: Примеч.
B9: 1 ЗАБЕГ
A10: 1 | B10: =VLOOKUP($F10,УЧАСТНИКИ!$A$2:$L$1099,3,FALSE) -> Беспалова Екатерина | C10: =VLOOKUP($F10,УЧАСТНИКИ!$A$2:$L$1099,4,FALSE) -> 21.11.1997 | D10: =VLOOKUP($F10,УЧАСТНИКИ!$A$2:$L$1099,5,FALSE) -> Москва Смоленская область | E10: =VLOOKUP($F10,УЧАСТНИКИ!$A$2:$L$1099,8,FALSE) -> КМС | F10: 332 | J10: =VLOOKUP($F10,УЧАСТНИКИ!$A$2:$L$1099,9,FALSE) -> Л
A11: 2 | B11: =VLOOKUP($F11,УЧАСТНИКИ!$A$2:$L$1099,3,FALSE) -> Большакова Дарья | C11: =VLOOKUP($F11,УЧАСТНИКИ!$A$2:$L$1099,4,FALSE) -> 24.07.1990 | D11: =VLOOKUP($F11,УЧАСТНИКИ!$A$2:$L$1099,5,FALSE) -> Санкт-Петербург | E11: =VLOOKUP($F11,УЧАСТНИКИ!$A$2:$L$1099,8,FALSE) -> МС | F11: 265 | J11: =VLOOKUP($F11,УЧАСТНИКИ!$A$2:$L$1099,9,FALSE) -> л
A12: 3 | B12: =VLOOKUP($F12,УЧАСТНИКИ!$A$2:$L$1099,3,FALSE) -> Купаева Анна | C12: =VLOOKUP($F12,УЧАСТНИКИ!$A$2:$L$1099,4,FALSE) -> 24.11.1990 | D12: =VLOOKUP($F12,УЧАСТНИКИ!$A$2:$L$1099,5,FALSE) -> Мурманская область | E12: =VLOOKUP($F12,УЧАСТНИКИ!$A$2:$L$1099,8,FALSE) -> МС | F12: 43 | J12: =VLOOKUP($F12,УЧАСТНИКИ!$A$2:$L$1099,9,FALSE) -> К
A13: 4 | B13: =VLOOKUP($F13,УЧАСТНИКИ!$A$2:$L$1099,3,FALSE) -> Лунева Элина | C13: =VLOOKUP($F13,УЧАСТНИКИ!$A$2:$L$1099,4,FALSE) -> 29.01.1997 | D13: =VLOOKUP($F13,УЧАСТНИКИ!$A$2:$L$1099,5,FALSE) -> Челябинская область | E13: =VLOOKUP($F13,УЧАСТНИКИ!$A$2:$L$1099,8,FALSE) -> КМС | F13: 57 | J13: =VLOOKUP($F13,УЧАСТНИКИ!$A$2:$L$1099,9,FALSE) -> К
A14: 5 | B14: =VLOOKUP($F14,УЧАСТНИКИ!$A$2:$L$1099,3,FALSE) -> Малышенок Виолетта | C14: =VLOOKUP($F14,УЧАСТНИКИ!$A$2:$L$1099,4,FALSE) -> 27.02.1996 | D14: =VLOOKUP($F14,УЧАСТНИКИ!$A$2:$L$1099,5,FALSE) -> ЮФО (К) | E14: =VLOOKUP($F14,УЧАСТНИКИ!$A$2:$L$1099,8,FALSE) -> 1 | F14: 434 | J14: =VLOOKUP($F14,УЧАСТНИКИ!$A$2:$L$1099,9,FALSE) -> К
A15: 6 | B15: =VLOOKUP($F15,УЧАСТНИКИ!$A$2:$L$1099,3,FALSE) -> Онуфриенко Ольга | C15: =VLOOKUP($F15,УЧАСТНИКИ!$A$2:$L$1099,4,FALSE) -> 08.03.1988 | D15: =VLOOKUP($F15,УЧАСТНИКИ!$A$2:$L$1099,5,FALSE) -> Нижегородская область | E15: =VLOOKUP($F15,УЧАСТНИКИ!$A$2:$L$1099,8,FALSE) -> МС | F15: 227 | J15: =VLOOKUP($F15,УЧАСТНИКИ!$A$2:$L$1099,9,FALSE) -> К
A16: 7 | B16: =VLOOKUP($F16,УЧАСТНИКИ!$A$2:$L$1099,3,FALSE) -> Паушкина Елена | C16: =VLOOKUP($F16,УЧАСТНИКИ!$A$2:$L$1099,4,FALSE) -> 08.11.1998 | D16: =VLOOKUP($F16,УЧАСТНИКИ!$A$2:$L$1099,5,FALSE) -> Московская область Хабаровский край | E16: =VLOOKUP($F16,УЧАСТНИКИ!$A$2:$L$1099,8,FALSE) -> КМС | F16: 463 | J16: =VLOOKUP($F16,УЧАСТНИКИ!$A$2:$L$1099,9,FALSE) -> л
A17: 8 | B17: =VLOOKUP($F17,УЧАСТНИКИ!$A$2:$L$1099,3,FALSE) -> Самуйлова Екатерина | C17: =VLOOKUP($F17,УЧАСТНИКИ!$A$2:$L$1099,4,FALSE) -> 05.11.1999 | D17: =VLOOKUP($F17,УЧАСТНИКИ!$A$2:$L$1099,5,FALSE) -> Москва Тверская область | E17: =VLOOKUP($F17,УЧАСТНИКИ!$A$2:$L$1099,8,FALSE) -> КМС | F17: 365 | J17: =VLOOKUP($F17,УЧАСТНИКИ!$A$2:$L$1099,9,FALSE) -> К
A18: 9 | B18: =VLOOKUP($F18,УЧАСТНИКИ!$A$2:$L$1099,3,FALSE) -> Суханова Ольга | C18: =VLOOKUP($F18,УЧАСТНИКИ!$A$2:$L$1099,4,FALSE) -> 27.12.1996 | D18: =VLOOKUP($F18,УЧАСТНИКИ!$A$2:$L$1099,5,FALSE) -> Ямало-Ненецкий автономный округ Чувашская республика | E18: =VLOOKUP($F18,УЧАСТНИКИ!$A$2:$L$1099,8,FALSE) -> КМС | F18: 253 | J18: =VLOOKUP($F18,УЧАСТНИКИ!$A$2:$L$1099,9,FALSE) -> К
A19: 10 | B19: =VLOOKUP($F19,УЧАСТНИКИ!$A$2:$L$1099,3,FALSE) -> #N/A | C19: =VLOOKUP($F19,УЧАСТНИКИ!$A$2:$L$1099,4,FALSE) -> #N/A | D19: =VLOOKUP($F19,УЧАСТНИКИ!$A$2:$L$1099,5,FALSE) -> #N/A | E19: =VLOOKUP($F19,УЧАСТНИКИ!$A$2:$L$1099,8,FALSE) -> #N/A | J19: =VLOOKUP($F19,УЧАСТНИКИ!$A$2:$L$1099,9,FALSE) -> #N/A
A20: 11 | B20: =VLOOKUP($F20,УЧАСТНИКИ!$A$2:$L$1099,3,FALSE) -> #N/A | C20: =VLOOKUP($F20,УЧАСТНИКИ!$A$2:$L$1099,4,FALSE) -> #N/A | D20: =VLOOKUP($F20,УЧАСТНИКИ!$A$2:$L$1099,5,FALSE) -> #N/A | E20: =VLOOKUP($F20,УЧАСТНИКИ!$A$2:$L$1099,8,FALSE) -> #N/A | J20: =VLOOKUP($F20,УЧАСТНИКИ!$A$2:$L$1099,9,FALSE) -> #N/A
A21: 12 | B21: =VLOOKUP($F21,УЧАСТНИКИ!$A$2:$L$1099,3,FALSE) -> #N/A | C21: =VLOOKUP($F21,УЧАСТНИКИ!$A$2:$L$1099,4,FALSE) -> #N/A | D21: =VLOOKUP($F21,УЧАСТНИКИ!$A$2:$L$1099,5,FALSE) -> #N/A | E21: =VLOOKUP($F21,УЧАСТНИКИ!$A$2:$L$1099,8,FALSE) -> #N/A | J21: =VLOOKUP($F21,УЧАСТНИКИ!$A$2:$L$1099,9,FALSE) -> #N/A
A22: 13 | B22: =VLOOKUP($F22,УЧАСТНИКИ!$A$2:$L$1099,3,FALSE) -> #N/A | C22: =VLOOKUP($F22,УЧАСТНИКИ!$A$2:$L$1099,4,FALSE) -> #N/A | D22: =VLOOKUP($F22,УЧАСТНИКИ!$A$2:$L$1099,5,FALSE) -> #N/A | E22: =VLOOKUP($F22,УЧАСТНИКИ!$A$2:$L$1099,8,FALSE) -> #N/A | J22: =VLOOKUP($F22,УЧАСТНИКИ!$A$2:$L$1099,9,FALSE) -> #N/A
A23: 14 | B23: =VLOOKUP($F23,УЧАСТНИКИ!$A$2:$L$1099,3,FALSE) -> #N/A | C23: =VLOOKUP($F23,УЧАСТНИКИ!$A$2:$L$1099,4,FALSE) -> #N/A | D23: =VLOOKUP($F23,УЧАСТНИКИ!$A$2:$L$1099,5,FALSE) -> #N/A | E23: =VLOOKUP($F23,УЧАСТНИКИ!$A$2:$L$1099,8,FALSE) -> #N/A | J23: =VLOOKUP($F23,УЧАСТНИКИ!$A$2:$L$1099,9,FALSE) -> #N/A
A24: 15 | B24: =VLOOKUP($F24,УЧАСТНИКИ!$A$2:$L$1099,3,FALSE) -> #N/A | C24: =VLOOKUP($F24,УЧАСТНИКИ!$A$2:$L$1099,4,FALSE) -> #N/A | D24: =VLOOKUP($F24,УЧАСТНИКИ!$A$2:$L$1099,5,FALSE) -> #N/A | E24: =VLOOKUP($F24,УЧАСТНИКИ!$A$2:$L$1099,8,FALSE) -> #N/A | J24: =VLOOKUP($F24,УЧАСТНИКИ!$A$2:$L$1099,9,FALSE) -> #N/A
A25: 16 | B25: =VLOOKUP($F25,УЧАСТНИКИ!$A$2:$L$1099,3,FALSE) -> #N/A | C25: =VLOOKUP($F25,УЧАСТНИКИ!$A$2:$L$1099,4,FALSE) -> #N/A | D25: =VLOOKUP($F25,УЧАСТНИКИ!$A$2:$L$1099,5,FALSE) -> #N/A | E25: =VLOOKUP($F25,УЧАСТНИКИ!$A$2:$L$1099,8,FALSE) -> #N/A | J25: =VLOOKUP($F25,УЧАСТНИКИ!$A$2:$L$1099,9,FALSE) -> #N/A
B26: 2 ЗАБЕГ
A27: 1 | B27: =VLOOKUP($F27,УЧАСТНИКИ!$A$2:$L$1099,3,FALSE) -> Шухтуева Алена | C27: =VLOOKUP($F27,УЧАСТНИКИ!$A$2:$L$1099,4,FALSE) -> 07.12.1993 | D27: =VLOOKUP($F27,УЧАСТНИКИ!$A$2:$L$1099,5,FALSE) -> Республика Башкортостан | E27: =VLOOKUP($F27,УЧАСТНИКИ!$A$2:$L$1099,8,FALSE) -> МС | F27: 204 | J27: =VLOOKUP($F27,УЧАСТНИКИ!$A$2:$L$1099,9,FALSE) -> К
A28: 2 | B28: =VLOOKUP($F28,УЧАСТНИКИ!$A$2:$L$1099,3,FALSE) -> Князева Анна | C28: =VLOOKUP($F28,УЧАСТНИКИ!$A$2:$L$1099,4,FALSE) -> 20.03.1989 | D28: =VLOOKUP($F28,УЧАСТНИКИ!$A$2:$L$1099,5,FALSE) -> Свердловская область | E28: =VLOOKUP($F28,УЧАСТНИКИ!$A$2:$L$1099,8,FALSE) -> МС | F28: 69 | J28: =VLOOKUP($F28,УЧАСТНИКИ!$A$2:$L$1099,9,FALSE) -> К
A29: 3 | B29: =VLOOKUP($F29,УЧАСТНИКИ!$A$2:$L$1099,3,FALSE) -> Павленко Любовь | C29: =VLOOKUP($F29,УЧАСТНИКИ!$A$2:$L$1099,4,FALSE) -> 16.09.1997 | D29: =VLOOKUP($F29,УЧАСТНИКИ!$A$2:$L$1099,5,FALSE) -> Санкт-Петербург Тамбовская область | E29: =VLOOKUP($F29,УЧАСТНИКИ!$A$2:$L$1099,8,FALSE) -> КМС | F29: 292 | J29: =VLOOKUP($F29,УЧАСТНИКИ!$A$2:$L$1099,9,FALSE) -> л
A30: 4 | B30: =VLOOKUP($F30,УЧАСТНИКИ!$A$2:$L$1099,3,FALSE) -> Соколова Екатерина | C30: =VLOOKUP($F30,УЧАСТНИКИ!$A$2:$L$1099,4,FALSE) -> 16.12.1995 | D30: =VLOOKUP($F30,УЧАСТНИКИ!$A$2:$L$1099,5,FALSE) -> Московская область Брянская область | E30: =VLOOKUP($F30,УЧАСТНИКИ!$A$2:$L$1099,8,FALSE) -> МС | F30: 41 | J30: =VLOOKUP($F30,УЧАСТНИКИ!$A$2:$L$1099,9,FALSE) -> К
A31: 5 | B31: =VLOOKUP($F31,УЧАСТНИКИ!$A$2:$L$1099,3,FALSE) -> Сторожева (Шаповалова) Екатерина | C31: =VLOOKUP($F31,УЧАСТНИКИ!$A$2:$L$1099,4,FALSE) -> 22.01.1993 | D31: =VLOOKUP($F31,УЧАСТНИКИ!$A$2:$L$1099,5,FALSE) -> Московская область Санкт-Петербург | E31: =VLOOKUP($F31,УЧАСТНИКИ!$A$2:$L$1099,8,FALSE) -> МС | F31: 311 | J31: =VLOOKUP($F31,УЧАСТНИКИ!$A$2:$L$1099,9,FALSE) -> К
A32: 6 | B32: =VLOOKUP($F32,УЧАСТНИКИ!$A$2:$L$1099,3,FALSE) -> Шевченко Анжелика | C32: =VLOOKUP($F32,УЧАСТНИКИ!$A$2:$L$1099,4,FALSE) -> 29.10.1987 | D32: =VLOOKUP($F32,УЧАСТНИКИ!$A$2:$L$1099,5,FALSE) -> Санкт-Петербург | E32: =VLOOKUP($F32,УЧАСТНИКИ!$A$2:$L$1099,8,FALSE) -> МС | F32: 324 | J32: =VLOOKUP($F32,УЧАСТНИКИ!$A$2:$L$1099,9,FALSE) -> К
A33: 7 | B33: =VLOOKUP($F33,УЧАСТНИКИ!$A$2:$L$1099,3,FALSE) -> Мендаева Лилия | C33: =VLOOKUP($F33,УЧАСТНИКИ!$A$2:$L$1099,4,FALSE) -> 01.06.2000 | D33: =VLOOKUP($F33,УЧАСТНИКИ!$A$2:$L$1099,5,FALSE) -> Москва Ханты-Мансийский автономный округ - Югра | E33: =VLOOKUP($F33,УЧАСТНИКИ!$A$2:$L$1099,8,FALSE) -> КМС | F33: 360 | J33: =VLOOKUP($F33,УЧАСТНИКИ!$A$2:$L$1099,9,FALSE) -> Л
A34: 8 | B34: =VLOOKUP($F34,УЧАСТНИКИ!$A$2:$L$1099,3,FALSE) -> Ивонина Екатерина | C34: =VLOOKUP($F34,УЧАСТНИКИ!$A$2:$L$1099,4,FALSE) -> 14.06.1994 | D34: =VLOOKUP($F34,УЧАСТНИКИ!$A$2:$L$1099,5,FALSE) -> Московская область Пермский край | E34: =VLOOKUP($F34,УЧАСТНИКИ!$A$2:$L$1099,8,FALSE) -> МС | F34: 454 | J34: =VLOOKUP($F34,УЧАСТНИКИ!$A$2:$L$1099,9,FALSE) -> К
A35: 9 | B35: =VLOOKUP($F35,УЧАСТНИКИ!$A$2:$L$1099,3,FALSE) -> Аплачкина Светлана | C35: =VLOOKUP($F35,УЧАСТНИКИ!$A$2:$L$1099,4,FALSE) -> 28.11.1992 | D35: =VLOOKUP($F35,УЧАСТНИКИ!$A$2:$L$1099,5,FALSE) -> Воронежская область | E35: =VLOOKUP($F35,УЧАСТНИКИ!$A$2:$L$1099,8,FALSE) -> МС | F35: 390 | J35: =VLOOKUP($F35,УЧАСТНИКИ!$A$2:$L$1099,9,FALSE) -> К
