Workbook

Sheet 100ж
A1: Чемпионат Российского студенческого спортивного союза
A2: мужчины и женщины
M3: 27-28 июня 2019 г.
L4: стадион "Шинник"
M5: г. Ярославль
D6: 27.06.2019г. | E6: 0.45833333 | F6: забеги | J6: ПРОТОКОЛ СОРЕВНОВАНИЙ
D7: 27.06.2019г. | E7: 0.69444444 | F7: п/финал
D8: 27.06.2019г. | E8: 0.79166667 | F8: финал
C9: Женщины | D9: Бег 100 м
A10: Место | B10: Номер | C10: Фамилия, имя | D10: Дата рожд. | E10: Квал. | F10: Команда | G10: ВУЗ | H10: Результат | K10: Вып. разр. | L10: Очки | M10: Ф.И.О. тренера
H11: забеги | I11: п/финал | J11: финал
A12: 1 | B12: 96 | C12: =IF(B12=0," ",VLOOKUP(B12,[1]Женщины!B$1:H$65536,2,FALSE)) -> Максимова Марина | D12: =IF(B12=0," ",VLOOKUP($B12,[1]Женщины!$B$1:$H$65536,3,FALSE)) -> 18.02.1996 | E12: =IF(B12=0," ",IF(VLOOKUP($B12,[1]Женщины!$B$1:$H$65536,4,FALSE)=0," ",VLOOKUP($B12,[1]Женщины!$B$1:$H$65536,4,FALSE))) -> МС | F12: =IF(B12=0," ",VLOOKUP($B12,[1]Женщины!$B$1:$H$65536,5,FALSE)) -> Ивановская область | G12: =IF(B12=0," ",VLOOKUP($B12,[1]Женщины!$B$1:$H$65536,6,FALSE)) -> Шуя, ШФ ИвГУ | H12: 0.00013935185 | I12: 0.0001375 | J12: 0.00013425926 | K12: мс | L12: 18+10 | M12: =IF(B12=0," ",VLOOKUP($B12,[1]Женщины!$B$1:$H$65536,7,FALSE)) -> Смирнов С.В., Храмцов Н.Е.
A13: 2 | B13: 39 | C13: =IF(B13=0," ",VLOOKUP(B13,[1]Женщины!B$1:H$65536,2,FALSE)) -> Белова Ирина | D13: =IF(B13=0," ",VLOOKUP($B13,[1]Женщины!$B$1:$H$65536,3,FALSE)) -> 21.01.1994 | E13: =IF(B13=0," ",IF(VLOOKUP($B13,[1]Женщины!$B$1:$H$65536,4,FALSE)=0," ",VLOOKUP($B13,[1]Женщины!$B$1:$H$65536,4,FALSE))) -> МС | F13: =IF(B13=0," ",VLOOKUP($B13,[1]Женщины!$B$1:$H$65536,5,FALSE)) -> Республика Мордовия | G13: =IF(B13=0," ",VLOOKUP($B13,[1]Женщины!$B$1:$H$65536,6,FALSE)) -> Саранск, ФГБОУ ВО "НИМГУ им. Н.П. Огарева" | H13: 0.00013969907 | I13: 0.00013703704 | J13: 0.0001349537 | K13: мс | L13: 15+10 | M13: =IF(B13=0," ",VLOOKUP($B13,[1]Женщины!$B$1:$H$65536,7,FALSE)) -> Бусаров В.М.
A14: 3 | B14: 348 | C14: =IF(B14=0," ",VLOOKUP(B14,[1]Женщины!B$1:H$65536,2,FALSE)) -> Муромская Валерия | D14: =IF(B14=0," ",VLOOKUP($B14,[1]Женщины!$B$1:$H$65536,3,FALSE)) -> 25.10.1995 | E14: =IF(B14=0," ",IF(VLOOKUP($B14,[1]Женщины!$B$1:$H$65536,4,FALSE)=0," ",VLOOKUP($B14,[1]Женщины!$B$1:$H$65536,4,FALSE))) -> КМС | F14: =IF(B14=0," ",VLOOKUP($B14,[1]Женщины!$B$1:$H$65536,5,FALSE)) -> Пензенская область | G14: =IF(B14=0," ",VLOOKUP($B14,[1]Женщины!$B$1:$H$65536,6,FALSE)) -> Пенза, ПензГУ | H14: 0.00014351852 | I14: 0.00013958333 | J14: 0.00013680556 | K14: мс | L14: 13+10 | M14: =IF(B14=0," ",VLOOKUP($B14,[1]Женщины!$B$1:$H$65536,7,FALSE)) -> Невокшаков Б.В., Чураева М.С.
A15: 4 | B15: 97 | C15: =IF(B15=0," ",VLOOKUP(B15,[1]Женщины!B$1:H$65536,2,FALSE)) -> Некрасова Татьяна | D15: =IF(B15=0," ",VLOOKUP($B15,[1]Женщины!$B$1:$H$65536,3,FALSE)) -> 25.04.1994 | E15: =IF(B15=0," ",IF(VLOOKUP($B15,[1]Женщины!$B$1:$H$65536,4,FALSE)=0," ",VLOOKUP($B15,[1]Женщины!$B$1:$H$65536,4,FALSE))) -> МС | F15: =IF(B15=0," ",VLOOKUP($B15,[1]Женщины!$B$1:$H$65536,5,FALSE)) -> Ивановская область | G15: =IF(B15=0," ",VLOOKUP($B15,[1]Женщины!$B$1:$H$65536,6,FALSE)) -> Шуя, ШФ ИвГУ | H15: 0.00014143519 | I15: 0.00014270833 | J15: 0.00013946759 | K15: =IF(H15=0," ",IF(H15<=[1]Разряды!$D$30,[1]Разряды!$D$3,IF(H15<=[1]Разряды!$E$30,[1]Разряды!$E$3,IF(H15<=[1]Разряды!$F$30,[1]Разряды!$F$3,IF(H15<=[1]Разряды!$G$30,[1]Разряды!$G$3,IF(H15<=[1]Разряды!$H$30,[1]Разряды!$H$3,IF(H15<=[1]Разряды!$I$30,[1]Разряды!$I$3,IF(H15<=[1]Разряды!$J$30,[1]Разряды!$J$3,"б/р")))))))) -> кмс | L15: 12+5 | M15: =IF(B15=0," ",VLOOKUP($B15,[1]Женщины!$B$1:$H$65536,7,FALSE)) -> Магницкий М.В.
A16: 5 | B16: 8 | C16: =IF(B16=0," ",VLOOKUP(B16,[1]Женщины!B$1:H$65536,2,FALSE)) -> Колдина Анастасия | D16: =IF(B16=0," ",VLOOKUP($B16,[1]Женщины!$B$1:$H$65536,3,FALSE)) -> 06.01.1995 | E16: =IF(B16=0," ",IF(VLOOKUP($B16,[1]Женщины!$B$1:$H$65536,4,FALSE)=0," ",VLOOKUP($B16,[1]Женщины!$B$1:$H$65536,4,FALSE))) -> МС | F16: =IF(B16=0," ",VLOOKUP($B16,[1]Женщины!$B$1:$H$65536,5,FALSE)) -> Тамбовская область | G16: =IF(B16=0," ",VLOOKUP($B16,[1]Женщины!$B$1:$H$65536,6,FALSE)) -> Тамбов, ТГУ им. Г.Р. Державина | H16: 0.00014340278 | I16: 0.00013958333 | J16: 0.00013969907 | K16: =IF(H16=0," ",IF(H16<=[1]Разряды!$D$30,[1]Разряды!$D$3,IF(H16<=[1]Разряды!$E$30,[1]Разряды!$E$3,IF(H16<=[1]Разряды!$F$30,[1]Разряды!$F$3,IF(H16<=[1]Разряды!$G$30,[1]Разряды!$G$3,IF(H16<=[1]Разряды!$H$30,[1]Разряды!$H$3,IF(H16<=[1]Разряды!$I$30,[1]Разряды!$I$3,IF(H16<=[1]Разряды!$J$30,[1]Разряды!$J$3,"б/р")))))))) -> кмс | L16: 11+5 | M16: =IF(B16=0," ",VLOOKUP($B16,[1]Женщины!$B$1:$H$65536,7,FALSE)) -> Иванов А.Н.
A17: 6 | B17: 40 | C17: =IF(B17=0," ",VLOOKUP(B17,[1]Женщины!B$1:H$65536,2,FALSE)) -> Курбакова Ирина | D17: =IF(B17=0," ",VLOOKUP($B17,[1]Женщины!$B$1:$H$65536,3,FALSE)) -> 07.03.2000 | E17: =IF(B17=0," ",IF(VLOOKUP($B17,[1]Женщины!$B$1:$H$65536,4,FALSE)=0," ",VLOOKUP($B17,[1]Женщины!$B$1:$H$65536,4,FALSE))) -> КМС | F17: =IF(B17=0," ",VLOOKUP($B17,[1]Женщины!$B$1:$H$65536,5,FALSE)) -> Республика Мордовия | G17: =IF(B17=0," ",VLOOKUP($B17,[1]Женщины!$B$1:$H$65536,6,FALSE)) -> Саранск, ФГБОУ ВО "НИМГУ им. Н.П. Огарева" | H17: 0.00014131944 | I17: 0.00014305556 | J17: 0.00014039352 | K17: =IF(H17=0," ",IF(H17<=[1]Разряды!$D$30,[1]Разряды!$D$3,IF(H17<=[1]Разряды!$E$30,[1]Разряды!$E$3,IF(H17<=[1]Разряды!$F$30,[1]Разряды!$F$3,IF(H17<=[1]Разряды!$G$30,[1]Разряды!$G$3,IF(H17<=[1]Разряды!$H$30,[1]Разряды!$H$3,IF(H17<=[1]Разряды!$I$30,[1]Разряды!$I$3,IF(H17<=[1]Разряды!$J$30,[1]Разряды!$J$3,"б/р")))))))) -> кмс | L17: 10+5 | M17: =IF(B17=0," ",VLOOKUP($B17,[1]Женщины!$B$1:$H$65536,7,FALSE)) -> Забродин Р.
A18: 7 | B18: 17 | C18: =IF(B18=0," ",VLOOKUP(B18,[1]Женщины!B$1:H$65536,2,FALSE)) -> Нилова Екатерина | D18: =IF(B18=0," ",VLOOKUP($B18,[1]Женщины!$B$1:$H$65536,3,FALSE)) -> 19.07.1999 | E18: =IF(B18=0," ",IF(VLOOKUP($B18,[1]Женщины!$B$1:$H$65536,4,FALSE)=0," ",VLOOKUP($B18,[1]Женщины!$B$1:$H$65536,4,FALSE))) -> КМС | F18: =IF(B18=0," ",VLOOKUP($B18,[1]Женщины!$B$1:$H$65536,5,FALSE)) -> Москва | G18: =IF(B18=0," ",VLOOKUP($B18,[1]Женщины!$B$1:$H$65536,6,FALSE)) -> Москва, РГУФКСМиТ (ГЦОЛИФК) | H18: 0.00014259259 | I18: 0.00014270833 | J18: 0.00014050926 | K18: =IF(H18=0," ",IF(H18<=[1]Разряды!$D$30,[1]Разряды!$D$3,IF(H18<=[1]Разряды!$E$30,[1]Разряды!$E$3,IF(H18<=[1]Разряды!$F$30,[1]Разряды!$F$3,IF(H18<=[1]Разряды!$G$30,[1]Разряды!$G$3,IF(H18<=[1]Разряды!$H$30,[1]Разряды!$H$3,IF(H18<=[1]Разряды!$I$30,[1]Разряды!$I$3,IF(H18<=[1]Разряды!$J$30,[1]Разряды!$J$3,"б/р")))))))) -> кмс | L18: 9+5 | M18: =IF(B18=0," ",VLOOKUP($B18,[1]Женщины!$B$1:$H$65536,7,FALSE)) -> Филатова М.И.
A19: 8 | B19: 98 | C19: =IF(B19=0," ",VLOOKUP(B19,[1]Женщины!B$1:H$65536,2,FALSE)) -> Трялина Дарья | D19: =IF(B19=0," ",VLOOKUP($B19,[1]Женщины!$B$1:$H$65536,3,FALSE)) -> 24.07.1999 | E19: =IF(B19=0," ",IF(VLOOKUP($B19,[1]Женщины!$B$1:$H$65536,4,FALSE)=0," ",VLOOKUP($B19,[1]Женщины!$B$1:$H$65536,4,FALSE))) -> КМС | F19: =IF(B19=0," ",VLOOKUP($B19,[1]Женщины!$B$1:$H$65536,5,FALSE)) -> Пензенская область | G19: =IF(B19=0," ",VLOOKUP($B19,[1]Женщины!$B$1:$H$65536,6,FALSE)) -> Пенза, ПензГУ | H19: 0.0001443287 | I19: 0.00014479167 | J19: 0.00014351852 | K19: =IF(H19=0," ",IF(H19<=[1]Разряды!$D$30,[1]Разряды!$D$3,IF(H19<=[1]Разряды!$E$30,[1]Разряды!$E$3,IF(H19<=[1]Разряды!$F$30,[1]Разряды!$F$3,IF(H19<=[1]Разряды!$G$30,[1]Разряды!$G$3,IF(H19<=[1]Разряды!$H$30,[1]Разряды!$H$3,IF(H19<=[1]Разряды!$I$30,[1]Разряды!$I$3,IF(H19<=[1]Разряды!$J$30,[1]Разряды!$J$3,"б/р")))))))) -> кмс | L19: 8+5 | M19: =IF(B19=0," ",VLOOKUP($B19,[1]Женщины!$B$1:$H$65536,7,FALSE)) -> Родионова А.И., Безиков М.В.
A20: 9 | B20: 351 | C20: =IF(B20=0," ",VLOOKUP(B20,[1]Женщины!B$1:H$65536,2,FALSE)) -> Лукьянова Диана | D20: =IF(B20=0," ",VLOOKUP($B20,[1]Женщины!$B$1:$H$65536,3,FALSE)) -> 18.05.1998 | E20: =IF(B20=0," ",IF(VLOOKUP($B20,[1]Женщины!$B$1:$H$65536,4,FALSE)=0," ",VLOOKUP($B20,[1]Женщины!$B$1:$H$65536,4,FALSE))) -> КМС | F20: =IF(B20=0," ",VLOOKUP($B20,[1]Женщины!$B$1:$H$65536,5,FALSE)) -> Пензенская область | G20: =IF(B20=0," ",VLOOKUP($B20,[1]Женщины!$B$1:$H$65536,6,FALSE)) -> Пенза, ПензГУ | H20: 0.00014930556 | I20: 0.00014513889 | K20: кмс | L20: 7+5 | M20: =IF(B20=0," ",VLOOKUP($B20,[1]Женщины!$B$1:$H$65536,7,FALSE)) -> Винокуров А.Г.
A21: 10 | B21: 355 | C21: =IF(B21=0," ",VLOOKUP(B21,[1]Женщины!B$1:H$65536,2,FALSE)) -> Потапова Елизавета | D21: =IF(B21=0," ",VLOOKUP($B21,[1]Женщины!$B$1:$H$65536,3,FALSE)) -> 24.11.2000 | E21: =IF(B21=0," ",IF(VLOOKUP($B21,[1]Женщины!$B$1:$H$65536,4,FALSE)=0," ",VLOOKUP($B21,[1]Женщины!$B$1:$H$65536,4,FALSE))) -> КМС | F21: =IF(B21=0," ",VLOOKUP($B21,[1]Женщины!$B$1:$H$65536,5,FALSE)) -> Пензенская область | G21: =IF(B21=0," ",VLOOKUP($B21,[1]Женщины!$B$1:$H$65536,6,FALSE)) -> Пенза, ПензГУ | H21: 0.00014780093 | I21: 0.00014560185 | K21: кмс | L21: 6+5 | M21: =IF(B21=0," ",VLOOKUP($B21,[1]Женщины!$B$1:$H$65536,7,FALSE)) -> Красковы Р.Б., К.И.
A22: 11 | B22: 65 | C22: =IF(B22=0," ",VLOOKUP(B22,[1]Женщины!B$1:H$65536,2,FALSE)) -> Ткачева Мария | D22: =IF(B22=0," ",VLOOKUP($B22,[1]Женщины!$B$1:$H$65536,3,FALSE)) -> 05.04.1995 | E22: =IF(B22=0," ",IF(VLOOKUP($B22,[1]Женщины!$B$1:$H$65536,4,FALSE)=0," ",VLOOKUP($B22,[1]Женщины!$B$1:$H$65536,4,FALSE))) -> КМС | F22: =IF(B22=0," ",VLOOKUP($B22,[1]Женщины!$B$1:$H$65536,5,FALSE)) -> Архангельская область | G22: =IF(B22=0," ",VLOOKUP($B22,[1]Женщины!$B$1:$H$65536,6,FALSE)) -> Архангельск, САФУ им. М.В. Ломоносова | H22: 0.00014594907 | I22: 0.00014571759 | K22: =IF(H22=0," ",IF(H22<=[1]Разряды!$D$30,[1]Разряды!$D$3,IF(H22<=[1]Разряды!$E$30,[1]Разряды!$E$3,IF(H22<=[1]Разряды!$F$30,[1]Разряды!$F$3,IF(H22<=[1]Разряды!$G$30,[1]Разряды!$G$3,IF(H22<=[1]Разряды!$H$30,[1]Разряды!$H$3,IF(H22<=[1]Разряды!$I$30,[1]Разряды!$I$3,IF(H22<=[1]Разряды!$J$30,[1]Разряды!$J$3,"б/р")))))))) -> кмс | L22: 5+5 | M22: =IF(B22=0," ",VLOOKUP($B22,[1]Женщины!$B$1:$H$65536,7,FALSE)) -> Мингалева А.Г.
A23: 12 | B23: 347 | C23: =IF(B23=0," ",VLOOKUP(B23,[1]Женщины!B$1:H$65536,2,FALSE)) -> Андреева Елена | D23: =IF(B23=0," ",VLOOKUP($B23,[1]Женщины!$B$1:$H$65536,3,FALSE)) -> 15.01.1999 | E23: =IF(B23=0," ",IF(VLOOKUP($B23,[1]Женщины!$B$1:$H$65536,4,FALSE)=0," ",VLOOKUP($B23,[1]Женщины!$B$1:$H$65536,4,FALSE))) -> КМС | F23: =IF(B23=0," ",VLOOKUP($B23,[1]Женщины!$B$1:$H$65536,5,FALSE)) -> Пензенская область | G23: =IF(B23=0," ",VLOOKUP($B23,[1]Женщины!$B$1:$H$65536,6,FALSE)) -> Пенза, ПензГУ | H23: 0.00014849537 | I23: 0.00014618056 | K23: кмс | L23: 4+5 | M23: =IF(B23=0," ",VLOOKUP($B23,[1]Женщины!$B$1:$H$65536,7,FALSE)) -> Кузнецов А.М.
A24: 13 | B24: 31 | C24: =IF(B24=0," ",VLOOKUP(B24,[1]Женщины!B$1:H$65536,2,FALSE)) -> Бодрова Татьяна | D24: =IF(B24=0," ",VLOOKUP($B24,[1]Женщины!$B$1:$H$65536,3,FALSE)) -> 19.01.1997 | E24: =IF(B24=0," ",IF(VLOOKUP($B24,[1]Женщины!$B$1:$H$65536,4,FALSE)=0," ",VLOOKUP($B24,[1]Женщины!$B$1:$H$65536,4,FALSE))) -> КМС | F24: =IF(B24=0," ",VLOOKUP($B24,[1]Женщины!$B$1:$H$65536,5,FALSE)) -> Красноярский край | G24: =IF(B24=0," ",VLOOKUP($B24,[1]Женщины!$B$1:$H$65536,6,FALSE)) -> Красноярск, СФУ | H24: 0.00014594907 | I24: 0.0001462963 | K24: =IF(H24=0," ",IF(H24<=[1]Разряды!$D$30,[1]Разряды!$D$3,IF(H24<=[1]Разряды!$E$30,[1]Разряды!$E$3,IF(H24<=[1]Разряды!$F$30,[1]Разряды!$F$3,IF(H24<=[1]Разряды!$G$30,[1]Разряды!$G$3,IF(H24<=[1]Разряды!$H$30,[1]Разряды!$H$3,IF(H24<=[1]Разряды!$I$30,[1]Разряды!$I$3,IF(H24<=[1]Разряды!$J$30,[1]Разряды!$J$3,"б/р")))))))) -> кмс | L24: 3+5 | M24: =IF(B24=0," ",VLOOKUP($B24,[1]Женщины!$B$1:$H$65536,7,FALSE)) -> Просвиряков С.В.
A25: 14 | B25: 48 | C25: =IF(B25=0," ",VLOOKUP(B25,[1]Женщины!B$1:H$65536,2,FALSE)) -> Бойчук Ирина | D25: =IF(B25=0," ",VLOOKUP($B25,[1]Женщины!$B$1:$H$65536,3,FALSE)) -> 16.07.2000 | E25: =IF(B25=0," ",IF(VLOOKUP($B25,[1]Женщины!$B$1:$H$65536,4,FALSE)=0," ",VLOOKUP($B25,[1]Женщины!$B$1:$H$65536,4,FALSE))) -> КМС | F25: =IF(B25=0," ",VLOOKUP($B25,[1]Женщины!$B$1:$H$65536,5,FALSE)) -> Новгородская область | G25: =IF(B25=0," ",VLOOKUP($B25,[1]Женщины!$B$1:$H$65536,6,FALSE)) -> Великий Новгород, НовГУ им. Ярослава Мудрого | H25: 0.00014849537 | I25: 0.00014722222 | K25: =IF(H25=0," ",IF(H25<=[1]Разряды!$D$30,[1]Разряды!$D$3,IF(H25<=[1]Разряды!$E$30,[1]Разряды!$E$3,IF(H25<=[1]Разряды!$F$30,[1]Разряды!$F$3,IF(H25<=[1]Разряды!$G$30,[1]Разряды!$G$3,IF(H25<=[1]Разряды!$H$30,[1]Разряды!$H$3,IF(H25<=[1]Разряды!$I$30,[1]Разряды!$I$3,IF(H25<=[1]Разряды!$J$30,[1]Разряды!$J$3,"б/р")))))))) -> 1р | L25: 2 | M25: =IF(B25=0," ",VLOOKUP($B25,[1]Женщины!$B$1:$H$65536,7,FALSE)) -> Савенков П.А.
A26: 15 | B26: 60 | C26: =IF(B26=0," ",VLOOKUP(B26,[1]Женщины!B$1:H$65536,2,FALSE)) -> Корнеева Ульяна | D26: =IF(B26=0," ",VLOOKUP($B26,[1]Женщины!$B$1:$H$65536,3,FALSE)) -> 06.01.2000 | E26: =IF(B26=0," ",IF(VLOOKUP($B26,[1]Женщины!$B$1:$H$65536,4,FALSE)=0," ",VLOOKUP($B26,[1]Женщины!$B$1:$H$65536,4,FALSE))) -> 1р | F26: =IF(B26=0," ",VLOOKUP($B26,[1]Женщины!$B$1:$H$65536,5,FALSE)) -> Ивановская область | G26: =IF(B26=0," ",VLOOKUP($B26,[1]Женщины!$B$1:$H$65536,6,FALSE)) -> Иваново, ИГЭУ им. В.И. Ленина | H26: 0.00014664352 | I26: 0.0001474537 | K26: =IF(H26=0," ",IF(H26<=[1]Разряды!$D$30,[1]Разряды!$D$3,IF(H26<=[1]Разряды!$E$30,[1]Разряды!$E$3,IF(H26<=[1]Разряды!$F$30,[1]Разряды!$F$3,IF(H26<=[1]Разряды!$G$30,[1]Разряды!$G$3,IF(H26<=[1]Разряды!$H$30,[1]Разряды!$H$3,IF(H26<=[1]Разряды!$I$30,[1]Разряды!$I$3,IF(H26<=[1]Разряды!$J$30,[1]Разряды!$J$3,"б/р")))))))) -> 1р | L26: 1 | M26: =IF(B26=0," ",VLOOKUP($B26,[1]Женщины!$B$1:$H$65536,7,FALSE)) -> Чахунов Е.И.
A27: 16 | B27: 86 | C27: =IF(B27=0," ",VLOOKUP(B27,[1]Женщины!B$1:H$65536,2,FALSE)) -> Симонова Анна | D27: =IF(B27=0," ",VLOOKUP($B27,[1]Женщины!$B$1:$H$65536,3,FALSE)) -> 24.12.2000 | E27: =IF(B27=0," ",IF(VLOOKUP($B27,[1]Женщины!$B$1:$H$65536,4,FALSE)=0," ",VLOOKUP($B27,[1]Женщины!$B$1:$H$65536,4,FALSE))) -> КМС | F27: =IF(B27=0," ",VLOOKUP($B27,[1]Женщины!$B$1:$H$65536,5,FALSE)) -> Москва | G27: =IF(B27=0," ",VLOOKUP($B27,[1]Женщины!$B$1:$H$65536,6,FALSE)) -> Москва, МГУ им. М.В. Ломоносова | H27: 0.00014733796 | I27: 0.00014803241 | K27: =IF(H27=0," ",IF(H27<=[1]Разряды!$D$30,[1]Разряды!$D$3,IF(H27<=[1]Разряды!$E$30,[1]Разряды!$E$3,IF(H27<=[1]Разряды!$F$30,[1]Разряды!$F$3,IF(H27<=[1]Разряды!$G$30,[1]Разряды!$G$3,IF(H27<=[1]Разряды!$H$30,[1]Разряды!$H$3,IF(H27<=[1]Разряды!$I$30,[1]Разряды!$I$3,IF(H27<=[1]Разряды!$J$30,[1]Разряды!$J$3,"б/р")))))))) -> 1р | L27: 1 | M27: =IF(B27=0," ",VLOOKUP($B27,[1]Женщины!$B$1:$H$65536,7,FALSE)) -> Привалова И.А.
A28: 17 | B28: 53 | C28: =IF(B28=0," ",VLOOKUP(B28,[1]Женщины!B$1:H$65536,2,FALSE)) -> Голубина Светлана | D28: =IF(B28=0," ",VLOOKUP($B28,[1]Женщины!$B$1:$H$65536,3,FALSE)) -> 30.11.1997 | E28: =IF(B28=0," ",IF(VLOOKUP($B28,[1]Женщины!$B$1:$H$65536,4,FALSE)=0," ",VLOOKUP($B28,[1]Женщины!$B$1:$H$65536,4,FALSE))) -> КМС | F28: =IF(B28=0," ",VLOOKUP($B28,[1]Женщины!$B$1:$H$65536,5,FALSE)) -> Удмуртская Республика | G28: =IF(B28=0," ",VLOOKUP($B28,[1]Женщины!$B$1:$H$65536,6,FALSE)) -> Ижевск, УдГУ | H28: 0.00015046296 | I28: 0.00014965278 | K28: =IF(H28=0," ",IF(H28<=[1]Разряды!$D$30,[1]Разряды!$D$3,IF(H28<=[1]Разряды!$E$30,[1]Разряды!$E$3,IF(H28<=[1]Разряды!$F$30,[1]Разряды!$F$3,IF(H28<=[1]Разряды!$G$30,[1]Разряды!$G$3,IF(H28<=[1]Разряды!$H$30,[1]Разряды!$H$3,IF(H28<=[1]Разряды!$I$30,[1]Разряды!$I$3,IF(H28<=[1]Разряды!$J$30,[1]Разряды!$J$3,"б/р")))))))) -> 1р | L28: 1 | M28: =IF(B28=0," ",VLOOKUP($B28,[1]Женщины!$B$1:$H$65536,7,FALSE)) -> Феофилактов Н.З.,Шибанова С.А.
A29: 18 | B29: 88 | C29: =IF(B29=0," ",VLOOKUP(B29,[1]Женщины!B$1:H$65536,2,FALSE)) -> Стецкая Александра | D29: =IF(B29=0," ",VLOOKUP($B29,[1]Женщины!$B$1:$H$65536,3,FALSE)) -> 12.07.2000 | E29: =IF(B29=0," ",IF(VLOOKUP($B29,[1]Женщины!$B$1:$H$65536,4,FALSE)=0," ",VLOOKUP($B29,[1]Женщины!$B$1:$H$65536,4,FALSE))) -> 1р | F29: =IF(B29=0," ",VLOOKUP($B29,[1]Женщины!$B$1:$H$65536,5,FALSE)) -> Смоленская область | G29: =IF(B29=0," ",VLOOKUP($B29,[1]Женщины!$B$1:$H$65536,6,FALSE)) -> Смоленск, Смоленская ГСХА | H29: 0.00014976852 | I29: 0.00015034722 | K29: =IF(H29=0," ",IF(H29<=[1]Разряды!$D$30,[1]Разряды!$D$3,IF(H29<=[1]Разряды!$E$30,[1]Разряды!$E$3,IF(H29<=[1]Разряды!$F$30,[1]Разряды!$F$3,IF(H29<=[1]Разряды!$G$30,[1]Разряды!$G$3,IF(H29<=[1]Разряды!$H$30,[1]Разряды!$H$3,IF(H29<=[1]Разряды!$I$30,[1]Разряды!$I$3,IF(H29<=[1]Разряды!$J$30,[1]Разряды!$J$3,"б/р")))))))) -> 1р | L29: 1 | M29: =IF(B29=0," ",VLOOKUP($B29,[1]Женщины!$B$1:$H$65536,7,FALSE)) -> Войцеховский М.В.
A30: 19 | B30: 38 | C30: =IF(B30=0," ",VLOOKUP(B30,[1]Женщины!B$1:H$65536,2,FALSE)) -> Гурьянова Анастасия | D30: =IF(B30=0," ",VLOOKUP($B30,[1]Женщины!$B$1:$H$65536,3,FALSE)) -> 29.05.2000 | E30: =IF(B30=0," ",IF(VLOOKUP($B30,[1]Женщины!$B$1:$H$65536,4,FALSE)=0," ",VLOOKUP($B30,[1]Женщины!$B$1:$H$65536,4,FALSE))) -> 1р | F30: =IF(B30=0," ",VLOOKUP($B30,[1]Женщины!$B$1:$H$65536,5,FALSE)) -> Республика Мордовия | G30: =IF(B30=0," ",VLOOKUP($B30,[1]Женщины!$B$1:$H$65536,6,FALSE)) -> Саранск, ФГБОУ ВО "НИМГУ им. Н.П. Огарева" | H30: 0.00014976852 | I30: 0.00015046296 | K30: =IF(H30=0," ",IF(H30<=[1]Разряды!$D$30,[1]Разряды!$D$3,IF(H30<=[1]Разряды!$E$30,[1]Разряды!$E$3,IF(H30<=[1]Разряды!$F$30,[1]Разряды!$F$3,IF(H30<=[1]Разряды!$G$30,[1]Разряды!$G$3,IF(H30<=[1]Разряды!$H$30,[1]Разряды!$H$3,IF(H30<=[1]Разряды!$I$30,[1]Разряды!$I$3,IF(H30<=[1]Разряды!$J$30,[1]Разряды!$J$3,"б/р")))))))) -> 1р | L30: 1 | M30: =IF(B30=0," ",VLOOKUP($B30,[1]Женщины!$B$1:$H$65536,7,FALSE)) -> Аранов С.М.
A31: 20 | B31: 93 | C31: =IF(B31=0," ",VLOOKUP(B31,[1]Женщины!B$1:H$65536,2,FALSE)) -> Сизова Екатерина | D31: =IF(B31=0," ",VLOOKUP($B31,[1]Женщины!$B$1:$H$65536,3,FALSE)) -> 09.02.1997 | E31: =IF(B31=0," ",IF(VLOOKUP($B31,[1]Женщины!$B$1:$H$65536,4,FALSE)=0," ",VLOOKUP($B31,[1]Женщины!$B$1:$H$65536,4,FALSE))) -> 1р | F31: =IF(B31=0," ",VLOOKUP($B31,[1]Женщины!$B$1:$H$65536,5,FALSE)) -> Калининградская область | G31: =IF(B31=0," ",VLOOKUP($B31,[1]Женщины!$B$1:$H$65536,6,FALSE)) -> Калининград, БФУ им. И. Канта | H31: 0.00014965278 | I31: 0.00015150463 | K31: =IF(H31=0," ",IF(H31<=[1]Разряды!$D$30,[1]Разряды!$D$3,IF(H31<=[1]Разряды!$E$30,[1]Разряды!$E$3,IF(H31<=[1]Разряды!$F$30,[1]Разряды!$F$3,IF(H31<=[1]Разряды!$G$30,[1]Разряды!$G$3,IF(H31<=[1]Разряды!$H$30,[1]Разряды!$H$3,IF(H31<=[1]Разряды!$I$30,[1]Разряды!$I$3,IF(H31<=[1]Разряды!$J$30,[1]Разряды!$J$3,"б/р")))))))) -> 1р | L31: 1 | M31: =IF(B31=0," ",VLOOKUP($B31,[1]Женщины!$B$1:$H$65536,7,FALSE)) -> Степочкина Е.К.
A32: 21 | B32: 66 | C32: =IF(B32=0," ",VLOOKUP(B32,[1]Женщины!B$1:H$65536,2,FALSE)) -> Лазаревич Анастасия | D32: =IF(B32=0," ",VLOOKUP($B32,[1]Женщины!$B$1:$H$65536,3,FALSE)) -> 20.10.1997 | E32: =IF(B32=0," ",IF(VLOOKUP($B32,[1]Женщины!$B$1:$H$65536,4,FALSE)=0," ",VLOOKUP($B32,[1]Женщины!$B$1:$H$65536,4,FALSE))) -> 1р | F32: =IF(B32=0," ",VLOOKUP($B32,[1]Женщины!$B$1:$H$65536,5,FALSE)) -> Архангельская область | G32: =IF(B32=0," ",VLOOKUP($B32,[1]Женщины!$B$1:$H$65536,6,FALSE)) -> Архангельск, САФУ им. М.В. Ломоносова | H32: 0.00015023148 | I32: 0.00015173611 | K32: =IF(H32=0," ",IF(H32<=[1]Разряды!$D$30,[1]Разряды!$D$3,IF(H32<=[1]Разряды!$E$30,[1]Разряды!$E$3,IF(H32<=[1]Разряды!$F$30,[1]Разряды!$F$3,IF(H32<=[1]Разряды!$G$30,[1]Разряды!$G$3,IF(H32<=[1]Разряды!$H$30,[1]Разряды!$H$3,IF(H32<=[1]Разряды!$I$30,[1]Разряды!$I$3,IF(H32<=[1]Разряды!$J$30,[1]Разряды!$J$3,"б/р")))))))) -> 1р | L32: 1 | M32: =IF(B32=0," ",VLOOKUP($B32,[1]Женщины!$B$1:$H$65536,7,FALSE)) -> Мингалева А.Г.
A33: 21 | B33: 33 | C33: =IF(B33=0," ",VLOOKUP(B33,[1]Женщины!B$1:H$65536,2,FALSE)) -> Гроза Анна | D33: =IF(B33=0," ",VLOOKUP($B33,[1]Женщины!$B$1:$H$65536,3,FALSE)) -> 17.12.1996 | E33: =IF(B33=0," ",IF(VLOOKUP($B33,[1]Женщины!$B$1:$H$65536,4,FALSE)=0," ",VLOOKUP($B33,[1]Женщины!$B$1:$H$65536,4,FALSE))) -> КМС | F33: =IF(B33=0," ",VLOOKUP($B33,[1]Женщины!$B$1:$H$65536,5,FALSE)) -> Красноярский край | G33: =IF(B33=0," ",VLOOKUP($B33,[1]Женщины!$B$1:$H$65536,6,FALSE)) -> Красноярск, СФУ | H33: 0.0001505787 | I33: 0.00015173611 | K33: =IF(H33=0," ",IF(H33<=[1]Разряды!$D$30,[1]Разряды!$D$3,IF(H33<=[1]Разряды!$E$30,[1]Разряды!$E$3,IF(H33<=[1]Разряды!$F$30,[1]Разряды!$F$3,IF(H33<=[1]Разряды!$G$30,[1]Разряды!$G$3,IF(H33<=[1]Разряды!$H$30,[1]Разряды!$H$3,IF(H33<=[1]Разряды!$I$30,[1]Разряды!$I$3,IF(H33<=[1]Разряды!$J$30,[1]Разряды!$J$3,"б/р")))))))) -> 1р | L33: 1 | M33: =IF(B33=0," ",VLOOKUP($B33,[1]Женщины!$B$1:$H$65536,7,FALSE)) -> Федоров В.И.
A34: 23 | B34: 5 | C34: =IF(B34=0," ",VLOOKUP(B34,[1]Женщины!B$1:H$65536,2,FALSE)) -> Титаева Кристина | D34: =IF(B34=0," ",VLOOKUP($B34,[1]Женщины!$B$1:$H$65536,3,FALSE)) -> 22.01.2001 | E34: =IF(B34=0," ",IF(VLOOKUP($B34,[1]Женщины!$B$1:$H$65536,4,FALSE)=0," ",VLOOKUP($B34,[1]Женщины!$B$1:$H$65536,4,FALSE))) -> КМС | F34: =IF(B34=0," ",VLOOKUP($B34,[1]Женщины!$B$1:$H$65536,5,FALSE)) -> Сахалинская область | G34: =IF(B34=0," ",VLOOKUP($B34,[1]Женщины!$B$1:$H$65536,6,FALSE)) -> СахГУ | H34: 0.00014513889 | I34: r|med | K34: =IF(H34=0," ",IF(H34<=[1]Разряды!$D$30,[1]Разряды!$D$3,IF(H34<=[1]Разряды!$E$30,[1]Разряды!$E$3,IF(H34<=[1]Разряды!$F$30,[1]Разряды!$F$3,IF(H34<=[1]Разряды!$G$30,[1]Разряды!$G$3,IF(H34<=[1]Разряды!$H$30,[1]Разряды!$H$3,IF(H34<=[1]Разряды!$I$30,[1]Разряды!$I$3,IF(H34<=[1]Разряды!$J$30,[1]Разряды!$J$3,"б/р")))))))) -> кмс | L34: 1+5 | M34: =IF(B34=0," ",VLOOKUP($B34,[1]Женщины!$B$1:$H$65536,7,FALSE)) -> Жижикин А.Н.
A35: 24 | B35: 6 | C35: =IF(B35=0," ",VLOOKUP(B35,[1]Женщины!B$1:H$65536,2,FALSE)) -> Сухобокова Анастасия | D35: =IF(B35=0," ",VLOOKUP($B35,[1]Женщины!$B$1:$H$65536,3,FALSE)) -> 04.12.1997 | E35: =IF(B35=0," ",IF(VLOOKUP($B35,[1]Женщины!$B$1:$H$65536,4,FALSE)=0," ",VLOOKUP($B35,[1]Женщины!$B$1:$H$65536,4,FALSE))) -> 1р | F35: =IF(B35=0," ",VLOOKUP($B35,[1]Женщины!$B$1:$H$65536,5,FALSE)) -> Сахалинская область | G35: =IF(B35=0," ",VLOOKUP($B35,[1]Женщины!$B$1:$H$65536,6,FALSE)) -> СахГУ | H35: 0.00014930556 | I35: r|med | K35: =IF(H35=0," ",IF(H35<=[1]Разряды!$D$30,[1]Разряды!$D$3,IF(H35<=[1]Разряды!$E$30,[1]Разряды!$E$3,IF(H35<=[1]Разряды!$F$30,[1]Разряды!$F$3,IF(H35<=[1]Разряды!$G$30,[1]Разряды!$G$3,IF(H35<=[1]Разряды!$H$30,[1]Разряды!$H$3,IF(H35<=[1]Разряды!$I$30,[1]Разряды!$I$3,IF(H35<=[1]Разряды!$J$30,[1]Разряды!$J$3,"б/р")))))))) -> 1р | L35: 1 | M35: =IF(B35=0," ",VLOOKUP($B35,[1]Женщины!$B$1:$H$65536,7,FALSE)) -> Быкова Т.Ф.
A36: 25 | B36: 21 | C36: =IF(B36=0," ",VLOOKUP(B36,[1]Женщины!B$1:H$65536,2,FALSE)) -> Якушева Кристина | D36: =IF(B36=0," ",VLOOKUP($B36,[1]Женщины!$B$1:$H$65536,3,FALSE)) -> 19.01.1998 | E36: =IF(B36=0," ",IF(VLOOKUP($B36,[1]Женщины!$B$1:$H$65536,4,FALSE)=0," ",VLOOKUP($B36,[1]Женщины!$B$1:$H$65536,4,FALSE))) -> КМС | F36: =IF(B36=0," ",VLOOKUP($B36,[1]Женщины!$B$1:$H$65536,5,FALSE)) -> Мурманская область | G36: =IF(B36=0," ",VLOOKUP($B36,[1]Женщины!$B$1:$H$65536,6,FALSE)) -> Мурманск, МАГУ | H36: 0.00015115741 | K36: =IF(H36=0," ",IF(H36<=[1]Разряды!$D$30,[1]Разряды!$D$3,IF(H36<=[1]Разряды!$E$30,[1]Разряды!$E$3,IF(H36<=[1]Разряды!$F$30,[1]Разряды!$F$3,IF(H36<=[1]Разряды!$G$30,[1]Разряды!$G$3,IF(H36<=[1]Разряды!$H$30,[1]Разряды!$H$3,IF(H36<=[1]Разряды!$I$30,[1]Разряды!$I$3,IF(H36<=[1]Разряды!$J$30,[1]Разряды!$J$3,"б/р")))))))) -> 1р | L36: 1 | M36: =IF(B36=0," ",VLOOKUP($B36,[1]Женщины!$B$1:$H$65536,7,FALSE)) -> Фарутин Н.В.
A37: 25 | B37: 59 | C37: =IF(B37=0," ",VLOOKUP(B37,[1]Женщины!B$1:H$65536,2,FALSE)) -> Калинина Ольга | D37: =IF(B37=0," ",VLOOKUP($B37,[1]Женщины!$B$1:$H$65536,3,FALSE)) -> 01.11.1998 | E37: =IF(B37=0," ",IF(VLOOKUP($B37,[1]Женщины!$B$1:$H$65536,4,FALSE)=0," ",VLOOKUP($B37,[1]Женщины!$B$1:$H$65536,4,FALSE))) -> КМС | F37: =IF(B37=0," ",VLOOKUP($B37,[1]Женщины!$B$1:$H$65536,5,FALSE)) -> Республика Татарстан | G37: =IF(B37=0," ",VLOOKUP($B37,[1]Женщины!$B$1:$H$65536,6,FALSE)) -> Казань, ФГБОУ ВО ПГАФКСиТ | H37: 0.00015115741 | K37: =IF(H37=0," ",IF(H37<=[1]Разряды!$D$30,[1]Разряды!$D$3,IF(H37<=[1]Разряды!$E$30,[1]Разряды!$E$3,IF(H37<=[1]Разряды!$F$30,[1]Разряды!$F$3,IF(H37<=[1]Разряды!$G$30,[1]Разряды!$G$3,IF(H37<=[1]Разряды!$H$30,[1]Разряды!$H$3,IF(H37<=[1]Разряды!$I$30,[1]Разряды!$I$3,IF(H37<=[1]Разряды!$J$30,[1]Разряды!$J$3,"б/р")))))))) -> 1р | L37: 1 | M37: =IF(B37=0," ",VLOOKUP($B37,[1]Женщины!$B$1:$H$65536,7,FALSE)) -> Борисенко Е.М., Кондратьева Е.С.
A38: 27 | B38: 68 | C38: =IF(B38=0," ",VLOOKUP(B38,[1]Женщины!B$1:H$65536,2,FALSE)) -> Жерихова Наталья | D38: =IF(B38=0," ",VLOOKUP($B38,[1]Женщины!$B$1:$H$65536,3,FALSE)) -> 23.11.2000 | E38: =IF(B38=0," ",IF(VLOOKUP($B38,[1]Женщины!$B$1:$H$65536,4,FALSE)=0," ",VLOOKUP($B38,[1]Женщины!$B$1:$H$65536,4,FALSE))) -> КМС | F38: =IF(B38=0," ",VLOOKUP($B38,[1]Женщины!$B$1:$H$65536,5,FALSE)) -> Нижегородская область | G38: =IF(B38=0," ",VLOOKUP($B38,[1]Женщины!$B$1:$H$65536,6,FALSE)) -> Нижний Новгород, ННГУ им. Н.И. Лобачевского | H38: 0.00015150463 | K38: =IF(H38=0," ",IF(H38<=[1]Разряды!$D$30,[1]Разряды!$D$3,IF(H38<=[1]Разряды!$E$30,[1]Разряды!$E$3,IF(H38<=[1]Разряды!$F$30,[1]Разряды!$F$3,IF(H38<=[1]Разряды!$G$30,[1]Разряды!$G$3,IF(H38<=[1]Разряды!$H$30,[1]Разряды!$H$3,IF(H38<=[1]Разряды!$I$30,[1]Разряды!$I$3,IF(H38<=[1]Разряды!$J$30,[1]Разряды!$J$3,"б/р")))))))) -> 1р | L38: 1 | M38: =IF(B38=0," ",VLOOKUP($B38,[1]Женщины!$B$1:$H$65536,7,FALSE)) -> Судаков К.А.
A39: 28 | B39: 95 | C39: =IF(B39=0," ",VLOOKUP(B39,[1]Женщины!B$1:H$65536,2,FALSE)) -> Сухрякова Александра | D39: =IF(B39=0," ",VLOOKUP($B39,[1]Женщины!$B$1:$H$65536,3,FALSE)) -> 23.07.2000 | E39: =IF(B39=0," ",IF(VLOOKUP($B39,[1]Женщины!$B$1:$H$65536,4,FALSE)=0," ",VLOOKUP($B39,[1]Женщины!$B$1:$H$65536,4,FALSE))) -> КМС | F39: =IF(B39=0," ",VLOOKUP($B39,[1]Женщины!$B$1:$H$65536,5,FALSE)) -> Калининградская область | G39: =IF(B39=0," ",VLOOKUP($B39,[1]Женщины!$B$1:$H$65536,6,FALSE)) -> Калининград, БФУ им. И. Канта | H39: 0.00015208333 | K39: =IF(H39=0," ",IF(H39<=[1]Разряды!$D$30,[1]Разряды!$D$3,IF(H39<=[1]Разряды!$E$30,[1]Разряды!$E$3,IF(H39<=[1]Разряды!$F$30,[1]Разряды!$F$3,IF(H39<=[1]Разряды!$G$30,[1]Разряды!$G$3,IF(H39<=[1]Разряды!$H$30,[1]Разряды!$H$3,IF(H39<=[1]Разряды!$I$30,[1]Разряды!$I$3,IF(H39<=[1]Разряды!$J$30,[1]Разряды!$J$3,"б/р")))))))) -> 1р | L39: 1 | M39: =IF(B39=0," ",VLOOKUP($B39,[1]Женщины!$B$1:$H$65536,7,FALSE)) -> Степочкина Е.К.
A40: 29 | B40: 52 | C40: =IF(B40=0," ",VLOOKUP(B40,[1]Женщины!B$1:H$65536,2,FALSE)) -> Рыкова Екатерина | D40: =IF(B40=0," ",VLOOKUP($B40,[1]Женщины!$B$1:$H$65536,3,FALSE)) -> 29.03.2000 | E40: =IF(B40=0," ",IF(VLOOKUP($B40,[1]Женщины!$B$1:$H$65536,4,FALSE)=0," ",VLOOKUP($B40,[1]Женщины!$B$1:$H$65536,4,FALSE))) -> КМС | F40: =IF(B40=0," ",VLOOKUP($B40,[1]Женщины!$B$1:$H$65536,5,FALSE)) -> Удмуртская Республика | G40: =IF(B40=0," ",VLOOKUP($B40,[1]Женщины!$B$1:$H$65536,6,FALSE)) -> Ижевск, УдГУ | H40: 0.0001525463 | K40: =IF(H40=0," ",IF(H40<=[1]Разряды!$D$30,[1]Разряды!$D$3,IF(H40<=[1]Разряды!$E$30,[1]Разряды!$E$3,IF(H40<=[1]Разряды!$F$30,[1]Разряды!$F$3,IF(H40<=[1]Разряды!$G$30,[1]Разряды!$G$3,IF(H40<=[1]Разряды!$H$30,[1]Разряды!$H$3,IF(H40<=[1]Разряды!$I$30,[1]Разряды!$I$3,IF(H40<=[1]Разряды!$J$30,[1]Разряды!$J$3,"б/р")))))))) -> 1р | L40: 1 | M40: =IF(B40=0," ",VLOOKUP($B40,[1]Женщины!$B$1:$H$65536,7,FALSE)) -> Феофилактов Н.З.
A41: 30 | B41: 41 | C41: =IF(B41=0," ",VLOOKUP(B41,[1]Женщины!B$1:H$65536,2,FALSE)) -> Бабошкина Татьяна | D41: =IF(B41=0," ",VLOOKUP($B41,[1]Женщины!$B$1:$H$65536,3,FALSE)) -> 11.06.1998 | E41: =IF(B41=0," ",IF(VLOOKUP($B41,[1]Женщины!$B$1:$H$65536,4,FALSE)=0," ",VLOOKUP($B41,[1]Женщины!$B$1:$H$65536,4,FALSE))) -> 1р | F41: =IF(B41=0," ",VLOOKUP($B41,[1]Женщины!$B$1:$H$65536,5,FALSE)) -> Республика Мордовия | G41: =IF(B41=0," ",VLOOKUP($B41,[1]Женщины!$B$1:$H$65536,6,FALSE)) -> Саранск, ФГБОУ ВО "НИМГУ им. Н.П. Огарева" | H41: 0.00015277778 | K41: =IF(H41=0," ",IF(H41<=[1]Разряды!$D$30,[1]Разряды!$D$3,IF(H41<=[1]Разряды!$E$30,[1]Разряды!$E$3,IF(H41<=[1]Разряды!$F$30,[1]Разряды!$F$3,IF(H41<=[1]Разряды!$G$30,[1]Разряды!$G$3,IF(H41<=[1]Разряды!$H$30,[1]Разряды!$H$3,IF(H41<=[1]Разряды!$I$30,[1]Разряды!$I$3,IF(H41<=[1]Разряды!$J$30,[1]Разряды!$J$3,"б/р")))))))) -> 1р | L41: 1 | M41: =IF(B41=0," ",VLOOKUP($B41,[1]Женщины!$B$1:$H$65536,7,FALSE)) -> 0
A42: 30 | B42: 85 | C42: =IF(B42=0," ",VLOOKUP(B42,[1]Женщины!B$1:H$65536,2,FALSE)) -> Рудниченко Анастасия | D42: =IF(B42=0," ",VLOOKUP($B42,[1]Женщины!$B$1:$H$65536,3,FALSE)) -> 28.12.1998 | E42: =IF(B42=0," ",IF(VLOOKUP($B42,[1]Женщины!$B$1:$H$65536,4,FALSE)=0," ",VLOOKUP($B42,[1]Женщины!$B$1:$H$65536,4,FALSE))) -> 1р | F42: =IF(B42=0," ",VLOOKUP($B42,[1]Женщины!$B$1:$H$65536,5,FALSE)) -> Самарская область | G42: =IF(B42=0," ",VLOOKUP($B42,[1]Женщины!$B$1:$H$65536,6,FALSE)) -> Самара, СГЭУ | H42: 0.00015277778 | K42: =IF(H42=0," ",IF(H42<=[1]Разряды!$D$30,[1]Разряды!$D$3,IF(H42<=[1]Разряды!$E$30,[1]Разряды!$E$3,IF(H42<=[1]Разряды!$F$30,[1]Разряды!$F$3,IF(H42<=[1]Разряды!$G$30,[1]Разряды!$G$3,IF(H42<=[1]Разряды!$H$30,[1]Разряды!$H$3,IF(H42<=[1]Разряды!$I$30,[1]Разряды!$I$3,IF(H42<=[1]Разряды!$J$30,[1]Разряды!$J$3,"б/р")))))))) -> 1р | L42: 1 | M42: =IF(B42=0," ",VLOOKUP($B42,[1]Женщины!$B$1:$H$65536,7,FALSE)) -> Смирнова У.В.
A43: 32 | B43: 69 | C43: =IF(B43=0," ",VLOOKUP(B43,[1]Женщины!B$1:H$65536,2,FALSE)) -> Малахова Арина | D43: =IF(B43=0," ",VLOOKUP($B43,[1]Женщины!$B$1:$H$65536,3,FALSE)) -> 01.08.2000 | E43: =IF(B43=0," ",IF(VLOOKUP($B43,[1]Женщины!$B$1:$H$65536,4,FALSE)=0," ",VLOOKUP($B43,[1]Женщины!$B$1:$H$65536,4,FALSE))) -> КМС | F43: =IF(B43=0," ",VLOOKUP($B43,[1]Женщины!$B$1:$H$65536,5,FALSE)) -> Нижегородская область | G43: =IF(B43=0," ",VLOOKUP($B43,[1]Женщины!$B$1:$H$65536,6,FALSE)) -> Нижний Новгород, ННГУ им. Н.И. Лобачевского | H43: 0.0001537037 | K43: =IF(H43=0," ",IF(H43<=[1]Разряды!$D$30,[1]Разряды!$D$3,IF(H43<=[1]Разряды!$E$30,[1]Разряды!$E$3,IF(H43<=[1]Разряды!$F$30,[1]Разряды!$F$3,IF(H43<=[1]Разряды!$G$30,[1]Разряды!$G$3,IF(H43<=[1]Разряды!$H$30,[1]Разряды!$H$3,IF(H43<=[1]Разряды!$I$30,[1]Разряды!$I$3,IF(H43<=[1]Разряды!$J$30,[1]Разряды!$J$3,"б/р")))))))) -> 1р | L43: 1 | M43: =IF(B43=0," ",VLOOKUP($B43,[1]Женщины!$B$1:$H$65536,7,FALSE)) -> Кулаков Ю.Г.
A44: 33 | B44: 78 | C44: =IF(B44=0," ",VLOOKUP(B44,[1]Женщины!B$1:H$65536,2,FALSE)) -> Крупко Валерия | D44: =IF(B44=0," ",VLOOKUP($B44,[1]Женщины!$B$1:$H$65536,3,FALSE)) -> 10.05.1999 | E44: =IF(B44=0," ",IF(VLOOKUP($B44,[1]Женщины!$B$1:$H$65536,4,FALSE)=0," ",VLOOKUP($B44,[1]Женщины!$B$1:$H$65536,4,FALSE))) -> 1р | F44: =IF(B44=0," ",VLOOKUP($B44,[1]Женщины!$B$1:$H$65536,5,FALSE)) -> Владимирская область | G44: =IF(B44=0," ",VLOOKUP($B44,[1]Женщины!$B$1:$H$65536,6,FALSE)) -> Владимир, ВлГУ им. А.Г. и Н.Г Столетовых | H44: 0.00015393519 | K44: =IF(H44=0," ",IF(H44<=[1]Разряды!$D$30,[1]Разряды!$D$3,IF(H44<=[1]Разряды!$E$30,[1]Разряды!$E$3,IF(H44<=[1]Разряды!$F$30,[1]Разряды!$F$3,IF(H44<=[1]Разряды!$G$30,[1]Разряды!$G$3,IF(H44<=[1]Разряды!$H$30,[1]Разряды!$H$3,IF(H44<=[1]Разряды!$I$30,[1]Разряды!$I$3,IF(H44<=[1]Разряды!$J$30,[1]Разряды!$J$3,"б/р")))))))) -> 1р | L44: 1 | M44: =IF(B44=0," ",VLOOKUP($B44,[1]Женщины!$B$1:$H$65536,7,FALSE)) -> Коробова П.А., Бурлаков О.П., Кравцова К.О.
A45: 34 | B45: 37 | C45: =IF(B45=0," ",VLOOKUP(B45,[1]Женщины!B$1:H$65536,2,FALSE)) -> Чернова Дарья | D45: =IF(B45=0," ",VLOOKUP($B45,[1]Женщины!$B$1:$H$65536,3,FALSE)) -> 14.04.1997 | E45: =IF(B45=0," ",IF(VLOOKUP($B45,[1]Женщины!$B$1:$H$65536,4,FALSE)=0," ",VLOOKUP($B45,[1]Женщины!$B$1:$H$65536,4,FALSE))) -> КМС | F45: =IF(B45=0," ",VLOOKUP($B45,[1]Женщины!$B$1:$H$65536,5,FALSE)) -> Красноярский край | G45: =IF(B45=0," ",VLOOKUP($B45,[1]Женщины!$B$1:$H$65536,6,FALSE)) -> Красноярск, СФУ | H45: 0.00015416667 | K45: =IF(H45=0," ",IF(H45<=[1]Разряды!$D$30,[1]Разряды!$D$3,IF(H45<=[1]Разряды!$E$30,[1]Разряды!$E$3,IF(H45<=[1]Разряды!$F$30,[1]Разряды!$F$3,IF(H45<=[1]Разряды!$G$30,[1]Разряды!$G$3,IF(H45<=[1]Разряды!$H$30,[1]Разряды!$H$3,IF(H45<=[1]Разряды!$I$30,[1]Разряды!$I$3,IF(H45<=[1]Разряды!$J$30,[1]Разряды!$J$3,"б/р")))))))) -> 1р | L45: 1 | M45: =IF(B45=0," ",VLOOKUP($B45,[1]Женщины!$B$1:$H$65536,7,FALSE)) -> Федоров В.И.
A46: 35 | B46: 46 | C46: =IF(B46=0," ",VLOOKUP(B46,[1]Женщины!B$1:H$65536,2,FALSE)) -> Ильина Светлана | D46: =IF(B46=0," ",VLOOKUP($B46,[1]Женщины!$B$1:$H$65536,3,FALSE)) -> 07.05.1997 | E46: =IF(B46=0," ",IF(VLOOKUP($B46,[1]Женщины!$B$1:$H$65536,4,FALSE)=0," ",VLOOKUP($B46,[1]Женщины!$B$1:$H$65536,4,FALSE))) -> 1р | F46: =IF(B46=0," ",VLOOKUP($B46,[1]Женщины!$B$1:$H$65536,5,FALSE)) -> Пензенская область | G46: =IF(B46=0," ",VLOOKUP($B46,[1]Женщины!$B$1:$H$65536,6,FALSE)) -> Пенза, ПензГТУ | H46: 0.00015532407 | K46: =IF(H46=0," ",IF(H46<=[1]Разряды!$D$30,[1]Разряды!$D$3,IF(H46<=[1]Разряды!$E$30,[1]Разряды!$E$3,IF(H46<=[1]Разряды!$F$30,[1]Разряды!$F$3,IF(H46<=[1]Разряды!$G$30,[1]Разряды!$G$3,IF(H46<=[1]Разряды!$H$30,[1]Разряды!$H$3,IF(H46<=[1]Разряды!$I$30,[1]Разряды!$I$3,IF(H46<=[1]Разряды!$J$30,[1]Разряды!$J$3,"б/р")))))))) -> 1р | L46: 1 | M46: =IF(B46=0," ",VLOOKUP($B46,[1]Женщины!$B$1:$H$65536,7,FALSE)) -> Гарынов А.А.
A47: 36 | B47: 13 | C47: =IF(B47=0," ",VLOOKUP(B47,[1]Женщины!B$1:H$65536,2,FALSE)) -> Коваленкова Анна | D47: =IF(B47=0," ",VLOOKUP($B47,[1]Женщины!$B$1:$H$65536,3,FALSE)) -> 06.04.1999 | E47: =IF(B47=0," ",IF(VLOOKUP($B47,[1]Женщины!$B$1:$H$65536,4,FALSE)=0," ",VLOOKUP($B47,[1]Женщины!$B$1:$H$65536,4,FALSE))) -> 1р | F47: =IF(B47=0," ",VLOOKUP($B47,[1]Женщины!$B$1:$H$65536,5,FALSE)) -> Калининградская область | G47: =IF(B47=0," ",VLOOKUP($B47,[1]Женщины!$B$1:$H$65536,6,FALSE)) -> Калининград, КГТУ-БГАРФ | H47: 0.00015636574 | K47: =IF(H47=0," ",IF(H47<=[1]Разряды!$D$30,[1]Разряды!$D$3,IF(H47<=[1]Разряды!$E$30,[1]Разряды!$E$3,IF(H47<=[1]Разряды!$F$30,[1]Разряды!$F$3,IF(H47<=[1]Разряды!$G$30,[1]Разряды!$G$3,IF(H47<=[1]Разряды!$H$30,[1]Разряды!$H$3,IF(H47<=[1]Разряды!$I$30,[1]Разряды!$I$3,IF(H47<=[1]Разряды!$J$30,[1]Разряды!$J$3,"б/р")))))))) -> 2р | L47: 1 | M47: =IF(B47=0," ",VLOOKUP($B47,[1]Женщины!$B$1:$H$65536,7,FALSE)) -> 0
... A59: 48 | B59: 47 | C59: =IF(B59=0," ",VLOOKUP(B59,[1]Женщины!B$1:H$65536,2,FALSE)) -> Дерябина Кира | D59: =IF(B59=0," ",VLOOKUP($B59,[1]Женщины!$B$1:$H$65536,3,FALSE)) -> 06.11.1999 | E59: =IF(B59=0," ",IF(VLOOKUP($B59,[1]Женщины!$B$1:$H$65536,4,FALSE)=0," ",VLOOKUP($B59,[1]Женщины!$B$1:$H$65536,4,FALSE))) -> 2р | F59: =IF(B59=0," ",VLOOKUP($B59,[1]Женщины!$B$1:$H$65536,5,FALSE)) -> Пензенская область | G59: =IF(B59=0," ",VLOOKUP($B59,[1]Женщины!$B$1:$H$65536,6,FALSE)) -> Пенза, ПензГТУ | H59: 0.0001724537 | K59: =IF(H59=0," ",IF(H59<=[1]Разряды!$D$30,[1]Разряды!$D$3,IF(H59<=[1]Разряды!$E$30,[1]Разряды!$E$3,IF(H59<=[1]Разряды!$F$30,[1]Разряды!$F$3,IF(H59<=[1]Разряды!$G$30,[1]Разряды!$G$3,IF(H59<=[1]Разряды!$H$30,[1]Разряды!$H$3,IF(H59<=[1]Разряды!$I$30,[1]Разряды!$I$3,IF(H59<=[1]Разряды!$J$30,[1]Разряды!$J$3,"б/р")))))))) -> 3р | L59: 0 | M59: =IF(B59=0," ",VLOOKUP($B59,[1]Женщины!$B$1:$H$65536,7,FALSE)) -> Гарынов А.А.
B60: 29 | C60: =IF(B60=0," ",VLOOKUP(B60,[1]Женщины!B$1:H$65536,2,FALSE)) -> Ларёва Ирина | D60: =IF(B60=0," ",VLOOKUP($B60,[1]Женщины!$B$1:$H$65536,3,FALSE)) -> 03.11.2000 | E60: =IF(B60=0," ",IF(VLOOKUP($B60,[1]Женщины!$B$1:$H$65536,4,FALSE)=0," ",VLOOKUP($B60,[1]Женщины!$B$1:$H$65536,4,FALSE))) -> 2р | F60: =IF(B60=0," ",VLOOKUP($B60,[1]Женщины!$B$1:$H$65536,5,FALSE)) -> Ярославская область | G60: =IF(B60=0," ",VLOOKUP($B60,[1]Женщины!$B$1:$H$65536,6,FALSE)) -> Ярославль, ЯрГУ им. П.Г. Демидова | H60: r|med | L60: 0 | M60: =IF(B60=0," ",VLOOKUP($B60,[1]Женщины!$B$1:$H$65536,7,FALSE)) -> Станкевич В.А.
B64: Главный судья, спортивный судья ВК | G64: Хрущев Е.Н., г. Ярославль
B67: Главный секретарь, спортивный судья ВК | G67: Тараканова Ю.Ф., г. Ярославль

Sheet 200ж
A1: Чемпионат Российского студенческого спортивного союза
A2: мужчины и женщины
L3: 27-28 июня 2019 г.
K4: стадион "Шинник"
L5: г. Ярославль
D6: 28.06.2019г. | E6: 0.4375 | F6: Забеги | H6: ПРОТОКОЛ СОРЕВНОВАНИЙ
D7: 28.06.2019г. | E7: 0.51388889 | F7: Финал
C8: Женщины | D8: Бег 200м
A9: Место | B9: Номер | C9: Фамилия, имя | D9: Дата рожд. | E9: Квал. | F9: Команда | G9: ВУЗ | H9: Результат | J9: Вып. разр. | K9: Очки | L9: Ф.И.О. тренера
H10: забеги | I10: финал
A11: 1 | B11: 39 | C11: =IF(B11=0," ",VLOOKUP(B11,[1]Женщины!B$1:H$65536,2,FALSE)) -> Белова Ирина | D11: =IF(B11=0," ",VLOOKUP($B11,[1]Женщины!$B$1:$H$65536,3,FALSE)) -> 21.01.1994 | E11: =IF(B11=0," ",IF(VLOOKUP($B11,[1]Женщины!$B$1:$H$65536,4,FALSE)=0," ",VLOOKUP($B11,[1]Женщины!$B$1:$H$65536,4,FALSE))) -> МС | F11: =IF(B11=0," ",VLOOKUP($B11,[1]Женщины!$B$1:$H$65536,5,FALSE)) -> Республика Мордовия | G11: =IF(B11=0," ",VLOOKUP($B11,[1]Женщины!$B$1:$H$65536,6,FALSE)) -> Саранск, ФГБОУ ВО "НИМГУ им. Н.П. Огарева" | H11: 0.00028310185 | I11: 0.00027615741 | J11: мс | K11: 18+10 | L11: =IF(B11=0," ",VLOOKUP($B11,[1]Женщины!$B$1:$H$65536,7,FALSE)) -> Бусаров В.М.
A12: 2 | B12: 348 | C12: =IF(B12=0," ",VLOOKUP(B12,[1]Женщины!B$1:H$65536,2,FALSE)) -> Муромская Валерия | D12: =IF(B12=0," ",VLOOKUP($B12,[1]Женщины!$B$1:$H$65536,3,FALSE)) -> 25.10.1995 | E12: =IF(B12=0," ",IF(VLOOKUP($B12,[1]Женщины!$B$1:$H$65536,4,FALSE)=0," ",VLOOKUP($B12,[1]Женщины!$B$1:$H$65536,4,FALSE))) -> КМС | F12: =IF(B12=0," ",VLOOKUP($B12,[1]Женщины!$B$1:$H$65536,5,FALSE)) -> Пензенская область | G12: =IF(B12=0," ",VLOOKUP($B12,[1]Женщины!$B$1:$H$65536,6,FALSE)) -> Пенза, ПензГУ | H12: 0.00028206019 | I12: 0.000278125 | J12: =IF(H12=0," ",IF(H12<=[1]Разряды!$D$31,[1]Разряды!$D$3,IF(H12<=[1]Разряды!$E$31,[1]Разряды!$E$3,IF(H12<=[1]Разряды!$F$31,[1]Разряды!$F$3,IF(H12<=[1]Разряды!$G$31,[1]Разряды!$G$3,IF(H12<=[1]Разряды!$H$31,[1]Разряды!$H$3,IF(H12<=[1]Разряды!$I$31,[1]Разряды!$I$3,IF(H12<=[1]Разряды!$J$31,[1]Разряды!$J$3,"б/р")))))))) -> кмс | K12: 15+5 | L12: =IF(B12=0," ",VLOOKUP($B12,[1]Женщины!$B$1:$H$65536,7,FALSE)) -> Невокшаков Б.В., Чураева М.С.
A13: 3 | B13: 8 | C13: =IF(B13=0," ",VLOOKUP(B13,[1]Женщины!B$1:H$65536,2,FALSE)) -> Колдина Анастасия | D13: =IF(B13=0," ",VLOOKUP($B13,[1]Женщины!$B$1:$H$65536,3,FALSE)) -> 06.01.1995 | E13: =IF(B13=0," ",IF(VLOOKUP($B13,[1]Женщины!$B$1:$H$65536,4,FALSE)=0," ",VLOOKUP($B13,[1]Женщины!$B$1:$H$65536,4,FALSE))) -> МС | F13: =IF(B13=0," ",VLOOKUP($B13,[1]Женщины!$B$1:$H$65536,5,FALSE)) -> Тамбовская область | G13: =IF(B13=0," ",VLOOKUP($B13,[1]Женщины!$B$1:$H$65536,6,FALSE)) -> Тамбов, ТГУ им. Г.Р. Державина | H13: 0.00028680556 | I13: 0.00028159722 | J13: =IF(H13=0," ",IF(H13<=[1]Разряды!$D$31,[1]Разряды!$D$3,IF(H13<=[1]Разряды!$E$31,[1]Разряды!$E$3,IF(H13<=[1]Разряды!$F$31,[1]Разряды!$F$3,IF(H13<=[1]Разряды!$G$31,[1]Разряды!$G$3,IF(H13<=[1]Разряды!$H$31,[1]Разряды!$H$3,IF(H13<=[1]Разряды!$I$31,[1]Разряды!$I$3,IF(H13<=[1]Разряды!$J$31,[1]Разряды!$J$3,"б/р")))))))) -> кмс | K13: 13+5 | L13: =IF(B13=0," ",VLOOKUP($B13,[1]Женщины!$B$1:$H$65536,7,FALSE)) -> Иванов А.Н.
A14: 4 | B14: 223 | C14: =IF(B14=0," ",VLOOKUP(B14,[1]Женщины!B$1:H$65536,2,FALSE)) -> Цыганова Виктория | D14: =IF(B14=0," ",VLOOKUP($B14,[1]Женщины!$B$1:$H$65536,3,FALSE)) -> 01.07.1997 | E14: =IF(B14=0," ",IF(VLOOKUP($B14,[1]Женщины!$B$1:$H$65536,4,FALSE)=0," ",VLOOKUP($B14,[1]Женщины!$B$1:$H$65536,4,FALSE))) -> КМС | F14: =IF(B14=0," ",VLOOKUP($B14,[1]Женщины!$B$1:$H$65536,5,FALSE)) -> Москва | G14: =IF(B14=0," ",VLOOKUP($B14,[1]Женщины!$B$1:$H$65536,6,FALSE)) -> Москва, РУТ (МИИТ) | H14: 0.00028657407 | I14: 0.00028738426 | J14: =IF(H14=0," ",IF(H14<=[1]Разряды!$D$31,[1]Разряды!$D$3,IF(H14<=[1]Разряды!$E$31,[1]Разряды!$E$3,IF(H14<=[1]Разряды!$F$31,[1]Разряды!$F$3,IF(H14<=[1]Разряды!$G$31,[1]Разряды!$G$3,IF(H14<=[1]Разряды!$H$31,[1]Разряды!$H$3,IF(H14<=[1]Разряды!$I$31,[1]Разряды!$I$3,IF(H14<=[1]Разряды!$J$31,[1]Разряды!$J$3,"б/р")))))))) -> кмс | K14: л | L14: =IF(B14=0," ",VLOOKUP($B14,[1]Женщины!$B$1:$H$65536,7,FALSE)) -> Филатова М.И., Филатова Е.А.
A15: 5 | B15: 65 | C15: =IF(B15=0," ",VLOOKUP(B15,[1]Женщины!B$1:H$65536,2,FALSE)) -> Ткачева Мария | D15: =IF(B15=0," ",VLOOKUP($B15,[1]Женщины!$B$1:$H$65536,3,FALSE)) -> 05.04.1995 | E15: =IF(B15=0," ",IF(VLOOKUP($B15,[1]Женщины!$B$1:$H$65536,4,FALSE)=0," ",VLOOKUP($B15,[1]Женщины!$B$1:$H$65536,4,FALSE))) -> КМС | F15: =IF(B15=0," ",VLOOKUP($B15,[1]Женщины!$B$1:$H$65536,5,FALSE)) -> Архангельская область | G15: =IF(B15=0," ",VLOOKUP($B15,[1]Женщины!$B$1:$H$65536,6,FALSE)) -> Архангельск, САФУ им. М.В. Ломоносова | H15: 0.00029259259 | I15: 0.00029050926 | J15: =IF(H15=0," ",IF(H15<=[1]Разряды!$D$31,[1]Разряды!$D$3,IF(H15<=[1]Разряды!$E$31,[1]Разряды!$E$3,IF(H15<=[1]Разряды!$F$31,[1]Разряды!$F$3,IF(H15<=[1]Разряды!$G$31,[1]Разряды!$G$3,IF(H15<=[1]Разряды!$H$31,[1]Разряды!$H$3,IF(H15<=[1]Разряды!$I$31,[1]Разряды!$I$3,IF(H15<=[1]Разряды!$J$31,[1]Разряды!$J$3,"б/р")))))))) -> кмс | K15: 12+5 | L15: =IF(B15=0," ",VLOOKUP($B15,[1]Женщины!$B$1:$H$65536,7,FALSE)) -> Мингалева А.Г.
A16: 6 | B16: 40 | C16: =IF(B16=0," ",VLOOKUP(B16,[1]Женщины!B$1:H$65536,2,FALSE)) -> Курбакова Ирина | D16: =IF(B16=0," ",VLOOKUP($B16,[1]Женщины!$B$1:$H$65536,3,FALSE)) -> 07.03.2000 | E16: =IF(B16=0," ",IF(VLOOKUP($B16,[1]Женщины!$B$1:$H$65536,4,FALSE)=0," ",VLOOKUP($B16,[1]Женщины!$B$1:$H$65536,4,FALSE))) -> КМС | F16: =IF(B16=0," ",VLOOKUP($B16,[1]Женщины!$B$1:$H$65536,5,FALSE)) -> Республика Мордовия | G16: =IF(B16=0," ",VLOOKUP($B16,[1]Женщины!$B$1:$H$65536,6,FALSE)) -> Саранск, ФГБОУ ВО "НИМГУ им. Н.П. Огарева" | H16: 0.00029131944 | I16: 0.000290625 | J16: =IF(H16=0," ",IF(H16<=[1]Разряды!$D$31,[1]Разряды!$D$3,IF(H16<=[1]Разряды!$E$31,[1]Разряды!$E$3,IF(H16<=[1]Разряды!$F$31,[1]Разряды!$F$3,IF(H16<=[1]Разряды!$G$31,[1]Разряды!$G$3,IF(H16<=[1]Разряды!$H$31,[1]Разряды!$H$3,IF(H16<=[1]Разряды!$I$31,[1]Разряды!$I$3,IF(H16<=[1]Разряды!$J$31,[1]Разряды!$J$3,"б/р")))))))) -> кмс | K16: 11+5 | L16: =IF(B16=0," ",VLOOKUP($B16,[1]Женщины!$B$1:$H$65536,7,FALSE)) -> Забродин Р.
A17: 7 | B17: 6 | C17: =IF(B17=0," ",VLOOKUP(B17,[1]Женщины!B$1:H$65536,2,FALSE)) -> Сухобокова Анастасия | D17: =IF(B17=0," ",VLOOKUP($B17,[1]Женщины!$B$1:$H$65536,3,FALSE)) -> 04.12.1997 | E17: =IF(B17=0," ",IF(VLOOKUP($B17,[1]Женщины!$B$1:$H$65536,4,FALSE)=0," ",VLOOKUP($B17,[1]Женщины!$B$1:$H$65536,4,FALSE))) -> 1р | F17: =IF(B17=0," ",VLOOKUP($B17,[1]Женщины!$B$1:$H$65536,5,FALSE)) -> Сахалинская область | G17: =IF(B17=0," ",VLOOKUP($B17,[1]Женщины!$B$1:$H$65536,6,FALSE)) -> СахГУ | H17: 0.00029756944 | I17: 0.00029675926 | J17: =IF(H17=0," ",IF(H17<=[1]Разряды!$D$31,[1]Разряды!$D$3,IF(H17<=[1]Разряды!$E$31,[1]Разряды!$E$3,IF(H17<=[1]Разряды!$F$31,[1]Разряды!$F$3,IF(H17<=[1]Разряды!$G$31,[1]Разряды!$G$3,IF(H17<=[1]Разряды!$H$31,[1]Разряды!$H$3,IF(H17<=[1]Разряды!$I$31,[1]Разряды!$I$3,IF(H17<=[1]Разряды!$J$31,[1]Разряды!$J$3,"б/р")))))))) -> кмс | K17: 10+5 | L17: =IF(B17=0," ",VLOOKUP($B17,[1]Женщины!$B$1:$H$65536,7,FALSE)) -> Быкова Т.Ф.
A18: 8 | B18: 98 | C18: =IF(B18=0," ",VLOOKUP(B18,[1]Женщины!B$1:H$65536,2,FALSE)) -> Трялина Дарья | D18: =IF(B18=0," ",VLOOKUP($B18,[1]Женщины!$B$1:$H$65536,3,FALSE)) -> 24.07.1999 | E18: =IF(B18=0," ",IF(VLOOKUP($B18,[1]Женщины!$B$1:$H$65536,4,FALSE)=0," ",VLOOKUP($B18,[1]Женщины!$B$1:$H$65536,4,FALSE))) -> КМС | F18: =IF(B18=0," ",VLOOKUP($B18,[1]Женщины!$B$1:$H$65536,5,FALSE)) -> Пензенская область | G18: =IF(B18=0," ",VLOOKUP($B18,[1]Женщины!$B$1:$H$65536,6,FALSE)) -> Пенза, ПензГУ | H18: 0.00029479167 | I18: DQ п.п. 162.7 | J18: =IF(H18=0," ",IF(H18<=[1]Разряды!$D$31,[1]Разряды!$D$3,IF(H18<=[1]Разряды!$E$31,[1]Разряды!$E$3,IF(H18<=[1]Разряды!$F$31,[1]Разряды!$F$3,IF(H18<=[1]Разряды!$G$31,[1]Разряды!$G$3,IF(H18<=[1]Разряды!$H$31,[1]Разряды!$H$3,IF(H18<=[1]Разряды!$I$31,[1]Разряды!$I$3,IF(H18<=[1]Разряды!$J$31,[1]Разряды!$J$3,"б/р")))))))) -> кмс | K18: 9+5 | L18: =IF(B18=0," ",VLOOKUP($B18,[1]Женщины!$B$1:$H$65536,7,FALSE)) -> Родионова А.И., Безиков М.В.
A19: 9 | B19: 230 | C19: =IF(B19=0," ",VLOOKUP(B19,[1]Женщины!B$1:H$65536,2,FALSE)) -> Девяткина Ксения | D19: =IF(B19=0," ",VLOOKUP($B19,[1]Женщины!$B$1:$H$65536,3,FALSE)) -> 17.08.1998 | E19: =IF(B19=0," ",IF(VLOOKUP($B19,[1]Женщины!$B$1:$H$65536,4,FALSE)=0," ",VLOOKUP($B19,[1]Женщины!$B$1:$H$65536,4,FALSE))) -> КМС | F19: =IF(B19=0," ",VLOOKUP($B19,[1]Женщины!$B$1:$H$65536,5,FALSE)) -> Пензенская область | G19: =IF(B19=0," ",VLOOKUP($B19,[1]Женщины!$B$1:$H$65536,6,FALSE)) -> Пенза, ПензГТУ | H19: 0.0002994213 | J19: =IF(H19=0," ",IF(H19<=[1]Разряды!$D$31,[1]Разряды!$D$3,IF(H19<=[1]Разряды!$E$31,[1]Разряды!$E$3,IF(H19<=[1]Разряды!$F$31,[1]Разряды!$F$3,IF(H19<=[1]Разряды!$G$31,[1]Разряды!$G$3,IF(H19<=[1]Разряды!$H$31,[1]Разряды!$H$3,IF(H19<=[1]Разряды!$I$31,[1]Разряды!$I$3,IF(H19<=[1]Разряды!$J$31,[1]Разряды!$J$3,"б/р")))))))) -> 1р | K19: 8 | L19: =IF(B19=0," ",VLOOKUP($B19,[1]Женщины!$B$1:$H$65536,7,FALSE)) -> Гарынов А.А.
A20: 10 | B20: 5 | C20: =IF(B20=0," ",VLOOKUP(B20,[1]Женщины!B$1:H$65536,2,FALSE)) -> Титаева Кристина | D20: =IF(B20=0," ",VLOOKUP($B20,[1]Женщины!$B$1:$H$65536,3,FALSE)) -> 22.01.2001 | E20: =IF(B20=0," ",IF(VLOOKUP($B20,[1]Женщины!$B$1:$H$65536,4,FALSE)=0," ",VLOOKUP($B20,[1]Женщины!$B$1:$H$65536,4,FALSE))) -> КМС | F20: =IF(B20=0," ",VLOOKUP($B20,[1]Женщины!$B$1:$H$65536,5,FALSE)) -> Сахалинская область | G20: =IF(B20=0," ",VLOOKUP($B20,[1]Женщины!$B$1:$H$65536,6,FALSE)) -> СахГУ | H20: 0.00029976852 | J20: =IF(H20=0," ",IF(H20<=[1]Разряды!$D$31,[1]Разряды!$D$3,IF(H20<=[1]Разряды!$E$31,[1]Разряды!$E$3,IF(H20<=[1]Разряды!$F$31,[1]Разряды!$F$3,IF(H20<=[1]Разряды!$G$31,[1]Разряды!$G$3,IF(H20<=[1]Разряды!$H$31,[1]Разряды!$H$3,IF(H20<=[1]Разряды!$I$31,[1]Разряды!$I$3,IF(H20<=[1]Разряды!$J$31,[1]Разряды!$J$3,"б/р")))))))) -> 1р | K20: 7 | L20: =IF(B20=0," ",VLOOKUP($B20,[1]Женщины!$B$1:$H$65536,7,FALSE)) -> Жижикин А.Н.
A21: 11 | B21: 159 | C21: =IF(B21=0," ",VLOOKUP(B21,[1]Женщины!B$1:H$65536,2,FALSE)) -> Запорожченко Елизавета | D21: =IF(B21=0," ",VLOOKUP($B21,[1]Женщины!$B$1:$H$65536,3,FALSE)) -> 12.01.2001 | E21: =IF(B21=0," ",IF(VLOOKUP($B21,[1]Женщины!$B$1:$H$65536,4,FALSE)=0," ",VLOOKUP($B21,[1]Женщины!$B$1:$H$65536,4,FALSE))) -> КМС | F21: =IF(B21=0," ",VLOOKUP($B21,[1]Женщины!$B$1:$H$65536,5,FALSE)) -> Тамбовская область | G21: =IF(B21=0," ",VLOOKUP($B21,[1]Женщины!$B$1:$H$65536,6,FALSE)) -> Тамбов, ТГУ им. Г.Р. Державина | H21: 0.0003 | J21: =IF(H21=0," ",IF(H21<=[1]Разряды!$D$31,[1]Разряды!$D$3,IF(H21<=[1]Разряды!$E$31,[1]Разряды!$E$3,IF(H21<=[1]Разряды!$F$31,[1]Разряды!$F$3,IF(H21<=[1]Разряды!$G$31,[1]Разряды!$G$3,IF(H21<=[1]Разряды!$H$31,[1]Разряды!$H$3,IF(H21<=[1]Разряды!$I$31,[1]Разряды!$I$3,IF(H21<=[1]Разряды!$J$31,[1]Разряды!$J$3,"б/р")))))))) -> 1р | K21: 6 | L21: =IF(B21=0," ",VLOOKUP($B21,[1]Женщины!$B$1:$H$65536,7,FALSE)) -> Иванов А.Н.
A22: 12 | B22: 52 | C22: =IF(B22=0," ",VLOOKUP(B22,[1]Женщины!B$1:H$65536,2,FALSE)) -> Рыкова Екатерина | D22: =IF(B22=0," ",VLOOKUP($B22,[1]Женщины!$B$1:$H$65536,3,FALSE)) -> 29.03.2000 | E22: =IF(B22=0," ",IF(VLOOKUP($B22,[1]Женщины!$B$1:$H$65536,4,FALSE)=0," ",VLOOKUP($B22,[1]Женщины!$B$1:$H$65536,4,FALSE))) -> КМС | F22: =IF(B22=0," ",VLOOKUP($B22,[1]Женщины!$B$1:$H$65536,5,FALSE)) -> Удмуртская Республика | G22: =IF(B22=0," ",VLOOKUP($B22,[1]Женщины!$B$1:$H$65536,6,FALSE)) -> Ижевск, УдГУ | H22: 0.00030069444 | J22: =IF(H22=0," ",IF(H22<=[1]Разряды!$D$31,[1]Разряды!$D$3,IF(H22<=[1]Разряды!$E$31,[1]Разряды!$E$3,IF(H22<=[1]Разряды!$F$31,[1]Разряды!$F$3,IF(H22<=[1]Разряды!$G$31,[1]Разряды!$G$3,IF(H22<=[1]Разряды!$H$31,[1]Разряды!$H$3,IF(H22<=[1]Разряды!$I$31,[1]Разряды!$I$3,IF(H22<=[1]Разряды!$J$31,[1]Разряды!$J$3,"б/р")))))))) -> 1р | K22: 5 | L22: =IF(B22=0," ",VLOOKUP($B22,[1]Женщины!$B$1:$H$65536,7,FALSE)) -> Феофилактов Н.З.
A23: 13 | B23: 291 | C23: =IF(B23=0," ",VLOOKUP(B23,[1]Женщины!B$1:H$65536,2,FALSE)) -> Логина Татьяна | D23: =IF(B23=0," ",VLOOKUP($B23,[1]Женщины!$B$1:$H$65536,3,FALSE)) -> 31.01.1998 | E23: =IF(B23=0," ",IF(VLOOKUP($B23,[1]Женщины!$B$1:$H$65536,4,FALSE)=0," ",VLOOKUP($B23,[1]Женщины!$B$1:$H$65536,4,FALSE))) -> КМС | F23: =IF(B23=0," ",VLOOKUP($B23,[1]Женщины!$B$1:$H$65536,5,FALSE)) -> Нижегородская область | G23: =IF(B23=0," ",VLOOKUP($B23,[1]Женщины!$B$1:$H$65536,6,FALSE)) -> Нижний Новгород, ННГУ им. Н.И. Лобачевского | H23: 0.00030170139 | J23: =IF(H23=0," ",IF(H23<=[1]Разряды!$D$31,[1]Разряды!$D$3,IF(H23<=[1]Разряды!$E$31,[1]Разряды!$E$3,IF(H23<=[1]Разряды!$F$31,[1]Разряды!$F$3,IF(H23<=[1]Разряды!$G$31,[1]Разряды!$G$3,IF(H23<=[1]Разряды!$H$31,[1]Разряды!$H$3,IF(H23<=[1]Разряды!$I$31,[1]Разряды!$I$3,IF(H23<=[1]Разряды!$J$31,[1]Разряды!$J$3,"б/р")))))))) -> 1р | K23: 4 | L23: =IF(B23=0," ",VLOOKUP($B23,[1]Женщины!$B$1:$H$65536,7,FALSE)) -> Герасимов А.В.
A24: 14 | B24: 33 | C24: =IF(B24=0," ",VLOOKUP(B24,[1]Женщины!B$1:H$65536,2,FALSE)) -> Гроза Анна | D24: =IF(B24=0," ",VLOOKUP($B24,[1]Женщины!$B$1:$H$65536,3,FALSE)) -> 17.12.1996 | E24: =IF(B24=0," ",IF(VLOOKUP($B24,[1]Женщины!$B$1:$H$65536,4,FALSE)=0," ",VLOOKUP($B24,[1]Женщины!$B$1:$H$65536,4,FALSE))) -> КМС | F24: =IF(B24=0," ",VLOOKUP($B24,[1]Женщины!$B$1:$H$65536,5,FALSE)) -> Красноярский край | G24: =IF(B24=0," ",VLOOKUP($B24,[1]Женщины!$B$1:$H$65536,6,FALSE)) -> Красноярск, СФУ | H24: 0.00030172454 | J24: =IF(H24=0," ",IF(H24<=[1]Разряды!$D$31,[1]Разряды!$D$3,IF(H24<=[1]Разряды!$E$31,[1]Разряды!$E$3,IF(H24<=[1]Разряды!$F$31,[1]Разряды!$F$3,IF(H24<=[1]Разряды!$G$31,[1]Разряды!$G$3,IF(H24<=[1]Разряды!$H$31,[1]Разряды!$H$3,IF(H24<=[1]Разряды!$I$31,[1]Разряды!$I$3,IF(H24<=[1]Разряды!$J$31,[1]Разряды!$J$3,"б/р")))))))) -> 1р | K24: 3 | L24: =IF(B24=0," ",VLOOKUP($B24,[1]Женщины!$B$1:$H$65536,7,FALSE)) -> Федоров В.И.
A25: 15 | B25: 85 | C25: =IF(B25=0," ",VLOOKUP(B25,[1]Женщины!B$1:H$65536,2,FALSE)) -> Рудниченко Анастасия | D25: =IF(B25=0," ",VLOOKUP($B25,[1]Женщины!$B$1:$H$65536,3,FALSE)) -> 28.12.1998 | E25: =IF(B25=0," ",IF(VLOOKUP($B25,[1]Женщины!$B$1:$H$65536,4,FALSE)=0," ",VLOOKUP($B25,[1]Женщины!$B$1:$H$65536,4,FALSE))) -> 1р | F25: =IF(B25=0," ",VLOOKUP($B25,[1]Женщины!$B$1:$H$65536,5,FALSE)) -> Самарская область | G25: =IF(B25=0," ",VLOOKUP($B25,[1]Женщины!$B$1:$H$65536,6,FALSE)) -> Самара, СГЭУ | H25: 0.00030185185 | J25: =IF(H25=0," ",IF(H25<=[1]Разряды!$D$31,[1]Разряды!$D$3,IF(H25<=[1]Разряды!$E$31,[1]Разряды!$E$3,IF(H25<=[1]Разряды!$F$31,[1]Разряды!$F$3,IF(H25<=[1]Разряды!$G$31,[1]Разряды!$G$3,IF(H25<=[1]Разряды!$H$31,[1]Разряды!$H$3,IF(H25<=[1]Разряды!$I$31,[1]Разряды!$I$3,IF(H25<=[1]Разряды!$J$31,[1]Разряды!$J$3,"б/р")))))))) -> 1р | K25: 2 | L25: =IF(B25=0," ",VLOOKUP($B25,[1]Женщины!$B$1:$H$65536,7,FALSE)) -> Смирнова У.В.
A26: 16 | B26: 53 | C26: =IF(B26=0," ",VLOOKUP(B26,[1]Женщины!B$1:H$65536,2,FALSE)) -> Голубина Светлана | D26: =IF(B26=0," ",VLOOKUP($B26,[1]Женщины!$B$1:$H$65536,3,FALSE)) -> 30.11.1997 | E26: =IF(B26=0," ",IF(VLOOKUP($B26,[1]Женщины!$B$1:$H$65536,4,FALSE)=0," ",VLOOKUP($B26,[1]Женщины!$B$1:$H$65536,4,FALSE))) -> КМС | F26: =IF(B26=0," ",VLOOKUP($B26,[1]Женщины!$B$1:$H$65536,5,FALSE)) -> Удмуртская Республика | G26: =IF(B26=0," ",VLOOKUP($B26,[1]Женщины!$B$1:$H$65536,6,FALSE)) -> Ижевск, УдГУ | H26: 0.0003025463 | J26: =IF(H26=0," ",IF(H26<=[1]Разряды!$D$31,[1]Разряды!$D$3,IF(H26<=[1]Разряды!$E$31,[1]Разряды!$E$3,IF(H26<=[1]Разряды!$F$31,[1]Разряды!$F$3,IF(H26<=[1]Разряды!$G$31,[1]Разряды!$G$3,IF(H26<=[1]Разряды!$H$31,[1]Разряды!$H$3,IF(H26<=[1]Разряды!$I$31,[1]Разряды!$I$3,IF(H26<=[1]Разряды!$J$31,[1]Разряды!$J$3,"б/р")))))))) -> 1р | K26: 1 | L26: =IF(B26=0," ",VLOOKUP($B26,[1]Женщины!$B$1:$H$65536,7,FALSE)) -> Феофилактов Н.З.,Шибанова С.А.
A27: 17 | B27: 232 | C27: =IF(B27=0," ",VLOOKUP(B27,[1]Женщины!B$1:H$65536,2,FALSE)) -> Новомлинская Алина | D27: =IF(B27=0," ",VLOOKUP($B27,[1]Женщины!$B$1:$H$65536,3,FALSE)) -> 28.02.2000 | E27: =IF(B27=0," ",IF(VLOOKUP($B27,[1]Женщины!$B$1:$H$65536,4,FALSE)=0," ",VLOOKUP($B27,[1]Женщины!$B$1:$H$65536,4,FALSE))) -> 1р | F27: =IF(B27=0," ",VLOOKUP($B27,[1]Женщины!$B$1:$H$65536,5,FALSE)) -> Новгородская область | G27: =IF(B27=0," ",VLOOKUP($B27,[1]Женщины!$B$1:$H$65536,6,FALSE)) -> Великий Новгород, НовГУ им. Ярослава Мудрого | H27: 0.00030393519 | J27: =IF(H27=0," ",IF(H27<=[1]Разряды!$D$31,[1]Разряды!$D$3,IF(H27<=[1]Разряды!$E$31,[1]Разряды!$E$3,IF(H27<=[1]Разряды!$F$31,[1]Разряды!$F$3,IF(H27<=[1]Разряды!$G$31,[1]Разряды!$G$3,IF(H27<=[1]Разряды!$H$31,[1]Разряды!$H$3,IF(H27<=[1]Разряды!$I$31,[1]Разряды!$I$3,IF(H27<=[1]Разряды!$J$31,[1]Разряды!$J$3,"б/р")))))))) -> 1р | K27: 1 | L27: =IF(B27=0," ",VLOOKUP($B27,[1]Женщины!$B$1:$H$65536,7,FALSE)) -> Савенков П.А.
A28: 18 | B28: 286 | C28: =IF(B28=0," ",VLOOKUP(B28,[1]Женщины!B$1:H$65536,2,FALSE)) -> Циплакова Надежда | D28: =IF(B28=0," ",VLOOKUP($B28,[1]Женщины!$B$1:$H$65536,3,FALSE)) -> 23.08.1995 | E28: =IF(B28=0," ",IF(VLOOKUP($B28,[1]Женщины!$B$1:$H$65536,4,FALSE)=0," ",VLOOKUP($B28,[1]Женщины!$B$1:$H$65536,4,FALSE))) -> КМС | F28: =IF(B28=0," ",VLOOKUP($B28,[1]Женщины!$B$1:$H$65536,5,FALSE)) -> Архангельская область | G28: =IF(B28=0," ",VLOOKUP($B28,[1]Женщины!$B$1:$H$65536,6,FALSE)) -> Архангельск, САФУ им. М.В. Ломоносова | H28: 0.00030555556 | J28: =IF(H28=0," ",IF(H28<=[1]Разряды!$D$31,[1]Разряды!$D$3,IF(H28<=[1]Разряды!$E$31,[1]Разряды!$E$3,IF(H28<=[1]Разряды!$F$31,[1]Разряды!$F$3,IF(H28<=[1]Разряды!$G$31,[1]Разряды!$G$3,IF(H28<=[1]Разряды!$H$31,[1]Разряды!$H$3,IF(H28<=[1]Разряды!$I$31,[1]Разряды!$I$3,IF(H28<=[1]Разряды!$J$31,[1]Разряды!$J$3,"б/р")))))))) -> 1р | K28: 1 | L28: =IF(B28=0," ",VLOOKUP($B28,[1]Женщины!$B$1:$H$65536,7,FALSE)) -> Мингалев А.Ю., Мингалева А.Г.
A29: 19 | B29: 237 | C29: =IF(B29=0," ",VLOOKUP(B29,[1]Женщины!B$1:H$65536,2,FALSE)) -> Машковцева Вероника | D29: =IF(B29=0," ",VLOOKUP($B29,[1]Женщины!$B$1:$H$65536,3,FALSE)) -> 06.12.1999 | E29: =IF(B29=0," ",IF(VLOOKUP($B29,[1]Женщины!$B$1:$H$65536,4,FALSE)=0," ",VLOOKUP($B29,[1]Женщины!$B$1:$H$65536,4,FALSE))) -> КМС | F29: =IF(B29=0," ",VLOOKUP($B29,[1]Женщины!$B$1:$H$65536,5,FALSE)) -> Удмуртская Республика | G29: =IF(B29=0," ",VLOOKUP($B29,[1]Женщины!$B$1:$H$65536,6,FALSE)) -> Ижевск, УдГУ | H29: 0.0003056713 | J29: =IF(H29=0," ",IF(H29<=[1]Разряды!$D$31,[1]Разряды!$D$3,IF(H29<=[1]Разряды!$E$31,[1]Разряды!$E$3,IF(H29<=[1]Разряды!$F$31,[1]Разряды!$F$3,IF(H29<=[1]Разряды!$G$31,[1]Разряды!$G$3,IF(H29<=[1]Разряды!$H$31,[1]Разряды!$H$3,IF(H29<=[1]Разряды!$I$31,[1]Разряды!$I$3,IF(H29<=[1]Разряды!$J$31,[1]Разряды!$J$3,"б/р")))))))) -> 1р | K29: 1 | L29: =IF(B29=0," ",VLOOKUP($B29,[1]Женщины!$B$1:$H$65536,7,FALSE)) -> Феофилактов Н.З.
A30: 20 | B30: 48 | C30: =IF(B30=0," ",VLOOKUP(B30,[1]Женщины!B$1:H$65536,2,FALSE)) -> Бойчук Ирина | D30: =IF(B30=0," ",VLOOKUP($B30,[1]Женщины!$B$1:$H$65536,3,FALSE)) -> 16.07.2000 | E30: =IF(B30=0," ",IF(VLOOKUP($B30,[1]Женщины!$B$1:$H$65536,4,FALSE)=0," ",VLOOKUP($B30,[1]Женщины!$B$1:$H$65536,4,FALSE))) -> КМС | F30: =IF(B30=0," ",VLOOKUP($B30,[1]Женщины!$B$1:$H$65536,5,FALSE)) -> Новгородская область | G30: =IF(B30=0," ",VLOOKUP($B30,[1]Женщины!$B$1:$H$65536,6,FALSE)) -> Великий Новгород, НовГУ им. Ярослава Мудрого | H30: 0.00030671296 | J30: =IF(H30=0," ",IF(H30<=[1]Разряды!$D$31,[1]Разряды!$D$3,IF(H30<=[1]Разряды!$E$31,[1]Разряды!$E$3,IF(H30<=[1]Разряды!$F$31,[1]Разряды!$F$3,IF(H30<=[1]Разряды!$G$31,[1]Разряды!$G$3,IF(H30<=[1]Разряды!$H$31,[1]Разряды!$H$3,IF(H30<=[1]Разряды!$I$31,[1]Разряды!$I$3,IF(H30<=[1]Разряды!$J$31,[1]Разряды!$J$3,"б/р")))))))) -> 1р | K30: 1 | L30: =IF(B30=0," ",VLOOKUP($B30,[1]Женщины!$B$1:$H$65536,7,FALSE)) -> Савенков П.А.
... A62: 52 | B62: 16 | C62: =IF(B62=0," ",VLOOKUP(B62,[1]Женщины!B$1:H$65536,2,FALSE)) -> Шуберт Эрика | D62: =IF(B62=0," ",VLOOKUP($B62,[1]Женщины!$B$1:$H$65536,3,FALSE)) -> 27.11.1999 | E62: =IF(B62=0," ",IF(VLOOKUP($B62,[1]Женщины!$B$1:$H$65536,4,FALSE)=0," ",VLOOKUP($B62,[1]Женщины!$B$1:$H$65536,4,FALSE))) -> 1р | F62: =IF(B62=0," ",VLOOKUP($B62,[1]Женщины!$B$1:$H$65536,5,FALSE)) -> Калининградская область | G62: =IF(B62=0," ",VLOOKUP($B62,[1]Женщины!$B$1:$H$65536,6,FALSE)) -> Калининград, КГТУ-БГАРФ | H62: 0.00034456019 | J62: =IF(H62=0," ",IF(H62<=[1]Разряды!$D$31,[1]Разряды!$D$3,IF(H62<=[1]Разряды!$E$31,[1]Разряды!$E$3,IF(H62<=[1]Разряды!$F$31,[1]Разряды!$F$3,IF(H62<=[1]Разряды!$G$31,[1]Разряды!$G$3,IF(H62<=[1]Разряды!$H$31,[1]Разряды!$H$3,IF(H62<=[1]Разряды!$I$31,[1]Разряды!$I$3,IF(H62<=[1]Разряды!$J$31,[1]Разряды!$J$3,"б/р")))))))) -> 3р | K62: 0 | L62: =IF(B62=0," ",VLOOKUP($B62,[1]Женщины!$B$1:$H$65536,7,FALSE)) -> 0
B63: 355 | C63: =IF(B63=0," ",VLOOKUP(B63,[1]Женщины!B$1:H$65536,2,FALSE)) -> Потапова Елизавета | D63: =IF(B63=0," ",VLOOKUP($B63,[1]Женщины!$B$1:$H$65536,3,FALSE)) -> 24.11.2000 | E63: =IF(B63=0," ",IF(VLOOKUP($B63,[1]Женщины!$B$1:$H$65536,4,FALSE)=0," ",VLOOKUP($B63,[1]Женщины!$B$1:$H$65536,4,FALSE))) -> КМС | F63: =IF(B63=0," ",VLOOKUP($B63,[1]Женщины!$B$1:$H$65536,5,FALSE)) -> Пензенская область | G63: =IF(B63=0," ",VLOOKUP($B63,[1]Женщины!$B$1:$H$65536,6,FALSE)) -> Пенза, ПензГУ | H63: DQ п.п. 162.7 | K63: 0 | L63: =IF(B63=0," ",VLOOKUP($B63,[1]Женщины!$B$1:$H$65536,7,FALSE)) -> Красковы Р.Б., К.И.
B64: 353 | C64: =IF(B64=0," ",VLOOKUP(B64,[1]Женщины!B$1:H$65536,2,FALSE)) -> Наумова Юлия | D64: =IF(B64=0," ",VLOOKUP($B64,[1]Женщины!$B$1:$H$65536,3,FALSE)) -> 10.06.1999 | E64: =IF(B64=0," ",IF(VLOOKUP($B64,[1]Женщины!$B$1:$H$65536,4,FALSE)=0," ",VLOOKUP($B64,[1]Женщины!$B$1:$H$65536,4,FALSE))) -> КМС | F64: =IF(B64=0," ",VLOOKUP($B64,[1]Женщины!$B$1:$H$65536,5,FALSE)) -> Пензенская область | G64: =IF(B64=0," ",VLOOKUP($B64,[1]Женщины!$B$1:$H$65536,6,FALSE)) -> Пенза, ПензГУ | H64: DQ п.п. 162.7 | K64: 0 | L64: =IF(B64=0," ",VLOOKUP($B64,[1]Женщины!$B$1:$H$65536,7,FALSE)) -> Красковы Р.Б., К.И.
B65: 97 | C65: =IF(B65=0," ",VLOOKUP(B65,[1]Женщины!B$1:H$65536,2,FALSE)) -> Некрасова Татьяна | D65: =IF(B65=0," ",VLOOKUP($B65,[1]Женщины!$B$1:$H$65536,3,FALSE)) -> 25.04.1994 | E65: =IF(B65=0," ",IF(VLOOKUP($B65,[1]Женщины!$B$1:$H$65536,4,FALSE)=0," ",VLOOKUP($B65,[1]Женщины!$B$1:$H$65536,4,FALSE))) -> МС | F65: =IF(B65=0," ",VLOOKUP($B65,[1]Женщины!$B$1:$H$65536,5,FALSE)) -> Ивановская область | G65: =IF(B65=0," ",VLOOKUP($B65,[1]Женщины!$B$1:$H$65536,6,FALSE)) -> Шуя, ШФ ИвГУ | H65: r|med | K65: 0 | L65: =IF(B65=0," ",VLOOKUP($B65,[1]Женщины!$B$1:$H$65536,7,FALSE)) -> Магницкий М.В.
B66: 36 | C66: =IF(B66=0," ",VLOOKUP(B66,[1]Женщины!B$1:H$65536,2,FALSE)) -> Тригуб Виктория | D66: =IF(B66=0," ",VLOOKUP($B66,[1]Женщины!$B$1:$H$65536,3,FALSE)) -> 01.11.1999 | E66: =IF(B66=0," ",IF(VLOOKUP($B66,[1]Женщины!$B$1:$H$65536,4,FALSE)=0," ",VLOOKUP($B66,[1]Женщины!$B$1:$H$65536,4,FALSE))) -> 1р | F66: =IF(B66=0," ",VLOOKUP($B66,[1]Женщины!$B$1:$H$65536,5,FALSE)) -> Красноярский край | G66: =IF(B66=0," ",VLOOKUP($B66,[1]Женщины!$B$1:$H$65536,6,FALSE)) -> Красноярск, СФУ | H66: r|med | K66: 0 | L66: =IF(B66=0," ",VLOOKUP($B66,[1]Женщины!$B$1:$H$65536,7,FALSE)) -> Федоров В.И.
B67: 86 | C67: =IF(B67=0," ",VLOOKUP(B67,[1]Женщины!B$1:H$65536,2,FALSE)) -> Симонова Анна | D67: =IF(B67=0," ",VLOOKUP($B67,[1]Женщины!$B$1:$H$65536,3,FALSE)) -> 24.12.2000 | E67: =IF(B67=0," ",IF(VLOOKUP($B67,[1]Женщины!$B$1:$H$65536,4,FALSE)=0," ",VLOOKUP($B67,[1]Женщины!$B$1:$H$65536,4,FALSE))) -> КМС | F67: =IF(B67=0," ",VLOOKUP($B67,[1]Женщины!$B$1:$H$65536,5,FALSE)) -> Москва | G67: =IF(B67=0," ",VLOOKUP($B67,[1]Женщины!$B$1:$H$65536,6,FALSE)) -> Москва, МГУ им. М.В. Ломоносова | H67: r|med | K67: 0 | L67: =IF(B67=0," ",VLOOKUP($B67,[1]Женщины!$B$1:$H$65536,7,FALSE)) -> Привалова И.А.
B68: 17 | C68: =IF(B68=0," ",VLOOKUP(B68,[1]Женщины!B$1:H$65536,2,FALSE)) -> Нилова Екатерина | D68: =IF(B68=0," ",VLOOKUP($B68,[1]Женщины!$B$1:$H$65536,3,FALSE)) -> 19.07.1999 | E68: =IF(B68=0," ",IF(VLOOKUP($B68,[1]Женщины!$B$1:$H$65536,4,FALSE)=0," ",VLOOKUP($B68,[1]Женщины!$B$1:$H$65536,4,FALSE))) -> КМС | F68: =IF(B68=0," ",VLOOKUP($B68,[1]Женщины!$B$1:$H$65536,5,FALSE)) -> Москва | G68: =IF(B68=0," ",VLOOKUP($B68,[1]Женщины!$B$1:$H$65536,6,FALSE)) -> Москва, РГУФКСМиТ (ГЦОЛИФК) | H68: r|med | K68: 0 | L68: =IF(B68=0," ",VLOOKUP($B68,[1]Женщины!$B$1:$H$65536,7,FALSE)) -> Филатова М.И.
B69: 356 | C69: =IF(B69=0," ",VLOOKUP(B69,[1]Женщины!B$1:H$65536,2,FALSE)) -> Малашина Юлия | D69: =IF(B69=0," ",VLOOKUP($B69,[1]Женщины!$B$1:$H$65536,3,FALSE)) -> 13.02.1997 | E69: =IF(B69=0," ",IF(VLOOKUP($B69,[1]Женщины!$B$1:$H$65536,4,FALSE)=0," ",VLOOKUP($B69,[1]Женщины!$B$1:$H$65536,4,FALSE))) -> КМС | F69: =IF(B69=0," ",VLOOKUP($B69,[1]Женщины!$B$1:$H$65536,5,FALSE)) -> Пензенская область | G69: =IF(B69=0," ",VLOOKUP($B69,[1]Женщины!$B$1:$H$65536,6,FALSE)) -> Пенза, ПензГУ | H69: r|med | K69: 0 | L69: =IF(B69=0," ",VLOOKUP($B69,[1]Женщины!$B$1:$H$65536,7,FALSE)) -> Красковы Р.Б., К.И.
B70: 314 | C70: =IF(B70=0," ",VLOOKUP(B70,[1]Женщины!B$1:H$65536,2,FALSE)) -> Эшкинина Ульяна | D70: =IF(B70=0," ",VLOOKUP($B70,[1]Женщины!$B$1:$H$65536,3,FALSE)) -> 13.08.1995 | E70: =IF(B70=0," ",IF(VLOOKUP($B70,[1]Женщины!$B$1:$H$65536,4,FALSE)=0," ",VLOOKUP($B70,[1]Женщины!$B$1:$H$65536,4,FALSE))) -> КМС | F70: =IF(B70=0," ",VLOOKUP($B70,[1]Женщины!$B$1:$H$65536,5,FALSE)) -> Москва | G70: =IF(B70=0," ",VLOOKUP($B70,[1]Женщины!$B$1:$H$65536,6,FALSE)) -> Москва, МГУ им. М.В. Ломоносова | H70: r|med | K70: 0 | L70: =IF(B70=0," ",VLOOKUP($B70,[1]Женщины!$B$1:$H$65536,7,FALSE)) -> Эшкинина
B71: 29 | C71: =IF(B71=0," ",VLOOKUP(B71,[1]Женщины!B$1:H$65536,2,FALSE)) -> Ларёва Ирина | D71: =IF(B71=0," ",VLOOKUP($B71,[1]Женщины!$B$1:$H$65536,3,FALSE)) -> 03.11.2000 | E71: =IF(B71=0," ",IF(VLOOKUP($B71,[1]Женщины!$B$1:$H$65536,4,FALSE)=0," ",VLOOKUP($B71,[1]Женщины!$B$1:$H$65536,4,FALSE))) -> 2р | F71: =IF(B71=0," ",VLOOKUP($B71,[1]Женщины!$B$1:$H$65536,5,FALSE)) -> Ярославская область | G71: =IF(B71=0," ",VLOOKUP($B71,[1]Женщины!$B$1:$H$65536,6,FALSE)) -> Ярославль, ЯрГУ им. П.Г. Демидова | H71: r|med | K71: 0 | L71: =IF(B71=0," ",VLOOKUP($B71,[1]Женщины!$B$1:$H$65536,7,FALSE)) -> Станкевич В.А.
C72: =IF(B72=0," ",VLOOKUP(B72,[1]Женщины!B$1:H$65536,2,FALSE)) | D72: =IF(B72=0," ",VLOOKUP($B72,[1]Женщины!$B$1:$H$65536,3,FALSE)) | E72: =IF(B72=0," ",IF(VLOOKUP($B72,[1]Женщины!$B$1:$H$65536,4,FALSE)=0," ",VLOOKUP($B72,[1]Женщины!$B$1:$H$65536,4,FALSE))) | F72: =IF(B72=0," ",VLOOKUP($B72,[1]Женщины!$B$1:$H$65536,5,FALSE)) | G72: =IF(B72=0," ",VLOOKUP($B72,[1]Женщины!$B$1:$H$65536,6,FALSE)) | L72: =IF(B72=0," ",VLOOKUP($B72,[1]Женщины!$B$1:$H$65536,7,FALSE))
B76: Главный судья, спортивный судья ВК | G76: Хрущев Е.Н., г. Ярославль
B79: Главный секретарь, спортивный судья ВК | G79: Тараканова Ю.Ф., г. Ярославль

Sheet 400ж
A1: Чемпионат Российского студенческого спортивного союза
A2: мужчины и женщины
L3: 27-28 июня 2019 г.
K4: стадион "Шинник"
L5: г. Ярославль
D6: 27.06.2019г. | E6: 0.80208333 | F6: Финальные забеги | H6: ПРОТОКОЛ СОРЕВНОВАНИЙ
C8: Женщины | D8: Бег 400 м
A9: Место | B9: Номер | C9: Фамилия, имя | D9: Дата рожд. | E9: Квал. | F9: Команда | G9: ВУЗ | H9: Результат | J9: Вып. разр. | K9: Очки | L9: Ф.И.О. тренера
H10: фин. забеги
A11: 1 | B11: 173 | C11: =IF(B11=0," ",VLOOKUP(B11,[1]Женщины!B$1:H$65536,2,FALSE)) -> Аникеенко Елизавета | D11: =IF(B11=0," ",VLOOKUP($B11,[1]Женщины!$B$1:$H$65536,3,FALSE)) -> 30.01.1994 | E11: =IF(B11=0," ",IF(VLOOKUP($B11,[1]Женщины!$B$1:$H$65536,4,FALSE)=0," ",VLOOKUP($B11,[1]Женщины!$B$1:$H$65536,4,FALSE))) -> МС | F11: =IF(B11=0," ",VLOOKUP($B11,[1]Женщины!$B$1:$H$65536,5,FALSE)) -> Москва | G11: =IF(B11=0," ",VLOOKUP($B11,[1]Женщины!$B$1:$H$65536,6,FALSE)) -> Москва, РГУФКСМиТ (ГЦОЛИФК) | I11: 0.00063865741 | J11: =IF(I11=0," ",IF(I11<=[1]Разряды!$D$32,[1]Разряды!$D$3,IF(I11<=[1]Разряды!$E$32,[1]Разряды!$E$3,IF(I11<=[1]Разряды!$F$32,[1]Разряды!$F$3,IF(I11<=[1]Разряды!$G$32,[1]Разряды!$G$3,IF(I11<=[1]Разряды!$H$32,[1]Разряды!$H$3,IF(I11<=[1]Разряды!$I$32,[1]Разряды!$I$3,IF(I11<=[1]Разряды!$J$32,[1]Разряды!$J$3,"б/р")))))))) -> кмс | K11: 18+5 | L11: =IF(B11=0," ",VLOOKUP($B11,[1]Женщины!$B$1:$H$65536,7,FALSE)) -> Черемисов Н.Ф.
A12: 2 | B12: 174 | C12: =IF(B12=0," ",VLOOKUP(B12,[1]Женщины!B$1:H$65536,2,FALSE)) -> Вахрушева Екатерина | D12: =IF(B12=0," ",VLOOKUP($B12,[1]Женщины!$B$1:$H$65536,3,FALSE)) -> 06.01.1998 | E12: =IF(B12=0," ",IF(VLOOKUP($B12,[1]Женщины!$B$1:$H$65536,4,FALSE)=0," ",VLOOKUP($B12,[1]Женщины!$B$1:$H$65536,4,FALSE))) -> МС | F12: =IF(B12=0," ",VLOOKUP($B12,[1]Женщины!$B$1:$H$65536,5,FALSE)) -> Москва | G12: =IF(B12=0," ",VLOOKUP($B12,[1]Женщины!$B$1:$H$65536,6,FALSE)) -> Москва, РГУФКСМиТ (ГЦОЛИФК) | I12: 0.00064444444 | J12: =IF(I12=0," ",IF(I12<=[1]Разряды!$D$32,[1]Разряды!$D$3,IF(I12<=[1]Разряды!$E$32,[1]Разряды!$E$3,IF(I12<=[1]Разряды!$F$32,[1]Разряды!$F$3,IF(I12<=[1]Разряды!$G$32,[1]Разряды!$G$3,IF(I12<=[1]Разряды!$H$32,[1]Разряды!$H$3,IF(I12<=[1]Разряды!$I$32,[1]Разряды!$I$3,IF(I12<=[1]Разряды!$J$32,[1]Разряды!$J$3,"б/р")))))))) -> кмс | K12: 15+5 | L12: =IF(B12=0," ",VLOOKUP($B12,[1]Женщины!$B$1:$H$65536,7,FALSE)) -> Горланов И.С., Назарова Н.В., Маслаков В.М., Жуликов Н.М.
A13: 3 | B13: 201 | C13: =IF(B13=0," ",VLOOKUP(B13,[1]Женщины!B$1:H$65536,2,FALSE)) -> Каратаева Ольга | D13: =IF(B13=0," ",VLOOKUP($B13,[1]Женщины!$B$1:$H$65536,3,FALSE)) -> 16.08.1998 | E13: =IF(B13=0," ",IF(VLOOKUP($B13,[1]Женщины!$B$1:$H$65536,4,FALSE)=0," ",VLOOKUP($B13,[1]Женщины!$B$1:$H$65536,4,FALSE))) -> КМС | F13: =IF(B13=0," ",VLOOKUP($B13,[1]Женщины!$B$1:$H$65536,5,FALSE)) -> Красноярский край | G13: =IF(B13=0," ",VLOOKUP($B13,[1]Женщины!$B$1:$H$65536,6,FALSE)) -> Красноярск, СФУ | I13: 0.00064571759 | J13: =IF(I13=0," ",IF(I13<=[1]Разряды!$D$32,[1]Разряды!$D$3,IF(I13<=[1]Разряды!$E$32,[1]Разряды!$E$3,IF(I13<=[1]Разряды!$F$32,[1]Разряды!$F$3,IF(I13<=[1]Разряды!$G$32,[1]Разряды!$G$3,IF(I13<=[1]Разряды!$H$32,[1]Разряды!$H$3,IF(I13<=[1]Разряды!$I$32,[1]Разряды!$I$3,IF(I13<=[1]Разряды!$J$32,[1]Разряды!$J$3,"б/р")))))))) -> кмс | K13: 13+5 | L13: =IF(B13=0," ",VLOOKUP($B13,[1]Женщины!$B$1:$H$65536,7,FALSE)) -> Артемьев П.П., Федоров В.И.
A14: 4 | B14: 314 | C14: =IF(B14=0," ",VLOOKUP(B14,[1]Женщины!B$1:H$65536,2,FALSE)) -> Эшкинина Ульяна | D14: =IF(B14=0," ",VLOOKUP($B14,[1]Женщины!$B$1:$H$65536,3,FALSE)) -> 13.08.1995 | E14: =IF(B14=0," ",IF(VLOOKUP($B14,[1]Женщины!$B$1:$H$65536,4,FALSE)=0," ",VLOOKUP($B14,[1]Женщины!$B$1:$H$65536,4,FALSE))) -> КМС | F14: =IF(B14=0," ",VLOOKUP($B14,[1]Женщины!$B$1:$H$65536,5,FALSE)) -> Москва | G14: =IF(B14=0," ",VLOOKUP($B14,[1]Женщины!$B$1:$H$65536,6,FALSE)) -> Москва, МГУ им. М.В. Ломоносова | I14: 0.00064652778 | J14: =IF(I14=0," ",IF(I14<=[1]Разряды!$D$32,[1]Разряды!$D$3,IF(I14<=[1]Разряды!$E$32,[1]Разряды!$E$3,IF(I14<=[1]Разряды!$F$32,[1]Разряды!$F$3,IF(I14<=[1]Разряды!$G$32,[1]Разряды!$G$3,IF(I14<=[1]Разряды!$H$32,[1]Разряды!$H$3,IF(I14<=[1]Разряды!$I$32,[1]Разряды!$I$3,IF(I14<=[1]Разряды!$J$32,[1]Разряды!$J$3,"б/р")))))))) -> кмс | K14: 12+5 | L14: =IF(B14=0," ",VLOOKUP($B14,[1]Женщины!$B$1:$H$65536,7,FALSE)) -> Эшкинина
A15: 5 | B15: 253 | C15: =IF(B15=0," ",VLOOKUP(B15,[1]Женщины!B$1:H$65536,2,FALSE)) -> Пузик Инна | D15: =IF(B15=0," ",VLOOKUP($B15,[1]Женщины!$B$1:$H$65536,3,FALSE)) -> 22.01.1997 | E15: =IF(B15=0," ",IF(VLOOKUP($B15,[1]Женщины!$B$1:$H$65536,4,FALSE)=0," ",VLOOKUP($B15,[1]Женщины!$B$1:$H$65536,4,FALSE))) -> МС | F15: =IF(B15=0," ",VLOOKUP($B15,[1]Женщины!$B$1:$H$65536,5,FALSE)) -> Республика Татарстан | G15: =IF(B15=0," ",VLOOKUP($B15,[1]Женщины!$B$1:$H$65536,6,FALSE)) -> Казань, ФГБОУ ВО ПГАФКСиТ | I15: 0.00065069444 | J15: =IF(I15=0," ",IF(I15<=[1]Разряды!$D$32,[1]Разряды!$D$3,IF(I15<=[1]Разряды!$E$32,[1]Разряды!$E$3,IF(I15<=[1]Разряды!$F$32,[1]Разряды!$F$3,IF(I15<=[1]Разряды!$G$32,[1]Разряды!$G$3,IF(I15<=[1]Разряды!$H$32,[1]Разряды!$H$3,IF(I15<=[1]Разряды!$I$32,[1]Разряды!$I$3,IF(I15<=[1]Разряды!$J$32,[1]Разряды!$J$3,"б/р")))))))) -> кмс | K15: 11+5 | L15: =IF(B15=0," ",VLOOKUP($B15,[1]Женщины!$B$1:$H$65536,7,FALSE)) -> Пузик О.В., Дударь А.В.
A16: 6 | B16: 230 | C16: =IF(B16=0," ",VLOOKUP(B16,[1]Женщины!B$1:H$65536,2,FALSE)) -> Девяткина Ксения | D16: =IF(B16=0," ",VLOOKUP($B16,[1]Женщины!$B$1:$H$65536,3,FALSE)) -> 17.08.1998 | E16: =IF(B16=0," ",IF(VLOOKUP($B16,[1]Женщины!$B$1:$H$65536,4,FALSE)=0," ",VLOOKUP($B16,[1]Женщины!$B$1:$H$65536,4,FALSE))) -> КМС | F16: =IF(B16=0," ",VLOOKUP($B16,[1]Женщины!$B$1:$H$65536,5,FALSE)) -> Пензенская область | G16: =IF(B16=0," ",VLOOKUP($B16,[1]Женщины!$B$1:$H$65536,6,FALSE)) -> Пенза, ПензГТУ | I16: 0.00065474537 | J16: =IF(I16=0," ",IF(I16<=[1]Разряды!$D$32,[1]Разряды!$D$3,IF(I16<=[1]Разряды!$E$32,[1]Разряды!$E$3,IF(I16<=[1]Разряды!$F$32,[1]Разряды!$F$3,IF(I16<=[1]Разряды!$G$32,[1]Разряды!$G$3,IF(I16<=[1]Разряды!$H$32,[1]Разряды!$H$3,IF(I16<=[1]Разряды!$I$32,[1]Разряды!$I$3,IF(I16<=[1]Разряды!$J$32,[1]Разряды!$J$3,"б/р")))))))) -> кмс | K16: 10+5 | L16: =IF(B16=0," ",VLOOKUP($B16,[1]Женщины!$B$1:$H$65536,7,FALSE)) -> Гарынов А.А.
A17: 7 | B17: 223 | C17: =IF(B17=0," ",VLOOKUP(B17,[1]Женщины!B$1:H$65536,2,FALSE)) -> Цыганова Виктория | D17: =IF(B17=0," ",VLOOKUP($B17,[1]Женщины!$B$1:$H$65536,3,FALSE)) -> 01.07.1997 | E17: =IF(B17=0," ",IF(VLOOKUP($B17,[1]Женщины!$B$1:$H$65536,4,FALSE)=0," ",VLOOKUP($B17,[1]Женщины!$B$1:$H$65536,4,FALSE))) -> КМС | F17: =IF(B17=0," ",VLOOKUP($B17,[1]Женщины!$B$1:$H$65536,5,FALSE)) -> Москва | G17: =IF(B17=0," ",VLOOKUP($B17,[1]Женщины!$B$1:$H$65536,6,FALSE)) -> Москва, РУТ (МИИТ) | I17: 0.00065486111 | J17: =IF(I17=0," ",IF(I17<=[1]Разряды!$D$32,[1]Разряды!$D$3,IF(I17<=[1]Разряды!$E$32,[1]Разряды!$E$3,IF(I17<=[1]Разряды!$F$32,[1]Разряды!$F$3,IF(I17<=[1]Разряды!$G$32,[1]Разряды!$G$3,IF(I17<=[1]Разряды!$H$32,[1]Разряды!$H$3,IF(I17<=[1]Разряды!$I$32,[1]Разряды!$I$3,IF(I17<=[1]Разряды!$J$32,[1]Разряды!$J$3,"б/р")))))))) -> кмс | K17: л | L17: =IF(B17=0," ",VLOOKUP($B17,[1]Женщины!$B$1:$H$65536,7,FALSE)) -> Филатова М.И., Филатова Е.А.
A18: 8 | B18: 310 | C18: =IF(B18=0," ",VLOOKUP(B18,[1]Женщины!B$1:H$65536,2,FALSE)) -> Князева Янита | D18: =IF(B18=0," ",VLOOKUP($B18,[1]Женщины!$B$1:$H$65536,3,FALSE)) -> 23.10.1998 | E18: =IF(B18=0," ",IF(VLOOKUP($B18,[1]Женщины!$B$1:$H$65536,4,FALSE)=0," ",VLOOKUP($B18,[1]Женщины!$B$1:$H$65536,4,FALSE))) -> КМС | F18: =IF(B18=0," ",VLOOKUP($B18,[1]Женщины!$B$1:$H$65536,5,FALSE)) -> Самарская область | G18: =IF(B18=0," ",VLOOKUP($B18,[1]Женщины!$B$1:$H$65536,6,FALSE)) -> Самара, СГСПУ | I18: 0.00065694444 | J18: =IF(I18=0," ",IF(I18<=[1]Разряды!$D$32,[1]Разряды!$D$3,IF(I18<=[1]Разряды!$E$32,[1]Разряды!$E$3,IF(I18<=[1]Разряды!$F$32,[1]Разряды!$F$3,IF(I18<=[1]Разряды!$G$32,[1]Разряды!$G$3,IF(I18<=[1]Разряды!$H$32,[1]Разряды!$H$3,IF(I18<=[1]Разряды!$I$32,[1]Разряды!$I$3,IF(I18<=[1]Разряды!$J$32,[1]Разряды!$J$3,"б/р")))))))) -> кмс | K18: 9+5 | L18: =IF(B18=0," ",VLOOKUP($B18,[1]Женщины!$B$1:$H$65536,7,FALSE)) -> Русанов Н.С., Лобанов А.А.
A19: 9 | B19: 228 | C19: =IF(B19=0," ",VLOOKUP(B19,[1]Женщины!B$1:H$65536,2,FALSE)) -> Волкова Анастасия | D19: =IF(B19=0," ",VLOOKUP($B19,[1]Женщины!$B$1:$H$65536,3,FALSE)) -> 13.06.2000 | E19: =IF(B19=0," ",IF(VLOOKUP($B19,[1]Женщины!$B$1:$H$65536,4,FALSE)=0," ",VLOOKUP($B19,[1]Женщины!$B$1:$H$65536,4,FALSE))) -> КМС | F19: =IF(B19=0," ",VLOOKUP($B19,[1]Женщины!$B$1:$H$65536,5,FALSE)) -> Тульская область | G19: =IF(B19=0," ",VLOOKUP($B19,[1]Женщины!$B$1:$H$65536,6,FALSE)) -> Тула, ТулГУ | I19: 0.00066180556 | J19: =IF(I19=0," ",IF(I19<=[1]Разряды!$D$32,[1]Разряды!$D$3,IF(I19<=[1]Разряды!$E$32,[1]Разряды!$E$3,IF(I19<=[1]Разряды!$F$32,[1]Разряды!$F$3,IF(I19<=[1]Разряды!$G$32,[1]Разряды!$G$3,IF(I19<=[1]Разряды!$H$32,[1]Разряды!$H$3,IF(I19<=[1]Разряды!$I$32,[1]Разряды!$I$3,IF(I19<=[1]Разряды!$J$32,[1]Разряды!$J$3,"б/р")))))))) -> кмс | K19: 8+5 | L19: =IF(B19=0," ",VLOOKUP($B19,[1]Женщины!$B$1:$H$65536,7,FALSE)) -> Ковтун Н.Н.
A20: 10 | B20: 169 | C20: =IF(B20=0," ",VLOOKUP(B20,[1]Женщины!B$1:H$65536,2,FALSE)) -> Черных Арина | D20: =IF(B20=0," ",VLOOKUP($B20,[1]Женщины!$B$1:$H$65536,3,FALSE)) -> 05.10.1998 | E20: =IF(B20=0," ",IF(VLOOKUP($B20,[1]Женщины!$B$1:$H$65536,4,FALSE)=0," ",VLOOKUP($B20,[1]Женщины!$B$1:$H$65536,4,FALSE))) -> КМС | F20: =IF(B20=0," ",VLOOKUP($B20,[1]Женщины!$B$1:$H$65536,5,FALSE)) -> Приморский край | G20: =IF(B20=0," ",VLOOKUP($B20,[1]Женщины!$B$1:$H$65536,6,FALSE)) -> Владивосток, ДВФУ | I20: 0.00066840278 | J20: =IF(I20=0," ",IF(I20<=[1]Разряды!$D$32,[1]Разряды!$D$3,IF(I20<=[1]Разряды!$E$32,[1]Разряды!$E$3,IF(I20<=[1]Разряды!$F$32,[1]Разряды!$F$3,IF(I20<=[1]Разряды!$G$32,[1]Разряды!$G$3,IF(I20<=[1]Разряды!$H$32,[1]Разряды!$H$3,IF(I20<=[1]Разряды!$I$32,[1]Разряды!$I$3,IF(I20<=[1]Разряды!$J$32,[1]Разряды!$J$3,"б/р")))))))) -> 1р | K20: 7 | L20: =IF(B20=0," ",VLOOKUP($B20,[1]Женщины!$B$1:$H$65536,7,FALSE)) -> Анисимов В.Н.
A21: 11 | B21: 353 | C21: =IF(B21=0," ",VLOOKUP(B21,[1]Женщины!B$1:H$65536,2,FALSE)) -> Наумова Юлия | D21: =IF(B21=0," ",VLOOKUP($B21,[1]Женщины!$B$1:$H$65536,3,FALSE)) -> 10.06.1999 | E21: =IF(B21=0," ",IF(VLOOKUP($B21,[1]Женщины!$B$1:$H$65536,4,FALSE)=0," ",VLOOKUP($B21,[1]Женщины!$B$1:$H$65536,4,FALSE))) -> КМС | F21: =IF(B21=0," ",VLOOKUP($B21,[1]Женщины!$B$1:$H$65536,5,FALSE)) -> Пензенская область | G21: =IF(B21=0," ",VLOOKUP($B21,[1]Женщины!$B$1:$H$65536,6,FALSE)) -> Пенза, ПензГУ | I21: 0.00066909722 | J21: =IF(I21=0," ",IF(I21<=[1]Разряды!$D$32,[1]Разряды!$D$3,IF(I21<=[1]Разряды!$E$32,[1]Разряды!$E$3,IF(I21<=[1]Разряды!$F$32,[1]Разряды!$F$3,IF(I21<=[1]Разряды!$G$32,[1]Разряды!$G$3,IF(I21<=[1]Разряды!$H$32,[1]Разряды!$H$3,IF(I21<=[1]Разряды!$I$32,[1]Разряды!$I$3,IF(I21<=[1]Разряды!$J$32,[1]Разряды!$J$3,"б/р")))))))) -> 1р | K21: 6 | L21: =IF(B21=0," ",VLOOKUP($B21,[1]Женщины!$B$1:$H$65536,7,FALSE)) -> Красковы Р.Б., К.И.
A22: 12 | B22: 356 | C22: =IF(B22=0," ",VLOOKUP(B22,[1]Женщины!B$1:H$65536,2,FALSE)) -> Малашина Юлия | D22: =IF(B22=0," ",VLOOKUP($B22,[1]Женщины!$B$1:$H$65536,3,FALSE)) -> 13.02.1997 | E22: =IF(B22=0," ",IF(VLOOKUP($B22,[1]Женщины!$B$1:$H$65536,4,FALSE)=0," ",VLOOKUP($B22,[1]Женщины!$B$1:$H$65536,4,FALSE))) -> КМС | F22: =IF(B22=0," ",VLOOKUP($B22,[1]Женщины!$B$1:$H$65536,5,FALSE)) -> Пензенская область | G22: =IF(B22=0," ",VLOOKUP($B22,[1]Женщины!$B$1:$H$65536,6,FALSE)) -> Пенза, ПензГУ | I22: 0.00066967593 | J22: =IF(I22=0," ",IF(I22<=[1]Разряды!$D$32,[1]Разряды!$D$3,IF(I22<=[1]Разряды!$E$32,[1]Разряды!$E$3,IF(I22<=[1]Разряды!$F$32,[1]Разряды!$F$3,IF(I22<=[1]Разряды!$G$32,[1]Разряды!$G$3,IF(I22<=[1]Разряды!$H$32,[1]Разряды!$H$3,IF(I22<=[1]Разряды!$I$32,[1]Разряды!$I$3,IF(I22<=[1]Разряды!$J$32,[1]Разряды!$J$3,"б/р")))))))) -> 1р | K22: 5 | L22: =IF(B22=0," ",VLOOKUP($B22,[1]Женщины!$B$1:$H$65536,7,FALSE)) -> Красковы Р.Б., К.И.
A23: 13 | B23: 286 | C23: =IF(B23=0," ",VLOOKUP(B23,[1]Женщины!B$1:H$65536,2,FALSE)) -> Циплакова Надежда | D23: =IF(B23=0," ",VLOOKUP($B23,[1]Женщины!$B$1:$H$65536,3,FALSE)) -> 23.08.1995 | E23: =IF(B23=0," ",IF(VLOOKUP($B23,[1]Женщины!$B$1:$H$65536,4,FALSE)=0," ",VLOOKUP($B23,[1]Женщины!$B$1:$H$65536,4,FALSE))) -> КМС | F23: =IF(B23=0," ",VLOOKUP($B23,[1]Женщины!$B$1:$H$65536,5,FALSE)) -> Архангельская область | G23: =IF(B23=0," ",VLOOKUP($B23,[1]Женщины!$B$1:$H$65536,6,FALSE)) -> Архангельск, САФУ им. М.В. Ломоносова | I23: 0.00067094907 | J23: =IF(I23=0," ",IF(I23<=[1]Разряды!$D$32,[1]Разряды!$D$3,IF(I23<=[1]Разряды!$E$32,[1]Разряды!$E$3,IF(I23<=[1]Разряды!$F$32,[1]Разряды!$F$3,IF(I23<=[1]Разряды!$G$32,[1]Разряды!$G$3,IF(I23<=[1]Разряды!$H$32,[1]Разряды!$H$3,IF(I23<=[1]Разряды!$I$32,[1]Разряды!$I$3,IF(I23<=[1]Разряды!$J$32,[1]Разряды!$J$3,"б/р")))))))) -> 1р | K23: 4 | L23: =IF(B23=0," ",VLOOKUP($B23,[1]Женщины!$B$1:$H$65536,7,FALSE)) -> Мингалев А.Ю., Мингалева А.Г.
A24: 14 | B24: 159 | C24: =IF(B24=0," ",VLOOKUP(B24,[1]Женщины!B$1:H$65536,2,FALSE)) -> Запорожченко Елизавета | D24: =IF(B24=0," ",VLOOKUP($B24,[1]Женщины!$B$1:$H$65536,3,FALSE)) -> 12.01.2001 | E24: =IF(B24=0," ",IF(VLOOKUP($B24,[1]Женщины!$B$1:$H$65536,4,FALSE)=0," ",VLOOKUP($B24,[1]Женщины!$B$1:$H$65536,4,FALSE))) -> КМС | F24: =IF(B24=0," ",VLOOKUP($B24,[1]Женщины!$B$1:$H$65536,5,FALSE)) -> Тамбовская область | G24: =IF(B24=0," ",VLOOKUP($B24,[1]Женщины!$B$1:$H$65536,6,FALSE)) -> Тамбов, ТГУ им. Г.Р. Державина | I24: 0.00067210648 | J24: =IF(I24=0," ",IF(I24<=[1]Разряды!$D$32,[1]Разряды!$D$3,IF(I24<=[1]Разряды!$E$32,[1]Разряды!$E$3,IF(I24<=[1]Разряды!$F$32,[1]Разряды!$F$3,IF(I24<=[1]Разряды!$G$32,[1]Разряды!$G$3,IF(I24<=[1]Разряды!$H$32,[1]Разряды!$H$3,IF(I24<=[1]Разряды!$I$32,[1]Разряды!$I$3,IF(I24<=[1]Разряды!$J$32,[1]Разряды!$J$3,"б/р")))))))) -> 1р | K24: 3 | L24: =IF(B24=0," ",VLOOKUP($B24,[1]Женщины!$B$1:$H$65536,7,FALSE)) -> Иванов А.Н.
A25: 15 | B25: 297 | C25: =IF(B25=0," ",VLOOKUP(B25,[1]Женщины!B$1:H$65536,2,FALSE)) -> Бардина Анастасия | D25: =IF(B25=0," ",VLOOKUP($B25,[1]Женщины!$B$1:$H$65536,3,FALSE)) -> 28.03.2000 | E25: =IF(B25=0," ",IF(VLOOKUP($B25,[1]Женщины!$B$1:$H$65536,4,FALSE)=0," ",VLOOKUP($B25,[1]Женщины!$B$1:$H$65536,4,FALSE))) -> КМС | F25: =IF(B25=0," ",VLOOKUP($B25,[1]Женщины!$B$1:$H$65536,5,FALSE)) -> Пермский край | G25: =IF(B25=0," ",VLOOKUP($B25,[1]Женщины!$B$1:$H$65536,6,FALSE)) -> Пермь, ПНИПУ с/к "Политехник" | I25: 0.00067569444 | J25: =IF(I25=0," ",IF(I25<=[1]Разряды!$D$32,[1]Разряды!$D$3,IF(I25<=[1]Разряды!$E$32,[1]Разряды!$E$3,IF(I25<=[1]Разряды!$F$32,[1]Разряды!$F$3,IF(I25<=[1]Разряды!$G$32,[1]Разряды!$G$3,IF(I25<=[1]Разряды!$H$32,[1]Разряды!$H$3,IF(I25<=[1]Разряды!$I$32,[1]Разряды!$I$3,IF(I25<=[1]Разряды!$J$32,[1]Разряды!$J$3,"б/р")))))))) -> 1р | K25: 2 | L25: =IF(B25=0," ",VLOOKUP($B25,[1]Женщины!$B$1:$H$65536,7,FALSE)) -> Гладков В.П.
A26: 16 | B26: 232 | C26: =IF(B26=0," ",VLOOKUP(B26,[1]Женщины!B$1:H$65536,2,FALSE)) -> Новомлинская Алина | D26: =IF(B26=0," ",VLOOKUP($B26,[1]Женщины!$B$1:$H$65536,3,FALSE)) -> 28.02.2000 | E26: =IF(B26=0," ",IF(VLOOKUP($B26,[1]Женщины!$B$1:$H$65536,4,FALSE)=0," ",VLOOKUP($B26,[1]Женщины!$B$1:$H$65536,4,FALSE))) -> 1р | F26: =IF(B26=0," ",VLOOKUP($B26,[1]Женщины!$B$1:$H$65536,5,FALSE)) -> Новгородская область | G26: =IF(B26=0," ",VLOOKUP($B26,[1]Женщины!$B$1:$H$65536,6,FALSE)) -> Великий Новгород, НовГУ им. Ярослава Мудрого | I26: 0.00068159722 | J26: =IF(I26=0," ",IF(I26<=[1]Разряды!$D$32,[1]Разряды!$D$3,IF(I26<=[1]Разряды!$E$32,[1]Разряды!$E$3,IF(I26<=[1]Разряды!$F$32,[1]Разряды!$F$3,IF(I26<=[1]Разряды!$G$32,[1]Разряды!$G$3,IF(I26<=[1]Разряды!$H$32,[1]Разряды!$H$3,IF(I26<=[1]Разряды!$I$32,[1]Разряды!$I$3,IF(I26<=[1]Разряды!$J$32,[1]Разряды!$J$3,"б/р")))))))) -> 1р | K26: 1 | L26: =IF(B26=0," ",VLOOKUP($B26,[1]Женщины!$B$1:$H$65536,7,FALSE)) -> Савенков П.А.
A27: 17 | B27: 291 | C27: =IF(B27=0," ",VLOOKUP(B27,[1]Женщины!B$1:H$65536,2,FALSE)) -> Логина Татьяна | D27: =IF(B27=0," ",VLOOKUP($B27,[1]Женщины!$B$1:$H$65536,3,FALSE)) -> 31.01.1998 | E27: =IF(B27=0," ",IF(VLOOKUP($B27,[1]Женщины!$B$1:$H$65536,4,FALSE)=0," ",VLOOKUP($B27,[1]Женщины!$B$1:$H$65536,4,FALSE))) -> КМС | F27: =IF(B27=0," ",VLOOKUP($B27,[1]Женщины!$B$1:$H$65536,5,FALSE)) -> Нижегородская область | G27: =IF(B27=0," ",VLOOKUP($B27,[1]Женщины!$B$1:$H$65536,6,FALSE)) -> Нижний Новгород, ННГУ им. Н.И. Лобачевского | I27: 0.00068506944 | J27: =IF(I27=0," ",IF(I27<=[1]Разряды!$D$32,[1]Разряды!$D$3,IF(I27<=[1]Разряды!$E$32,[1]Разряды!$E$3,IF(I27<=[1]Разряды!$F$32,[1]Разряды!$F$3,IF(I27<=[1]Разряды!$G$32,[1]Разряды!$G$3,IF(I27<=[1]Разряды!$H$32,[1]Разряды!$H$3,IF(I27<=[1]Разряды!$I$32,[1]Разряды!$I$3,IF(I27<=[1]Разряды!$J$32,[1]Разряды!$J$3,"б/р")))))))) -> 1р | K27: 1 | L27: =IF(B27=0," ",VLOOKUP($B27,[1]Женщины!$B$1:$H$65536,7,FALSE)) -> Герасимов А.В.
A28: 18 | B28: 151 | C28: =IF(B28=0," ",VLOOKUP(B28,[1]Женщины!B$1:H$65536,2,FALSE)) -> Белкина Вера | D28: =IF(B28=0," ",VLOOKUP($B28,[1]Женщины!$B$1:$H$65536,3,FALSE)) -> 27.01.2001 | E28: =IF(B28=0," ",IF(VLOOKUP($B28,[1]Женщины!$B$1:$H$65536,4,FALSE)=0," ",VLOOKUP($B28,[1]Женщины!$B$1:$H$65536,4,FALSE))) -> 1р | F28: =IF(B28=0," ",VLOOKUP($B28,[1]Женщины!$B$1:$H$65536,5,FALSE)) -> Костромская область | G28: =IF(B28=0," ",VLOOKUP($B28,[1]Женщины!$B$1:$H$65536,6,FALSE)) -> Кострома, КГУ | I28: 0.00068599537 | J28: =IF(I28=0," ",IF(I28<=[1]Разряды!$D$32,[1]Разряды!$D$3,IF(I28<=[1]Разряды!$E$32,[1]Разряды!$E$3,IF(I28<=[1]Разряды!$F$32,[1]Разряды!$F$3,IF(I28<=[1]Разряды!$G$32,[1]Разряды!$G$3,IF(I28<=[1]Разряды!$H$32,[1]Разряды!$H$3,IF(I28<=[1]Разряды!$I$32,[1]Разряды!$I$3,IF(I28<=[1]Разряды!$J$32,[1]Разряды!$J$3,"б/р")))))))) -> 1р | K28: 1 | L28: =IF(B28=0," ",VLOOKUP($B28,[1]Женщины!$B$1:$H$65536,7,FALSE)) -> Павлов Е.А.
A29: 19 | B29: 237 | C29: =IF(B29=0," ",VLOOKUP(B29,[1]Женщины!B$1:H$65536,2,FALSE)) -> Машковцева Вероника | D29: =IF(B29=0," ",VLOOKUP($B29,[1]Женщины!$B$1:$H$65536,3,FALSE)) -> 06.12.1999 | E29: =IF(B29=0," ",IF(VLOOKUP($B29,[1]Женщины!$B$1:$H$65536,4,FALSE)=0," ",VLOOKUP($B29,[1]Женщины!$B$1:$H$65536,4,FALSE))) -> КМС | F29: =IF(B29=0," ",VLOOKUP($B29,[1]Женщины!$B$1:$H$65536,5,FALSE)) -> Удмуртская Республика | G29: =IF(B29=0," ",VLOOKUP($B29,[1]Женщины!$B$1:$H$65536,6,FALSE)) -> Ижевск, УдГУ | I29: 0.00068645833 | J29: =IF(I29=0," ",IF(I29<=[1]Разряды!$D$32,[1]Разряды!$D$3,IF(I29<=[1]Разряды!$E$32,[1]Разряды!$E$3,IF(I29<=[1]Разряды!$F$32,[1]Разряды!$F$3,IF(I29<=[1]Разряды!$G$32,[1]Разряды!$G$3,IF(I29<=[1]Разряды!$H$32,[1]Разряды!$H$3,IF(I29<=[1]Разряды!$I$32,[1]Разряды!$I$3,IF(I29<=[1]Разряды!$J$32,[1]Разряды!$J$3,"б/р")))))))) -> 1р | K29: 1 | L29: =IF(B29=0," ",VLOOKUP($B29,[1]Женщины!$B$1:$H$65536,7,FALSE)) -> Феофилактов Н.З.
A30: 20 | B30: 335 | C30: =IF(B30=0," ",VLOOKUP(B30,[1]Женщины!B$1:H$65536,2,FALSE)) -> Габдуллина Дина | D30: =IF(B30=0," ",VLOOKUP($B30,[1]Женщины!$B$1:$H$65536,3,FALSE)) -> 12.03.1995 | E30: =IF(B30=0," ",IF(VLOOKUP($B30,[1]Женщины!$B$1:$H$65536,4,FALSE)=0," ",VLOOKUP($B30,[1]Женщины!$B$1:$H$65536,4,FALSE))) -> КМС | F30: =IF(B30=0," ",VLOOKUP($B30,[1]Женщины!$B$1:$H$65536,5,FALSE)) -> Ивановская область-ЯНАО | G30: =IF(B30=0," ",VLOOKUP($B30,[1]Женщины!$B$1:$H$65536,6,FALSE)) -> Шуя, ШФ ИвГУ | I30: 0.00068668981 | J30: =IF(I30=0," ",IF(I30<=[1]Разряды!$D$32,[1]Разряды!$D$3,IF(I30<=[1]Разряды!$E$32,[1]Разряды!$E$3,IF(I30<=[1]Разряды!$F$32,[1]Разряды!$F$3,IF(I30<=[1]Разряды!$G$32,[1]Разряды!$G$3,IF(I30<=[1]Разряды!$H$32,[1]Разряды!$H$3,IF(I30<=[1]Разряды!$I$32,[1]Разряды!$I$3,IF(I30<=[1]Разряды!$J$32,[1]Разряды!$J$3,"б/р")))))))) -> 1р | K30: 1 | L30: =IF(B30=0," ",VLOOKUP($B30,[1]Женщины!$B$1:$H$65536,7,FALSE)) -> Хромцов Н.Е., Хангельдиев Г.А.
A31: 21 | B31: 308 | C31: =IF(B31=0," ",VLOOKUP(B31,[1]Женщины!B$1:H$65536,2,FALSE)) -> Дмитриева Виктория | D31: =IF(B31=0," ",VLOOKUP($B31,[1]Женщины!$B$1:$H$65536,3,FALSE)) -> 25.11.1999 | E31: =IF(B31=0," ",IF(VLOOKUP($B31,[1]Женщины!$B$1:$H$65536,4,FALSE)=0," ",VLOOKUP($B31,[1]Женщины!$B$1:$H$65536,4,FALSE))) -> КМС | F31: =IF(B31=0," ",VLOOKUP($B31,[1]Женщины!$B$1:$H$65536,5,FALSE)) -> Республика Карелия | G31: =IF(B31=0," ",VLOOKUP($B31,[1]Женщины!$B$1:$H$65536,6,FALSE)) -> Петрозаводск, ПетрГУ | I31: 0.0006880787 | J31: =IF(I31=0," ",IF(I31<=[1]Разряды!$D$32,[1]Разряды!$D$3,IF(I31<=[1]Разряды!$E$32,[1]Разряды!$E$3,IF(I31<=[1]Разряды!$F$32,[1]Разряды!$F$3,IF(I31<=[1]Разряды!$G$32,[1]Разряды!$G$3,IF(I31<=[1]Разряды!$H$32,[1]Разряды!$H$3,IF(I31<=[1]Разряды!$I$32,[1]Разряды!$I$3,IF(I31<=[1]Разряды!$J$32,[1]Разряды!$J$3,"б/р")))))))) -> 1р | K31: 1 | L31: =IF(B31=0," ",VLOOKUP($B31,[1]Женщины!$B$1:$H$65536,7,FALSE)) -> Вологдина Т.П.
... A49: 39 | B49: 168 | C49: =IF(B49=0," ",VLOOKUP(B49,[1]Женщины!B$1:H$65536,2,FALSE)) -> Майстренко Анастасия | D49: =IF(B49=0," ",VLOOKUP($B49,[1]Женщины!$B$1:$H$65536,3,FALSE)) -> 23.09.1998 | E49: =IF(B49=0," ",IF(VLOOKUP($B49,[1]Женщины!$B$1:$H$65536,4,FALSE)=0," ",VLOOKUP($B49,[1]Женщины!$B$1:$H$65536,4,FALSE))) -> 1р | F49: =IF(B49=0," ",VLOOKUP($B49,[1]Женщины!$B$1:$H$65536,5,FALSE)) -> Калининградская область | G49: =IF(B49=0," ",VLOOKUP($B49,[1]Женщины!$B$1:$H$65536,6,FALSE)) -> Калининград, КГТУ-БГАРФ | I49: 0.00077905093 | J49: =IF(I49=0," ",IF(I49<=[1]Разряды!$D$32,[1]Разряды!$D$3,IF(I49<=[1]Разряды!$E$32,[1]Разряды!$E$3,IF(I49<=[1]Разряды!$F$32,[1]Разряды!$F$3,IF(I49<=[1]Разряды!$G$32,[1]Разряды!$G$3,IF(I49<=[1]Разряды!$H$32,[1]Разряды!$H$3,IF(I49<=[1]Разряды!$I$32,[1]Разряды!$I$3,IF(I49<=[1]Разряды!$J$32,[1]Разряды!$J$3,"б/р")))))))) -> 3р | K49: 0 | L49: =IF(B49=0," ",VLOOKUP($B49,[1]Женщины!$B$1:$H$65536,7,FALSE)) -> 0
B54: Главный судья, спортивный судья ВК | G54: Хрущев Е.Н., г. Ярославль
B56: Главный секретарь, спортивный судья ВК | G56: Тараканова Ю.Ф., г. Ярославль

Sheet 800ж
A1: Чемпионат Российского студенческого спортивного союза
A2: мужчины и женщины
L3: 27-28 июня 2019 г.
K4: стадион "Шинник"
L5: г. Ярославль
D6: 28.06.2019г. | E6: 0.53125 | F6: Финальные забеги | H6: ПРОТОКОЛ СОРЕВНОВАНИЙ
C8: Женщины | D8: Бег 800 м
A9: Место | B9: Номер | C9: Фамилия, имя | D9: Дата рожд. | E9: Квал. | F9: Команда | G9: ВУЗ | H9: Результат | J9: Вып. разр. | K9: Очки | L9: Ф.И.О. тренера
H10: фин. забеги
A11: 1 | B11: 335 | C11: =IF(B11=0," ",VLOOKUP(B11,[1]Женщины!B$1:H$65536,2,FALSE)) -> Габдуллина Дина | D11: =IF(B11=0," ",VLOOKUP($B11,[1]Женщины!$B$1:$H$65536,3,FALSE)) -> 12.03.1995 | E11: =IF(B11=0," ",IF(VLOOKUP($B11,[1]Женщины!$B$1:$H$65536,4,FALSE)=0," ",VLOOKUP($B11,[1]Женщины!$B$1:$H$65536,4,FALSE))) -> КМС | F11: =IF(B11=0," ",VLOOKUP($B11,[1]Женщины!$B$1:$H$65536,5,FALSE)) -> Ивановская область-ЯНАО | G11: =IF(B11=0," ",VLOOKUP($B11,[1]Женщины!$B$1:$H$65536,6,FALSE)) -> Шуя, ШФ ИвГУ | I11: 0.001496875 | J11: =IF(I11=0," ",IF(I11<=[1]Разряды!$D$33,[1]Разряды!$D$3,IF(I11<=[1]Разряды!$E$33,[1]Разряды!$E$3,IF(I11<=[1]Разряды!$F$33,[1]Разряды!$F$3,IF(I11<=[1]Разряды!$G$33,[1]Разряды!$G$3,IF(I11<=[1]Разряды!$H$33,[1]Разряды!$H$3,IF(I11<=[1]Разряды!$I$33,[1]Разряды!$I$3,IF(I11<=[1]Разряды!$J$33,[1]Разряды!$J$3,"б/р")))))))) -> кмс | K11: 18+5 | L11: =IF(B11=0," ",VLOOKUP($B11,[1]Женщины!$B$1:$H$65536,7,FALSE)) -> Хромцов Н.Е., Хангельдиев Г.А.
A12: 2 | B12: 131 | C12: =IF(B12=0," ",VLOOKUP(B12,[1]Женщины!B$1:H$65536,2,FALSE)) -> Туктарева Ксения | D12: =IF(B12=0," ",VLOOKUP($B12,[1]Женщины!$B$1:$H$65536,3,FALSE)) -> 11.08.2000 | E12: =IF(B12=0," ",IF(VLOOKUP($B12,[1]Женщины!$B$1:$H$65536,4,FALSE)=0," ",VLOOKUP($B12,[1]Женщины!$B$1:$H$65536,4,FALSE))) -> КМС | F12: =IF(B12=0," ",VLOOKUP($B12,[1]Женщины!$B$1:$H$65536,5,FALSE)) -> Республика Чувашии | G12: =IF(B12=0," ",VLOOKUP($B12,[1]Женщины!$B$1:$H$65536,6,FALSE)) -> Чебоксары, ЧГПУ им. И.Я. Яковлева | I12: 0.0015046296 | J12: =IF(I12=0," ",IF(I12<=[1]Разряды!$D$33,[1]Разряды!$D$3,IF(I12<=[1]Разряды!$E$33,[1]Разряды!$E$3,IF(I12<=[1]Разряды!$F$33,[1]Разряды!$F$3,IF(I12<=[1]Разряды!$G$33,[1]Разряды!$G$3,IF(I12<=[1]Разряды!$H$33,[1]Разряды!$H$3,IF(I12<=[1]Разряды!$I$33,[1]Разряды!$I$3,IF(I12<=[1]Разряды!$J$33,[1]Разряды!$J$3,"б/р")))))))) -> кмс | K12: 15+5 | L12: =IF(B12=0," ",VLOOKUP($B12,[1]Женщины!$B$1:$H$65536,7,FALSE)) -> Волков М.И.
A13: 3 | B13: 331 | C13: =IF(B13=0," ",VLOOKUP(B13,[1]Женщины!B$1:H$65536,2,FALSE)) -> Костылева Ксения | D13: =IF(B13=0," ",VLOOKUP($B13,[1]Женщины!$B$1:$H$65536,3,FALSE)) -> 03.02.1998 | E13: =IF(B13=0," ",IF(VLOOKUP($B13,[1]Женщины!$B$1:$H$65536,4,FALSE)=0," ",VLOOKUP($B13,[1]Женщины!$B$1:$H$65536,4,FALSE))) -> КМС | F13: =IF(B13=0," ",VLOOKUP($B13,[1]Женщины!$B$1:$H$65536,5,FALSE)) -> Челябинская область | G13: =IF(B13=0," ",VLOOKUP($B13,[1]Женщины!$B$1:$H$65536,6,FALSE)) -> Челябинск, УралГУФК | I13: 0.0015200231 | J13: =IF(I13=0," ",IF(I13<=[1]Разряды!$D$33,[1]Разряды!$D$3,IF(I13<=[1]Разряды!$E$33,[1]Разряды!$E$3,IF(I13<=[1]Разряды!$F$33,[1]Разряды!$F$3,IF(I13<=[1]Разряды!$G$33,[1]Разряды!$G$3,IF(I13<=[1]Разряды!$H$33,[1]Разряды!$H$3,IF(I13<=[1]Разряды!$I$33,[1]Разряды!$I$3,IF(I13<=[1]Разряды!$J$33,[1]Разряды!$J$3,"б/р")))))))) -> кмс | K13: 13+5 | L13: =IF(B13=0," ",VLOOKUP($B13,[1]Женщины!$B$1:$H$65536,7,FALSE)) -> Ежов В.Б., Карамашев М.С.
A14: 4 | B14: 351 | C14: =IF(B14=0," ",VLOOKUP(B14,[1]Женщины!B$1:H$65536,2,FALSE)) -> Лукьянова Диана | D14: =IF(B14=0," ",VLOOKUP($B14,[1]Женщины!$B$1:$H$65536,3,FALSE)) -> 18.05.1998 | E14: =IF(B14=0," ",IF(VLOOKUP($B14,[1]Женщины!$B$1:$H$65536,4,FALSE)=0," ",VLOOKUP($B14,[1]Женщины!$B$1:$H$65536,4,FALSE))) -> КМС | F14: =IF(B14=0," ",VLOOKUP($B14,[1]Женщины!$B$1:$H$65536,5,FALSE)) -> Пензенская область | G14: =IF(B14=0," ",VLOOKUP($B14,[1]Женщины!$B$1:$H$65536,6,FALSE)) -> Пенза, ПензГУ | I14: 0.0015439815 | J14: =IF(I14=0," ",IF(I14<=[1]Разряды!$D$33,[1]Разряды!$D$3,IF(I14<=[1]Разряды!$E$33,[1]Разряды!$E$3,IF(I14<=[1]Разряды!$F$33,[1]Разряды!$F$3,IF(I14<=[1]Разряды!$G$33,[1]Разряды!$G$3,IF(I14<=[1]Разряды!$H$33,[1]Разряды!$H$3,IF(I14<=[1]Разряды!$I$33,[1]Разряды!$I$3,IF(I14<=[1]Разряды!$J$33,[1]Разряды!$J$3,"б/р")))))))) -> кмс | K14: 12+5 | L14: =IF(B14=0," ",VLOOKUP($B14,[1]Женщины!$B$1:$H$65536,7,FALSE)) -> Винокуров А.Г.
A15: 5 | B15: 117 | C15: =IF(B15=0," ",VLOOKUP(B15,[1]Женщины!B$1:H$65536,2,FALSE)) -> Яковлева Кристина | D15: =IF(B15=0," ",VLOOKUP($B15,[1]Женщины!$B$1:$H$65536,3,FALSE)) -> 16.12.1999 | E15: =IF(B15=0," ",IF(VLOOKUP($B15,[1]Женщины!$B$1:$H$65536,4,FALSE)=0," ",VLOOKUP($B15,[1]Женщины!$B$1:$H$65536,4,FALSE))) -> КМС | F15: =IF(B15=0," ",VLOOKUP($B15,[1]Женщины!$B$1:$H$65536,5,FALSE)) -> Республика Чувашии | G15: =IF(B15=0," ",VLOOKUP($B15,[1]Женщины!$B$1:$H$65536,6,FALSE)) -> Чебоксары, ЧГПУ им. И.Я. Яковлева | I15: 0.0015456019 | J15: =IF(I15=0," ",IF(I15<=[1]Разряды!$D$33,[1]Разряды!$D$3,IF(I15<=[1]Разряды!$E$33,[1]Разряды!$E$3,IF(I15<=[1]Разряды!$F$33,[1]Разряды!$F$3,IF(I15<=[1]Разряды!$G$33,[1]Разряды!$G$3,IF(I15<=[1]Разряды!$H$33,[1]Разряды!$H$3,IF(I15<=[1]Разряды!$I$33,[1]Разряды!$I$3,IF(I15<=[1]Разряды!$J$33,[1]Разряды!$J$3,"б/р")))))))) -> кмс | K15: 11+5 | L15: =IF(B15=0," ",VLOOKUP($B15,[1]Женщины!$B$1:$H$65536,7,FALSE)) -> Кузнецов М.П.
A16: 6 | B16: 175 | C16: =IF(B16=0," ",VLOOKUP(B16,[1]Женщины!B$1:H$65536,2,FALSE)) -> Самуйлова Екатерина | D16: =IF(B16=0," ",VLOOKUP($B16,[1]Женщины!$B$1:$H$65536,3,FALSE)) -> 05.11.1999 | E16: =IF(B16=0," ",IF(VLOOKUP($B16,[1]Женщины!$B$1:$H$65536,4,FALSE)=0," ",VLOOKUP($B16,[1]Женщины!$B$1:$H$65536,4,FALSE))) -> КМС | F16: =IF(B16=0," ",VLOOKUP($B16,[1]Женщины!$B$1:$H$65536,5,FALSE)) -> Москва | G16: =IF(B16=0," ",VLOOKUP($B16,[1]Женщины!$B$1:$H$65536,6,FALSE)) -> Москва, РГУФКСМиТ (ГЦОЛИФК) | I16: 0.0015469907 | J16: =IF(I16=0," ",IF(I16<=[1]Разряды!$D$33,[1]Разряды!$D$3,IF(I16<=[1]Разряды!$E$33,[1]Разряды!$E$3,IF(I16<=[1]Разряды!$F$33,[1]Разряды!$F$3,IF(I16<=[1]Разряды!$G$33,[1]Разряды!$G$3,IF(I16<=[1]Разряды!$H$33,[1]Разряды!$H$3,IF(I16<=[1]Разряды!$I$33,[1]Разряды!$I$3,IF(I16<=[1]Разряды!$J$33,[1]Разряды!$J$3,"б/р")))))))) -> кмс | K16: 10+5 | L16: =IF(B16=0," ",VLOOKUP($B16,[1]Женщины!$B$1:$H$65536,7,FALSE)) -> Фролова Т.С., Комолов В.А.
A17: 7 | B17: 328 | C17: =IF(B17=0," ",VLOOKUP(B17,[1]Женщины!B$1:H$65536,2,FALSE)) -> Невзорова Александра | D17: =IF(B17=0," ",VLOOKUP($B17,[1]Женщины!$B$1:$H$65536,3,FALSE)) -> 12.06.2000 | E17: =IF(B17=0," ",IF(VLOOKUP($B17,[1]Женщины!$B$1:$H$65536,4,FALSE)=0," ",VLOOKUP($B17,[1]Женщины!$B$1:$H$65536,4,FALSE))) -> КМС | F17: =IF(B17=0," ",VLOOKUP($B17,[1]Женщины!$B$1:$H$65536,5,FALSE)) -> Челябинская область | G17: =IF(B17=0," ",VLOOKUP($B17,[1]Женщины!$B$1:$H$65536,6,FALSE)) -> Челябинск, УралГУФК | I17: 0.0015574074 | J17: =IF(I17=0," ",IF(I17<=[1]Разряды!$D$33,[1]Разряды!$D$3,IF(I17<=[1]Разряды!$E$33,[1]Разряды!$E$3,IF(I17<=[1]Разряды!$F$33,[1]Разряды!$F$3,IF(I17<=[1]Разряды!$G$33,[1]Разряды!$G$3,IF(I17<=[1]Разряды!$H$33,[1]Разряды!$H$3,IF(I17<=[1]Разряды!$I$33,[1]Разряды!$I$3,IF(I17<=[1]Разряды!$J$33,[1]Разряды!$J$3,"б/р")))))))) -> кмс | K17: 9+5 | L17: =IF(B17=0," ",VLOOKUP($B17,[1]Женщины!$B$1:$H$65536,7,FALSE)) -> Митюхов Д.М., Гаврикова Г.В.
A18: 8 | B18: 235 | C18: =IF(B18=0," ",VLOOKUP(B18,[1]Женщины!B$1:H$65536,2,FALSE)) -> Петрова Арина | D18: =IF(B18=0," ",VLOOKUP($B18,[1]Женщины!$B$1:$H$65536,3,FALSE)) -> 25.08.1998 | E18: =IF(B18=0," ",IF(VLOOKUP($B18,[1]Женщины!$B$1:$H$65536,4,FALSE)=0," ",VLOOKUP($B18,[1]Женщины!$B$1:$H$65536,4,FALSE))) -> КМС | F18: =IF(B18=0," ",VLOOKUP($B18,[1]Женщины!$B$1:$H$65536,5,FALSE)) -> Удмуртская Республика | G18: =IF(B18=0," ",VLOOKUP($B18,[1]Женщины!$B$1:$H$65536,6,FALSE)) -> Ижевск, УдГУ | I18: 0.0015672454 | J18: =IF(I18=0," ",IF(I18<=[1]Разряды!$D$33,[1]Разряды!$D$3,IF(I18<=[1]Разряды!$E$33,[1]Разряды!$E$3,IF(I18<=[1]Разряды!$F$33,[1]Разряды!$F$3,IF(I18<=[1]Разряды!$G$33,[1]Разряды!$G$3,IF(I18<=[1]Разряды!$H$33,[1]Разряды!$H$3,IF(I18<=[1]Разряды!$I$33,[1]Разряды!$I$3,IF(I18<=[1]Разряды!$J$33,[1]Разряды!$J$3,"б/р")))))))) -> 1р | K18: 8 | L18: =IF(B18=0," ",VLOOKUP($B18,[1]Женщины!$B$1:$H$65536,7,FALSE)) -> Александров С.Н.
A19: 9 | B19: 116 | C19: =IF(B19=0," ",VLOOKUP(B19,[1]Женщины!B$1:H$65536,2,FALSE)) -> Яковлева Ксения | D19: =IF(B19=0," ",VLOOKUP($B19,[1]Женщины!$B$1:$H$65536,3,FALSE)) -> 16.12.1999 | E19: =IF(B19=0," ",IF(VLOOKUP($B19,[1]Женщины!$B$1:$H$65536,4,FALSE)=0," ",VLOOKUP($B19,[1]Женщины!$B$1:$H$65536,4,FALSE))) -> КМС | F19: =IF(B19=0," ",VLOOKUP($B19,[1]Женщины!$B$1:$H$65536,5,FALSE)) -> Республика Чувашии | G19: =IF(B19=0," ",VLOOKUP($B19,[1]Женщины!$B$1:$H$65536,6,FALSE)) -> Чебоксары, ЧГПУ им. И.Я. Яковлева | I19: 0.0015736111 | J19: =IF(I19=0," ",IF(I19<=[1]Разряды!$D$33,[1]Разряды!$D$3,IF(I19<=[1]Разряды!$E$33,[1]Разряды!$E$3,IF(I19<=[1]Разряды!$F$33,[1]Разряды!$F$3,IF(I19<=[1]Разряды!$G$33,[1]Разряды!$G$3,IF(I19<=[1]Разряды!$H$33,[1]Разряды!$H$3,IF(I19<=[1]Разряды!$I$33,[1]Разряды!$I$3,IF(I19<=[1]Разряды!$J$33,[1]Разряды!$J$3,"б/р")))))))) -> 1р | K19: 7 | L19: =IF(B19=0," ",VLOOKUP($B19,[1]Женщины!$B$1:$H$65536,7,FALSE)) -> Кузнецов М.П.
A20: 10 | B20: 236 | C20: =IF(B20=0," ",VLOOKUP(B20,[1]Женщины!B$1:H$65536,2,FALSE)) -> Пчельникова Юлия | D20: =IF(B20=0," ",VLOOKUP($B20,[1]Женщины!$B$1:$H$65536,3,FALSE)) -> 23.05.1998 | E20: =IF(B20=0," ",IF(VLOOKUP($B20,[1]Женщины!$B$1:$H$65536,4,FALSE)=0," ",VLOOKUP($B20,[1]Женщины!$B$1:$H$65536,4,FALSE))) -> КМС | F20: =IF(B20=0," ",VLOOKUP($B20,[1]Женщины!$B$1:$H$65536,5,FALSE)) -> Удмуртская Республика | G20: =IF(B20=0," ",VLOOKUP($B20,[1]Женщины!$B$1:$H$65536,6,FALSE)) -> Ижевск, УдГУ | I20: 0.0015820602 | J20: =IF(I20=0," ",IF(I20<=[1]Разряды!$D$33,[1]Разряды!$D$3,IF(I20<=[1]Разряды!$E$33,[1]Разряды!$E$3,IF(I20<=[1]Разряды!$F$33,[1]Разряды!$F$3,IF(I20<=[1]Разряды!$G$33,[1]Разряды!$G$3,IF(I20<=[1]Разряды!$H$33,[1]Разряды!$H$3,IF(I20<=[1]Разряды!$I$33,[1]Разряды!$I$3,IF(I20<=[1]Разряды!$J$33,[1]Разряды!$J$3,"б/р")))))))) -> 1р | K20: 6 | L20: =IF(B20=0," ",VLOOKUP($B20,[1]Женщины!$B$1:$H$65536,7,FALSE)) -> Феофилактов Н.З.
A21: 11 | B21: 158 | C21: =IF(B21=0," ",VLOOKUP(B21,[1]Женщины!B$1:H$65536,2,FALSE)) -> Савинкова Алина | D21: =IF(B21=0," ",VLOOKUP($B21,[1]Женщины!$B$1:$H$65536,3,FALSE)) -> 04.08.1996 | E21: =IF(B21=0," ",IF(VLOOKUP($B21,[1]Женщины!$B$1:$H$65536,4,FALSE)=0," ",VLOOKUP($B21,[1]Женщины!$B$1:$H$65536,4,FALSE))) -> КМС | F21: =IF(B21=0," ",VLOOKUP($B21,[1]Женщины!$B$1:$H$65536,5,FALSE)) -> Тамбовская область | G21: =IF(B21=0," ",VLOOKUP($B21,[1]Женщины!$B$1:$H$65536,6,FALSE)) -> Тамбов, ТГУ им. Г.Р. Державина | I21: 0.001587037 | J21: =IF(I21=0," ",IF(I21<=[1]Разряды!$D$33,[1]Разряды!$D$3,IF(I21<=[1]Разряды!$E$33,[1]Разряды!$E$3,IF(I21<=[1]Разряды!$F$33,[1]Разряды!$F$3,IF(I21<=[1]Разряды!$G$33,[1]Разряды!$G$3,IF(I21<=[1]Разряды!$H$33,[1]Разряды!$H$3,IF(I21<=[1]Разряды!$I$33,[1]Разряды!$I$3,IF(I21<=[1]Разряды!$J$33,[1]Разряды!$J$3,"б/р")))))))) -> 1р | K21: 5 | L21: =IF(B21=0," ",VLOOKUP($B21,[1]Женщины!$B$1:$H$65536,7,FALSE)) -> Солтан М.В.
A22: 12 | B22: 308 | C22: =IF(B22=0," ",VLOOKUP(B22,[1]Женщины!B$1:H$65536,2,FALSE)) -> Дмитриева Виктория | D22: =IF(B22=0," ",VLOOKUP($B22,[1]Женщины!$B$1:$H$65536,3,FALSE)) -> 25.11.1999 | E22: =IF(B22=0," ",IF(VLOOKUP($B22,[1]Женщины!$B$1:$H$65536,4,FALSE)=0," ",VLOOKUP($B22,[1]Женщины!$B$1:$H$65536,4,FALSE))) -> КМС | F22: =IF(B22=0," ",VLOOKUP($B22,[1]Женщины!$B$1:$H$65536,5,FALSE)) -> Республика Карелия | G22: =IF(B22=0," ",VLOOKUP($B22,[1]Женщины!$B$1:$H$65536,6,FALSE)) -> Петрозаводск, ПетрГУ | I22: 0.001597338 | J22: =IF(I22=0," ",IF(I22<=[1]Разряды!$D$33,[1]Разряды!$D$3,IF(I22<=[1]Разряды!$E$33,[1]Разряды!$E$3,IF(I22<=[1]Разряды!$F$33,[1]Разряды!$F$3,IF(I22<=[1]Разряды!$G$33,[1]Разряды!$G$3,IF(I22<=[1]Разряды!$H$33,[1]Разряды!$H$3,IF(I22<=[1]Разряды!$I$33,[1]Разряды!$I$3,IF(I22<=[1]Разряды!$J$33,[1]Разряды!$J$3,"б/р")))))))) -> 1р | K22: 4 | L22: =IF(B22=0," ",VLOOKUP($B22,[1]Женщины!$B$1:$H$65536,7,FALSE)) -> Вологдина Т.П.
A23: 13 | B23: 296 | C23: =IF(B23=0," ",VLOOKUP(B23,[1]Женщины!B$1:H$65536,2,FALSE)) -> Ситникова Полина | D23: =IF(B23=0," ",VLOOKUP($B23,[1]Женщины!$B$1:$H$65536,3,FALSE)) -> 17.08.1999 | E23: =IF(B23=0," ",IF(VLOOKUP($B23,[1]Женщины!$B$1:$H$65536,4,FALSE)=0," ",VLOOKUP($B23,[1]Женщины!$B$1:$H$65536,4,FALSE))) -> 1р | F23: =IF(B23=0," ",VLOOKUP($B23,[1]Женщины!$B$1:$H$65536,5,FALSE)) -> Пермский край | G23: =IF(B23=0," ",VLOOKUP($B23,[1]Женщины!$B$1:$H$65536,6,FALSE)) -> Пермь, ПНИПУ с/к "Политехник" | I23: 0.0016015046 | J23: =IF(I23=0," ",IF(I23<=[1]Разряды!$D$33,[1]Разряды!$D$3,IF(I23<=[1]Разряды!$E$33,[1]Разряды!$E$3,IF(I23<=[1]Разряды!$F$33,[1]Разряды!$F$3,IF(I23<=[1]Разряды!$G$33,[1]Разряды!$G$3,IF(I23<=[1]Разряды!$H$33,[1]Разряды!$H$3,IF(I23<=[1]Разряды!$I$33,[1]Разряды!$I$3,IF(I23<=[1]Разряды!$J$33,[1]Разряды!$J$3,"б/р")))))))) -> 1р | K23: 3 | L23: =IF(B23=0," ",VLOOKUP($B23,[1]Женщины!$B$1:$H$65536,7,FALSE)) -> Гладков В.П.
A24: 14 | B24: 156 | C24: =IF(B24=0," ",VLOOKUP(B24,[1]Женщины!B$1:H$65536,2,FALSE)) -> Сенникова Наталья | D24: =IF(B24=0," ",VLOOKUP($B24,[1]Женщины!$B$1:$H$65536,3,FALSE)) -> 10.07.1994 | E24: =IF(B24=0," ",IF(VLOOKUP($B24,[1]Женщины!$B$1:$H$65536,4,FALSE)=0," ",VLOOKUP($B24,[1]Женщины!$B$1:$H$65536,4,FALSE))) -> КМС | F24: =IF(B24=0," ",VLOOKUP($B24,[1]Женщины!$B$1:$H$65536,5,FALSE)) -> Костромская область | G24: =IF(B24=0," ",VLOOKUP($B24,[1]Женщины!$B$1:$H$65536,6,FALSE)) -> Кострома, КГУ | I24: 0.0016209491 | J24: =IF(I24=0," ",IF(I24<=[1]Разряды!$D$33,[1]Разряды!$D$3,IF(I24<=[1]Разряды!$E$33,[1]Разряды!$E$3,IF(I24<=[1]Разряды!$F$33,[1]Разряды!$F$3,IF(I24<=[1]Разряды!$G$33,[1]Разряды!$G$3,IF(I24<=[1]Разряды!$H$33,[1]Разряды!$H$3,IF(I24<=[1]Разряды!$I$33,[1]Разряды!$I$3,IF(I24<=[1]Разряды!$J$33,[1]Разряды!$J$3,"б/р")))))))) -> 1р | K24: 2 | L24: =IF(B24=0," ",VLOOKUP($B24,[1]Женщины!$B$1:$H$65536,7,FALSE)) -> Павлов Е.А.
A25: 16 | B25: 140 | C25: =IF(B25=0," ",VLOOKUP(B25,[1]Женщины!B$1:H$65536,2,FALSE)) -> Толстихина Александр | D25: =IF(B25=0," ",VLOOKUP($B25,[1]Женщины!$B$1:$H$65536,3,FALSE)) -> 12.03.1998 | E25: =IF(B25=0," ",IF(VLOOKUP($B25,[1]Женщины!$B$1:$H$65536,4,FALSE)=0," ",VLOOKUP($B25,[1]Женщины!$B$1:$H$65536,4,FALSE))) -> КМС | F25: =IF(B25=0," ",VLOOKUP($B25,[1]Женщины!$B$1:$H$65536,5,FALSE)) -> Сахалинская область | G25: =IF(B25=0," ",VLOOKUP($B25,[1]Женщины!$B$1:$H$65536,6,FALSE)) -> СахГУ | I25: 0.0016369213 | J25: =IF(I25=0," ",IF(I25<=[1]Разряды!$D$33,[1]Разряды!$D$3,IF(I25<=[1]Разряды!$E$33,[1]Разряды!$E$3,IF(I25<=[1]Разряды!$F$33,[1]Разряды!$F$3,IF(I25<=[1]Разряды!$G$33,[1]Разряды!$G$3,IF(I25<=[1]Разряды!$H$33,[1]Разряды!$H$3,IF(I25<=[1]Разряды!$I$33,[1]Разряды!$I$3,IF(I25<=[1]Разряды!$J$33,[1]Разряды!$J$3,"б/р")))))))) -> 1р | K25: 1 | L25: =IF(B25=0," ",VLOOKUP($B25,[1]Женщины!$B$1:$H$65536,7,FALSE)) -> Трубецкой Р.О., Жижикин А.Н.
A26: 17 | B26: 153 | C26: =IF(B26=0," ",VLOOKUP(B26,[1]Женщины!B$1:H$65536,2,FALSE)) -> Сверчкова Полина | D26: =IF(B26=0," ",VLOOKUP($B26,[1]Женщины!$B$1:$H$65536,3,FALSE)) -> 14.03.1997 | E26: =IF(B26=0," ",IF(VLOOKUP($B26,[1]Женщины!$B$1:$H$65536,4,FALSE)=0," ",VLOOKUP($B26,[1]Женщины!$B$1:$H$65536,4,FALSE))) -> КМС | F26: =IF(B26=0," ",VLOOKUP($B26,[1]Женщины!$B$1:$H$65536,5,FALSE)) -> Костромская область | G26: =IF(B26=0," ",VLOOKUP($B26,[1]Женщины!$B$1:$H$65536,6,FALSE)) -> Кострома, КГУ | I26: 0.0016511574 | J26: =IF(I26=0," ",IF(I26<=[1]Разряды!$D$33,[1]Разряды!$D$3,IF(I26<=[1]Разряды!$E$33,[1]Разряды!$E$3,IF(I26<=[1]Разряды!$F$33,[1]Разряды!$F$3,IF(I26<=[1]Разряды!$G$33,[1]Разряды!$G$3,IF(I26<=[1]Разряды!$H$33,[1]Разряды!$H$3,IF(I26<=[1]Разряды!$I$33,[1]Разряды!$I$3,IF(I26<=[1]Разряды!$J$33,[1]Разряды!$J$3,"б/р")))))))) -> 1р | K26: 1 | L26: =IF(B26=0," ",VLOOKUP($B26,[1]Женщины!$B$1:$H$65536,7,FALSE)) -> Дружков А.Н.
A27: 18 | B27: 150 | C27: =IF(B27=0," ",VLOOKUP(B27,[1]Женщины!B$1:H$65536,2,FALSE)) -> Воронина Анастасия | D27: =IF(B27=0," ",VLOOKUP($B27,[1]Женщины!$B$1:$H$65536,3,FALSE)) -> 05.04.1998 | E27: =IF(B27=0," ",IF(VLOOKUP($B27,[1]Женщины!$B$1:$H$65536,4,FALSE)=0," ",VLOOKUP($B27,[1]Женщины!$B$1:$H$65536,4,FALSE))) -> 1р | F27: =IF(B27=0," ",VLOOKUP($B27,[1]Женщины!$B$1:$H$65536,5,FALSE)) -> Костромская область | G27: =IF(B27=0," ",VLOOKUP($B27,[1]Женщины!$B$1:$H$65536,6,FALSE)) -> Кострома, КГУ | I27: 0.0016570602 | J27: =IF(I27=0," ",IF(I27<=[1]Разряды!$D$33,[1]Разряды!$D$3,IF(I27<=[1]Разряды!$E$33,[1]Разряды!$E$3,IF(I27<=[1]Разряды!$F$33,[1]Разряды!$F$3,IF(I27<=[1]Разряды!$G$33,[1]Разряды!$G$3,IF(I27<=[1]Разряды!$H$33,[1]Разряды!$H$3,IF(I27<=[1]Разряды!$I$33,[1]Разряды!$I$3,IF(I27<=[1]Разряды!$J$33,[1]Разряды!$J$3,"б/р")))))))) -> 1р | K27: 1 | L27: =IF(B27=0," ",VLOOKUP($B27,[1]Женщины!$B$1:$H$65536,7,FALSE)) -> Павлов Е.А.
A28: 19 | B28: 161 | C28: =IF(B28=0," ",VLOOKUP(B28,[1]Женщины!B$1:H$65536,2,FALSE)) -> Климова Алена | D28: =IF(B28=0," ",VLOOKUP($B28,[1]Женщины!$B$1:$H$65536,3,FALSE)) -> 10.12.1997 | E28: =IF(B28=0," ",IF(VLOOKUP($B28,[1]Женщины!$B$1:$H$65536,4,FALSE)=0," ",VLOOKUP($B28,[1]Женщины!$B$1:$H$65536,4,FALSE))) -> 1р | F28: =IF(B28=0," ",VLOOKUP($B28,[1]Женщины!$B$1:$H$65536,5,FALSE)) -> Тамбовская область | G28: =IF(B28=0," ",VLOOKUP($B28,[1]Женщины!$B$1:$H$65536,6,FALSE)) -> Тамбов, ТГУ им. Г.Р. Державина | I28: 0.0016701389 | J28: =IF(I28=0," ",IF(I28<=[1]Разряды!$D$33,[1]Разряды!$D$3,IF(I28<=[1]Разряды!$E$33,[1]Разряды!$E$3,IF(I28<=[1]Разряды!$F$33,[1]Разряды!$F$3,IF(I28<=[1]Разряды!$G$33,[1]Разряды!$G$3,IF(I28<=[1]Разряды!$H$33,[1]Разряды!$H$3,IF(I28<=[1]Разряды!$I$33,[1]Разряды!$I$3,IF(I28<=[1]Разряды!$J$33,[1]Разряды!$J$3,"б/р")))))))) -> 1р | K28: 1 | L28: =IF(B28=0," ",VLOOKUP($B28,[1]Женщины!$B$1:$H$65536,7,FALSE)) -> Солтан М.В.
A29: 20 | B29: 105 | C29: =IF(B29=0," ",VLOOKUP(B29,[1]Женщины!B$1:H$65536,2,FALSE)) -> Белкина Екатерина | D29: =IF(B29=0," ",VLOOKUP($B29,[1]Женщины!$B$1:$H$65536,3,FALSE)) -> 28.02.2000 | E29: =IF(B29=0," ",IF(VLOOKUP($B29,[1]Женщины!$B$1:$H$65536,4,FALSE)=0," ",VLOOKUP($B29,[1]Женщины!$B$1:$H$65536,4,FALSE))) -> 1р | F29: =IF(B29=0," ",VLOOKUP($B29,[1]Женщины!$B$1:$H$65536,5,FALSE)) -> Ярославская область | G29: =IF(B29=0," ",VLOOKUP($B29,[1]Женщины!$B$1:$H$65536,6,FALSE)) -> Ярославль, ЯГПУ им. К.Д. Ушинского | I29: 0.0016877315 | J29: =IF(I29=0," ",IF(I29<=[1]Разряды!$D$33,[1]Разряды!$D$3,IF(I29<=[1]Разряды!$E$33,[1]Разряды!$E$3,IF(I29<=[1]Разряды!$F$33,[1]Разряды!$F$3,IF(I29<=[1]Разряды!$G$33,[1]Разряды!$G$3,IF(I29<=[1]Разряды!$H$33,[1]Разряды!$H$3,IF(I29<=[1]Разряды!$I$33,[1]Разряды!$I$3,IF(I29<=[1]Разряды!$J$33,[1]Разряды!$J$3,"б/р")))))))) -> 2р | K29: 1 | L29: =IF(B29=0," ",VLOOKUP($B29,[1]Женщины!$B$1:$H$65536,7,FALSE)) -> Таракановы Ю.Ф., А.В.
... A35: 26 | B35: 110 | C35: =IF(B35=0," ",VLOOKUP(B35,[1]Женщины!B$1:H$65536,2,FALSE)) -> Цыбаева Светлана | D35: =IF(B35=0," ",VLOOKUP($B35,[1]Женщины!$B$1:$H$65536,3,FALSE)) -> 1998 | E35: =IF(B35=0," ",IF(VLOOKUP($B35,[1]Женщины!$B$1:$H$65536,4,FALSE)=0," ",VLOOKUP($B35,[1]Женщины!$B$1:$H$65536,4,FALSE))) -> 2р | F35: =IF(B35=0," ",VLOOKUP($B35,[1]Женщины!$B$1:$H$65536,5,FALSE)) -> Ярославская область | G35: =IF(B35=0," ",VLOOKUP($B35,[1]Женщины!$B$1:$H$65536,6,FALSE)) -> Ярославль, ЯГПУ им. К.Д. Ушинского | I35: 0.001790162 | J35: =IF(I35=0," ",IF(I35<=[1]Разряды!$D$33,[1]Разряды!$D$3,IF(I35<=[1]Разряды!$E$33,[1]Разряды!$E$3,IF(I35<=[1]Разряды!$F$33,[1]Разряды!$F$3,IF(I35<=[1]Разряды!$G$33,[1]Разряды!$G$3,IF(I35<=[1]Разряды!$H$33,[1]Разряды!$H$3,IF(I35<=[1]Разряды!$I$33,[1]Разряды!$I$3,IF(I35<=[1]Разряды!$J$33,[1]Разряды!$J$3,"б/р")))))))) -> 2р | K35: 1 | L35: =IF(B35=0," ",VLOOKUP($B35,[1]Женщины!$B$1:$H$65536,7,FALSE)) -> Таракановы Ю.Ф., А.В.
B36: 102 | C36: =IF(B36=0," ",VLOOKUP(B36,[1]Женщины!B$1:H$65536,2,FALSE)) -> Благородова Мария | D36: =IF(B36=0," ",VLOOKUP($B36,[1]Женщины!$B$1:$H$65536,3,FALSE)) -> 01.10.2000 | E36: =IF(B36=0," ",IF(VLOOKUP($B36,[1]Женщины!$B$1:$H$65536,4,FALSE)=0," ",VLOOKUP($B36,[1]Женщины!$B$1:$H$65536,4,FALSE))) -> 1р | F36: =IF(B36=0," ",VLOOKUP($B36,[1]Женщины!$B$1:$H$65536,5,FALSE)) -> Ярославская область | G36: =IF(B36=0," ",VLOOKUP($B36,[1]Женщины!$B$1:$H$65536,6,FALSE)) -> Ярославль, ЯГПУ им. К.Д. Ушинского | I36: DNF | K36: 0 | L36: =IF(B36=0," ",VLOOKUP($B36,[1]Женщины!$B$1:$H$65536,7,FALSE)) -> Хрущева Л.В.
B37: 169 | C37: =IF(B37=0," ",VLOOKUP(B37,[1]Женщины!B$1:H$65536,2,FALSE)) -> Черных Арина | D37: =IF(B37=0," ",VLOOKUP($B37,[1]Женщины!$B$1:$H$65536,3,FALSE)) -> 05.10.1998 | E37: =IF(B37=0," ",IF(VLOOKUP($B37,[1]Женщины!$B$1:$H$65536,4,FALSE)=0," ",VLOOKUP($B37,[1]Женщины!$B$1:$H$65536,4,FALSE))) -> КМС | F37: =IF(B37=0," ",VLOOKUP($B37,[1]Женщины!$B$1:$H$65536,5,FALSE)) -> Приморский край | G37: =IF(B37=0," ",VLOOKUP($B37,[1]Женщины!$B$1:$H$65536,6,FALSE)) -> Владивосток, ДВФУ | I37: r|med | K37: 0 | L37: =IF(B37=0," ",VLOOKUP($B37,[1]Женщины!$B$1:$H$65536,7,FALSE)) -> Анисимов В.Н.
A38: в/к | B38: 191 | C38: =IF(B38=0," ",VLOOKUP(B38,[1]Женщины!B$1:H$65536,2,FALSE)) -> Шаронова Анастасия | D38: =IF(B38=0," ",VLOOKUP($B38,[1]Женщины!$B$1:$H$65536,3,FALSE)) -> 03.02.1999 | E38: =IF(B38=0," ",IF(VLOOKUP($B38,[1]Женщины!$B$1:$H$65536,4,FALSE)=0," ",VLOOKUP($B38,[1]Женщины!$B$1:$H$65536,4,FALSE))) -> КМС | F38: =IF(B38=0," ",VLOOKUP($B38,[1]Женщины!$B$1:$H$65536,5,FALSE)) -> Москва | G38: =IF(B38=0," ",VLOOKUP($B38,[1]Женщины!$B$1:$H$65536,6,FALSE)) -> Москва, РГУФКСМиТ (ГЦОЛИФК) | I38: 0.0016217593 | J38: =IF(I38=0," ",IF(I38<=[1]Разряды!$D$33,[1]Разряды!$D$3,IF(I38<=[1]Разряды!$E$33,[1]Разряды!$E$3,IF(I38<=[1]Разряды!$F$33,[1]Разряды!$F$3,IF(I38<=[1]Разряды!$G$33,[1]Разряды!$G$3,IF(I38<=[1]Разряды!$H$33,[1]Разряды!$H$3,IF(I38<=[1]Разряды!$I$33,[1]Разряды!$I$3,IF(I38<=[1]Разряды!$J$33,[1]Разряды!$J$3,"б/р")))))))) -> 1р | L38: =IF(B38=0," ",VLOOKUP($B38,[1]Женщины!$B$1:$H$65536,7,FALSE)) -> Никонов В.И.
B41: Главный судья, спортивный судья ВК | G41: Хрущев Е.Н., г. Ярославль
B44: Главный секретарь, спортивный судья ВК | G44: Тараканова Ю.Ф., г. Ярославль

Sheet 1500ж
A1: Чемпионат Российского студенческого спортивного союза
A2: мужчины и женщины
L3: 27-28 июня 2019 г.
K4: стадион "Шинник"
L5: г. Ярославль
D6: 27.06.2019г. | E6: 0.76388889 | F6: Финальные забеги | H6: ПРОТОКОЛ СОРЕВНОВАНИЙ
C8: Женщины | D8: Бег 1500 м
A9: Место | B9: Номер | C9: Фамилия, имя | D9: Дата рожд. | E9: Квал. | F9: Команда | G9: ВУЗ | H9: Результат | J9: Вып. разр. | K9: Очки | L9: Ф.И.О. тренера
H10: фин. забеги
A11: 1 | B11: 175 | C11: =IF(B11=0," ",VLOOKUP(B11,[1]Женщины!B$1:H$65536,2,FALSE)) -> Самуйлова Екатерина | D11: =IF(B11=0," ",VLOOKUP($B11,[1]Женщины!$B$1:$H$65536,3,FALSE)) -> 05.11.1999 | E11: =IF(B11=0," ",IF(VLOOKUP($B11,[1]Женщины!$B$1:$H$65536,4,FALSE)=0," ",VLOOKUP($B11,[1]Женщины!$B$1:$H$65536,4,FALSE))) -> КМС | F11: =IF(B11=0," ",VLOOKUP($B11,[1]Женщины!$B$1:$H$65536,5,FALSE)) -> Москва | G11: =IF(B11=0," ",VLOOKUP($B11,[1]Женщины!$B$1:$H$65536,6,FALSE)) -> Москва, РГУФКСМиТ (ГЦОЛИФК) | I11: 0.0030662037 | J11: =IF(I11=0," ",IF(I11<=[1]Разряды!$D$34,[1]Разряды!$D$3,IF(I11<=[1]Разряды!$E$34,[1]Разряды!$E$3,IF(I11<=[1]Разряды!$F$34,[1]Разряды!$F$3,IF(I11<=[1]Разряды!$G$34,[1]Разряды!$G$3,IF(I11<=[1]Разряды!$H$34,[1]Разряды!$H$3,IF(I11<=[1]Разряды!$I$34,[1]Разряды!$I$3,IF(I11<=[1]Разряды!$J$34,[1]Разряды!$J$3,"б/р")))))))) -> кмс | K11: 18+5 | L11: =IF(B11=0," ",VLOOKUP($B11,[1]Женщины!$B$1:$H$65536,7,FALSE)) -> Фролова Т.С., Комолов В.А.
A12: 2 | B12: 255 | C12: =IF(B12=0," ",VLOOKUP(B12,[1]Женщины!B$1:H$65536,2,FALSE)) -> Гадельшина Альбина | D12: =IF(B12=0," ",VLOOKUP($B12,[1]Женщины!$B$1:$H$65536,3,FALSE)) -> 29.07.1998 | E12: =IF(B12=0," ",IF(VLOOKUP($B12,[1]Женщины!$B$1:$H$65536,4,FALSE)=0," ",VLOOKUP($B12,[1]Женщины!$B$1:$H$65536,4,FALSE))) -> КМС | F12: =IF(B12=0," ",VLOOKUP($B12,[1]Женщины!$B$1:$H$65536,5,FALSE)) -> Республика Татарстан | G12: =IF(B12=0," ",VLOOKUP($B12,[1]Женщины!$B$1:$H$65536,6,FALSE)) -> Казань, ФГБОУ ВО ПГАФКСиТ | I12: 0.003087037 | J12: =IF(I12=0," ",IF(I12<=[1]Разряды!$D$34,[1]Разряды!$D$3,IF(I12<=[1]Разряды!$E$34,[1]Разряды!$E$3,IF(I12<=[1]Разряды!$F$34,[1]Разряды!$F$3,IF(I12<=[1]Разряды!$G$34,[1]Разряды!$G$3,IF(I12<=[1]Разряды!$H$34,[1]Разряды!$H$3,IF(I12<=[1]Разряды!$I$34,[1]Разряды!$I$3,IF(I12<=[1]Разряды!$J$34,[1]Разряды!$J$3,"б/р")))))))) -> кмс | K12: 15+5 | L12: =IF(B12=0," ",VLOOKUP($B12,[1]Женщины!$B$1:$H$65536,7,FALSE)) -> Арефьев В.С., Хисамов И.Н., Ополева С.Ю.
A13: 3 | B13: 331 | C13: =IF(B13=0," ",VLOOKUP(B13,[1]Женщины!B$1:H$65536,2,FALSE)) -> Костылева Ксения | D13: =IF(B13=0," ",VLOOKUP($B13,[1]Женщины!$B$1:$H$65536,3,FALSE)) -> 03.02.1998 | E13: =IF(B13=0," ",IF(VLOOKUP($B13,[1]Женщины!$B$1:$H$65536,4,FALSE)=0," ",VLOOKUP($B13,[1]Женщины!$B$1:$H$65536,4,FALSE))) -> КМС | F13: =IF(B13=0," ",VLOOKUP($B13,[1]Женщины!$B$1:$H$65536,5,FALSE)) -> Челябинская область | G13: =IF(B13=0," ",VLOOKUP($B13,[1]Женщины!$B$1:$H$65536,6,FALSE)) -> Челябинск, УралГУФК | I13: 0.0031090278 | J13: =IF(I13=0," ",IF(I13<=[1]Разряды!$D$34,[1]Разряды!$D$3,IF(I13<=[1]Разряды!$E$34,[1]Разряды!$E$3,IF(I13<=[1]Разряды!$F$34,[1]Разряды!$F$3,IF(I13<=[1]Разряды!$G$34,[1]Разряды!$G$3,IF(I13<=[1]Разряды!$H$34,[1]Разряды!$H$3,IF(I13<=[1]Разряды!$I$34,[1]Разряды!$I$3,IF(I13<=[1]Разряды!$J$34,[1]Разряды!$J$3,"б/р")))))))) -> кмс | K13: 13+5 | L13: =IF(B13=0," ",VLOOKUP($B13,[1]Женщины!$B$1:$H$65536,7,FALSE)) -> Ежов В.Б., Карамашев М.С.
A14: 4 | B14: 117 | C14: =IF(B14=0," ",VLOOKUP(B14,[1]Женщины!B$1:H$65536,2,FALSE)) -> Яковлева Кристина | D14: =IF(B14=0," ",VLOOKUP($B14,[1]Женщины!$B$1:$H$65536,3,FALSE)) -> 16.12.1999 | E14: =IF(B14=0," ",IF(VLOOKUP($B14,[1]Женщины!$B$1:$H$65536,4,FALSE)=0," ",VLOOKUP($B14,[1]Женщины!$B$1:$H$65536,4,FALSE))) -> КМС | F14: =IF(B14=0," ",VLOOKUP($B14,[1]Женщины!$B$1:$H$65536,5,FALSE)) -> Республика Чувашии | G14: =IF(B14=0," ",VLOOKUP($B14,[1]Женщины!$B$1:$H$65536,6,FALSE)) -> Чебоксары, ЧГПУ им. И.Я. Яковлева | I14: 0.0031368056 | J14: =IF(I14=0," ",IF(I14<=[1]Разряды!$D$34,[1]Разряды!$D$3,IF(I14<=[1]Разряды!$E$34,[1]Разряды!$E$3,IF(I14<=[1]Разряды!$F$34,[1]Разряды!$F$3,IF(I14<=[1]Разряды!$G$34,[1]Разряды!$G$3,IF(I14<=[1]Разряды!$H$34,[1]Разряды!$H$3,IF(I14<=[1]Разряды!$I$34,[1]Разряды!$I$3,IF(I14<=[1]Разряды!$J$34,[1]Разряды!$J$3,"б/р")))))))) -> кмс | K14: 12+5 | L14: =IF(B14=0," ",VLOOKUP($B14,[1]Женщины!$B$1:$H$65536,7,FALSE)) -> Кузнецов М.П.
A15: 5 | B15: 116 | C15: =IF(B15=0," ",VLOOKUP(B15,[1]Женщины!B$1:H$65536,2,FALSE)) -> Яковлева Ксения | D15: =IF(B15=0," ",VLOOKUP($B15,[1]Женщины!$B$1:$H$65536,3,FALSE)) -> 16.12.1999 | E15: =IF(B15=0," ",IF(VLOOKUP($B15,[1]Женщины!$B$1:$H$65536,4,FALSE)=0," ",VLOOKUP($B15,[1]Женщины!$B$1:$H$65536,4,FALSE))) -> КМС | F15: =IF(B15=0," ",VLOOKUP($B15,[1]Женщины!$B$1:$H$65536,5,FALSE)) -> Республика Чувашии | G15: =IF(B15=0," ",VLOOKUP($B15,[1]Женщины!$B$1:$H$65536,6,FALSE)) -> Чебоксары, ЧГПУ им. И.Я. Яковлева | I15: 0.0031563657 | J15: =IF(I15=0," ",IF(I15<=[1]Разряды!$D$34,[1]Разряды!$D$3,IF(I15<=[1]Разряды!$E$34,[1]Разряды!$E$3,IF(I15<=[1]Разряды!$F$34,[1]Разряды!$F$3,IF(I15<=[1]Разряды!$G$34,[1]Разряды!$G$3,IF(I15<=[1]Разряды!$H$34,[1]Разряды!$H$3,IF(I15<=[1]Разряды!$I$34,[1]Разряды!$I$3,IF(I15<=[1]Разряды!$J$34,[1]Разряды!$J$3,"б/р")))))))) -> кмс | K15: 11+5 | L15: =IF(B15=0," ",VLOOKUP($B15,[1]Женщины!$B$1:$H$65536,7,FALSE)) -> Кузнецов М.П.
A16: 6 | B16: 328 | C16: =IF(B16=0," ",VLOOKUP(B16,[1]Женщины!B$1:H$65536,2,FALSE)) -> Невзорова Александра | D16: =IF(B16=0," ",VLOOKUP($B16,[1]Женщины!$B$1:$H$65536,3,FALSE)) -> 12.06.2000 | E16: =IF(B16=0," ",IF(VLOOKUP($B16,[1]Женщины!$B$1:$H$65536,4,FALSE)=0," ",VLOOKUP($B16,[1]Женщины!$B$1:$H$65536,4,FALSE))) -> КМС | F16: =IF(B16=0," ",VLOOKUP($B16,[1]Женщины!$B$1:$H$65536,5,FALSE)) -> Челябинская область | G16: =IF(B16=0," ",VLOOKUP($B16,[1]Женщины!$B$1:$H$65536,6,FALSE)) -> Челябинск, УралГУФК | I16: 0.0031935185 | J16: =IF(I16=0," ",IF(I16<=[1]Разряды!$D$34,[1]Разряды!$D$3,IF(I16<=[1]Разряды!$E$34,[1]Разряды!$E$3,IF(I16<=[1]Разряды!$F$34,[1]Разряды!$F$3,IF(I16<=[1]Разряды!$G$34,[1]Разряды!$G$3,IF(I16<=[1]Разряды!$H$34,[1]Разряды!$H$3,IF(I16<=[1]Разряды!$I$34,[1]Разряды!$I$3,IF(I16<=[1]Разряды!$J$34,[1]Разряды!$J$3,"б/р")))))))) -> кмс | K16: 10+5 | L16: =IF(B16=0," ",VLOOKUP($B16,[1]Женщины!$B$1:$H$65536,7,FALSE)) -> Митюхов Д.М., Гаврикова Г.В.
A17: 7 | B17: 266 | C17: =IF(B17=0," ",VLOOKUP(B17,[1]Женщины!B$1:H$65536,2,FALSE)) -> Бышкина Нина | D17: =IF(B17=0," ",VLOOKUP($B17,[1]Женщины!$B$1:$H$65536,3,FALSE)) -> 25.05.1996 | E17: =IF(B17=0," ",IF(VLOOKUP($B17,[1]Женщины!$B$1:$H$65536,4,FALSE)=0," ",VLOOKUP($B17,[1]Женщины!$B$1:$H$65536,4,FALSE))) -> КМС | F17: =IF(B17=0," ",VLOOKUP($B17,[1]Женщины!$B$1:$H$65536,5,FALSE)) -> Ивановская область | G17: =IF(B17=0," ",VLOOKUP($B17,[1]Женщины!$B$1:$H$65536,6,FALSE)) -> Иваново, ИГЭУ им. В.И. Ленина | I17: 0.0031969907 | J17: =IF(I17=0," ",IF(I17<=[1]Разряды!$D$34,[1]Разряды!$D$3,IF(I17<=[1]Разряды!$E$34,[1]Разряды!$E$3,IF(I17<=[1]Разряды!$F$34,[1]Разряды!$F$3,IF(I17<=[1]Разряды!$G$34,[1]Разряды!$G$3,IF(I17<=[1]Разряды!$H$34,[1]Разряды!$H$3,IF(I17<=[1]Разряды!$I$34,[1]Разряды!$I$3,IF(I17<=[1]Разряды!$J$34,[1]Разряды!$J$3,"б/р")))))))) -> кмс | K17: 9+5 | L17: =IF(B17=0," ",VLOOKUP($B17,[1]Женщины!$B$1:$H$65536,7,FALSE)) -> Торгов Е.Н., Гильмутдинов Ю.В.
A18: 8 | B18: 256 | C18: =IF(B18=0," ",VLOOKUP(B18,[1]Женщины!B$1:H$65536,2,FALSE)) -> Сатыбалдина Яна | D18: =IF(B18=0," ",VLOOKUP($B18,[1]Женщины!$B$1:$H$65536,3,FALSE)) -> 12.01.1995 | E18: =IF(B18=0," ",IF(VLOOKUP($B18,[1]Женщины!$B$1:$H$65536,4,FALSE)=0," ",VLOOKUP($B18,[1]Женщины!$B$1:$H$65536,4,FALSE))) -> КМС | F18: =IF(B18=0," ",VLOOKUP($B18,[1]Женщины!$B$1:$H$65536,5,FALSE)) -> Республика Татарстан | G18: =IF(B18=0," ",VLOOKUP($B18,[1]Женщины!$B$1:$H$65536,6,FALSE)) -> Казань, ФГБОУ ВО ПГАФКСиТ | I18: 0.0032167824 | J18: =IF(I18=0," ",IF(I18<=[1]Разряды!$D$34,[1]Разряды!$D$3,IF(I18<=[1]Разряды!$E$34,[1]Разряды!$E$3,IF(I18<=[1]Разряды!$F$34,[1]Разряды!$F$3,IF(I18<=[1]Разряды!$G$34,[1]Разряды!$G$3,IF(I18<=[1]Разряды!$H$34,[1]Разряды!$H$3,IF(I18<=[1]Разряды!$I$34,[1]Разряды!$I$3,IF(I18<=[1]Разряды!$J$34,[1]Разряды!$J$3,"б/р")))))))) -> 1р | K18: 8 | L18: =IF(B18=0," ",VLOOKUP($B18,[1]Женщины!$B$1:$H$65536,7,FALSE)) -> Шитов А.В.
A19: 9 | B19: 219 | C19: =IF(B19=0," ",VLOOKUP(B19,[1]Женщины!B$1:H$65536,2,FALSE)) -> Куликова Ирина | D19: =IF(B19=0," ",VLOOKUP($B19,[1]Женщины!$B$1:$H$65536,3,FALSE)) -> 15.12.1998 | E19: =IF(B19=0," ",IF(VLOOKUP($B19,[1]Женщины!$B$1:$H$65536,4,FALSE)=0," ",VLOOKUP($B19,[1]Женщины!$B$1:$H$65536,4,FALSE))) -> 1р | F19: =IF(B19=0," ",VLOOKUP($B19,[1]Женщины!$B$1:$H$65536,5,FALSE)) -> Республика Мордовия | G19: =IF(B19=0," ",VLOOKUP($B19,[1]Женщины!$B$1:$H$65536,6,FALSE)) -> Саранск, ФГБОУ ВО "НИМГУ им. Н.П. Огарева" | I19: 0.0032366898 | J19: =IF(I19=0," ",IF(I19<=[1]Разряды!$D$34,[1]Разряды!$D$3,IF(I19<=[1]Разряды!$E$34,[1]Разряды!$E$3,IF(I19<=[1]Разряды!$F$34,[1]Разряды!$F$3,IF(I19<=[1]Разряды!$G$34,[1]Разряды!$G$3,IF(I19<=[1]Разряды!$H$34,[1]Разряды!$H$3,IF(I19<=[1]Разряды!$I$34,[1]Разряды!$I$3,IF(I19<=[1]Разряды!$J$34,[1]Разряды!$J$3,"б/р")))))))) -> 1р | K19: 7 | L19: =IF(B19=0," ",VLOOKUP($B19,[1]Женщины!$B$1:$H$65536,7,FALSE)) -> Аверкин В.В.
A20: 10 | B20: 101 | C20: =IF(B20=0," ",VLOOKUP(B20,[1]Женщины!B$1:H$65536,2,FALSE)) -> Тараканова Полина | D20: =IF(B20=0," ",VLOOKUP($B20,[1]Женщины!$B$1:$H$65536,3,FALSE)) -> 30.06.1999 | E20: =IF(B20=0," ",IF(VLOOKUP($B20,[1]Женщины!$B$1:$H$65536,4,FALSE)=0," ",VLOOKUP($B20,[1]Женщины!$B$1:$H$65536,4,FALSE))) -> КМС | F20: =IF(B20=0," ",VLOOKUP($B20,[1]Женщины!$B$1:$H$65536,5,FALSE)) -> Ярославская область | G20: =IF(B20=0," ",VLOOKUP($B20,[1]Женщины!$B$1:$H$65536,6,FALSE)) -> Ярославль, ЯГПУ им. К.Д. Ушинского | I20: 0.0032560185 | J20: =IF(I20=0," ",IF(I20<=[1]Разряды!$D$34,[1]Разряды!$D$3,IF(I20<=[1]Разряды!$E$34,[1]Разряды!$E$3,IF(I20<=[1]Разряды!$F$34,[1]Разряды!$F$3,IF(I20<=[1]Разряды!$G$34,[1]Разряды!$G$3,IF(I20<=[1]Разряды!$H$34,[1]Разряды!$H$3,IF(I20<=[1]Разряды!$I$34,[1]Разряды!$I$3,IF(I20<=[1]Разряды!$J$34,[1]Разряды!$J$3,"б/р")))))))) -> 1р | K20: 6 | L20: =IF(B20=0," ",VLOOKUP($B20,[1]Женщины!$B$1:$H$65536,7,FALSE)) -> Таракановы Ю.Ф., А.В.
A21: 11 | B21: 235 | C21: =IF(B21=0," ",VLOOKUP(B21,[1]Женщины!B$1:H$65536,2,FALSE)) -> Петрова Арина | D21: =IF(B21=0," ",VLOOKUP($B21,[1]Женщины!$B$1:$H$65536,3,FALSE)) -> 25.08.1998 | E21: =IF(B21=0," ",IF(VLOOKUP($B21,[1]Женщины!$B$1:$H$65536,4,FALSE)=0," ",VLOOKUP($B21,[1]Женщины!$B$1:$H$65536,4,FALSE))) -> КМС | F21: =IF(B21=0," ",VLOOKUP($B21,[1]Женщины!$B$1:$H$65536,5,FALSE)) -> Удмуртская Республика | G21: =IF(B21=0," ",VLOOKUP($B21,[1]Женщины!$B$1:$H$65536,6,FALSE)) -> Ижевск, УдГУ | I21: 0.0032791667 | J21: =IF(I21=0," ",IF(I21<=[1]Разряды!$D$34,[1]Разряды!$D$3,IF(I21<=[1]Разряды!$E$34,[1]Разряды!$E$3,IF(I21<=[1]Разряды!$F$34,[1]Разряды!$F$3,IF(I21<=[1]Разряды!$G$34,[1]Разряды!$G$3,IF(I21<=[1]Разряды!$H$34,[1]Разряды!$H$3,IF(I21<=[1]Разряды!$I$34,[1]Разряды!$I$3,IF(I21<=[1]Разряды!$J$34,[1]Разряды!$J$3,"б/р")))))))) -> 1р | K21: 5 | L21: =IF(B21=0," ",VLOOKUP($B21,[1]Женщины!$B$1:$H$65536,7,FALSE)) -> Александров С.Н.
A22: 12 | B22: 158 | C22: =IF(B22=0," ",VLOOKUP(B22,[1]Женщины!B$1:H$65536,2,FALSE)) -> Савинкова Алина | D22: =IF(B22=0," ",VLOOKUP($B22,[1]Женщины!$B$1:$H$65536,3,FALSE)) -> 04.08.1996 | E22: =IF(B22=0," ",IF(VLOOKUP($B22,[1]Женщины!$B$1:$H$65536,4,FALSE)=0," ",VLOOKUP($B22,[1]Женщины!$B$1:$H$65536,4,FALSE))) -> КМС | F22: =IF(B22=0," ",VLOOKUP($B22,[1]Женщины!$B$1:$H$65536,5,FALSE)) -> Тамбовская область | G22: =IF(B22=0," ",VLOOKUP($B22,[1]Женщины!$B$1:$H$65536,6,FALSE)) -> Тамбов, ТГУ им. Г.Р. Державина | I22: 0.003305787 | J22: =IF(I22=0," ",IF(I22<=[1]Разряды!$D$34,[1]Разряды!$D$3,IF(I22<=[1]Разряды!$E$34,[1]Разряды!$E$3,IF(I22<=[1]Разряды!$F$34,[1]Разряды!$F$3,IF(I22<=[1]Разряды!$G$34,[1]Разряды!$G$3,IF(I22<=[1]Разряды!$H$34,[1]Разряды!$H$3,IF(I22<=[1]Разряды!$I$34,[1]Разряды!$I$3,IF(I22<=[1]Разряды!$J$34,[1]Разряды!$J$3,"б/р")))))))) -> 1р | K22: 4 | L22: =IF(B22=0," ",VLOOKUP($B22,[1]Женщины!$B$1:$H$65536,7,FALSE)) -> Солтан М.В.
A23: 13 | B23: 233 | C23: =IF(B23=0," ",VLOOKUP(B23,[1]Женщины!B$1:H$65536,2,FALSE)) -> Карпинская Дарья | D23: =IF(B23=0," ",VLOOKUP($B23,[1]Женщины!$B$1:$H$65536,3,FALSE)) -> 16.10.1996 | E23: =IF(B23=0," ",IF(VLOOKUP($B23,[1]Женщины!$B$1:$H$65536,4,FALSE)=0," ",VLOOKUP($B23,[1]Женщины!$B$1:$H$65536,4,FALSE))) -> 1р | F23: =IF(B23=0," ",VLOOKUP($B23,[1]Женщины!$B$1:$H$65536,5,FALSE)) -> Новгородская область | G23: =IF(B23=0," ",VLOOKUP($B23,[1]Женщины!$B$1:$H$65536,6,FALSE)) -> Великий Новгород, НовГУ им. Ярослава Мудрого | I23: 0.0033196759 | J23: =IF(I23=0," ",IF(I23<=[1]Разряды!$D$34,[1]Разряды!$D$3,IF(I23<=[1]Разряды!$E$34,[1]Разряды!$E$3,IF(I23<=[1]Разряды!$F$34,[1]Разряды!$F$3,IF(I23<=[1]Разряды!$G$34,[1]Разряды!$G$3,IF(I23<=[1]Разряды!$H$34,[1]Разряды!$H$3,IF(I23<=[1]Разряды!$I$34,[1]Разряды!$I$3,IF(I23<=[1]Разряды!$J$34,[1]Разряды!$J$3,"б/р")))))))) -> 1р | K23: 3 | L23: =IF(B23=0," ",VLOOKUP($B23,[1]Женщины!$B$1:$H$65536,7,FALSE)) -> Титяк Т.А.
A24: 14 | B24: 140 | C24: =IF(B24=0," ",VLOOKUP(B24,[1]Женщины!B$1:H$65536,2,FALSE)) -> Толстихина Александр | D24: =IF(B24=0," ",VLOOKUP($B24,[1]Женщины!$B$1:$H$65536,3,FALSE)) -> 12.03.1998 | E24: =IF(B24=0," ",IF(VLOOKUP($B24,[1]Женщины!$B$1:$H$65536,4,FALSE)=0," ",VLOOKUP($B24,[1]Женщины!$B$1:$H$65536,4,FALSE))) -> КМС | F24: =IF(B24=0," ",VLOOKUP($B24,[1]Женщины!$B$1:$H$65536,5,FALSE)) -> Сахалинская область | G24: =IF(B24=0," ",VLOOKUP($B24,[1]Женщины!$B$1:$H$65536,6,FALSE)) -> СахГУ | I24: 0.0033462963 | J24: =IF(I24=0," ",IF(I24<=[1]Разряды!$D$34,[1]Разряды!$D$3,IF(I24<=[1]Разряды!$E$34,[1]Разряды!$E$3,IF(I24<=[1]Разряды!$F$34,[1]Разряды!$F$3,IF(I24<=[1]Разряды!$G$34,[1]Разряды!$G$3,IF(I24<=[1]Разряды!$H$34,[1]Разряды!$H$3,IF(I24<=[1]Разряды!$I$34,[1]Разряды!$I$3,IF(I24<=[1]Разряды!$J$34,[1]Разряды!$J$3,"б/р")))))))) -> 1р | K24: 2 | L24: =IF(B24=0," ",VLOOKUP($B24,[1]Женщины!$B$1:$H$65536,7,FALSE)) -> Трубецкой Р.О., Жижикин А.Н.
A25: 15 | B25: 289 | C25: =IF(B25=0," ",VLOOKUP(B25,[1]Женщины!B$1:H$65536,2,FALSE)) -> Гусева Мария | D25: =IF(B25=0," ",VLOOKUP($B25,[1]Женщины!$B$1:$H$65536,3,FALSE)) -> 19.03.1998 | E25: =IF(B25=0," ",IF(VLOOKUP($B25,[1]Женщины!$B$1:$H$65536,4,FALSE)=0," ",VLOOKUP($B25,[1]Женщины!$B$1:$H$65536,4,FALSE))) -> 1р | F25: =IF(B25=0," ",VLOOKUP($B25,[1]Женщины!$B$1:$H$65536,5,FALSE)) -> Архангельская область | G25: =IF(B25=0," ",VLOOKUP($B25,[1]Женщины!$B$1:$H$65536,6,FALSE)) -> Архангельск, САФУ им. М.В. Ломоносова | I25: 0.0033960648 | J25: =IF(I25=0," ",IF(I25<=[1]Разряды!$D$34,[1]Разряды!$D$3,IF(I25<=[1]Разряды!$E$34,[1]Разряды!$E$3,IF(I25<=[1]Разряды!$F$34,[1]Разряды!$F$3,IF(I25<=[1]Разряды!$G$34,[1]Разряды!$G$3,IF(I25<=[1]Разряды!$H$34,[1]Разряды!$H$3,IF(I25<=[1]Разряды!$I$34,[1]Разряды!$I$3,IF(I25<=[1]Разряды!$J$34,[1]Разряды!$J$3,"б/р")))))))) -> 1р | K25: 1 | L25: =IF(B25=0," ",VLOOKUP($B25,[1]Женщины!$B$1:$H$65536,7,FALSE)) -> Мингалева А.Г.
A26: 16 | B26: 161 | C26: =IF(B26=0," ",VLOOKUP(B26,[1]Женщины!B$1:H$65536,2,FALSE)) -> Климова Алена | D26: =IF(B26=0," ",VLOOKUP($B26,[1]Женщины!$B$1:$H$65536,3,FALSE)) -> 10.12.1997 | E26: =IF(B26=0," ",IF(VLOOKUP($B26,[1]Женщины!$B$1:$H$65536,4,FALSE)=0," ",VLOOKUP($B26,[1]Женщины!$B$1:$H$65536,4,FALSE))) -> 1р | F26: =IF(B26=0," ",VLOOKUP($B26,[1]Женщины!$B$1:$H$65536,5,FALSE)) -> Тамбовская область | G26: =IF(B26=0," ",VLOOKUP($B26,[1]Женщины!$B$1:$H$65536,6,FALSE)) -> Тамбов, ТГУ им. Г.Р. Державина | I26: 0.0034516204 | J26: =IF(I26=0," ",IF(I26<=[1]Разряды!$D$34,[1]Разряды!$D$3,IF(I26<=[1]Разряды!$E$34,[1]Разряды!$E$3,IF(I26<=[1]Разряды!$F$34,[1]Разряды!$F$3,IF(I26<=[1]Разряды!$G$34,[1]Разряды!$G$3,IF(I26<=[1]Разряды!$H$34,[1]Разряды!$H$3,IF(I26<=[1]Разряды!$I$34,[1]Разряды!$I$3,IF(I26<=[1]Разряды!$J$34,[1]Разряды!$J$3,"б/р")))))))) -> 2р | K26: 1 | L26: =IF(B26=0," ",VLOOKUP($B26,[1]Женщины!$B$1:$H$65536,7,FALSE)) -> Солтан М.В.
A27: 17 | B27: 247 | C27: =IF(B27=0," ",VLOOKUP(B27,[1]Женщины!B$1:H$65536,2,FALSE)) -> Дуркина Галина | D27: =IF(B27=0," ",VLOOKUP($B27,[1]Женщины!$B$1:$H$65536,3,FALSE)) -> 04.10.1995 | E27: =IF(B27=0," ",IF(VLOOKUP($B27,[1]Женщины!$B$1:$H$65536,4,FALSE)=0," ",VLOOKUP($B27,[1]Женщины!$B$1:$H$65536,4,FALSE))) -> 1р | F27: =IF(B27=0," ",VLOOKUP($B27,[1]Женщины!$B$1:$H$65536,5,FALSE)) -> Ярославская область | G27: =IF(B27=0," ",VLOOKUP($B27,[1]Женщины!$B$1:$H$65536,6,FALSE)) -> Ярославль, ЯГМУ | I27: 0.0034655093 | J27: =IF(I27=0," ",IF(I27<=[1]Разряды!$D$34,[1]Разряды!$D$3,IF(I27<=[1]Разряды!$E$34,[1]Разряды!$E$3,IF(I27<=[1]Разряды!$F$34,[1]Разряды!$F$3,IF(I27<=[1]Разряды!$G$34,[1]Разряды!$G$3,IF(I27<=[1]Разряды!$H$34,[1]Разряды!$H$3,IF(I27<=[1]Разряды!$I$34,[1]Разряды!$I$3,IF(I27<=[1]Разряды!$J$34,[1]Разряды!$J$3,"б/р")))))))) -> 2р | K27: 1 | L27: =IF(B27=0," ",VLOOKUP($B27,[1]Женщины!$B$1:$H$65536,7,FALSE)) -> Шаймарданов В.М.
A28: 18 | B28: 145 | C28: =IF(B28=0," ",VLOOKUP(B28,[1]Женщины!B$1:H$65536,2,FALSE)) -> Шишкова Любовь | D28: =IF(B28=0," ",VLOOKUP($B28,[1]Женщины!$B$1:$H$65536,3,FALSE)) -> 12.03.1996 | E28: =IF(B28=0," ",IF(VLOOKUP($B28,[1]Женщины!$B$1:$H$65536,4,FALSE)=0," ",VLOOKUP($B28,[1]Женщины!$B$1:$H$65536,4,FALSE))) -> 1р | F28: =IF(B28=0," ",VLOOKUP($B28,[1]Женщины!$B$1:$H$65536,5,FALSE)) -> Костромская область | G28: =IF(B28=0," ",VLOOKUP($B28,[1]Женщины!$B$1:$H$65536,6,FALSE)) -> Кострома, КГУ | I28: 0.0035465278 | J28: =IF(I28=0," ",IF(I28<=[1]Разряды!$D$34,[1]Разряды!$D$3,IF(I28<=[1]Разряды!$E$34,[1]Разряды!$E$3,IF(I28<=[1]Разряды!$F$34,[1]Разряды!$F$3,IF(I28<=[1]Разряды!$G$34,[1]Разряды!$G$3,IF(I28<=[1]Разряды!$H$34,[1]Разряды!$H$3,IF(I28<=[1]Разряды!$I$34,[1]Разряды!$I$3,IF(I28<=[1]Разряды!$J$34,[1]Разряды!$J$3,"б/р")))))))) -> 2р | K28: 1 | L28: =IF(B28=0," ",VLOOKUP($B28,[1]Женщины!$B$1:$H$65536,7,FALSE)) -> Павлов Е.А.
C29: =IF(B29=0," ",VLOOKUP(B29,[1]Женщины!B$1:H$65536,2,FALSE)) | D29: =IF(B29=0," ",VLOOKUP($B29,[1]Женщины!$B$1:$H$65536,3,FALSE)) | E29: =IF(B29=0," ",IF(VLOOKUP($B29,[1]Женщины!$B$1:$H$65536,4,FALSE)=0," ",VLOOKUP($B29,[1]Женщины!$B$1:$H$65536,4,FALSE))) | F29: =IF(B29=0," ",VLOOKUP($B29,[1]Женщины!$B$1:$H$65536,5,FALSE)) | G29: =IF(B29=0," ",VLOOKUP($B29,[1]Женщины!$B$1:$H$65536,6,FALSE)) | L29: =IF(B29=0," ",VLOOKUP($B29,[1]Женщины!$B$1:$H$65536,7,FALSE))
B32: Главный судья, спортивный судья ВК | G32: Хрущев Е.Н., г. Ярославль
B35: Главный секретарь, спортивный судья ВК | G35: Тараканова Ю.Ф., г. Ярославль

Sheet 3000ж
A1: Чемпионат Российского студенческого спортивного союза
A2: мужчины и женщины
L3: 27-28 июня 2019 г.
K4: стадион "Шинник"
L5: г. Ярославль
D6: 28.06.2019г.г. | E6: 0.41666667 | F6: Финальные забеги | H6: ПРОТОКОЛ СОРЕВНОВАНИЙ
C8: Женщины | D8: Бег 3000 м
A9: Место | B9: Номер | C9: Фамилия, имя | D9: Дата рожд. | E9: Квал. | F9: Команда | G9: ВУЗ | H9: Результат | J9: Вып. разр. | K9: Очки | L9: Ф.И.О. тренера
H10: забеги
A11: 1 | B11: 345 | C11: =IF(B11=0," ",VLOOKUP(B11,[1]Женщины!B$1:H$65536,2,FALSE)) -> Смирнова Елена | D11: =IF(B11=0," ",VLOOKUP($B11,[1]Женщины!$B$1:$H$65536,3,FALSE)) -> 22.07.1997 | E11: =IF(B11=0," ",IF(VLOOKUP($B11,[1]Женщины!$B$1:$H$65536,4,FALSE)=0," ",VLOOKUP($B11,[1]Женщины!$B$1:$H$65536,4,FALSE))) -> КМС | F11: =IF(B11=0," ",VLOOKUP($B11,[1]Женщины!$B$1:$H$65536,5,FALSE)) -> Пензенская область | G11: =IF(B11=0," ",VLOOKUP($B11,[1]Женщины!$B$1:$H$65536,6,FALSE)) -> Пенза, ПензГУ | I11: 0.0067677083 | J11: =IF(I11=0," ",IF(I11<=[1]Разряды!$D$35,[1]Разряды!$D$3,IF(I11<=[1]Разряды!$E$35,[1]Разряды!$E$3,IF(I11<=[1]Разряды!$F$35,[1]Разряды!$F$3,IF(I11<=[1]Разряды!$G$35,[1]Разряды!$G$3,IF(I11<=[1]Разряды!$H$35,[1]Разряды!$H$3,IF(I11<=[1]Разряды!$I$35,[1]Разряды!$I$3,IF(I11<=[1]Разряды!$J$35,[1]Разряды!$J$3,"б/р")))))))) -> кмс | K11: 18+5 | L11: =IF(B11=0," ",VLOOKUP($B11,[1]Женщины!$B$1:$H$65536,7,FALSE)) -> Кузнецов В.Б.
A12: 2 | B12: 252 | C12: =IF(B12=0," ",VLOOKUP(B12,[1]Женщины!B$1:H$65536,2,FALSE)) -> Иванова Раисия | D12: =IF(B12=0," ",VLOOKUP($B12,[1]Женщины!$B$1:$H$65536,3,FALSE)) -> 03.06.1995 | E12: =IF(B12=0," ",IF(VLOOKUP($B12,[1]Женщины!$B$1:$H$65536,4,FALSE)=0," ",VLOOKUP($B12,[1]Женщины!$B$1:$H$65536,4,FALSE))) -> МС | F12: =IF(B12=0," ",VLOOKUP($B12,[1]Женщины!$B$1:$H$65536,5,FALSE)) -> Республика Татарстан | G12: =IF(B12=0," ",VLOOKUP($B12,[1]Женщины!$B$1:$H$65536,6,FALSE)) -> Казань, ФГБОУ ВО ПГАФКСиТ | I12: 0.0067884259 | J12: =IF(I12=0," ",IF(I12<=[1]Разряды!$D$35,[1]Разряды!$D$3,IF(I12<=[1]Разряды!$E$35,[1]Разряды!$E$3,IF(I12<=[1]Разряды!$F$35,[1]Разряды!$F$3,IF(I12<=[1]Разряды!$G$35,[1]Разряды!$G$3,IF(I12<=[1]Разряды!$H$35,[1]Разряды!$H$3,IF(I12<=[1]Разряды!$I$35,[1]Разряды!$I$3,IF(I12<=[1]Разряды!$J$35,[1]Разряды!$J$3,"б/р")))))))) -> кмс | K12: 15+5 | L12: =IF(B12=0," ",VLOOKUP($B12,[1]Женщины!$B$1:$H$65536,7,FALSE)) -> Прокопьев А.Г.
A13: 3 | B13: 255 | C13: =IF(B13=0," ",VLOOKUP(B13,[1]Женщины!B$1:H$65536,2,FALSE)) -> Гадельшина Альбина | D13: =IF(B13=0," ",VLOOKUP($B13,[1]Женщины!$B$1:$H$65536,3,FALSE)) -> 29.07.1998 | E13: =IF(B13=0," ",IF(VLOOKUP($B13,[1]Женщины!$B$1:$H$65536,4,FALSE)=0," ",VLOOKUP($B13,[1]Женщины!$B$1:$H$65536,4,FALSE))) -> КМС | F13: =IF(B13=0," ",VLOOKUP($B13,[1]Женщины!$B$1:$H$65536,5,FALSE)) -> Республика Татарстан | G13: =IF(B13=0," ",VLOOKUP($B13,[1]Женщины!$B$1:$H$65536,6,FALSE)) -> Казань, ФГБОУ ВО ПГАФКСиТ | I13: 0.0067979167 | J13: =IF(I13=0," ",IF(I13<=[1]Разряды!$D$35,[1]Разряды!$D$3,IF(I13<=[1]Разряды!$E$35,[1]Разряды!$E$3,IF(I13<=[1]Разряды!$F$35,[1]Разряды!$F$3,IF(I13<=[1]Разряды!$G$35,[1]Разряды!$G$3,IF(I13<=[1]Разряды!$H$35,[1]Разряды!$H$3,IF(I13<=[1]Разряды!$I$35,[1]Разряды!$I$3,IF(I13<=[1]Разряды!$J$35,[1]Разряды!$J$3,"б/р")))))))) -> кмс | K13: 13+5 | L13: =IF(B13=0," ",VLOOKUP($B13,[1]Женщины!$B$1:$H$65536,7,FALSE)) -> Арефьев В.С., Хисамов И.Н., Ополева С.Ю.
A14: 4 | B14: 256 | C14: =IF(B14=0," ",VLOOKUP(B14,[1]Женщины!B$1:H$65536,2,FALSE)) -> Сатыбалдина Яна | D14: =IF(B14=0," ",VLOOKUP($B14,[1]Женщины!$B$1:$H$65536,3,FALSE)) -> 12.01.1995 | E14: =IF(B14=0," ",IF(VLOOKUP($B14,[1]Женщины!$B$1:$H$65536,4,FALSE)=0," ",VLOOKUP($B14,[1]Женщины!$B$1:$H$65536,4,FALSE))) -> КМС | F14: =IF(B14=0," ",VLOOKUP($B14,[1]Женщины!$B$1:$H$65536,5,FALSE)) -> Республика Татарстан | G14: =IF(B14=0," ",VLOOKUP($B14,[1]Женщины!$B$1:$H$65536,6,FALSE)) -> Казань, ФГБОУ ВО ПГАФКСиТ | I14: 0.0068059028 | J14: =IF(I14=0," ",IF(I14<=[1]Разряды!$D$35,[1]Разряды!$D$3,IF(I14<=[1]Разряды!$E$35,[1]Разряды!$E$3,IF(I14<=[1]Разряды!$F$35,[1]Разряды!$F$3,IF(I14<=[1]Разряды!$G$35,[1]Разряды!$G$3,IF(I14<=[1]Разряды!$H$35,[1]Разряды!$H$3,IF(I14<=[1]Разряды!$I$35,[1]Разряды!$I$3,IF(I14<=[1]Разряды!$J$35,[1]Разряды!$J$3,"б/р")))))))) -> кмс | K14: 12+5 | L14: =IF(B14=0," ",VLOOKUP($B14,[1]Женщины!$B$1:$H$65536,7,FALSE)) -> Шитов А.В.
A15: 5 | B15: 266 | C15: =IF(B15=0," ",VLOOKUP(B15,[1]Женщины!B$1:H$65536,2,FALSE)) -> Бышкина Нина | D15: =IF(B15=0," ",VLOOKUP($B15,[1]Женщины!$B$1:$H$65536,3,FALSE)) -> 25.05.1996 | E15: =IF(B15=0," ",IF(VLOOKUP($B15,[1]Женщины!$B$1:$H$65536,4,FALSE)=0," ",VLOOKUP($B15,[1]Женщины!$B$1:$H$65536,4,FALSE))) -> КМС | F15: =IF(B15=0," ",VLOOKUP($B15,[1]Женщины!$B$1:$H$65536,5,FALSE)) -> Ивановская область | G15: =IF(B15=0," ",VLOOKUP($B15,[1]Женщины!$B$1:$H$65536,6,FALSE)) -> Иваново, ИГЭУ им. В.И. Ленина | I15: 0.0068958333 | J15: =IF(I15=0," ",IF(I15<=[1]Разряды!$D$35,[1]Разряды!$D$3,IF(I15<=[1]Разряды!$E$35,[1]Разряды!$E$3,IF(I15<=[1]Разряды!$F$35,[1]Разряды!$F$3,IF(I15<=[1]Разряды!$G$35,[1]Разряды!$G$3,IF(I15<=[1]Разряды!$H$35,[1]Разряды!$H$3,IF(I15<=[1]Разряды!$I$35,[1]Разряды!$I$3,IF(I15<=[1]Разряды!$J$35,[1]Разряды!$J$3,"б/р")))))))) -> кмс | K15: 11+5 | L15: =IF(B15=0," ",VLOOKUP($B15,[1]Женщины!$B$1:$H$65536,7,FALSE)) -> Торгов Е.Н., Гильмутдинов Ю.В.
A16: 6 | B16: 219 | C16: =IF(B16=0," ",VLOOKUP(B16,[1]Женщины!B$1:H$65536,2,FALSE)) -> Куликова Ирина | D16: =IF(B16=0," ",VLOOKUP($B16,[1]Женщины!$B$1:$H$65536,3,FALSE)) -> 15.12.1998 | E16: =IF(B16=0," ",IF(VLOOKUP($B16,[1]Женщины!$B$1:$H$65536,4,FALSE)=0," ",VLOOKUP($B16,[1]Женщины!$B$1:$H$65536,4,FALSE))) -> 1р | F16: =IF(B16=0," ",VLOOKUP($B16,[1]Женщины!$B$1:$H$65536,5,FALSE)) -> Республика Мордовия | G16: =IF(B16=0," ",VLOOKUP($B16,[1]Женщины!$B$1:$H$65536,6,FALSE)) -> Саранск, ФГБОУ ВО "НИМГУ им. Н.П. Огарева" | I16: 0.0071796296 | J16: =IF(I16=0," ",IF(I16<=[1]Разряды!$D$35,[1]Разряды!$D$3,IF(I16<=[1]Разряды!$E$35,[1]Разряды!$E$3,IF(I16<=[1]Разряды!$F$35,[1]Разряды!$F$3,IF(I16<=[1]Разряды!$G$35,[1]Разряды!$G$3,IF(I16<=[1]Разряды!$H$35,[1]Разряды!$H$3,IF(I16<=[1]Разряды!$I$35,[1]Разряды!$I$3,IF(I16<=[1]Разряды!$J$35,[1]Разряды!$J$3,"б/р")))))))) -> 1р | K16: 10 | L16: =IF(B16=0," ",VLOOKUP($B16,[1]Женщины!$B$1:$H$65536,7,FALSE)) -> Аверкин В.В.
A17: 7 | B17: 101 | C17: =IF(B17=0," ",VLOOKUP(B17,[1]Женщины!B$1:H$65536,2,FALSE)) -> Тараканова Полина | D17: =IF(B17=0," ",VLOOKUP($B17,[1]Женщины!$B$1:$H$65536,3,FALSE)) -> 30.06.1999 | E17: =IF(B17=0," ",IF(VLOOKUP($B17,[1]Женщины!$B$1:$H$65536,4,FALSE)=0," ",VLOOKUP($B17,[1]Женщины!$B$1:$H$65536,4,FALSE))) -> КМС | F17: =IF(B17=0," ",VLOOKUP($B17,[1]Женщины!$B$1:$H$65536,5,FALSE)) -> Ярославская область | G17: =IF(B17=0," ",VLOOKUP($B17,[1]Женщины!$B$1:$H$65536,6,FALSE)) -> Ярославль, ЯГПУ им. К.Д. Ушинского | I17: 0.0072284722 | J17: =IF(I17=0," ",IF(I17<=[1]Разряды!$D$35,[1]Разряды!$D$3,IF(I17<=[1]Разряды!$E$35,[1]Разряды!$E$3,IF(I17<=[1]Разряды!$F$35,[1]Разряды!$F$3,IF(I17<=[1]Разряды!$G$35,[1]Разряды!$G$3,IF(I17<=[1]Разряды!$H$35,[1]Разряды!$H$3,IF(I17<=[1]Разряды!$I$35,[1]Разряды!$I$3,IF(I17<=[1]Разряды!$J$35,[1]Разряды!$J$3,"б/р")))))))) -> 1р | K17: 9 | L17: =IF(B17=0," ",VLOOKUP($B17,[1]Женщины!$B$1:$H$65536,7,FALSE)) -> Таракановы Ю.Ф., А.В.
A18: 8 | B18: 233 | C18: =IF(B18=0," ",VLOOKUP(B18,[1]Женщины!B$1:H$65536,2,FALSE)) -> Карпинская Дарья | D18: =IF(B18=0," ",VLOOKUP($B18,[1]Женщины!$B$1:$H$65536,3,FALSE)) -> 16.10.1996 | E18: =IF(B18=0," ",IF(VLOOKUP($B18,[1]Женщины!$B$1:$H$65536,4,FALSE)=0," ",VLOOKUP($B18,[1]Женщины!$B$1:$H$65536,4,FALSE))) -> 1р | F18: =IF(B18=0," ",VLOOKUP($B18,[1]Женщины!$B$1:$H$65536,5,FALSE)) -> Новгородская область | G18: =IF(B18=0," ",VLOOKUP($B18,[1]Женщины!$B$1:$H$65536,6,FALSE)) -> Великий Новгород, НовГУ им. Ярослава Мудрого | I18: 0.0073032407 | J18: =IF(I18=0," ",IF(I18<=[1]Разряды!$D$35,[1]Разряды!$D$3,IF(I18<=[1]Разряды!$E$35,[1]Разряды!$E$3,IF(I18<=[1]Разряды!$F$35,[1]Разряды!$F$3,IF(I18<=[1]Разряды!$G$35,[1]Разряды!$G$3,IF(I18<=[1]Разряды!$H$35,[1]Разряды!$H$3,IF(I18<=[1]Разряды!$I$35,[1]Разряды!$I$3,IF(I18<=[1]Разряды!$J$35,[1]Разряды!$J$3,"б/р")))))))) -> 1р | K18: 8 | L18: =IF(B18=0," ",VLOOKUP($B18,[1]Женщины!$B$1:$H$65536,7,FALSE)) -> Титяк Т.А.
A19: 9 | B19: 289 | C19: =IF(B19=0," ",VLOOKUP(B19,[1]Женщины!B$1:H$65536,2,FALSE)) -> Гусева Мария | D19: =IF(B19=0," ",VLOOKUP($B19,[1]Женщины!$B$1:$H$65536,3,FALSE)) -> 19.03.1998 | E19: =IF(B19=0," ",IF(VLOOKUP($B19,[1]Женщины!$B$1:$H$65536,4,FALSE)=0," ",VLOOKUP($B19,[1]Женщины!$B$1:$H$65536,4,FALSE))) -> 1р | F19: =IF(B19=0," ",VLOOKUP($B19,[1]Женщины!$B$1:$H$65536,5,FALSE)) -> Архангельская область | G19: =IF(B19=0," ",VLOOKUP($B19,[1]Женщины!$B$1:$H$65536,6,FALSE)) -> Архангельск, САФУ им. М.В. Ломоносова | I19: 0.0073543981 | J19: =IF(I19=0," ",IF(I19<=[1]Разряды!$D$35,[1]Разряды!$D$3,IF(I19<=[1]Разряды!$E$35,[1]Разряды!$E$3,IF(I19<=[1]Разряды!$F$35,[1]Разряды!$F$3,IF(I19<=[1]Разряды!$G$35,[1]Разряды!$G$3,IF(I19<=[1]Разряды!$H$35,[1]Разряды!$H$3,IF(I19<=[1]Разряды!$I$35,[1]Разряды!$I$3,IF(I19<=[1]Разряды!$J$35,[1]Разряды!$J$3,"б/р")))))))) -> 1р | K19: 7 | L19: =IF(B19=0," ",VLOOKUP($B19,[1]Женщины!$B$1:$H$65536,7,FALSE)) -> Мингалева А.Г.
A20: 10 | B20: 194 | C20: =IF(B20=0," ",VLOOKUP(B20,[1]Женщины!B$1:H$65536,2,FALSE)) -> Колесова Анна | D20: =IF(B20=0," ",VLOOKUP($B20,[1]Женщины!$B$1:$H$65536,3,FALSE)) -> 30.04.1999 | E20: =IF(B20=0," ",IF(VLOOKUP($B20,[1]Женщины!$B$1:$H$65536,4,FALSE)=0," ",VLOOKUP($B20,[1]Женщины!$B$1:$H$65536,4,FALSE))) -> 1р | F20: =IF(B20=0," ",VLOOKUP($B20,[1]Женщины!$B$1:$H$65536,5,FALSE)) -> Ярославская область | G20: =IF(B20=0," ",VLOOKUP($B20,[1]Женщины!$B$1:$H$65536,6,FALSE)) -> Рыбинск, РГАТУ | I20: 0.0073748843 | J20: =IF(I20=0," ",IF(I20<=[1]Разряды!$D$35,[1]Разряды!$D$3,IF(I20<=[1]Разряды!$E$35,[1]Разряды!$E$3,IF(I20<=[1]Разряды!$F$35,[1]Разряды!$F$3,IF(I20<=[1]Разряды!$G$35,[1]Разряды!$G$3,IF(I20<=[1]Разряды!$H$35,[1]Разряды!$H$3,IF(I20<=[1]Разряды!$I$35,[1]Разряды!$I$3,IF(I20<=[1]Разряды!$J$35,[1]Разряды!$J$3,"б/р")))))))) -> 1р | K20: л | L20: =IF(B20=0," ",VLOOKUP($B20,[1]Женщины!$B$1:$H$65536,7,FALSE)) -> Мицик Ю.И.
A21: 11 | B21: 176 | C21: =IF(B21=0," ",VLOOKUP(B21,[1]Женщины!B$1:H$65536,2,FALSE)) -> Жолобова Жанна | D21: =IF(B21=0," ",VLOOKUP($B21,[1]Женщины!$B$1:$H$65536,3,FALSE)) -> 11.09.1998 | E21: =IF(B21=0," ",IF(VLOOKUP($B21,[1]Женщины!$B$1:$H$65536,4,FALSE)=0," ",VLOOKUP($B21,[1]Женщины!$B$1:$H$65536,4,FALSE))) -> МС | F21: =IF(B21=0," ",VLOOKUP($B21,[1]Женщины!$B$1:$H$65536,5,FALSE)) -> Москва | G21: =IF(B21=0," ",VLOOKUP($B21,[1]Женщины!$B$1:$H$65536,6,FALSE)) -> Москва, РГУФКСМиТ (ГЦОЛИФК) | I21: 0.0076225694 | J21: =IF(I21=0," ",IF(I21<=[1]Разряды!$D$35,[1]Разряды!$D$3,IF(I21<=[1]Разряды!$E$35,[1]Разряды!$E$3,IF(I21<=[1]Разряды!$F$35,[1]Разряды!$F$3,IF(I21<=[1]Разряды!$G$35,[1]Разряды!$G$3,IF(I21<=[1]Разряды!$H$35,[1]Разряды!$H$3,IF(I21<=[1]Разряды!$I$35,[1]Разряды!$I$3,IF(I21<=[1]Разряды!$J$35,[1]Разряды!$J$3,"б/р")))))))) -> 2р | K21: 6 | L21: =IF(B21=0," ",VLOOKUP($B21,[1]Женщины!$B$1:$H$65536,7,FALSE)) -> Сиваков Л.В., Полищук Д.В.
A22: 12 | B22: 145 | C22: =IF(B22=0," ",VLOOKUP(B22,[1]Женщины!B$1:H$65536,2,FALSE)) -> Шишкова Любовь | D22: =IF(B22=0," ",VLOOKUP($B22,[1]Женщины!$B$1:$H$65536,3,FALSE)) -> 12.03.1996 | E22: =IF(B22=0," ",IF(VLOOKUP($B22,[1]Женщины!$B$1:$H$65536,4,FALSE)=0," ",VLOOKUP($B22,[1]Женщины!$B$1:$H$65536,4,FALSE))) -> 1р | F22: =IF(B22=0," ",VLOOKUP($B22,[1]Женщины!$B$1:$H$65536,5,FALSE)) -> Костромская область | G22: =IF(B22=0," ",VLOOKUP($B22,[1]Женщины!$B$1:$H$65536,6,FALSE)) -> Кострома, КГУ | I22: 0.0078494213 | J22: =IF(I22=0," ",IF(I22<=[1]Разряды!$D$35,[1]Разряды!$D$3,IF(I22<=[1]Разряды!$E$35,[1]Разряды!$E$3,IF(I22<=[1]Разряды!$F$35,[1]Разряды!$F$3,IF(I22<=[1]Разряды!$G$35,[1]Разряды!$G$3,IF(I22<=[1]Разряды!$H$35,[1]Разряды!$H$3,IF(I22<=[1]Разряды!$I$35,[1]Разряды!$I$3,IF(I22<=[1]Разряды!$J$35,[1]Разряды!$J$3,"б/р")))))))) -> 2р | K22: 5 | L22: =IF(B22=0," ",VLOOKUP($B22,[1]Женщины!$B$1:$H$65536,7,FALSE)) -> Павлов Е.А.
C23: =IF(B23=0," ",VLOOKUP(B23,[1]Женщины!B$1:H$65536,2,FALSE)) | D23: =IF(B23=0," ",VLOOKUP($B23,[1]Женщины!$B$1:$H$65536,3,FALSE)) | E23: =IF(B23=0," ",IF(VLOOKUP($B23,[1]Женщины!$B$1:$H$65536,4,FALSE)=0," ",VLOOKUP($B23,[1]Женщины!$B$1:$H$65536,4,FALSE))) | F23: =IF(B23=0," ",VLOOKUP($B23,[1]Женщины!$B$1:$H$65536,5,FALSE)) | G23: =IF(B23=0," ",VLOOKUP($B23,[1]Женщины!$B$1:$H$65536,6,FALSE)) | J23: =IF(I23=0," ",IF(I23<=[1]Разряды!$D$35,[1]Разряды!$D$3,IF(I23<=[1]Разряды!$E$35,[1]Разряды!$E$3,IF(I23<=[1]Разряды!$F$35,[1]Разряды!$F$3,IF(I23<=[1]Разряды!$G$35,[1]Разряды!$G$3,IF(I23<=[1]Разряды!$H$35,[1]Разряды!$H$3,IF(I23<=[1]Разряды!$I$35,[1]Разряды!$I$3,IF(I23<=[1]Разряды!$J$35,[1]Разряды!$J$3,"б/р")))))))) | L23: =IF(B23=0," ",VLOOKUP($B23,[1]Женщины!$B$1:$H$65536,7,FALSE))
B27: Главный судья, спортивный судья ВК | G27: Хрущев Е.Н., г. Ярославль
B30: Главный секретарь, спортивный судья ВК | G30: Тараканова Ю.Ф., г. Ярославль

Sheet 100сб ж
A1: Чемпионат Российского студенческого спортивного союза
A2: мужчины и женщины
L3: 27-28 июня 2019 г.
K4: стадион "Шинник"
L5: г. Ярославль
D6: 27.06.2019г. | E6: 0.68055556 | F6: Забеги | H6: ПРОТОКОЛ СОРЕВНОВАНИЙ
D7: 27.06.2019г. | E7: 0.73958333 | F7: Финал
C8: Женщины | D8: Бег 100 м с/б
A9: Место | B9: Номер | C9: Фамилия, имя | D9: Дата рожд. | E9: Квал. | F9: Команда | G9: ВУЗ | H9: Результат | J9: Вып. разр. | K9: Очки | L9: Ф.И.О. тренера
H10: забеги | I10: финал
A11: 1 | B11: 50 | C11: =IF(B11=0," ",VLOOKUP(B11,[1]Женщины!B$1:H$65536,2,FALSE)) -> Лабыгина Ксения | D11: =IF(B11=0," ",VLOOKUP($B11,[1]Женщины!$B$1:$H$65536,3,FALSE)) -> 20.02.2000 | E11: =IF(B11=0," ",IF(VLOOKUP($B11,[1]Женщины!$B$1:$H$65536,4,FALSE)=0," ",VLOOKUP($B11,[1]Женщины!$B$1:$H$65536,4,FALSE))) -> КМС | F11: =IF(B11=0," ",VLOOKUP($B11,[1]Женщины!$B$1:$H$65536,5,FALSE)) -> Удмуртская Республика | G11: =IF(B11=0," ",VLOOKUP($B11,[1]Женщины!$B$1:$H$65536,6,FALSE)) -> Ижевск, УдГУ | H11: 0.00016331019 | I11: 0.00016238426 | J11: =IF(H11=0," ",IF(H11<=[1]Разряды!$D$37,[1]Разряды!$D$3,IF(H11<=[1]Разряды!$E$37,[1]Разряды!$E$3,IF(H11<=[1]Разряды!$F$37,[1]Разряды!$F$3,IF(H11<=[1]Разряды!$G$37,[1]Разряды!$G$3,IF(H11<=[1]Разряды!$H$37,[1]Разряды!$H$3,IF(H11<=[1]Разряды!$I$37,[1]Разряды!$I$3,IF(H11<=[1]Разряды!$J$37,[1]Разряды!$J$3,"б/р")))))))) -> кмс | K11: 18+5 | L11: =IF(B11=0," ",VLOOKUP($B11,[1]Женщины!$B$1:$H$65536,7,FALSE)) -> Куртеев А.Б.
A12: 2 | B12: 10 | C12: =IF(B12=0," ",VLOOKUP(B12,[1]Женщины!B$1:H$65536,2,FALSE)) -> Плавунова Маргарита | D12: =IF(B12=0," ",VLOOKUP($B12,[1]Женщины!$B$1:$H$65536,3,FALSE)) -> 31.01.1994 | E12: =IF(B12=0," ",IF(VLOOKUP($B12,[1]Женщины!$B$1:$H$65536,4,FALSE)=0," ",VLOOKUP($B12,[1]Женщины!$B$1:$H$65536,4,FALSE))) -> КМС | F12: =IF(B12=0," ",VLOOKUP($B12,[1]Женщины!$B$1:$H$65536,5,FALSE)) -> Тамбовская область | G12: =IF(B12=0," ",VLOOKUP($B12,[1]Женщины!$B$1:$H$65536,6,FALSE)) -> Тамбов, ТГУ им. Г.Р. Державина | H12: 0.00016631944 | I12: 0.00016284722 | J12: =IF(H12=0," ",IF(H12<=[1]Разряды!$D$37,[1]Разряды!$D$3,IF(H12<=[1]Разряды!$E$37,[1]Разряды!$E$3,IF(H12<=[1]Разряды!$F$37,[1]Разряды!$F$3,IF(H12<=[1]Разряды!$G$37,[1]Разряды!$G$3,IF(H12<=[1]Разряды!$H$37,[1]Разряды!$H$3,IF(H12<=[1]Разряды!$I$37,[1]Разряды!$I$3,IF(H12<=[1]Разряды!$J$37,[1]Разряды!$J$3,"б/р")))))))) -> кмс | K12: 15+5 | L12: =IF(B12=0," ",VLOOKUP($B12,[1]Женщины!$B$1:$H$65536,7,FALSE)) -> Мельникова Е.
A13: 3 | B13: 83 | C13: =IF(B13=0," ",VLOOKUP(B13,[1]Женщины!B$1:H$65536,2,FALSE)) -> Шишкина Дарья | D13: =IF(B13=0," ",VLOOKUP($B13,[1]Женщины!$B$1:$H$65536,3,FALSE)) -> 23.04.1999 | E13: =IF(B13=0," ",IF(VLOOKUP($B13,[1]Женщины!$B$1:$H$65536,4,FALSE)=0," ",VLOOKUP($B13,[1]Женщины!$B$1:$H$65536,4,FALSE))) -> МС | F13: =IF(B13=0," ",VLOOKUP($B13,[1]Женщины!$B$1:$H$65536,5,FALSE)) -> Республика Карелия | G13: =IF(B13=0," ",VLOOKUP($B13,[1]Женщины!$B$1:$H$65536,6,FALSE)) -> Петрозаводск, ПетрГУ | H13: 0.00016331019 | I13: 0.00016296296 | J13: =IF(H13=0," ",IF(H13<=[1]Разряды!$D$37,[1]Разряды!$D$3,IF(H13<=[1]Разряды!$E$37,[1]Разряды!$E$3,IF(H13<=[1]Разряды!$F$37,[1]Разряды!$F$3,IF(H13<=[1]Разряды!$G$37,[1]Разряды!$G$3,IF(H13<=[1]Разряды!$H$37,[1]Разряды!$H$3,IF(H13<=[1]Разряды!$I$37,[1]Разряды!$I$3,IF(H13<=[1]Разряды!$J$37,[1]Разряды!$J$3,"б/р")))))))) -> кмс | K13: 13+5 | L13: =IF(B13=0," ",VLOOKUP($B13,[1]Женщины!$B$1:$H$65536,7,FALSE)) -> Воробьев С.А., Климов А.
A14: 4 | B14: 90 | C14: =IF(B14=0," ",VLOOKUP(B14,[1]Женщины!B$1:H$65536,2,FALSE)) -> Клещева Кристина | D14: =IF(B14=0," ",VLOOKUP($B14,[1]Женщины!$B$1:$H$65536,3,FALSE)) -> 26.03.1999 | E14: =IF(B14=0," ",IF(VLOOKUP($B14,[1]Женщины!$B$1:$H$65536,4,FALSE)=0," ",VLOOKUP($B14,[1]Женщины!$B$1:$H$65536,4,FALSE))) -> МС | F14: =IF(B14=0," ",VLOOKUP($B14,[1]Женщины!$B$1:$H$65536,5,FALSE)) -> Челябинская область | G14: =IF(B14=0," ",VLOOKUP($B14,[1]Женщины!$B$1:$H$65536,6,FALSE)) -> Челябинск, УралГУФК | H14: 0.00016319444 | I14: 0.00016342593 | J14: =IF(H14=0," ",IF(H14<=[1]Разряды!$D$37,[1]Разряды!$D$3,IF(H14<=[1]Разряды!$E$37,[1]Разряды!$E$3,IF(H14<=[1]Разряды!$F$37,[1]Разряды!$F$3,IF(H14<=[1]Разряды!$G$37,[1]Разряды!$G$3,IF(H14<=[1]Разряды!$H$37,[1]Разряды!$H$3,IF(H14<=[1]Разряды!$I$37,[1]Разряды!$I$3,IF(H14<=[1]Разряды!$J$37,[1]Разряды!$J$3,"б/р")))))))) -> кмс | K14: 12+5 | L14: =IF(B14=0," ",VLOOKUP($B14,[1]Женщины!$B$1:$H$65536,7,FALSE)) -> Ермолаев С.В., Ганчало Н.В.
A15: 5 | B15: 56 | C15: =IF(B15=0," ",VLOOKUP(B15,[1]Женщины!B$1:H$65536,2,FALSE)) -> Серова Ульяна | D15: =IF(B15=0," ",VLOOKUP($B15,[1]Женщины!$B$1:$H$65536,3,FALSE)) -> 10.2.1998 | E15: =IF(B15=0," ",IF(VLOOKUP($B15,[1]Женщины!$B$1:$H$65536,4,FALSE)=0," ",VLOOKUP($B15,[1]Женщины!$B$1:$H$65536,4,FALSE))) -> КМС | F15: =IF(B15=0," ",VLOOKUP($B15,[1]Женщины!$B$1:$H$65536,5,FALSE)) -> Республика Татарстан | G15: =IF(B15=0," ",VLOOKUP($B15,[1]Женщины!$B$1:$H$65536,6,FALSE)) -> Казань, ФГБОУ ВО ПГАФКСиТ | H15: 0.00017060185 | I15: 0.00016516204 | J15: =IF(H15=0," ",IF(H15<=[1]Разряды!$D$37,[1]Разряды!$D$3,IF(H15<=[1]Разряды!$E$37,[1]Разряды!$E$3,IF(H15<=[1]Разряды!$F$37,[1]Разряды!$F$3,IF(H15<=[1]Разряды!$G$37,[1]Разряды!$G$3,IF(H15<=[1]Разряды!$H$37,[1]Разряды!$H$3,IF(H15<=[1]Разряды!$I$37,[1]Разряды!$I$3,IF(H15<=[1]Разряды!$J$37,[1]Разряды!$J$3,"б/р")))))))) -> кмс | K15: 11+5 | L15: =IF(B15=0," ",VLOOKUP($B15,[1]Женщины!$B$1:$H$65536,7,FALSE)) -> Барышников А.С., Пермяков О.А.
A16: 6 | B16: 14 | C16: =IF(B16=0," ",VLOOKUP(B16,[1]Женщины!B$1:H$65536,2,FALSE)) -> Кузовкина Наталья | D16: =IF(B16=0," ",VLOOKUP($B16,[1]Женщины!$B$1:$H$65536,3,FALSE)) -> 03.12.1998 | E16: =IF(B16=0," ",IF(VLOOKUP($B16,[1]Женщины!$B$1:$H$65536,4,FALSE)=0," ",VLOOKUP($B16,[1]Женщины!$B$1:$H$65536,4,FALSE))) -> КМС | F16: =IF(B16=0," ",VLOOKUP($B16,[1]Женщины!$B$1:$H$65536,5,FALSE)) -> Приморский край | G16: =IF(B16=0," ",VLOOKUP($B16,[1]Женщины!$B$1:$H$65536,6,FALSE)) -> Владивосток, ДВФУ | H16: 0.00016574074 | I16: 0.00016539352 | J16: =IF(H16=0," ",IF(H16<=[1]Разряды!$D$37,[1]Разряды!$D$3,IF(H16<=[1]Разряды!$E$37,[1]Разряды!$E$3,IF(H16<=[1]Разряды!$F$37,[1]Разряды!$F$3,IF(H16<=[1]Разряды!$G$37,[1]Разряды!$G$3,IF(H16<=[1]Разряды!$H$37,[1]Разряды!$H$3,IF(H16<=[1]Разряды!$I$37,[1]Разряды!$I$3,IF(H16<=[1]Разряды!$J$37,[1]Разряды!$J$3,"б/р")))))))) -> кмс | K16: 10+5 | L16: =IF(B16=0," ",VLOOKUP($B16,[1]Женщины!$B$1:$H$65536,7,FALSE)) -> Кузина Т.Н., Загиной Ю.А.
A17: 7 | B17: 91 | C17: =IF(B17=0," ",VLOOKUP(B17,[1]Женщины!B$1:H$65536,2,FALSE)) -> Гладкова Елена | D17: =IF(B17=0," ",VLOOKUP($B17,[1]Женщины!$B$1:$H$65536,3,FALSE)) -> 10.06.1998 | E17: =IF(B17=0," ",IF(VLOOKUP($B17,[1]Женщины!$B$1:$H$65536,4,FALSE)=0," ",VLOOKUP($B17,[1]Женщины!$B$1:$H$65536,4,FALSE))) -> КМС | F17: =IF(B17=0," ",VLOOKUP($B17,[1]Женщины!$B$1:$H$65536,5,FALSE)) -> Челябинская область | G17: =IF(B17=0," ",VLOOKUP($B17,[1]Женщины!$B$1:$H$65536,6,FALSE)) -> Челябинск, УралГУФК | H17: 0.00017199074 | I17: 0.00017280093 | J17: =IF(H17=0," ",IF(H17<=[1]Разряды!$D$37,[1]Разряды!$D$3,IF(H17<=[1]Разряды!$E$37,[1]Разряды!$E$3,IF(H17<=[1]Разряды!$F$37,[1]Разряды!$F$3,IF(H17<=[1]Разряды!$G$37,[1]Разряды!$G$3,IF(H17<=[1]Разряды!$H$37,[1]Разряды!$H$3,IF(H17<=[1]Разряды!$I$37,[1]Разряды!$I$3,IF(H17<=[1]Разряды!$J$37,[1]Разряды!$J$3,"б/р")))))))) -> кмс | K17: 9+5 | L17: =IF(B17=0," ",VLOOKUP($B17,[1]Женщины!$B$1:$H$65536,7,FALSE)) -> Меньшенина Н.В.
A18: 8 | B18: 18 | C18: =IF(B18=0," ",VLOOKUP(B18,[1]Женщины!B$1:H$65536,2,FALSE)) -> Попова Александра | D18: =IF(B18=0," ",VLOOKUP($B18,[1]Женщины!$B$1:$H$65536,3,FALSE)) -> 23.07.2000 | E18: =IF(B18=0," ",IF(VLOOKUP($B18,[1]Женщины!$B$1:$H$65536,4,FALSE)=0," ",VLOOKUP($B18,[1]Женщины!$B$1:$H$65536,4,FALSE))) -> КМС | F18: =IF(B18=0," ",VLOOKUP($B18,[1]Женщины!$B$1:$H$65536,5,FALSE)) -> Москва | G18: =IF(B18=0," ",VLOOKUP($B18,[1]Женщины!$B$1:$H$65536,6,FALSE)) -> Москва, РГУФКСМиТ (ГЦОЛИФК) | H18: 0.00017303241 | I18: 0.00017361111 | J18: =IF(H18=0," ",IF(H18<=[1]Разряды!$D$37,[1]Разряды!$D$3,IF(H18<=[1]Разряды!$E$37,[1]Разряды!$E$3,IF(H18<=[1]Разряды!$F$37,[1]Разряды!$F$3,IF(H18<=[1]Разряды!$G$37,[1]Разряды!$G$3,IF(H18<=[1]Разряды!$H$37,[1]Разряды!$H$3,IF(H18<=[1]Разряды!$I$37,[1]Разряды!$I$3,IF(H18<=[1]Разряды!$J$37,[1]Разряды!$J$3,"б/р")))))))) -> кмс | K18: 8+5 | L18: =IF(B18=0," ",VLOOKUP($B18,[1]Женщины!$B$1:$H$65536,7,FALSE)) -> Чермошанский И.В.
A19: 9 | B19: 77 | C19: =IF(B19=0," ",VLOOKUP(B19,[1]Женщины!B$1:H$65536,2,FALSE)) -> Шахворостова Валерия | D19: =IF(B19=0," ",VLOOKUP($B19,[1]Женщины!$B$1:$H$65536,3,FALSE)) -> 22.05.1998 | E19: =IF(B19=0," ",IF(VLOOKUP($B19,[1]Женщины!$B$1:$H$65536,4,FALSE)=0," ",VLOOKUP($B19,[1]Женщины!$B$1:$H$65536,4,FALSE))) -> МС | F19: =IF(B19=0," ",VLOOKUP($B19,[1]Женщины!$B$1:$H$65536,5,FALSE)) -> Владимирская область | G19: =IF(B19=0," ",VLOOKUP($B19,[1]Женщины!$B$1:$H$65536,6,FALSE)) -> Владимир, ВлГУ им. А.Г. и Н.Г Столетовых | H19: 0.00017835648 | J19: =IF(H19=0," ",IF(H19<=[1]Разряды!$D$37,[1]Разряды!$D$3,IF(H19<=[1]Разряды!$E$37,[1]Разряды!$E$3,IF(H19<=[1]Разряды!$F$37,[1]Разряды!$F$3,IF(H19<=[1]Разряды!$G$37,[1]Разряды!$G$3,IF(H19<=[1]Разряды!$H$37,[1]Разряды!$H$3,IF(H19<=[1]Разряды!$I$37,[1]Разряды!$I$3,IF(H19<=[1]Разряды!$J$37,[1]Разряды!$J$3,"б/р")))))))) -> 1р | K19: 7 | L19: =IF(B19=0," ",VLOOKUP($B19,[1]Женщины!$B$1:$H$65536,7,FALSE)) -> Морочко М.А.
A20: 10 | B20: 11 | C20: =IF(B20=0," ",VLOOKUP(B20,[1]Женщины!B$1:H$65536,2,FALSE)) -> Петрушина Ольга | D20: =IF(B20=0," ",VLOOKUP($B20,[1]Женщины!$B$1:$H$65536,3,FALSE)) -> 30.04.1998 | E20: =IF(B20=0," ",IF(VLOOKUP($B20,[1]Женщины!$B$1:$H$65536,4,FALSE)=0," ",VLOOKUP($B20,[1]Женщины!$B$1:$H$65536,4,FALSE))) -> КМС | F20: =IF(B20=0," ",VLOOKUP($B20,[1]Женщины!$B$1:$H$65536,5,FALSE)) -> Тамбовская область | G20: =IF(B20=0," ",VLOOKUP($B20,[1]Женщины!$B$1:$H$65536,6,FALSE)) -> Тамбов, ТГУ им. Г.Р. Державина | H20: 0.00018159722 | J20: =IF(H20=0," ",IF(H20<=[1]Разряды!$D$37,[1]Разряды!$D$3,IF(H20<=[1]Разряды!$E$37,[1]Разряды!$E$3,IF(H20<=[1]Разряды!$F$37,[1]Разряды!$F$3,IF(H20<=[1]Разряды!$G$37,[1]Разряды!$G$3,IF(H20<=[1]Разряды!$H$37,[1]Разряды!$H$3,IF(H20<=[1]Разряды!$I$37,[1]Разряды!$I$3,IF(H20<=[1]Разряды!$J$37,[1]Разряды!$J$3,"б/р")))))))) -> 1р | K20: 6 | L20: =IF(B20=0," ",VLOOKUP($B20,[1]Женщины!$B$1:$H$65536,7,FALSE)) -> Мельникова Е.
A21: 11 | B21: 94 | C21: =IF(B21=0," ",VLOOKUP(B21,[1]Женщины!B$1:H$65536,2,FALSE)) -> Овчинникова Екатерина | D21: =IF(B21=0," ",VLOOKUP($B21,[1]Женщины!$B$1:$H$65536,3,FALSE)) -> 01.04.1995 | E21: =IF(B21=0," ",IF(VLOOKUP($B21,[1]Женщины!$B$1:$H$65536,4,FALSE)=0," ",VLOOKUP($B21,[1]Женщины!$B$1:$H$65536,4,FALSE))) -> КМС | F21: =IF(B21=0," ",VLOOKUP($B21,[1]Женщины!$B$1:$H$65536,5,FALSE)) -> Калининградская область | G21: =IF(B21=0," ",VLOOKUP($B21,[1]Женщины!$B$1:$H$65536,6,FALSE)) -> Калининград, БФУ им. И. Канта | H21: 0.00018368056 | J21: =IF(H21=0," ",IF(H21<=[1]Разряды!$D$37,[1]Разряды!$D$3,IF(H21<=[1]Разряды!$E$37,[1]Разряды!$E$3,IF(H21<=[1]Разряды!$F$37,[1]Разряды!$F$3,IF(H21<=[1]Разряды!$G$37,[1]Разряды!$G$3,IF(H21<=[1]Разряды!$H$37,[1]Разряды!$H$3,IF(H21<=[1]Разряды!$I$37,[1]Разряды!$I$3,IF(H21<=[1]Разряды!$J$37,[1]Разряды!$J$3,"б/р")))))))) -> 1р | K21: 5 | L21: =IF(B21=0," ",VLOOKUP($B21,[1]Женщины!$B$1:$H$65536,7,FALSE)) -> Григорьев А.А.
A22: 12 | B22: 73 | C22: =IF(B22=0," ",VLOOKUP(B22,[1]Женщины!B$1:H$65536,2,FALSE)) -> Семенова Татьяна | D22: =IF(B22=0," ",VLOOKUP($B22,[1]Женщины!$B$1:$H$65536,3,FALSE)) -> 05.07.1999 | E22: =IF(B22=0," ",IF(VLOOKUP($B22,[1]Женщины!$B$1:$H$65536,4,FALSE)=0," ",VLOOKUP($B22,[1]Женщины!$B$1:$H$65536,4,FALSE))) -> КМС | F22: =IF(B22=0," ",VLOOKUP($B22,[1]Женщины!$B$1:$H$65536,5,FALSE)) -> Пермский край | G22: =IF(B22=0," ",VLOOKUP($B22,[1]Женщины!$B$1:$H$65536,6,FALSE)) -> Пермь, ПНИПУ с/к "Политехник" | H22: 0.00018622685 | J22: =IF(H22=0," ",IF(H22<=[1]Разряды!$D$37,[1]Разряды!$D$3,IF(H22<=[1]Разряды!$E$37,[1]Разряды!$E$3,IF(H22<=[1]Разряды!$F$37,[1]Разряды!$F$3,IF(H22<=[1]Разряды!$G$37,[1]Разряды!$G$3,IF(H22<=[1]Разряды!$H$37,[1]Разряды!$H$3,IF(H22<=[1]Разряды!$I$37,[1]Разряды!$I$3,IF(H22<=[1]Разряды!$J$37,[1]Разряды!$J$3,"б/р")))))))) -> 1р | K22: 4 | L22: =IF(B22=0," ",VLOOKUP($B22,[1]Женщины!$B$1:$H$65536,7,FALSE)) -> Гладков В.П.
B23: 2 | C23: =IF(B23=0," ",VLOOKUP(B23,[1]Женщины!B$1:H$65536,2,FALSE)) -> Иванова Елизавета | D23: =IF(B23=0," ",VLOOKUP($B23,[1]Женщины!$B$1:$H$65536,3,FALSE)) -> 22.05.1997 | E23: =IF(B23=0," ",IF(VLOOKUP($B23,[1]Женщины!$B$1:$H$65536,4,FALSE)=0," ",VLOOKUP($B23,[1]Женщины!$B$1:$H$65536,4,FALSE))) -> МС | F23: =IF(B23=0," ",VLOOKUP($B23,[1]Женщины!$B$1:$H$65536,5,FALSE)) -> Ярославская область | G23: =IF(B23=0," ",VLOOKUP($B23,[1]Женщины!$B$1:$H$65536,6,FALSE)) -> Ярославль, ЯГПУ им. К.Д. Ушинского | H23: r|med | K23: 0 | L23: =IF(B23=0," ",VLOOKUP($B23,[1]Женщины!$B$1:$H$65536,7,FALSE)) -> Огвоздина Т.В., Сергеева Е.В.
B28: Главный судья, спортивный судья ВК | G28: Хрущев Е.Н., г. Ярославль
B31: Главный секретарь, спортивный судья ВК | G31: Тараканова Ю.Ф., г. Ярославль

Sheet 400сб ж
A1: Чемпионат Российского студенческого спортивного союза
A2: мужчины и женщины
L3: 27-28 июня 2019 г.
K4: стадион "Шинник"
L5: г. Ярославль
D6: 28.06.2019г. | E6: 0.50347222 | F6: Финальные забеги | H6: ПРОТОКОЛ СОРЕВНОВАНИЙ
C8: Женщины | D8: Бег 400 м с/б
A9: Место | B9: Номер | C9: Фамилия, имя | D9: Дата рожд. | E9: Квал. | F9: Команда | G9: ВУЗ | H9: Результат | J9: Вып. разр. | K9: Очки | L9: Ф.И.О. тренера
H10: фин.забеги
A11: 1 | B11: 334 | C11: =IF(B11=0," ",VLOOKUP(B11,[1]Женщины!B$1:H$65536,2,FALSE)) -> Тюрина Екатерина | D11: =IF(B11=0," ",VLOOKUP($B11,[1]Женщины!$B$1:$H$65536,3,FALSE)) -> 18.04.1996 | E11: =IF(B11=0," ",IF(VLOOKUP($B11,[1]Женщины!$B$1:$H$65536,4,FALSE)=0," ",VLOOKUP($B11,[1]Женщины!$B$1:$H$65536,4,FALSE))) -> МС | F11: =IF(B11=0," ",VLOOKUP($B11,[1]Женщины!$B$1:$H$65536,5,FALSE)) -> Ивановская область | G11: =IF(B11=0," ",VLOOKUP($B11,[1]Женщины!$B$1:$H$65536,6,FALSE)) -> Шуя, ШФ ИвГУ | I11: 0.00070520833 | J11: =IF(I11=0," ",IF(I11<=[1]Разряды!$D$38,[1]Разряды!$D$3,IF(I11<=[1]Разряды!$E$38,[1]Разряды!$E$3,IF(I11<=[1]Разряды!$F$38,[1]Разряды!$F$3,IF(I11<=[1]Разряды!$G$38,[1]Разряды!$G$3,IF(I11<=[1]Разряды!$H$38,[1]Разряды!$H$3,IF(I11<=[1]Разряды!$I$38,[1]Разряды!$I$3,IF(I11<=[1]Разряды!$J$38,[1]Разряды!$J$3,"б/р")))))))) -> кмс | K11: 18+5 | L11: =IF(B11=0," ",VLOOKUP($B11,[1]Женщины!$B$1:$H$65536,7,FALSE)) -> Куликова Е., Седова Н.А.
A12: 2 | B12: 141 | C12: =IF(B12=0," ",VLOOKUP(B12,[1]Женщины!B$1:H$65536,2,FALSE)) -> Кузьмина Светлана | D12: =IF(B12=0," ",VLOOKUP($B12,[1]Женщины!$B$1:$H$65536,3,FALSE)) -> 20.02.1997 | E12: =IF(B12=0," ",IF(VLOOKUP($B12,[1]Женщины!$B$1:$H$65536,4,FALSE)=0," ",VLOOKUP($B12,[1]Женщины!$B$1:$H$65536,4,FALSE))) -> КМС | F12: =IF(B12=0," ",VLOOKUP($B12,[1]Женщины!$B$1:$H$65536,5,FALSE)) -> Сахалинская область | G12: =IF(B12=0," ",VLOOKUP($B12,[1]Женщины!$B$1:$H$65536,6,FALSE)) -> СахГУ | I12: 0.00070706019 | J12: =IF(I12=0," ",IF(I12<=[1]Разряды!$D$38,[1]Разряды!$D$3,IF(I12<=[1]Разряды!$E$38,[1]Разряды!$E$3,IF(I12<=[1]Разряды!$F$38,[1]Разряды!$F$3,IF(I12<=[1]Разряды!$G$38,[1]Разряды!$G$3,IF(I12<=[1]Разряды!$H$38,[1]Разряды!$H$3,IF(I12<=[1]Разряды!$I$38,[1]Разряды!$I$3,IF(I12<=[1]Разряды!$J$38,[1]Разряды!$J$3,"б/р")))))))) -> кмс | K12: 15+5 | L12: =IF(B12=0," ",VLOOKUP($B12,[1]Женщины!$B$1:$H$65536,7,FALSE)) -> Быкова Т.Ф., Жижикин А.Н.
A13: 3 | B13: 77 | C13: =IF(B13=0," ",VLOOKUP(B13,[1]Женщины!B$1:H$65536,2,FALSE)) -> Шахворостова Валерия | D13: =IF(B13=0," ",VLOOKUP($B13,[1]Женщины!$B$1:$H$65536,3,FALSE)) -> 22.05.1998 | E13: =IF(B13=0," ",IF(VLOOKUP($B13,[1]Женщины!$B$1:$H$65536,4,FALSE)=0," ",VLOOKUP($B13,[1]Женщины!$B$1:$H$65536,4,FALSE))) -> МС | F13: =IF(B13=0," ",VLOOKUP($B13,[1]Женщины!$B$1:$H$65536,5,FALSE)) -> Владимирская область | G13: =IF(B13=0," ",VLOOKUP($B13,[1]Женщины!$B$1:$H$65536,6,FALSE)) -> Владимир, ВлГУ им. А.Г. и Н.Г Столетовых | I13: 0.00071377315 | J13: =IF(I13=0," ",IF(I13<=[1]Разряды!$D$38,[1]Разряды!$D$3,IF(I13<=[1]Разряды!$E$38,[1]Разряды!$E$3,IF(I13<=[1]Разряды!$F$38,[1]Разряды!$F$3,IF(I13<=[1]Разряды!$G$38,[1]Разряды!$G$3,IF(I13<=[1]Разряды!$H$38,[1]Разряды!$H$3,IF(I13<=[1]Разряды!$I$38,[1]Разряды!$I$3,IF(I13<=[1]Разряды!$J$38,[1]Разряды!$J$3,"б/р")))))))) -> кмс | K13: 13+5 | L13: =IF(B13=0," ",VLOOKUP($B13,[1]Женщины!$B$1:$H$65536,7,FALSE)) -> Морочко М.А.
A14: 4 | B14: 310 | C14: =IF(B14=0," ",VLOOKUP(B14,[1]Женщины!B$1:H$65536,2,FALSE)) -> Князева Янита | D14: =IF(B14=0," ",VLOOKUP($B14,[1]Женщины!$B$1:$H$65536,3,FALSE)) -> 23.10.1998 | E14: =IF(B14=0," ",IF(VLOOKUP($B14,[1]Женщины!$B$1:$H$65536,4,FALSE)=0," ",VLOOKUP($B14,[1]Женщины!$B$1:$H$65536,4,FALSE))) -> КМС | F14: =IF(B14=0," ",VLOOKUP($B14,[1]Женщины!$B$1:$H$65536,5,FALSE)) -> Самарская область | G14: =IF(B14=0," ",VLOOKUP($B14,[1]Женщины!$B$1:$H$65536,6,FALSE)) -> Самара, СГСПУ | I14: 0.00072523148 | J14: =IF(I14=0," ",IF(I14<=[1]Разряды!$D$38,[1]Разряды!$D$3,IF(I14<=[1]Разряды!$E$38,[1]Разряды!$E$3,IF(I14<=[1]Разряды!$F$38,[1]Разряды!$F$3,IF(I14<=[1]Разряды!$G$38,[1]Разряды!$G$3,IF(I14<=[1]Разряды!$H$38,[1]Разряды!$H$3,IF(I14<=[1]Разряды!$I$38,[1]Разряды!$I$3,IF(I14<=[1]Разряды!$J$38,[1]Разряды!$J$3,"б/р")))))))) -> кмс | K14: 12+5 | L14: =IF(B14=0," ",VLOOKUP($B14,[1]Женщины!$B$1:$H$65536,7,FALSE)) -> Русанов Н.С., Лобанов А.А.
A15: 5 | B15: 201 | C15: =IF(B15=0," ",VLOOKUP(B15,[1]Женщины!B$1:H$65536,2,FALSE)) -> Каратаева Ольга | D15: =IF(B15=0," ",VLOOKUP($B15,[1]Женщины!$B$1:$H$65536,3,FALSE)) -> 16.08.1998 | E15: =IF(B15=0," ",IF(VLOOKUP($B15,[1]Женщины!$B$1:$H$65536,4,FALSE)=0," ",VLOOKUP($B15,[1]Женщины!$B$1:$H$65536,4,FALSE))) -> КМС | F15: =IF(B15=0," ",VLOOKUP($B15,[1]Женщины!$B$1:$H$65536,5,FALSE)) -> Красноярский край | G15: =IF(B15=0," ",VLOOKUP($B15,[1]Женщины!$B$1:$H$65536,6,FALSE)) -> Красноярск, СФУ | I15: 0.0007306713 | J15: =IF(I15=0," ",IF(I15<=[1]Разряды!$D$38,[1]Разряды!$D$3,IF(I15<=[1]Разряды!$E$38,[1]Разряды!$E$3,IF(I15<=[1]Разряды!$F$38,[1]Разряды!$F$3,IF(I15<=[1]Разряды!$G$38,[1]Разряды!$G$3,IF(I15<=[1]Разряды!$H$38,[1]Разряды!$H$3,IF(I15<=[1]Разряды!$I$38,[1]Разряды!$I$3,IF(I15<=[1]Разряды!$J$38,[1]Разряды!$J$3,"б/р")))))))) -> кмс | K15: 11+5 | L15: =IF(B15=0," ",VLOOKUP($B15,[1]Женщины!$B$1:$H$65536,7,FALSE)) -> Артемьев П.П., Федоров В.И.
A16: 6 | B16: 309 | C16: =IF(B16=0," ",VLOOKUP(B16,[1]Женщины!B$1:H$65536,2,FALSE)) -> Серова Анна | D16: =IF(B16=0," ",VLOOKUP($B16,[1]Женщины!$B$1:$H$65536,3,FALSE)) -> 04.10.1995 | E16: =IF(B16=0," ",IF(VLOOKUP($B16,[1]Женщины!$B$1:$H$65536,4,FALSE)=0," ",VLOOKUP($B16,[1]Женщины!$B$1:$H$65536,4,FALSE))) -> КМС | F16: =IF(B16=0," ",VLOOKUP($B16,[1]Женщины!$B$1:$H$65536,5,FALSE)) -> Самарская область | G16: =IF(B16=0," ",VLOOKUP($B16,[1]Женщины!$B$1:$H$65536,6,FALSE)) -> Самара, СГСПУ | I16: 0.00074664352 | J16: =IF(I16=0," ",IF(I16<=[1]Разряды!$D$38,[1]Разряды!$D$3,IF(I16<=[1]Разряды!$E$38,[1]Разряды!$E$3,IF(I16<=[1]Разряды!$F$38,[1]Разряды!$F$3,IF(I16<=[1]Разряды!$G$38,[1]Разряды!$G$3,IF(I16<=[1]Разряды!$H$38,[1]Разряды!$H$3,IF(I16<=[1]Разряды!$I$38,[1]Разряды!$I$3,IF(I16<=[1]Разряды!$J$38,[1]Разряды!$J$3,"б/р")))))))) -> 1р | K16: 10 | L16: =IF(B16=0," ",VLOOKUP($B16,[1]Женщины!$B$1:$H$65536,7,FALSE)) -> Лобачева Е.Н.
A17: 7 | B17: 293 | C17: =IF(B17=0," ",VLOOKUP(B17,[1]Женщины!B$1:H$65536,2,FALSE)) -> Пушина Екатерина | D17: =IF(B17=0," ",VLOOKUP($B17,[1]Женщины!$B$1:$H$65536,3,FALSE)) -> 14.02.2000 | E17: =IF(B17=0," ",IF(VLOOKUP($B17,[1]Женщины!$B$1:$H$65536,4,FALSE)=0," ",VLOOKUP($B17,[1]Женщины!$B$1:$H$65536,4,FALSE))) -> КМС | F17: =IF(B17=0," ",VLOOKUP($B17,[1]Женщины!$B$1:$H$65536,5,FALSE)) -> Удмуртская Республика | G17: =IF(B17=0," ",VLOOKUP($B17,[1]Женщины!$B$1:$H$65536,6,FALSE)) -> Ижевск, УдГУ | I17: 0.00075104167 | J17: =IF(I17=0," ",IF(I17<=[1]Разряды!$D$38,[1]Разряды!$D$3,IF(I17<=[1]Разряды!$E$38,[1]Разряды!$E$3,IF(I17<=[1]Разряды!$F$38,[1]Разряды!$F$3,IF(I17<=[1]Разряды!$G$38,[1]Разряды!$G$3,IF(I17<=[1]Разряды!$H$38,[1]Разряды!$H$3,IF(I17<=[1]Разряды!$I$38,[1]Разряды!$I$3,IF(I17<=[1]Разряды!$J$38,[1]Разряды!$J$3,"б/р")))))))) -> 1р | K17: 9 | L17: =IF(B17=0," ",VLOOKUP($B17,[1]Женщины!$B$1:$H$65536,7,FALSE)) -> Александров С.Н.
A18: 8 | B18: 323 | C18: =IF(B18=0," ",VLOOKUP(B18,[1]Женщины!B$1:H$65536,2,FALSE)) -> Лощинина Анна | D18: =IF(B18=0," ",VLOOKUP($B18,[1]Женщины!$B$1:$H$65536,3,FALSE)) -> 11.11.1998 | E18: =IF(B18=0," ",IF(VLOOKUP($B18,[1]Женщины!$B$1:$H$65536,4,FALSE)=0," ",VLOOKUP($B18,[1]Женщины!$B$1:$H$65536,4,FALSE))) -> КМС | F18: =IF(B18=0," ",VLOOKUP($B18,[1]Женщины!$B$1:$H$65536,5,FALSE)) -> Челябинская область | G18: =IF(B18=0," ",VLOOKUP($B18,[1]Женщины!$B$1:$H$65536,6,FALSE)) -> Челябинск, УралГУФК | I18: 0.00075266204 | J18: =IF(I18=0," ",IF(I18<=[1]Разряды!$D$38,[1]Разряды!$D$3,IF(I18<=[1]Разряды!$E$38,[1]Разряды!$E$3,IF(I18<=[1]Разряды!$F$38,[1]Разряды!$F$3,IF(I18<=[1]Разряды!$G$38,[1]Разряды!$G$3,IF(I18<=[1]Разряды!$H$38,[1]Разряды!$H$3,IF(I18<=[1]Разряды!$I$38,[1]Разряды!$I$3,IF(I18<=[1]Разряды!$J$38,[1]Разряды!$J$3,"б/р")))))))) -> 1р | K18: 8 | L18: =IF(B18=0," ",VLOOKUP($B18,[1]Женщины!$B$1:$H$65536,7,FALSE)) -> Ширяев В.А.
A19: 9 | B19: 239 | C19: =IF(B19=0," ",VLOOKUP(B19,[1]Женщины!B$1:H$65536,2,FALSE)) -> Матузная Татьяна | D19: =IF(B19=0," ",VLOOKUP($B19,[1]Женщины!$B$1:$H$65536,3,FALSE)) -> 12.04.1998 | E19: =IF(B19=0," ",IF(VLOOKUP($B19,[1]Женщины!$B$1:$H$65536,4,FALSE)=0," ",VLOOKUP($B19,[1]Женщины!$B$1:$H$65536,4,FALSE))) -> КМС | F19: =IF(B19=0," ",VLOOKUP($B19,[1]Женщины!$B$1:$H$65536,5,FALSE)) -> Удмуртская Республика | G19: =IF(B19=0," ",VLOOKUP($B19,[1]Женщины!$B$1:$H$65536,6,FALSE)) -> Ижевск, УдГУ | I19: 0.00077476852 | J19: =IF(I19=0," ",IF(I19<=[1]Разряды!$D$38,[1]Разряды!$D$3,IF(I19<=[1]Разряды!$E$38,[1]Разряды!$E$3,IF(I19<=[1]Разряды!$F$38,[1]Разряды!$F$3,IF(I19<=[1]Разряды!$G$38,[1]Разряды!$G$3,IF(I19<=[1]Разряды!$H$38,[1]Разряды!$H$3,IF(I19<=[1]Разряды!$I$38,[1]Разряды!$I$3,IF(I19<=[1]Разряды!$J$38,[1]Разряды!$J$3,"б/р")))))))) -> 1р | K19: 7 | L19: =IF(B19=0," ",VLOOKUP($B19,[1]Женщины!$B$1:$H$65536,7,FALSE)) -> Поздеев Н.Г., Богданова С.В.
A20: 10 | B20: 136 | C20: =IF(B20=0," ",VLOOKUP(B20,[1]Женщины!B$1:H$65536,2,FALSE)) -> Рощина Екатерина | D20: =IF(B20=0," ",VLOOKUP($B20,[1]Женщины!$B$1:$H$65536,3,FALSE)) -> 05.07.2001 | E20: =IF(B20=0," ",IF(VLOOKUP($B20,[1]Женщины!$B$1:$H$65536,4,FALSE)=0," ",VLOOKUP($B20,[1]Женщины!$B$1:$H$65536,4,FALSE))) -> 1р | F20: =IF(B20=0," ",VLOOKUP($B20,[1]Женщины!$B$1:$H$65536,5,FALSE)) -> Сахалинская область | G20: =IF(B20=0," ",VLOOKUP($B20,[1]Женщины!$B$1:$H$65536,6,FALSE)) -> СахГУ | I20: 0.00080381944 | J20: =IF(I20=0," ",IF(I20<=[1]Разряды!$D$38,[1]Разряды!$D$3,IF(I20<=[1]Разряды!$E$38,[1]Разряды!$E$3,IF(I20<=[1]Разряды!$F$38,[1]Разряды!$F$3,IF(I20<=[1]Разряды!$G$38,[1]Разряды!$G$3,IF(I20<=[1]Разряды!$H$38,[1]Разряды!$H$3,IF(I20<=[1]Разряды!$I$38,[1]Разряды!$I$3,IF(I20<=[1]Разряды!$J$38,[1]Разряды!$J$3,"б/р")))))))) -> 2р | K20: 6 | L20: =IF(B20=0," ",VLOOKUP($B20,[1]Женщины!$B$1:$H$65536,7,FALSE)) -> Быкова Т.Ф., Жижикин А.Н.
A21: 11 | B21: 267 | C21: =IF(B21=0," ",VLOOKUP(B21,[1]Женщины!B$1:H$65536,2,FALSE)) -> Кривцова Ия | D21: =IF(B21=0," ",VLOOKUP($B21,[1]Женщины!$B$1:$H$65536,3,FALSE)) -> 17.09.1998 | E21: =IF(B21=0," ",IF(VLOOKUP($B21,[1]Женщины!$B$1:$H$65536,4,FALSE)=0," ",VLOOKUP($B21,[1]Женщины!$B$1:$H$65536,4,FALSE))) -> 1р | F21: =IF(B21=0," ",VLOOKUP($B21,[1]Женщины!$B$1:$H$65536,5,FALSE)) -> Ивановская область | G21: =IF(B21=0," ",VLOOKUP($B21,[1]Женщины!$B$1:$H$65536,6,FALSE)) -> Иваново, ИГЭУ им. В.И. Ленина | I21: 0.00081736111 | J21: =IF(I21=0," ",IF(I21<=[1]Разряды!$D$38,[1]Разряды!$D$3,IF(I21<=[1]Разряды!$E$38,[1]Разряды!$E$3,IF(I21<=[1]Разряды!$F$38,[1]Разряды!$F$3,IF(I21<=[1]Разряды!$G$38,[1]Разряды!$G$3,IF(I21<=[1]Разряды!$H$38,[1]Разряды!$H$3,IF(I21<=[1]Разряды!$I$38,[1]Разряды!$I$3,IF(I21<=[1]Разряды!$J$38,[1]Разряды!$J$3,"б/р")))))))) -> 2р | K21: 5 | L21: =IF(B21=0," ",VLOOKUP($B21,[1]Женщины!$B$1:$H$65536,7,FALSE)) -> Сафина Н.Ю.
A22: 12 | B22: 200 | C22: =IF(B22=0," ",VLOOKUP(B22,[1]Женщины!B$1:H$65536,2,FALSE)) -> Григоренко Алена | D22: =IF(B22=0," ",VLOOKUP($B22,[1]Женщины!$B$1:$H$65536,3,FALSE)) -> 05.02.1998 | E22: =IF(B22=0," ",IF(VLOOKUP($B22,[1]Женщины!$B$1:$H$65536,4,FALSE)=0," ",VLOOKUP($B22,[1]Женщины!$B$1:$H$65536,4,FALSE))) -> 2р | F22: =IF(B22=0," ",VLOOKUP($B22,[1]Женщины!$B$1:$H$65536,5,FALSE)) -> Красноярский край | G22: =IF(B22=0," ",VLOOKUP($B22,[1]Женщины!$B$1:$H$65536,6,FALSE)) -> Красноярск, СФУ | I22: 0.00083206019 | J22: =IF(I22=0," ",IF(I22<=[1]Разряды!$D$38,[1]Разряды!$D$3,IF(I22<=[1]Разряды!$E$38,[1]Разряды!$E$3,IF(I22<=[1]Разряды!$F$38,[1]Разряды!$F$3,IF(I22<=[1]Разряды!$G$38,[1]Разряды!$G$3,IF(I22<=[1]Разряды!$H$38,[1]Разряды!$H$3,IF(I22<=[1]Разряды!$I$38,[1]Разряды!$I$3,IF(I22<=[1]Разряды!$J$38,[1]Разряды!$J$3,"б/р")))))))) -> 2р | K22: 4 | L22: =IF(B22=0," ",VLOOKUP($B22,[1]Женщины!$B$1:$H$65536,7,FALSE)) -> Федоров В.И.
A23: 13 | B23: 199 | C23: =IF(B23=0," ",VLOOKUP(B23,[1]Женщины!B$1:H$65536,2,FALSE)) -> Будагова Марина | D23: =IF(B23=0," ",VLOOKUP($B23,[1]Женщины!$B$1:$H$65536,3,FALSE)) -> 09.02.2000 | E23: =IF(B23=0," ",IF(VLOOKUP($B23,[1]Женщины!$B$1:$H$65536,4,FALSE)=0," ",VLOOKUP($B23,[1]Женщины!$B$1:$H$65536,4,FALSE))) -> 1р | F23: =IF(B23=0," ",VLOOKUP($B23,[1]Женщины!$B$1:$H$65536,5,FALSE)) -> Красноярский край | G23: =IF(B23=0," ",VLOOKUP($B23,[1]Женщины!$B$1:$H$65536,6,FALSE)) -> Красноярск, СФУ | I23: 0.00085428241 | J23: =IF(I23=0," ",IF(I23<=[1]Разряды!$D$38,[1]Разряды!$D$3,IF(I23<=[1]Разряды!$E$38,[1]Разряды!$E$3,IF(I23<=[1]Разряды!$F$38,[1]Разряды!$F$3,IF(I23<=[1]Разряды!$G$38,[1]Разряды!$G$3,IF(I23<=[1]Разряды!$H$38,[1]Разряды!$H$3,IF(I23<=[1]Разряды!$I$38,[1]Разряды!$I$3,IF(I23<=[1]Разряды!$J$38,[1]Разряды!$J$3,"б/р")))))))) -> 2р | K23: 3 | L23: =IF(B23=0," ",VLOOKUP($B23,[1]Женщины!$B$1:$H$65536,7,FALSE)) -> Зубрилина Т.Г.
B24: 173 | C24: =IF(B24=0," ",VLOOKUP(B24,[1]Женщины!B$1:H$65536,2,FALSE)) -> Аникеенко Елизавета | D24: =IF(B24=0," ",VLOOKUP($B24,[1]Женщины!$B$1:$H$65536,3,FALSE)) -> 30.01.1994 | E24: =IF(B24=0," ",IF(VLOOKUP($B24,[1]Женщины!$B$1:$H$65536,4,FALSE)=0," ",VLOOKUP($B24,[1]Женщины!$B$1:$H$65536,4,FALSE))) -> МС | F24: =IF(B24=0," ",VLOOKUP($B24,[1]Женщины!$B$1:$H$65536,5,FALSE)) -> Москва | G24: =IF(B24=0," ",VLOOKUP($B24,[1]Женщины!$B$1:$H$65536,6,FALSE)) -> Москва, РГУФКСМиТ (ГЦОЛИФК) | I24: DQ п.п. 162.7 | K24: 0 | L24: =IF(B24=0," ",VLOOKUP($B24,[1]Женщины!$B$1:$H$65536,7,FALSE)) -> Черемисов Н.Ф.
B30: Главный судья, спортивный судья ВК | G30: Хрущев Е.Н., г. Ярославль
B33: Главный секретарь, спортивный судья ВК | G33: Тараканова Ю.Ф., г. Ярославль

Sheet сх ж
A1: Чемпионат Российского студенческого спортивного союза
A2: мужчины и женщины
L3: 27-28 июня 2019 г.
K4: стадион "Шинник"
L5: г. Ярославль
D6: 27.06.2019г. | E6: 0.41666667 | F6: Финальный заход | H6: ПРОТОКОЛ СОРЕВНОВАНИЙ
C8: Женщины | D8: С/ходьба 5000 м
A9: М | B9: Номер | C9: Фамилия, имя | D9: Дата рожд. | E9: Квал. | F9: Команда | G9: ВУЗ | H9: Результат | J9: Вып. разр. | K9: Очки | L9: Ф.И.О. тренера
H10: фин. заход
A11: 1 | B11: 327 | C11: =IF(B11=0," ",VLOOKUP(B11,[1]Женщины!B$1:H$65536,2,FALSE)) -> Мавлетова Кристина | D11: =IF(B11=0," ",VLOOKUP($B11,[1]Женщины!$B$1:$H$65536,3,FALSE)) -> 28.09.1998 | E11: =IF(B11=0," ",IF(VLOOKUP($B11,[1]Женщины!$B$1:$H$65536,4,FALSE)=0," ",VLOOKUP($B11,[1]Женщины!$B$1:$H$65536,4,FALSE))) -> МС | F11: =IF(B11=0," ",VLOOKUP($B11,[1]Женщины!$B$1:$H$65536,5,FALSE)) -> Челябинская область | G11: =IF(B11=0," ",VLOOKUP($B11,[1]Женщины!$B$1:$H$65536,6,FALSE)) -> Челябинск, УралГУФК | I11: 0.015129745 | J11: мс | K11: 18+10 | L11: =IF(B11=0," ",VLOOKUP($B11,[1]Женщины!$B$1:$H$65536,7,FALSE)) -> Сайко Е.В.
A12: 2 | B12: 341 | C12: =IF(B12=0," ",VLOOKUP(B12,[1]Женщины!B$1:H$65536,2,FALSE)) -> Смердова Яна | D12: =IF(B12=0," ",VLOOKUP($B12,[1]Женщины!$B$1:$H$65536,3,FALSE)) -> 07.02.1998 | E12: =IF(B12=0," ",IF(VLOOKUP($B12,[1]Женщины!$B$1:$H$65536,4,FALSE)=0," ",VLOOKUP($B12,[1]Женщины!$B$1:$H$65536,4,FALSE))) -> МСМК | F12: =IF(B12=0," ",VLOOKUP($B12,[1]Женщины!$B$1:$H$65536,5,FALSE)) -> Пензенская область | G12: =IF(B12=0," ",VLOOKUP($B12,[1]Женщины!$B$1:$H$65536,6,FALSE)) -> Пенза, ПензГУ | I12: 0.015560069 | J12: мс | K12: 15+10 | L12: =IF(B12=0," ",VLOOKUP($B12,[1]Женщины!$B$1:$H$65536,7,FALSE)) -> Воеводины А.Н., Ю.С.
A13: 3 | B13: 234 | C13: =IF(B13=0," ",VLOOKUP(B13,[1]Женщины!B$1:H$65536,2,FALSE)) -> Турова Юлия | D13: =IF(B13=0," ",VLOOKUP($B13,[1]Женщины!$B$1:$H$65536,3,FALSE)) -> 09.06.1997 | E13: =IF(B13=0," ",IF(VLOOKUP($B13,[1]Женщины!$B$1:$H$65536,4,FALSE)=0," ",VLOOKUP($B13,[1]Женщины!$B$1:$H$65536,4,FALSE))) -> МСМК | F13: =IF(B13=0," ",VLOOKUP($B13,[1]Женщины!$B$1:$H$65536,5,FALSE)) -> Удмуртская Республика | G13: =IF(B13=0," ",VLOOKUP($B13,[1]Женщины!$B$1:$H$65536,6,FALSE)) -> Ижевск, УдГУ | I13: 0.016126852 | J13: =IF(I13=0," ",IF(I13<=[1]Разряды!$D$51,[1]Разряды!$D$3,IF(I13<=[1]Разряды!$E$51,[1]Разряды!$E$3,IF(I13<=[1]Разряды!$F$51,[1]Разряды!$F$3,IF(I13<=[1]Разряды!$G$51,[1]Разряды!$G$3,IF(I13<=[1]Разряды!$H$51,[1]Разряды!$H$3,IF(I13<=[1]Разряды!$I$51,[1]Разряды!$I$3,IF(I13<=[1]Разряды!$J$51,[1]Разряды!$J$3,"б/р")))))))) -> кмс | K13: 13+5 | L13: =IF(B13=0," ",VLOOKUP($B13,[1]Женщины!$B$1:$H$65536,7,FALSE)) -> Ежова Е.В.
A14: 4 | B14: 176 | C14: =IF(B14=0," ",VLOOKUP(B14,[1]Женщины!B$1:H$65536,2,FALSE)) -> Жолобова Жанна | D14: =IF(B14=0," ",VLOOKUP($B14,[1]Женщины!$B$1:$H$65536,3,FALSE)) -> 11.09.1998 | E14: =IF(B14=0," ",IF(VLOOKUP($B14,[1]Женщины!$B$1:$H$65536,4,FALSE)=0," ",VLOOKUP($B14,[1]Женщины!$B$1:$H$65536,4,FALSE))) -> МС | F14: =IF(B14=0," ",VLOOKUP($B14,[1]Женщины!$B$1:$H$65536,5,FALSE)) -> Москва | G14: =IF(B14=0," ",VLOOKUP($B14,[1]Женщины!$B$1:$H$65536,6,FALSE)) -> Москва, РГУФКСМиТ (ГЦОЛИФК) | I14: 0.016241667 | J14: =IF(I14=0," ",IF(I14<=[1]Разряды!$D$51,[1]Разряды!$D$3,IF(I14<=[1]Разряды!$E$51,[1]Разряды!$E$3,IF(I14<=[1]Разряды!$F$51,[1]Разряды!$F$3,IF(I14<=[1]Разряды!$G$51,[1]Разряды!$G$3,IF(I14<=[1]Разряды!$H$51,[1]Разряды!$H$3,IF(I14<=[1]Разряды!$I$51,[1]Разряды!$I$3,IF(I14<=[1]Разряды!$J$51,[1]Разряды!$J$3,"б/р")))))))) -> кмс | K14: 12+5 | L14: =IF(B14=0," ",VLOOKUP($B14,[1]Женщины!$B$1:$H$65536,7,FALSE)) -> Сиваков Л.В., Полищук Д.В.
A15: 5 | B15: 342 | C15: =IF(B15=0," ",VLOOKUP(B15,[1]Женщины!B$1:H$65536,2,FALSE)) -> Рязанова Лана | D15: =IF(B15=0," ",VLOOKUP($B15,[1]Женщины!$B$1:$H$65536,3,FALSE)) -> 11.08.1998 | E15: =IF(B15=0," ",IF(VLOOKUP($B15,[1]Женщины!$B$1:$H$65536,4,FALSE)=0," ",VLOOKUP($B15,[1]Женщины!$B$1:$H$65536,4,FALSE))) -> МС | F15: =IF(B15=0," ",VLOOKUP($B15,[1]Женщины!$B$1:$H$65536,5,FALSE)) -> Пензенская область | G15: =IF(B15=0," ",VLOOKUP($B15,[1]Женщины!$B$1:$H$65536,6,FALSE)) -> Пенза, ПензГУ | I15: 0.016835069 | J15: =IF(I15=0," ",IF(I15<=[1]Разряды!$D$51,[1]Разряды!$D$3,IF(I15<=[1]Разряды!$E$51,[1]Разряды!$E$3,IF(I15<=[1]Разряды!$F$51,[1]Разряды!$F$3,IF(I15<=[1]Разряды!$G$51,[1]Разряды!$G$3,IF(I15<=[1]Разряды!$H$51,[1]Разряды!$H$3,IF(I15<=[1]Разряды!$I$51,[1]Разряды!$I$3,IF(I15<=[1]Разряды!$J$51,[1]Разряды!$J$3,"б/р")))))))) -> кмс | K15: 11+5 | L15: =IF(B15=0," ",VLOOKUP($B15,[1]Женщины!$B$1:$H$65536,7,FALSE)) -> Воеводины А.Н., Ю.С.
A16: 6 | B16: 128 | C16: =IF(B16=0," ",VLOOKUP(B16,[1]Женщины!B$1:H$65536,2,FALSE)) -> Денисова Анастасия | D16: =IF(B16=0," ",VLOOKUP($B16,[1]Женщины!$B$1:$H$65536,3,FALSE)) -> 05.06.2000 | E16: =IF(B16=0," ",IF(VLOOKUP($B16,[1]Женщины!$B$1:$H$65536,4,FALSE)=0," ",VLOOKUP($B16,[1]Женщины!$B$1:$H$65536,4,FALSE))) | F16: =IF(B16=0," ",VLOOKUP($B16,[1]Женщины!$B$1:$H$65536,5,FALSE)) -> Республика Чувашии | G16: =IF(B16=0," ",VLOOKUP($B16,[1]Женщины!$B$1:$H$65536,6,FALSE)) -> Чебоксары, ЧГПУ им. И.Я. Яковлева | I16: 0.017222685 | J16: =IF(I16=0," ",IF(I16<=[1]Разряды!$D$51,[1]Разряды!$D$3,IF(I16<=[1]Разряды!$E$51,[1]Разряды!$E$3,IF(I16<=[1]Разряды!$F$51,[1]Разряды!$F$3,IF(I16<=[1]Разряды!$G$51,[1]Разряды!$G$3,IF(I16<=[1]Разряды!$H$51,[1]Разряды!$H$3,IF(I16<=[1]Разряды!$I$51,[1]Разряды!$I$3,IF(I16<=[1]Разряды!$J$51,[1]Разряды!$J$3,"б/р")))))))) -> 1р | K16: 10 | L16: =IF(B16=0," ",VLOOKUP($B16,[1]Женщины!$B$1:$H$65536,7,FALSE)) -> Лисканюк Д.Н.
C17: =IF(B17=0," ",VLOOKUP(B17,[1]Спортсмены!B$1:H$65536,2,FALSE)) | D17: =IF(B17=0," ",VLOOKUP($B17,[1]Спортсмены!$B$1:$H$65536,3,FALSE)) | E17: =IF(B17=0," ",IF(VLOOKUP($B17,[1]Спортсмены!$B$1:$H$65536,4,FALSE)=0," ",VLOOKUP($B17,[1]Спортсмены!$B$1:$H$65536,4,FALSE))) | F17: =IF(B17=0," ",VLOOKUP($B17,[1]Спортсмены!$B$1:$H$65536,5,FALSE)) | G17: =IF(B17=0," ",VLOOKUP($B17,[1]Спортсмены!$B$1:$H$65536,6,FALSE)) | J17: =IF(I17=0," ",IF(I17<=[1]Разряды!$D$28,[1]Разряды!$D$3,IF(I17<=[1]Разряды!$E$28,[1]Разряды!$E$3,IF(I17<=[1]Разряды!$F$28,[1]Разряды!$F$3,IF(I17<=[1]Разряды!$G$28,[1]Разряды!$G$3,IF(I17<=[1]Разряды!$H$28,[1]Разряды!$H$3,IF(I17<=[1]Разряды!$I$28,[1]Разряды!$I$3,IF(I17<=[1]Разряды!$J$28,[1]Разряды!$J$3,"б/р")))))))) | L17: =IF(B17=0," ",VLOOKUP($B17,[1]Спортсмены!$B$1:$H$65536,7,FALSE))
B22: Главный судья, спортивный судья ВК | G22: Хрущев Е.Н., г. Ярославль
B25: Главный секретарь, спортивный судья ВК | G25: Тараканова Ю.Ф., г. Ярославль
A42: С/Х 5000 м
A43: женщины
H44: Начало в 10:00
A45: № п/п | B45: Номер | C45: Фамилия, имя | D45: Дата рожд. | E45: Квал. | F45: Команда | G45: ВУЗ | H45: Приход | I45: Показания секундометристов
I46: 1 | J46: 2 | K46: 3
F47: 1 заход
A48: 1 | B48: 128 | C48: =IF(B48=0," ",VLOOKUP(B48,[1]Женщины!B$1:H$65536,2,FALSE)) -> Денисова Анастасия | D48: =IF(B48=0," ",VLOOKUP($B48,[1]Женщины!$B$1:$H$65536,3,FALSE)) -> 05.06.2000 | E48: =IF(B48=0," ",IF(VLOOKUP($B48,[1]Женщины!$B$1:$H$65536,4,FALSE)=0," ",VLOOKUP($B48,[1]Женщины!$B$1:$H$65536,4,FALSE))) | F48: =IF(B48=0," ",VLOOKUP($B48,[1]Женщины!$B$1:$H$65536,5,FALSE)) -> Республика Чувашии | G48: =IF(B48=0," ",VLOOKUP($B48,[1]Женщины!$B$1:$H$65536,6,FALSE)) -> Чебоксары, ЧГПУ им. И.Я. Яковлева
A49: 2 | B49: 341 | C49: =IF(B49=0," ",VLOOKUP(B49,[1]Женщины!B$1:H$65536,2,FALSE)) -> Смердова Яна | D49: =IF(B49=0," ",VLOOKUP($B49,[1]Женщины!$B$1:$H$65536,3,FALSE)) -> 07.02.1998 | E49: =IF(B49=0," ",IF(VLOOKUP($B49,[1]Женщины!$B$1:$H$65536,4,FALSE)=0," ",VLOOKUP($B49,[1]Женщины!$B$1:$H$65536,4,FALSE))) -> МСМК | F49: =IF(B49=0," ",VLOOKUP($B49,[1]Женщины!$B$1:$H$65536,5,FALSE)) -> Пензенская область | G49: =IF(B49=0," ",VLOOKUP($B49,[1]Женщины!$B$1:$H$65536,6,FALSE)) -> Пенза, ПензГУ
A50: 3 | B50: 234 | C50: =IF(B50=0," ",VLOOKUP(B50,[1]Женщины!B$1:H$65536,2,FALSE)) -> Турова Юлия | D50: =IF(B50=0," ",VLOOKUP($B50,[1]Женщины!$B$1:$H$65536,3,FALSE)) -> 09.06.1997 | E50: =IF(B50=0," ",IF(VLOOKUP($B50,[1]Женщины!$B$1:$H$65536,4,FALSE)=0," ",VLOOKUP($B50,[1]Женщины!$B$1:$H$65536,4,FALSE))) -> МСМК | F50: =IF(B50=0," ",VLOOKUP($B50,[1]Женщины!$B$1:$H$65536,5,FALSE)) -> Удмуртская Республика | G50: =IF(B50=0," ",VLOOKUP($B50,[1]Женщины!$B$1:$H$65536,6,FALSE)) -> Ижевск, УдГУ
A51: 4 | B51: 342 | C51: =IF(B51=0," ",VLOOKUP(B51,[1]Женщины!B$1:H$65536,2,FALSE)) -> Рязанова Лана | D51: =IF(B51=0," ",VLOOKUP($B51,[1]Женщины!$B$1:$H$65536,3,FALSE)) -> 11.08.1998 | E51: =IF(B51=0," ",IF(VLOOKUP($B51,[1]Женщины!$B$1:$H$65536,4,FALSE)=0," ",VLOOKUP($B51,[1]Женщины!$B$1:$H$65536,4,FALSE))) -> МС | F51: =IF(B51=0," ",VLOOKUP($B51,[1]Женщины!$B$1:$H$65536,5,FALSE)) -> Пензенская область | G51: =IF(B51=0," ",VLOOKUP($B51,[1]Женщины!$B$1:$H$65536,6,FALSE)) -> Пенза, ПензГУ
A52: 5 | B52: 327 | C52: =IF(B52=0," ",VLOOKUP(B52,[1]Женщины!B$1:H$65536,2,FALSE)) -> Мавлетова Кристина | D52: =IF(B52=0," ",VLOOKUP($B52,[1]Женщины!$B$1:$H$65536,3,FALSE)) -> 28.09.1998 | E52: =IF(B52=0," ",IF(VLOOKUP($B52,[1]Женщины!$B$1:$H$65536,4,FALSE)=0," ",VLOOKUP($B52,[1]Женщины!$B$1:$H$65536,4,FALSE))) -> МС | F52: =IF(B52=0," ",VLOOKUP($B52,[1]Женщины!$B$1:$H$65536,5,FALSE)) -> Челябинская область | G52: =IF(B52=0," ",VLOOKUP($B52,[1]Женщины!$B$1:$H$65536,6,FALSE)) -> Челябинск, УралГУФК
A53: 6 | B53: 176 | C53: =IF(B53=0," ",VLOOKUP(B53,[1]Женщины!B$1:H$65536,2,FALSE)) -> Жолобова Жанна | D53: =IF(B53=0," ",VLOOKUP($B53,[1]Женщины!$B$1:$H$65536,3,FALSE)) -> 11.09.1998 | E53: =IF(B53=0," ",IF(VLOOKUP($B53,[1]Женщины!$B$1:$H$65536,4,FALSE)=0," ",VLOOKUP($B53,[1]Женщины!$B$1:$H$65536,4,FALSE))) -> МС | F53: =IF(B53=0," ",VLOOKUP($B53,[1]Женщины!$B$1:$H$65536,5,FALSE)) -> Москва | G53: =IF(B53=0," ",VLOOKUP($B53,[1]Женщины!$B$1:$H$65536,6,FALSE)) -> Москва, РГУФКСМиТ (ГЦОЛИФК)
C54: =IF(B54=0," ",VLOOKUP(B54,[1]Женщины!B$1:H$65536,2,FALSE)) | D54: =IF(B54=0," ",VLOOKUP($B54,[1]Женщины!$B$1:$H$65536,3,FALSE)) | E54: =IF(B54=0," ",IF(VLOOKUP($B54,[1]Женщины!$B$1:$H$65536,4,FALSE)=0," ",VLOOKUP($B54,[1]Женщины!$B$1:$H$65536,4,FALSE))) | F54: =IF(B54=0," ",VLOOKUP($B54,[1]Женщины!$B$1:$H$65536,5,FALSE)) | G54: =IF(B54=0," ",VLOOKUP($B54,[1]Женщины!$B$1:$H$65536,6,FALSE))
C55: =IF(B55=0," ",VLOOKUP(B55,[1]Женщины!B$1:H$65536,2,FALSE)) | D55: =IF(B55=0," ",VLOOKUP($B55,[1]Женщины!$B$1:$H$65536,3,FALSE)) | E55: =IF(B55=0," ",IF(VLOOKUP($B55,[1]Женщины!$B$1:$H$65536,4,FALSE)=0," ",VLOOKUP($B55,[1]Женщины!$B$1:$H$65536,4,FALSE))) | F55: =IF(B55=0," ",VLOOKUP($B55,[1]Женщины!$B$1:$H$65536,5,FALSE)) | G55: =IF(B55=0," ",VLOOKUP($B55,[1]Женщины!$B$1:$H$65536,6,FALSE))
C56: =IF(B56=0," ",VLOOKUP(B56,[1]Женщины!B$1:H$65536,2,FALSE)) | D56: =IF(B56=0," ",VLOOKUP($B56,[1]Женщины!$B$1:$H$65536,3,FALSE)) | E56: =IF(B56=0," ",IF(VLOOKUP($B56,[1]Женщины!$B$1:$H$65536,4,FALSE)=0," ",VLOOKUP($B56,[1]Женщины!$B$1:$H$65536,4,FALSE))) | F56: =IF(B56=0," ",VLOOKUP($B56,[1]Женщины!$B$1:$H$65536,5,FALSE)) | G56: =IF(B56=0," ",VLOOKUP($B56,[1]Женщины!$B$1:$H$65536,6,FALSE))
C60: Рефери по бегу | H60: (_____________________________)
H61: Ф.И.О.
C64: Секретарь | H64: (_____________________________)
H65: Ф.И.О.
A83: С/Х 5000 м
A84: мужчины
H85: Начало в 10:30
A86: № п/п | B86: Номер | C86: Фамилия, имя | D86: Дата рожд. | E86: Квал. | F86: Команда | G86: ВУЗ | H86: Приход | I86: Показания секундометристов
I87: 1 | J87: 2 | K87: 3
F88: 1 заход
A89: 1 | B89: 127 | C89: =IF(B89=0," ",VLOOKUP(B89,[1]Спортсмены!B$1:H$65536,2,FALSE)) -> Захаров Михаил | D89: =IF(B89=0," ",VLOOKUP($B89,[1]Спортсмены!$B$1:$H$65536,3,FALSE)) -> 13.09.1997 | E89: =IF(B89=0," ",IF(VLOOKUP($B89,[1]Спортсмены!$B$1:$H$65536,4,FALSE)=0," ",VLOOKUP($B89,[1]Спортсмены!$B$1:$H$65536,4,FALSE))) -> КМС | F89: =IF(B89=0," ",VLOOKUP($B89,[1]Спортсмены!$B$1:$H$65536,5,FALSE)) -> Республика Чувашии | G89: =IF(B89=0," ",VLOOKUP($B89,[1]Спортсмены!$B$1:$H$65536,6,FALSE)) -> Чебоксары, ЧГПУ им. И.Я. Яковлева
A90: 2 | B90: 325 | C90: =IF(B90=0," ",VLOOKUP(B90,[1]Спортсмены!B$1:H$65536,2,FALSE)) -> Ишмаметьев Алексей | D90: =IF(B90=0," ",VLOOKUP($B90,[1]Спортсмены!$B$1:$H$65536,3,FALSE)) -> 21.07.2000 | E90: =IF(B90=0," ",IF(VLOOKUP($B90,[1]Спортсмены!$B$1:$H$65536,4,FALSE)=0," ",VLOOKUP($B90,[1]Спортсмены!$B$1:$H$65536,4,FALSE))) -> МС | F90: =IF(B90=0," ",VLOOKUP($B90,[1]Спортсмены!$B$1:$H$65536,5,FALSE)) -> Челябинская область | G90: =IF(B90=0," ",VLOOKUP($B90,[1]Спортсмены!$B$1:$H$65536,6,FALSE)) -> Челябинск, УралГУФК
A91: 3 | B91: 298 | C91: =IF(B91=0," ",VLOOKUP(B91,[1]Спортсмены!B$1:H$65536,2,FALSE)) -> Трифонов Артем | D91: =IF(B91=0," ",VLOOKUP($B91,[1]Спортсмены!$B$1:$H$65536,3,FALSE)) -> 04.11.1995 | E91: =IF(B91=0," ",IF(VLOOKUP($B91,[1]Спортсмены!$B$1:$H$65536,4,FALSE)=0," ",VLOOKUP($B91,[1]Спортсмены!$B$1:$H$65536,4,FALSE))) -> МС | F91: =IF(B91=0," ",VLOOKUP($B91,[1]Спортсмены!$B$1:$H$65536,5,FALSE)) -> Владимирская область | G91: =IF(B91=0," ",VLOOKUP($B91,[1]Спортсмены!$B$1:$H$65536,6,FALSE)) -> Владимир, ВлГУ им. А.Г. и Н.Г Столетовых
A92: 4 | B92: 324 | C92: =IF(B92=0," ",VLOOKUP(B92,[1]Спортсмены!B$1:H$65536,2,FALSE)) -> Ишимов Олег | D92: =IF(B92=0," ",VLOOKUP($B92,[1]Спортсмены!$B$1:$H$65536,3,FALSE)) -> 18.01.1999 | E92: =IF(B92=0," ",IF(VLOOKUP($B92,[1]Спортсмены!$B$1:$H$65536,4,FALSE)=0," ",VLOOKUP($B92,[1]Спортсмены!$B$1:$H$65536,4,FALSE))) -> МС | F92: =IF(B92=0," ",VLOOKUP($B92,[1]Спортсмены!$B$1:$H$65536,5,FALSE)) -> Челябинская область | G92: =IF(B92=0," ",VLOOKUP($B92,[1]Спортсмены!$B$1:$H$65536,6,FALSE)) -> Челябинск, УралГУФК
A93: 5 | B93: 245 | C93: =IF(B93=0," ",VLOOKUP(B93,[1]Спортсмены!B$1:H$65536,2,FALSE)) -> Шкляев Константин | D93: =IF(B93=0," ",VLOOKUP($B93,[1]Спортсмены!$B$1:$H$65536,3,FALSE)) -> 09.08.1998 | E93: =IF(B93=0," ",IF(VLOOKUP($B93,[1]Спортсмены!$B$1:$H$65536,4,FALSE)=0," ",VLOOKUP($B93,[1]Спортсмены!$B$1:$H$65536,4,FALSE))) -> КМС | F93: =IF(B93=0," ",VLOOKUP($B93,[1]Спортсмены!$B$1:$H$65536,5,FALSE)) -> Удмуртская Республика | G93: =IF(B93=0," ",VLOOKUP($B93,[1]Спортсмены!$B$1:$H$65536,6,FALSE)) -> Ижевск, УдГУ
C94: =IF(B94=0," ",VLOOKUP(B94,[1]Спортсмены!B$1:H$65536,2,FALSE)) | D94: =IF(B94=0," ",VLOOKUP($B94,[1]Спортсмены!$B$1:$H$65536,3,FALSE)) | E94: =IF(B94=0," ",IF(VLOOKUP($B94,[1]Спортсмены!$B$1:$H$65536,4,FALSE)=0," ",VLOOKUP($B94,[1]Спортсмены!$B$1:$H$65536,4,FALSE))) | F94: =IF(B94=0," ",VLOOKUP($B94,[1]Спортсмены!$B$1:$H$65536,5,FALSE)) | G94: =IF(B94=0," ",VLOOKUP($B94,[1]Спортсмены!$B$1:$H$65536,6,FALSE))
C95: =IF(B95=0," ",VLOOKUP(B95,[1]Спортсмены!B$1:H$65536,2,FALSE)) | D95: =IF(B95=0," ",VLOOKUP($B95,[1]Спортсмены!$B$1:$H$65536,3,FALSE)) | E95: =IF(B95=0," ",IF(VLOOKUP($B95,[1]Спортсмены!$B$1:$H$65536,4,FALSE)=0," ",VLOOKUP($B95,[1]Спортсмены!$B$1:$H$65536,4,FALSE))) | F95: =IF(B95=0," ",VLOOKUP($B95,[1]Спортсмены!$B$1:$H$65536,5,FALSE)) | G95: =IF(B95=0," ",VLOOKUP($B95,[1]Спортсмены!$B$1:$H$65536,6,FALSE))
C96: =IF(B96=0," ",VLOOKUP(B96,[1]Спортсмены!B$1:H$65536,2,FALSE)) | D96: =IF(B96=0," ",VLOOKUP($B96,[1]Спортсмены!$B$1:$H$65536,3,FALSE)) | E96: =IF(B96=0," ",IF(VLOOKUP($B96,[1]Спортсмены!$B$1:$H$65536,4,FALSE)=0," ",VLOOKUP($B96,[1]Спортсмены!$B$1:$H$65536,4,FALSE))) | F96: =IF(B96=0," ",VLOOKUP($B96,[1]Спортсмены!$B$1:$H$65536,5,FALSE)) | G96: =IF(B96=0," ",VLOOKUP($B96,[1]Спортсмены!$B$1:$H$65536,6,FALSE))
C97: =IF(B97=0," ",VLOOKUP(B97,[1]Спортсмены!B$1:H$65536,2,FALSE)) | D97: =IF(B97=0," ",VLOOKUP($B97,[1]Спортсмены!$B$1:$H$65536,3,FALSE)) | E97: =IF(B97=0," ",IF(VLOOKUP($B97,[1]Спортсмены!$B$1:$H$65536,4,FALSE)=0," ",VLOOKUP($B97,[1]Спортсмены!$B$1:$H$65536,4,FALSE))) | F97: =IF(B97=0," ",VLOOKUP($B97,[1]Спортсмены!$B$1:$H$65536,5,FALSE)) | G97: =IF(B97=0," ",VLOOKUP($B97,[1]Спортсмены!$B$1:$H$65536,6,FALSE))
C101: Рефери по бегу | H101: (_____________________________)
H102: Ф.И.О.
C105: Секретарь | H105: (_____________________________)
H106: Ф.И.О.

Sheet 3000сп
A1: Чемпионат Российского студенческого спортивного союза
A2: мужчины и женщины
L3: 27-28 июня 2019 г.
K4: стадион "Шинник"
L5: г. Ярославль
D6: 27.06.2019г. | E6: 0.71527778 | F6: Финальные забеги | H6: ПРОТОКОЛ СОРЕВНОВАНИЙ
C8: Женщины | D8: Бег на 3000 м с/п
A9: М | B9: Номер | C9: Фамилия, имя | D9: Дата рожд. | E9: Квал. | F9: Команда | G9: ВУЗ | H9: Результат | J9: Вып. разр. | K9: Очки | L9: Ф.И.О. тренера
H10: фин. забеги
A11: 1 | B11: 252 | C11: =IF(B11=0," ",VLOOKUP(B11,[1]Женщины!B$1:H$65536,2,FALSE)) -> Иванова Раисия | D11: =IF(B11=0," ",VLOOKUP($B11,[1]Женщины!$B$1:$H$65536,3,FALSE)) -> 03.06.1995 | E11: =IF(B11=0," ",IF(VLOOKUP($B11,[1]Женщины!$B$1:$H$65536,4,FALSE)=0," ",VLOOKUP($B11,[1]Женщины!$B$1:$H$65536,4,FALSE))) -> МС | F11: =IF(B11=0," ",VLOOKUP($B11,[1]Женщины!$B$1:$H$65536,5,FALSE)) -> Республика Татарстан | G11: =IF(B11=0," ",VLOOKUP($B11,[1]Женщины!$B$1:$H$65536,6,FALSE)) -> Казань, ФГБОУ ВО ПГАФКСиТ | I11: 0.0072488426 | J11: =IF(I11=0," ",IF(I11<=[1]Разряды!$D$40,[1]Разряды!$D$3,IF(I11<=[1]Разряды!$E$40,[1]Разряды!$E$3,IF(I11<=[1]Разряды!$F$40,[1]Разряды!$F$3,IF(I11<=[1]Разряды!$G$10,[1]Разряды!$G$3,IF(I11<=[1]Разряды!$H$40,[1]Разряды!$H$3,IF(I11<=[1]Разряды!$I$40,[1]Разряды!$I$3,IF(I11<=[1]Разряды!$J$40,[1]Разряды!$J$3,"б/р")))))))) -> кмс | K11: 18+5 | L11: =IF(B11=0," ",VLOOKUP($B11,[1]Женщины!$B$1:$H$65536,7,FALSE)) -> Прокопьев А.Г.
A12: 2 | B12: 202 | C12: =IF(B12=0," ",VLOOKUP(B12,[1]Женщины!B$1:H$65536,2,FALSE)) -> Лихачёва Юлия | D12: =IF(B12=0," ",VLOOKUP($B12,[1]Женщины!$B$1:$H$65536,3,FALSE)) -> 26.08.1998 | E12: =IF(B12=0," ",IF(VLOOKUP($B12,[1]Женщины!$B$1:$H$65536,4,FALSE)=0," ",VLOOKUP($B12,[1]Женщины!$B$1:$H$65536,4,FALSE))) -> КМС | F12: =IF(B12=0," ",VLOOKUP($B12,[1]Женщины!$B$1:$H$65536,5,FALSE)) -> Красноярский край | G12: =IF(B12=0," ",VLOOKUP($B12,[1]Женщины!$B$1:$H$65536,6,FALSE)) -> Красноярск, СФУ | I12: 0.0078290509 | J12: =IF(I12=0," ",IF(I12<=[1]Разряды!$D$40,[1]Разряды!$D$3,IF(I12<=[1]Разряды!$E$40,[1]Разряды!$E$3,IF(I12<=[1]Разряды!$F$40,[1]Разряды!$F$3,IF(I12<=[1]Разряды!$G$10,[1]Разряды!$G$3,IF(I12<=[1]Разряды!$H$40,[1]Разряды!$H$3,IF(I12<=[1]Разряды!$I$40,[1]Разряды!$I$3,IF(I12<=[1]Разряды!$J$40,[1]Разряды!$J$3,"б/р")))))))) -> 1р | K12: 15 | L12: =IF(B12=0," ",VLOOKUP($B12,[1]Женщины!$B$1:$H$65536,7,FALSE)) -> Вашкевич И.Е., Федоров В.И.
C13: =IF(B13=0," ",VLOOKUP(B13,[1]Женщины!B$1:H$65536,2,FALSE)) | D13: =IF(B13=0," ",VLOOKUP($B13,[1]Женщины!$B$1:$H$65536,3,FALSE)) | E13: =IF(B13=0," ",IF(VLOOKUP($B13,[1]Женщины!$B$1:$H$65536,4,FALSE)=0," ",VLOOKUP($B13,[1]Женщины!$B$1:$H$65536,4,FALSE))) | F13: =IF(B13=0," ",VLOOKUP($B13,[1]Женщины!$B$1:$H$65536,5,FALSE)) | G13: =IF(B13=0," ",VLOOKUP($B13,[1]Женщины!$B$1:$H$65536,6,FALSE)) | L13: =IF(B13=0," ",VLOOKUP($B13,[1]Женщины!$B$1:$H$65536,7,FALSE))
B16: Главный судья, спортивный судья ВК | G16: Хрущев Е.Н., г. Ярославль
B19: Главный секретарь, спортивный судья ВК | G19: Тараканова Ю.Ф., г. Ярославль
A32: Бег на 3000 м с/п
A33: женщины
H34: Начало в 17:10
A35: № п/п | B35: Номер | C35: Фамилия, имя | D35: Дата рожд. | E35: Квал. | F35: Команда | G35: ВУЗ | H35: Приход | I35: Показания секундометристов
I36: 1 | J36: 2 | K36: 3
F37: 1 забег
A38: 1 | B38: 202 | C38: =IF(B38=0," ",VLOOKUP(B38,[1]Женщины!B$1:H$65536,2,FALSE)) -> Лихачёва Юлия | D38: =IF(B38=0," ",VLOOKUP($B38,[1]Женщины!$B$1:$H$65536,3,FALSE)) -> 26.08.1998 | E38: =IF(B38=0," ",IF(VLOOKUP($B38,[1]Женщины!$B$1:$H$65536,4,FALSE)=0," ",VLOOKUP($B38,[1]Женщины!$B$1:$H$65536,4,FALSE))) -> КМС | F38: =IF(B38=0," ",VLOOKUP($B38,[1]Женщины!$B$1:$H$65536,5,FALSE)) -> Красноярский край | G38: =IF(B38=0," ",VLOOKUP($B38,[1]Женщины!$B$1:$H$65536,6,FALSE)) -> Красноярск, СФУ
A39: 2 | B39: 252 | C39: =IF(B39=0," ",VLOOKUP(B39,[1]Женщины!B$1:H$65536,2,FALSE)) -> Иванова Раисия | D39: =IF(B39=0," ",VLOOKUP($B39,[1]Женщины!$B$1:$H$65536,3,FALSE)) -> 03.06.1995 | E39: =IF(B39=0," ",IF(VLOOKUP($B39,[1]Женщины!$B$1:$H$65536,4,FALSE)=0," ",VLOOKUP($B39,[1]Женщины!$B$1:$H$65536,4,FALSE))) -> МС | F39: =IF(B39=0," ",VLOOKUP($B39,[1]Женщины!$B$1:$H$65536,5,FALSE)) -> Республика Татарстан | G39: =IF(B39=0," ",VLOOKUP($B39,[1]Женщины!$B$1:$H$65536,6,FALSE)) -> Казань, ФГБОУ ВО ПГАФКСиТ
C40: =IF(B40=0," ",VLOOKUP(B40,[1]Женщины!B$1:H$65536,2,FALSE)) | D40: =IF(B40=0," ",VLOOKUP($B40,[1]Женщины!$B$1:$H$65536,3,FALSE)) | E40: =IF(B40=0," ",IF(VLOOKUP($B40,[1]Женщины!$B$1:$H$65536,4,FALSE)=0," ",VLOOKUP($B40,[1]Женщины!$B$1:$H$65536,4,FALSE))) | F40: =IF(B40=0," ",VLOOKUP($B40,[1]Женщины!$B$1:$H$65536,5,FALSE)) | G40: =IF(B40=0," ",VLOOKUP($B40,[1]Женщины!$B$1:$H$65536,6,FALSE))
C41: =IF(B41=0," ",VLOOKUP(B41,[1]Женщины!B$1:H$65536,2,FALSE)) | D41: =IF(B41=0," ",VLOOKUP($B41,[1]Женщины!$B$1:$H$65536,3,FALSE)) | E41: =IF(B41=0," ",IF(VLOOKUP($B41,[1]Женщины!$B$1:$H$65536,4,FALSE)=0," ",VLOOKUP($B41,[1]Женщины!$B$1:$H$65536,4,FALSE))) | F41: =IF(B41=0," ",VLOOKUP($B41,[1]Женщины!$B$1:$H$65536,5,FALSE)) | G41: =IF(B41=0," ",VLOOKUP($B41,[1]Женщины!$B$1:$H$65536,6,FALSE))
C42: =IF(B42=0," ",VLOOKUP(B42,[1]Женщины!B$1:H$65536,2,FALSE)) | D42: =IF(B42=0," ",VLOOKUP($B42,[1]Женщины!$B$1:$H$65536,3,FALSE)) | E42: =IF(B42=0," ",IF(VLOOKUP($B42,[1]Женщины!$B$1:$H$65536,4,FALSE)=0," ",VLOOKUP($B42,[1]Женщины!$B$1:$H$65536,4,FALSE))) | F42: =IF(B42=0," ",VLOOKUP($B42,[1]Женщины!$B$1:$H$65536,5,FALSE)) | G42: =IF(B42=0," ",VLOOKUP($B42,[1]Женщины!$B$1:$H$65536,6,FALSE))
C43: =IF(B43=0," ",VLOOKUP(B43,[1]Женщины!B$1:H$65536,2,FALSE)) | D43: =IF(B43=0," ",VLOOKUP($B43,[1]Женщины!$B$1:$H$65536,3,FALSE)) | E43: =IF(B43=0," ",IF(VLOOKUP($B43,[1]Женщины!$B$1:$H$65536,4,FALSE)=0," ",VLOOKUP($B43,[1]Женщины!$B$1:$H$65536,4,FALSE))) | F43: =IF(B43=0," ",VLOOKUP($B43,[1]Женщины!$B$1:$H$65536,5,FALSE)) | G43: =IF(B43=0," ",VLOOKUP($B43,[1]Женщины!$B$1:$H$65536,6,FALSE))
C44: =IF(B44=0," ",VLOOKUP(B44,[1]Женщины!B$1:H$65536,2,FALSE)) | D44: =IF(B44=0," ",VLOOKUP($B44,[1]Женщины!$B$1:$H$65536,3,FALSE)) | E44: =IF(B44=0," ",IF(VLOOKUP($B44,[1]Женщины!$B$1:$H$65536,4,FALSE)=0," ",VLOOKUP($B44,[1]Женщины!$B$1:$H$65536,4,FALSE))) | F44: =IF(B44=0," ",VLOOKUP($B44,[1]Женщины!$B$1:$H$65536,5,FALSE)) | G44: =IF(B44=0," ",VLOOKUP($B44,[1]Женщины!$B$1:$H$65536,6,FALSE))
C45: =IF(B45=0," ",VLOOKUP(B45,[1]Женщины!B$1:H$65536,2,FALSE)) | D45: =IF(B45=0," ",VLOOKUP($B45,[1]Женщины!$B$1:$H$65536,3,FALSE)) | E45: =IF(B45=0," ",IF(VLOOKUP($B45,[1]Женщины!$B$1:$H$65536,4,FALSE)=0," ",VLOOKUP($B45,[1]Женщины!$B$1:$H$65536,4,FALSE))) | F45: =IF(B45=0," ",VLOOKUP($B45,[1]Женщины!$B$1:$H$65536,5,FALSE)) | G45: =IF(B45=0," ",VLOOKUP($B45,[1]Женщины!$B$1:$H$65536,6,FALSE))
C46: =IF(B46=0," ",VLOOKUP(B46,[1]Женщины!B$1:H$65536,2,FALSE)) | D46: =IF(B46=0," ",VLOOKUP($B46,[1]Женщины!$B$1:$H$65536,3,FALSE)) | E46: =IF(B46=0," ",IF(VLOOKUP($B46,[1]Женщины!$B$1:$H$65536,4,FALSE)=0," ",VLOOKUP($B46,[1]Женщины!$B$1:$H$65536,4,FALSE))) | F46: =IF(B46=0," ",VLOOKUP($B46,[1]Женщины!$B$1:$H$65536,5,FALSE)) | G46: =IF(B46=0," ",VLOOKUP($B46,[1]Женщины!$B$1:$H$65536,6,FALSE))
D49: Рефери по бегу | I49: (_____________________________)
I50: Ф.И.О.
D53: Секретарь | I53: (_____________________________)
I54: Ф.И.О.

Sheet длина ж
A1: Чемпионат Российского студенческого спортивного союза
A2: мужчины и женщины
R3: 27-28 июня 2019 г.
Q4: стадион "Шинник"
R5: г. Ярославль
D6: 28.06.2019 г. | E6: 0.41666667 | F6: Финал | H6: ПРОТОКОЛ СОРЕВНОВАНИЙ
C8: Женщины | D8: Прыжок в длину
A9: Место | B9: Номер | C9: Фамилия, имя | D9: Дата рожд. | E9: Квалиф. | F9: Команда | G9: Вуз | H9: Результаты попыток | O9: Результат | P9: Вып. разр. | Q9: Очки | R9: Ф.И.О. тренера
H10: 1 | I10: 2 | J10: 3 | L10: 4 | M10: 5 | N10: 6
B12: 249 | C12: =IF(B12=0," ",VLOOKUP(B12,[1]Женщины!B$1:H$65536,2,FALSE)) -> Самитова Виктория | D12: =IF(B12=0," ",VLOOKUP($B12,[1]Женщины!$B$1:$H$65536,3,FALSE)) -> 09.09.1994 | E12: =IF(B12=0," ",IF(VLOOKUP($B12,[1]Женщины!$B$1:$H$65536,4,FALSE)=0," ",VLOOKUP($B12,[1]Женщины!$B$1:$H$65536,4,FALSE))) -> МС | F12: =IF(B12=0," ",VLOOKUP($B12,[1]Женщины!$B$1:$H$65536,5,FALSE)) -> Республика Татарстан | G12: =IF(B12=0," ",VLOOKUP($B12,[1]Женщины!$B$1:$H$65536,6,FALSE)) -> Казань, ФГБОУ ВО ПГАФКСиТ | H12: 5.78 | I12: х | J12: х | K12: 8 | L12: 5.9 | M12: х | N12: 5.7 | O12: =MAX(H12:J12,L12:N12) -> 5.9 | P12: =IF(O12=0," ",IF(O12>=[1]Разряды!$D$42,[1]Разряды!$D$3,IF(O12>=[1]Разряды!$E$42,[1]Разряды!$E$3,IF(O12>=[1]Разряды!$F$42,[1]Разряды!$F$3,IF(O12>=[1]Разряды!$G$42,[1]Разряды!$G$3,IF(O12>=[1]Разряды!$H$42,[1]Разряды!$H$3,IF(O12>=[1]Разряды!$I$42,[1]Разряды!$I$3,IF(O12>=[1]Разряды!$J$42,[1]Разряды!$J$3,"б/р")))))))) -> кмс | Q12: 18+5 | R12: =IF(B12=0," ",VLOOKUP($B12,[1]Женщины!$B$1:$H$65536,7,FALSE)) -> Рынина Е.И., Мухамедов Г.А.
B13: 69 | C13: =IF(B13=0," ",VLOOKUP(B13,[1]Женщины!B$1:H$65536,2,FALSE)) -> Малахова Арина | D13: =IF(B13=0," ",VLOOKUP($B13,[1]Женщины!$B$1:$H$65536,3,FALSE)) -> 01.08.2000 | E13: =IF(B13=0," ",IF(VLOOKUP($B13,[1]Женщины!$B$1:$H$65536,4,FALSE)=0," ",VLOOKUP($B13,[1]Женщины!$B$1:$H$65536,4,FALSE))) -> КМС | F13: =IF(B13=0," ",VLOOKUP($B13,[1]Женщины!$B$1:$H$65536,5,FALSE)) -> Нижегородская область | G13: =IF(B13=0," ",VLOOKUP($B13,[1]Женщины!$B$1:$H$65536,6,FALSE)) -> Нижний Новгород, ННГУ им. Н.И. Лобачевского | H13: 5.75 | I13: 5.42 | J13: 5.43 | K13: 6 | L13: 5.43 | M13: 5.43 | N13: 5.82 | O13: =MAX(H13:J13,L13:N13) -> 5.82 | P13: =IF(O13=0," ",IF(O13>=[1]Разряды!$D$42,[1]Разряды!$D$3,IF(O13>=[1]Разряды!$E$42,[1]Разряды!$E$3,IF(O13>=[1]Разряды!$F$42,[1]Разряды!$F$3,IF(O13>=[1]Разряды!$G$42,[1]Разряды!$G$3,IF(O13>=[1]Разряды!$H$42,[1]Разряды!$H$3,IF(O13>=[1]Разряды!$I$42,[1]Разряды!$I$3,IF(O13>=[1]Разряды!$J$42,[1]Разряды!$J$3,"б/р")))))))) -> 1р | Q13: 15 | R13: =IF(B13=0," ",VLOOKUP($B13,[1]Женщины!$B$1:$H$65536,7,FALSE)) -> Кулаков Ю.Г.
B14: 14 | C14: =IF(B14=0," ",VLOOKUP(B14,[1]Женщины!B$1:H$65536,2,FALSE)) -> Кузовкина Наталья | D14: =IF(B14=0," ",VLOOKUP($B14,[1]Женщины!$B$1:$H$65536,3,FALSE)) -> 03.12.1998 | E14: =IF(B14=0," ",IF(VLOOKUP($B14,[1]Женщины!$B$1:$H$65536,4,FALSE)=0," ",VLOOKUP($B14,[1]Женщины!$B$1:$H$65536,4,FALSE))) -> КМС | F14: =IF(B14=0," ",VLOOKUP($B14,[1]Женщины!$B$1:$H$65536,5,FALSE)) -> Приморский край | G14: =IF(B14=0," ",VLOOKUP($B14,[1]Женщины!$B$1:$H$65536,6,FALSE)) -> Владивосток, ДВФУ | H14: 5.67 | I14: 5.5 | J14: - | K14: 5 | L14: 5.79 | M14: х | N14: 5.7 | O14: =MAX(H14:J14,L14:N14) -> 5.79 | P14: =IF(O14=0," ",IF(O14>=[1]Разряды!$D$42,[1]Разряды!$D$3,IF(O14>=[1]Разряды!$E$42,[1]Разряды!$E$3,IF(O14>=[1]Разряды!$F$42,[1]Разряды!$F$3,IF(O14>=[1]Разряды!$G$42,[1]Разряды!$G$3,IF(O14>=[1]Разряды!$H$42,[1]Разряды!$H$3,IF(O14>=[1]Разряды!$I$42,[1]Разряды!$I$3,IF(O14>=[1]Разряды!$J$42,[1]Разряды!$J$3,"б/р")))))))) -> 1р | Q14: 13 | R14: =IF(B14=0," ",VLOOKUP($B14,[1]Женщины!$B$1:$H$65536,7,FALSE)) -> Кузина Т.Н., Загиной Ю.А.
B15: 218 | C15: =IF(B15=0," ",VLOOKUP(B15,[1]Женщины!B$1:H$65536,2,FALSE)) -> Исаева Юлия | D15: =IF(B15=0," ",VLOOKUP($B15,[1]Женщины!$B$1:$H$65536,3,FALSE)) -> 23.10.1996 | E15: =IF(B15=0," ",IF(VLOOKUP($B15,[1]Женщины!$B$1:$H$65536,4,FALSE)=0," ",VLOOKUP($B15,[1]Женщины!$B$1:$H$65536,4,FALSE))) -> КМС | F15: =IF(B15=0," ",VLOOKUP($B15,[1]Женщины!$B$1:$H$65536,5,FALSE)) -> Республика Мордовия | G15: =IF(B15=0," ",VLOOKUP($B15,[1]Женщины!$B$1:$H$65536,6,FALSE)) -> Саранск, ФГБОУ ВО "НИМГУ им. Н.П. Огарева" | H15: 5.37 | I15: 5.52 | J15: 5.75 | K15: 7 | L15: 5.62 | M15: 5.42 | N15: х | O15: =MAX(H15:J15,L15:N15) -> 5.75 | P15: =IF(O15=0," ",IF(O15>=[1]Разряды!$D$42,[1]Разряды!$D$3,IF(O15>=[1]Разряды!$E$42,[1]Разряды!$E$3,IF(O15>=[1]Разряды!$F$42,[1]Разряды!$F$3,IF(O15>=[1]Разряды!$G$42,[1]Разряды!$G$3,IF(O15>=[1]Разряды!$H$42,[1]Разряды!$H$3,IF(O15>=[1]Разряды!$I$42,[1]Разряды!$I$3,IF(O15>=[1]Разряды!$J$42,[1]Разряды!$J$3,"б/р")))))))) -> 1р | Q15: 12 | R15: =IF(B15=0," ",VLOOKUP($B15,[1]Женщины!$B$1:$H$65536,7,FALSE)) -> Иванов А.И., Кондов Г.М.
B16: 290 | C16: =IF(B16=0," ",VLOOKUP(B16,[1]Женщины!B$1:H$65536,2,FALSE)) -> Матвеева Мария | D16: =IF(B16=0," ",VLOOKUP($B16,[1]Женщины!$B$1:$H$65536,3,FALSE)) -> 02.11.1995 | E16: =IF(B16=0," ",IF(VLOOKUP($B16,[1]Женщины!$B$1:$H$65536,4,FALSE)=0," ",VLOOKUP($B16,[1]Женщины!$B$1:$H$65536,4,FALSE))) -> КМС | F16: =IF(B16=0," ",VLOOKUP($B16,[1]Женщины!$B$1:$H$65536,5,FALSE)) -> Нижегородская область | G16: =IF(B16=0," ",VLOOKUP($B16,[1]Женщины!$B$1:$H$65536,6,FALSE)) -> Нижний Новгород, ННГУ им. Н.И. Лобачевского | H16: 5.5 | I16: 5.34 | J16: 5.65 | K16: 4 | L16: х | M16: 5.44 | N16: 5.39 | O16: =MAX(H16:J16,L16:N16) -> 5.65 | P16: =IF(O16=0," ",IF(O16>=[1]Разряды!$D$42,[1]Разряды!$D$3,IF(O16>=[1]Разряды!$E$42,[1]Разряды!$E$3,IF(O16>=[1]Разряды!$F$42,[1]Разряды!$F$3,IF(O16>=[1]Разряды!$G$42,[1]Разряды!$G$3,IF(O16>=[1]Разряды!$H$42,[1]Разряды!$H$3,IF(O16>=[1]Разряды!$I$42,[1]Разряды!$I$3,IF(O16>=[1]Разряды!$J$42,[1]Разряды!$J$3,"б/р")))))))) -> 1р | Q16: 11 | R16: =IF(B16=0," ",VLOOKUP($B16,[1]Женщины!$B$1:$H$65536,7,FALSE)) -> Лотова К.Н.
B17: 316 | C17: =IF(B17=0," ",VLOOKUP(B17,[1]Женщины!B$1:H$65536,2,FALSE)) -> Иванова Виктория | D17: =IF(B17=0," ",VLOOKUP($B17,[1]Женщины!$B$1:$H$65536,3,FALSE)) -> 25.05.2000 | E17: =IF(B17=0," ",IF(VLOOKUP($B17,[1]Женщины!$B$1:$H$65536,4,FALSE)=0," ",VLOOKUP($B17,[1]Женщины!$B$1:$H$65536,4,FALSE))) -> КМС | F17: =IF(B17=0," ",VLOOKUP($B17,[1]Женщины!$B$1:$H$65536,5,FALSE)) -> Челябинская область | G17: =IF(B17=0," ",VLOOKUP($B17,[1]Женщины!$B$1:$H$65536,6,FALSE)) -> Челябинск, УралГУФК | H17: 5.5 | I17: 5.62 | J17: 5.46 | K17: 3 | L17: 5.55 | M17: 5.4 | N17: 5.48 | O17: =MAX(H17:J17,L17:N17) -> 5.62 | P17: =IF(O17=0," ",IF(O17>=[1]Разряды!$D$42,[1]Разряды!$D$3,IF(O17>=[1]Разряды!$E$42,[1]Разряды!$E$3,IF(O17>=[1]Разряды!$F$42,[1]Разряды!$F$3,IF(O17>=[1]Разряды!$G$42,[1]Разряды!$G$3,IF(O17>=[1]Разряды!$H$42,[1]Разряды!$H$3,IF(O17>=[1]Разряды!$I$42,[1]Разряды!$I$3,IF(O17>=[1]Разряды!$J$42,[1]Разряды!$J$3,"б/р")))))))) -> 1р | Q17: 10 | R17: =IF(B17=0," ",VLOOKUP($B17,[1]Женщины!$B$1:$H$65536,7,FALSE)) -> Пугач С.В., Хаустов А.В., Зыков А.Ч.
B18: 118 | C18: =IF(B18=0," ",VLOOKUP(B18,[1]Женщины!B$1:H$65536,2,FALSE)) -> Жилина Виктория | D18: =IF(B18=0," ",VLOOKUP($B18,[1]Женщины!$B$1:$H$65536,3,FALSE)) -> 15.11.1999 | E18: =IF(B18=0," ",IF(VLOOKUP($B18,[1]Женщины!$B$1:$H$65536,4,FALSE)=0," ",VLOOKUP($B18,[1]Женщины!$B$1:$H$65536,4,FALSE))) -> 1р | F18: =IF(B18=0," ",VLOOKUP($B18,[1]Женщины!$B$1:$H$65536,5,FALSE)) -> Республика Чувашии | G18: =IF(B18=0," ",VLOOKUP($B18,[1]Женщины!$B$1:$H$65536,6,FALSE)) -> Чебоксары, ЧГПУ им. И.Я. Яковлева | H18: 5.59 | I18: 5.47 | J18: 5.52 | K18: 2 | L18: 5.48 | M18: 5.45 | N18: х | O18: =MAX(H18:J18,L18:N18) -> 5.59 | P18: =IF(O18=0," ",IF(O18>=[1]Разряды!$D$42,[1]Разряды!$D$3,IF(O18>=[1]Разряды!$E$42,[1]Разряды!$E$3,IF(O18>=[1]Разряды!$F$42,[1]Разряды!$F$3,IF(O18>=[1]Разряды!$G$42,[1]Разряды!$G$3,IF(O18>=[1]Разряды!$H$42,[1]Разряды!$H$3,IF(O18>=[1]Разряды!$I$42,[1]Разряды!$I$3,IF(O18>=[1]Разряды!$J$42,[1]Разряды!$J$3,"б/р")))))))) -> 1р | Q18: 9 | R18: =IF(B18=0," ",VLOOKUP($B18,[1]Женщины!$B$1:$H$65536,7,FALSE)) -> Морозова С.Н.
B19: 160 | C19: =IF(B19=0," ",VLOOKUP(B19,[1]Женщины!B$1:H$65536,2,FALSE)) -> Балясникова Евгения | D19: =IF(B19=0," ",VLOOKUP($B19,[1]Женщины!$B$1:$H$65536,3,FALSE)) -> 09.06.1998 | E19: =IF(B19=0," ",IF(VLOOKUP($B19,[1]Женщины!$B$1:$H$65536,4,FALSE)=0," ",VLOOKUP($B19,[1]Женщины!$B$1:$H$65536,4,FALSE))) -> КМС | F19: =IF(B19=0," ",VLOOKUP($B19,[1]Женщины!$B$1:$H$65536,5,FALSE)) -> Тамбовская область | G19: =IF(B19=0," ",VLOOKUP($B19,[1]Женщины!$B$1:$H$65536,6,FALSE)) -> Тамбов, ТГУ им. Г.Р. Державина | H19: 5.22 | I19: 5.4 | J19: 5.52 | K19: 1 | L19: 5.07 | M19: 5.4 | N19: х | O19: =MAX(H19:J19,L19:N19) -> 5.52 | P19: =IF(O19=0," ",IF(O19>=[1]Разряды!$D$42,[1]Разряды!$D$3,IF(O19>=[1]Разряды!$E$42,[1]Разряды!$E$3,IF(O19>=[1]Разряды!$F$42,[1]Разряды!$F$3,IF(O19>=[1]Разряды!$G$42,[1]Разряды!$G$3,IF(O19>=[1]Разряды!$H$42,[1]Разряды!$H$3,IF(O19>=[1]Разряды!$I$42,[1]Разряды!$I$3,IF(O19>=[1]Разряды!$J$42,[1]Разряды!$J$3,"б/р")))))))) -> 2р | Q19: 8 | R19: =IF(B19=0," ",VLOOKUP($B19,[1]Женщины!$B$1:$H$65536,7,FALSE)) -> Иванов А.Н.
B20: 31 | C20: =IF(B20=0," ",VLOOKUP(B20,[1]Женщины!B$1:H$65536,2,FALSE)) -> Бодрова Татьяна | D20: =IF(B20=0," ",VLOOKUP($B20,[1]Женщины!$B$1:$H$65536,3,FALSE)) -> 19.01.1997 | E20: =IF(B20=0," ",IF(VLOOKUP($B20,[1]Женщины!$B$1:$H$65536,4,FALSE)=0," ",VLOOKUP($B20,[1]Женщины!$B$1:$H$65536,4,FALSE))) -> КМС | F20: =IF(B20=0," ",VLOOKUP($B20,[1]Женщины!$B$1:$H$65536,5,FALSE)) -> Красноярский край | G20: =IF(B20=0," ",VLOOKUP($B20,[1]Женщины!$B$1:$H$65536,6,FALSE)) -> Красноярск, СФУ | H20: 5.41 | I20: 5.35 | J20: 5.37 | O20: =MAX(H20:J20,L20:N20) -> 5.41 | P20: =IF(O20=0," ",IF(O20>=[1]Разряды!$D$42,[1]Разряды!$D$3,IF(O20>=[1]Разряды!$E$42,[1]Разряды!$E$3,IF(O20>=[1]Разряды!$F$42,[1]Разряды!$F$3,IF(O20>=[1]Разряды!$G$42,[1]Разряды!$G$3,IF(O20>=[1]Разряды!$H$42,[1]Разряды!$H$3,IF(O20>=[1]Разряды!$I$42,[1]Разряды!$I$3,IF(O20>=[1]Разряды!$J$42,[1]Разряды!$J$3,"б/р")))))))) -> 2р | Q20: 7 | R20: =IF(B20=0," ",VLOOKUP($B20,[1]Женщины!$B$1:$H$65536,7,FALSE)) -> Просвиряков С.В.
B21: 199 | C21: =IF(B21=0," ",VLOOKUP(B21,[1]Женщины!B$1:H$65536,2,FALSE)) -> Будагова Марина | D21: =IF(B21=0," ",VLOOKUP($B21,[1]Женщины!$B$1:$H$65536,3,FALSE)) -> 09.02.2000 | E21: =IF(B21=0," ",IF(VLOOKUP($B21,[1]Женщины!$B$1:$H$65536,4,FALSE)=0," ",VLOOKUP($B21,[1]Женщины!$B$1:$H$65536,4,FALSE))) -> 1р | F21: =IF(B21=0," ",VLOOKUP($B21,[1]Женщины!$B$1:$H$65536,5,FALSE)) -> Красноярский край | G21: =IF(B21=0," ",VLOOKUP($B21,[1]Женщины!$B$1:$H$65536,6,FALSE)) -> Красноярск, СФУ | H21: 5.17 | I21: 5.41 | J21: х | O21: =MAX(H21:J21,L21:N21) -> 5.41 | P21: =IF(O21=0," ",IF(O21>=[1]Разряды!$D$42,[1]Разряды!$D$3,IF(O21>=[1]Разряды!$E$42,[1]Разряды!$E$3,IF(O21>=[1]Разряды!$F$42,[1]Разряды!$F$3,IF(O21>=[1]Разряды!$G$42,[1]Разряды!$G$3,IF(O21>=[1]Разряды!$H$42,[1]Разряды!$H$3,IF(O21>=[1]Разряды!$I$42,[1]Разряды!$I$3,IF(O21>=[1]Разряды!$J$42,[1]Разряды!$J$3,"б/р")))))))) -> 2р | Q21: 6 | R21: =IF(B21=0," ",VLOOKUP($B21,[1]Женщины!$B$1:$H$65536,7,FALSE)) -> Зубрилина Т.Г.
B22: 93 | C22: =IF(B22=0," ",VLOOKUP(B22,[1]Женщины!B$1:H$65536,2,FALSE)) -> Сизова Екатерина | D22: =IF(B22=0," ",VLOOKUP($B22,[1]Женщины!$B$1:$H$65536,3,FALSE)) -> 09.02.1997 | E22: =IF(B22=0," ",IF(VLOOKUP($B22,[1]Женщины!$B$1:$H$65536,4,FALSE)=0," ",VLOOKUP($B22,[1]Женщины!$B$1:$H$65536,4,FALSE))) -> 1р | F22: =IF(B22=0," ",VLOOKUP($B22,[1]Женщины!$B$1:$H$65536,5,FALSE)) -> Калининградская область | G22: =IF(B22=0," ",VLOOKUP($B22,[1]Женщины!$B$1:$H$65536,6,FALSE)) -> Калининград, БФУ им. И. Канта | H22: х | I22: 5.03 | J22: 5.31 | O22: =MAX(H22:J22,L22:N22) -> 5.31 | P22: =IF(O22=0," ",IF(O22>=[1]Разряды!$D$42,[1]Разряды!$D$3,IF(O22>=[1]Разряды!$E$42,[1]Разряды!$E$3,IF(O22>=[1]Разряды!$F$42,[1]Разряды!$F$3,IF(O22>=[1]Разряды!$G$42,[1]Разряды!$G$3,IF(O22>=[1]Разряды!$H$42,[1]Разряды!$H$3,IF(O22>=[1]Разряды!$I$42,[1]Разряды!$I$3,IF(O22>=[1]Разряды!$J$42,[1]Разряды!$J$3,"б/р")))))))) -> 2р | Q22: 5 | R22: =IF(B22=0," ",VLOOKUP($B22,[1]Женщины!$B$1:$H$65536,7,FALSE)) -> Степочкина Е.К.
B23: 305 | C23: =IF(B23=0," ",VLOOKUP(B23,[1]Женщины!B$1:H$65536,2,FALSE)) -> Сергеян Диана | D23: =IF(B23=0," ",VLOOKUP($B23,[1]Женщины!$B$1:$H$65536,3,FALSE)) -> 24.10.1999 | E23: =IF(B23=0," ",IF(VLOOKUP($B23,[1]Женщины!$B$1:$H$65536,4,FALSE)=0," ",VLOOKUP($B23,[1]Женщины!$B$1:$H$65536,4,FALSE))) -> КМС | F23: =IF(B23=0," ",VLOOKUP($B23,[1]Женщины!$B$1:$H$65536,5,FALSE)) -> Ивановская область | G23: =IF(B23=0," ",VLOOKUP($B23,[1]Женщины!$B$1:$H$65536,6,FALSE)) -> Иваново, ИГХТУ | H23: х | I23: 5.18 | J23: 5.2 | O23: =MAX(H23:J23,L23:N23) -> 5.2 | P23: =IF(O23=0," ",IF(O23>=[1]Разряды!$D$42,[1]Разряды!$D$3,IF(O23>=[1]Разряды!$E$42,[1]Разряды!$E$3,IF(O23>=[1]Разряды!$F$42,[1]Разряды!$F$3,IF(O23>=[1]Разряды!$G$42,[1]Разряды!$G$3,IF(O23>=[1]Разряды!$H$42,[1]Разряды!$H$3,IF(O23>=[1]Разряды!$I$42,[1]Разряды!$I$3,IF(O23>=[1]Разряды!$J$42,[1]Разряды!$J$3,"б/р")))))))) -> 2р | Q23: 4 | R23: =IF(B23=0," ",VLOOKUP($B23,[1]Женщины!$B$1:$H$65536,7,FALSE)) -> Скобцов А.Ф.
B24: 295 | C24: =IF(B24=0," ",VLOOKUP(B24,[1]Женщины!B$1:H$65536,2,FALSE)) -> Кучина Анна | D24: =IF(B24=0," ",VLOOKUP($B24,[1]Женщины!$B$1:$H$65536,3,FALSE)) -> 04.06.1997 | E24: =IF(B24=0," ",IF(VLOOKUP($B24,[1]Женщины!$B$1:$H$65536,4,FALSE)=0," ",VLOOKUP($B24,[1]Женщины!$B$1:$H$65536,4,FALSE))) -> 1р | F24: =IF(B24=0," ",VLOOKUP($B24,[1]Женщины!$B$1:$H$65536,5,FALSE)) -> Ивановская область | G24: =IF(B24=0," ",VLOOKUP($B24,[1]Женщины!$B$1:$H$65536,6,FALSE)) -> Иваново, ИГСХА им. Д.К. Беляева | H24: 5.19 | I24: 4.81 | J24: 4.92 | O24: =MAX(H24:J24,L24:N24) -> 5.19 | P24: =IF(O24=0," ",IF(O24>=[1]Разряды!$D$42,[1]Разряды!$D$3,IF(O24>=[1]Разряды!$E$42,[1]Разряды!$E$3,IF(O24>=[1]Разряды!$F$42,[1]Разряды!$F$3,IF(O24>=[1]Разряды!$G$42,[1]Разряды!$G$3,IF(O24>=[1]Разряды!$H$42,[1]Разряды!$H$3,IF(O24>=[1]Разряды!$I$42,[1]Разряды!$I$3,IF(O24>=[1]Разряды!$J$42,[1]Разряды!$J$3,"б/р")))))))) -> 2р | Q24: 3 | R24: =IF(B24=0," ",VLOOKUP($B24,[1]Женщины!$B$1:$H$65536,7,FALSE)) -> Левичева М.Б.
