Workbook

Sheet 100ж
A1: Чемпионат Российского студенческого спортивного союза
A2: мужчины и женщины
M3: 27-28 июня 2019 г.
L4: стадион "Шинник"
M5: г. Ярославль
D6: 27.06.2019г. | E6: 0.45833333 | F6: забеги | J6: ПРОТОКОЛ СОРЕВНОВАНИЙ
D7: 27.06.2019г. | E7: 0.69444444 | F7: п/финал
D8: 27.06.2019г. | E8: 0.79166667 | F8: финал
C9: Женщины | D9: Бег 100 м
A10: Место | B10: Номер | C10: Фамилия, имя | D10: Дата рожд. | E10: Квал. | F10: Команда | G10: ВУЗ | H10: Результат | K10: Вып. разр. | L10: Очки | M10: Ф.И.О. тренера
H11: забеги | I11: п/финал | J11: финал
A12: 1 | B12: 96 | C12: =IF(B12=0," ",VLOOKUP(B12,[1]Женщины!B$1:H$65536,2,FALSE)) -> Максимова Марина | D12: =IF(B12=0," ",VLOOKUP($B12,[1]Женщины!$B$1:$H$65536,3,FALSE)) -> 18.02.1996 | E12: =IF(B12=0," ",IF(VLOOKUP($B12,[1]Женщины!$B$1:$H$65536,4,FALSE)=0," ",VLOOKUP($B12,[1]Женщины!$B$1:$H$65536,4,FALSE))) -> МС | F12: =IF(B12=0," ",VLOOKUP($B12,[1]Женщины!$B$1:$H$65536,5,FALSE)) -> Ивановская область | G12: =IF(B12=0," ",VLOOKUP($B12,[1]Женщины!$B$1:$H$65536,6,FALSE)) -> Шуя, ШФ ИвГУ | H12: 0.00013935185 | I12: 0.0001375 | J12: 0.00013425926 | K12: мс | L12: 18+10 | M12: =IF(B12=0," ",VLOOKUP($B12,[1]Женщины!$B$1:$H$65536,7,FALSE)) -> Смирнов С.В., Храмцов Н.Е.
A13: 2 | B13: 39 | C13: =IF(B13=0," ",VLOOKUP(B13,[1]Женщины!B$1:H$65536,2,FALSE)) -> Белова Ирина | D13: =IF(B13=0," ",VLOOKUP($B13,[1]Женщины!$B$1:$H$65536,3,FALSE)) -> 21.01.1994 | E13: =IF(B13=0," ",IF(VLOOKUP($B13,[1]Женщины!$B$1:$H$65536,4,FALSE)=0," ",VLOOKUP($B13,[1]Женщины!$B$1:$H$65536,4,FALSE))) -> МС | F13: =IF(B13=0," ",VLOOKUP($B13,[1]Женщины!$B$1:$H$65536,5,FALSE)) -> Республика Мордовия | G13: =IF(B13=0," ",VLOOKUP($B13,[1]Женщины!$B$1:$H$65536,6,FALSE)) -> Саранск, ФГБОУ ВО "НИМГУ им. Н.П. Огарева" | H13: 0.00013969907 | I13: 0.00013703704 | J13: 0.0001349537 | K13: мс | L13: 15+10 | M13: =IF(B13=0," ",VLOOKUP($B13,[1]Женщины!$B$1:$H$65536,7,FALSE)) -> Бусаров В.М.
A14: 3 | B14: 348 | C14: =IF(B14=0," ",VLOOKUP(B14,[1]Женщины!B$1:H$65536,2,FALSE)) -> Муромская Валерия | D14: =IF(B14=0," ",VLOOKUP($B14,[1]Женщины!$B$1:$H$65536,3,FALSE)) -> 25.10.1995 | E14: =IF(B14=0," ",IF(VLOOKUP($B14,[1]Женщины!$B$1:$H$65536,4,FALSE)=0," ",VLOOKUP($B14,[1]Женщины!$B$1:$H$65536,4,FALSE))) -> КМС | F14: =IF(B14=0," ",VLOOKUP($B14,[1]Женщины!$B$1:$H$65536,5,FALSE)) -> Пензенская область | G14: =IF(B14=0," ",VLOOKUP($B14,[1]Женщины!$B$1:$H$65536,6,FALSE)) -> Пенза, ПензГУ | H14: 0.00014351852 | I14: 0.00013958333 | J14: 0.00013680556 | K14: мс | L14: 13+10 | M14: =IF(B14=0," ",VLOOKUP($B14,[1]Женщины!$B$1:$H$65536,7,FALSE)) -> Невокшаков Б.В., Чураева М.С.
A15: 4 | B15: 97 | C15: =IF(B15=0," ",VLOOKUP(B15,[1]Женщины!B$1:H$65536,2,FALSE)) -> Некрасова Татьяна | D15: =IF(B15=0," ",VLOOKUP($B15,[1]Женщины!$B$1:$H$65536,3,FALSE)) -> 25.04.1994 | E15: =IF(B15=0," ",IF(VLOOKUP($B15,[1]Женщины!$B$1:$H$65536,4,FALSE)=0," ",VLOOKUP($B15,[1]Женщины!$B$1:$H$65536,4,FALSE))) -> МС | F15: =IF(B15=0," ",VLOOKUP($B15,[1]Женщины!$B$1:$H$65536,5,FALSE)) -> Ивановская область | G15: =IF(B15=0," ",VLOOKUP($B15,[1]Женщины!$B$1:$H$65536,6,FALSE)) -> Шуя, ШФ ИвГУ | H15: 0.00014143519 | I15: 0.00014270833 | J15: 0.00013946759 | K15: =IF(H15=0," ",IF(H15<=[1]Разряды!$D$30,[1]Разряды!$D$3,IF(H15<=[1]Разряды!$E$30,[1]Разряды!$E$3,IF(H15<=[1]Разряды!$F$30,[1]Разряды!$F$3,IF(H15<=[1]Разряды!$G$30,[1]Разряды!$G$3,IF(H15<=[1]Разряды!$H$30,[1]Разряды!$H$3,IF(H15<=[1]Разряды!$I$30,[1]Разряды!$I$3,IF(H15<=[1]Разряды!$J$30,[1]Разряды!$J$3,"б/р")))))))) -> кмс | L15: 12+5 | M15: =IF(B15=0," ",VLOOKUP($B15,[1]Женщины!$B$1:$H$65536,7,FALSE)) -> Магницкий М.В.
A16: 5 | B16: 8 | C16: =IF(B16=0," ",VLOOKUP(B16,[1]Женщины!B$1:H$65536,2,FALSE)) -> Колдина Анастасия | D16: =IF(B16=0," ",VLOOKUP($B16,[1]Женщины!$B$1:$H$65536,3,FALSE)) -> 06.01.1995 | E16: =IF(B16=0," ",IF(VLOOKUP($B16,[1]Женщины!$B$1:$H$65536,4,FALSE)=0," ",VLOOKUP($B16,[1]Женщины!$B$1:$H$65536,4,FALSE))) -> МС | F16: =IF(B16=0," ",VLOOKUP($B16,[1]Женщины!$B$1:$H$65536,5,FALSE)) -> Тамбовская область | G16: =IF(B16=0," ",VLOOKUP($B16,[1]Женщины!$B$1:$H$65536,6,FALSE)) -> Тамбов, ТГУ им. Г.Р. Державина | H16: 0.00014340278 | I16: 0.00013958333 | J16: 0.00013969907 | K16: =IF(H16=0," ",IF(H16<=[1]Разряды!$D$30,[1]Разряды!$D$3,IF(H16<=[1]Разряды!$E$30,[1]Разряды!$E$3,IF(H16<=[1]Разряды!$F$30,[1]Разряды!$F$3,IF(H16<=[1]Разряды!$G$30,[1]Разряды!$G$3,IF(H16<=[1]Разряды!$H$30,[1]Разряды!$H$3,IF(H16<=[1]Разряды!$I$30,[1]Разряды!$I$3,IF(H16<=[1]Разряды!$J$30,[1]Разряды!$J$3,"б/р")))))))) -> кмс | L16: 11+5 | M16: =IF(B16=0," ",VLOOKUP($B16,[1]Женщины!$B$1:$H$65536,7,FALSE)) -> Иванов А.Н.
A17: 6 | B17: 40 | C17: =IF(B17=0," ",VLOOKUP(B17,[1]Женщины!B$1:H$65536,2,FALSE)) -> Курбакова Ирина | D17: =IF(B17=0," ",VLOOKUP($B17,[1]Женщины!$B$1:$H$65536,3,FALSE)) -> 07.03.2000 | E17: =IF(B17=0," ",IF(VLOOKUP($B17,[1]Женщины!$B$1:$H$65536,4,FALSE)=0," ",VLOOKUP($B17,[1]Женщины!$B$1:$H$65536,4,FALSE))) -> КМС | F17: =IF(B17=0," ",VLOOKUP($B17,[1]Женщины!$B$1:$H$65536,5,FALSE)) -> Республика Мордовия | G17: =IF(B17=0," ",VLOOKUP($B17,[1]Женщины!$B$1:$H$65536,6,FALSE)) -> Саранск, ФГБОУ ВО "НИМГУ им. Н.П. Огарева" | H17: 0.00014131944 | I17: 0.00014305556 | J17: 0.00014039352 | K17: =IF(H17=0," ",IF(H17<=[1]Разряды!$D$30,[1]Разряды!$D$3,IF(H17<=[1]Разряды!$E$30,[1]Разряды!$E$3,IF(H17<=[1]Разряды!$F$30,[1]Разряды!$F$3,IF(H17<=[1]Разряды!$G$30,[1]Разряды!$G$3,IF(H17<=[1]Разряды!$H$30,[1]Разряды!$H$3,IF(H17<=[1]Разряды!$I$30,[1]Разряды!$I$3,IF(H17<=[1]Разряды!$J$30,[1]Разряды!$J$3,"б/р")))))))) -> кмс | L17: 10+5 | M17: =IF(B17=0," ",VLOOKUP($B17,[1]Женщины!$B$1:$H$65536,7,FALSE)) -> Забродин Р.
A18: 7 | B18: 17 | C18: =IF(B18=0," ",VLOOKUP(B18,[1]Женщины!B$1:H$65536,2,FALSE)) -> Нилова Екатерина | D18: =IF(B18=0," ",VLOOKUP($B18,[1]Женщины!$B$1:$H$65536,3,FALSE)) -> 19.07.1999 | E18: =IF(B18=0," ",IF(VLOOKUP($B18,[1]Женщины!$B$1:$H$65536,4,FALSE)=0," ",VLOOKUP($B18,[1]Женщины!$B$1:$H$65536,4,FALSE))) -> КМС | F18: =IF(B18=0," ",VLOOKUP($B18,[1]Женщины!$B$1:$H$65536,5,FALSE)) -> Москва | G18: =IF(B18=0," ",VLOOKUP($B18,[1]Женщины!$B$1:$H$65536,6,FALSE)) -> Москва, РГУФКСМиТ (ГЦОЛИФК) | H18: 0.00014259259 | I18: 0.00014270833 | J18: 0.00014050926 | K18: =IF(H18=0," ",IF(H18<=[1]Разряды!$D$30,[1]Разряды!$D$3,IF(H18<=[1]Разряды!$E$30,[1]Разряды!$E$3,IF(H18<=[1]Разряды!$F$30,[1]Разряды!$F$3,IF(H18<=[1]Разряды!$G$30,[1]Разряды!$G$3,IF(H18<=[1]Разряды!$H$30,[1]Разряды!$H$3,IF(H18<=[1]Разряды!$I$30,[1]Разряды!$I$3,IF(H18<=[1]Разряды!$J$30,[1]Разряды!$J$3,"б/р")))))))) -> кмс | L18: 9+5 | M18: =IF(B18=0," ",VLOOKUP($B18,[1]Женщины!$B$1:$H$65536,7,FALSE)) -> Филатова М.И.
A19: 8 | B19: 98 | C19: =IF(B19=0," ",VLOOKUP(B19,[1]Женщины!B$1:H$65536,2,FALSE)) -> Трялина Дарья | D19: =IF(B19=0," ",VLOOKUP($B19,[1]Женщины!$B$1:$H$65536,3,FALSE)) -> 24.07.1999 | E19: =IF(B19=0," ",IF(VLOOKUP($B19,[1]Женщины!$B$1:$H$65536,4,FALSE)=0," ",VLOOKUP($B19,[1]Женщины!$B$1:$H$65536,4,FALSE))) -> КМС | F19: =IF(B19=0," ",VLOOKUP($B19,[1]Женщины!$B$1:$H$65536,5,FALSE)) -> Пензенская область | G19: =IF(B19=0," ",VLOOKUP($B19,[1]Женщины!$B$1:$H$65536,6,FALSE)) -> Пенза, ПензГУ | H19: 0.0001443287 | I19: 0.00014479167 | J19: 0.00014351852 | K19: =IF(H19=0," ",IF(H19<=[1]Разряды!$D$30,[1]Разряды!$D$3,IF(H19<=[1]Разряды!$E$30,[1]Разряды!$E$3,IF(H19<=[1]Разряды!$F$30,[1]Разряды!$F$3,IF(H19<=[1]Разряды!$G$30,[1]Разряды!$G$3,IF(H19<=[1]Разряды!$H$30,[1]Разряды!$H$3,IF(H19<=[1]Разряды!$I$30,[1]Разряды!$I$3,IF(H19<=[1]Разряды!$J$30,[1]Разряды!$J$3,"б/р")))))))) -> кмс | L19: 8+5 | M19: =IF(B19=0," ",VLOOKUP($B19,[1]Женщины!$B$1:$H$65536,7,FALSE)) -> Родионова А.И., Безиков М.В.
A20: 9 | B20: 351 | C20: =IF(B20=0," ",VLOOKUP(B20,[1]Женщины!B$1:H$65536,2,FALSE)) -> Лукьянова Диана | D20: =IF(B20=0," ",VLOOKUP($B20,[1]Женщины!$B$1:$H$65536,3,FALSE)) -> 18.05.1998 | E20: =IF(B20=0," ",IF(VLOOKUP($B20,[1]Женщины!$B$1:$H$65536,4,FALSE)=0," ",VLOOKUP($B20,[1]Женщины!$B$1:$H$65536,4,FALSE))) -> КМС | F20: =IF(B20=0," ",VLOOKUP($B20,[1]Женщины!$B$1:$H$65536,5,FALSE)) -> Пензенская область | G20: =IF(B20=0," ",VLOOKUP($B20,[1]Женщины!$B$1:$H$65536,6,FALSE)) -> Пенза, ПензГУ | H20: 0.00014930556 | I20: 0.00014513889 | K20: кмс | L20: 7+5 | M20: =IF(B20=0," ",VLOOKUP($B20,[1]Женщины!$B$1:$H$65536,7,FALSE)) -> Винокуров А.Г.
A21: 10 | B21: 355 | C21: =IF(B21=0," ",VLOOKUP(B21,[1]Женщины!B$1:H$65536,2,FALSE)) -> Потапова Елизавета | D21: =IF(B21=0," ",VLOOKUP($B21,[1]Женщины!$B$1:$H$65536,3,FALSE)) -> 24.11.2000 | E21: =IF(B21=0," ",IF(VLOOKUP($B21,[1]Женщины!$B$1:$H$65536,4,FALSE)=0," ",VLOOKUP($B21,[1]Женщины!$B$1:$H$65536,4,FALSE))) -> КМС | F21: =IF(B21=0," ",VLOOKUP($B21,[1]Женщины!$B$1:$H$65536,5,FALSE)) -> Пензенская область | G21: =IF(B21=0," ",VLOOKUP($B21,[1]Женщины!$B$1:$H$65536,6,FALSE)) -> Пенза, ПензГУ | H21: 0.00014780093 | I21: 0.00014560185 | K21: кмс | L21: 6+5 | M21: =IF(B21=0," ",VLOOKUP($B21,[1]Женщины!$B$1:$H$65536,7,FALSE)) -> Красковы Р.Б., К.И.
A22: 11 | B22: 65 | C22: =IF(B22=0," ",VLOOKUP(B22,[1]Женщины!B$1:H$65536,2,FALSE)) -> Ткачева Мария | D22: =IF(B22=0," ",VLOOKUP($B22,[1]Женщины!$B$1:$H$65536,3,FALSE)) -> 05.04.1995 | E22: =IF(B22=0," ",IF(VLOOKUP($B22,[1]Женщины!$B$1:$H$65536,4,FALSE)=0," ",VLOOKUP($B22,[1]Женщины!$B$1:$H$65536,4,FALSE))) -> КМС | F22: =IF(B22=0," ",VLOOKUP($B22,[1]Женщины!$B$1:$H$65536,5,FALSE)) -> Архангельская область | G22: =IF(B22=0," ",VLOOKUP($B22,[1]Женщины!$B$1:$H$65536,6,FALSE)) -> Архангельск, САФУ им. М.В. Ломоносова | H22: 0.00014594907 | I22: 0.00014571759 | K22: =IF(H22=0," ",IF(H22<=[1]Разряды!$D$30,[1]Разряды!$D$3,IF(H22<=[1]Разряды!$E$30,[1]Разряды!$E$3,IF(H22<=[1]Разряды!$F$30,[1]Разряды!$F$3,IF(H22<=[1]Разряды!$G$30,[1]Разряды!$G$3,IF(H22<=[1]Разряды!$H$30,[1]Разряды!$H$3,IF(H22<=[1]Разряды!$I$30,[1]Разряды!$I$3,IF(H22<=[1]Разряды!$J$30,[1]Разряды!$J$3,"б/р")))))))) -> кмс | L22: 5+5 | M22: =IF(B22=0," ",VLOOKUP($B22,[1]Женщины!$B$1:$H$65536,7,FALSE)) -> Мингалева А.Г.
A23: 12 | B23: 347 | C23: =IF(B23=0," ",VLOOKUP(B23,[1]Женщины!B$1:H$65536,2,FALSE)) -> Андреева Елена | D23: =IF(B23=0," ",VLOOKUP($B23,[1]Женщины!$B$1:$H$65536,3,FALSE)) -> 15.01.1999 | E23: =IF(B23=0," ",IF(VLOOKUP($B23,[1]Женщины!$B$1:$H$65536,4,FALSE)=0," ",VLOOKUP($B23,[1]Женщины!$B$1:$H$65536,4,FALSE))) -> КМС | F23: =IF(B23=0," ",VLOOKUP($B23,[1]Женщины!$B$1:$H$65536,5,FALSE)) -> Пензенская область | G23: =IF(B23=0," ",VLOOKUP($B23,[1]Женщины!$B$1:$H$65536,6,FALSE)) -> Пенза, ПензГУ | H23: 0.00014849537 | I23: 0.00014618056 | K23: кмс | L23: 4+5 | M23: =IF(B23=0," ",VLOOKUP($B23,[1]Женщины!$B$1:$H$65536,7,FALSE)) -> Кузнецов А.М.
A24: 13 | B24: 31 | C24: =IF(B24=0," ",VLOOKUP(B24,[1]Женщины!B$1:H$65536,2,FALSE)) -> Бодрова Татьяна | D24: =IF(B24=0," ",VLOOKUP($B24,[1]Женщины!$B$1:$H$65536,3,FALSE)) -> 19.01.1997 | E24: =IF(B24=0," ",IF(VLOOKUP($B24,[1]Женщины!$B$1:$H$65536,4,FALSE)=0," ",VLOOKUP($B24,[1]Женщины!$B$1:$H$65536,4,FALSE))) -> КМС | F24: =IF(B24=0," ",VLOOKUP($B24,[1]Женщины!$B$1:$H$65536,5,FALSE)) -> Красноярский край | G24: =IF(B24=0," ",VLOOKUP($B24,[1]Женщины!$B$1:$H$65536,6,FALSE)) -> Красноярск, СФУ | H24: 0.00014594907 | I24: 0.0001462963 | K24: =IF(H24=0," ",IF(H24<=[1]Разряды!$D$30,[1]Разряды!$D$3,IF(H24<=[1]Разряды!$E$30,[1]Разряды!$E$3,IF(H24<=[1]Разряды!$F$30,[1]Разряды!$F$3,IF(H24<=[1]Разряды!$G$30,[1]Разряды!$G$3,IF(H24<=[1]Разряды!$H$30,[1]Разряды!$H$3,IF(H24<=[1]Разряды!$I$30,[1]Разряды!$I$3,IF(H24<=[1]Разряды!$J$30,[1]Разряды!$J$3,"б/р")))))))) -> кмс | L24: 3+5 | M24: =IF(B24=0," ",VLOOKUP($B24,[1]Женщины!$B$1:$H$65536,7,FALSE)) -> Просвиряков С.В.
A25: 14 | B25: 48 | C25: =IF(B25=0," ",VLOOKUP(B25,[1]Женщины!B$1:H$65536,2,FALSE)) -> Бойчук Ирина | D25: =IF(B25=0," ",VLOOKUP($B25,[1]Женщины!$B$1:$H$65536,3,FALSE)) -> 16.07.2000 | E25: =IF(B25=0," ",IF(VLOOKUP($B25,[1]Женщины!$B$1:$H$65536,4,FALSE)=0," ",VLOOKUP($B25,[1]Женщины!$B$1:$H$65536,4,FALSE))) -> КМС | F25: =IF(B25=0," ",VLOOKUP($B25,[1]Женщины!$B$1:$H$65536,5,FALSE)) -> Новгородская область | G25: =IF(B25=0," ",VLOOKUP($B25,[1]Женщины!$B$1:$H$65536,6,FALSE)) -> Великий Новгород, НовГУ им. Ярослава Мудрого | H25: 0.00014849537 | I25: 0.00014722222 | K25: =IF(H25=0," ",IF(H25<=[1]Разряды!$D$30,[1]Разряды!$D$3,IF(H25<=[1]Разряды!$E$30,[1]Разряды!$E$3,IF(H25<=[1]Разряды!$F$30,[1]Разряды!$F$3,IF(H25<=[1]Разряды!$G$30,[1]Разряды!$G$3,IF(H25<=[1]Разряды!$H$30,[1]Разряды!$H$3,IF(H25<=[1]Разряды!$I$30,[1]Разряды!$I$3,IF(H25<=[1]Разряды!$J$30,[1]Разряды!$J$3,"б/р")))))))) -> 1р | L25: 2 | M25: =IF(B25=0," ",VLOOKUP($B25,[1]Женщины!$B$1:$H$65536,7,FALSE)) -> Савенков П.А.
A26: 15 | B26: 60 | C26: =IF(B26=0," ",VLOOKUP(B26,[1]Женщины!B$1:H$65536,2,FALSE)) -> Корнеева Ульяна | D26: =IF(B26=0," ",VLOOKUP($B26,[1]Женщины!$B$1:$H$65536,3,FALSE)) -> 06.01.2000 | E26: =IF(B26=0," ",IF(VLOOKUP($B26,[1]Женщины!$B$1:$H$65536,4,FALSE)=0," ",VLOOKUP($B26,[1]Женщины!$B$1:$H$65536,4,FALSE))) -> 1р | F26: =IF(B26=0," ",VLOOKUP($B26,[1]Женщины!$B$1:$H$65536,5,FALSE)) -> Ивановская область | G26: =IF(B26=0," ",VLOOKUP($B26,[1]Женщины!$B$1:$H$65536,6,FALSE)) -> Иваново, ИГЭУ им. В.И. Ленина | H26: 0.00014664352 | I26: 0.0001474537 | K26: =IF(H26=0," ",IF(H26<=[1]Разряды!$D$30,[1]Разряды!$D$3,IF(H26<=[1]Разряды!$E$30,[1]Разряды!$E$3,IF(H26<=[1]Разряды!$F$30,[1]Разряды!$F$3,IF(H26<=[1]Разряды!$G$30,[1]Разряды!$G$3,IF(H26<=[1]Разряды!$H$30,[1]Разряды!$H$3,IF(H26<=[1]Разряды!$I$30,[1]Разряды!$I$3,IF(H26<=[1]Разряды!$J$30,[1]Разряды!$J$3,"б/р")))))))) -> 1р | L26: 1 | M26: =IF(B26=0," ",VLOOKUP($B26,[1]Женщины!$B$1:$H$65536,7,FALSE)) -> Чахунов Е.И.
A27: 16 | B27: 86 | C27: =IF(B27=0," ",VLOOKUP(B27,[1]Женщины!B$1:H$65536,2,FALSE)) -> Симонова Анна | D27: =IF(B27=0," ",VLOOKUP($B27,[1]Женщины!$B$1:$H$65536,3,FALSE)) -> 24.12.2000 | E27: =IF(B27=0," ",IF(VLOOKUP($B27,[1]Женщины!$B$1:$H$65536,4,FALSE)=0," ",VLOOKUP($B27,[1]Женщины!$B$1:$H$65536,4,FALSE))) -> КМС | F27: =IF(B27=0," ",VLOOKUP($B27,[1]Женщины!$B$1:$H$65536,5,FALSE)) -> Москва | G27: =IF(B27=0," ",VLOOKUP($B27,[1]Женщины!$B$1:$H$65536,6,FALSE)) -> Москва, МГУ им. М.В. Ломоносова | H27: 0.00014733796 | I27: 0.00014803241 | K27: =IF(H27=0," ",IF(H27<=[1]Разряды!$D$30,[1]Разряды!$D$3,IF(H27<=[1]Разряды!$E$30,[1]Разряды!$E$3,IF(H27<=[1]Разряды!$F$30,[1]Разряды!$F$3,IF(H27<=[1]Разряды!$G$30,[1]Разряды!$G$3,IF(H27<=[1]Разряды!$H$30,[1]Разряды!$H$3,IF(H27<=[1]Разряды!$I$30,[1]Разряды!$I$3,IF(H27<=[1]Разряды!$J$30,[1]Разряды!$J$3,"б/р")))))))) -> 1р | L27: 1 | M27: =IF(B27=0," ",VLOOKUP($B27,[1]Женщины!$B$1:$H$65536,7,FALSE)) -> Привалова И.А.
A28: 17 | B28: 53 | C28: =IF(B28=0," ",VLOOKUP(B28,[1]Женщины!B$1:H$65536,2,FALSE)) -> Голубина Светлана | D28: =IF(B28=0," ",VLOOKUP($B28,[1]Женщины!$B$1:$H$65536,3,FALSE)) -> 30.11.1997 | E28: =IF(B28=0," ",IF(VLOOKUP($B28,[1]Женщины!$B$1:$H$65536,4,FALSE)=0," ",VLOOKUP($B28,[1]Женщины!$B$1:$H$65536,4,FALSE))) -> КМС | F28: =IF(B28=0," ",VLOOKUP($B28,[1]Женщины!$B$1:$H$65536,5,FALSE)) -> Удмуртская Республика | G28: =IF(B28=0," ",VLOOKUP($B28,[1]Женщины!$B$1:$H$65536,6,FALSE)) -> Ижевск, УдГУ | H28: 0.00015046296 | I28: 0.00014965278 | K28: =IF(H28=0," ",IF(H28<=[1]Разряды!$D$30,[1]Разряды!$D$3,IF(H28<=[1]Разряды!$E$30,[1]Разряды!$E$3,IF(H28<=[1]Разряды!$F$30,[1]Разряды!$F$3,IF(H28<=[1]Разряды!$G$30,[1]Разряды!$G$3,IF(H28<=[1]Разряды!$H$30,[1]Разряды!$H$3,IF(H28<=[1]Разряды!$I$30,[1]Разряды!$I$3,IF(H28<=[1]Разряды!$J$30,[1]Разряды!$J$3,"б/р")))))))) -> 1р | L28: 1 | M28: =IF(B28=0," ",VLOOKUP($B28,[1]Женщины!$B$1:$H$65536,7,FALSE)) -> Феофилактов Н.З.,Шибанова С.А.
A29: 18 | B29: 88 | C29: =IF(B29=0," ",VLOOKUP(B29,[1]Женщины!B$1:H$65536,2,FALSE)) -> Стецкая Александра | D29: =IF(B29=0," ",VLOOKUP($B29,[1]Женщины!$B$1:$H$65536,3,FALSE)) -> 12.07.2000 | E29: =IF(B29=0," ",IF(VLOOKUP($B29,[1]Женщины!$B$1:$H$65536,4,FALSE)=0," ",VLOOKUP($B29,[1]Женщины!$B$1:$H$65536,4,FALSE))) -> 1р | F29: =IF(B29=0," ",VLOOKUP($B29,[1]Женщины!$B$1:$H$65536,5,FALSE)) -> Смоленская область | G29: =IF(B29=0," ",VLOOKUP($B29,[1]Женщины!$B$1:$H$65536,6,FALSE)) -> Смоленск, Смоленская ГСХА | H29: 0.00014976852 | I29: 0.00015034722 | K29: =IF(H29=0," ",IF(H29<=[1]Разряды!$D$30,[1]Разряды!$D$3,IF(H29<=[1]Разряды!$E$30,[1]Разряды!$E$3,IF(H29<=[1]Разряды!$F$30,[1]Разряды!$F$3,IF(H29<=[1]Разряды!$G$30,[1]Разряды!$G$3,IF(H29<=[1]Разряды!$H$30,[1]Разряды!$H$3,IF(H29<=[1]Разряды!$I$30,[1]Разряды!$I$3,IF(H29<=[1]Разряды!$J$30,[1]Разряды!$J$3,"б/р")))))))) -> 1р | L29: 1 | M29: =IF(B29=0," ",VLOOKUP($B29,[1]Женщины!$B$1:$H$65536,7,FALSE)) -> Войцеховский М.В.
A30: 19 | B30: 38 | C30: =IF(B30=0," ",VLOOKUP(B30,[1]Женщины!B$1:H$65536,2,FALSE)) -> Гурьянова Анастасия | D30: =IF(B30=0," ",VLOOKUP($B30,[1]Женщины!$B$1:$H$65536,3,FALSE)) -> 29.05.2000 | E30: =IF(B30=0," ",IF(VLOOKUP($B30,[1]Женщины!$B$1:$H$65536,4,FALSE)=0," ",VLOOKUP($B30,[1]Женщины!$B$1:$H$65536,4,FALSE))) -> 1р | F30: =IF(B30=0," ",VLOOKUP($B30,[1]Женщины!$B$1:$H$65536,5,FALSE)) -> Республика Мордовия | G30: =IF(B30=0," ",VLOOKUP($B30,[1]Женщины!$B$1:$H$65536,6,FALSE)) -> Саранск, ФГБОУ ВО "НИМГУ им. Н.П. Огарева" | H30: 0.00014976852 | I30: 0.00015046296 | K30: =IF(H30=0," ",IF(H30<=[1]Разряды!$D$30,[1]Разряды!$D$3,IF(H30<=[1]Разряды!$E$30,[1]Разряды!$E$3,IF(H30<=[1]Разряды!$F$30,[1]Разряды!$F$3,IF(H30<=[1]Разряды!$G$30,[1]Разряды!$G$3,IF(H30<=[1]Разряды!$H$30,[1]Разряды!$H$3,IF(H30<=[1]Разряды!$I$30,[1]Разряды!$I$3,IF(H30<=[1]Разряды!$J$30,[1]Разряды!$J$3,"б/р")))))))) -> 1р | L30: 1 | M30: =IF(B30=0," ",VLOOKUP($B30,[1]Женщины!$B$1:$H$65536,7,FALSE)) -> Аранов С.М.
A31: 20 | B31: 93 | C31: =IF(B31=0," ",VLOOKUP(B31,[1]Женщины!B$1:H$65536,2,FALSE)) -> Сизова Екатерина | D31: =IF(B31=0," ",VLOOKUP($B31,[1]Женщины!$B$1:$H$65536,3,FALSE)) -> 09.02.1997 | E31: =IF(B31=0," ",IF(VLOOKUP($B31,[1]Женщины!$B$1:$H$65536,4,FALSE)=0," ",VLOOKUP($B31,[1]Женщины!$B$1:$H$65536,4,FALSE))) -> 1р | F31: =IF(B31=0," ",VLOOKUP($B31,[1]Женщины!$B$1:$H$65536,5,FALSE)) -> Калининградская область | G31: =IF(B31=0," ",VLOOKUP($B31,[1]Женщины!$B$1:$H$65536,6,FALSE)) -> Калининград, БФУ им. И. Канта | H31: 0.00014965278 | I31: 0.00015150463 | K31: =IF(H31=0," ",IF(H31<=[1]Разряды!$D$30,[1]Разряды!$D$3,IF(H31<=[1]Разряды!$E$30,[1]Разряды!$E$3,IF(H31<=[1]Разряды!$F$30,[1]Разряды!$F$3,IF(H31<=[1]Разряды!$G$30,[1]Разряды!$G$3,IF(H31<=[1]Разряды!$H$30,[1]Разряды!$H$3,IF(H31<=[1]Разряды!$I$30,[1]Разряды!$I$3,IF(H31<=[1]Разряды!$J$30,[1]Разряды!$J$3,"б/р")))))))) -> 1р | L31: 1 | M31: =IF(B31=0," ",VLOOKUP($B31,[1]Женщины!$B$1:$H$65536,7,FALSE)) -> Степочкина Е.К.
A32: 21 | B32: 66 | C32: =IF(B32=0," ",VLOOKUP(B32,[1]Женщины!B$1:H$65536,2,FALSE)) -> Лазаревич Анастасия | D32: =IF(B32=0," ",VLOOKUP($B32,[1]Женщины!$B$1:$H$65536,3,FALSE)) -> 20.10.1997 | E32: =IF(B32=0," ",IF(VLOOKUP($B32,[1]Женщины!$B$1:$H$65536,4,FALSE)=0," ",VLOOKUP($B32,[1]Женщины!$B$1:$H$65536,4,FALSE))) -> 1р | F32: =IF(B32=0," ",VLOOKUP($B32,[1]Женщины!$B$1:$H$65536,5,FALSE)) -> Архангельская область | G32: =IF(B32=0," ",VLOOKUP($B32,[1]Женщины!$B$1:$H$65536,6,FALSE)) -> Архангельск, САФУ им. М.В. Ломоносова | H32: 0.00015023148 | I32: 0.00015173611 | K32: =IF(H32=0," ",IF(H32<=[1]Разряды!$D$30,[1]Разряды!$D$3,IF(H32<=[1]Разряды!$E$30,[1]Разряды!$E$3,IF(H32<=[1]Разряды!$F$30,[1]Разряды!$F$3,IF(H32<=[1]Разряды!$G$30,[1]Разряды!$G$3,IF(H32<=[1]Разряды!$H$30,[1]Разряды!$H$3,IF(H32<=[1]Разряды!$I$30,[1]Разряды!$I$3,IF(H32<=[1]Разряды!$J$30,[1]Разряды!$J$3,"б/р")))))))) -> 1р | L32: 1 | M32: =IF(B32=0," ",VLOOKUP($B32,[1]Женщины!$B$1:$H$65536,7,FALSE)) -> Мингалева А.Г.
A33: 21 | B33: 33 | C33: =IF(B33=0," ",VLOOKUP(B33,[1]Женщины!B$1:H$65536,2,FALSE)) -> Гроза Анна | D33: =IF(B33=0," ",VLOOKUP($B33,[1]Женщины!$B$1:$H$65536,3,FALSE)) -> 17.12.1996 | E33: =IF(B33=0," ",IF(VLOOKUP($B33,[1]Женщины!$B$1:$H$65536,4,FALSE)=0," ",VLOOKUP($B33,[1]Женщины!$B$1:$H$65536,4,FALSE))) -> КМС | F33: =IF(B33=0," ",VLOOKUP($B33,[1]Женщины!$B$1:$H$65536,5,FALSE)) -> Красноярский край | G33: =IF(B33=0," ",VLOOKUP($B33,[1]Женщины!$B$1:$H$65536,6,FALSE)) -> Красноярск, СФУ | H33: 0.0001505787 | I33: 0.00015173611 | K33: =IF(H33=0," ",IF(H33<=[1]Разряды!$D$30,[1]Разряды!$D$3,IF(H33<=[1]Разряды!$E$30,[1]Разряды!$E$3,IF(H33<=[1]Разряды!$F$30,[1]Разряды!$F$3,IF(H33<=[1]Разряды!$G$30,[1]Разряды!$G$3,IF(H33<=[1]Разряды!$H$30,[1]Разряды!$H$3,IF(H33<=[1]Разряды!$I$30,[1]Разряды!$I$3,IF(H33<=[1]Разряды!$J$30,[1]Разряды!$J$3,"б/р")))))))) -> 1р | L33: 1 | M33: =IF(B33=0," ",VLOOKUP($B33,[1]Женщины!$B$1:$H$65536,7,FALSE)) -> Федоров В.И.
A34: 23 | B34: 5 | C34: =IF(B34=0," ",VLOOKUP(B34,[1]Женщины!B$1:H$65536,2,FALSE)) -> Титаева Кристина | D34: =IF(B34=0," ",VLOOKUP($B34,[1]Женщины!$B$1:$H$65536,3,FALSE)) -> 22.01.2001 | E34: =IF(B34=0," ",IF(VLOOKUP($B34,[1]Женщины!$B$1:$H$65536,4,FALSE)=0," ",VLOOKUP($B34,[1]Женщины!$B$1:$H$65536,4,FALSE))) -> КМС | F34: =IF(B34=0," ",VLOOKUP($B34,[1]Женщины!$B$1:$H$65536,5,FALSE)) -> Сахалинская область | G34: =IF(B34=0," ",VLOOKUP($B34,[1]Женщины!$B$1:$H$65536,6,FALSE)) -> СахГУ | H34: 0.00014513889 | I34: r|med | K34: =IF(H34=0," ",IF(H34<=[1]Разряды!$D$30,[1]Разряды!$D$3,IF(H34<=[1]Разряды!$E$30,[1]Разряды!$E$3,IF(H34<=[1]Разряды!$F$30,[1]Разряды!$F$3,IF(H34<=[1]Разряды!$G$30,[1]Разряды!$G$3,IF(H34<=[1]Разряды!$H$30,[1]Разряды!$H$3,IF(H34<=[1]Разряды!$I$30,[1]Разряды!$I$3,IF(H34<=[1]Разряды!$J$30,[1]Разряды!$J$3,"б/р")))))))) -> кмс | L34: 1+5 | M34: =IF(B34=0," ",VLOOKUP($B34,[1]Женщины!$B$1:$H$65536,7,FALSE)) -> Жижикин А.Н.
A35: 24 | B35: 6 | C35: =IF(B35=0," ",VLOOKUP(B35,[1]Женщины!B$1:H$65536,2,FALSE)) -> Сухобокова Анастасия | D35: =IF(B35=0," ",VLOOKUP($B35,[1]Женщины!$B$1:$H$65536,3,FALSE)) -> 04.12.1997 | E35: =IF(B35=0," ",IF(VLOOKUP($B35,[1]Женщины!$B$1:$H$65536,4,FALSE)=0," ",VLOOKUP($B35,[1]Женщины!$B$1:$H$65536,4,FALSE))) -> 1р | F35: =IF(B35=0," ",VLOOKUP($B35,[1]Женщины!$B$1:$H$65536,5,FALSE)) -> Сахалинская область | G35: =IF(B35=0," ",VLOOKUP($B35,[1]Женщины!$B$1:$H$65536,6,FALSE)) -> СахГУ | H35: 0.00014930556 | I35: r|med | K35: =IF(H35=0," ",IF(H35<=[1]Разряды!$D$30,[1]Разряды!$D$3,IF(H35<=[1]Разряды!$E$30,[1]Разряды!$E$3,IF(H35<=[1]Разряды!$F$30,[1]Разряды!$F$3,IF(H35<=[1]Разряды!$G$30,[1]Разряды!$G$3,IF(H35<=[1]Разряды!$H$30,[1]Разряды!$H$3,IF(H35<=[1]Разряды!$I$30,[1]Разряды!$I$3,IF(H35<=[1]Разряды!$J$30,[1]Разряды!$J$3,"б/р")))))))) -> 1р | L35: 1 | M35: =IF(B35=0," ",VLOOKUP($B35,[1]Женщины!$B$1:$H$65536,7,FALSE)) -> Быкова Т.Ф.
A36: 25 | B36: 21 | C36: =IF(B36=0," ",VLOOKUP(B36,[1]Женщины!B$1:H$65536,2,FALSE)) -> Якушева Кристина | D36: =IF(B36=0," ",VLOOKUP($B36,[1]Женщины!$B$1:$H$65536,3,FALSE)) -> 19.01.1998 | E36: =IF(B36=0," ",IF(VLOOKUP($B36,[1]Женщины!$B$1:$H$65536,4,FALSE)=0," ",VLOOKUP($B36,[1]Женщины!$B$1:$H$65536,4,FALSE))) -> КМС | F36: =IF(B36=0," ",VLOOKUP($B36,[1]Женщины!$B$1:$H$65536,5,FALSE)) -> Мурманская область | G36: =IF(B36=0," ",VLOOKUP($B36,[1]Женщины!$B$1:$H$65536,6,FALSE)) -> Мурманск, МАГУ | H36: 0.00015115741 | K36: =IF(H36=0," ",IF(H36<=[1]Разряды!$D$30,[1]Разряды!$D$3,IF(H36<=[1]Разряды!$E$30,[1]Разряды!$E$3,IF(H36<=[1]Разряды!$F$30,[1]Разряды!$F$3,IF(H36<=[1]Разряды!$G$30,[1]Разряды!$G$3,IF(H36<=[1]Разряды!$H$30,[1]Разряды!$H$3,IF(H36<=[1]Разряды!$I$30,[1]Разряды!$I$3,IF(H36<=[1]Разряды!$J$30,[1]Разряды!$J$3,"б/р")))))))) -> 1р | L36: 1 | M36: =IF(B36=0," ",VLOOKUP($B36,[1]Женщины!$B$1:$H$65536,7,FALSE)) -> Фарутин Н.В.
A37: 25 | B37: 59 | C37: =IF(B37=0," ",VLOOKUP(B37,[1]Женщины!B$1:H$65536,2,FALSE)) -> Калинина Ольга | D37: =IF(B37=0," ",VLOOKUP($B37,[1]Женщины!$B$1:$H$65536,3,FALSE)) -> 01.11.1998 | E37: =IF(B37=0," ",IF(VLOOKUP($B37,[1]Женщины!$B$1:$H$65536,4,FALSE)=0," ",VLOOKUP($B37,[1]Женщины!$B$1:$H$65536,4,FALSE))) -> КМС | F37: =IF(B37=0," ",VLOOKUP($B37,[1]Женщины!$B$1:$H$65536,5,FALSE)) -> Республика Татарстан | G37: =IF(B37=0," ",VLOOKUP($B37,[1]Женщины!$B$1:$H$65536,6,FALSE)) -> Казань, ФГБОУ ВО ПГАФКСиТ | H37: 0.00015115741 | K37: =IF(H37=0," ",IF(H37<=[1]Разряды!$D$30,[1]Разряды!$D$3,IF(H37<=[1]Разряды!$E$30,[1]Разряды!$E$3,IF(H37<=[1]Разряды!$F$30,[1]Разряды!$F$3,IF(H37<=[1]Разряды!$G$30,[1]Разряды!$G$3,IF(H37<=[1]Разряды!$H$30,[1]Разряды!$H$3,IF(H37<=[1]Разряды!$I$30,[1]Разряды!$I$3,IF(H37<=[1]Разряды!$J$30,[1]Разряды!$J$3,"б/р")))))))) -> 1р | L37: 1 | M37: =IF(B37=0," ",VLOOKUP($B37,[1]Женщины!$B$1:$H$65536,7,FALSE)) -> Борисенко Е.М., Кондратьева Е.С.
A38: 27 | B38: 68 | C38: =IF(B38=0," ",VLOOKUP(B38,[1]Женщины!B$1:H$65536,2,FALSE)) -> Жерихова Наталья | D38: =IF(B38=0," ",VLOOKUP($B38,[1]Женщины!$B$1:$H$65536,3,FALSE)) -> 23.11.2000 | E38: =IF(B38=0," ",IF(VLOOKUP($B38,[1]Женщины!$B$1:$H$65536,4,FALSE)=0," ",VLOOKUP($B38,[1]Женщины!$B$1:$H$65536,4,FALSE))) -> КМС | F38: =IF(B38=0," ",VLOOKUP($B38,[1]Женщины!$B$1:$H$65536,5,FALSE)) -> Нижегородская область | G38: =IF(B38=0," ",VLOOKUP($B38,[1]Женщины!$B$1:$H$65536,6,FALSE)) -> Нижний Новгород, ННГУ им. Н.И. Лобачевского | H38: 0.00015150463 | K38: =IF(H38=0," ",IF(H38<=[1]Разряды!$D$30,[1]Разряды!$D$3,IF(H38<=[1]Разряды!$E$30,[1]Разряды!$E$3,IF(H38<=[1]Разряды!$F$30,[1]Разряды!$F$3,IF(H38<=[1]Разряды!$G$30,[1]Разряды!$G$3,IF(H38<=[1]Разряды!$H$30,[1]Разряды!$H$3,IF(H38<=[1]Разряды!$I$30,[1]Разряды!$I$3,IF(H38<=[1]Разряды!$J$30,[1]Разряды!$J$3,"б/р")))))))) -> 1р | L38: 1 | M38: =IF(B38=0," ",VLOOKUP($B38,[1]Женщины!$B$1:$H$65536,7,FALSE)) -> Судаков К.А.
A39: 28 | B39: 95 | C39: =IF(B39=0," ",VLOOKUP(B39,[1]Женщины!B$1:H$65536,2,FALSE)) -> Сухрякова Александра | D39: =IF(B39=0," ",VLOOKUP($B39,[1]Женщины!$B$1:$H$65536,3,FALSE)) -> 23.07.2000 | E39: =IF(B39=0," ",IF(VLOOKUP($B39,[1]Женщины!$B$1:$H$65536,4,FALSE)=0," ",VLOOKUP($B39,[1]Женщины!$B$1:$H$65536,4,FALSE))) -> КМС | F39: =IF(B39=0," ",VLOOKUP($B39,[1]Женщины!$B$1:$H$65536,5,FALSE)) -> Калининградская область | G39: =IF(B39=0," ",VLOOKUP($B39,[1]Женщины!$B$1:$H$65536,6,FALSE)) -> Калининград, БФУ им. И. Канта | H39: 0.00015208333 | K39: =IF(H39=0," ",IF(H39<=[1]Разряды!$D$30,[1]Разряды!$D$3,IF(H39<=[1]Разряды!$E$30,[1]Разряды!$E$3,IF(H39<=[1]Разряды!$F$30,[1]Разряды!$F$3,IF(H39<=[1]Разряды!$G$30,[1]Разряды!$G$3,IF(H39<=[1]Разряды!$H$30,[1]Разряды!$H$3,IF(H39<=[1]Разряды!$I$30,[1]Разряды!$I$3,IF(H39<=[1]Разряды!$J$30,[1]Разряды!$J$3,"б/р")))))))) -> 1р | L39: 1 | M39: =IF(B39=0," ",VLOOKUP($B39,[1]Женщины!$B$1:$H$65536,7,FALSE)) -> Степочкина Е.К.
A40: 29 | B40: 52 | C40: =IF(B40=0," ",VLOOKUP(B40,[1]Женщины!B$1:H$65536,2,FALSE)) -> Рыкова Екатерина | D40: =IF(B40=0," ",VLOOKUP($B40,[1]Женщины!$B$1:$H$65536,3,FALSE)) -> 29.03.2000 | E40: =IF(B40=0," ",IF(VLOOKUP($B40,[1]Женщины!$B$1:$H$65536,4,FALSE)=0," ",VLOOKUP($B40,[1]Женщины!$B$1:$H$65536,4,FALSE))) -> КМС | F40: =IF(B40=0," ",VLOOKUP($B40,[1]Женщины!$B$1:$H$65536,5,FALSE)) -> Удмуртская Республика | G40: =IF(B40=0," ",VLOOKUP($B40,[1]Женщины!$B$1:$H$65536,6,FALSE)) -> Ижевск, УдГУ | H40: 0.0001525463 | K40: =IF(H40=0," ",IF(H40<=[1]Разряды!$D$30,[1]Разряды!$D$3,IF(H40<=[1]Разряды!$E$30,[1]Разряды!$E$3,IF(H40<=[1]Разряды!$F$30,[1]Разряды!$F$3,IF(H40<=[1]Разряды!$G$30,[1]Разряды!$G$3,IF(H40<=[1]Разряды!$H$30,[1]Разряды!$H$3,IF(H40<=[1]Разряды!$I$30,[1]Разряды!$I$3,IF(H40<=[1]Разряды!$J$30,[1]Разряды!$J$3,"б/р")))))))) -> 1р | L40: 1 | M40: =IF(B40=0," ",VLOOKUP($B40,[1]Женщины!$B$1:$H$65536,7,FALSE)) -> Феофилактов Н.З.
...

Sheet 200ж
A1: Чемпионат Российского студенческого спортивного союза
A2: мужчины и женщины
L3: 27-28 июня 2019 г.
K4: стадион "Шинник"
L5: г. Ярославль
D6: 28.06.2019г. | E6: 0.4375 | F6: Забеги | H6: ПРОТОКОЛ СОРЕВНОВАНИЙ
D7: 28.06.2019г. | E7: 0.51388889 | F7: Финал
C8: Женщины | D8: Бег 200м
A9: Место | B9: Номер | C9: Фамилия, имя | D9: Дата рожд. | E9: Квал. | F9: Команда | G9: ВУЗ | H9: Результат | J9: Вып. разр. | K9: Очки | L9: Ф.И.О. тренера
H10: забеги | I10: финал
A11: 1 | B11: 39 | C11: =IF(B11=0," ",VLOOKUP(B11,[1]Женщины!B$1:H$65536,2,FALSE)) -> Белова Ирина | D11: =IF(B11=0," ",VLOOKUP($B11,[1]Женщины!$B$1:$H$65536,3,FALSE)) -> 21.01.1994 | E11: =IF(B11=0," ",IF(VLOOKUP($B11,[1]Женщины!$B$1:$H$65536,4,FALSE)=0," ",VLOOKUP($B11,[1]Женщины!$B$1:$H$65536,4,FALSE))) -> МС | F11: =IF(B11=0," ",VLOOKUP($B11,[1]Женщины!$B$1:$H$65536,5,FALSE)) -> Республика Мордовия | G11: =IF(B11=0," ",VLOOKUP($B11,[1]Женщины!$B$1:$H$65536,6,FALSE)) -> Саранск, ФГБОУ ВО "НИМГУ им. Н.П. Огарева" | H11: 0.00028310185 | I11: 0.00027615741 | J11: мс | K11: 18+10 | L11: =IF(B11=0," ",VLOOKUP($B11,[1]Женщины!$B$1:$H$65536,7,FALSE)) -> Бусаров В.М.
A12: 2 | B12: 348 | C12: =IF(B12=0," ",VLOOKUP(B12,[1]Женщины!B$1:H$65536,2,FALSE)) -> Муромская Валерия | D12: =IF(B12=0," ",VLOOKUP($B12,[1]Женщины!$B$1:$H$65536,3,FALSE)) -> 25.10.1995 | E12: =IF(B12=0," ",IF(VLOOKUP($B12,[1]Женщины!$B$1:$H$65536,4,FALSE)=0," ",VLOOKUP($B12,[1]Женщины!$B$1:$H$65536,4,FALSE))) -> КМС | F12: =IF(B12=0," ",VLOOKUP($B12,[1]Женщины!$B$1:$H$65536,5,FALSE)) -> Пензенская область | G12: =IF(B12=0," ",VLOOKUP($B12,[1]Женщины!$B$1:$H$65536,6,FALSE)) -> Пенза, ПензГУ | H12: 0.00028206019 | I12: 0.000278125 | J12: =IF(H12=0," ",IF(H12<=[1]Разряды!$D$31,[1]Разряды!$D$3,IF(H12<=[1]Разряды!$E$31,[1]Разряды!$E$3,IF(H12<=[1]Разряды!$F$31,[1]Разряды!$F$3,IF(H12<=[1]Разряды!$G$31,[1]Разряды!$G$3,IF(H12<=[1]Разряды!$H$31,[1]Разряды!$H$3,IF(H12<=[1]Разряды!$I$31,[1]Разряды!$I$3,IF(H12<=[1]Разряды!$J$31,[1]Разряды!$J$3,"б/р")))))))) -> кмс | K12: 15+5 | L12: =IF(B12=0," ",VLOOKUP($B12,[1]Женщины!$B$1:$H$65536,7,FALSE)) -> Невокшаков Б.В., Чураева М.С.
A13: 3 | B13: 8 | C13: =IF(B13=0," ",VLOOKUP(B13,[1]Женщины!B$1:H$65536,2,FALSE)) -> Колдина Анастасия | D13: =IF(B13=0," ",VLOOKUP($B13,[1]Женщины!$B$1:$H$65536,3,FALSE)) -> 06.01.1995 | E13: =IF(B13=0," ",IF(VLOOKUP($B13,[1]Женщины!$B$1:$H$65536,4,FALSE)=0," ",VLOOKUP($B13,[1]Женщины!$B$1:$H$65536,4,FALSE))) -> МС | F13: =IF(B13=0," ",VLOOKUP($B13,[1]Женщины!$B$1:$H$65536,5,FALSE)) -> Тамбовская область | G13: =IF(B13=0," ",VLOOKUP($B13,[1]Женщины!$B$1:$H$65536,6,FALSE)) -> Тамбов, ТГУ им. Г.Р. Державина | H13: 0.00028680556 | I13: 0.00028159722 | J13: =IF(H13=0," ",IF(H13<=[1]Разряды!$D$31,[1]Разряды!$D$3,IF(H13<=[1]Разряды!$E$31,[1]Разряды!$E$3,IF(H13<=[1]Разряды!$F$31,[1]Разряды!$F$3,IF(H13<=[1]Разряды!$G$31,[1]Разряды!$G$3,IF(H13<=[1]Разряды!$H$31,[1]Разряды!$H$3,IF(H13<=[1]Разряды!$I$31,[1]Разряды!$I$3,IF(H13<=[1]Разряды!$J$31,[1]Разряды!$J$3,"б/р")))))))) -> кмс | K13: 13+5 | L13: =IF(B13=0," ",VLOOKUP($B13,[1]Женщины!$B$1:$H$65536,7,FALSE)) -> Иванов А.Н.
A14: 4 | B14: 223 | C14: =IF(B14=0," ",VLOOKUP(B14,[1]Женщины!B$1:H$65536,2,FALSE)) -> Цыганова Виктория | D14: =IF(B14=0," ",VLOOKUP($B14,[1]Женщины!$B$1:$H$65536,3,FALSE)) -> 01.07.1997 | E14: =IF(B14=0," ",IF(VLOOKUP($B14,[1]Женщины!$B$1:$H$65536,4,FALSE)=0," ",VLOOKUP($B14,[1]Женщины!$B$1:$H$65536,4,FALSE))) -> КМС | F14: =IF(B14=0," ",VLOOKUP($B14,[1]Женщины!$B$1:$H$65536,5,FALSE)) -> Москва | G14: =IF(B14=0," ",VLOOKUP($B14,[1]Женщины!$B$1:$H$65536,6,FALSE)) -> Москва, РУТ (МИИТ) | H14: 0.00028657407 | I14: 0.00028738426 | J14: =IF(H14=0," ",IF(H14<=[1]Разряды!$D$31,[1]Разряды!$D$3,IF(H14<=[1]Разряды!$E$31,[1]Разряды!$E$3,IF(H14<=[1]Разряды!$F$31,[1]Разряды!$F$3,IF(H14<=[1]Разряды!$G$31,[1]Разряды!$G$3,IF(H14<=[1]Разряды!$H$31,[1]Разряды!$H$3,IF(H14<=[1]Разряды!$I$31,[1]Разряды!$I$3,IF(H14<=[1]Разряды!$J$31,[1]Разряды!$J$3,"б/р")))))))) -> кмс | K14: л | L14: =IF(B14=0," ",VLOOKUP($B14,[1]Женщины!$B$1:$H$65536,7,FALSE)) -> Филатова М.И., Филатова Е.А.
A15: 5 | B15: 65 | C15: =IF(B15=0," ",VLOOKUP(B15,[1]Женщины!B$1:H$65536,2,FALSE)) -> Ткачева Мария | D15: =IF(B15=0," ",VLOOKUP($B15,[1]Женщины!$B$1:$H$65536,3,FALSE)) -> 05.04.1995 | E15: =IF(B15=0," ",IF(VLOOKUP($B15,[1]Женщины!$B$1:$H$65536,4,FALSE)=0," ",VLOOKUP($B15,[1]Женщины!$B$1:$H$65536,4,FALSE))) -> КМС | F15: =IF(B15=0," ",VLOOKUP($B15,[1]Женщины!$B$1:$H$65536,5,FALSE)) -> Архангельская область | G15: =IF(B15=0," ",VLOOKUP($B15,[1]Женщины!$B$1:$H$65536,6,FALSE)) -> Архангельск, САФУ им. М.В. Ломоносова | H15: 0.00029259259 | I15: 0.00029050926 | J15: =IF(H15=0," ",IF(H15<=[1]Разряды!$D$31,[1]Разряды!$D$3,IF(H15<=[1]Разряды!$E$31,[1]Разряды!$E$3,IF(H15<=[1]Разряды!$F$31,[1]Разряды!$F$3,IF(H15<=[1]Разряды!$G$31,[1]Разряды!$G$3,IF(H15<=[1]Разряды!$H$31,[1]Разряды!$H$3,IF(H15<=[1]Разряды!$I$31,[1]Разряды!$I$3,IF(H15<=[1]Разряды!$J$31,[1]Разряды!$J$3,"б/р")))))))) -> кмс | K15: 12+5 | L15: =IF(B15=0," ",VLOOKUP($B15,[1]Женщины!$B$1:$H$65536,7,FALSE)) -> Мингалева А.Г.
A16: 6 | B16: 40 | C16: =IF(B16=0," ",VLOOKUP(B16,[1]Женщины!B$1:H$65536,2,FALSE)) -> Курбакова Ирина | D16: =IF(B16=0," ",VLOOKUP($B16,[1]Женщины!$B$1:$H$65536,3,FALSE)) -> 07.03.2000 | E16: =IF(B16=0," ",IF(VLOOKUP($B16,[1]Женщины!$B$1:$H$65536,4,FALSE)=0," ",VLOOKUP($B16,[1]Женщины!$B$1:$H$65536,4,FALSE))) -> КМС | F16: =IF(B16=0," ",VLOOKUP($B16,[1]Женщины!$B$1:$H$65536,5,FALSE)) -> Республика Мордовия | G16: =IF(B16=0," ",VLOOKUP($B16,[1]Женщины!$B$1:$H$65536,6,FALSE)) -> Саранск, ФГБОУ ВО "НИМГУ им. Н.П. Огарева" | H16: 0.00029131944 | I16: 0.000290625 | J16: =IF(H16=0," ",IF(H16<=[1]Разряды!$D$31,[1]Разряды!$D$3,IF(H16<=[1]Разряды!$E$31,[1]Разряды!$E$3,IF(H16<=[1]Разряды!$F$31,[1]Разряды!$F$3,IF(H16<=[1]Разряды!$G$31,[1]Разряды!$G$3,IF(H16<=[1]Разряды!$H$31,[1]Разряды!$H$3,IF(H16<=[1]Разряды!$I$31,[1]Разряды!$I$3,IF(H16<=[1]Разряды!$J$31,[1]Разряды!$J$3,"б/р")))))))) -> кмс | K16: 11+5 | L16: =IF(B16=0," ",VLOOKUP($B16,[1]Женщины!$B$1:$H$65536,7,FALSE)) -> Забродин Р.
A17: 7 | B17: 6 | C17: =IF(B17=0," ",VLOOKUP(B17,[1]Женщины!B$1:H$65536,2,FALSE)) -> Сухобокова Анастасия | D17: =IF(B17=0," ",VLOOKUP($B17,[1]Женщины!$B$1:$H$65536,3,FALSE)) -> 04.12.1997 | E17: =IF(B17=0," ",IF(VLOOKUP($B17,[1]Женщины!$B$1:$H$65536,4,FALSE)=0," ",VLOOKUP($B17,[1]Женщины!$B$1:$H$65536,4,FALSE))) -> 1р | F17: =IF(B17=0," ",VLOOKUP($B17,[1]Женщины!$B$1:$H$65536,5,FALSE)) -> Сахалинская область | G17: =IF(B17=0," ",VLOOKUP($B17,[1]Женщины!$B$1:$H$65536,6,FALSE)) -> СахГУ | H17: 0.00029756944 | I17: 0.00029675926 | J17: =IF(H17=0," ",IF(H17<=[1]Разряды!$D$31,[1]Разряды!$D$3,IF(H17<=[1]Разряды!$E$31,[1]Разряды!$E$3,IF(H17<=[1]Разряды!$F$31,[1]Разряды!$F$3,IF(H17<=[1]Разряды!$G$31,[1]Разряды!$G$3,IF(H17<=[1]Разряды!$H$31,[1]Разряды!$H$3,IF(H17<=[1]Разряды!$I$31,[1]Разряды!$I$3,IF(H17<=[1]Разряды!$J$31,[1]Разряды!$J$3,"б/р")))))))) -> кмс | K17: 10+5 | L17: =IF(B17=0," ",VLOOKUP($B17,[1]Женщины!$B$1:$H$65536,7,FALSE)) -> Быкова Т.Ф.
A18: 8 | B18: 98 | C18: =IF(B18=0," ",VLOOKUP(B18,[1]Женщины!B$1:H$65536,2,FALSE)) -> Трялина Дарья | D18: =IF(B18=0," ",VLOOKUP($B18,[1]Женщины!$B$1:$H$65536,3,FALSE)) -> 24.07.1999 | E18: =IF(B18=0," ",IF(VLOOKUP($B18,[1]Женщины!$B$1:$H$65536,4,FALSE)=0," ",VLOOKUP($B18,[1]Женщины!$B$1:$H$65536,4,FALSE))) -> КМС | F18: =IF(B18=0," ",VLOOKUP($B18,[1]Женщины!$B$1:$H$65536,5,FALSE)) -> Пензенская область | G18: =IF(B18=0," ",VLOOKUP($B18,[1]Женщины!$B$1:$H$65536,6,FALSE)) -> Пенза, ПензГУ | H18: 0.00029479167 | I18: DQ п.п. 162.7 | J18: =IF(H18=0," ",IF(H18<=[1]Разряды!$D$31,[1]Разряды!$D$3,IF(H18<=[1]Разряды!$E$31,[1]Разряды!$E$3,IF(H18<=[1]Разряды!$F$31,[1]Разряды!$F$3,IF(H18<=[1]Разряды!$G$31,[1]Разряды!$G$3,IF(H18<=[1]Разряды!$H$31,[1]Разряды!$H$3,IF(H18<=[1]Разряды!$I$31,[1]Разряды!$I$3,IF(H18<=[1]Разряды!$J$31,[1]Разряды!$J$3,"б/р")))))))) -> кмс | K18: 9+5 | L18: =IF(B18=0," ",VLOOKUP($B18,[1]Женщины!$B$1:$H$65536,7,FALSE)) -> Родионова А.И., Безиков М.В.
A19: 9 | B19: 230 | C19: =IF(B19=0," ",VLOOKUP(B19,[1]Женщины!B$1:H$65536,2,FALSE)) -> Девяткина Ксения | D19: =IF(B19=0," ",VLOOKUP($B19,[1]Женщины!$B$1:$H$65536,3,FALSE)) -> 17.08.1998 | E19: =IF(B19=0," ",IF(VLOOKUP($B19,[1]Женщины!$B$1:$H$65536,4,FALSE)=0," ",VLOOKUP($B19,[1]Женщины!$B$1:$H$65536,4,FALSE))) -> КМС | F19: =IF(B19=0," ",VLOOKUP($B19,[1]Женщины!$B$1:$H$65536,5,FALSE)) -> Пензенская область | G19: =IF(B19=0," ",VLOOKUP($B19,[1]Женщины!$B$1:$H$65536,6,FALSE)) -> Пенза, ПензГТУ | H19: 0.0002994213 | J19: =IF(H19=0," ",IF(H19<=[1]Разряды!$D$31,[1]Разряды!$D$3,IF(H19<=[1]Разряды!$E$31,[1]Разряды!$E$3,IF(H19<=[1]Разряды!$F$31,[1]Разряды!$F$3,IF(H19<=[1]Разряды!$G$31,[1]Разряды!$G$3,IF(H19<=[1]Разряды!$H$31,[1]Разряды!$H$3,IF(H19<=[1]Разряды!$I$31,[1]Разряды!$I$3,IF(H19<=[1]Разряды!$J$31,[1]Разряды!$J$3,"б/р")))))))) -> 1р | K19: 8 | L19: =IF(B19=0," ",VLOOKUP($B19,[1]Женщины!$B$1:$H$65536,7,FALSE)) -> Гарынов А.А.
A20: 10 | B20: 5 | C20: =IF(B20=0," ",VLOOKUP(B20,[1]Женщины!B$1:H$65536,2,FALSE)) -> Титаева Кристина | D20: =IF(B20=0," ",VLOOKUP($B20,[1]Женщины!$B$1:$H$65536,3,FALSE)) -> 22.01.2001 | E20: =IF(B20=0," ",IF(VLOOKUP($B20,[1]Женщины!$B$1:$H$65536,4,FALSE)=0," ",VLOOKUP($B20,[1]Женщины!$B$1:$H$65536,4,FALSE))) -> КМС | F20: =IF(B20=0," ",VLOOKUP($B20,[1]Женщины!$B$1:$H$65536,5,FALSE)) -> Сахалинская область | G20: =IF(B20=0," ",VLOOKUP($B20,[1]Женщины!$B$1:$H$65536,6,FALSE)) -> СахГУ | H20: 0.00029976852 | J20: =IF(H20=0," ",IF(H20<=[1]Разряды!$D$31,[1]Разряды!$D$3,IF(H20<=[1]Разряды!$E$31,[1]Разряды!$E$3,IF(H20<=[1]Разряды!$F$31,[1]Разряды!$F$3,IF(H20<=[1]Разряды!$G$31,[1]Разряды!$G$3,IF(H20<=[1]Разряды!$H$31,[1]Разряды!$H$3,IF(H20<=[1]Разряды!$I$31,[1]Разряды!$I$3,IF(H20<=[1]Разряды!$J$31,[1]Разряды!$J$3,"б/р")))))))) -> 1р | K20: 7 | L20: =IF(B20=0," ",VLOOKUP($B20,[1]Женщины!$B$1:$H$65536,7,FALSE)) -> Жижикин А.Н.
A21: 11 | B21: 159 | C21: =IF(B21=0," ",VLOOKUP(B21,[1]Женщины!B$1:H$65536,2,FALSE)) -> Запорожченко Елизавета | D21: =IF(B21=0," ",VLOOKUP($B21,[1]Женщины!$B$1:$H$65536,3,FALSE)) -> 12.01.2001 | E21: =IF(B21=0," ",IF(VLOOKUP($B21,[1]Женщины!$B$1:$H$65536,4,FALSE)=0," ",VLOOKUP($B21,[1]Женщины!$B$1:$H$65536,4,FALSE))) -> КМС | F21: =IF(B21=0," ",VLOOKUP($B21,[1]Женщины!$B$1:$H$65536,5,FALSE)) -> Тамбовская область | G21: =IF(B21=0," ",VLOOKUP($B21,[1]Женщины!$B$1:$H$65536,6,FALSE)) -> Тамбов, ТГУ им. Г.Р. Державина | H21: 0.0003 | J21: =IF(H21=0," ",IF(H21<=[1]Разряды!$D$31,[1]Разряды!$D$3,IF(H21<=[1]Разряды!$E$31,[1]Разряды!$E$3,IF(H21<=[1]Разряды!$F$31,[1]Разряды!$F$3,IF(H21<=[1]Разряды!$G$31,[1]Разряды!$G$3,IF(H21<=[1]Разряды!$H$31,[1]Разряды!$H$3,IF(H21<=[1]Разряды!$I$31,[1]Разряды!$I$3,IF(H21<=[1]Разряды!$J$31,[1]Разряды!$J$3,"б/р")))))))) -> 1р | K21: 6 | L21: =IF(B21=0," ",VLOOKUP($B21,[1]Женщины!$B$1:$H$65536,7,FALSE)) -> Иванов А.Н.
A22: 12 | B22: 52 | C22: =IF(B22=0," ",VLOOKUP(B22,[1]Женщины!B$1:H$65536,2,FALSE)) -> Рыкова Екатерина | D22: =IF(B22=0," ",VLOOKUP($B22,[1]Женщины!$B$1:$H$65536,3,FALSE)) -> 29.03.2000 | E22: =IF(B22=0," ",IF(VLOOKUP($B22,[1]Женщины!$B$1:$H$65536,4,FALSE)=0," ",VLOOKUP($B22,[1]Женщины!$B$1:$H$65536,4,FALSE))) -> КМС | F22: =IF(B22=0," ",VLOOKUP($B22,[1]Женщины!$B$1:$H$65536,5,FALSE)) -> Удмуртская Республика | G22: =IF(B22=0," ",VLOOKUP($B22,[1]Женщины!$B$1:$H$65536,6,FALSE)) -> Ижевск, УдГУ | H22: 0.00030069444 | J22: =IF(H22=0," ",IF(H22<=[1]Разряды!$D$31,[1]Разряды!$D$3,IF(H22<=[1]Разряды!$E$31,[1]Разряды!$E$3,IF(H22<=[1]Разряды!$F$31,[1]Разряды!$F$3,IF(H22<=[1]Разряды!$G$31,[1]Разряды!$G$3,IF(H22<=[1]Разряды!$H$31,[1]Разряды!$H$3,IF(H22<=[1]Разряды!$I$31,[1]Разряды!$I$3,IF(H22<=[1]Разряды!$J$31,[1]Разряды!$J$3,"б/р")))))))) -> 1р | K22: 5 | L22: =IF(B22=0," ",VLOOKUP($B22,[1]Женщины!$B$1:$H$65536,7,FALSE)) -> Феофилактов Н.З.
A23: 13 | B23: 291 | C23: =IF(B23=0," ",VLOOKUP(B23,[1]Женщины!B$1:H$65536,2,FALSE)) -> Логина Татьяна | D23: =IF(B23=0," ",VLOOKUP($B23,[1]Женщины!$B$1:$H$65536,3,FALSE)) -> 31.01.1998 | E23: =IF(B23=0," ",IF(VLOOKUP($B23,[1]Женщины!$B$1:$H$65536,4,FALSE)=0," ",VLOOKUP($B23,[1]Женщины!$B$1:$H$65536,4,FALSE))) -> КМС | F23: =IF(B23=0," ",VLOOKUP($B23,[1]Женщины!$B$1:$H$65536,5,FALSE)) -> Нижегородская область | G23: =IF(B23=0," ",VLOOKUP($B23,[1]Женщины!$B$1:$H$65536,6,FALSE)) -> Нижний Новгород, ННГУ им. Н.И. Лобачевского | H23: 0.00030170139 | J23: =IF(H23=0," ",IF(H23<=[1]Разряды!$D$31,[1]Разряды!$D$3,IF(H23<=[1]Разряды!$E$31,[1]Разряды!$E$3,IF(H23<=[1]Разряды!$F$31,[1]Разряды!$F$3,IF(H23<=[1]Разряды!$G$31,[1]Разряды!$G$3,IF(H23<=[1]Разряды!$H$31,[1]Разряды!$H$3,IF(H23<=[1]Разряды!$I$31,[1]Разряды!$I$3,IF(H23<=[1]Разряды!$J$31,[1]Разряды!$J$3,"б/р")))))))) -> 1р | K23: 4 | L23: =IF(B23=0," ",VLOOKUP($B23,[1]Женщины!$B$1:$H$65536,7,FALSE)) -> Герасимов А.В.
A24: 14 | B24: 33 | C24: =IF(B24=0," ",VLOOKUP(B24,[1]Женщины!B$1:H$65536,2,FALSE)) -> Гроза Анна | D24: =IF(B24=0," ",VLOOKUP($B24,[1]Женщины!$B$1:$H$65536,3,FALSE)) -> 17.12.1996 | E24: =IF(B24=0," ",IF(VLOOKUP($B24,[1]Женщины!$B$1:$H$65536,4,FALSE)=0," ",VLOOKUP($B24,[1]Женщины!$B$1:$H$65536,4,FALSE))) -> КМС | F24: =IF(B24=0," ",VLOOKUP($B24,[1]Женщины!$B$1:$H$65536,5,FALSE)) -> Красноярский край | G24: =IF(B24=0," ",VLOOKUP($B24,[1]Женщины!$B$1:$H$65536,6,FALSE)) -> Красноярск, СФУ | H24: 0.00030172454 | J24: =IF(H24=0," ",IF(H24<=[1]Разряды!$D$31,[1]Разряды!$D$3,IF(H24<=[1]Разряды!$E$31,[1]Разряды!$E$3,IF(H24<=[1]Разряды!$F$31,[1]Разряды!$F$3,IF(H24<=[1]Разряды!$G$31,[1]Разряды!$G$3,IF(H24<=[1]Разряды!$H$31,[1]Разряды!$H$3,IF(H24<=[1]Разряды!$I$31,[1]Разряды!$I$3,IF(H24<=[1]Разряды!$J$31,[1]Разряды!$J$3,"б/р")))))))) -> 1р | K24: 3 | L24: =IF(B24=0," ",VLOOKUP($B24,[1]Женщины!$B$1:$H$65536,7,FALSE)) -> Федоров В.И.
A25: 15 | B25: 85 | C25: =IF(B25=0," ",VLOOKUP(B25,[1]Женщины!B$1:H$65536,2,FALSE)) -> Рудниченко Анастасия | D25: =IF(B25=0," ",VLOOKUP($B25,[1]Женщины!$B$1:$H$65536,3,FALSE)) -> 28.12.1998 | E25: =IF(B25=0," ",IF(VLOOKUP($B25,[1]Женщины!$B$1:$H$65536,4,FALSE)=0," ",VLOOKUP($B25,[1]Женщины!$B$1:$H$65536,4,FALSE))) -> 1р | F25: =IF(B25=0," ",VLOOKUP($B25,[1]Женщины!$B$1:$H$65536,5,FALSE)) -> Самарская область | G25: =IF(B25=0," ",VLOOKUP($B25,[1]Женщины!$B$1:$H$65536,6,FALSE)) -> Самара, СГЭУ | H25: 0.00030185185 | J25: =IF(H25=0," ",IF(H25<=[1]Разряды!$D$31,[1]Разряды!$D$3,IF(H25<=[1]Разряды!$E$31,[1]Разряды!$E$3,IF(H25<=[1]Разряды!$F$31,[1]Разряды!$F$3,IF(H25<=[1]Разряды!$G$31,[1]Разряды!$G$3,IF(H25<=[1]Разряды!$H$31,[1]Разряды!$H$3,IF(H25<=[1]Разряды!$I$31,[1]Разряды!$I$3,IF(H25<=[1]Разряды!$J$31,[1]Разряды!$J$3,"б/р")))))))) -> 1р | K25: 2 | L25: =IF(B25=0," ",VLOOKUP($B25,[1]Женщины!$B$1:$H$65536,7,FALSE)) -> Смирнова У.В.
A26: 16 | B26: 53 | C26: =IF(B26=0," ",VLOOKUP(B26,[1]Женщины!B$1:H$65536,2,FALSE)) -> Голубина Светлана | D26: =IF(B26=0," ",VLOOKUP($B26,[1]Женщины!$B$1:$H$65536,3,FALSE)) -> 30.11.1997 | E26: =IF(B26=0," ",IF(VLOOKUP($B26,[1]Женщины!$B$1:$H$65536,4,FALSE)=0," ",VLOOKUP($B26,[1]Женщины!$B$1:$H$65536,4,FALSE))) -> КМС | F26: =IF(B26=0," ",VLOOKUP($B26,[1]Женщины!$B$1:$H$65536,5,FALSE)) -> Удмуртская Республика | G26: =IF(B26=0," ",VLOOKUP($B26,[1]Женщины!$B$1:$H$65536,6,FALSE)) -> Ижевск, УдГУ | H26: 0.0003025463 | J26: =IF(H26=0," ",IF(H26<=[1]Разряды!$D$31,[1]Разряды!$D$3,IF(H26<=[1]Разряды!$E$31,[1]Разряды!$E$3,IF(H26<=[1]Разряды!$F$31,[1]Разряды!$F$3,IF(H26<=[1]Разряды!$G$31,[1]Разряды!$G$3,IF(H26<=[1]Разряды!$H$31,[1]Разряды!$H$3,IF(H26<=[1]Разряды!$I$31,[1]Разряды!$I$3,IF(H26<=[1]Разряды!$J$31,[1]Разряды!$J$3,"б/р")))))))) -> 1р | K26: 1 | L26: =IF(B26=0," ",VLOOKUP($B26,[1]Женщины!$B$1:$H$65536,7,FALSE)) -> Феофилактов Н.З.,Шибанова С.А.
A27: 17 | B27: 232 | C27: =IF(B27=0," ",VLOOKUP(B27,[1]Женщины!B$1:H$65536,2,FALSE)) -> Новомлинская Алина | D27: =IF(B27=0," ",VLOOKUP($B27,[1]Женщины!$B$1:$H$65536,3,FALSE)) -> 28.02.2000 | E27: =IF(B27=0," ",IF(VLOOKUP($B27,[1]Женщины!$B$1:$H$65536,4,FALSE)=0," ",VLOOKUP($B27,[1]Женщины!$B$1:$H$65536,4,FALSE))) -> 1р | F27: =IF(B27=0," ",VLOOKUP($B27,[1]Женщины!$B$1:$H$65536,5,FALSE)) -> Новгородская область | G27: =IF(B27=0," ",VLOOKUP($B27,[1]Женщины!$B$1:$H$65536,6,FALSE)) -> Великий Новгород, НовГУ им. Ярослава Мудрого | H27: 0.00030393519 | J27: =IF(H27=0," ",IF(H27<=[1]Разряды!$D$31,[1]Разряды!$D$3,IF(H27<=[1]Разряды!$E$31,[1]Разряды!$E$3,IF(H27<=[1]Разряды!$F$31,[1]Разряды!$F$3,IF(H27<=[1]Разряды!$G$31,[1]Разряды!$G$3,IF(H27<=[1]Разряды!$H$31,[1]Разряды!$H$3,IF(H27<=[1]Разряды!$I$31,[1]Разряды!$I$3,IF(H27<=[1]Разряды!$J$31,[1]Разряды!$J$3,"б/р")))))))) -> 1р | K27: 1 | L27: =IF(B27=0," ",VLOOKUP($B27,[1]Женщины!$B$1:$H$65536,7,FALSE)) -> Савенков П.А.
A28: 18 | B28: 286 | C28: =IF(B28=0," ",VLOOKUP(B28,[1]Женщины!B$1:H$65536,2,FALSE)) -> Циплакова Надежда | D28: =IF(B28=0," ",VLOOKUP($B28,[1]Женщины!$B$1:$H$65536,3,FALSE)) -> 23.08.1995 | E28: =IF(B28=0," ",IF(VLOOKUP($B28,[1]Женщины!$B$1:$H$65536,4,FALSE)=0," ",VLOOKUP($B28,[1]Женщины!$B$1:$H$65536,4,FALSE))) -> КМС | F28: =IF(B28=0," ",VLOOKUP($B28,[1]Женщины!$B$1:$H$65536,5,FALSE)) -> Архангельская область | G28: =IF(B28=0," ",VLOOKUP($B28,[1]Женщины!$B$1:$H$65536,6,FALSE)) -> Архангельск, САФУ им. М.В. Ломоносова | H28: 0.00030555556 | J28: =IF(H28=0," ",IF(H28<=[1]Разряды!$D$31,[1]Разряды!$D$3,IF(H28<=[1]Разряды!$E$31,[1]Разряды!$E$3,IF(H28<=[1]Разряды!$F$31,[1]Разряды!$F$3,IF(H28<=[1]Разряды!$G$31,[1]Разряды!$G$3,IF(H28<=[1]Разряды!$H$31,[1]Разряды!$H$3,IF(H28<=[1]Разряды!$I$31,[1]Разряды!$I$3,IF(H28<=[1]Разряды!$J$31,[1]Разряды!$J$3,"б/р")))))))) -> 1р | K28: 1 | L28: =IF(B28=0," ",VLOOKUP($B28,[1]Женщины!$B$1:$H$65536,7,FALSE)) -> Мингалев А.Ю., Мингалева А.Г.
A29: 19 | B29: 237 | C29: =IF(B29=0," ",VLOOKUP(B29,[1]Женщины!B$1:H$65536,2,FALSE)) -> Машковцева Вероника | D29: =IF(B29=0," ",VLOOKUP($B29,[1]Женщины!$B$1:$H$65536,3,FALSE)) -> 06.12.1999 | E29: =IF(B29=0," ",IF(VLOOKUP($B29,[1]Женщины!$B$1:$H$65536,4,FALSE)=0," ",VLOOKUP($B29,[1]Женщины!$B$1:$H$65536,4,FALSE))) -> КМС | F29: =IF(B29=0," ",VLOOKUP($B29,[1]Женщины!$B$1:$H$65536,5,FALSE)) -> Удмуртская Республика | G29: =IF(B29=0," ",VLOOKUP($B29,[1]Женщины!$B$1:$H$65536,6,FALSE)) -> Ижевск, УдГУ | H29: 0.0003056713 | J29: =IF(H29=0," ",IF(H29<=[1]Разряды!$D$31,[1]Разряды!$D$3,IF(H29<=[1]Разряды!$E$31,[1]Разряды!$E$3,IF(H29<=[1]Разряды!$F$31,[1]Разряды!$F$3,IF(H29<=[1]Разряды!$G$31,[1]Разряды!$G$3,IF(H29<=[1]Разряды!$H$31,[1]Разряды!$H$3,IF(H29<=[1]Разряды!$I$31,[1]Разряды!$I$3,IF(H29<=[1]Разряды!$J$31,[1]Разряды!$J$3,"б/р")))))))) -> 1р | K29: 1 | L29: =IF(B29=0," ",VLOOKUP($B29,[1]Женщины!$B$1:$H$65536,7,FALSE)) -> Феофилактов Н.З.
A30: 20 | B30: 48 | C30: =IF(B30=0," ",VLOOKUP(B30,[1]Женщины!B$1:H$65536,2,FALSE)) -> Бойчук Ирина | D30: =IF(B30=0," ",VLOOKUP($B30,[1]Женщины!$B$1:$H$65536,3,FALSE)) -> 16.07.2000 | E30: =IF(B30=0," ",IF(VLOOKUP($B30,[1]Женщины!$B$1:$H$65536,4,FALSE)=0," ",VLOOKUP($B30,[1]Женщины!$B$1:$H$65536,4,FALSE))) -> КМС | F30: =IF(B30=0," ",VLOOKUP($B30,[1]Женщины!$B$1:$H$65536,5,FALSE)) -> Новгородская область | G30: =IF(B30=0," ",VLOOKUP($B30,[1]Женщины!$B$1:$H$65536,6,FALSE)) -> Великий Новгород, НовГУ им. Ярослава Мудрого | H30: 0.00030671296 | J30: =IF(H30=0," ",IF(H30<=[1]Разряды!$D$31,[1]Разряды!$D$3,IF(H30<=[1]Разряды!$E$31,[1]Разряды!$E$3,IF(H30<=[1]Разряды!$F$31,[1]Разряды!$F$3,IF(H30<=[1]Разряды!$G$31,[1]Разряды!$G$3,IF(H30<=[1]Разряды!$H$31,[1]Разряды!$H$3,IF(H30<=[1]Разряды!$I$31,[1]Разряды!$I$3,IF(H30<=[1]Разряды!$J$31,[1]Разряды!$J$3,"б/р")))))))) -> 1р | K30: 1 | L30: =IF(B30=0," ",VLOOKUP($B30,[1]Женщины!$B$1:$H$65536,7,FALSE)) -> Савенков П.А.
... A62: 52 | B62: 16 | C62: =IF(B62=0," ",VLOOKUP(B62,[1]Женщины!B$1:H$65536,2,FALSE)) -> Шуберт Эрика | D62: =IF(B62=0," ",VLOOKUP($B62,[1]Женщины!$B$1:$H$65536,3,FALSE)) -> 27.11.1999 | E62: =IF(B62=0," ",IF(VLOOKUP($B62,[1]Женщины!$B$1:$H$65536,4,FALSE)=0," ",VLOOKUP($B62,[1]Женщины!$B$1:$H$65536,4,FALSE))) -> 1р | F62: =IF(B62=0," ",VLOOKUP($B62,[1]Женщины!$B$1:$H$65536,5,FALSE)) -> Калининградская область | G62: =IF(B62=0," ",VLOOKUP($B62,[1]Женщины!$B$1:$H$65536,6,FALSE)) -> Калининград, КГТУ-БГАРФ | H62: 0.00034456019 | J62: =IF(H62=0," ",IF(H62<=[1]Разряды!$D$31,[1]Разряды!$D$3,IF(H62<=[1]Разряды!$E$31,[1]Разряды!$E$3,IF(H62<=[1]Разряды!$F$31,[1]Разряды!$F$3,IF(H62<=[1]Разряды!$G$31,[1]Разряды!$G$3,IF(H62<=[1]Разряды!$H$31,[1]Разряды!$H$3,IF(H62<=[1]Разряды!$I$31,[1]Разряды!$I$3,IF(H62<=[1]Разряды!$J$31,[1]Разряды!$J$3,"б/р")))))))) -> 3р | K62: 0 | L62: =IF(B62=0," ",VLOOKUP($B62,[1]Женщины!$B$1:$H$65536,7,FALSE)) -> 0
B63: 355 | C63: =IF(B63=0," ",VLOOKUP(B63,[1]Женщины!B$1:H$65536,2,FALSE)) -> Потапова Елизавета | D63: =IF(B63=0," ",VLOOKUP($B63,[1]Женщины!$B$1:$H$65536,3,FALSE)) -> 24.11.2000 | E63: =IF(B63=0," ",IF(VLOOKUP($B63,[1]Женщины!$B$1:$H$65536,4,FALSE)=0," ",VLOOKUP($B63,[1]Женщины!$B$1:$H$65536,4,FALSE))) -> КМС | F63: =IF(B63=0," ",VLOOKUP($B63,[1]Женщины!$B$1:$H$65536,5,FALSE)) -> Пензенская область | G63: =IF(B63=0," ",VLOOKUP($B63,[1]Женщины!$B$1:$H$65536,6,FALSE)) -> Пенза, ПензГУ | H63: DQ п.п. 162.7 | K63: 0 | L63: =IF(B63=0," ",VLOOKUP($B63,[1]Женщины!$B$1:$H$65536,7,FALSE)) -> Красковы Р.Б., К.И.
B64: 353 | C64: =IF(B64=0," ",VLOOKUP(B64,[1]Женщины!B$1:H$65536,2,FALSE)) -> Наумова Юлия | D64: =IF(B64=0," ",VLOOKUP($B64,[1]Женщины!$B$1:$H$65536,3,FALSE)) -> 10.06.1999 | E64: =IF(B64=0," ",IF(VLOOKUP($B64,[1]Женщины!$B$1:$H$65536,4,FALSE)=0," ",VLOOKUP($B64,[1]Женщины!$B$1:$H$65536,4,FALSE))) -> КМС | F64: =IF(B64=0," ",VLOOKUP($B64,[1]Женщины!$B$1:$H$65536,5,FALSE)) -> Пензенская область | G64: =IF(B64=0," ",VLOOKUP($B64,[1]Женщины!$B$1:$H$65536,6,FALSE)) -> Пенза, ПензГУ | H64: DQ п.п. 162.7 | K64: 0 | L64: =IF(B64=0," ",VLOOKUP($B64,[1]Женщины!$B$1:$H$65536,7,FALSE)) -> Красковы Р.Б., К.И.
B65: 97 | C65: =IF(B65=0," ",VLOOKUP(B65,[1]Женщины!B$1:H$65536,2,FALSE)) -> Некрасова Татьяна | D65: =IF(B65=0," ",VLOOKUP($B65,[1]Женщины!$B$1:$H$65536,3,FALSE)) -> 25.04.1994 | E65: =IF(B65=0," ",IF(VLOOKUP($B65,[1]Женщины!$B$1:$H$65536,4,FALSE)=0," ",VLOOKUP($B65,[1]Женщины!$B$1:$H$65536,4,FALSE))) -> МС | F65: =IF(B65=0," ",VLOOKUP($B65,[1]Женщины!$B$1:$H$65536,5,FALSE)) -> Ивановская область | G65: =IF(B65=0," ",VLOOKUP($B65,[1]Женщины!$B$1:$H$65536,6,FALSE)) -> Шуя, ШФ ИвГУ | H65: r|med | K65: 0 | L65: =IF(B65=0," ",VLOOKUP($B65,[1]Женщины!$B$1:$H$65536,7,FALSE)) -> Магницкий М.В.
B66: 36 | C66: =IF(B66=0," ",VLOOKUP(B66,[1]Женщины!B$1:H$65536,2,FALSE)) -> Тригуб Виктория | D66: =IF(B66=0," ",VLOOKUP($B66,[1]Женщины!$B$1:$H$65536,3,FALSE)) -> 01.11.1999 | E66: =IF(B66=0," ",IF(VLOOKUP($B66,[1]Женщины!$B$1:$H$65536,4,FALSE)=0," ",VLOOKUP($B66,[1]Женщины!$B$1:$H$65536,4,FALSE))) -> 1р | F66: =IF(B66=0," ",VLOOKUP($B66,[1]Женщины!$B$1:$H$65536,5,FALSE)) -> Красноярский край | G66: =IF(B66=0," ",VLOOKUP($B66,[1]Женщины!$B$1:$H$65536,6,FALSE)) -> Красноярск, СФУ | H66: r|med | K66: 0 | L66: =IF(B66=0," ",VLOOKUP($B66,[1]Женщины!$B$1:$H$65536,7,FALSE)) -> Федоров В.И.
B67: 86 | C67: =IF(B67=0," ",VLOOKUP(B67,[1]Женщины!B$1:H$65536,2,FALSE)) -> Симонова Анна | D67: =IF(B67=0," ",VLOOKUP($B67,[1]Женщины!$B$1:$H$65536,3,FALSE)) -> 24.12.2000 | E67: =IF(B67=0," ",IF(VLOOKUP($B67,[1]Женщины!$B$1:$H$65536,4,FALSE)=0," ",VLOOKUP($B67,[1]Женщины!$B$1:$H$65536,4,FALSE))) -> КМС | F67: =IF(B67=0," ",VLOOKUP($B67,[1]Женщины!$B$1:$H$65536,5,FALSE)) -> Москва | G67: =IF(B67=0," ",VLOOKUP($B67,[1]Женщины!$B$1:$H$65536,6,FALSE)) -> Москва, МГУ им. М.В. Ломоносова | H67: r|med | K67: 0 | L67: =IF(B67=0," ",VLOOKUP($B67,[1]Женщины!$B$1:$H$65536,7,FALSE)) -> Привалова И.А.
B68: 17 | C68: =IF(B68=0," ",VLOOKUP(B68,[1]Женщины!B$1:H$65536,2,FALSE)) -> Нилова Екатерина | D68: =IF(B68=0," ",VLOOKUP($B68,[1]Женщины!$B$1:$H$65536,3,FALSE)) -> 19.07.1999 | E68: =IF(B68=0," ",IF(VLOOKUP($B68,[1]Женщины!$B$1:$H$65536,4,FALSE)=0," ",VLOOKUP($B68,[1]Женщины!$B$1:$H$65536,4,FALSE))) -> КМС | F68: =IF(B68=0," ",VLOOKUP($B68,[1]Женщины!$B$1:$H$65536,5,FALSE)) -> Москва | G68: =IF(B68=0," ",VLOOKUP($B68,[1]Женщины!$B$1:$H$65536,6,FALSE)) -> Москва, РГУФКСМиТ (ГЦОЛИФК) | H68: r|med | K68: 0 | L68: =IF(B68=0," ",VLOOKUP($B68,[1]Женщины!$B$1:$H$65536,7,FALSE)) -> Филатова М.И.
B69: 356 | C69: =IF(B69=0," ",VLOOKUP(B69,[1]Женщины!B$1:H$65536,2,FALSE)) -> Малашина Юлия | D69: =IF(B69=0," ",VLOOKUP($B69,[1]Женщины!$B$1:$H$65536,3,FALSE)) -> 13.02.1997 | E69: =IF(B69=0," ",IF(VLOOKUP($B69,[1]Женщины!$B$1:$H$65536,4,FALSE)=0," ",VLOOKUP($B69,[1]Женщины!$B$1:$H$65536,4,FALSE))) -> КМС | F69: =IF(B69=0," ",VLOOKUP($B69,[1]Женщины!$B$1:$H$65536,5,FALSE)) -> Пензенская область | G69: =IF(B69=0," ",VLOOKUP($B69,[1]Женщины!$B$1:$H$65536,6,FALSE)) -> Пенза, ПензГУ | H69: r|med | K69: 0 | L69: =IF(B69=0," ",VLOOKUP($B69,[1]Женщины!$B$1:$H$65536,7,FALSE)) -> Красковы Р.Б., К.И.
B70: 314 | C70: =IF(B70=0," ",VLOOKUP(B70,[1]Женщины!B$1:H$65536,2,FALSE)) -> Эшкинина Ульяна | D70: =IF(B70=0," ",VLOOKUP($B70,[1]Женщины!$B$1:$H$65536,3,FALSE)) -> 13.08.1995 | E70: =IF(B70=0," ",IF(VLOOKUP($B70,[1]Женщины!$B$1:$H$65536,4,FALSE)=0," ",VLOOKUP($B70,[1]Женщины!$B$1:$H$65536,4,FALSE))) -> КМС | F70: =IF(B70=0," ",VLOOKUP($B70,[1]Женщины!$B$1:$H$65536,5,FALSE)) -> Москва | G70: =IF(B70=0," ",VLOOKUP($B70,[1]Женщины!$B$1:$H$65536,6,FALSE)) -> Москва, МГУ им. М.В. Ломоносова | H70: r|med | K70: 0 | L70: =IF(B70=0," ",VLOOKUP($B70,[1]Женщины!$B$1:$H$65536,7,FALSE)) -> Эшкинина
B71: 29 | C71: =IF(B71=0," ",VLOOKUP(B71,[1]Женщины!B$1:H$65536,2,FALSE)) -> Ларёва Ирина | D71: =IF(B71=0," ",VLOOKUP($B71,[1]Женщины!$B$1:$H$65536,3,FALSE)) -> 03.11.2000 | E71: =IF(B71=0," ",IF(VLOOKUP($B71,[1]Женщины!$B$1:$H$65536,4,FALSE)=0," ",VLOOKUP($B71,[1]Женщины!$B$1:$H$65536,4,FALSE))) -> 2р | F71: =IF(B71=0," ",VLOOKUP($B71,[1]Женщины!$B$1:$H$65536,5,FALSE)) -> Ярославская область | G71: =IF(B71=0," ",VLOOKUP($B71,[1]Женщины!$B$1:$H$65536,6,FALSE)) -> Ярославль, ЯрГУ им. П.Г. Демидова | H71: r|med | K71: 0 | L71: =IF(B71=0," ",VLOOKUP($B71,[1]Женщины!$B$1:$H$65536,7,FALSE)) -> Станкевич В.А.
...

Sheet 400ж
A1: Чемпионат Российского студенческого спортивного союза
A2: мужчины и женщины
L3: 27-28 июня 2019 г.
K4: стадион "Шинник"
L5: г. Ярославль
D6: 27.06.2019г. | E6: 0.80208333 | F6: Финальные забеги | H6: ПРОТОКОЛ СОРЕВНОВАНИЙ
C8: Женщины | D8: Бег 400 м
A9: Место | B9: Номер | C9: Фамилия, имя | D9: Дата рожд. | E9: Квал. | F9: Команда | G9: ВУЗ | H9: Результат | J9: Вып. разр. | K9: Очки | L9: Ф.И.О. тренера
H10: фин. забеги
A11: 1 | B11: 173 | C11: =IF(B11=0," ",VLOOKUP(B11,[1]Женщины!B$1:H$65536,2,FALSE)) -> Аникеенко Елизавета | D11: =IF(B11=0," ",VLOOKUP($B11,[1]Женщины!$B$1:$H$65536,3,FALSE)) -> 30.01.1994 | E11: =IF(B11=0," ",IF(VLOOKUP($B11,[1]Женщины!$B$1:$H$65536,4,FALSE)=0," ",VLOOKUP($B11,[1]Женщины!$B$1:$H$65536,4,FALSE))) -> МС | F11: =IF(B11=0," ",VLOOKUP($B11,[1]Женщины!$B$1:$H$65536,5,FALSE)) -> Москва | G11: =IF(B11=0," ",VLOOKUP($B11,[1]Женщины!$B$1:$H$65536,6,FALSE)) -> Москва, РГУФКСМиТ (ГЦОЛИФК) | I11: 0.00063865741 | J11: =IF(I11=0," ",IF(I11<=[1]Разряды!$D$32,[1]Разряды!$D$3,IF(I11<=[1]Разряды!$E$32,[1]Разряды!$E$3,IF(I11<=[1]Разряды!$F$32,[1]Разряды!$F$3,IF(I11<=[1]Разряды!$G$32,[1]Разряды!$G$3,IF(I11<=[1]Разряды!$H$32,[1]Разряды!$H$3,IF(I11<=[1]Разряды!$I$32,[1]Разряды!$I$3,IF(I11<=[1]Разряды!$J$32,[1]Разряды!$J$3,"б/р")))))))) -> кмс | K11: 18+5 | L11: =IF(B11=0," ",VLOOKUP($B11,[1]Женщины!$B$1:$H$65536,7,FALSE)) -> Черемисов Н.Ф.
A12: 2 | B12: 174 | C12: =IF(B12=0," ",VLOOKUP(B12,[1]Женщины!B$1:H$65536,2,FALSE)) -> Вахрушева Екатерина | D12: =IF(B12=0," ",VLOOKUP($B12,[1]Женщины!$B$1:$H$65536,3,FALSE)) -> 06.01.1998 | E12: =IF(B12=0," ",IF(VLOOKUP($B12,[1]Женщины!$B$1:$H$65536,4,FALSE)=0," ",VLOOKUP($B12,[1]Женщины!$B$1:$H$65536,4,FALSE))) -> МС | F12: =IF(B12=0," ",VLOOKUP($B12,[1]Женщины!$B$1:$H$65536,5,FALSE)) -> Москва | G12: =IF(B12=0," ",VLOOKUP($B12,[1]Женщины!$B$1:$H$65536,6,FALSE)) -> Москва, РГУФКСМиТ (ГЦОЛИФК) | I12: 0.00064444444 | J12: =IF(I12=0," ",IF(I12<=[1]Разряды!$D$32,[1]Разряды!$D$3,IF(I12<=[1]Разряды!$E$32,[1]Разряды!$E$3,IF(I12<=[1]Разряды!$F$32,[1]Разряды!$F$3,IF(I12<=[1]Разряды!$G$32,[1]Разряды!$G$3,IF(I12<=[1]Разряды!$H$32,[1]Разряды!$H$3,IF(I12<=[1]Разряды!$I$32,[1]Разряды!$I$3,IF(I12<=[1]Разряды!$J$32,[1]Разряды!$J$3,"б/р")))))))) -> кмс | K12: 15+5 | L12: =IF(B12=0," ",VLOOKUP($B12,[1]Женщины!$B$1:$H$65536,7,FALSE)) -> Горланов И.С., Назарова Н.В., Маслаков В.М., Жуликов Н.М.
A13: 3 | B13: 201 | C13: =IF(B13=0," ",VLOOKUP(B13,[1]Женщины!B$1:H$65536,2,FALSE)) -> Каратаева Ольга | D13: =IF(B13=0," ",VLOOKUP($B13,[1]Женщины!$B$1:$H$65536,3,FALSE)) -> 16.08.1998 | E13: =IF(B13=0," ",IF(VLOOKUP($B13,[1]Женщины!$B$1:$H$65536,4,FALSE)=0," ",VLOOKUP($B13,[1]Женщины!$B$1:$H$65536,4,FALSE))) -> КМС | F13: =IF(B13=0," ",VLOOKUP($B13,[1]Женщины!$B$1:$H$65536,5,FALSE)) -> Красноярский край | G13: =IF(B13=0," ",VLOOKUP($B13,[1]Женщины!$B$1:$H$65536,6,FALSE)) -> Красноярск, СФУ | I13: 0.00064571759 | J13: =IF(I13=0," ",IF(I13<=[1]Разряды!$D$32,[1]Разряды!$D$3,IF(I13<=[1]Разряды!$E$32,[1]Разряды!$E$3,IF(I13<=[1]Разряды!$F$32,[1]Разряды!$F$3,IF(I13<=[1]Разряды!$G$32,[1]Разряды!$G$3,IF(I13<=[1]Разряды!$H$32,[1]Разряды!$H$3,IF(I13<=[1]Разряды!$I$32,[1]Разряды!$I$3,IF(I13<=[1]Разряды!$J$32,[1]Разряды!$J$3,"б/р")))))))) -> кмс | K13: 13+5 | L13: =IF(B13=0," ",VLOOKUP($B13,[1]Женщины!$B$1:$H$65536,7,FALSE)) -> Артемьев П.П., Федоров В.И.
A14: 4 | B14: 314 | C14: =IF(B14=0," ",VLOOKUP(B14,[1]Женщины!B$1:H$65536,2,FALSE)) -> Эшкинина Ульяна | D14: =IF(B14=0," ",VLOOKUP($B14,[1]Женщины!$B$1:$H$65536,3,FALSE)) -> 13.08.1995 | E14: =IF(B14=0," ",IF(VLOOKUP($B14,[1]Женщины!$B$1:$H$65536,4,FALSE)=0," ",VLOOKUP($B14,[1]Женщины!$B$1:$H$65536,4,FALSE))) -> КМС | F14: =IF(B14=0," ",VLOOKUP($B14,[1]Женщины!$B$1:$H$65536,5,FALSE)) -> Москва | G14: =IF(B14=0," ",VLOOKUP($B14,[1]Женщины!$B$1:$H$65536,6,FALSE)) -> Москва, МГУ им. М.В. Ломоносова | I14: 0.00064652778 | J14: =IF(I14=0," ",IF(I14<=[1]Разряды!$D$32,[1]Разряды!$D$3,IF(I14<=[1]Разряды!$E$32,[1]Разряды!$E$3,IF(I14<=[1]Разряды!$F$32,[1]Разряды!$F$3,IF(I14<=[1]Разряды!$G$32,[1]Разряды!$G$3,IF(I14<=[1]Разряды!$H$32,[1]Разряды!$H$3,IF(I14<=[1]Разряды!$I$32,[1]Разряды!$I$3,IF(I14<=[1]Разряды!$J$32,[1]Разряды!$J$3,"б/р")))))))) -> кмс | K14: 12+5 | L14: =IF(B14=0," ",VLOOKUP($B14,[1]Женщины!$B$1:$H$65536,7,FALSE)) -> Эшкинина
A15: 5 | B15: 253 | C15: =IF(B15=0," ",VLOOKUP(B15,[1]Женщины!B$1:H$65536,2,FALSE)) -> Пузик Инна | D15: =IF(B15=0," ",VLOOKUP($B15,[1]Женщины!$B$1:$H$65536,3,FALSE)) -> 22.01.1997 | E15: =IF(B15=0," ",IF(VLOOKUP($B15,[1]Женщины!$B$1:$H$65536,4,FALSE)=0," ",VLOOKUP($B15,[1]Женщины!$B$1:$H$65536,4,FALSE))) -> МС | F15: =IF(B15=0," ",VLOOKUP($B15,[1]Женщины!$B$1:$H$65536,5,FALSE)) -> Республика Татарстан | G15: =IF(B15=0," ",VLOOKUP($B15,[1]Женщины!$B$1:$H$65536,6,FALSE)) -> Казань, ФГБОУ ВО ПГАФКСиТ | I15: 0.00065069444 | J15: =IF(I15=0," ",IF(I15<=[1]Разряды!$D$32,[1]Разряды!$D$3,IF(I15<=[1]Разряды!$E$32,[1]Разряды!$E$3,IF(I15<=[1]Разряды!$F$32,[1]Разряды!$F$3,IF(I15<=[1]Разряды!$G$32,[1]Разряды!$G$3,IF(I15<=[1]Разряды!$H$32,[1]Разряды!$H$3,IF(I15<=[1]Разряды!$I$32,[1]Разряды!$I$3,IF(I15<=[1]Разряды!$J$32,[1]Разряды!$J$3,"б/р")))))))) -> кмс | K15: 11+5 | L15: =IF(B15=0," ",VLOOKUP($B15,[1]Женщины!$B$1:$H$65536,7,FALSE)) -> Пузик О.В., Дударь А.В.
A16: 6 | B16: 230 | C16: =IF(B16=0," ",VLOOKUP(B16,[1]Женщины!B$1:H$65536,2,FALSE)) -> Девяткина Ксения | D16: =IF(B16=0," ",VLOOKUP($B16,[1]Женщины!$B$1:$H$65536,3,FALSE)) -> 17.08.1998 | E16: =IF(B16=0," ",IF(VLOOKUP($B16,[1]Женщины!$B$1:$H$65536,4,FALSE)=0," ",VLOOKUP($B16,[1]Женщины!$B$1:$H$65536,4,FALSE))) -> КМС | F16: =IF(B16=0," ",VLOOKUP($B16,[1]Женщины!$B$1:$H$65536,5,FALSE)) -> Пензенская область | G16: =IF(B16=0," ",VLOOKUP($B16,[1]Женщины!$B$1:$H$65536,6,FALSE)) -> Пенза, ПензГТУ | I16: 0.00065474537 | J16: =IF(I16=0," ",IF(I16<=[1]Разряды!$D$32,[1]Разряды!$D$3,IF(I16<=[1]Разряды!$E$32,[1]Разряды!$E$3,IF(I16<=[1]Разряды!$F$32,[1]Разряды!$F$3,IF(I16<=[1]Разряды!$G$32,[1]Разряды!$G$3,IF(I16<=[1]Разряды!$H$32,[1]Разряды!$H$3,IF(I16<=[1]Разряды!$I$32,[1]Разряды!$I$3,IF(I16<=[1]Разряды!$J$32,[1]Разряды!$J$3,"б/р")))))))) -> кмс | K16: 10+5 | L16: =IF(B16=0," ",VLOOKUP($B16,[1]Женщины!$B$1:$H$65536,7,FALSE)) -> Гарынов А.А.
A17: 7 | B17: 223 | C17: =IF(B17=0," ",VLOOKUP(B17,[1]Женщины!B$1:H$65536,2,FALSE)) -> Цыганова Виктория | D17: =IF(B17=0," ",VLOOKUP($B17,[1]Женщины!$B$1:$H$65536,3,FALSE)) -> 01.07.1997 | E17: =IF(B17=0," ",IF(VLOOKUP($B17,[1]Женщины!$B$1:$H$65536,4,FALSE)=0," ",VLOOKUP($B17,[1]Женщины!$B$1:$H$65536,4,FALSE))) -> КМС | F17: =IF(B17=0," ",VLOOKUP($B17,[1]Женщины!$B$1:$H$65536,5,FALSE)) -> Москва | G17: =IF(B17=0," ",VLOOKUP($B17,[1]Женщины!$B$1:$H$65536,6,FALSE)) -> Москва, РУТ (МИИТ) | I17: 0.00065486111 | J17: =IF(I17=0," ",IF(I17<=[1]Разряды!$D$32,[1]Разряды!$D$3,IF(I17<=[1]Разряды!$E$32,[1]Разряды!$E$3,IF(I17<=[1]Разряды!$F$32,[1]Разряды!$F$3,IF(I17<=[1]Разряды!$G$32,[1]Разряды!$G$3,IF(I17<=[1]Разряды!$H$32,[1]Разряды!$H$3,IF(I17<=[1]Разряды!$I$32,[1]Разряды!$I$3,IF(I17<=[1]Разряды!$J$32,[1]Разряды!$J$3,"б/р")))))))) -> кмс | K17: л | L17: =IF(B17=0," ",VLOOKUP($B17,[1]Женщины!$B$1:$H$65536,7,FALSE)) -> Филатова М.И., Филатова Е.А.
