Workbook

Sheet 100м
A1: Чемпионат Российского студенческого спортивного союза
A2: мужчины и женщины
M3: 27-28 июня 2019 г.
L4: стадион "Шинник"
M5: г. Ярославль
D6: 27.06.2019г. | E6: 0.47569444 | F6: забеги | J6: ПРОТОКОЛ СОРЕВНОВАНИЙ
D7: 27.06.2019г. | E7: 0.70486111 | F7: п/финал
D8: 27.06.2019г. | E8: 0.79513889 | F8: финал
C9: Мужчины | D9: Бег 100 м
A10: Место | B10: Номер | C10: Фамилия, имя | D10: Дата рожд. | E10: Квал. | F10: Команда | G10: ВУЗ | H10: Результат | K10: Вып. разр. | L10: Очки | M10: Ф.И.О. тренера
H11: забеги | I11: п/финал | J11: финал
A12: 1 | B12: 84 | C12: =IF(B12=0," ",VLOOKUP(B12,[1]Спортсмены!B$1:H$65536,2,FALSE)) -> Усов Алексей | D12: =IF(B12=0," ",VLOOKUP($B12,[1]Спортсмены!$B$1:$H$65536,3,FALSE)) -> 24.02.1998 | E12: =IF(B12=0," ",IF(VLOOKUP($B12,[1]Спортсмены!$B$1:$H$65536,4,FALSE)=0," ",VLOOKUP($B12,[1]Спортсмены!$B$1:$H$65536,4,FALSE))) -> МС | F12: =IF(B12=0," ",VLOOKUP($B12,[1]Спортсмены!$B$1:$H$65536,5,FALSE)) -> Москва | G12: =IF(B12=0," ",VLOOKUP($B12,[1]Спортсмены!$B$1:$H$65536,6,FALSE)) -> Москва, РГУФКСМиТ (ГЦОЛИФК) | H12: 0.00012650463 | I12: 0.00012430556 | J12: 0.00012210648 | K12: мс | L12: 18+10 | M12: =IF(B12=0," ",VLOOKUP($B12,[1]Спортсмены!$B$1:$H$65536,7,FALSE)) -> Баранов А.В.
A13: 2 | B13: 57 | C13: =IF(B13=0," ",VLOOKUP(B13,[1]Спортсмены!B$1:H$65536,2,FALSE)) -> Пивоваров Даниил | D13: =IF(B13=0," ",VLOOKUP($B13,[1]Спортсмены!$B$1:$H$65536,3,FALSE)) -> 13.04.1999 | E13: =IF(B13=0," ",IF(VLOOKUP($B13,[1]Спортсмены!$B$1:$H$65536,4,FALSE)=0," ",VLOOKUP($B13,[1]Спортсмены!$B$1:$H$65536,4,FALSE))) -> КМС | F13: =IF(B13=0," ",VLOOKUP($B13,[1]Спортсмены!$B$1:$H$65536,5,FALSE)) -> Республика Татарстан | G13: =IF(B13=0," ",VLOOKUP($B13,[1]Спортсмены!$B$1:$H$65536,6,FALSE)) -> Казань, ФГБОУ ВО ПГАФКСиТ | H13: 0.00012418981 | I13: 0.00012395833 | J13: 0.00012430556 | K13: =IF(H13=0," ",IF(H13<=[1]Разряды!$D$4,[1]Разряды!$D$3,IF(H13<=[1]Разряды!$E$4,[1]Разряды!$E$3,IF(H13<=[1]Разряды!$F$4,[1]Разряды!$F$3,IF(H13<=[1]Разряды!$G$4,[1]Разряды!$G$3,IF(H13<=[1]Разряды!$H$4,[1]Разряды!$H$3,IF(H13<=[1]Разряды!$I$4,[1]Разряды!$I$3,IF(H13<=[1]Разряды!$J$4,[1]Разряды!$J$3,"б/р")))))))) -> кмс | L13: 15+5 | M13: =IF(B13=0," ",VLOOKUP($B13,[1]Спортсмены!$B$1:$H$65536,7,FALSE)) -> Захарчук Д.Г.
A14: 3 | B14: 352 | C14: =IF(B14=0," ",VLOOKUP(B14,[1]Спортсмены!B$1:H$65536,2,FALSE)) -> Ежов Иван | D14: =IF(B14=0," ",VLOOKUP($B14,[1]Спортсмены!$B$1:$H$65536,3,FALSE)) -> 01.06.1999 | E14: =IF(B14=0," ",IF(VLOOKUP($B14,[1]Спортсмены!$B$1:$H$65536,4,FALSE)=0," ",VLOOKUP($B14,[1]Спортсмены!$B$1:$H$65536,4,FALSE))) -> КМС | F14: =IF(B14=0," ",VLOOKUP($B14,[1]Спортсмены!$B$1:$H$65536,5,FALSE)) -> Пензенская область | G14: =IF(B14=0," ",VLOOKUP($B14,[1]Спортсмены!$B$1:$H$65536,6,FALSE)) -> Пенза, ПензГУ | H14: 0.00012777778 | I14: 0.00012407407 | J14: 0.00012453704 | K14: кмс | L14: 13+5 | M14: =IF(B14=0," ",VLOOKUP($B14,[1]Спортсмены!$B$1:$H$65536,7,FALSE)) -> Новокшанов Б.В., Каташовы С.Н., С.Д.
A15: 4 | B15: 51 | C15: =IF(B15=0," ",VLOOKUP(B15,[1]Спортсмены!B$1:H$65536,2,FALSE)) -> Шамарин Владислав | D15: =IF(B15=0," ",VLOOKUP($B15,[1]Спортсмены!$B$1:$H$65536,3,FALSE)) -> 23.07.1998 | E15: =IF(B15=0," ",IF(VLOOKUP($B15,[1]Спортсмены!$B$1:$H$65536,4,FALSE)=0," ",VLOOKUP($B15,[1]Спортсмены!$B$1:$H$65536,4,FALSE))) -> КМС | F15: =IF(B15=0," ",VLOOKUP($B15,[1]Спортсмены!$B$1:$H$65536,5,FALSE)) -> Самарская область | G15: =IF(B15=0," ",VLOOKUP($B15,[1]Спортсмены!$B$1:$H$65536,6,FALSE)) -> Самара, СНИУ им. Ак. С.П. Королева | H15: 0.00012650463 | I15: 0.00012546296 | J15: 0.00012488426 | K15: =IF(H15=0," ",IF(H15<=[1]Разряды!$D$4,[1]Разряды!$D$3,IF(H15<=[1]Разряды!$E$4,[1]Разряды!$E$3,IF(H15<=[1]Разряды!$F$4,[1]Разряды!$F$3,IF(H15<=[1]Разряды!$G$4,[1]Разряды!$G$3,IF(H15<=[1]Разряды!$H$4,[1]Разряды!$H$3,IF(H15<=[1]Разряды!$I$4,[1]Разряды!$I$3,IF(H15<=[1]Разряды!$J$4,[1]Разряды!$J$3,"б/р")))))))) -> кмс | L15: 12+5 | M15: =IF(B15=0," ",VLOOKUP($B15,[1]Спортсмены!$B$1:$H$65536,7,FALSE)) -> Лобачев В.С., Дмитриев В.М.
A16: 5 | B16: 43 | C16: =IF(B16=0," ",VLOOKUP(B16,[1]Спортсмены!B$1:H$65536,2,FALSE)) -> Рожнов Артем | D16: =IF(B16=0," ",VLOOKUP($B16,[1]Спортсмены!$B$1:$H$65536,3,FALSE)) -> 03.03.1998 | E16: =IF(B16=0," ",IF(VLOOKUP($B16,[1]Спортсмены!$B$1:$H$65536,4,FALSE)=0," ",VLOOKUP($B16,[1]Спортсмены!$B$1:$H$65536,4,FALSE))) -> КМС | F16: =IF(B16=0," ",VLOOKUP($B16,[1]Спортсмены!$B$1:$H$65536,5,FALSE)) -> Тульская область | G16: =IF(B16=0," ",VLOOKUP($B16,[1]Спортсмены!$B$1:$H$65536,6,FALSE)) -> Тула, ТулГУ | H16: 0.00012893519 | I16: 0.00012696759 | J16: 0.00012662037 | K16: кмс | L16: 11+5 | M16: =IF(B16=0," ",VLOOKUP($B16,[1]Спортсмены!$B$1:$H$65536,7,FALSE)) -> Веселова С.Ю., Ковтун Н.Н.
A17: 6 | B17: 350 | C17: =IF(B17=0," ",VLOOKUP(B17,[1]Спортсмены!B$1:H$65536,2,FALSE)) -> Мельников Георгий | D17: =IF(B17=0," ",VLOOKUP($B17,[1]Спортсмены!$B$1:$H$65536,3,FALSE)) -> 17.12.1996 | E17: =IF(B17=0," ",IF(VLOOKUP($B17,[1]Спортсмены!$B$1:$H$65536,4,FALSE)=0," ",VLOOKUP($B17,[1]Спортсмены!$B$1:$H$65536,4,FALSE))) -> КМС | F17: =IF(B17=0," ",VLOOKUP($B17,[1]Спортсмены!$B$1:$H$65536,5,FALSE)) -> Пензенская область | G17: =IF(B17=0," ",VLOOKUP($B17,[1]Спортсмены!$B$1:$H$65536,6,FALSE)) -> Пенза, ПензГУ | H17: 0.00012916667 | I17: 0.00012627315 | J17: 0.00012685185 | K17: кмс | L17: 10+5 | M17: =IF(B17=0," ",VLOOKUP($B17,[1]Спортсмены!$B$1:$H$65536,7,FALSE)) -> Новокшанов Б.В.,Болтов Л.В.
A18: 7 | B18: 35 | C18: =IF(B18=0," ",VLOOKUP(B18,[1]Спортсмены!B$1:H$65536,2,FALSE)) -> Миллер Николас | D18: =IF(B18=0," ",VLOOKUP($B18,[1]Спортсмены!$B$1:$H$65536,3,FALSE)) -> 07.03.1995 | E18: =IF(B18=0," ",IF(VLOOKUP($B18,[1]Спортсмены!$B$1:$H$65536,4,FALSE)=0," ",VLOOKUP($B18,[1]Спортсмены!$B$1:$H$65536,4,FALSE))) -> КМС | F18: =IF(B18=0," ",VLOOKUP($B18,[1]Спортсмены!$B$1:$H$65536,5,FALSE)) -> Красноярский край | G18: =IF(B18=0," ",VLOOKUP($B18,[1]Спортсмены!$B$1:$H$65536,6,FALSE)) -> Красноярск, СФУ | H18: 0.00012847222 | I18: 0.00012719907 | J18: r|med | K18: =IF(H18=0," ",IF(H18<=[1]Разряды!$D$4,[1]Разряды!$D$3,IF(H18<=[1]Разряды!$E$4,[1]Разряды!$E$3,IF(H18<=[1]Разряды!$F$4,[1]Разряды!$F$3,IF(H18<=[1]Разряды!$G$4,[1]Разряды!$G$3,IF(H18<=[1]Разряды!$H$4,[1]Разряды!$H$3,IF(H18<=[1]Разряды!$I$4,[1]Разряды!$I$3,IF(H18<=[1]Разряды!$J$4,[1]Разряды!$J$3,"б/р")))))))) -> 1р | L18: 9 | M18: =IF(B18=0," ",VLOOKUP($B18,[1]Спортсмены!$B$1:$H$65536,7,FALSE)) -> Пантелеев С.С., Федоров В.И.
A19: 8 | B19: 54 | C19: =IF(B19=0," ",VLOOKUP(B19,[1]Спортсмены!B$1:H$65536,2,FALSE)) -> Бурков Сергей | D19: =IF(B19=0," ",VLOOKUP($B19,[1]Спортсмены!$B$1:$H$65536,3,FALSE)) -> 20.12.1995 | E19: =IF(B19=0," ",IF(VLOOKUP($B19,[1]Спортсмены!$B$1:$H$65536,4,FALSE)=0," ",VLOOKUP($B19,[1]Спортсмены!$B$1:$H$65536,4,FALSE))) -> КМС | F19: =IF(B19=0," ",VLOOKUP($B19,[1]Спортсмены!$B$1:$H$65536,5,FALSE)) -> Удмуртская Республика | G19: =IF(B19=0," ",VLOOKUP($B19,[1]Спортсмены!$B$1:$H$65536,6,FALSE)) -> Ижевск, УдГУ | H19: 0.00012974537 | I19: 0.00012731481 | J19: r|med | K19: =IF(H19=0," ",IF(H19<=[1]Разряды!$D$4,[1]Разряды!$D$3,IF(H19<=[1]Разряды!$E$4,[1]Разряды!$E$3,IF(H19<=[1]Разряды!$F$4,[1]Разряды!$F$3,IF(H19<=[1]Разряды!$G$4,[1]Разряды!$G$3,IF(H19<=[1]Разряды!$H$4,[1]Разряды!$H$3,IF(H19<=[1]Разряды!$I$4,[1]Разряды!$I$3,IF(H19<=[1]Разряды!$J$4,[1]Разряды!$J$3,"б/р")))))))) -> 1р | L19: 8 | M19: =IF(B19=0," ",VLOOKUP($B19,[1]Спортсмены!$B$1:$H$65536,7,FALSE)) -> Феофилактов Н.З.,Кудрин А.В.
A20: 9 | B20: 80 | C20: =IF(B20=0," ",VLOOKUP(B20,[1]Спортсмены!B$1:H$65536,2,FALSE)) -> Гребнев Иван | D20: =IF(B20=0," ",VLOOKUP($B20,[1]Спортсмены!$B$1:$H$65536,3,FALSE)) -> 11.01.1996 | E20: =IF(B20=0," ",IF(VLOOKUP($B20,[1]Спортсмены!$B$1:$H$65536,4,FALSE)=0," ",VLOOKUP($B20,[1]Спортсмены!$B$1:$H$65536,4,FALSE))) -> КМС | F20: =IF(B20=0," ",VLOOKUP($B20,[1]Спортсмены!$B$1:$H$65536,5,FALSE)) -> Ивановская область | G20: =IF(B20=0," ",VLOOKUP($B20,[1]Спортсмены!$B$1:$H$65536,6,FALSE)) -> Иваново, ИГСХА им. Д.К. Беляева | H20: 0.00012986111 | I20: 0.00012928241 | K20: =IF(H20=0," ",IF(H20<=[1]Разряды!$D$4,[1]Разряды!$D$3,IF(H20<=[1]Разряды!$E$4,[1]Разряды!$E$3,IF(H20<=[1]Разряды!$F$4,[1]Разряды!$F$3,IF(H20<=[1]Разряды!$G$4,[1]Разряды!$G$3,IF(H20<=[1]Разряды!$H$4,[1]Разряды!$H$3,IF(H20<=[1]Разряды!$I$4,[1]Разряды!$I$3,IF(H20<=[1]Разряды!$J$4,[1]Разряды!$J$3,"б/р")))))))) -> 1р | L20: 7 | M20: =IF(B20=0," ",VLOOKUP($B20,[1]Спортсмены!$B$1:$H$65536,7,FALSE)) -> Левичева М.Б.
A21: 10 | B21: 3 | C21: =IF(B21=0," ",VLOOKUP(B21,[1]Спортсмены!B$1:H$65536,2,FALSE)) -> Дормидонтов Александр | D21: =IF(B21=0," ",VLOOKUP($B21,[1]Спортсмены!$B$1:$H$65536,3,FALSE)) -> 22.11.1996 | E21: =IF(B21=0," ",IF(VLOOKUP($B21,[1]Спортсмены!$B$1:$H$65536,4,FALSE)=0," ",VLOOKUP($B21,[1]Спортсмены!$B$1:$H$65536,4,FALSE))) -> КМС | F21: =IF(B21=0," ",VLOOKUP($B21,[1]Спортсмены!$B$1:$H$65536,5,FALSE)) -> Республика Чувашии | G21: =IF(B21=0," ",VLOOKUP($B21,[1]Спортсмены!$B$1:$H$65536,6,FALSE)) -> Чебоксары, ЧГПУ им. И.Я. Яковлева | H21: 0.00012986111 | I21: 0.00012939815 | K21: =IF(H21=0," ",IF(H21<=[1]Разряды!$D$4,[1]Разряды!$D$3,IF(H21<=[1]Разряды!$E$4,[1]Разряды!$E$3,IF(H21<=[1]Разряды!$F$4,[1]Разряды!$F$3,IF(H21<=[1]Разряды!$G$4,[1]Разряды!$G$3,IF(H21<=[1]Разряды!$H$4,[1]Разряды!$H$3,IF(H21<=[1]Разряды!$I$4,[1]Разряды!$I$3,IF(H21<=[1]Разряды!$J$4,[1]Разряды!$J$3,"б/р")))))))) -> 1р | L21: 6 | M21: =IF(B21=0," ",VLOOKUP($B21,[1]Спортсмены!$B$1:$H$65536,7,FALSE)) -> Другов Р.А.
A22: 10 | B22: 19 | C22: =IF(B22=0," ",VLOOKUP(B22,[1]Спортсмены!B$1:H$65536,2,FALSE)) -> Кудряшов Александр | D22: =IF(B22=0," ",VLOOKUP($B22,[1]Спортсмены!$B$1:$H$65536,3,FALSE)) -> 31.10.2000 | E22: =IF(B22=0," ",IF(VLOOKUP($B22,[1]Спортсмены!$B$1:$H$65536,4,FALSE)=0," ",VLOOKUP($B22,[1]Спортсмены!$B$1:$H$65536,4,FALSE))) -> КМС | F22: =IF(B22=0," ",VLOOKUP($B22,[1]Спортсмены!$B$1:$H$65536,5,FALSE)) -> Москва | G22: =IF(B22=0," ",VLOOKUP($B22,[1]Спортсмены!$B$1:$H$65536,6,FALSE)) -> Москва, РГУФКСМиТ (ГЦОЛИФК) | H22: 0.00013125 | I22: 0.00012939815 | K22: =IF(H22=0," ",IF(H22<=[1]Разряды!$D$4,[1]Разряды!$D$3,IF(H22<=[1]Разряды!$E$4,[1]Разряды!$E$3,IF(H22<=[1]Разряды!$F$4,[1]Разряды!$F$3,IF(H22<=[1]Разряды!$G$4,[1]Разряды!$G$3,IF(H22<=[1]Разряды!$H$4,[1]Разряды!$H$3,IF(H22<=[1]Разряды!$I$4,[1]Разряды!$I$3,IF(H22<=[1]Разряды!$J$4,[1]Разряды!$J$3,"б/р")))))))) -> 1р | L22: 5 | M22: =IF(B22=0," ",VLOOKUP($B22,[1]Спортсмены!$B$1:$H$65536,7,FALSE)) -> Филатова М.И., Цветик А.М.
A23: 12 | B23: 61 | C23: =IF(B23=0," ",VLOOKUP(B23,[1]Спортсмены!B$1:H$65536,2,FALSE)) -> Волков Антон | D23: =IF(B23=0," ",VLOOKUP($B23,[1]Спортсмены!$B$1:$H$65536,3,FALSE)) -> 05.03.1999 | E23: =IF(B23=0," ",IF(VLOOKUP($B23,[1]Спортсмены!$B$1:$H$65536,4,FALSE)=0," ",VLOOKUP($B23,[1]Спортсмены!$B$1:$H$65536,4,FALSE))) -> 1р | F23: =IF(B23=0," ",VLOOKUP($B23,[1]Спортсмены!$B$1:$H$65536,5,FALSE)) -> Ивановская область | G23: =IF(B23=0," ",VLOOKUP($B23,[1]Спортсмены!$B$1:$H$65536,6,FALSE)) -> Иваново, ИГЭУ им. В.И. Ленина | H23: 0.00013206019 | I23: 0.00012997685 | K23: =IF(H23=0," ",IF(H23<=[1]Разряды!$D$4,[1]Разряды!$D$3,IF(H23<=[1]Разряды!$E$4,[1]Разряды!$E$3,IF(H23<=[1]Разряды!$F$4,[1]Разряды!$F$3,IF(H23<=[1]Разряды!$G$4,[1]Разряды!$G$3,IF(H23<=[1]Разряды!$H$4,[1]Разряды!$H$3,IF(H23<=[1]Разряды!$I$4,[1]Разряды!$I$3,IF(H23<=[1]Разряды!$J$4,[1]Разряды!$J$3,"б/р")))))))) -> 1р | L23: 4 | M23: =IF(B23=0," ",VLOOKUP($B23,[1]Спортсмены!$B$1:$H$65536,7,FALSE)) -> Чахунов Е.И.
A24: 13 | B24: 63 | C24: =IF(B24=0," ",VLOOKUP(B24,[1]Спортсмены!B$1:H$65536,2,FALSE)) -> Неверов Илья | D24: =IF(B24=0," ",VLOOKUP($B24,[1]Спортсмены!$B$1:$H$65536,3,FALSE)) -> 03.03.2000 | E24: =IF(B24=0," ",IF(VLOOKUP($B24,[1]Спортсмены!$B$1:$H$65536,4,FALSE)=0," ",VLOOKUP($B24,[1]Спортсмены!$B$1:$H$65536,4,FALSE))) -> 1р | F24: =IF(B24=0," ",VLOOKUP($B24,[1]Спортсмены!$B$1:$H$65536,5,FALSE)) -> Архангельская область | G24: =IF(B24=0," ",VLOOKUP($B24,[1]Спортсмены!$B$1:$H$65536,6,FALSE)) -> Архангельск, САФУ им. М.В. Ломоносова | H24: 0.00012777778 | I24: 0.00013020833 | K24: =IF(H24=0," ",IF(H24<=[1]Разряды!$D$4,[1]Разряды!$D$3,IF(H24<=[1]Разряды!$E$4,[1]Разряды!$E$3,IF(H24<=[1]Разряды!$F$4,[1]Разряды!$F$3,IF(H24<=[1]Разряды!$G$4,[1]Разряды!$G$3,IF(H24<=[1]Разряды!$H$4,[1]Разряды!$H$3,IF(H24<=[1]Разряды!$I$4,[1]Разряды!$I$3,IF(H24<=[1]Разряды!$J$4,[1]Разряды!$J$3,"б/р")))))))) -> 1р | L24: 3 | M24: =IF(B24=0," ",VLOOKUP($B24,[1]Спортсмены!$B$1:$H$65536,7,FALSE)) -> Бородулин А.М., Литвененко А.И.
A25: 14 | B25: 100 | C25: =IF(B25=0," ",VLOOKUP(B25,[1]Спортсмены!B$1:H$65536,2,FALSE)) -> Паршин Владислав | D25: =IF(B25=0," ",VLOOKUP($B25,[1]Спортсмены!$B$1:$H$65536,3,FALSE)) -> 26.09.1998 | E25: =IF(B25=0," ",IF(VLOOKUP($B25,[1]Спортсмены!$B$1:$H$65536,4,FALSE)=0," ",VLOOKUP($B25,[1]Спортсмены!$B$1:$H$65536,4,FALSE))) -> КМС | F25: =IF(B25=0," ",VLOOKUP($B25,[1]Спортсмены!$B$1:$H$65536,5,FALSE)) -> Пензенская область | G25: =IF(B25=0," ",VLOOKUP($B25,[1]Спортсмены!$B$1:$H$65536,6,FALSE)) -> Пенза, ПензГУ | H25: 0.00012824074 | I25: 0.00013043981 | K25: =IF(H25=0," ",IF(H25<=[1]Разряды!$D$4,[1]Разряды!$D$3,IF(H25<=[1]Разряды!$E$4,[1]Разряды!$E$3,IF(H25<=[1]Разряды!$F$4,[1]Разряды!$F$3,IF(H25<=[1]Разряды!$G$4,[1]Разряды!$G$3,IF(H25<=[1]Разряды!$H$4,[1]Разряды!$H$3,IF(H25<=[1]Разряды!$I$4,[1]Разряды!$I$3,IF(H25<=[1]Разряды!$J$4,[1]Разряды!$J$3,"б/р")))))))) -> 1р | L25: 2 | M25: =IF(B25=0," ",VLOOKUP($B25,[1]Спортсмены!$B$1:$H$65536,7,FALSE)) -> Зинуков А.В.
A26: 15 | B26: 71 | C26: =IF(B26=0," ",VLOOKUP(B26,[1]Спортсмены!B$1:H$65536,2,FALSE)) -> Булгаков Артем | D26: =IF(B26=0," ",VLOOKUP($B26,[1]Спортсмены!$B$1:$H$65536,3,FALSE)) -> 12.09.1995 | E26: =IF(B26=0," ",IF(VLOOKUP($B26,[1]Спортсмены!$B$1:$H$65536,4,FALSE)=0," ",VLOOKUP($B26,[1]Спортсмены!$B$1:$H$65536,4,FALSE))) -> КМС | F26: =IF(B26=0," ",VLOOKUP($B26,[1]Спортсмены!$B$1:$H$65536,5,FALSE)) -> Пермский край | G26: =IF(B26=0," ",VLOOKUP($B26,[1]Спортсмены!$B$1:$H$65536,6,FALSE)) -> Пермь, ПНИПУ с/к "Политехник" | H26: 0.00013078704 | I26: 0.00013136574 | K26: =IF(H26=0," ",IF(H26<=[1]Разряды!$D$4,[1]Разряды!$D$3,IF(H26<=[1]Разряды!$E$4,[1]Разряды!$E$3,IF(H26<=[1]Разряды!$F$4,[1]Разряды!$F$3,IF(H26<=[1]Разряды!$G$4,[1]Разряды!$G$3,IF(H26<=[1]Разряды!$H$4,[1]Разряды!$H$3,IF(H26<=[1]Разряды!$I$4,[1]Разряды!$I$3,IF(H26<=[1]Разряды!$J$4,[1]Разряды!$J$3,"б/р")))))))) -> 1р | L26: 1 | M26: =IF(B26=0," ",VLOOKUP($B26,[1]Спортсмены!$B$1:$H$65536,7,FALSE)) -> Гладков В.П.
A27: 16 | B27: 87 | C27: =IF(B27=0," ",VLOOKUP(B27,[1]Спортсмены!B$1:H$65536,2,FALSE)) -> Женчевский Дмитрий | D27: =IF(B27=0," ",VLOOKUP($B27,[1]Спортсмены!$B$1:$H$65536,3,FALSE)) -> 07.09.1998 | E27: =IF(B27=0," ",IF(VLOOKUP($B27,[1]Спортсмены!$B$1:$H$65536,4,FALSE)=0," ",VLOOKUP($B27,[1]Спортсмены!$B$1:$H$65536,4,FALSE))) -> 2р | F27: =IF(B27=0," ",VLOOKUP($B27,[1]Спортсмены!$B$1:$H$65536,5,FALSE)) -> Смоленская область | G27: =IF(B27=0," ",VLOOKUP($B27,[1]Спортсмены!$B$1:$H$65536,6,FALSE)) -> Смоленск, Смоленская ГСХА | H27: 0.00013402778 | I27: 0.00013148148 | K27: 1р | L27: 1 | M27: =IF(B27=0," ",VLOOKUP($B27,[1]Спортсмены!$B$1:$H$65536,7,FALSE)) -> Войцеховский М.В.
A28: 17 | B28: 34 | C28: =IF(B28=0," ",VLOOKUP(B28,[1]Спортсмены!B$1:H$65536,2,FALSE)) -> Корчагин Дмитрий | D28: =IF(B28=0," ",VLOOKUP($B28,[1]Спортсмены!$B$1:$H$65536,3,FALSE)) -> 11.05.1997 | E28: =IF(B28=0," ",IF(VLOOKUP($B28,[1]Спортсмены!$B$1:$H$65536,4,FALSE)=0," ",VLOOKUP($B28,[1]Спортсмены!$B$1:$H$65536,4,FALSE))) -> КМС | F28: =IF(B28=0," ",VLOOKUP($B28,[1]Спортсмены!$B$1:$H$65536,5,FALSE)) -> Красноярский край | G28: =IF(B28=0," ",VLOOKUP($B28,[1]Спортсмены!$B$1:$H$65536,6,FALSE)) -> Красноярск, СФУ | H28: 0.00013055556 | I28: 0.00013171296 | K28: =IF(H28=0," ",IF(H28<=[1]Разряды!$D$4,[1]Разряды!$D$3,IF(H28<=[1]Разряды!$E$4,[1]Разряды!$E$3,IF(H28<=[1]Разряды!$F$4,[1]Разряды!$F$3,IF(H28<=[1]Разряды!$G$4,[1]Разряды!$G$3,IF(H28<=[1]Разряды!$H$4,[1]Разряды!$H$3,IF(H28<=[1]Разряды!$I$4,[1]Разряды!$I$3,IF(H28<=[1]Разряды!$J$4,[1]Разряды!$J$3,"б/р")))))))) -> 1р | L28: 1 | M28: =IF(B28=0," ",VLOOKUP($B28,[1]Спортсмены!$B$1:$H$65536,7,FALSE)) -> Непомнящих О.А.
A29: 18 | B29: 62 | C29: =IF(B29=0," ",VLOOKUP(B29,[1]Спортсмены!B$1:H$65536,2,FALSE)) -> Щербаков Кирилл | D29: =IF(B29=0," ",VLOOKUP($B29,[1]Спортсмены!$B$1:$H$65536,3,FALSE)) -> 28.08.2000 | E29: =IF(B29=0," ",IF(VLOOKUP($B29,[1]Спортсмены!$B$1:$H$65536,4,FALSE)=0," ",VLOOKUP($B29,[1]Спортсмены!$B$1:$H$65536,4,FALSE))) -> КМС | F29: =IF(B29=0," ",VLOOKUP($B29,[1]Спортсмены!$B$1:$H$65536,5,FALSE)) -> Ивановская область | G29: =IF(B29=0," ",VLOOKUP($B29,[1]Спортсмены!$B$1:$H$65536,6,FALSE)) -> Иваново, ИГЭУ им. В.И. Ленина | H29: 0.00013333333 | I29: 0.0001318287 | K29: 1р | L29: 1 | M29: =IF(B29=0," ",VLOOKUP($B29,[1]Спортсмены!$B$1:$H$65536,7,FALSE)) -> Гильмутдинов Ю.В., Кашникова Т.А.
A30: 19 | B30: 44 | C30: =IF(B30=0," ",VLOOKUP(B30,[1]Спортсмены!B$1:H$65536,2,FALSE)) -> Долотов Владислав | D30: =IF(B30=0," ",VLOOKUP($B30,[1]Спортсмены!$B$1:$H$65536,3,FALSE)) -> 21.01.2001 | E30: =IF(B30=0," ",IF(VLOOKUP($B30,[1]Спортсмены!$B$1:$H$65536,4,FALSE)=0," ",VLOOKUP($B30,[1]Спортсмены!$B$1:$H$65536,4,FALSE))) -> 1р | F30: =IF(B30=0," ",VLOOKUP($B30,[1]Спортсмены!$B$1:$H$65536,5,FALSE)) -> Пензенская область | G30: =IF(B30=0," ",VLOOKUP($B30,[1]Спортсмены!$B$1:$H$65536,6,FALSE)) -> Пенза, ПензГТУ | H30: 0.00013402778 | I30: 0.00013206019 | K30: 1р | L30: 1 | M30: =IF(B30=0," ",VLOOKUP($B30,[1]Спортсмены!$B$1:$H$65536,7,FALSE)) -> Гарынов А.А.
A31: 20 | B31: 99 | C31: =IF(B31=0," ",VLOOKUP(B31,[1]Спортсмены!B$1:H$65536,2,FALSE)) -> Фролов Павел | D31: =IF(B31=0," ",VLOOKUP($B31,[1]Спортсмены!$B$1:$H$65536,3,FALSE)) -> 30.05.1999 | E31: =IF(B31=0," ",IF(VLOOKUP($B31,[1]Спортсмены!$B$1:$H$65536,4,FALSE)=0," ",VLOOKUP($B31,[1]Спортсмены!$B$1:$H$65536,4,FALSE))) -> КМС | F31: =IF(B31=0," ",VLOOKUP($B31,[1]Спортсмены!$B$1:$H$65536,5,FALSE)) -> Пензенская область | G31: =IF(B31=0," ",VLOOKUP($B31,[1]Спортсмены!$B$1:$H$65536,6,FALSE)) -> Пенза, ПензГУ | H31: 0.00013356481 | I31: 0.00013229167 | K31: 1р | L31: 1 | M31: =IF(B31=0," ",VLOOKUP($B31,[1]Спортсмены!$B$1:$H$65536,7,FALSE)) -> Кораблев В.В.
A32: 21 | B32: 58 | C32: =IF(B32=0," ",VLOOKUP(B32,[1]Спортсмены!B$1:H$65536,2,FALSE)) -> Сатонин Вчеслав | D32: =IF(B32=0," ",VLOOKUP($B32,[1]Спортсмены!$B$1:$H$65536,3,FALSE)) -> 13.09.2000 | E32: =IF(B32=0," ",IF(VLOOKUP($B32,[1]Спортсмены!$B$1:$H$65536,4,FALSE)=0," ",VLOOKUP($B32,[1]Спортсмены!$B$1:$H$65536,4,FALSE))) -> КМС | F32: =IF(B32=0," ",VLOOKUP($B32,[1]Спортсмены!$B$1:$H$65536,5,FALSE)) -> Республика Татарстан | G32: =IF(B32=0," ",VLOOKUP($B32,[1]Спортсмены!$B$1:$H$65536,6,FALSE)) -> Казань, ФГБОУ ВО ПГАФКСиТ | H32: 0.00013229167 | I32: 0.00013263889 | K32: =IF(H32=0," ",IF(H32<=[1]Разряды!$D$4,[1]Разряды!$D$3,IF(H32<=[1]Разряды!$E$4,[1]Разряды!$E$3,IF(H32<=[1]Разряды!$F$4,[1]Разряды!$F$3,IF(H32<=[1]Разряды!$G$4,[1]Разряды!$G$3,IF(H32<=[1]Разряды!$H$4,[1]Разряды!$H$3,IF(H32<=[1]Разряды!$I$4,[1]Разряды!$I$3,IF(H32<=[1]Разряды!$J$4,[1]Разряды!$J$3,"б/р")))))))) -> 1р | L32: 1 | M32: =IF(B32=0," ",VLOOKUP($B32,[1]Спортсмены!$B$1:$H$65536,7,FALSE)) -> Мостяков Д.В.
A33: 22 | B33: 55 | C33: =IF(B33=0," ",VLOOKUP(B33,[1]Спортсмены!B$1:H$65536,2,FALSE)) -> Алексеев Алексей | D33: =IF(B33=0," ",VLOOKUP($B33,[1]Спортсмены!$B$1:$H$65536,3,FALSE)) -> 20.04.1998 | E33: =IF(B33=0," ",IF(VLOOKUP($B33,[1]Спортсмены!$B$1:$H$65536,4,FALSE)=0," ",VLOOKUP($B33,[1]Спортсмены!$B$1:$H$65536,4,FALSE))) -> КМС | F33: =IF(B33=0," ",VLOOKUP($B33,[1]Спортсмены!$B$1:$H$65536,5,FALSE)) -> Удмуртская Республика | G33: =IF(B33=0," ",VLOOKUP($B33,[1]Спортсмены!$B$1:$H$65536,6,FALSE)) -> Ижевск, УдГУ | H33: 0.00013310185 | I33: 0.00013287037 | K33: =IF(H33=0," ",IF(H33<=[1]Разряды!$D$4,[1]Разряды!$D$3,IF(H33<=[1]Разряды!$E$4,[1]Разряды!$E$3,IF(H33<=[1]Разряды!$F$4,[1]Разряды!$F$3,IF(H33<=[1]Разряды!$G$4,[1]Разряды!$G$3,IF(H33<=[1]Разряды!$H$4,[1]Разряды!$H$3,IF(H33<=[1]Разряды!$I$4,[1]Разряды!$I$3,IF(H33<=[1]Разряды!$J$4,[1]Разряды!$J$3,"б/р")))))))) -> 2р | L33: 1 | M33: =IF(B33=0," ",VLOOKUP($B33,[1]Спортсмены!$B$1:$H$65536,7,FALSE)) -> Феофилактов Н.З.
A34: 22 | B34: 64 | C34: =IF(B34=0," ",VLOOKUP(B34,[1]Спортсмены!B$1:H$65536,2,FALSE)) -> Колов Роман | D34: =IF(B34=0," ",VLOOKUP($B34,[1]Спортсмены!$B$1:$H$65536,3,FALSE)) -> 28.09.1999 | E34: =IF(B34=0," ",IF(VLOOKUP($B34,[1]Спортсмены!$B$1:$H$65536,4,FALSE)=0," ",VLOOKUP($B34,[1]Спортсмены!$B$1:$H$65536,4,FALSE))) -> 2р | F34: =IF(B34=0," ",VLOOKUP($B34,[1]Спортсмены!$B$1:$H$65536,5,FALSE)) -> Архангельская область | G34: =IF(B34=0," ",VLOOKUP($B34,[1]Спортсмены!$B$1:$H$65536,6,FALSE)) -> Архангельск, САФУ им. М.В. Ломоносова | H34: 0.00013402778 | I34: 0.00013356481 | K34: =IF(H34=0," ",IF(H34<=[1]Разряды!$D$4,[1]Разряды!$D$3,IF(H34<=[1]Разряды!$E$4,[1]Разряды!$E$3,IF(H34<=[1]Разряды!$F$4,[1]Разряды!$F$3,IF(H34<=[1]Разряды!$G$4,[1]Разряды!$G$3,IF(H34<=[1]Разряды!$H$4,[1]Разряды!$H$3,IF(H34<=[1]Разряды!$I$4,[1]Разряды!$I$3,IF(H34<=[1]Разряды!$J$4,[1]Разряды!$J$3,"б/р")))))))) -> 2р | L34: 1 | M34: =IF(B34=0," ",VLOOKUP($B34,[1]Спортсмены!$B$1:$H$65536,7,FALSE)) -> Мингалева А.Г.
A35: 22 | B35: 45 | C35: =IF(B35=0," ",VLOOKUP(B35,[1]Спортсмены!B$1:H$65536,2,FALSE)) -> Никулкин Александр | D35: =IF(B35=0," ",VLOOKUP($B35,[1]Спортсмены!$B$1:$H$65536,3,FALSE)) -> 04.11.1995 | E35: =IF(B35=0," ",IF(VLOOKUP($B35,[1]Спортсмены!$B$1:$H$65536,4,FALSE)=0," ",VLOOKUP($B35,[1]Спортсмены!$B$1:$H$65536,4,FALSE))) -> КМС | F35: =IF(B35=0," ",VLOOKUP($B35,[1]Спортсмены!$B$1:$H$65536,5,FALSE)) -> Пензенская область | G35: =IF(B35=0," ",VLOOKUP($B35,[1]Спортсмены!$B$1:$H$65536,6,FALSE)) -> Пенза, ПензГТУ | H35: 0.00013414352 | I35: 0.00013391204 | K35: =IF(H35=0," ",IF(H35<=[1]Разряды!$D$4,[1]Разряды!$D$3,IF(H35<=[1]Разряды!$E$4,[1]Разряды!$E$3,IF(H35<=[1]Разряды!$F$4,[1]Разряды!$F$3,IF(H35<=[1]Разряды!$G$4,[1]Разряды!$G$3,IF(H35<=[1]Разряды!$H$4,[1]Разряды!$H$3,IF(H35<=[1]Разряды!$I$4,[1]Разряды!$I$3,IF(H35<=[1]Разряды!$J$4,[1]Разряды!$J$3,"б/р")))))))) -> 2р | L35: 1 | M35: =IF(B35=0," ",VLOOKUP($B35,[1]Спортсмены!$B$1:$H$65536,7,FALSE)) -> Гарынов А.А.
A36: 25 | B36: 70 | C36: =IF(B36=0," ",VLOOKUP(B36,[1]Спортсмены!B$1:H$65536,2,FALSE)) -> Кипелкин Иван | D36: =IF(B36=0," ",VLOOKUP($B36,[1]Спортсмены!$B$1:$H$65536,3,FALSE)) -> 28.01.1997 | E36: =IF(B36=0," ",IF(VLOOKUP($B36,[1]Спортсмены!$B$1:$H$65536,4,FALSE)=0," ",VLOOKUP($B36,[1]Спортсмены!$B$1:$H$65536,4,FALSE))) -> КМС | F36: =IF(B36=0," ",VLOOKUP($B36,[1]Спортсмены!$B$1:$H$65536,5,FALSE)) -> Нижегородская область | G36: =IF(B36=0," ",VLOOKUP($B36,[1]Спортсмены!$B$1:$H$65536,6,FALSE)) -> Нижний Новгород, ННГУ им. Н.И. Лобачевского | H36: 0.00013425926 | K36: =IF(H36=0," ",IF(H36<=[1]Разряды!$D$4,[1]Разряды!$D$3,IF(H36<=[1]Разряды!$E$4,[1]Разряды!$E$3,IF(H36<=[1]Разряды!$F$4,[1]Разряды!$F$3,IF(H36<=[1]Разряды!$G$4,[1]Разряды!$G$3,IF(H36<=[1]Разряды!$H$4,[1]Разряды!$H$3,IF(H36<=[1]Разряды!$I$4,[1]Разряды!$I$3,IF(H36<=[1]Разряды!$J$4,[1]Разряды!$J$3,"б/р")))))))) -> 2р | L36: 1 | M36: =IF(B36=0," ",VLOOKUP($B36,[1]Спортсмены!$B$1:$H$65536,7,FALSE)) -> Ясницкий Н.В.
A37: 26 | B37: 76 | C37: =IF(B37=0," ",VLOOKUP(B37,[1]Спортсмены!B$1:H$65536,2,FALSE)) -> Панченко Глеб | D37: =IF(B37=0," ",VLOOKUP($B37,[1]Спортсмены!$B$1:$H$65536,3,FALSE)) -> 22.11.1998 | E37: =IF(B37=0," ",IF(VLOOKUP($B37,[1]Спортсмены!$B$1:$H$65536,4,FALSE)=0," ",VLOOKUP($B37,[1]Спортсмены!$B$1:$H$65536,4,FALSE))) -> 1р | F37: =IF(B37=0," ",VLOOKUP($B37,[1]Спортсмены!$B$1:$H$65536,5,FALSE)) -> Пермский край | G37: =IF(B37=0," ",VLOOKUP($B37,[1]Спортсмены!$B$1:$H$65536,6,FALSE)) -> Пермь, ПНИПУ с/к "Политехник" | H37: 0.00013483796 | K37: =IF(H37=0," ",IF(H37<=[1]Разряды!$D$4,[1]Разряды!$D$3,IF(H37<=[1]Разряды!$E$4,[1]Разряды!$E$3,IF(H37<=[1]Разряды!$F$4,[1]Разряды!$F$3,IF(H37<=[1]Разряды!$G$4,[1]Разряды!$G$3,IF(H37<=[1]Разряды!$H$4,[1]Разряды!$H$3,IF(H37<=[1]Разряды!$I$4,[1]Разряды!$I$3,IF(H37<=[1]Разряды!$J$4,[1]Разряды!$J$3,"б/р")))))))) -> 2р | L37: 1 | M37: =IF(B37=0," ",VLOOKUP($B37,[1]Спортсмены!$B$1:$H$65536,7,FALSE)) -> Гладков В.П.
A38: 26 | B38: 75 | C38: =IF(B38=0," ",VLOOKUP(B38,[1]Спортсмены!B$1:H$65536,2,FALSE)) -> Щербаков Евгений | D38: =IF(B38=0," ",VLOOKUP($B38,[1]Спортсмены!$B$1:$H$65536,3,FALSE)) -> 30.04.1999 | E38: =IF(B38=0," ",IF(VLOOKUP($B38,[1]Спортсмены!$B$1:$H$65536,4,FALSE)=0," ",VLOOKUP($B38,[1]Спортсмены!$B$1:$H$65536,4,FALSE))) -> 1р | F38: =IF(B38=0," ",VLOOKUP($B38,[1]Спортсмены!$B$1:$H$65536,5,FALSE)) -> Пермский край | G38: =IF(B38=0," ",VLOOKUP($B38,[1]Спортсмены!$B$1:$H$65536,6,FALSE)) -> Пермь, ПНИПУ с/к "Политехник" | H38: 0.00013483796 | K38: =IF(H38=0," ",IF(H38<=[1]Разряды!$D$4,[1]Разряды!$D$3,IF(H38<=[1]Разряды!$E$4,[1]Разряды!$E$3,IF(H38<=[1]Разряды!$F$4,[1]Разряды!$F$3,IF(H38<=[1]Разряды!$G$4,[1]Разряды!$G$3,IF(H38<=[1]Разряды!$H$4,[1]Разряды!$H$3,IF(H38<=[1]Разряды!$I$4,[1]Разряды!$I$3,IF(H38<=[1]Разряды!$J$4,[1]Разряды!$J$3,"б/р")))))))) -> 2р | L38: 1 | M38: =IF(B38=0," ",VLOOKUP($B38,[1]Спортсмены!$B$1:$H$65536,7,FALSE)) -> Гладков В.П.
A39: 28 | B39: 23 | C39: =IF(B39=0," ",VLOOKUP(B39,[1]Спортсмены!B$1:H$65536,2,FALSE)) -> Казанов Юрий | D39: =IF(B39=0," ",VLOOKUP($B39,[1]Спортсмены!$B$1:$H$65536,3,FALSE)) -> 13.07.1998 | E39: =IF(B39=0," ",IF(VLOOKUP($B39,[1]Спортсмены!$B$1:$H$65536,4,FALSE)=0," ",VLOOKUP($B39,[1]Спортсмены!$B$1:$H$65536,4,FALSE))) -> КМС | F39: =IF(B39=0," ",VLOOKUP($B39,[1]Спортсмены!$B$1:$H$65536,5,FALSE)) -> Ярославская область | G39: =IF(B39=0," ",VLOOKUP($B39,[1]Спортсмены!$B$1:$H$65536,6,FALSE)) -> Ярославль, ЯрГУ им. П.Г. Демидова | H39: 0.00013611111 | K39: =IF(H39=0," ",IF(H39<=[1]Разряды!$D$4,[1]Разряды!$D$3,IF(H39<=[1]Разряды!$E$4,[1]Разряды!$E$3,IF(H39<=[1]Разряды!$F$4,[1]Разряды!$F$3,IF(H39<=[1]Разряды!$G$4,[1]Разряды!$G$3,IF(H39<=[1]Разряды!$H$4,[1]Разряды!$H$3,IF(H39<=[1]Разряды!$I$4,[1]Разряды!$I$3,IF(H39<=[1]Разряды!$J$4,[1]Разряды!$J$3,"б/р")))))))) -> 2р | L39: 1 | M39: =IF(B39=0," ",VLOOKUP($B39,[1]Спортсмены!$B$1:$H$65536,7,FALSE)) -> Филинова С.К.
A40: 29 | B40: 9 | C40: =IF(B40=0," ",VLOOKUP(B40,[1]Спортсмены!B$1:H$65536,2,FALSE)) -> Ушаков Александр | D40: =IF(B40=0," ",VLOOKUP($B40,[1]Спортсмены!$B$1:$H$65536,3,FALSE)) -> 06.06.1998 | E40: =IF(B40=0," ",IF(VLOOKUP($B40,[1]Спортсмены!$B$1:$H$65536,4,FALSE)=0," ",VLOOKUP($B40,[1]Спортсмены!$B$1:$H$65536,4,FALSE))) -> КМС | F40: =IF(B40=0," ",VLOOKUP($B40,[1]Спортсмены!$B$1:$H$65536,5,FALSE)) -> Тамбовская область | G40: =IF(B40=0," ",VLOOKUP($B40,[1]Спортсмены!$B$1:$H$65536,6,FALSE)) -> Тамбов, ТГУ им. Г.Р. Державина | H40: 0.00013657407 | K40: =IF(H40=0," ",IF(H40<=[1]Разряды!$D$4,[1]Разряды!$D$3,IF(H40<=[1]Разряды!$E$4,[1]Разряды!$E$3,IF(H40<=[1]Разряды!$F$4,[1]Разряды!$F$3,IF(H40<=[1]Разряды!$G$4,[1]Разряды!$G$3,IF(H40<=[1]Разряды!$H$4,[1]Разряды!$H$3,IF(H40<=[1]Разряды!$I$4,[1]Разряды!$I$3,IF(H40<=[1]Разряды!$J$4,[1]Разряды!$J$3,"б/р")))))))) -> 2р | L40: 1 | M40: =IF(B40=0," ",VLOOKUP($B40,[1]Спортсмены!$B$1:$H$65536,7,FALSE)) -> Иванов А.Н.
A41: 30 | B41: 4 | C41: =IF(B41=0," ",VLOOKUP(B41,[1]Спортсмены!B$1:H$65536,2,FALSE)) -> Александров Владислав | D41: =IF(B41=0," ",VLOOKUP($B41,[1]Спортсмены!$B$1:$H$65536,3,FALSE)) -> 29.06.2000 | E41: =IF(B41=0," ",IF(VLOOKUP($B41,[1]Спортсмены!$B$1:$H$65536,4,FALSE)=0," ",VLOOKUP($B41,[1]Спортсмены!$B$1:$H$65536,4,FALSE))) -> 1р | F41: =IF(B41=0," ",VLOOKUP($B41,[1]Спортсмены!$B$1:$H$65536,5,FALSE)) -> Республика Чувашии | G41: =IF(B41=0," ",VLOOKUP($B41,[1]Спортсмены!$B$1:$H$65536,6,FALSE)) -> Чебоксары, ЧГПУ им. И.Я. Яковлева | H41: 0.00013773148 | K41: =IF(H41=0," ",IF(H41<=[1]Разряды!$D$4,[1]Разряды!$D$3,IF(H41<=[1]Разряды!$E$4,[1]Разряды!$E$3,IF(H41<=[1]Разряды!$F$4,[1]Разряды!$F$3,IF(H41<=[1]Разряды!$G$4,[1]Разряды!$G$3,IF(H41<=[1]Разряды!$H$4,[1]Разряды!$H$3,IF(H41<=[1]Разряды!$I$4,[1]Разряды!$I$3,IF(H41<=[1]Разряды!$J$4,[1]Разряды!$J$3,"б/р")))))))) -> 2р | L41: 1 | M41: =IF(B41=0," ",VLOOKUP($B41,[1]Спортсмены!$B$1:$H$65536,7,FALSE)) -> Анисимов Н.И.
A42: 31 | B42: 1 | C42: =IF(B42=0," ",VLOOKUP(B42,[1]Спортсмены!B$1:H$65536,2,FALSE)) -> Балякаев Максим | D42: =IF(B42=0," ",VLOOKUP($B42,[1]Спортсмены!$B$1:$H$65536,3,FALSE)) -> 15.05.1999 | E42: =IF(B42=0," ",IF(VLOOKUP($B42,[1]Спортсмены!$B$1:$H$65536,4,FALSE)=0," ",VLOOKUP($B42,[1]Спортсмены!$B$1:$H$65536,4,FALSE))) -> 1р | F42: =IF(B42=0," ",VLOOKUP($B42,[1]Спортсмены!$B$1:$H$65536,5,FALSE)) -> Ярославская область | G42: =IF(B42=0," ",VLOOKUP($B42,[1]Спортсмены!$B$1:$H$65536,6,FALSE)) -> Ярославль, ЯГПУ им. К.Д. Ушинского | H42: 0.000140625 | K42: =IF(H42=0," ",IF(H42<=[1]Разряды!$D$4,[1]Разряды!$D$3,IF(H42<=[1]Разряды!$E$4,[1]Разряды!$E$3,IF(H42<=[1]Разряды!$F$4,[1]Разряды!$F$3,IF(H42<=[1]Разряды!$G$4,[1]Разряды!$G$3,IF(H42<=[1]Разряды!$H$4,[1]Разряды!$H$3,IF(H42<=[1]Разряды!$I$4,[1]Разряды!$I$3,IF(H42<=[1]Разряды!$J$4,[1]Разряды!$J$3,"б/р")))))))) -> 3р | L42: 0 | M42: =IF(B42=0," ",VLOOKUP($B42,[1]Спортсмены!$B$1:$H$65536,7,FALSE)) -> Рыбаков В.Ю.
A43: 32 | B43: 81 | C43: =IF(B43=0," ",VLOOKUP(B43,[1]Спортсмены!B$1:H$65536,2,FALSE)) -> Соловьев Даниил | D43: =IF(B43=0," ",VLOOKUP($B43,[1]Спортсмены!$B$1:$H$65536,3,FALSE)) -> 02.06.1999 | E43: =IF(B43=0," ",IF(VLOOKUP($B43,[1]Спортсмены!$B$1:$H$65536,4,FALSE)=0," ",VLOOKUP($B43,[1]Спортсмены!$B$1:$H$65536,4,FALSE))) -> 2р | F43: =IF(B43=0," ",VLOOKUP($B43,[1]Спортсмены!$B$1:$H$65536,5,FALSE)) -> Ивановская область | G43: =IF(B43=0," ",VLOOKUP($B43,[1]Спортсмены!$B$1:$H$65536,6,FALSE)) -> Иваново, ИГСХА им. Д.К. Беляева | H43: 0.00014074074 | K43: =IF(H43=0," ",IF(H43<=[1]Разряды!$D$4,[1]Разряды!$D$3,IF(H43<=[1]Разряды!$E$4,[1]Разряды!$E$3,IF(H43<=[1]Разряды!$F$4,[1]Разряды!$F$3,IF(H43<=[1]Разряды!$G$4,[1]Разряды!$G$3,IF(H43<=[1]Разряды!$H$4,[1]Разряды!$H$3,IF(H43<=[1]Разряды!$I$4,[1]Разряды!$I$3,IF(H43<=[1]Разряды!$J$4,[1]Разряды!$J$3,"б/р")))))))) -> 3р | L43: 0 | M43: =IF(B43=0," ",VLOOKUP($B43,[1]Спортсмены!$B$1:$H$65536,7,FALSE)) -> Левичева М.Б.
A44: 33 | B44: 24 | C44: =IF(B44=0," ",VLOOKUP(B44,[1]Спортсмены!B$1:H$65536,2,FALSE)) -> Балашов Михаил | D44: =IF(B44=0," ",VLOOKUP($B44,[1]Спортсмены!$B$1:$H$65536,3,FALSE)) -> 28.05.1997 | E44: =IF(B44=0," ",IF(VLOOKUP($B44,[1]Спортсмены!$B$1:$H$65536,4,FALSE)=0," ",VLOOKUP($B44,[1]Спортсмены!$B$1:$H$65536,4,FALSE))) -> 2р | F44: =IF(B44=0," ",VLOOKUP($B44,[1]Спортсмены!$B$1:$H$65536,5,FALSE)) -> Ярославская область | G44: =IF(B44=0," ",VLOOKUP($B44,[1]Спортсмены!$B$1:$H$65536,6,FALSE)) -> Ярославль, ЯрГУ им. П.Г. Демидова | H44: 0.00014965278 | K44: =IF(H44=0," ",IF(H44<=[1]Разряды!$D$4,[1]Разряды!$D$3,IF(H44<=[1]Разряды!$E$4,[1]Разряды!$E$3,IF(H44<=[1]Разряды!$F$4,[1]Разряды!$F$3,IF(H44<=[1]Разряды!$G$4,[1]Разряды!$G$3,IF(H44<=[1]Разряды!$H$4,[1]Разряды!$H$3,IF(H44<=[1]Разряды!$I$4,[1]Разряды!$I$3,IF(H44<=[1]Разряды!$J$4,[1]Разряды!$J$3,"б/р")))))))) -> 1юр | L44: 0 | M44: =IF(B44=0," ",VLOOKUP($B44,[1]Спортсмены!$B$1:$H$65536,7,FALSE)) -> Станкевич В.А.
B45: 49 | C45: =IF(B45=0," ",VLOOKUP(B45,[1]Спортсмены!B$1:H$65536,2,FALSE)) -> Новожилов Дмитрий | D45: =IF(B45=0," ",VLOOKUP($B45,[1]Спортсмены!$B$1:$H$65536,3,FALSE)) -> 27.06.1996 | E45: =IF(B45=0," ",IF(VLOOKUP($B45,[1]Спортсмены!$B$1:$H$65536,4,FALSE)=0," ",VLOOKUP($B45,[1]Спортсмены!$B$1:$H$65536,4,FALSE))) -> 1р | F45: =IF(B45=0," ",VLOOKUP($B45,[1]Спортсмены!$B$1:$H$65536,5,FALSE)) -> Новгородская область | G45: =IF(B45=0," ",VLOOKUP($B45,[1]Спортсмены!$B$1:$H$65536,6,FALSE)) -> Великий Новгород, НовГУ им. Ярослава Мудрого | H45: DQ п.п. 162.7 | L45: 0 | M45: =IF(B45=0," ",VLOOKUP($B45,[1]Спортсмены!$B$1:$H$65536,7,FALSE)) -> Савенков П.А.
C46: =IF(B46=0," ",VLOOKUP(B46,[1]Спортсмены!B$1:H$65536,2,FALSE)) | D46: =IF(B46=0," ",VLOOKUP($B46,[1]Спортсмены!$B$1:$H$65536,3,FALSE)) | E46: =IF(B46=0," ",IF(VLOOKUP($B46,[1]Спортсмены!$B$1:$H$65536,4,FALSE)=0," ",VLOOKUP($B46,[1]Спортсмены!$B$1:$H$65536,4,FALSE))) | F46: =IF(B46=0," ",VLOOKUP($B46,[1]Спортсмены!$B$1:$H$65536,5,FALSE)) | G46: =IF(B46=0," ",VLOOKUP($B46,[1]Спортсмены!$B$1:$H$65536,6,FALSE)) | M46: =IF(B46=0," ",VLOOKUP($B46,[1]Спортсмены!$B$1:$H$65536,7,FALSE))
B48: Главный судья, спортивный судья ВК | G48: Хрущев Е.Н., г. Ярославль
B50: Главный секретарь, спортивный судья ВК | G50: Тараканова Ю.Ф., г. Ярославль

Sheet 200м
A1: Чемпионат Российского студенческого спортивного союза
A2: мужчины и женщины
L3: 27-28 июня 2019 г.
K4: стадион "Шинник"
L5: г. Ярославль
D6: 12.07.2017г. | E6: 0.50347222 | F6: Забеги | H6: ПРОТОКОЛ СОРЕВНОВАНИЙ
D7: 12.07.2017г. | E7: 0.54861111 | F7: Финал
C8: Мужчины | D8: Бег 200м
A9: Место | B9: Номер | C9: Фамилия, имя | D9: Дата рожд. | E9: Квал. | F9: Команда | G9: ВУЗ | H9: Результат | J9: Вып. разр. | K9: Очки | L9: Ф.И.О. тренера
H10: забеги | I10: финал
A11: 1 | B11: 257 | C11: =IF(B11=0," ",VLOOKUP(B11,[1]Спортсмены!B$1:H$65536,2,FALSE)) -> Арасланов Артем | D11: =IF(B11=0," ",VLOOKUP($B11,[1]Спортсмены!$B$1:$H$65536,3,FALSE)) -> 25.07.1994 | E11: =IF(B11=0," ",IF(VLOOKUP($B11,[1]Спортсмены!$B$1:$H$65536,4,FALSE)=0," ",VLOOKUP($B11,[1]Спортсмены!$B$1:$H$65536,4,FALSE))) -> МС | F11: =IF(B11=0," ",VLOOKUP($B11,[1]Спортсмены!$B$1:$H$65536,5,FALSE)) -> Республика Татарстан | G11: =IF(B11=0," ",VLOOKUP($B11,[1]Спортсмены!$B$1:$H$65536,6,FALSE)) -> Казань, ФГБОУ ВО ПГАФКСиТ, ВятСДЮШОР, ЦСКА | H11: 0.00025168981 | I11: 0.00024513889 | J11: мс | K11: 18+10 | L11: =IF(B11=0," ",VLOOKUP($B11,[1]Спортсмены!$B$1:$H$65536,7,FALSE)) -> Бородовицын С.Н., Сырцев В.В., Вдовин М.В.
A12: 2 | B12: 352 | C12: =IF(B12=0," ",VLOOKUP(B12,[1]Спортсмены!B$1:H$65536,2,FALSE)) -> Ежов Иван | D12: =IF(B12=0," ",VLOOKUP($B12,[1]Спортсмены!$B$1:$H$65536,3,FALSE)) -> 01.06.1999 | E12: =IF(B12=0," ",IF(VLOOKUP($B12,[1]Спортсмены!$B$1:$H$65536,4,FALSE)=0," ",VLOOKUP($B12,[1]Спортсмены!$B$1:$H$65536,4,FALSE))) -> КМС | F12: =IF(B12=0," ",VLOOKUP($B12,[1]Спортсмены!$B$1:$H$65536,5,FALSE)) -> Пензенская область | G12: =IF(B12=0," ",VLOOKUP($B12,[1]Спортсмены!$B$1:$H$65536,6,FALSE)) -> Пенза, ПензГУ | H12: 0.00025171296 | I12: 0.00025011574 | J12: =IF(H12=0," ",IF(H12<=[1]Разряды!$D$5,[1]Разряды!$D$3,IF(H12<=[1]Разряды!$E$5,[1]Разряды!$E$3,IF(H12<=[1]Разряды!$F$5,[1]Разряды!$F$3,IF(H12<=[1]Разряды!$G$5,[1]Разряды!$G$3,IF(H12<=[1]Разряды!$H$5,[1]Разряды!$H$3,IF(H12<=[1]Разряды!$I$5,[1]Разряды!$I$3,IF(H12<=[1]Разряды!$J$5,[1]Разряды!$J$3,"б/р")))))))) -> кмс | K12: 15+5 | L12: =IF(B12=0," ",VLOOKUP($B12,[1]Спортсмены!$B$1:$H$65536,7,FALSE)) -> Новокшанов Б.В., Каташовы С.Н., С.Д.
A13: 3 | B13: 57 | C13: =IF(B13=0," ",VLOOKUP(B13,[1]Спортсмены!B$1:H$65536,2,FALSE)) -> Пивоваров Даниил | D13: =IF(B13=0," ",VLOOKUP($B13,[1]Спортсмены!$B$1:$H$65536,3,FALSE)) -> 13.04.1999 | E13: =IF(B13=0," ",IF(VLOOKUP($B13,[1]Спортсмены!$B$1:$H$65536,4,FALSE)=0," ",VLOOKUP($B13,[1]Спортсмены!$B$1:$H$65536,4,FALSE))) -> КМС | F13: =IF(B13=0," ",VLOOKUP($B13,[1]Спортсмены!$B$1:$H$65536,5,FALSE)) -> Республика Татарстан | G13: =IF(B13=0," ",VLOOKUP($B13,[1]Спортсмены!$B$1:$H$65536,6,FALSE)) -> Казань, ФГБОУ ВО ПГАФКСиТ | H13: 0.00025335648 | I13: 0.00025185185 | J13: =IF(H13=0," ",IF(H13<=[1]Разряды!$D$5,[1]Разряды!$D$3,IF(H13<=[1]Разряды!$E$5,[1]Разряды!$E$3,IF(H13<=[1]Разряды!$F$5,[1]Разряды!$F$3,IF(H13<=[1]Разряды!$G$5,[1]Разряды!$G$3,IF(H13<=[1]Разряды!$H$5,[1]Разряды!$H$3,IF(H13<=[1]Разряды!$I$5,[1]Разряды!$I$3,IF(H13<=[1]Разряды!$J$5,[1]Разряды!$J$3,"б/р")))))))) -> кмс | K13: 13+5 | L13: =IF(B13=0," ",VLOOKUP($B13,[1]Спортсмены!$B$1:$H$65536,7,FALSE)) -> Захарчук Д.Г.
A14: 4 | B14: 124 | C14: =IF(B14=0," ",VLOOKUP(B14,[1]Спортсмены!B$1:H$65536,2,FALSE)) -> Орлов Константин | D14: =IF(B14=0," ",VLOOKUP($B14,[1]Спортсмены!$B$1:$H$65536,3,FALSE)) -> 01.12.1998 | E14: =IF(B14=0," ",IF(VLOOKUP($B14,[1]Спортсмены!$B$1:$H$65536,4,FALSE)=0," ",VLOOKUP($B14,[1]Спортсмены!$B$1:$H$65536,4,FALSE))) -> КМС | F14: =IF(B14=0," ",VLOOKUP($B14,[1]Спортсмены!$B$1:$H$65536,5,FALSE)) -> Республика Чувашии | G14: =IF(B14=0," ",VLOOKUP($B14,[1]Спортсмены!$B$1:$H$65536,6,FALSE)) -> Чебоксары, ЧГПУ им. И.Я. Яковлева | H14: 0.00025416667 | I14: 0.00025381944 | J14: =IF(H14=0," ",IF(H14<=[1]Разряды!$D$5,[1]Разряды!$D$3,IF(H14<=[1]Разряды!$E$5,[1]Разряды!$E$3,IF(H14<=[1]Разряды!$F$5,[1]Разряды!$F$3,IF(H14<=[1]Разряды!$G$5,[1]Разряды!$G$3,IF(H14<=[1]Разряды!$H$5,[1]Разряды!$H$3,IF(H14<=[1]Разряды!$I$5,[1]Разряды!$I$3,IF(H14<=[1]Разряды!$J$5,[1]Разряды!$J$3,"б/р")))))))) -> кмс | K14: 12+5 | L14: =IF(B14=0," ",VLOOKUP($B14,[1]Спортсмены!$B$1:$H$65536,7,FALSE)) -> Смирнов С.В.
A15: 5 | B15: 350 | C15: =IF(B15=0," ",VLOOKUP(B15,[1]Спортсмены!B$1:H$65536,2,FALSE)) -> Мельников Георгий | D15: =IF(B15=0," ",VLOOKUP($B15,[1]Спортсмены!$B$1:$H$65536,3,FALSE)) -> 17.12.1996 | E15: =IF(B15=0," ",IF(VLOOKUP($B15,[1]Спортсмены!$B$1:$H$65536,4,FALSE)=0," ",VLOOKUP($B15,[1]Спортсмены!$B$1:$H$65536,4,FALSE))) -> КМС | F15: =IF(B15=0," ",VLOOKUP($B15,[1]Спортсмены!$B$1:$H$65536,5,FALSE)) -> Пензенская область | G15: =IF(B15=0," ",VLOOKUP($B15,[1]Спортсмены!$B$1:$H$65536,6,FALSE)) -> Пенза, ПензГУ | H15: 0.00025532407 | I15: 0.00025439815 | J15: =IF(H15=0," ",IF(H15<=[1]Разряды!$D$5,[1]Разряды!$D$3,IF(H15<=[1]Разряды!$E$5,[1]Разряды!$E$3,IF(H15<=[1]Разряды!$F$5,[1]Разряды!$F$3,IF(H15<=[1]Разряды!$G$5,[1]Разряды!$G$3,IF(H15<=[1]Разряды!$H$5,[1]Разряды!$H$3,IF(H15<=[1]Разряды!$I$5,[1]Разряды!$I$3,IF(H15<=[1]Разряды!$J$5,[1]Разряды!$J$3,"б/р")))))))) -> кмс | K15: 11+5 | L15: =IF(B15=0," ",VLOOKUP($B15,[1]Спортсмены!$B$1:$H$65536,7,FALSE)) -> Новокшанов Б.В.,Болтов Л.В.
A16: 6 | B16: 211 | C16: =IF(B16=0," ",VLOOKUP(B16,[1]Спортсмены!B$1:H$65536,2,FALSE)) -> Сидоров Андрей | D16: =IF(B16=0," ",VLOOKUP($B16,[1]Спортсмены!$B$1:$H$65536,3,FALSE)) -> 18.11.1996 | E16: =IF(B16=0," ",IF(VLOOKUP($B16,[1]Спортсмены!$B$1:$H$65536,4,FALSE)=0," ",VLOOKUP($B16,[1]Спортсмены!$B$1:$H$65536,4,FALSE))) -> КМС | F16: =IF(B16=0," ",VLOOKUP($B16,[1]Спортсмены!$B$1:$H$65536,5,FALSE)) -> Республика Мордовия | G16: =IF(B16=0," ",VLOOKUP($B16,[1]Спортсмены!$B$1:$H$65536,6,FALSE)) -> Саранск, ФГБОУ ВО "НИМГУ им. Н.П. Огарева" | H16: 0.00025439815 | I16: 0.00025590278 | J16: =IF(H16=0," ",IF(H16<=[1]Разряды!$D$5,[1]Разряды!$D$3,IF(H16<=[1]Разряды!$E$5,[1]Разряды!$E$3,IF(H16<=[1]Разряды!$F$5,[1]Разряды!$F$3,IF(H16<=[1]Разряды!$G$5,[1]Разряды!$G$3,IF(H16<=[1]Разряды!$H$5,[1]Разряды!$H$3,IF(H16<=[1]Разряды!$I$5,[1]Разряды!$I$3,IF(H16<=[1]Разряды!$J$5,[1]Разряды!$J$3,"б/р")))))))) -> кмс | K16: 10+5 | L16: =IF(B16=0," ",VLOOKUP($B16,[1]Спортсмены!$B$1:$H$65536,7,FALSE)) -> Забродин Р.
A17: 7 | B17: 99 | C17: =IF(B17=0," ",VLOOKUP(B17,[1]Спортсмены!B$1:H$65536,2,FALSE)) -> Фролов Павел | D17: =IF(B17=0," ",VLOOKUP($B17,[1]Спортсмены!$B$1:$H$65536,3,FALSE)) -> 30.05.1999 | E17: =IF(B17=0," ",IF(VLOOKUP($B17,[1]Спортсмены!$B$1:$H$65536,4,FALSE)=0," ",VLOOKUP($B17,[1]Спортсмены!$B$1:$H$65536,4,FALSE))) -> КМС | F17: =IF(B17=0," ",VLOOKUP($B17,[1]Спортсмены!$B$1:$H$65536,5,FALSE)) -> Пензенская область | G17: =IF(B17=0," ",VLOOKUP($B17,[1]Спортсмены!$B$1:$H$65536,6,FALSE)) -> Пенза, ПензГУ | H17: 0.00025949074 | I17: 0.00026261574 | J17: =IF(H17=0," ",IF(H17<=[1]Разряды!$D$5,[1]Разряды!$D$3,IF(H17<=[1]Разряды!$E$5,[1]Разряды!$E$3,IF(H17<=[1]Разряды!$F$5,[1]Разряды!$F$3,IF(H17<=[1]Разряды!$G$5,[1]Разряды!$G$3,IF(H17<=[1]Разряды!$H$5,[1]Разряды!$H$3,IF(H17<=[1]Разряды!$I$5,[1]Разряды!$I$3,IF(H17<=[1]Разряды!$J$5,[1]Разряды!$J$3,"б/р")))))))) -> 1р | K17: 9 | L17: =IF(B17=0," ",VLOOKUP($B17,[1]Спортсмены!$B$1:$H$65536,7,FALSE)) -> Кораблев В.В.
A18: 8 | B18: 43 | C18: =IF(B18=0," ",VLOOKUP(B18,[1]Спортсмены!B$1:H$65536,2,FALSE)) -> Рожнов Артем | D18: =IF(B18=0," ",VLOOKUP($B18,[1]Спортсмены!$B$1:$H$65536,3,FALSE)) -> 03.03.1998 | E18: =IF(B18=0," ",IF(VLOOKUP($B18,[1]Спортсмены!$B$1:$H$65536,4,FALSE)=0," ",VLOOKUP($B18,[1]Спортсмены!$B$1:$H$65536,4,FALSE))) -> КМС | F18: =IF(B18=0," ",VLOOKUP($B18,[1]Спортсмены!$B$1:$H$65536,5,FALSE)) -> Тульская область | G18: =IF(B18=0," ",VLOOKUP($B18,[1]Спортсмены!$B$1:$H$65536,6,FALSE)) -> Тула, ТулГУ | H18: 0.00025532407 | I18: r|med | J18: =IF(H18=0," ",IF(H18<=[1]Разряды!$D$5,[1]Разряды!$D$3,IF(H18<=[1]Разряды!$E$5,[1]Разряды!$E$3,IF(H18<=[1]Разряды!$F$5,[1]Разряды!$F$3,IF(H18<=[1]Разряды!$G$5,[1]Разряды!$G$3,IF(H18<=[1]Разряды!$H$5,[1]Разряды!$H$3,IF(H18<=[1]Разряды!$I$5,[1]Разряды!$I$3,IF(H18<=[1]Разряды!$J$5,[1]Разряды!$J$3,"б/р")))))))) -> кмс | K18: 8+5 | L18: =IF(B18=0," ",VLOOKUP($B18,[1]Спортсмены!$B$1:$H$65536,7,FALSE)) -> Веселова С.Ю., Ковтун Н.Н.
A19: 9 | B19: 115 | C19: =IF(B19=0," ",VLOOKUP(B19,[1]Спортсмены!B$1:H$65536,2,FALSE)) -> Колесник Дмитрий | D19: =IF(B19=0," ",VLOOKUP($B19,[1]Спортсмены!$B$1:$H$65536,3,FALSE)) -> 26.05.1998 | E19: =IF(B19=0," ",IF(VLOOKUP($B19,[1]Спортсмены!$B$1:$H$65536,4,FALSE)=0," ",VLOOKUP($B19,[1]Спортсмены!$B$1:$H$65536,4,FALSE))) -> КМС | F19: =IF(B19=0," ",VLOOKUP($B19,[1]Спортсмены!$B$1:$H$65536,5,FALSE)) -> Ярославская область | G19: =IF(B19=0," ",VLOOKUP($B19,[1]Спортсмены!$B$1:$H$65536,6,FALSE)) -> Ярославль, ЯВВУ ПВО | H19: 0.00026018519 | J19: =IF(H19=0," ",IF(H19<=[1]Разряды!$D$5,[1]Разряды!$D$3,IF(H19<=[1]Разряды!$E$5,[1]Разряды!$E$3,IF(H19<=[1]Разряды!$F$5,[1]Разряды!$F$3,IF(H19<=[1]Разряды!$G$5,[1]Разряды!$G$3,IF(H19<=[1]Разряды!$H$5,[1]Разряды!$H$3,IF(H19<=[1]Разряды!$I$5,[1]Разряды!$I$3,IF(H19<=[1]Разряды!$J$5,[1]Разряды!$J$3,"б/р")))))))) -> 1р | K19: л | L19: =IF(B19=0," ",VLOOKUP($B19,[1]Спортсмены!$B$1:$H$65536,7,FALSE)) -> Таракановы Ю.Ф., А.В., Круговой К.Н.
A20: 10 | B20: 63 | C20: =IF(B20=0," ",VLOOKUP(B20,[1]Спортсмены!B$1:H$65536,2,FALSE)) -> Неверов Илья | D20: =IF(B20=0," ",VLOOKUP($B20,[1]Спортсмены!$B$1:$H$65536,3,FALSE)) -> 03.03.2000 | E20: =IF(B20=0," ",IF(VLOOKUP($B20,[1]Спортсмены!$B$1:$H$65536,4,FALSE)=0," ",VLOOKUP($B20,[1]Спортсмены!$B$1:$H$65536,4,FALSE))) -> 1р | F20: =IF(B20=0," ",VLOOKUP($B20,[1]Спортсмены!$B$1:$H$65536,5,FALSE)) -> Архангельская область | G20: =IF(B20=0," ",VLOOKUP($B20,[1]Спортсмены!$B$1:$H$65536,6,FALSE)) -> Архангельск, САФУ им. М.В. Ломоносова | H20: 0.00026053241 | J20: =IF(H20=0," ",IF(H20<=[1]Разряды!$D$5,[1]Разряды!$D$3,IF(H20<=[1]Разряды!$E$5,[1]Разряды!$E$3,IF(H20<=[1]Разряды!$F$5,[1]Разряды!$F$3,IF(H20<=[1]Разряды!$G$5,[1]Разряды!$G$3,IF(H20<=[1]Разряды!$H$5,[1]Разряды!$H$3,IF(H20<=[1]Разряды!$I$5,[1]Разряды!$I$3,IF(H20<=[1]Разряды!$J$5,[1]Разряды!$J$3,"б/р")))))))) -> 1р | K20: 7 | L20: =IF(B20=0," ",VLOOKUP($B20,[1]Спортсмены!$B$1:$H$65536,7,FALSE)) -> Бородулин А.М., Литвененко А.И.
A21: 11 | B21: 280 | C21: =IF(B21=0," ",VLOOKUP(B21,[1]Спортсмены!B$1:H$65536,2,FALSE)) -> Дуркин Никита | D21: =IF(B21=0," ",VLOOKUP($B21,[1]Спортсмены!$B$1:$H$65536,3,FALSE)) -> 18.07.1995 | E21: =IF(B21=0," ",IF(VLOOKUP($B21,[1]Спортсмены!$B$1:$H$65536,4,FALSE)=0," ",VLOOKUP($B21,[1]Спортсмены!$B$1:$H$65536,4,FALSE))) -> 1р | F21: =IF(B21=0," ",VLOOKUP($B21,[1]Спортсмены!$B$1:$H$65536,5,FALSE)) -> Архангельская область | G21: =IF(B21=0," ",VLOOKUP($B21,[1]Спортсмены!$B$1:$H$65536,6,FALSE)) -> Архангельск, САФУ им. М.В. Ломоносова | H21: 0.00026180556 | J21: =IF(H21=0," ",IF(H21<=[1]Разряды!$D$5,[1]Разряды!$D$3,IF(H21<=[1]Разряды!$E$5,[1]Разряды!$E$3,IF(H21<=[1]Разряды!$F$5,[1]Разряды!$F$3,IF(H21<=[1]Разряды!$G$5,[1]Разряды!$G$3,IF(H21<=[1]Разряды!$H$5,[1]Разряды!$H$3,IF(H21<=[1]Разряды!$I$5,[1]Разряды!$I$3,IF(H21<=[1]Разряды!$J$5,[1]Разряды!$J$3,"б/р")))))))) -> 1р | K21: 6 | L21: =IF(B21=0," ",VLOOKUP($B21,[1]Спортсмены!$B$1:$H$65536,7,FALSE)) -> Мингалев А.Ю., Мингалева А.Г.
A22: 12 | B22: 80 | C22: =IF(B22=0," ",VLOOKUP(B22,[1]Спортсмены!B$1:H$65536,2,FALSE)) -> Гребнев Иван | D22: =IF(B22=0," ",VLOOKUP($B22,[1]Спортсмены!$B$1:$H$65536,3,FALSE)) -> 11.01.1996 | E22: =IF(B22=0," ",IF(VLOOKUP($B22,[1]Спортсмены!$B$1:$H$65536,4,FALSE)=0," ",VLOOKUP($B22,[1]Спортсмены!$B$1:$H$65536,4,FALSE))) -> КМС | F22: =IF(B22=0," ",VLOOKUP($B22,[1]Спортсмены!$B$1:$H$65536,5,FALSE)) -> Ивановская область | G22: =IF(B22=0," ",VLOOKUP($B22,[1]Спортсмены!$B$1:$H$65536,6,FALSE)) -> Иваново, ИГСХА им. Д.К. Беляева | H22: 0.00026180556 | J22: =IF(H22=0," ",IF(H22<=[1]Разряды!$D$5,[1]Разряды!$D$3,IF(H22<=[1]Разряды!$E$5,[1]Разряды!$E$3,IF(H22<=[1]Разряды!$F$5,[1]Разряды!$F$3,IF(H22<=[1]Разряды!$G$5,[1]Разряды!$G$3,IF(H22<=[1]Разряды!$H$5,[1]Разряды!$H$3,IF(H22<=[1]Разряды!$I$5,[1]Разряды!$I$3,IF(H22<=[1]Разряды!$J$5,[1]Разряды!$J$3,"б/р")))))))) -> 1р | K22: 5 | L22: =IF(B22=0," ",VLOOKUP($B22,[1]Спортсмены!$B$1:$H$65536,7,FALSE)) -> Левичева М.Б.
A23: 12 | B23: 34 | C23: =IF(B23=0," ",VLOOKUP(B23,[1]Спортсмены!B$1:H$65536,2,FALSE)) -> Корчагин Дмитрий | D23: =IF(B23=0," ",VLOOKUP($B23,[1]Спортсмены!$B$1:$H$65536,3,FALSE)) -> 11.05.1997 | E23: =IF(B23=0," ",IF(VLOOKUP($B23,[1]Спортсмены!$B$1:$H$65536,4,FALSE)=0," ",VLOOKUP($B23,[1]Спортсмены!$B$1:$H$65536,4,FALSE))) -> КМС | F23: =IF(B23=0," ",VLOOKUP($B23,[1]Спортсмены!$B$1:$H$65536,5,FALSE)) -> Красноярский край | G23: =IF(B23=0," ",VLOOKUP($B23,[1]Спортсмены!$B$1:$H$65536,6,FALSE)) -> Красноярск, СФУ | H23: 0.0002630787 | J23: =IF(H23=0," ",IF(H23<=[1]Разряды!$D$5,[1]Разряды!$D$3,IF(H23<=[1]Разряды!$E$5,[1]Разряды!$E$3,IF(H23<=[1]Разряды!$F$5,[1]Разряды!$F$3,IF(H23<=[1]Разряды!$G$5,[1]Разряды!$G$3,IF(H23<=[1]Разряды!$H$5,[1]Разряды!$H$3,IF(H23<=[1]Разряды!$I$5,[1]Разряды!$I$3,IF(H23<=[1]Разряды!$J$5,[1]Разряды!$J$3,"б/р")))))))) -> 1р | K23: 4 | L23: =IF(B23=0," ",VLOOKUP($B23,[1]Спортсмены!$B$1:$H$65536,7,FALSE)) -> Непомнящих О.А.
A24: 14 | B24: 274 | C24: =IF(B24=0," ",VLOOKUP(B24,[1]Спортсмены!B$1:H$65536,2,FALSE)) -> Соколов Павел | D24: =IF(B24=0," ",VLOOKUP($B24,[1]Спортсмены!$B$1:$H$65536,3,FALSE)) -> 22.08.1999 | E24: =IF(B24=0," ",IF(VLOOKUP($B24,[1]Спортсмены!$B$1:$H$65536,4,FALSE)=0," ",VLOOKUP($B24,[1]Спортсмены!$B$1:$H$65536,4,FALSE))) -> КМС | F24: =IF(B24=0," ",VLOOKUP($B24,[1]Спортсмены!$B$1:$H$65536,5,FALSE)) -> Ивановская область | G24: =IF(B24=0," ",VLOOKUP($B24,[1]Спортсмены!$B$1:$H$65536,6,FALSE)) -> Иваново, ИГЭУ им. В.И. Ленина | H24: 0.00026377315 | J24: =IF(H24=0," ",IF(H24<=[1]Разряды!$D$5,[1]Разряды!$D$3,IF(H24<=[1]Разряды!$E$5,[1]Разряды!$E$3,IF(H24<=[1]Разряды!$F$5,[1]Разряды!$F$3,IF(H24<=[1]Разряды!$G$5,[1]Разряды!$G$3,IF(H24<=[1]Разряды!$H$5,[1]Разряды!$H$3,IF(H24<=[1]Разряды!$I$5,[1]Разряды!$I$3,IF(H24<=[1]Разряды!$J$5,[1]Разряды!$J$3,"б/р")))))))) -> 1р | K24: 3 | L24: =IF(B24=0," ",VLOOKUP($B24,[1]Спортсмены!$B$1:$H$65536,7,FALSE)) -> Гильмутдинов Ю.В., Малкова И.В.
A25: 15 | B25: 49 | C25: =IF(B25=0," ",VLOOKUP(B25,[1]Спортсмены!B$1:H$65536,2,FALSE)) -> Новожилов Дмитрий | D25: =IF(B25=0," ",VLOOKUP($B25,[1]Спортсмены!$B$1:$H$65536,3,FALSE)) -> 27.06.1996 | E25: =IF(B25=0," ",IF(VLOOKUP($B25,[1]Спортсмены!$B$1:$H$65536,4,FALSE)=0," ",VLOOKUP($B25,[1]Спортсмены!$B$1:$H$65536,4,FALSE))) -> 1р | F25: =IF(B25=0," ",VLOOKUP($B25,[1]Спортсмены!$B$1:$H$65536,5,FALSE)) -> Новгородская область | G25: =IF(B25=0," ",VLOOKUP($B25,[1]Спортсмены!$B$1:$H$65536,6,FALSE)) -> Великий Новгород, НовГУ им. Ярослава Мудрого | H25: 0.0002650463 | J25: =IF(H25=0," ",IF(H25<=[1]Разряды!$D$5,[1]Разряды!$D$3,IF(H25<=[1]Разряды!$E$5,[1]Разряды!$E$3,IF(H25<=[1]Разряды!$F$5,[1]Разряды!$F$3,IF(H25<=[1]Разряды!$G$5,[1]Разряды!$G$3,IF(H25<=[1]Разряды!$H$5,[1]Разряды!$H$3,IF(H25<=[1]Разряды!$I$5,[1]Разряды!$I$3,IF(H25<=[1]Разряды!$J$5,[1]Разряды!$J$3,"б/р")))))))) -> 1р | K25: 2 | L25: =IF(B25=0," ",VLOOKUP($B25,[1]Спортсмены!$B$1:$H$65536,7,FALSE)) -> Савенков П.А.
A26: 16 | B26: 75 | C26: =IF(B26=0," ",VLOOKUP(B26,[1]Спортсмены!B$1:H$65536,2,FALSE)) -> Щербаков Евгений | D26: =IF(B26=0," ",VLOOKUP($B26,[1]Спортсмены!$B$1:$H$65536,3,FALSE)) -> 30.04.1999 | E26: =IF(B26=0," ",IF(VLOOKUP($B26,[1]Спортсмены!$B$1:$H$65536,4,FALSE)=0," ",VLOOKUP($B26,[1]Спортсмены!$B$1:$H$65536,4,FALSE))) -> 1р | F26: =IF(B26=0," ",VLOOKUP($B26,[1]Спортсмены!$B$1:$H$65536,5,FALSE)) -> Пермский край | G26: =IF(B26=0," ",VLOOKUP($B26,[1]Спортсмены!$B$1:$H$65536,6,FALSE)) -> Пермь, ПНИПУ с/к "Политехник" | H26: 0.00026574074 | J26: =IF(H26=0," ",IF(H26<=[1]Разряды!$D$5,[1]Разряды!$D$3,IF(H26<=[1]Разряды!$E$5,[1]Разряды!$E$3,IF(H26<=[1]Разряды!$F$5,[1]Разряды!$F$3,IF(H26<=[1]Разряды!$G$5,[1]Разряды!$G$3,IF(H26<=[1]Разряды!$H$5,[1]Разряды!$H$3,IF(H26<=[1]Разряды!$I$5,[1]Разряды!$I$3,IF(H26<=[1]Разряды!$J$5,[1]Разряды!$J$3,"б/р")))))))) -> 1р | K26: 1 | L26: =IF(B26=0," ",VLOOKUP($B26,[1]Спортсмены!$B$1:$H$65536,7,FALSE)) -> Гладков В.П.
A27: 17 | B27: 45 | C27: =IF(B27=0," ",VLOOKUP(B27,[1]Спортсмены!B$1:H$65536,2,FALSE)) -> Никулкин Александр | D27: =IF(B27=0," ",VLOOKUP($B27,[1]Спортсмены!$B$1:$H$65536,3,FALSE)) -> 04.11.1995 | E27: =IF(B27=0," ",IF(VLOOKUP($B27,[1]Спортсмены!$B$1:$H$65536,4,FALSE)=0," ",VLOOKUP($B27,[1]Спортсмены!$B$1:$H$65536,4,FALSE))) -> КМС | F27: =IF(B27=0," ",VLOOKUP($B27,[1]Спортсмены!$B$1:$H$65536,5,FALSE)) -> Пензенская область | G27: =IF(B27=0," ",VLOOKUP($B27,[1]Спортсмены!$B$1:$H$65536,6,FALSE)) -> Пенза, ПензГТУ | H27: 0.0002662037 | J27: =IF(H27=0," ",IF(H27<=[1]Разряды!$D$5,[1]Разряды!$D$3,IF(H27<=[1]Разряды!$E$5,[1]Разряды!$E$3,IF(H27<=[1]Разряды!$F$5,[1]Разряды!$F$3,IF(H27<=[1]Разряды!$G$5,[1]Разряды!$G$3,IF(H27<=[1]Разряды!$H$5,[1]Разряды!$H$3,IF(H27<=[1]Разряды!$I$5,[1]Разряды!$I$3,IF(H27<=[1]Разряды!$J$5,[1]Разряды!$J$3,"б/р")))))))) -> 1р | K27: 1 | L27: =IF(B27=0," ",VLOOKUP($B27,[1]Спортсмены!$B$1:$H$65536,7,FALSE)) -> Гарынов А.А.
A28: 18 | B28: 62 | C28: =IF(B28=0," ",VLOOKUP(B28,[1]Спортсмены!B$1:H$65536,2,FALSE)) -> Щербаков Кирилл | D28: =IF(B28=0," ",VLOOKUP($B28,[1]Спортсмены!$B$1:$H$65536,3,FALSE)) -> 28.08.2000 | E28: =IF(B28=0," ",IF(VLOOKUP($B28,[1]Спортсмены!$B$1:$H$65536,4,FALSE)=0," ",VLOOKUP($B28,[1]Спортсмены!$B$1:$H$65536,4,FALSE))) -> КМС | F28: =IF(B28=0," ",VLOOKUP($B28,[1]Спортсмены!$B$1:$H$65536,5,FALSE)) -> Ивановская область | G28: =IF(B28=0," ",VLOOKUP($B28,[1]Спортсмены!$B$1:$H$65536,6,FALSE)) -> Иваново, ИГЭУ им. В.И. Ленина | H28: 0.00026678241 | J28: =IF(H28=0," ",IF(H28<=[1]Разряды!$D$5,[1]Разряды!$D$3,IF(H28<=[1]Разряды!$E$5,[1]Разряды!$E$3,IF(H28<=[1]Разряды!$F$5,[1]Разряды!$F$3,IF(H28<=[1]Разряды!$G$5,[1]Разряды!$G$3,IF(H28<=[1]Разряды!$H$5,[1]Разряды!$H$3,IF(H28<=[1]Разряды!$I$5,[1]Разряды!$I$3,IF(H28<=[1]Разряды!$J$5,[1]Разряды!$J$3,"б/р")))))))) -> 1р | K28: 1 | L28: =IF(B28=0," ",VLOOKUP($B28,[1]Спортсмены!$B$1:$H$65536,7,FALSE)) -> Гильмутдинов Ю.В., Кашникова Т.А.
A29: 19 | B29: 70 | C29: =IF(B29=0," ",VLOOKUP(B29,[1]Спортсмены!B$1:H$65536,2,FALSE)) -> Кипелкин Иван | D29: =IF(B29=0," ",VLOOKUP($B29,[1]Спортсмены!$B$1:$H$65536,3,FALSE)) -> 28.01.1997 | E29: =IF(B29=0," ",IF(VLOOKUP($B29,[1]Спортсмены!$B$1:$H$65536,4,FALSE)=0," ",VLOOKUP($B29,[1]Спортсмены!$B$1:$H$65536,4,FALSE))) -> КМС | F29: =IF(B29=0," ",VLOOKUP($B29,[1]Спортсмены!$B$1:$H$65536,5,FALSE)) -> Нижегородская область | G29: =IF(B29=0," ",VLOOKUP($B29,[1]Спортсмены!$B$1:$H$65536,6,FALSE)) -> Нижний Новгород, ННГУ им. Н.И. Лобачевского | H29: 0.00026712963 | J29: =IF(H29=0," ",IF(H29<=[1]Разряды!$D$5,[1]Разряды!$D$3,IF(H29<=[1]Разряды!$E$5,[1]Разряды!$E$3,IF(H29<=[1]Разряды!$F$5,[1]Разряды!$F$3,IF(H29<=[1]Разряды!$G$5,[1]Разряды!$G$3,IF(H29<=[1]Разряды!$H$5,[1]Разряды!$H$3,IF(H29<=[1]Разряды!$I$5,[1]Разряды!$I$3,IF(H29<=[1]Разряды!$J$5,[1]Разряды!$J$3,"б/р")))))))) -> 1р | K29: 1 | L29: =IF(B29=0," ",VLOOKUP($B29,[1]Спортсмены!$B$1:$H$65536,7,FALSE)) -> Ясницкий Н.В.
A30: 20 | B30: 215 | C30: =IF(B30=0," ",VLOOKUP(B30,[1]Спортсмены!B$1:H$65536,2,FALSE)) -> Куркин Евгений | D30: =IF(B30=0," ",VLOOKUP($B30,[1]Спортсмены!$B$1:$H$65536,3,FALSE)) -> 14.09.2000 | E30: =IF(B30=0," ",IF(VLOOKUP($B30,[1]Спортсмены!$B$1:$H$65536,4,FALSE)=0," ",VLOOKUP($B30,[1]Спортсмены!$B$1:$H$65536,4,FALSE))) -> КМС | F30: =IF(B30=0," ",VLOOKUP($B30,[1]Спортсмены!$B$1:$H$65536,5,FALSE)) -> Республика Мордовия | G30: =IF(B30=0," ",VLOOKUP($B30,[1]Спортсмены!$B$1:$H$65536,6,FALSE)) -> Саранск, ФГБОУ ВО "НИМГУ им. Н.П. Огарева" | H30: 0.00026759259 | J30: =IF(H30=0," ",IF(H30<=[1]Разряды!$D$5,[1]Разряды!$D$3,IF(H30<=[1]Разряды!$E$5,[1]Разряды!$E$3,IF(H30<=[1]Разряды!$F$5,[1]Разряды!$F$3,IF(H30<=[1]Разряды!$G$5,[1]Разряды!$G$3,IF(H30<=[1]Разряды!$H$5,[1]Разряды!$H$3,IF(H30<=[1]Разряды!$I$5,[1]Разряды!$I$3,IF(H30<=[1]Разряды!$J$5,[1]Разряды!$J$3,"б/р")))))))) -> 1р | K30: 1 | L30: =IF(B30=0," ",VLOOKUP($B30,[1]Спортсмены!$B$1:$H$65536,7,FALSE)) -> Разовы В.Н., П.И.
A31: 21 | B31: 281 | C31: =IF(B31=0," ",VLOOKUP(B31,[1]Спортсмены!B$1:H$65536,2,FALSE)) -> Якубов Фарид | D31: =IF(B31=0," ",VLOOKUP($B31,[1]Спортсмены!$B$1:$H$65536,3,FALSE)) -> 24.12.1994 | E31: =IF(B31=0," ",IF(VLOOKUP($B31,[1]Спортсмены!$B$1:$H$65536,4,FALSE)=0," ",VLOOKUP($B31,[1]Спортсмены!$B$1:$H$65536,4,FALSE))) -> 1р | F31: =IF(B31=0," ",VLOOKUP($B31,[1]Спортсмены!$B$1:$H$65536,5,FALSE)) -> Архангельская область | G31: =IF(B31=0," ",VLOOKUP($B31,[1]Спортсмены!$B$1:$H$65536,6,FALSE)) -> Архангельск, САФУ им. М.В. Ломоносова | H31: 0.00026828704 | J31: =IF(H31=0," ",IF(H31<=[1]Разряды!$D$5,[1]Разряды!$D$3,IF(H31<=[1]Разряды!$E$5,[1]Разряды!$E$3,IF(H31<=[1]Разряды!$F$5,[1]Разряды!$F$3,IF(H31<=[1]Разряды!$G$5,[1]Разряды!$G$3,IF(H31<=[1]Разряды!$H$5,[1]Разряды!$H$3,IF(H31<=[1]Разряды!$I$5,[1]Разряды!$I$3,IF(H31<=[1]Разряды!$J$5,[1]Разряды!$J$3,"б/р")))))))) -> 1р | K31: 1 | L31: =IF(B31=0," ",VLOOKUP($B31,[1]Спортсмены!$B$1:$H$65536,7,FALSE)) -> Мингалев А.Ю., Мингалева А.Г.
... A50: 40 | B50: 165 | C50: =IF(B50=0," ",VLOOKUP(B50,[1]Спортсмены!B$1:H$65536,2,FALSE)) -> Игнатов Дмитрий | D50: =IF(B50=0," ",VLOOKUP($B50,[1]Спортсмены!$B$1:$H$65536,3,FALSE)) -> 09.09.1998 | E50: =IF(B50=0," ",IF(VLOOKUP($B50,[1]Спортсмены!$B$1:$H$65536,4,FALSE)=0," ",VLOOKUP($B50,[1]Спортсмены!$B$1:$H$65536,4,FALSE))) -> 1р | F50: =IF(B50=0," ",VLOOKUP($B50,[1]Спортсмены!$B$1:$H$65536,5,FALSE)) -> Калининградская область | G50: =IF(B50=0," ",VLOOKUP($B50,[1]Спортсмены!$B$1:$H$65536,6,FALSE)) -> Калининград, КГТУ-БГАРФ | H50: 0.00031030093 | J50: =IF(H50=0," ",IF(H50<=[1]Разряды!$D$5,[1]Разряды!$D$3,IF(H50<=[1]Разряды!$E$5,[1]Разряды!$E$3,IF(H50<=[1]Разряды!$F$5,[1]Разряды!$F$3,IF(H50<=[1]Разряды!$G$5,[1]Разряды!$G$3,IF(H50<=[1]Разряды!$H$5,[1]Разряды!$H$3,IF(H50<=[1]Разряды!$I$5,[1]Разряды!$I$3,IF(H50<=[1]Разряды!$J$5,[1]Разряды!$J$3,"б/р")))))))) -> 1юр | K50: 0 | L50: =IF(B50=0," ",VLOOKUP($B50,[1]Спортсмены!$B$1:$H$65536,7,FALSE)) -> 0
B51: 19 | C51: =IF(B51=0," ",VLOOKUP(B51,[1]Спортсмены!B$1:H$65536,2,FALSE)) -> Кудряшов Александр | D51: =IF(B51=0," ",VLOOKUP($B51,[1]Спортсмены!$B$1:$H$65536,3,FALSE)) -> 31.10.2000 | E51: =IF(B51=0," ",IF(VLOOKUP($B51,[1]Спортсмены!$B$1:$H$65536,4,FALSE)=0," ",VLOOKUP($B51,[1]Спортсмены!$B$1:$H$65536,4,FALSE))) -> КМС | F51: =IF(B51=0," ",VLOOKUP($B51,[1]Спортсмены!$B$1:$H$65536,5,FALSE)) -> Москва | G51: =IF(B51=0," ",VLOOKUP($B51,[1]Спортсмены!$B$1:$H$65536,6,FALSE)) -> Москва, РГУФКСМиТ (ГЦОЛИФК) | H51: DQ п.п. 162.7 | K51: 0 | L51: =IF(B51=0," ",VLOOKUP($B51,[1]Спортсмены!$B$1:$H$65536,7,FALSE)) -> Филатова М.И., Цветик А.М.
B52: 100 | C52: =IF(B52=0," ",VLOOKUP(B52,[1]Спортсмены!B$1:H$65536,2,FALSE)) -> Паршин Владислав | D52: =IF(B52=0," ",VLOOKUP($B52,[1]Спортсмены!$B$1:$H$65536,3,FALSE)) -> 26.09.1998 | E52: =IF(B52=0," ",IF(VLOOKUP($B52,[1]Спортсмены!$B$1:$H$65536,4,FALSE)=0," ",VLOOKUP($B52,[1]Спортсмены!$B$1:$H$65536,4,FALSE))) -> КМС | F52: =IF(B52=0," ",VLOOKUP($B52,[1]Спортсмены!$B$1:$H$65536,5,FALSE)) -> Пензенская область | G52: =IF(B52=0," ",VLOOKUP($B52,[1]Спортсмены!$B$1:$H$65536,6,FALSE)) -> Пенза, ПензГУ | H52: DQ п.п. 162.7 | K52: 0 | L52: =IF(B52=0," ",VLOOKUP($B52,[1]Спортсмены!$B$1:$H$65536,7,FALSE)) -> Зинуков А.В.
B53: 354 | C53: =IF(B53=0," ",VLOOKUP(B53,[1]Спортсмены!B$1:H$65536,2,FALSE)) -> Бастылов Кирилл | D53: =IF(B53=0," ",VLOOKUP($B53,[1]Спортсмены!$B$1:$H$65536,3,FALSE)) -> 10.10.1998 | E53: =IF(B53=0," ",IF(VLOOKUP($B53,[1]Спортсмены!$B$1:$H$65536,4,FALSE)=0," ",VLOOKUP($B53,[1]Спортсмены!$B$1:$H$65536,4,FALSE))) -> КМС | F53: =IF(B53=0," ",VLOOKUP($B53,[1]Спортсмены!$B$1:$H$65536,5,FALSE)) -> Пензенская область | G53: =IF(B53=0," ",VLOOKUP($B53,[1]Спортсмены!$B$1:$H$65536,6,FALSE)) -> Пенза, ПензГУ | H53: DQ п.п. 162.7 | K53: 0 | L53: =IF(B53=0," ",VLOOKUP($B53,[1]Спортсмены!$B$1:$H$65536,7,FALSE)) -> Красновы Р.П., К.И.
B54: 129 | C54: =IF(B54=0," ",VLOOKUP(B54,[1]Спортсмены!B$1:H$65536,2,FALSE)) -> Филиппов Виктор | D54: =IF(B54=0," ",VLOOKUP($B54,[1]Спортсмены!$B$1:$H$65536,3,FALSE)) -> 01.01.2001 | E54: =IF(B54=0," ",IF(VLOOKUP($B54,[1]Спортсмены!$B$1:$H$65536,4,FALSE)=0," ",VLOOKUP($B54,[1]Спортсмены!$B$1:$H$65536,4,FALSE))) -> 1р | F54: =IF(B54=0," ",VLOOKUP($B54,[1]Спортсмены!$B$1:$H$65536,5,FALSE)) -> Республика Чувашии | G54: =IF(B54=0," ",VLOOKUP($B54,[1]Спортсмены!$B$1:$H$65536,6,FALSE)) -> Чебоксары, ЧГПУ им. И.Я. Яковлева | H54: r|med | K54: 0 | L54: =IF(B54=0," ",VLOOKUP($B54,[1]Спортсмены!$B$1:$H$65536,7,FALSE)) -> Анисимов Н.И.
B55: 54 | C55: =IF(B55=0," ",VLOOKUP(B55,[1]Спортсмены!B$1:H$65536,2,FALSE)) -> Бурков Сергей | D55: =IF(B55=0," ",VLOOKUP($B55,[1]Спортсмены!$B$1:$H$65536,3,FALSE)) -> 20.12.1995 | E55: =IF(B55=0," ",IF(VLOOKUP($B55,[1]Спортсмены!$B$1:$H$65536,4,FALSE)=0," ",VLOOKUP($B55,[1]Спортсмены!$B$1:$H$65536,4,FALSE))) -> КМС | F55: =IF(B55=0," ",VLOOKUP($B55,[1]Спортсмены!$B$1:$H$65536,5,FALSE)) -> Удмуртская Республика | G55: =IF(B55=0," ",VLOOKUP($B55,[1]Спортсмены!$B$1:$H$65536,6,FALSE)) -> Ижевск, УдГУ | H55: r|med | K55: 0 | L55: =IF(B55=0," ",VLOOKUP($B55,[1]Спортсмены!$B$1:$H$65536,7,FALSE)) -> Феофилактов Н.З.,Кудрин А.В.
B56: 24 | C56: =IF(B56=0," ",VLOOKUP(B56,[1]Спортсмены!B$1:H$65536,2,FALSE)) -> Балашов Михаил | D56: =IF(B56=0," ",VLOOKUP($B56,[1]Спортсмены!$B$1:$H$65536,3,FALSE)) -> 28.05.1997 | E56: =IF(B56=0," ",IF(VLOOKUP($B56,[1]Спортсмены!$B$1:$H$65536,4,FALSE)=0," ",VLOOKUP($B56,[1]Спортсмены!$B$1:$H$65536,4,FALSE))) -> 2р | F56: =IF(B56=0," ",VLOOKUP($B56,[1]Спортсмены!$B$1:$H$65536,5,FALSE)) -> Ярославская область | G56: =IF(B56=0," ",VLOOKUP($B56,[1]Спортсмены!$B$1:$H$65536,6,FALSE)) -> Ярославль, ЯрГУ им. П.Г. Демидова | H56: r|med | K56: 0 | L56: =IF(B56=0," ",VLOOKUP($B56,[1]Спортсмены!$B$1:$H$65536,7,FALSE)) -> Станкевич В.А.
A57: в/к | B57: 114 | C57: =IF(B57=0," ",VLOOKUP(B57,[1]Спортсмены!B$1:H$65536,2,FALSE)) -> Светлов Даниил | D57: =IF(B57=0," ",VLOOKUP($B57,[1]Спортсмены!$B$1:$H$65536,3,FALSE)) -> 19.11.1999 | E57: =IF(B57=0," ",IF(VLOOKUP($B57,[1]Спортсмены!$B$1:$H$65536,4,FALSE)=0," ",VLOOKUP($B57,[1]Спортсмены!$B$1:$H$65536,4,FALSE))) -> КМС | F57: =IF(B57=0," ",VLOOKUP($B57,[1]Спортсмены!$B$1:$H$65536,5,FALSE)) -> Ярославская область | G57: =IF(B57=0," ",VLOOKUP($B57,[1]Спортсмены!$B$1:$H$65536,6,FALSE)) -> Рыбинск, МАУ СШОР № 2 | H57: 0.00026412037 | J57: =IF(H57=0," ",IF(H57<=[1]Разряды!$D$5,[1]Разряды!$D$3,IF(H57<=[1]Разряды!$E$5,[1]Разряды!$E$3,IF(H57<=[1]Разряды!$F$5,[1]Разряды!$F$3,IF(H57<=[1]Разряды!$G$5,[1]Разряды!$G$3,IF(H57<=[1]Разряды!$H$5,[1]Разряды!$H$3,IF(H57<=[1]Разряды!$I$5,[1]Разряды!$I$3,IF(H57<=[1]Разряды!$J$5,[1]Разряды!$J$3,"б/р")))))))) -> 1р | L57: =IF(B57=0," ",VLOOKUP($B57,[1]Спортсмены!$B$1:$H$65536,7,FALSE)) -> Зверев В.Н.
B62: Главный судья, спортивный судья ВК | G62: Хрущев Е.Н., г. Ярославль
B65: Главный секретарь, спортивный судья ВК | G65: Тараканова Ю.Ф., г. Ярославль

Sheet 400м
A1: Чемпионат Российского студенческого спортивного союза
A2: мужчины и женщины
L3: 27-28 июня 2019 г.
K4: стадион "Шинник"
L5: г. Ярославль
D6: 27.06.2019г. | E6: 0.81597222 | F6: Финальные забеги | H6: ПРОТОКОЛ СОРЕВНОВАНИЙ
C8: Мужчины | D8: Бег 400 м
A9: Место | B9: Номер | C9: Фамилия, имя | D9: Дата рожд. | E9: Квал. | F9: Команда | G9: ВУЗ | H9: Результат | J9: Вып. разр. | K9: Очки | L9: Ф.И.О. тренера
H10: фин. забеги
A11: 1 | B11: 257 | C11: =IF(B11=0," ",VLOOKUP(B11,[1]Спортсмены!B$1:H$65536,2,FALSE)) -> Арасланов Артем | D11: =IF(B11=0," ",VLOOKUP($B11,[1]Спортсмены!$B$1:$H$65536,3,FALSE)) -> 25.07.1994 | E11: =IF(B11=0," ",IF(VLOOKUP($B11,[1]Спортсмены!$B$1:$H$65536,4,FALSE)=0," ",VLOOKUP($B11,[1]Спортсмены!$B$1:$H$65536,4,FALSE))) -> МС | F11: =IF(B11=0," ",VLOOKUP($B11,[1]Спортсмены!$B$1:$H$65536,5,FALSE)) -> Республика Татарстан | G11: =IF(B11=0," ",VLOOKUP($B11,[1]Спортсмены!$B$1:$H$65536,6,FALSE)) -> Казань, ФГБОУ ВО ПГАФКСиТ, ВятСДЮШОР, ЦСКА | I11: 0.00054502315 | J11: мс | K11: 18+10 | L11: =IF(B11=0," ",VLOOKUP($B11,[1]Спортсмены!$B$1:$H$65536,7,FALSE)) -> Бородовицын С.Н., Сырцев В.В., Вдовин М.В.
A12: 2 | B12: 134 | C12: =IF(B12=0," ",VLOOKUP(B12,[1]Спортсмены!B$1:H$65536,2,FALSE)) -> Нетяго Данил | D12: =IF(B12=0," ",VLOOKUP($B12,[1]Спортсмены!$B$1:$H$65536,3,FALSE)) -> 09.07.2001 | E12: =IF(B12=0," ",IF(VLOOKUP($B12,[1]Спортсмены!$B$1:$H$65536,4,FALSE)=0," ",VLOOKUP($B12,[1]Спортсмены!$B$1:$H$65536,4,FALSE))) -> КМС | F12: =IF(B12=0," ",VLOOKUP($B12,[1]Спортсмены!$B$1:$H$65536,5,FALSE)) -> Сахалинская область | G12: =IF(B12=0," ",VLOOKUP($B12,[1]Спортсмены!$B$1:$H$65536,6,FALSE)) -> СахГУ | I12: 0.00056145833 | J12: =IF(I12=0," ",IF(I12<=[1]Разряды!$D$6,[1]Разряды!$D$3,IF(I12<=[1]Разряды!$E$6,[1]Разряды!$E$3,IF(I12<=[1]Разряды!$F$6,[1]Разряды!$F$3,IF(I12<=[1]Разряды!$G$6,[1]Разряды!$G$3,IF(I12<=[1]Разряды!$H$6,[1]Разряды!$H$3,IF(I12<=[1]Разряды!$I$6,[1]Разряды!$I$3,IF(I12<=[1]Разряды!$J$6,[1]Разряды!$J$3,"б/р")))))))) -> кмс | K12: 15+5 | L12: =IF(B12=0," ",VLOOKUP($B12,[1]Спортсмены!$B$1:$H$65536,7,FALSE)) -> Быкова Т.Ф., Жижикин А.Н.
A13: 3 | B13: 124 | C13: =IF(B13=0," ",VLOOKUP(B13,[1]Спортсмены!B$1:H$65536,2,FALSE)) -> Орлов Константин | D13: =IF(B13=0," ",VLOOKUP($B13,[1]Спортсмены!$B$1:$H$65536,3,FALSE)) -> 01.12.1998 | E13: =IF(B13=0," ",IF(VLOOKUP($B13,[1]Спортсмены!$B$1:$H$65536,4,FALSE)=0," ",VLOOKUP($B13,[1]Спортсмены!$B$1:$H$65536,4,FALSE))) -> КМС | F13: =IF(B13=0," ",VLOOKUP($B13,[1]Спортсмены!$B$1:$H$65536,5,FALSE)) -> Республика Чувашии | G13: =IF(B13=0," ",VLOOKUP($B13,[1]Спортсмены!$B$1:$H$65536,6,FALSE)) -> Чебоксары, ЧГПУ им. И.Я. Яковлева | I13: 0.00056157407 | J13: =IF(I13=0," ",IF(I13<=[1]Разряды!$D$6,[1]Разряды!$D$3,IF(I13<=[1]Разряды!$E$6,[1]Разряды!$E$3,IF(I13<=[1]Разряды!$F$6,[1]Разряды!$F$3,IF(I13<=[1]Разряды!$G$6,[1]Разряды!$G$3,IF(I13<=[1]Разряды!$H$6,[1]Разряды!$H$3,IF(I13<=[1]Разряды!$I$6,[1]Разряды!$I$3,IF(I13<=[1]Разряды!$J$6,[1]Разряды!$J$3,"б/р")))))))) -> кмс | K13: 13+5 | L13: =IF(B13=0," ",VLOOKUP($B13,[1]Спортсмены!$B$1:$H$65536,7,FALSE)) -> Смирнов С.В.
A14: 4 | B14: 320 | C14: =IF(B14=0," ",VLOOKUP(B14,[1]Спортсмены!B$1:H$65536,2,FALSE)) -> Тиряков Максим | D14: =IF(B14=0," ",VLOOKUP($B14,[1]Спортсмены!$B$1:$H$65536,3,FALSE)) -> 12.10.2000 | E14: =IF(B14=0," ",IF(VLOOKUP($B14,[1]Спортсмены!$B$1:$H$65536,4,FALSE)=0," ",VLOOKUP($B14,[1]Спортсмены!$B$1:$H$65536,4,FALSE))) -> КМС | F14: =IF(B14=0," ",VLOOKUP($B14,[1]Спортсмены!$B$1:$H$65536,5,FALSE)) -> Челябинская область | G14: =IF(B14=0," ",VLOOKUP($B14,[1]Спортсмены!$B$1:$H$65536,6,FALSE)) -> Челябинск, УралГУФК | I14: 0.00056238426 | J14: =IF(I14=0," ",IF(I14<=[1]Разряды!$D$6,[1]Разряды!$D$3,IF(I14<=[1]Разряды!$E$6,[1]Разряды!$E$3,IF(I14<=[1]Разряды!$F$6,[1]Разряды!$F$3,IF(I14<=[1]Разряды!$G$6,[1]Разряды!$G$3,IF(I14<=[1]Разряды!$H$6,[1]Разряды!$H$3,IF(I14<=[1]Разряды!$I$6,[1]Разряды!$I$3,IF(I14<=[1]Разряды!$J$6,[1]Разряды!$J$3,"б/р")))))))) -> кмс | K14: 12+5 | L14: =IF(B14=0," ",VLOOKUP($B14,[1]Спортсмены!$B$1:$H$65536,7,FALSE)) -> Митюхов Д.М.
A15: 5 | B15: 115 | C15: =IF(B15=0," ",VLOOKUP(B15,[1]Спортсмены!B$1:H$65536,2,FALSE)) -> Колесник Дмитрий | D15: =IF(B15=0," ",VLOOKUP($B15,[1]Спортсмены!$B$1:$H$65536,3,FALSE)) -> 26.05.1998 | E15: =IF(B15=0," ",IF(VLOOKUP($B15,[1]Спортсмены!$B$1:$H$65536,4,FALSE)=0," ",VLOOKUP($B15,[1]Спортсмены!$B$1:$H$65536,4,FALSE))) -> КМС | F15: =IF(B15=0," ",VLOOKUP($B15,[1]Спортсмены!$B$1:$H$65536,5,FALSE)) -> Ярославская область | G15: =IF(B15=0," ",VLOOKUP($B15,[1]Спортсмены!$B$1:$H$65536,6,FALSE)) -> Ярославль, ЯВВУ ПВО | I15: 0.00056840278 | J15: =IF(I15=0," ",IF(I15<=[1]Разряды!$D$6,[1]Разряды!$D$3,IF(I15<=[1]Разряды!$E$6,[1]Разряды!$E$3,IF(I15<=[1]Разряды!$F$6,[1]Разряды!$F$3,IF(I15<=[1]Разряды!$G$6,[1]Разряды!$G$3,IF(I15<=[1]Разряды!$H$6,[1]Разряды!$H$3,IF(I15<=[1]Разряды!$I$6,[1]Разряды!$I$3,IF(I15<=[1]Разряды!$J$6,[1]Разряды!$J$3,"б/р")))))))) -> кмс | K15: л | L15: =IF(B15=0," ",VLOOKUP($B15,[1]Спортсмены!$B$1:$H$65536,7,FALSE)) -> Таракановы Ю.Ф., А.В., Круговой К.Н.
A16: 6 | B16: 264 | C16: =IF(B16=0," ",VLOOKUP(B16,[1]Спортсмены!B$1:H$65536,2,FALSE)) -> Газизов Альберт | D16: =IF(B16=0," ",VLOOKUP($B16,[1]Спортсмены!$B$1:$H$65536,3,FALSE)) -> 13.04.1998 | E16: =IF(B16=0," ",IF(VLOOKUP($B16,[1]Спортсмены!$B$1:$H$65536,4,FALSE)=0," ",VLOOKUP($B16,[1]Спортсмены!$B$1:$H$65536,4,FALSE))) -> КМС | F16: =IF(B16=0," ",VLOOKUP($B16,[1]Спортсмены!$B$1:$H$65536,5,FALSE)) -> Республика Татарстан | G16: =IF(B16=0," ",VLOOKUP($B16,[1]Спортсмены!$B$1:$H$65536,6,FALSE)) -> Казань, ФГБОУ ВО ПГАФКСиТ | I16: 0.00057280093 | J16: =IF(I16=0," ",IF(I16<=[1]Разряды!$D$6,[1]Разряды!$D$3,IF(I16<=[1]Разряды!$E$6,[1]Разряды!$E$3,IF(I16<=[1]Разряды!$F$6,[1]Разряды!$F$3,IF(I16<=[1]Разряды!$G$6,[1]Разряды!$G$3,IF(I16<=[1]Разряды!$H$6,[1]Разряды!$H$3,IF(I16<=[1]Разряды!$I$6,[1]Разряды!$I$3,IF(I16<=[1]Разряды!$J$6,[1]Разряды!$J$3,"б/р")))))))) -> кмс | K16: 11+5 | L16: =IF(B16=0," ",VLOOKUP($B16,[1]Спортсмены!$B$1:$H$65536,7,FALSE)) -> Мостяков Д.В.
A17: 7 | B17: 142 | C17: =IF(B17=0," ",VLOOKUP(B17,[1]Спортсмены!B$1:H$65536,2,FALSE)) -> Максимов Вячеслав | D17: =IF(B17=0," ",VLOOKUP($B17,[1]Спортсмены!$B$1:$H$65536,3,FALSE)) -> 18.11.2000 | E17: =IF(B17=0," ",IF(VLOOKUP($B17,[1]Спортсмены!$B$1:$H$65536,4,FALSE)=0," ",VLOOKUP($B17,[1]Спортсмены!$B$1:$H$65536,4,FALSE))) -> КМС | F17: =IF(B17=0," ",VLOOKUP($B17,[1]Спортсмены!$B$1:$H$65536,5,FALSE)) -> Хабаровский край | G17: =IF(B17=0," ",VLOOKUP($B17,[1]Спортсмены!$B$1:$H$65536,6,FALSE)) -> Хабаровск, ДВГАФК | I17: 0.00057337963 | J17: =IF(I17=0," ",IF(I17<=[1]Разряды!$D$6,[1]Разряды!$D$3,IF(I17<=[1]Разряды!$E$6,[1]Разряды!$E$3,IF(I17<=[1]Разряды!$F$6,[1]Разряды!$F$3,IF(I17<=[1]Разряды!$G$6,[1]Разряды!$G$3,IF(I17<=[1]Разряды!$H$6,[1]Разряды!$H$3,IF(I17<=[1]Разряды!$I$6,[1]Разряды!$I$3,IF(I17<=[1]Разряды!$J$6,[1]Разряды!$J$3,"б/р")))))))) -> кмс | K17: 10+5 | L17: =IF(B17=0," ",VLOOKUP($B17,[1]Спортсмены!$B$1:$H$65536,7,FALSE)) -> Иваровский А.Н.
A18: 8 | B18: 207 | C18: =IF(B18=0," ",VLOOKUP(B18,[1]Спортсмены!B$1:H$65536,2,FALSE)) -> Федченко Кирилл | D18: =IF(B18=0," ",VLOOKUP($B18,[1]Спортсмены!$B$1:$H$65536,3,FALSE)) -> 15.12.1997 | E18: =IF(B18=0," ",IF(VLOOKUP($B18,[1]Спортсмены!$B$1:$H$65536,4,FALSE)=0," ",VLOOKUP($B18,[1]Спортсмены!$B$1:$H$65536,4,FALSE))) -> КМС | F18: =IF(B18=0," ",VLOOKUP($B18,[1]Спортсмены!$B$1:$H$65536,5,FALSE)) -> Красноярский край | G18: =IF(B18=0," ",VLOOKUP($B18,[1]Спортсмены!$B$1:$H$65536,6,FALSE)) -> Красноярск, СФУ | I18: 0.00057546296 | J18: =IF(I18=0," ",IF(I18<=[1]Разряды!$D$6,[1]Разряды!$D$3,IF(I18<=[1]Разряды!$E$6,[1]Разряды!$E$3,IF(I18<=[1]Разряды!$F$6,[1]Разряды!$F$3,IF(I18<=[1]Разряды!$G$6,[1]Разряды!$G$3,IF(I18<=[1]Разряды!$H$6,[1]Разряды!$H$3,IF(I18<=[1]Разряды!$I$6,[1]Разряды!$I$3,IF(I18<=[1]Разряды!$J$6,[1]Разряды!$J$3,"б/р")))))))) -> кмс | K18: 9+5 | L18: =IF(B18=0," ",VLOOKUP($B18,[1]Спортсмены!$B$1:$H$65536,7,FALSE)) -> Непомнящих О.А.
A19: 9 | B19: 354 | C19: =IF(B19=0," ",VLOOKUP(B19,[1]Спортсмены!B$1:H$65536,2,FALSE)) -> Бастылов Кирилл | D19: =IF(B19=0," ",VLOOKUP($B19,[1]Спортсмены!$B$1:$H$65536,3,FALSE)) -> 10.10.1998 | E19: =IF(B19=0," ",IF(VLOOKUP($B19,[1]Спортсмены!$B$1:$H$65536,4,FALSE)=0," ",VLOOKUP($B19,[1]Спортсмены!$B$1:$H$65536,4,FALSE))) -> КМС | F19: =IF(B19=0," ",VLOOKUP($B19,[1]Спортсмены!$B$1:$H$65536,5,FALSE)) -> Пензенская область | G19: =IF(B19=0," ",VLOOKUP($B19,[1]Спортсмены!$B$1:$H$65536,6,FALSE)) -> Пенза, ПензГУ | I19: 0.0005755787 | J19: =IF(I19=0," ",IF(I19<=[1]Разряды!$D$6,[1]Разряды!$D$3,IF(I19<=[1]Разряды!$E$6,[1]Разряды!$E$3,IF(I19<=[1]Разряды!$F$6,[1]Разряды!$F$3,IF(I19<=[1]Разряды!$G$6,[1]Разряды!$G$3,IF(I19<=[1]Разряды!$H$6,[1]Разряды!$H$3,IF(I19<=[1]Разряды!$I$6,[1]Разряды!$I$3,IF(I19<=[1]Разряды!$J$6,[1]Разряды!$J$3,"б/р")))))))) -> кмс | K19: 8+5 | L19: =IF(B19=0," ",VLOOKUP($B19,[1]Спортсмены!$B$1:$H$65536,7,FALSE)) -> Красновы Р.П., К.И.
A20: 10 | B20: 211 | C20: =IF(B20=0," ",VLOOKUP(B20,[1]Спортсмены!B$1:H$65536,2,FALSE)) -> Сидоров Андрей | D20: =IF(B20=0," ",VLOOKUP($B20,[1]Спортсмены!$B$1:$H$65536,3,FALSE)) -> 18.11.1996 | E20: =IF(B20=0," ",IF(VLOOKUP($B20,[1]Спортсмены!$B$1:$H$65536,4,FALSE)=0," ",VLOOKUP($B20,[1]Спортсмены!$B$1:$H$65536,4,FALSE))) -> КМС | F20: =IF(B20=0," ",VLOOKUP($B20,[1]Спортсмены!$B$1:$H$65536,5,FALSE)) -> Республика Мордовия | G20: =IF(B20=0," ",VLOOKUP($B20,[1]Спортсмены!$B$1:$H$65536,6,FALSE)) -> Саранск, ФГБОУ ВО "НИМГУ им. Н.П. Огарева" | I20: 0.000578125 | J20: =IF(I20=0," ",IF(I20<=[1]Разряды!$D$6,[1]Разряды!$D$3,IF(I20<=[1]Разряды!$E$6,[1]Разряды!$E$3,IF(I20<=[1]Разряды!$F$6,[1]Разряды!$F$3,IF(I20<=[1]Разряды!$G$6,[1]Разряды!$G$3,IF(I20<=[1]Разряды!$H$6,[1]Разряды!$H$3,IF(I20<=[1]Разряды!$I$6,[1]Разряды!$I$3,IF(I20<=[1]Разряды!$J$6,[1]Разряды!$J$3,"б/р")))))))) -> 1р | K20: 7 | L20: =IF(B20=0," ",VLOOKUP($B20,[1]Спортсмены!$B$1:$H$65536,7,FALSE)) -> Забродин Р.
A21: 11 | B21: 274 | C21: =IF(B21=0," ",VLOOKUP(B21,[1]Спортсмены!B$1:H$65536,2,FALSE)) -> Соколов Павел | D21: =IF(B21=0," ",VLOOKUP($B21,[1]Спортсмены!$B$1:$H$65536,3,FALSE)) -> 22.08.1999 | E21: =IF(B21=0," ",IF(VLOOKUP($B21,[1]Спортсмены!$B$1:$H$65536,4,FALSE)=0," ",VLOOKUP($B21,[1]Спортсмены!$B$1:$H$65536,4,FALSE))) -> КМС | F21: =IF(B21=0," ",VLOOKUP($B21,[1]Спортсмены!$B$1:$H$65536,5,FALSE)) -> Ивановская область | G21: =IF(B21=0," ",VLOOKUP($B21,[1]Спортсмены!$B$1:$H$65536,6,FALSE)) -> Иваново, ИГЭУ им. В.И. Ленина | I21: 0.00057858796 | J21: =IF(I21=0," ",IF(I21<=[1]Разряды!$D$6,[1]Разряды!$D$3,IF(I21<=[1]Разряды!$E$6,[1]Разряды!$E$3,IF(I21<=[1]Разряды!$F$6,[1]Разряды!$F$3,IF(I21<=[1]Разряды!$G$6,[1]Разряды!$G$3,IF(I21<=[1]Разряды!$H$6,[1]Разряды!$H$3,IF(I21<=[1]Разряды!$I$6,[1]Разряды!$I$3,IF(I21<=[1]Разряды!$J$6,[1]Разряды!$J$3,"б/р")))))))) -> 1р | K21: 6 | L21: =IF(B21=0," ",VLOOKUP($B21,[1]Спортсмены!$B$1:$H$65536,7,FALSE)) -> Гильмутдинов Ю.В., Малкова И.В.
A22: 12 | B22: 340 | C22: =IF(B22=0," ",VLOOKUP(B22,[1]Спортсмены!B$1:H$65536,2,FALSE)) -> Гедаев Олег | D22: =IF(B22=0," ",VLOOKUP($B22,[1]Спортсмены!$B$1:$H$65536,3,FALSE)) -> 01.09.1998 | E22: =IF(B22=0," ",IF(VLOOKUP($B22,[1]Спортсмены!$B$1:$H$65536,4,FALSE)=0," ",VLOOKUP($B22,[1]Спортсмены!$B$1:$H$65536,4,FALSE))) -> КМС | F22: =IF(B22=0," ",VLOOKUP($B22,[1]Спортсмены!$B$1:$H$65536,5,FALSE)) -> Пензенская область | G22: =IF(B22=0," ",VLOOKUP($B22,[1]Спортсмены!$B$1:$H$65536,6,FALSE)) -> Пенза, ПензГУ | I22: 0.00058020833 | J22: =IF(I22=0," ",IF(I22<=[1]Разряды!$D$6,[1]Разряды!$D$3,IF(I22<=[1]Разряды!$E$6,[1]Разряды!$E$3,IF(I22<=[1]Разряды!$F$6,[1]Разряды!$F$3,IF(I22<=[1]Разряды!$G$6,[1]Разряды!$G$3,IF(I22<=[1]Разряды!$H$6,[1]Разряды!$H$3,IF(I22<=[1]Разряды!$I$6,[1]Разряды!$I$3,IF(I22<=[1]Разряды!$J$6,[1]Разряды!$J$3,"б/р")))))))) -> 1р | K22: 5 | L22: =IF(B22=0," ",VLOOKUP($B22,[1]Спортсмены!$B$1:$H$65536,7,FALSE)) -> Кузнецов В.Б., Вдовин М.В., Полоницкий А.Е.
A23: 13 | B23: 280 | C23: =IF(B23=0," ",VLOOKUP(B23,[1]Спортсмены!B$1:H$65536,2,FALSE)) -> Дуркин Никита | D23: =IF(B23=0," ",VLOOKUP($B23,[1]Спортсмены!$B$1:$H$65536,3,FALSE)) -> 18.07.1995 | E23: =IF(B23=0," ",IF(VLOOKUP($B23,[1]Спортсмены!$B$1:$H$65536,4,FALSE)=0," ",VLOOKUP($B23,[1]Спортсмены!$B$1:$H$65536,4,FALSE))) -> 1р | F23: =IF(B23=0," ",VLOOKUP($B23,[1]Спортсмены!$B$1:$H$65536,5,FALSE)) -> Архангельская область | G23: =IF(B23=0," ",VLOOKUP($B23,[1]Спортсмены!$B$1:$H$65536,6,FALSE)) -> Архангельск, САФУ им. М.В. Ломоносова | I23: 0.00058148148 | J23: =IF(I23=0," ",IF(I23<=[1]Разряды!$D$6,[1]Разряды!$D$3,IF(I23<=[1]Разряды!$E$6,[1]Разряды!$E$3,IF(I23<=[1]Разряды!$F$6,[1]Разряды!$F$3,IF(I23<=[1]Разряды!$G$6,[1]Разряды!$G$3,IF(I23<=[1]Разряды!$H$6,[1]Разряды!$H$3,IF(I23<=[1]Разряды!$I$6,[1]Разряды!$I$3,IF(I23<=[1]Разряды!$J$6,[1]Разряды!$J$3,"б/р")))))))) -> 1р | K23: 4 | L23: =IF(B23=0," ",VLOOKUP($B23,[1]Спортсмены!$B$1:$H$65536,7,FALSE)) -> Мингалев А.Ю., Мингалева А.Г.
A24: 14 | B24: 243 | C24: =IF(B24=0," ",VLOOKUP(B24,[1]Спортсмены!B$1:H$65536,2,FALSE)) -> Ардашев Иван | D24: =IF(B24=0," ",VLOOKUP($B24,[1]Спортсмены!$B$1:$H$65536,3,FALSE)) -> 31.01.1998 | E24: =IF(B24=0," ",IF(VLOOKUP($B24,[1]Спортсмены!$B$1:$H$65536,4,FALSE)=0," ",VLOOKUP($B24,[1]Спортсмены!$B$1:$H$65536,4,FALSE))) -> КМС | F24: =IF(B24=0," ",VLOOKUP($B24,[1]Спортсмены!$B$1:$H$65536,5,FALSE)) -> Удмуртская Республика | G24: =IF(B24=0," ",VLOOKUP($B24,[1]Спортсмены!$B$1:$H$65536,6,FALSE)) -> Ижевск, УдГУ | I24: 0.00058229167 | J24: =IF(I24=0," ",IF(I24<=[1]Разряды!$D$6,[1]Разряды!$D$3,IF(I24<=[1]Разряды!$E$6,[1]Разряды!$E$3,IF(I24<=[1]Разряды!$F$6,[1]Разряды!$F$3,IF(I24<=[1]Разряды!$G$6,[1]Разряды!$G$3,IF(I24<=[1]Разряды!$H$6,[1]Разряды!$H$3,IF(I24<=[1]Разряды!$I$6,[1]Разряды!$I$3,IF(I24<=[1]Разряды!$J$6,[1]Разряды!$J$3,"б/р")))))))) -> 1р | K24: 3 | L24: =IF(B24=0," ",VLOOKUP($B24,[1]Спортсмены!$B$1:$H$65536,7,FALSE)) -> Алабужев А.Е.
A25: 15 | B25: 215 | C25: =IF(B25=0," ",VLOOKUP(B25,[1]Спортсмены!B$1:H$65536,2,FALSE)) -> Куркин Евгений | D25: =IF(B25=0," ",VLOOKUP($B25,[1]Спортсмены!$B$1:$H$65536,3,FALSE)) -> 14.09.2000 | E25: =IF(B25=0," ",IF(VLOOKUP($B25,[1]Спортсмены!$B$1:$H$65536,4,FALSE)=0," ",VLOOKUP($B25,[1]Спортсмены!$B$1:$H$65536,4,FALSE))) -> КМС | F25: =IF(B25=0," ",VLOOKUP($B25,[1]Спортсмены!$B$1:$H$65536,5,FALSE)) -> Республика Мордовия | G25: =IF(B25=0," ",VLOOKUP($B25,[1]Спортсмены!$B$1:$H$65536,6,FALSE)) -> Саранск, ФГБОУ ВО "НИМГУ им. Н.П. Огарева" | I25: 0.0005837963 | J25: =IF(I25=0," ",IF(I25<=[1]Разряды!$D$6,[1]Разряды!$D$3,IF(I25<=[1]Разряды!$E$6,[1]Разряды!$E$3,IF(I25<=[1]Разряды!$F$6,[1]Разряды!$F$3,IF(I25<=[1]Разряды!$G$6,[1]Разряды!$G$3,IF(I25<=[1]Разряды!$H$6,[1]Разряды!$H$3,IF(I25<=[1]Разряды!$I$6,[1]Разряды!$I$3,IF(I25<=[1]Разряды!$J$6,[1]Разряды!$J$3,"б/р")))))))) -> 1р | K25: 2 | L25: =IF(B25=0," ",VLOOKUP($B25,[1]Спортсмены!$B$1:$H$65536,7,FALSE)) -> Разовы В.Н., П.И.
A26: 16 | B26: 242 | C26: =IF(B26=0," ",VLOOKUP(B26,[1]Спортсмены!B$1:H$65536,2,FALSE)) -> Хабаров Илья | D26: =IF(B26=0," ",VLOOKUP($B26,[1]Спортсмены!$B$1:$H$65536,3,FALSE)) -> 19.11.1999 | E26: =IF(B26=0," ",IF(VLOOKUP($B26,[1]Спортсмены!$B$1:$H$65536,4,FALSE)=0," ",VLOOKUP($B26,[1]Спортсмены!$B$1:$H$65536,4,FALSE))) -> КМС | F26: =IF(B26=0," ",VLOOKUP($B26,[1]Спортсмены!$B$1:$H$65536,5,FALSE)) -> Удмуртская Республика | G26: =IF(B26=0," ",VLOOKUP($B26,[1]Спортсмены!$B$1:$H$65536,6,FALSE)) -> Ижевск, УдГУ | I26: 0.00058587963 | J26: =IF(I26=0," ",IF(I26<=[1]Разряды!$D$6,[1]Разряды!$D$3,IF(I26<=[1]Разряды!$E$6,[1]Разряды!$E$3,IF(I26<=[1]Разряды!$F$6,[1]Разряды!$F$3,IF(I26<=[1]Разряды!$G$6,[1]Разряды!$G$3,IF(I26<=[1]Разряды!$H$6,[1]Разряды!$H$3,IF(I26<=[1]Разряды!$I$6,[1]Разряды!$I$3,IF(I26<=[1]Разряды!$J$6,[1]Разряды!$J$3,"б/р")))))))) -> 1р | K26: 1 | L26: =IF(B26=0," ",VLOOKUP($B26,[1]Спортсмены!$B$1:$H$65536,7,FALSE)) -> Феофилактов Н.З.
A27: 17 | B27: 272 | C27: =IF(B27=0," ",VLOOKUP(B27,[1]Спортсмены!B$1:H$65536,2,FALSE)) -> Орлов Кирилл | D27: =IF(B27=0," ",VLOOKUP($B27,[1]Спортсмены!$B$1:$H$65536,3,FALSE)) -> 17.10.1998 | E27: =IF(B27=0," ",IF(VLOOKUP($B27,[1]Спортсмены!$B$1:$H$65536,4,FALSE)=0," ",VLOOKUP($B27,[1]Спортсмены!$B$1:$H$65536,4,FALSE))) -> КМС | F27: =IF(B27=0," ",VLOOKUP($B27,[1]Спортсмены!$B$1:$H$65536,5,FALSE)) -> Ивановская область | G27: =IF(B27=0," ",VLOOKUP($B27,[1]Спортсмены!$B$1:$H$65536,6,FALSE)) -> Иваново, ИГЭУ им. В.И. Ленина | I27: 0.00058726852 | J27: =IF(I27=0," ",IF(I27<=[1]Разряды!$D$6,[1]Разряды!$D$3,IF(I27<=[1]Разряды!$E$6,[1]Разряды!$E$3,IF(I27<=[1]Разряды!$F$6,[1]Разряды!$F$3,IF(I27<=[1]Разряды!$G$6,[1]Разряды!$G$3,IF(I27<=[1]Разряды!$H$6,[1]Разряды!$H$3,IF(I27<=[1]Разряды!$I$6,[1]Разряды!$I$3,IF(I27<=[1]Разряды!$J$6,[1]Разряды!$J$3,"б/р")))))))) -> 1р | K27: 1 | L27: =IF(B27=0," ",VLOOKUP($B27,[1]Спортсмены!$B$1:$H$65536,7,FALSE)) -> Гильмутдинов Ю.В., Лукичев А.В.
A28: 18 | B28: 268 | C28: =IF(B28=0," ",VLOOKUP(B28,[1]Спортсмены!B$1:H$65536,2,FALSE)) -> Никонов Никита | D28: =IF(B28=0," ",VLOOKUP($B28,[1]Спортсмены!$B$1:$H$65536,3,FALSE)) -> 22.06.1995 | E28: =IF(B28=0," ",IF(VLOOKUP($B28,[1]Спортсмены!$B$1:$H$65536,4,FALSE)=0," ",VLOOKUP($B28,[1]Спортсмены!$B$1:$H$65536,4,FALSE))) -> КМС | F28: =IF(B28=0," ",VLOOKUP($B28,[1]Спортсмены!$B$1:$H$65536,5,FALSE)) -> Ивановская область | G28: =IF(B28=0," ",VLOOKUP($B28,[1]Спортсмены!$B$1:$H$65536,6,FALSE)) -> Иваново, ИГЭУ им. В.И. Ленина | I28: 0.00058738426 | J28: =IF(I28=0," ",IF(I28<=[1]Разряды!$D$6,[1]Разряды!$D$3,IF(I28<=[1]Разряды!$E$6,[1]Разряды!$E$3,IF(I28<=[1]Разряды!$F$6,[1]Разряды!$F$3,IF(I28<=[1]Разряды!$G$6,[1]Разряды!$G$3,IF(I28<=[1]Разряды!$H$6,[1]Разряды!$H$3,IF(I28<=[1]Разряды!$I$6,[1]Разряды!$I$3,IF(I28<=[1]Разряды!$J$6,[1]Разряды!$J$3,"б/р")))))))) -> 1р | K28: 1 | L28: =IF(B28=0," ",VLOOKUP($B28,[1]Спортсмены!$B$1:$H$65536,7,FALSE)) -> Торгов Е.Н., Гильмутдинов Ю.В.
A29: 19 | B29: 281 | C29: =IF(B29=0," ",VLOOKUP(B29,[1]Спортсмены!B$1:H$65536,2,FALSE)) -> Якубов Фарид | D29: =IF(B29=0," ",VLOOKUP($B29,[1]Спортсмены!$B$1:$H$65536,3,FALSE)) -> 24.12.1994 | E29: =IF(B29=0," ",IF(VLOOKUP($B29,[1]Спортсмены!$B$1:$H$65536,4,FALSE)=0," ",VLOOKUP($B29,[1]Спортсмены!$B$1:$H$65536,4,FALSE))) -> 1р | F29: =IF(B29=0," ",VLOOKUP($B29,[1]Спортсмены!$B$1:$H$65536,5,FALSE)) -> Архангельская область | G29: =IF(B29=0," ",VLOOKUP($B29,[1]Спортсмены!$B$1:$H$65536,6,FALSE)) -> Архангельск, САФУ им. М.В. Ломоносова | I29: 0.00059143519 | J29: =IF(I29=0," ",IF(I29<=[1]Разряды!$D$6,[1]Разряды!$D$3,IF(I29<=[1]Разряды!$E$6,[1]Разряды!$E$3,IF(I29<=[1]Разряды!$F$6,[1]Разряды!$F$3,IF(I29<=[1]Разряды!$G$6,[1]Разряды!$G$3,IF(I29<=[1]Разряды!$H$6,[1]Разряды!$H$3,IF(I29<=[1]Разряды!$I$6,[1]Разряды!$I$3,IF(I29<=[1]Разряды!$J$6,[1]Разряды!$J$3,"б/р")))))))) -> 1р | K29: 1 | L29: =IF(B29=0," ",VLOOKUP($B29,[1]Спортсмены!$B$1:$H$65536,7,FALSE)) -> Мингалев А.Ю., Мингалева А.Г.
A30: 20 | B30: 303 | C30: =IF(B30=0," ",VLOOKUP(B30,[1]Спортсмены!B$1:H$65536,2,FALSE)) -> Веревкин Данил | D30: =IF(B30=0," ",VLOOKUP($B30,[1]Спортсмены!$B$1:$H$65536,3,FALSE)) -> 06.03.2000 | E30: =IF(B30=0," ",IF(VLOOKUP($B30,[1]Спортсмены!$B$1:$H$65536,4,FALSE)=0," ",VLOOKUP($B30,[1]Спортсмены!$B$1:$H$65536,4,FALSE))) -> КМС | F30: =IF(B30=0," ",VLOOKUP($B30,[1]Спортсмены!$B$1:$H$65536,5,FALSE)) -> Пермский край | G30: =IF(B30=0," ",VLOOKUP($B30,[1]Спортсмены!$B$1:$H$65536,6,FALSE)) -> Пермь, ПГФА | I30: 0.00059525463 | J30: =IF(I30=0," ",IF(I30<=[1]Разряды!$D$6,[1]Разряды!$D$3,IF(I30<=[1]Разряды!$E$6,[1]Разряды!$E$3,IF(I30<=[1]Разряды!$F$6,[1]Разряды!$F$3,IF(I30<=[1]Разряды!$G$6,[1]Разряды!$G$3,IF(I30<=[1]Разряды!$H$6,[1]Разряды!$H$3,IF(I30<=[1]Разряды!$I$6,[1]Разряды!$I$3,IF(I30<=[1]Разряды!$J$6,[1]Разряды!$J$3,"б/р")))))))) -> 1р | K30: л | L30: =IF(B30=0," ",VLOOKUP($B30,[1]Спортсмены!$B$1:$H$65536,7,FALSE)) -> Окулов А.А., Суворов Н.В., Суворова Т.Н.
A31: 21 | B31: 216 | C31: =IF(B31=0," ",VLOOKUP(B31,[1]Спортсмены!B$1:H$65536,2,FALSE)) -> Давыдов Алексей | D31: =IF(B31=0," ",VLOOKUP($B31,[1]Спортсмены!$B$1:$H$65536,3,FALSE)) -> 11.08.1999 | E31: =IF(B31=0," ",IF(VLOOKUP($B31,[1]Спортсмены!$B$1:$H$65536,4,FALSE)=0," ",VLOOKUP($B31,[1]Спортсмены!$B$1:$H$65536,4,FALSE))) -> КМС | F31: =IF(B31=0," ",VLOOKUP($B31,[1]Спортсмены!$B$1:$H$65536,5,FALSE)) -> Республика Мордовия | G31: =IF(B31=0," ",VLOOKUP($B31,[1]Спортсмены!$B$1:$H$65536,6,FALSE)) -> Саранск, ФГБОУ ВО "НИМГУ им. Н.П. Огарева" | I31: 0.00059560185 | J31: =IF(I31=0," ",IF(I31<=[1]Разряды!$D$6,[1]Разряды!$D$3,IF(I31<=[1]Разряды!$E$6,[1]Разряды!$E$3,IF(I31<=[1]Разряды!$F$6,[1]Разряды!$F$3,IF(I31<=[1]Разряды!$G$6,[1]Разряды!$G$3,IF(I31<=[1]Разряды!$H$6,[1]Разряды!$H$3,IF(I31<=[1]Разряды!$I$6,[1]Разряды!$I$3,IF(I31<=[1]Разряды!$J$6,[1]Разряды!$J$3,"б/р")))))))) -> 1р | K31: 1 | L31: =IF(B31=0," ",VLOOKUP($B31,[1]Спортсмены!$B$1:$H$65536,7,FALSE)) -> Аранов С.М.
A32: 22 | B32: 337 | C32: =IF(B32=0," ",VLOOKUP(B32,[1]Спортсмены!B$1:H$65536,2,FALSE)) -> Перевозчиков Иван | D32: =IF(B32=0," ",VLOOKUP($B32,[1]Спортсмены!$B$1:$H$65536,3,FALSE)) -> 21.05.1998 | E32: =IF(B32=0," ",IF(VLOOKUP($B32,[1]Спортсмены!$B$1:$H$65536,4,FALSE)=0," ",VLOOKUP($B32,[1]Спортсмены!$B$1:$H$65536,4,FALSE))) -> 1р | F32: =IF(B32=0," ",VLOOKUP($B32,[1]Спортсмены!$B$1:$H$65536,5,FALSE)) -> Удмуртская Республика | G32: =IF(B32=0," ",VLOOKUP($B32,[1]Спортсмены!$B$1:$H$65536,6,FALSE)) -> Ижевск, ИжГТУ им. М.Т. Калашникова | I32: 0.00060266204 | J32: =IF(I32=0," ",IF(I32<=[1]Разряды!$D$6,[1]Разряды!$D$3,IF(I32<=[1]Разряды!$E$6,[1]Разряды!$E$3,IF(I32<=[1]Разряды!$F$6,[1]Разряды!$F$3,IF(I32<=[1]Разряды!$G$6,[1]Разряды!$G$3,IF(I32<=[1]Разряды!$H$6,[1]Разряды!$H$3,IF(I32<=[1]Разряды!$I$6,[1]Разряды!$I$3,IF(I32<=[1]Разряды!$J$6,[1]Разряды!$J$3,"б/р")))))))) -> 1р | K32: 1 | L32: =IF(B32=0," ",VLOOKUP($B32,[1]Спортсмены!$B$1:$H$65536,7,FALSE)) -> Сердцева А.Б.
A33: 23 | B33: 282 | C33: =IF(B33=0," ",VLOOKUP(B33,[1]Спортсмены!B$1:H$65536,2,FALSE)) -> Мужиков Максим | D33: =IF(B33=0," ",VLOOKUP($B33,[1]Спортсмены!$B$1:$H$65536,3,FALSE)) -> 24.01.2000 | E33: =IF(B33=0," ",IF(VLOOKUP($B33,[1]Спортсмены!$B$1:$H$65536,4,FALSE)=0," ",VLOOKUP($B33,[1]Спортсмены!$B$1:$H$65536,4,FALSE))) -> 2р | F33: =IF(B33=0," ",VLOOKUP($B33,[1]Спортсмены!$B$1:$H$65536,5,FALSE)) -> Архангельская область | G33: =IF(B33=0," ",VLOOKUP($B33,[1]Спортсмены!$B$1:$H$65536,6,FALSE)) -> Архангельск, САФУ им. М.В. Ломоносова | I33: 0.00060335648 | J33: =IF(I33=0," ",IF(I33<=[1]Разряды!$D$6,[1]Разряды!$D$3,IF(I33<=[1]Разряды!$E$6,[1]Разряды!$E$3,IF(I33<=[1]Разряды!$F$6,[1]Разряды!$F$3,IF(I33<=[1]Разряды!$G$6,[1]Разряды!$G$3,IF(I33<=[1]Разряды!$H$6,[1]Разряды!$H$3,IF(I33<=[1]Разряды!$I$6,[1]Разряды!$I$3,IF(I33<=[1]Разряды!$J$6,[1]Разряды!$J$3,"б/р")))))))) -> 1р | K33: 1 | L33: =IF(B33=0," ",VLOOKUP($B33,[1]Спортсмены!$B$1:$H$65536,7,FALSE)) -> Мингалев А.Ю., Мингалева А.Г.
A34: 24 | B34: 271 | C34: =IF(B34=0," ",VLOOKUP(B34,[1]Спортсмены!B$1:H$65536,2,FALSE)) -> Кузьмин Михаил | D34: =IF(B34=0," ",VLOOKUP($B34,[1]Спортсмены!$B$1:$H$65536,3,FALSE)) -> 19.06.1997 | E34: =IF(B34=0," ",IF(VLOOKUP($B34,[1]Спортсмены!$B$1:$H$65536,4,FALSE)=0," ",VLOOKUP($B34,[1]Спортсмены!$B$1:$H$65536,4,FALSE))) -> 1р | F34: =IF(B34=0," ",VLOOKUP($B34,[1]Спортсмены!$B$1:$H$65536,5,FALSE)) -> Ивановская область | G34: =IF(B34=0," ",VLOOKUP($B34,[1]Спортсмены!$B$1:$H$65536,6,FALSE)) -> Иваново, ИГЭУ им. В.И. Ленина | I34: 0.0006037037 | J34: =IF(I34=0," ",IF(I34<=[1]Разряды!$D$6,[1]Разряды!$D$3,IF(I34<=[1]Разряды!$E$6,[1]Разряды!$E$3,IF(I34<=[1]Разряды!$F$6,[1]Разряды!$F$3,IF(I34<=[1]Разряды!$G$6,[1]Разряды!$G$3,IF(I34<=[1]Разряды!$H$6,[1]Разряды!$H$3,IF(I34<=[1]Разряды!$I$6,[1]Разряды!$I$3,IF(I34<=[1]Разряды!$J$6,[1]Разряды!$J$3,"б/р")))))))) -> 1р | K34: 1 | L34: =IF(B34=0," ",VLOOKUP($B34,[1]Спортсмены!$B$1:$H$65536,7,FALSE)) -> Гильмутдинов Ю.В., Чахунов Е.И.
A35: 25 | B35: 144 | C35: =IF(B35=0," ",VLOOKUP(B35,[1]Спортсмены!B$1:H$65536,2,FALSE)) -> Новоселов Алексей | D35: =IF(B35=0," ",VLOOKUP($B35,[1]Спортсмены!$B$1:$H$65536,3,FALSE)) -> 16.03.1995 | E35: =IF(B35=0," ",IF(VLOOKUP($B35,[1]Спортсмены!$B$1:$H$65536,4,FALSE)=0," ",VLOOKUP($B35,[1]Спортсмены!$B$1:$H$65536,4,FALSE))) -> 1р | F35: =IF(B35=0," ",VLOOKUP($B35,[1]Спортсмены!$B$1:$H$65536,5,FALSE)) -> Костромская область | G35: =IF(B35=0," ",VLOOKUP($B35,[1]Спортсмены!$B$1:$H$65536,6,FALSE)) -> Кострома, КГУ | I35: 0.00060509259 | J35: =IF(I35=0," ",IF(I35<=[1]Разряды!$D$6,[1]Разряды!$D$3,IF(I35<=[1]Разряды!$E$6,[1]Разряды!$E$3,IF(I35<=[1]Разряды!$F$6,[1]Разряды!$F$3,IF(I35<=[1]Разряды!$G$6,[1]Разряды!$G$3,IF(I35<=[1]Разряды!$H$6,[1]Разряды!$H$3,IF(I35<=[1]Разряды!$I$6,[1]Разряды!$I$3,IF(I35<=[1]Разряды!$J$6,[1]Разряды!$J$3,"б/р")))))))) -> 2р | K35: 1 | L35: =IF(B35=0," ",VLOOKUP($B35,[1]Спортсмены!$B$1:$H$65536,7,FALSE)) -> Павлов Е.А.
A36: 26 | B36: 198 | C36: =IF(B36=0," ",VLOOKUP(B36,[1]Спортсмены!B$1:H$65536,2,FALSE)) -> Банёв Дмитрий | D36: =IF(B36=0," ",VLOOKUP($B36,[1]Спортсмены!$B$1:$H$65536,3,FALSE)) -> 24.08.2000 | E36: =IF(B36=0," ",IF(VLOOKUP($B36,[1]Спортсмены!$B$1:$H$65536,4,FALSE)=0," ",VLOOKUP($B36,[1]Спортсмены!$B$1:$H$65536,4,FALSE))) -> 1р | F36: =IF(B36=0," ",VLOOKUP($B36,[1]Спортсмены!$B$1:$H$65536,5,FALSE)) -> Красноярский край | G36: =IF(B36=0," ",VLOOKUP($B36,[1]Спортсмены!$B$1:$H$65536,6,FALSE)) -> Красноярск, СФУ | I36: 0.00060706019 | J36: =IF(I36=0," ",IF(I36<=[1]Разряды!$D$6,[1]Разряды!$D$3,IF(I36<=[1]Разряды!$E$6,[1]Разряды!$E$3,IF(I36<=[1]Разряды!$F$6,[1]Разряды!$F$3,IF(I36<=[1]Разряды!$G$6,[1]Разряды!$G$3,IF(I36<=[1]Разряды!$H$6,[1]Разряды!$H$3,IF(I36<=[1]Разряды!$I$6,[1]Разряды!$I$3,IF(I36<=[1]Разряды!$J$6,[1]Разряды!$J$3,"б/р")))))))) -> 2р | K36: 1 | L36: =IF(B36=0," ",VLOOKUP($B36,[1]Спортсмены!$B$1:$H$65536,7,FALSE)) -> Федоров В.И.
A37: 27 | B37: 143 | C37: =IF(B37=0," ",VLOOKUP(B37,[1]Спортсмены!B$1:H$65536,2,FALSE)) -> Малков Александр | D37: =IF(B37=0," ",VLOOKUP($B37,[1]Спортсмены!$B$1:$H$65536,3,FALSE)) -> 05.05.1999 | E37: =IF(B37=0," ",IF(VLOOKUP($B37,[1]Спортсмены!$B$1:$H$65536,4,FALSE)=0," ",VLOOKUP($B37,[1]Спортсмены!$B$1:$H$65536,4,FALSE))) -> КМС | F37: =IF(B37=0," ",VLOOKUP($B37,[1]Спортсмены!$B$1:$H$65536,5,FALSE)) -> Костромская область | G37: =IF(B37=0," ",VLOOKUP($B37,[1]Спортсмены!$B$1:$H$65536,6,FALSE)) -> Кострома, КГУ | I37: 0.00060844907 | J37: =IF(I37=0," ",IF(I37<=[1]Разряды!$D$6,[1]Разряды!$D$3,IF(I37<=[1]Разряды!$E$6,[1]Разряды!$E$3,IF(I37<=[1]Разряды!$F$6,[1]Разряды!$F$3,IF(I37<=[1]Разряды!$G$6,[1]Разряды!$G$3,IF(I37<=[1]Разряды!$H$6,[1]Разряды!$H$3,IF(I37<=[1]Разряды!$I$6,[1]Разряды!$I$3,IF(I37<=[1]Разряды!$J$6,[1]Разряды!$J$3,"б/р")))))))) -> 2р | K37: 1 | L37: =IF(B37=0," ",VLOOKUP($B37,[1]Спортсмены!$B$1:$H$65536,7,FALSE)) -> Лякин С.И., Буликов Д.В.
A38: 28 | B38: 224 | C38: =IF(B38=0," ",VLOOKUP(B38,[1]Спортсмены!B$1:H$65536,2,FALSE)) -> Анисимов Александр | D38: =IF(B38=0," ",VLOOKUP($B38,[1]Спортсмены!$B$1:$H$65536,3,FALSE)) -> 21.12.1998 | E38: =IF(B38=0," ",IF(VLOOKUP($B38,[1]Спортсмены!$B$1:$H$65536,4,FALSE)=0," ",VLOOKUP($B38,[1]Спортсмены!$B$1:$H$65536,4,FALSE))) -> КМС | F38: =IF(B38=0," ",VLOOKUP($B38,[1]Спортсмены!$B$1:$H$65536,5,FALSE)) -> Тульская область | G38: =IF(B38=0," ",VLOOKUP($B38,[1]Спортсмены!$B$1:$H$65536,6,FALSE)) -> Тула, ТулГУ | I38: 0.00061087963 | J38: =IF(I38=0," ",IF(I38<=[1]Разряды!$D$6,[1]Разряды!$D$3,IF(I38<=[1]Разряды!$E$6,[1]Разряды!$E$3,IF(I38<=[1]Разряды!$F$6,[1]Разряды!$F$3,IF(I38<=[1]Разряды!$G$6,[1]Разряды!$G$3,IF(I38<=[1]Разряды!$H$6,[1]Разряды!$H$3,IF(I38<=[1]Разряды!$I$6,[1]Разряды!$I$3,IF(I38<=[1]Разряды!$J$6,[1]Разряды!$J$3,"б/р")))))))) -> 2р | K38: 1 | L38: =IF(B38=0," ",VLOOKUP($B38,[1]Спортсмены!$B$1:$H$65536,7,FALSE)) -> Анисимов В.Н.
A39: 29 | B39: 152 | C39: =IF(B39=0," ",VLOOKUP(B39,[1]Спортсмены!B$1:H$65536,2,FALSE)) -> Черепенин Максим | D39: =IF(B39=0," ",VLOOKUP($B39,[1]Спортсмены!$B$1:$H$65536,3,FALSE)) -> 22.12.1999 | E39: =IF(B39=0," ",IF(VLOOKUP($B39,[1]Спортсмены!$B$1:$H$65536,4,FALSE)=0," ",VLOOKUP($B39,[1]Спортсмены!$B$1:$H$65536,4,FALSE))) -> 1р | F39: =IF(B39=0," ",VLOOKUP($B39,[1]Спортсмены!$B$1:$H$65536,5,FALSE)) -> Костромская область | G39: =IF(B39=0," ",VLOOKUP($B39,[1]Спортсмены!$B$1:$H$65536,6,FALSE)) -> Кострома, КГУ | I39: 0.0006119213 | J39: =IF(I39=0," ",IF(I39<=[1]Разряды!$D$6,[1]Разряды!$D$3,IF(I39<=[1]Разряды!$E$6,[1]Разряды!$E$3,IF(I39<=[1]Разряды!$F$6,[1]Разряды!$F$3,IF(I39<=[1]Разряды!$G$6,[1]Разряды!$G$3,IF(I39<=[1]Разряды!$H$6,[1]Разряды!$H$3,IF(I39<=[1]Разряды!$I$6,[1]Разряды!$I$3,IF(I39<=[1]Разряды!$J$6,[1]Разряды!$J$3,"б/р")))))))) -> 2р | K39: 1 | L39: =IF(B39=0," ",VLOOKUP($B39,[1]Спортсмены!$B$1:$H$65536,7,FALSE)) -> Павлов Е.А.
A40: 30 | B40: 147 | C40: =IF(B40=0," ",VLOOKUP(B40,[1]Спортсмены!B$1:H$65536,2,FALSE)) -> Адугин Алексей | D40: =IF(B40=0," ",VLOOKUP($B40,[1]Спортсмены!$B$1:$H$65536,3,FALSE)) -> 28.03.1998 | E40: =IF(B40=0," ",IF(VLOOKUP($B40,[1]Спортсмены!$B$1:$H$65536,4,FALSE)=0," ",VLOOKUP($B40,[1]Спортсмены!$B$1:$H$65536,4,FALSE))) -> 1р | F40: =IF(B40=0," ",VLOOKUP($B40,[1]Спортсмены!$B$1:$H$65536,5,FALSE)) -> Костромская область | G40: =IF(B40=0," ",VLOOKUP($B40,[1]Спортсмены!$B$1:$H$65536,6,FALSE)) -> Кострома, КГУ | I40: 0.00061585648 | J40: =IF(I40=0," ",IF(I40<=[1]Разряды!$D$6,[1]Разряды!$D$3,IF(I40<=[1]Разряды!$E$6,[1]Разряды!$E$3,IF(I40<=[1]Разряды!$F$6,[1]Разряды!$F$3,IF(I40<=[1]Разряды!$G$6,[1]Разряды!$G$3,IF(I40<=[1]Разряды!$H$6,[1]Разряды!$H$3,IF(I40<=[1]Разряды!$I$6,[1]Разряды!$I$3,IF(I40<=[1]Разряды!$J$6,[1]Разряды!$J$3,"б/р")))))))) -> 2р | K40: 1 | L40: =IF(B40=0," ",VLOOKUP($B40,[1]Спортсмены!$B$1:$H$65536,7,FALSE)) -> самостоятельно
A41: 31 | B41: 196 | C41: =IF(B41=0," ",VLOOKUP(B41,[1]Спортсмены!B$1:H$65536,2,FALSE)) -> Котов Никита | D41: =IF(B41=0," ",VLOOKUP($B41,[1]Спортсмены!$B$1:$H$65536,3,FALSE)) -> 17.06.1998 | E41: =IF(B41=0," ",IF(VLOOKUP($B41,[1]Спортсмены!$B$1:$H$65536,4,FALSE)=0," ",VLOOKUP($B41,[1]Спортсмены!$B$1:$H$65536,4,FALSE))) -> 1р | F41: =IF(B41=0," ",VLOOKUP($B41,[1]Спортсмены!$B$1:$H$65536,5,FALSE)) -> Ярославская область | G41: =IF(B41=0," ",VLOOKUP($B41,[1]Спортсмены!$B$1:$H$65536,6,FALSE)) -> Ярославль, ЯрГУ им. П.Г. Демидова | I41: 0.00061597222 | J41: =IF(I41=0," ",IF(I41<=[1]Разряды!$D$6,[1]Разряды!$D$3,IF(I41<=[1]Разряды!$E$6,[1]Разряды!$E$3,IF(I41<=[1]Разряды!$F$6,[1]Разряды!$F$3,IF(I41<=[1]Разряды!$G$6,[1]Разряды!$G$3,IF(I41<=[1]Разряды!$H$6,[1]Разряды!$H$3,IF(I41<=[1]Разряды!$I$6,[1]Разряды!$I$3,IF(I41<=[1]Разряды!$J$6,[1]Разряды!$J$3,"б/р")))))))) -> 2р | K41: 1 | L41: =IF(B41=0," ",VLOOKUP($B41,[1]Спортсмены!$B$1:$H$65536,7,FALSE)) -> Станкевич В.А.
A42: 32 | B42: 229 | C42: =IF(B42=0," ",VLOOKUP(B42,[1]Спортсмены!B$1:H$65536,2,FALSE)) -> Гусятников Борис | D42: =IF(B42=0," ",VLOOKUP($B42,[1]Спортсмены!$B$1:$H$65536,3,FALSE)) -> 12.01.1999 | E42: =IF(B42=0," ",IF(VLOOKUP($B42,[1]Спортсмены!$B$1:$H$65536,4,FALSE)=0," ",VLOOKUP($B42,[1]Спортсмены!$B$1:$H$65536,4,FALSE))) -> 1р | F42: =IF(B42=0," ",VLOOKUP($B42,[1]Спортсмены!$B$1:$H$65536,5,FALSE)) -> Пензенская область | G42: =IF(B42=0," ",VLOOKUP($B42,[1]Спортсмены!$B$1:$H$65536,6,FALSE)) -> Пенза, ПензГТУ | I42: 0.00061967593 | J42: =IF(I42=0," ",IF(I42<=[1]Разряды!$D$6,[1]Разряды!$D$3,IF(I42<=[1]Разряды!$E$6,[1]Разряды!$E$3,IF(I42<=[1]Разряды!$F$6,[1]Разряды!$F$3,IF(I42<=[1]Разряды!$G$6,[1]Разряды!$G$3,IF(I42<=[1]Разряды!$H$6,[1]Разряды!$H$3,IF(I42<=[1]Разряды!$I$6,[1]Разряды!$I$3,IF(I42<=[1]Разряды!$J$6,[1]Разряды!$J$3,"б/р")))))))) -> 2р | K42: 1 | L42: =IF(B42=0," ",VLOOKUP($B42,[1]Спортсмены!$B$1:$H$65536,7,FALSE)) -> Гарынов А.А.
... A53: 43 | B53: 165 | C53: =IF(B53=0," ",VLOOKUP(B53,[1]Спортсмены!B$1:H$65536,2,FALSE)) -> Игнатов Дмитрий | D53: =IF(B53=0," ",VLOOKUP($B53,[1]Спортсмены!$B$1:$H$65536,3,FALSE)) -> 09.09.1998 | E53: =IF(B53=0," ",IF(VLOOKUP($B53,[1]Спортсмены!$B$1:$H$65536,4,FALSE)=0," ",VLOOKUP($B53,[1]Спортсмены!$B$1:$H$65536,4,FALSE))) -> 1р | F53: =IF(B53=0," ",VLOOKUP($B53,[1]Спортсмены!$B$1:$H$65536,5,FALSE)) -> Калининградская область | G53: =IF(B53=0," ",VLOOKUP($B53,[1]Спортсмены!$B$1:$H$65536,6,FALSE)) -> Калининград, КГТУ-БГАРФ | I53: 0.00067002315 | J53: =IF(I53=0," ",IF(I53<=[1]Разряды!$D$6,[1]Разряды!$D$3,IF(I53<=[1]Разряды!$E$6,[1]Разряды!$E$3,IF(I53<=[1]Разряды!$F$6,[1]Разряды!$F$3,IF(I53<=[1]Разряды!$G$6,[1]Разряды!$G$3,IF(I53<=[1]Разряды!$H$6,[1]Разряды!$H$3,IF(I53<=[1]Разряды!$I$6,[1]Разряды!$I$3,IF(I53<=[1]Разряды!$J$6,[1]Разряды!$J$3,"б/р")))))))) -> 3р | K53: 0 | L53: =IF(B53=0," ",VLOOKUP($B53,[1]Спортсмены!$B$1:$H$65536,7,FALSE)) -> 0
B54: 135 | C54: =IF(B54=0," ",VLOOKUP(B54,[1]Спортсмены!B$1:H$65536,2,FALSE)) -> Елохин Егор | D54: =IF(B54=0," ",VLOOKUP($B54,[1]Спортсмены!$B$1:$H$65536,3,FALSE)) -> 18.12.1999 | E54: =IF(B54=0," ",IF(VLOOKUP($B54,[1]Спортсмены!$B$1:$H$65536,4,FALSE)=0," ",VLOOKUP($B54,[1]Спортсмены!$B$1:$H$65536,4,FALSE))) -> КМС | F54: =IF(B54=0," ",VLOOKUP($B54,[1]Спортсмены!$B$1:$H$65536,5,FALSE)) -> Сахалинская область | G54: =IF(B54=0," ",VLOOKUP($B54,[1]Спортсмены!$B$1:$H$65536,6,FALSE)) -> СахГУ | I54: r|med | J54: =IF(I54=0," ",IF(I54<=[1]Разряды!$D$6,[1]Разряды!$D$3,IF(I54<=[1]Разряды!$E$6,[1]Разряды!$E$3,IF(I54<=[1]Разряды!$F$6,[1]Разряды!$F$3,IF(I54<=[1]Разряды!$G$6,[1]Разряды!$G$3,IF(I54<=[1]Разряды!$H$6,[1]Разряды!$H$3,IF(I54<=[1]Разряды!$I$6,[1]Разряды!$I$3,IF(I54<=[1]Разряды!$J$6,[1]Разряды!$J$3,"б/р")))))))) -> б/р | K54: 0 | L54: =IF(B54=0," ",VLOOKUP($B54,[1]Спортсмены!$B$1:$H$65536,7,FALSE)) -> Долгов С.А., Елохина Е.В.
A55: в/к | B55: 114 | C55: =IF(B55=0," ",VLOOKUP(B55,[1]Спортсмены!B$1:H$65536,2,FALSE)) -> Светлов Даниил | D55: =IF(B55=0," ",VLOOKUP($B55,[1]Спортсмены!$B$1:$H$65536,3,FALSE)) -> 19.11.1999 | E55: =IF(B55=0," ",IF(VLOOKUP($B55,[1]Спортсмены!$B$1:$H$65536,4,FALSE)=0," ",VLOOKUP($B55,[1]Спортсмены!$B$1:$H$65536,4,FALSE))) -> КМС | F55: =IF(B55=0," ",VLOOKUP($B55,[1]Спортсмены!$B$1:$H$65536,5,FALSE)) -> Ярославская область | G55: =IF(B55=0," ",VLOOKUP($B55,[1]Спортсмены!$B$1:$H$65536,6,FALSE)) -> Рыбинск, МАУ СШОР № 2 | I55: 0.00057349537 | J55: =IF(I55=0," ",IF(I55<=[1]Разряды!$D$6,[1]Разряды!$D$3,IF(I55<=[1]Разряды!$E$6,[1]Разряды!$E$3,IF(I55<=[1]Разряды!$F$6,[1]Разряды!$F$3,IF(I55<=[1]Разряды!$G$6,[1]Разряды!$G$3,IF(I55<=[1]Разряды!$H$6,[1]Разряды!$H$3,IF(I55<=[1]Разряды!$I$6,[1]Разряды!$I$3,IF(I55<=[1]Разряды!$J$6,[1]Разряды!$J$3,"б/р")))))))) -> кмс | L55: =IF(B55=0," ",VLOOKUP($B55,[1]Спортсмены!$B$1:$H$65536,7,FALSE)) -> Зверев В.Н.
B59: Главный судья, спортивный судья ВК | G59: Хрущев Е.Н., г. Ярославль
B62: Главный секретарь, спортивный судья ВК | G62: Тараканова Ю.Ф., г. Ярославль

Sheet 800м
A1: Чемпионат Российского студенческого спортивного союза
A2: мужчины и женщины
L3: 27-28 июня 2019 г.
K4: стадион "Шинник"
L5: г. Ярославль
D6: 28.06.2019г. | E6: 0.54166667 | F6: Финальные забеги | H6: ПРОТОКОЛ СОРЕВНОВАНИЙ
C7: Мужчины | D7: Бег 800 м
A8: Место | B8: Номер | C8: Фамилия, имя | D8: Дата рожд. | E8: Квал. | F8: Команда | G8: ВУЗ | H8: Результат | J8: Вып. разр. | K8: Очки | L8: Ф.И.О. тренера
H9: фин. забеги
A10: 1 | B10: 319 | C10: =IF(B10=0," ",VLOOKUP(B10,[1]Спортсмены!B$1:H$65536,2,FALSE)) -> Холмогоров Константин | D10: =IF(B10=0," ",VLOOKUP($B10,[1]Спортсмены!$B$1:$H$65536,3,FALSE)) -> 07.02.1996 | E10: =IF(B10=0," ",IF(VLOOKUP($B10,[1]Спортсмены!$B$1:$H$65536,4,FALSE)=0," ",VLOOKUP($B10,[1]Спортсмены!$B$1:$H$65536,4,FALSE))) -> МСМК | F10: =IF(B10=0," ",VLOOKUP($B10,[1]Спортсмены!$B$1:$H$65536,5,FALSE)) -> Челябинская область | G10: =IF(B10=0," ",VLOOKUP($B10,[1]Спортсмены!$B$1:$H$65536,6,FALSE)) -> Челябинск, УралГУФК | I10: 0.0012780093 | J10: =IF(I10=0," ",IF(I10<=[1]Разряды!$D$7,[1]Разряды!$D$3,IF(I10<=[1]Разряды!$E$7,[1]Разряды!$E$3,IF(I10<=[1]Разряды!$F$7,[1]Разряды!$F$3,IF(I10<=[1]Разряды!$G$7,[1]Разряды!$G$3,IF(I10<=[1]Разряды!$H$7,[1]Разряды!$H$3,IF(I10<=[1]Разряды!$I$7,[1]Разряды!$I$3,IF(I10<=[1]Разряды!$J$7,[1]Разряды!$J$3,"б/р")))))))) -> кмс | K10: 18+5 | L10: =IF(B10=0," ",VLOOKUP($B10,[1]Спортсмены!$B$1:$H$65536,7,FALSE)) -> Суворов Г.Н.
A11: 2 | B11: 213 | C11: =IF(B11=0," ",VLOOKUP(B11,[1]Спортсмены!B$1:H$65536,2,FALSE)) -> Горин Николай | D11: =IF(B11=0," ",VLOOKUP($B11,[1]Спортсмены!$B$1:$H$65536,3,FALSE)) -> 03.01.1995 | E11: =IF(B11=0," ",IF(VLOOKUP($B11,[1]Спортсмены!$B$1:$H$65536,4,FALSE)=0," ",VLOOKUP($B11,[1]Спортсмены!$B$1:$H$65536,4,FALSE))) -> МС | F11: =IF(B11=0," ",VLOOKUP($B11,[1]Спортсмены!$B$1:$H$65536,5,FALSE)) -> Республика Мордовия | G11: =IF(B11=0," ",VLOOKUP($B11,[1]Спортсмены!$B$1:$H$65536,6,FALSE)) -> Саранск, ФГБОУ ВО "НИМГУ им. Н.П. Огарева" | I11: 0.0013049769 | J11: =IF(I11=0," ",IF(I11<=[1]Разряды!$D$7,[1]Разряды!$D$3,IF(I11<=[1]Разряды!$E$7,[1]Разряды!$E$3,IF(I11<=[1]Разряды!$F$7,[1]Разряды!$F$3,IF(I11<=[1]Разряды!$G$7,[1]Разряды!$G$3,IF(I11<=[1]Разряды!$H$7,[1]Разряды!$H$3,IF(I11<=[1]Разряды!$I$7,[1]Разряды!$I$3,IF(I11<=[1]Разряды!$J$7,[1]Разряды!$J$3,"б/р")))))))) -> кмс | K11: 15+5 | L11: =IF(B11=0," ",VLOOKUP($B11,[1]Спортсмены!$B$1:$H$65536,7,FALSE)) -> Телятников М.М., Аранов С.М.
A12: 3 | B12: 241 | C12: =IF(B12=0," ",VLOOKUP(B12,[1]Спортсмены!B$1:H$65536,2,FALSE)) -> Чернышов Дмитрий | D12: =IF(B12=0," ",VLOOKUP($B12,[1]Спортсмены!$B$1:$H$65536,3,FALSE)) -> 18.10.2000 | E12: =IF(B12=0," ",IF(VLOOKUP($B12,[1]Спортсмены!$B$1:$H$65536,4,FALSE)=0," ",VLOOKUP($B12,[1]Спортсмены!$B$1:$H$65536,4,FALSE))) -> КМС | F12: =IF(B12=0," ",VLOOKUP($B12,[1]Спортсмены!$B$1:$H$65536,5,FALSE)) -> Удмуртская Республика | G12: =IF(B12=0," ",VLOOKUP($B12,[1]Спортсмены!$B$1:$H$65536,6,FALSE)) -> Ижевск, УдГУ | I12: 0.0013510417 | J12: =IF(I12=0," ",IF(I12<=[1]Разряды!$D$7,[1]Разряды!$D$3,IF(I12<=[1]Разряды!$E$7,[1]Разряды!$E$3,IF(I12<=[1]Разряды!$F$7,[1]Разряды!$F$3,IF(I12<=[1]Разряды!$G$7,[1]Разряды!$G$3,IF(I12<=[1]Разряды!$H$7,[1]Разряды!$H$3,IF(I12<=[1]Разряды!$I$7,[1]Разряды!$I$3,IF(I12<=[1]Разряды!$J$7,[1]Разряды!$J$3,"б/р")))))))) -> 1р | K12: 13 | L12: =IF(B12=0," ",VLOOKUP($B12,[1]Спортсмены!$B$1:$H$65536,7,FALSE)) -> Данильчук Р.Н.
A13: 4 | B13: 243 | C13: =IF(B13=0," ",VLOOKUP(B13,[1]Спортсмены!B$1:H$65536,2,FALSE)) -> Ардашев Иван | D13: =IF(B13=0," ",VLOOKUP($B13,[1]Спортсмены!$B$1:$H$65536,3,FALSE)) -> 31.01.1998 | E13: =IF(B13=0," ",IF(VLOOKUP($B13,[1]Спортсмены!$B$1:$H$65536,4,FALSE)=0," ",VLOOKUP($B13,[1]Спортсмены!$B$1:$H$65536,4,FALSE))) -> КМС | F13: =IF(B13=0," ",VLOOKUP($B13,[1]Спортсмены!$B$1:$H$65536,5,FALSE)) -> Удмуртская Республика | G13: =IF(B13=0," ",VLOOKUP($B13,[1]Спортсмены!$B$1:$H$65536,6,FALSE)) -> Ижевск, УдГУ | I13: 0.001359838 | J13: =IF(I13=0," ",IF(I13<=[1]Разряды!$D$7,[1]Разряды!$D$3,IF(I13<=[1]Разряды!$E$7,[1]Разряды!$E$3,IF(I13<=[1]Разряды!$F$7,[1]Разряды!$F$3,IF(I13<=[1]Разряды!$G$7,[1]Разряды!$G$3,IF(I13<=[1]Разряды!$H$7,[1]Разряды!$H$3,IF(I13<=[1]Разряды!$I$7,[1]Разряды!$I$3,IF(I13<=[1]Разряды!$J$7,[1]Разряды!$J$3,"б/р")))))))) -> 1р | K13: 12 | L13: =IF(B13=0," ",VLOOKUP($B13,[1]Спортсмены!$B$1:$H$65536,7,FALSE)) -> Алабужев А.Е.
A14: 5 | B14: 303 | C14: =IF(B14=0," ",VLOOKUP(B14,[1]Спортсмены!B$1:H$65536,2,FALSE)) -> Веревкин Данил | D14: =IF(B14=0," ",VLOOKUP($B14,[1]Спортсмены!$B$1:$H$65536,3,FALSE)) -> 06.03.2000 | E14: =IF(B14=0," ",IF(VLOOKUP($B14,[1]Спортсмены!$B$1:$H$65536,4,FALSE)=0," ",VLOOKUP($B14,[1]Спортсмены!$B$1:$H$65536,4,FALSE))) -> КМС | F14: =IF(B14=0," ",VLOOKUP($B14,[1]Спортсмены!$B$1:$H$65536,5,FALSE)) -> Пермский край | G14: =IF(B14=0," ",VLOOKUP($B14,[1]Спортсмены!$B$1:$H$65536,6,FALSE)) -> Пермь, ПГФА | I14: 0.0013715278 | J14: =IF(I14=0," ",IF(I14<=[1]Разряды!$D$7,[1]Разряды!$D$3,IF(I14<=[1]Разряды!$E$7,[1]Разряды!$E$3,IF(I14<=[1]Разряды!$F$7,[1]Разряды!$F$3,IF(I14<=[1]Разряды!$G$7,[1]Разряды!$G$3,IF(I14<=[1]Разряды!$H$7,[1]Разряды!$H$3,IF(I14<=[1]Разряды!$I$7,[1]Разряды!$I$3,IF(I14<=[1]Разряды!$J$7,[1]Разряды!$J$3,"б/р")))))))) -> 1р | K14: л | L14: =IF(B14=0," ",VLOOKUP($B14,[1]Спортсмены!$B$1:$H$65536,7,FALSE)) -> Окулов А.А., Суворов Н.В., Суворова Т.Н.
A15: 6 | B15: 299 | C15: =IF(B15=0," ",VLOOKUP(B15,[1]Спортсмены!B$1:H$65536,2,FALSE)) -> Болотов Сергей | D15: =IF(B15=0," ",VLOOKUP($B15,[1]Спортсмены!$B$1:$H$65536,3,FALSE)) -> 09.04.1996 | E15: =IF(B15=0," ",IF(VLOOKUP($B15,[1]Спортсмены!$B$1:$H$65536,4,FALSE)=0," ",VLOOKUP($B15,[1]Спортсмены!$B$1:$H$65536,4,FALSE))) -> КМС | F15: =IF(B15=0," ",VLOOKUP($B15,[1]Спортсмены!$B$1:$H$65536,5,FALSE)) -> Владимирская область | G15: =IF(B15=0," ",VLOOKUP($B15,[1]Спортсмены!$B$1:$H$65536,6,FALSE)) -> Владимир, ВлГУ им. А.Г. и Н.Г Столетовых | I15: 0.0013733796 | J15: =IF(I15=0," ",IF(I15<=[1]Разряды!$D$7,[1]Разряды!$D$3,IF(I15<=[1]Разряды!$E$7,[1]Разряды!$E$3,IF(I15<=[1]Разряды!$F$7,[1]Разряды!$F$3,IF(I15<=[1]Разряды!$G$7,[1]Разряды!$G$3,IF(I15<=[1]Разряды!$H$7,[1]Разряды!$H$3,IF(I15<=[1]Разряды!$I$7,[1]Разряды!$I$3,IF(I15<=[1]Разряды!$J$7,[1]Разряды!$J$3,"б/р")))))))) -> 1р | K15: 11 | L15: =IF(B15=0," ",VLOOKUP($B15,[1]Спортсмены!$B$1:$H$65536,7,FALSE)) -> Саков А.П., Герцен Е.А.
A16: 7 | B16: 226 | C16: =IF(B16=0," ",VLOOKUP(B16,[1]Спортсмены!B$1:H$65536,2,FALSE)) -> Индус Владимир | D16: =IF(B16=0," ",VLOOKUP($B16,[1]Спортсмены!$B$1:$H$65536,3,FALSE)) -> 17.01.1999 | E16: =IF(B16=0," ",IF(VLOOKUP($B16,[1]Спортсмены!$B$1:$H$65536,4,FALSE)=0," ",VLOOKUP($B16,[1]Спортсмены!$B$1:$H$65536,4,FALSE))) -> КМС | F16: =IF(B16=0," ",VLOOKUP($B16,[1]Спортсмены!$B$1:$H$65536,5,FALSE)) -> Тульская область | G16: =IF(B16=0," ",VLOOKUP($B16,[1]Спортсмены!$B$1:$H$65536,6,FALSE)) -> Тула, ТулГУ | I16: 0.0013761574 | J16: =IF(I16=0," ",IF(I16<=[1]Разряды!$D$7,[1]Разряды!$D$3,IF(I16<=[1]Разряды!$E$7,[1]Разряды!$E$3,IF(I16<=[1]Разряды!$F$7,[1]Разряды!$F$3,IF(I16<=[1]Разряды!$G$7,[1]Разряды!$G$3,IF(I16<=[1]Разряды!$H$7,[1]Разряды!$H$3,IF(I16<=[1]Разряды!$I$7,[1]Разряды!$I$3,IF(I16<=[1]Разряды!$J$7,[1]Разряды!$J$3,"б/р")))))))) -> 1р | K16: 10 | L16: =IF(B16=0," ",VLOOKUP($B16,[1]Спортсмены!$B$1:$H$65536,7,FALSE)) -> Анисимов В.Н.
A17: 8 | B17: 284 | C17: =IF(B17=0," ",VLOOKUP(B17,[1]Спортсмены!B$1:H$65536,2,FALSE)) -> Лукша Владислав | D17: =IF(B17=0," ",VLOOKUP($B17,[1]Спортсмены!$B$1:$H$65536,3,FALSE)) -> 14.01.1996 | E17: =IF(B17=0," ",IF(VLOOKUP($B17,[1]Спортсмены!$B$1:$H$65536,4,FALSE)=0," ",VLOOKUP($B17,[1]Спортсмены!$B$1:$H$65536,4,FALSE))) -> 1р | F17: =IF(B17=0," ",VLOOKUP($B17,[1]Спортсмены!$B$1:$H$65536,5,FALSE)) -> Архангельская область | G17: =IF(B17=0," ",VLOOKUP($B17,[1]Спортсмены!$B$1:$H$65536,6,FALSE)) -> Архангельск, САФУ им. М.В. Ломоносова | I17: 0.0013767361 | J17: =IF(I17=0," ",IF(I17<=[1]Разряды!$D$7,[1]Разряды!$D$3,IF(I17<=[1]Разряды!$E$7,[1]Разряды!$E$3,IF(I17<=[1]Разряды!$F$7,[1]Разряды!$F$3,IF(I17<=[1]Разряды!$G$7,[1]Разряды!$G$3,IF(I17<=[1]Разряды!$H$7,[1]Разряды!$H$3,IF(I17<=[1]Разряды!$I$7,[1]Разряды!$I$3,IF(I17<=[1]Разряды!$J$7,[1]Разряды!$J$3,"б/р")))))))) -> 1р | K17: 9 | L17: =IF(B17=0," ",VLOOKUP($B17,[1]Спортсмены!$B$1:$H$65536,7,FALSE)) -> Чернов А.В.
A18: 9 | B18: 244 | C18: =IF(B18=0," ",VLOOKUP(B18,[1]Спортсмены!B$1:H$65536,2,FALSE)) -> Фёдоров Артём | D18: =IF(B18=0," ",VLOOKUP($B18,[1]Спортсмены!$B$1:$H$65536,3,FALSE)) -> 23.08.1999 | E18: =IF(B18=0," ",IF(VLOOKUP($B18,[1]Спортсмены!$B$1:$H$65536,4,FALSE)=0," ",VLOOKUP($B18,[1]Спортсмены!$B$1:$H$65536,4,FALSE))) -> КМС | F18: =IF(B18=0," ",VLOOKUP($B18,[1]Спортсмены!$B$1:$H$65536,5,FALSE)) -> Удмуртская Республика | G18: =IF(B18=0," ",VLOOKUP($B18,[1]Спортсмены!$B$1:$H$65536,6,FALSE)) -> Ижевск, УдГУ | I18: 0.00138125 | J18: =IF(I18=0," ",IF(I18<=[1]Разряды!$D$7,[1]Разряды!$D$3,IF(I18<=[1]Разряды!$E$7,[1]Разряды!$E$3,IF(I18<=[1]Разряды!$F$7,[1]Разряды!$F$3,IF(I18<=[1]Разряды!$G$7,[1]Разряды!$G$3,IF(I18<=[1]Разряды!$H$7,[1]Разряды!$H$3,IF(I18<=[1]Разряды!$I$7,[1]Разряды!$I$3,IF(I18<=[1]Разряды!$J$7,[1]Разряды!$J$3,"б/р")))))))) -> 1р | K18: 8 | L18: =IF(B18=0," ",VLOOKUP($B18,[1]Спортсмены!$B$1:$H$65536,7,FALSE)) -> Данильчук Р.Н.
A19: 10 | B19: 336 | C19: =IF(B19=0," ",VLOOKUP(B19,[1]Спортсмены!B$1:H$65536,2,FALSE)) -> Широбоков Никита | D19: =IF(B19=0," ",VLOOKUP($B19,[1]Спортсмены!$B$1:$H$65536,3,FALSE)) -> 27.08.1998 | E19: =IF(B19=0," ",IF(VLOOKUP($B19,[1]Спортсмены!$B$1:$H$65536,4,FALSE)=0," ",VLOOKUP($B19,[1]Спортсмены!$B$1:$H$65536,4,FALSE))) -> КМС | F19: =IF(B19=0," ",VLOOKUP($B19,[1]Спортсмены!$B$1:$H$65536,5,FALSE)) -> Удмуртская Республика | G19: =IF(B19=0," ",VLOOKUP($B19,[1]Спортсмены!$B$1:$H$65536,6,FALSE)) -> Ижевск, ИжГТУ им. М.Т. Калашникова | I19: 0.0013828704 | J19: =IF(I19=0," ",IF(I19<=[1]Разряды!$D$7,[1]Разряды!$D$3,IF(I19<=[1]Разряды!$E$7,[1]Разряды!$E$3,IF(I19<=[1]Разряды!$F$7,[1]Разряды!$F$3,IF(I19<=[1]Разряды!$G$7,[1]Разряды!$G$3,IF(I19<=[1]Разряды!$H$7,[1]Разряды!$H$3,IF(I19<=[1]Разряды!$I$7,[1]Разряды!$I$3,IF(I19<=[1]Разряды!$J$7,[1]Разряды!$J$3,"б/р")))))))) -> 1р | K19: 7 | L19: =IF(B19=0," ",VLOOKUP($B19,[1]Спортсмены!$B$1:$H$65536,7,FALSE)) -> Сердцева А.Б.
A20: 11 | B20: 312 | C20: =IF(B20=0," ",VLOOKUP(B20,[1]Спортсмены!B$1:H$65536,2,FALSE)) -> Шамсуваров Инсаф | D20: =IF(B20=0," ",VLOOKUP($B20,[1]Спортсмены!$B$1:$H$65536,3,FALSE)) -> 09.01.1997 | E20: =IF(B20=0," ",IF(VLOOKUP($B20,[1]Спортсмены!$B$1:$H$65536,4,FALSE)=0," ",VLOOKUP($B20,[1]Спортсмены!$B$1:$H$65536,4,FALSE))) -> 1р | F20: =IF(B20=0," ",VLOOKUP($B20,[1]Спортсмены!$B$1:$H$65536,5,FALSE)) -> Самарская область | G20: =IF(B20=0," ",VLOOKUP($B20,[1]Спортсмены!$B$1:$H$65536,6,FALSE)) -> Самара, СГЭУ | I20: 0.0013842593 | J20: =IF(I20=0," ",IF(I20<=[1]Разряды!$D$7,[1]Разряды!$D$3,IF(I20<=[1]Разряды!$E$7,[1]Разряды!$E$3,IF(I20<=[1]Разряды!$F$7,[1]Разряды!$F$3,IF(I20<=[1]Разряды!$G$7,[1]Разряды!$G$3,IF(I20<=[1]Разряды!$H$7,[1]Разряды!$H$3,IF(I20<=[1]Разряды!$I$7,[1]Разряды!$I$3,IF(I20<=[1]Разряды!$J$7,[1]Разряды!$J$3,"б/р")))))))) -> 1р | K20: 6 | L20: =IF(B20=0," ",VLOOKUP($B20,[1]Спортсмены!$B$1:$H$65536,7,FALSE)) -> Смирнова У.В.
A21: 12 | B21: 134 | C21: =IF(B21=0," ",VLOOKUP(B21,[1]Спортсмены!B$1:H$65536,2,FALSE)) -> Нетяго Данил | D21: =IF(B21=0," ",VLOOKUP($B21,[1]Спортсмены!$B$1:$H$65536,3,FALSE)) -> 09.07.2001 | E21: =IF(B21=0," ",IF(VLOOKUP($B21,[1]Спортсмены!$B$1:$H$65536,4,FALSE)=0," ",VLOOKUP($B21,[1]Спортсмены!$B$1:$H$65536,4,FALSE))) -> КМС | F21: =IF(B21=0," ",VLOOKUP($B21,[1]Спортсмены!$B$1:$H$65536,5,FALSE)) -> Сахалинская область | G21: =IF(B21=0," ",VLOOKUP($B21,[1]Спортсмены!$B$1:$H$65536,6,FALSE)) -> СахГУ | I21: 0.0013866898 | J21: =IF(I21=0," ",IF(I21<=[1]Разряды!$D$7,[1]Разряды!$D$3,IF(I21<=[1]Разряды!$E$7,[1]Разряды!$E$3,IF(I21<=[1]Разряды!$F$7,[1]Разряды!$F$3,IF(I21<=[1]Разряды!$G$7,[1]Разряды!$G$3,IF(I21<=[1]Разряды!$H$7,[1]Разряды!$H$3,IF(I21<=[1]Разряды!$I$7,[1]Разряды!$I$3,IF(I21<=[1]Разряды!$J$7,[1]Разряды!$J$3,"б/р")))))))) -> 1р | K21: 5 | L21: =IF(B21=0," ",VLOOKUP($B21,[1]Спортсмены!$B$1:$H$65536,7,FALSE)) -> Быкова Т.Ф., Жижикин А.Н.
A22: 13 | B22: 326 | C22: =IF(B22=0," ",VLOOKUP(B22,[1]Спортсмены!B$1:H$65536,2,FALSE)) -> Меньщиков Антон | D22: =IF(B22=0," ",VLOOKUP($B22,[1]Спортсмены!$B$1:$H$65536,3,FALSE)) -> 13.09.1997 | E22: =IF(B22=0," ",IF(VLOOKUP($B22,[1]Спортсмены!$B$1:$H$65536,4,FALSE)=0," ",VLOOKUP($B22,[1]Спортсмены!$B$1:$H$65536,4,FALSE))) -> 1р | F22: =IF(B22=0," ",VLOOKUP($B22,[1]Спортсмены!$B$1:$H$65536,5,FALSE)) -> Челябинская область | G22: =IF(B22=0," ",VLOOKUP($B22,[1]Спортсмены!$B$1:$H$65536,6,FALSE)) -> Челябинск, УралГУФК | I22: 0.0013878472 | J22: =IF(I22=0," ",IF(I22<=[1]Разряды!$D$7,[1]Разряды!$D$3,IF(I22<=[1]Разряды!$E$7,[1]Разряды!$E$3,IF(I22<=[1]Разряды!$F$7,[1]Разряды!$F$3,IF(I22<=[1]Разряды!$G$7,[1]Разряды!$G$3,IF(I22<=[1]Разряды!$H$7,[1]Разряды!$H$3,IF(I22<=[1]Разряды!$I$7,[1]Разряды!$I$3,IF(I22<=[1]Разряды!$J$7,[1]Разряды!$J$3,"б/р")))))))) -> 1р | K22: 4 | L22: =IF(B22=0," ",VLOOKUP($B22,[1]Спортсмены!$B$1:$H$65536,7,FALSE)) -> Митюхов Д.М.
A23: 14 | B23: 301 | C23: =IF(B23=0," ",VLOOKUP(B23,[1]Спортсмены!B$1:H$65536,2,FALSE)) -> Гончаренко Александр | D23: =IF(B23=0," ",VLOOKUP($B23,[1]Спортсмены!$B$1:$H$65536,3,FALSE)) -> 14.07.1998 | E23: =IF(B23=0," ",IF(VLOOKUP($B23,[1]Спортсмены!$B$1:$H$65536,4,FALSE)=0," ",VLOOKUP($B23,[1]Спортсмены!$B$1:$H$65536,4,FALSE))) -> 1р | F23: =IF(B23=0," ",VLOOKUP($B23,[1]Спортсмены!$B$1:$H$65536,5,FALSE)) -> Ивановская область | G23: =IF(B23=0," ",VLOOKUP($B23,[1]Спортсмены!$B$1:$H$65536,6,FALSE)) -> Иваново, ИГСХА им. Д.К. Беляева | I23: 0.0013885417 | J23: =IF(I23=0," ",IF(I23<=[1]Разряды!$D$7,[1]Разряды!$D$3,IF(I23<=[1]Разряды!$E$7,[1]Разряды!$E$3,IF(I23<=[1]Разряды!$F$7,[1]Разряды!$F$3,IF(I23<=[1]Разряды!$G$7,[1]Разряды!$G$3,IF(I23<=[1]Разряды!$H$7,[1]Разряды!$H$3,IF(I23<=[1]Разряды!$I$7,[1]Разряды!$I$3,IF(I23<=[1]Разряды!$J$7,[1]Разряды!$J$3,"б/р")))))))) -> 1р | K23: 3 | L23: =IF(B23=0," ",VLOOKUP($B23,[1]Спортсмены!$B$1:$H$65536,7,FALSE)) -> Дряннов В.А.
A24: 15 | B24: 224 | C24: =IF(B24=0," ",VLOOKUP(B24,[1]Спортсмены!B$1:H$65536,2,FALSE)) -> Анисимов Александр | D24: =IF(B24=0," ",VLOOKUP($B24,[1]Спортсмены!$B$1:$H$65536,3,FALSE)) -> 21.12.1998 | E24: =IF(B24=0," ",IF(VLOOKUP($B24,[1]Спортсмены!$B$1:$H$65536,4,FALSE)=0," ",VLOOKUP($B24,[1]Спортсмены!$B$1:$H$65536,4,FALSE))) -> КМС | F24: =IF(B24=0," ",VLOOKUP($B24,[1]Спортсмены!$B$1:$H$65536,5,FALSE)) -> Тульская область | G24: =IF(B24=0," ",VLOOKUP($B24,[1]Спортсмены!$B$1:$H$65536,6,FALSE)) -> Тула, ТулГУ | I24: 0.0013907407 | J24: =IF(I24=0," ",IF(I24<=[1]Разряды!$D$7,[1]Разряды!$D$3,IF(I24<=[1]Разряды!$E$7,[1]Разряды!$E$3,IF(I24<=[1]Разряды!$F$7,[1]Разряды!$F$3,IF(I24<=[1]Разряды!$G$7,[1]Разряды!$G$3,IF(I24<=[1]Разряды!$H$7,[1]Разряды!$H$3,IF(I24<=[1]Разряды!$I$7,[1]Разряды!$I$3,IF(I24<=[1]Разряды!$J$7,[1]Разряды!$J$3,"б/р")))))))) -> 1р | K24: 2 | L24: =IF(B24=0," ",VLOOKUP($B24,[1]Спортсмены!$B$1:$H$65536,7,FALSE)) -> Анисимов В.Н.
A25: 16 | B25: 292 | C25: =IF(B25=0," ",VLOOKUP(B25,[1]Спортсмены!B$1:H$65536,2,FALSE)) -> Стриганов Артем | D25: =IF(B25=0," ",VLOOKUP($B25,[1]Спортсмены!$B$1:$H$65536,3,FALSE)) -> 18.10.1997 | E25: =IF(B25=0," ",IF(VLOOKUP($B25,[1]Спортсмены!$B$1:$H$65536,4,FALSE)=0," ",VLOOKUP($B25,[1]Спортсмены!$B$1:$H$65536,4,FALSE))) -> 1р | F25: =IF(B25=0," ",VLOOKUP($B25,[1]Спортсмены!$B$1:$H$65536,5,FALSE)) -> Нижегородская область | G25: =IF(B25=0," ",VLOOKUP($B25,[1]Спортсмены!$B$1:$H$65536,6,FALSE)) -> Нижний Новгород, ННГУ им. Н.И. Лобачевского | I25: 0.001393287 | J25: =IF(I25=0," ",IF(I25<=[1]Разряды!$D$7,[1]Разряды!$D$3,IF(I25<=[1]Разряды!$E$7,[1]Разряды!$E$3,IF(I25<=[1]Разряды!$F$7,[1]Разряды!$F$3,IF(I25<=[1]Разряды!$G$7,[1]Разряды!$G$3,IF(I25<=[1]Разряды!$H$7,[1]Разряды!$H$3,IF(I25<=[1]Разряды!$I$7,[1]Разряды!$I$3,IF(I25<=[1]Разряды!$J$7,[1]Разряды!$J$3,"б/р")))))))) -> 1р | K25: 1 | L25: =IF(B25=0," ",VLOOKUP($B25,[1]Спортсмены!$B$1:$H$65536,7,FALSE)) -> Сульдин П.А.
A26: 17 | B26: 167 | C26: =IF(B26=0," ",VLOOKUP(B26,[1]Спортсмены!B$1:H$65536,2,FALSE)) -> Лысечко Кирилл | D26: =IF(B26=0," ",VLOOKUP($B26,[1]Спортсмены!$B$1:$H$65536,3,FALSE)) -> 27.04.2000 | E26: =IF(B26=0," ",IF(VLOOKUP($B26,[1]Спортсмены!$B$1:$H$65536,4,FALSE)=0," ",VLOOKUP($B26,[1]Спортсмены!$B$1:$H$65536,4,FALSE))) -> 1р | F26: =IF(B26=0," ",VLOOKUP($B26,[1]Спортсмены!$B$1:$H$65536,5,FALSE)) -> Калининградская область | G26: =IF(B26=0," ",VLOOKUP($B26,[1]Спортсмены!$B$1:$H$65536,6,FALSE)) -> Калининград, КГТУ-БГАРФ | I26: 0.00139375 | J26: =IF(I26=0," ",IF(I26<=[1]Разряды!$D$7,[1]Разряды!$D$3,IF(I26<=[1]Разряды!$E$7,[1]Разряды!$E$3,IF(I26<=[1]Разряды!$F$7,[1]Разряды!$F$3,IF(I26<=[1]Разряды!$G$7,[1]Разряды!$G$3,IF(I26<=[1]Разряды!$H$7,[1]Разряды!$H$3,IF(I26<=[1]Разряды!$I$7,[1]Разряды!$I$3,IF(I26<=[1]Разряды!$J$7,[1]Разряды!$J$3,"б/р")))))))) -> 1р | K26: 1 | L26: =IF(B26=0," ",VLOOKUP($B26,[1]Спортсмены!$B$1:$H$65536,7,FALSE)) -> 0
... A40: 31 | B40: 193 | C40: =IF(B40=0," ",VLOOKUP(B40,[1]Спортсмены!B$1:H$65536,2,FALSE)) -> Аминов Рустам | D40: =IF(B40=0," ",VLOOKUP($B40,[1]Спортсмены!$B$1:$H$65536,3,FALSE)) -> 08.07.1997 | E40: =IF(B40=0," ",IF(VLOOKUP($B40,[1]Спортсмены!$B$1:$H$65536,4,FALSE)=0," ",VLOOKUP($B40,[1]Спортсмены!$B$1:$H$65536,4,FALSE))) -> 1р | F40: =IF(B40=0," ",VLOOKUP($B40,[1]Спортсмены!$B$1:$H$65536,5,FALSE)) -> Мурманская область | G40: =IF(B40=0," ",VLOOKUP($B40,[1]Спортсмены!$B$1:$H$65536,6,FALSE)) -> Мурманск, МАГУ | I40: 0.0015467593 | J40: =IF(I40=0," ",IF(I40<=[1]Разряды!$D$7,[1]Разряды!$D$3,IF(I40<=[1]Разряды!$E$7,[1]Разряды!$E$3,IF(I40<=[1]Разряды!$F$7,[1]Разряды!$F$3,IF(I40<=[1]Разряды!$G$7,[1]Разряды!$G$3,IF(I40<=[1]Разряды!$H$7,[1]Разряды!$H$3,IF(I40<=[1]Разряды!$I$7,[1]Разряды!$I$3,IF(I40<=[1]Разряды!$J$7,[1]Разряды!$J$3,"б/р")))))))) -> 3р | K40: 0 | L40: =IF(B40=0," ",VLOOKUP($B40,[1]Спортсмены!$B$1:$H$65536,7,FALSE)) -> Ахметов А.Р.
B41: 337 | C41: =IF(B41=0," ",VLOOKUP(B41,[1]Спортсмены!B$1:H$65536,2,FALSE)) -> Перевозчиков Иван | D41: =IF(B41=0," ",VLOOKUP($B41,[1]Спортсмены!$B$1:$H$65536,3,FALSE)) -> 21.05.1998 | E41: =IF(B41=0," ",IF(VLOOKUP($B41,[1]Спортсмены!$B$1:$H$65536,4,FALSE)=0," ",VLOOKUP($B41,[1]Спортсмены!$B$1:$H$65536,4,FALSE))) -> 1р | F41: =IF(B41=0," ",VLOOKUP($B41,[1]Спортсмены!$B$1:$H$65536,5,FALSE)) -> Удмуртская Республика | G41: =IF(B41=0," ",VLOOKUP($B41,[1]Спортсмены!$B$1:$H$65536,6,FALSE)) -> Ижевск, ИжГТУ им. М.Т. Калашникова | I41: DNF | K41: 0 | L41: =IF(B41=0," ",VLOOKUP($B41,[1]Спортсмены!$B$1:$H$65536,7,FALSE)) -> Сердцева А.Б.
B42: 195 | C42: =IF(B42=0," ",VLOOKUP(B42,[1]Спортсмены!B$1:H$65536,2,FALSE)) -> Гурин Дмитрий | D42: =IF(B42=0," ",VLOOKUP($B42,[1]Спортсмены!$B$1:$H$65536,3,FALSE)) -> 14.09.1997 | E42: =IF(B42=0," ",IF(VLOOKUP($B42,[1]Спортсмены!$B$1:$H$65536,4,FALSE)=0," ",VLOOKUP($B42,[1]Спортсмены!$B$1:$H$65536,4,FALSE))) -> 2р | F42: =IF(B42=0," ",VLOOKUP($B42,[1]Спортсмены!$B$1:$H$65536,5,FALSE)) -> Ярославская область | G42: =IF(B42=0," ",VLOOKUP($B42,[1]Спортсмены!$B$1:$H$65536,6,FALSE)) -> Ярославль, ЯрГУ им. П.Г. Демидова | I42: r|med | K42: 0 | L42: =IF(B42=0," ",VLOOKUP($B42,[1]Спортсмены!$B$1:$H$65536,7,FALSE)) -> Станкевич В.А.
B43: 143 | C43: =IF(B43=0," ",VLOOKUP(B43,[1]Спортсмены!B$1:H$65536,2,FALSE)) -> Малков Александр | D43: =IF(B43=0," ",VLOOKUP($B43,[1]Спортсмены!$B$1:$H$65536,3,FALSE)) -> 05.05.1999 | E43: =IF(B43=0," ",IF(VLOOKUP($B43,[1]Спортсмены!$B$1:$H$65536,4,FALSE)=0," ",VLOOKUP($B43,[1]Спортсмены!$B$1:$H$65536,4,FALSE))) -> КМС | F43: =IF(B43=0," ",VLOOKUP($B43,[1]Спортсмены!$B$1:$H$65536,5,FALSE)) -> Костромская область | G43: =IF(B43=0," ",VLOOKUP($B43,[1]Спортсмены!$B$1:$H$65536,6,FALSE)) -> Кострома, КГУ | I43: r|med | K43: 0 | L43: =IF(B43=0," ",VLOOKUP($B43,[1]Спортсмены!$B$1:$H$65536,7,FALSE)) -> Лякин С.И., Буликов Д.В.
B44: 147 | C44: =IF(B44=0," ",VLOOKUP(B44,[1]Спортсмены!B$1:H$65536,2,FALSE)) -> Адугин Алексей | D44: =IF(B44=0," ",VLOOKUP($B44,[1]Спортсмены!$B$1:$H$65536,3,FALSE)) -> 28.03.1998 | E44: =IF(B44=0," ",IF(VLOOKUP($B44,[1]Спортсмены!$B$1:$H$65536,4,FALSE)=0," ",VLOOKUP($B44,[1]Спортсмены!$B$1:$H$65536,4,FALSE))) -> 1р | F44: =IF(B44=0," ",VLOOKUP($B44,[1]Спортсмены!$B$1:$H$65536,5,FALSE)) -> Костромская область | G44: =IF(B44=0," ",VLOOKUP($B44,[1]Спортсмены!$B$1:$H$65536,6,FALSE)) -> Кострома, КГУ | I44: r|med | K44: 0 | L44: =IF(B44=0," ",VLOOKUP($B44,[1]Спортсмены!$B$1:$H$65536,7,FALSE)) -> самостоятельно
B45: 272 | C45: =IF(B45=0," ",VLOOKUP(B45,[1]Спортсмены!B$1:H$65536,2,FALSE)) -> Орлов Кирилл | D45: =IF(B45=0," ",VLOOKUP($B45,[1]Спортсмены!$B$1:$H$65536,3,FALSE)) -> 17.10.1998 | E45: =IF(B45=0," ",IF(VLOOKUP($B45,[1]Спортсмены!$B$1:$H$65536,4,FALSE)=0," ",VLOOKUP($B45,[1]Спортсмены!$B$1:$H$65536,4,FALSE))) -> КМС | F45: =IF(B45=0," ",VLOOKUP($B45,[1]Спортсмены!$B$1:$H$65536,5,FALSE)) -> Ивановская область | G45: =IF(B45=0," ",VLOOKUP($B45,[1]Спортсмены!$B$1:$H$65536,6,FALSE)) -> Иваново, ИГЭУ им. В.И. Ленина | I45: r|med | K45: 0 | L45: =IF(B45=0," ",VLOOKUP($B45,[1]Спортсмены!$B$1:$H$65536,7,FALSE)) -> Гильмутдинов Ю.В., Лукичев А.В.
B46: 120 | C46: =IF(B46=0," ",VLOOKUP(B46,[1]Спортсмены!B$1:H$65536,2,FALSE)) -> Васильев Александр | D46: =IF(B46=0," ",VLOOKUP($B46,[1]Спортсмены!$B$1:$H$65536,3,FALSE)) -> 08.02.1998 | E46: =IF(B46=0," ",IF(VLOOKUP($B46,[1]Спортсмены!$B$1:$H$65536,4,FALSE)=0," ",VLOOKUP($B46,[1]Спортсмены!$B$1:$H$65536,4,FALSE))) -> КМС | F46: =IF(B46=0," ",VLOOKUP($B46,[1]Спортсмены!$B$1:$H$65536,5,FALSE)) -> Республика Чувашии | G46: =IF(B46=0," ",VLOOKUP($B46,[1]Спортсмены!$B$1:$H$65536,6,FALSE)) -> Чебоксары, ЧГПУ им. И.Я. Яковлева | I46: r|med | K46: 0 | L46: =IF(B46=0," ",VLOOKUP($B46,[1]Спортсмены!$B$1:$H$65536,7,FALSE)) -> Петров А.С.
B48: Главный судья, спортивный судья ВК | G48: Хрущев Е.Н., г. Ярославль
B49: Главный секретарь, спортивный судья ВК | G49: Тараканова Ю.Ф., г. Ярославль

Sheet 1500м
A1: Чемпионат Российского студенческого спортивного союза
A2: мужчины и женщины
L3: 27-28 июня 2019 г.
K4: стадион "Шинник"
L5: г. Ярославль
D6: 27.06.2019г. | E6: 0.77430556 | F6: Финальные забеги | H6: ПРОТОКОЛ СОРЕВНОВАНИЙ
C7: Мужчины | D7: Бег 1500 м
A8: Место | B8: Номер | C8: Фамилия, имя | D8: Дата рожд. | E8: Квал. | F8: Команда | G8: ВУЗ | H8: Результат | J8: Вып. разр. | K8: Очки | L8: Ф.И.О. тренера
H9: фин. забеги
A10: 1 | B10: 213 | C10: =IF(B10=0," ",VLOOKUP(B10,[1]Спортсмены!B$1:H$65536,2,FALSE)) -> Горин Николай | D10: =IF(B10=0," ",VLOOKUP($B10,[1]Спортсмены!$B$1:$H$65536,3,FALSE)) -> 03.01.1995 | E10: =IF(B10=0," ",IF(VLOOKUP($B10,[1]Спортсмены!$B$1:$H$65536,4,FALSE)=0," ",VLOOKUP($B10,[1]Спортсмены!$B$1:$H$65536,4,FALSE))) -> МС | F10: =IF(B10=0," ",VLOOKUP($B10,[1]Спортсмены!$B$1:$H$65536,5,FALSE)) -> Республика Мордовия | G10: =IF(B10=0," ",VLOOKUP($B10,[1]Спортсмены!$B$1:$H$65536,6,FALSE)) -> Саранск, ФГБОУ ВО "НИМГУ им. Н.П. Огарева" | I10: 0.0026333333 | J10: =IF(I10=0," ",IF(I10<=[1]Разряды!$D$8,[1]Разряды!$D$3,IF(I10<=[1]Разряды!$E$8,[1]Разряды!$E$3,IF(I10<=[1]Разряды!$F$8,[1]Разряды!$F$3,IF(I10<=[1]Разряды!$G$8,[1]Разряды!$G$3,IF(I10<=[1]Разряды!$H$8,[1]Разряды!$H$3,IF(I10<=[1]Разряды!$I$8,[1]Разряды!$I$3,IF(I10<=[1]Разряды!$J$8,[1]Разряды!$J$3,"б/р")))))))) -> кмс | K10: 18+5 | L10: =IF(B10=0," ",VLOOKUP($B10,[1]Спортсмены!$B$1:$H$65536,7,FALSE)) -> Телятников М.М., Аранов С.М.
A11: 2 | B11: 299 | C11: =IF(B11=0," ",VLOOKUP(B11,[1]Спортсмены!B$1:H$65536,2,FALSE)) -> Болотов Сергей | D11: =IF(B11=0," ",VLOOKUP($B11,[1]Спортсмены!$B$1:$H$65536,3,FALSE)) -> 09.04.1996 | E11: =IF(B11=0," ",IF(VLOOKUP($B11,[1]Спортсмены!$B$1:$H$65536,4,FALSE)=0," ",VLOOKUP($B11,[1]Спортсмены!$B$1:$H$65536,4,FALSE))) -> КМС | F11: =IF(B11=0," ",VLOOKUP($B11,[1]Спортсмены!$B$1:$H$65536,5,FALSE)) -> Владимирская область | G11: =IF(B11=0," ",VLOOKUP($B11,[1]Спортсмены!$B$1:$H$65536,6,FALSE)) -> Владимир, ВлГУ им. А.Г. и Н.Г Столетовых | I11: 0.0026540509 | J11: =IF(I11=0," ",IF(I11<=[1]Разряды!$D$8,[1]Разряды!$D$3,IF(I11<=[1]Разряды!$E$8,[1]Разряды!$E$3,IF(I11<=[1]Разряды!$F$8,[1]Разряды!$F$3,IF(I11<=[1]Разряды!$G$8,[1]Разряды!$G$3,IF(I11<=[1]Разряды!$H$8,[1]Разряды!$H$3,IF(I11<=[1]Разряды!$I$8,[1]Разряды!$I$3,IF(I11<=[1]Разряды!$J$8,[1]Разряды!$J$3,"б/р")))))))) -> кмс | K11: 15+5 | L11: =IF(B11=0," ",VLOOKUP($B11,[1]Спортсмены!$B$1:$H$65536,7,FALSE)) -> Саков А.П., Герцен Е.А.
A12: 3 | B12: 329 | C12: =IF(B12=0," ",VLOOKUP(B12,[1]Спортсмены!B$1:H$65536,2,FALSE)) -> Никитин Артемий | D12: =IF(B12=0," ",VLOOKUP($B12,[1]Спортсмены!$B$1:$H$65536,3,FALSE)) -> 26.07.1999 | E12: =IF(B12=0," ",IF(VLOOKUP($B12,[1]Спортсмены!$B$1:$H$65536,4,FALSE)=0," ",VLOOKUP($B12,[1]Спортсмены!$B$1:$H$65536,4,FALSE))) -> КМС | F12: =IF(B12=0," ",VLOOKUP($B12,[1]Спортсмены!$B$1:$H$65536,5,FALSE)) -> Челябинская область | G12: =IF(B12=0," ",VLOOKUP($B12,[1]Спортсмены!$B$1:$H$65536,6,FALSE)) -> Челябинск, УралГУФК | I12: 0.0026574074 | J12: =IF(I12=0," ",IF(I12<=[1]Разряды!$D$8,[1]Разряды!$D$3,IF(I12<=[1]Разряды!$E$8,[1]Разряды!$E$3,IF(I12<=[1]Разряды!$F$8,[1]Разряды!$F$3,IF(I12<=[1]Разряды!$G$8,[1]Разряды!$G$3,IF(I12<=[1]Разряды!$H$8,[1]Разряды!$H$3,IF(I12<=[1]Разряды!$I$8,[1]Разряды!$I$3,IF(I12<=[1]Разряды!$J$8,[1]Разряды!$J$3,"б/р")))))))) -> кмс | K12: 13+5 | L12: =IF(B12=0," ",VLOOKUP($B12,[1]Спортсмены!$B$1:$H$65536,7,FALSE)) -> Андреев А.А., Рыжкова Т.В.
A13: 4 | B13: 261 | C13: =IF(B13=0," ",VLOOKUP(B13,[1]Спортсмены!B$1:H$65536,2,FALSE)) -> Тингаев Антон | D13: =IF(B13=0," ",VLOOKUP($B13,[1]Спортсмены!$B$1:$H$65536,3,FALSE)) -> 02.04.1996 | E13: =IF(B13=0," ",IF(VLOOKUP($B13,[1]Спортсмены!$B$1:$H$65536,4,FALSE)=0," ",VLOOKUP($B13,[1]Спортсмены!$B$1:$H$65536,4,FALSE))) -> МС | F13: =IF(B13=0," ",VLOOKUP($B13,[1]Спортсмены!$B$1:$H$65536,5,FALSE)) -> Республика Татарстан | G13: =IF(B13=0," ",VLOOKUP($B13,[1]Спортсмены!$B$1:$H$65536,6,FALSE)) -> Казань, ФГБОУ ВО ПГАФКСиТ | I13: 0.0026586806 | J13: =IF(I13=0," ",IF(I13<=[1]Разряды!$D$8,[1]Разряды!$D$3,IF(I13<=[1]Разряды!$E$8,[1]Разряды!$E$3,IF(I13<=[1]Разряды!$F$8,[1]Разряды!$F$3,IF(I13<=[1]Разряды!$G$8,[1]Разряды!$G$3,IF(I13<=[1]Разряды!$H$8,[1]Разряды!$H$3,IF(I13<=[1]Разряды!$I$8,[1]Разряды!$I$3,IF(I13<=[1]Разряды!$J$8,[1]Разряды!$J$3,"б/р")))))))) -> кмс | K13: 12+5 | L13: =IF(B13=0," ",VLOOKUP($B13,[1]Спортсмены!$B$1:$H$65536,7,FALSE)) -> Матрин Н.А., Байгулова С.Г.
A14: 5 | B14: 240 | C14: =IF(B14=0," ",VLOOKUP(B14,[1]Спортсмены!B$1:H$65536,2,FALSE)) -> Баженов Александр | D14: =IF(B14=0," ",VLOOKUP($B14,[1]Спортсмены!$B$1:$H$65536,3,FALSE)) -> 20.03.1997 | E14: =IF(B14=0," ",IF(VLOOKUP($B14,[1]Спортсмены!$B$1:$H$65536,4,FALSE)=0," ",VLOOKUP($B14,[1]Спортсмены!$B$1:$H$65536,4,FALSE))) -> КМС | F14: =IF(B14=0," ",VLOOKUP($B14,[1]Спортсмены!$B$1:$H$65536,5,FALSE)) -> Удмуртская Республика | G14: =IF(B14=0," ",VLOOKUP($B14,[1]Спортсмены!$B$1:$H$65536,6,FALSE)) -> Ижевск, УдГУ | I14: 0.0026759259 | J14: =IF(I14=0," ",IF(I14<=[1]Разряды!$D$8,[1]Разряды!$D$3,IF(I14<=[1]Разряды!$E$8,[1]Разряды!$E$3,IF(I14<=[1]Разряды!$F$8,[1]Разряды!$F$3,IF(I14<=[1]Разряды!$G$8,[1]Разряды!$G$3,IF(I14<=[1]Разряды!$H$8,[1]Разряды!$H$3,IF(I14<=[1]Разряды!$I$8,[1]Разряды!$I$3,IF(I14<=[1]Разряды!$J$8,[1]Разряды!$J$3,"б/р")))))))) -> кмс | K14: 11+5 | L14: =IF(B14=0," ",VLOOKUP($B14,[1]Спортсмены!$B$1:$H$65536,7,FALSE)) -> Васильев К.Г.
A15: 6 | B15: 259 | C15: =IF(B15=0," ",VLOOKUP(B15,[1]Спортсмены!B$1:H$65536,2,FALSE)) -> Садиков Нияз | D15: =IF(B15=0," ",VLOOKUP($B15,[1]Спортсмены!$B$1:$H$65536,3,FALSE)) -> 31.01.1997 | E15: =IF(B15=0," ",IF(VLOOKUP($B15,[1]Спортсмены!$B$1:$H$65536,4,FALSE)=0," ",VLOOKUP($B15,[1]Спортсмены!$B$1:$H$65536,4,FALSE))) -> КМС | F15: =IF(B15=0," ",VLOOKUP($B15,[1]Спортсмены!$B$1:$H$65536,5,FALSE)) -> Республика Татарстан | G15: =IF(B15=0," ",VLOOKUP($B15,[1]Спортсмены!$B$1:$H$65536,6,FALSE)) -> Казань, ФГБОУ ВО ПГАФКСиТ | I15: 0.002696875 | J15: =IF(I15=0," ",IF(I15<=[1]Разряды!$D$8,[1]Разряды!$D$3,IF(I15<=[1]Разряды!$E$8,[1]Разряды!$E$3,IF(I15<=[1]Разряды!$F$8,[1]Разряды!$F$3,IF(I15<=[1]Разряды!$G$8,[1]Разряды!$G$3,IF(I15<=[1]Разряды!$H$8,[1]Разряды!$H$3,IF(I15<=[1]Разряды!$I$8,[1]Разряды!$I$3,IF(I15<=[1]Разряды!$J$8,[1]Разряды!$J$3,"б/р")))))))) -> кмс | K15: 10+5 | L15: =IF(B15=0," ",VLOOKUP($B15,[1]Спортсмены!$B$1:$H$65536,7,FALSE)) -> Фахриев М.М., Павлов И.Л.
A16: 7 | B16: 120 | C16: =IF(B16=0," ",VLOOKUP(B16,[1]Спортсмены!B$1:H$65536,2,FALSE)) -> Васильев Александр | D16: =IF(B16=0," ",VLOOKUP($B16,[1]Спортсмены!$B$1:$H$65536,3,FALSE)) -> 08.02.1998 | E16: =IF(B16=0," ",IF(VLOOKUP($B16,[1]Спортсмены!$B$1:$H$65536,4,FALSE)=0," ",VLOOKUP($B16,[1]Спортсмены!$B$1:$H$65536,4,FALSE))) -> КМС | F16: =IF(B16=0," ",VLOOKUP($B16,[1]Спортсмены!$B$1:$H$65536,5,FALSE)) -> Республика Чувашии | G16: =IF(B16=0," ",VLOOKUP($B16,[1]Спортсмены!$B$1:$H$65536,6,FALSE)) -> Чебоксары, ЧГПУ им. И.Я. Яковлева | I16: 0.0026993056 | J16: =IF(I16=0," ",IF(I16<=[1]Разряды!$D$8,[1]Разряды!$D$3,IF(I16<=[1]Разряды!$E$8,[1]Разряды!$E$3,IF(I16<=[1]Разряды!$F$8,[1]Разряды!$F$3,IF(I16<=[1]Разряды!$G$8,[1]Разряды!$G$3,IF(I16<=[1]Разряды!$H$8,[1]Разряды!$H$3,IF(I16<=[1]Разряды!$I$8,[1]Разряды!$I$3,IF(I16<=[1]Разряды!$J$8,[1]Разряды!$J$3,"б/р")))))))) -> кмс | K16: 9+5 | L16: =IF(B16=0," ",VLOOKUP($B16,[1]Спортсмены!$B$1:$H$65536,7,FALSE)) -> Петров А.С.
A17: 8 | B17: 121 | C17: =IF(B17=0," ",VLOOKUP(B17,[1]Спортсмены!B$1:H$65536,2,FALSE)) -> Дмитриев Евгений | D17: =IF(B17=0," ",VLOOKUP($B17,[1]Спортсмены!$B$1:$H$65536,3,FALSE)) -> 15.11.1995 | E17: =IF(B17=0," ",IF(VLOOKUP($B17,[1]Спортсмены!$B$1:$H$65536,4,FALSE)=0," ",VLOOKUP($B17,[1]Спортсмены!$B$1:$H$65536,4,FALSE))) -> КМС | F17: =IF(B17=0," ",VLOOKUP($B17,[1]Спортсмены!$B$1:$H$65536,5,FALSE)) -> Республика Чувашии | G17: =IF(B17=0," ",VLOOKUP($B17,[1]Спортсмены!$B$1:$H$65536,6,FALSE)) -> Чебоксары, ЧГПУ им. И.Я. Яковлева | I17: 0.00271875 | J17: =IF(I17=0," ",IF(I17<=[1]Разряды!$D$8,[1]Разряды!$D$3,IF(I17<=[1]Разряды!$E$8,[1]Разряды!$E$3,IF(I17<=[1]Разряды!$F$8,[1]Разряды!$F$3,IF(I17<=[1]Разряды!$G$8,[1]Разряды!$G$3,IF(I17<=[1]Разряды!$H$8,[1]Разряды!$H$3,IF(I17<=[1]Разряды!$I$8,[1]Разряды!$I$3,IF(I17<=[1]Разряды!$J$8,[1]Разряды!$J$3,"б/р")))))))) -> 1р | K17: 8 | L17: =IF(B17=0," ",VLOOKUP($B17,[1]Спортсмены!$B$1:$H$65536,7,FALSE)) -> Петров А.С.
A18: 9 | B18: 226 | C18: =IF(B18=0," ",VLOOKUP(B18,[1]Спортсмены!B$1:H$65536,2,FALSE)) -> Индус Владимир | D18: =IF(B18=0," ",VLOOKUP($B18,[1]Спортсмены!$B$1:$H$65536,3,FALSE)) -> 17.01.1999 | E18: =IF(B18=0," ",IF(VLOOKUP($B18,[1]Спортсмены!$B$1:$H$65536,4,FALSE)=0," ",VLOOKUP($B18,[1]Спортсмены!$B$1:$H$65536,4,FALSE))) -> КМС | F18: =IF(B18=0," ",VLOOKUP($B18,[1]Спортсмены!$B$1:$H$65536,5,FALSE)) -> Тульская область | G18: =IF(B18=0," ",VLOOKUP($B18,[1]Спортсмены!$B$1:$H$65536,6,FALSE)) -> Тула, ТулГУ | I18: 0.0027685185 | J18: =IF(I18=0," ",IF(I18<=[1]Разряды!$D$8,[1]Разряды!$D$3,IF(I18<=[1]Разряды!$E$8,[1]Разряды!$E$3,IF(I18<=[1]Разряды!$F$8,[1]Разряды!$F$3,IF(I18<=[1]Разряды!$G$8,[1]Разряды!$G$3,IF(I18<=[1]Разряды!$H$8,[1]Разряды!$H$3,IF(I18<=[1]Разряды!$I$8,[1]Разряды!$I$3,IF(I18<=[1]Разряды!$J$8,[1]Разряды!$J$3,"б/р")))))))) -> 1р | K18: 7 | L18: =IF(B18=0," ",VLOOKUP($B18,[1]Спортсмены!$B$1:$H$65536,7,FALSE)) -> Анисимов В.Н.
A19: 10 | B19: 123 | C19: =IF(B19=0," ",VLOOKUP(B19,[1]Спортсмены!B$1:H$65536,2,FALSE)) -> Киргизов Михаил | D19: =IF(B19=0," ",VLOOKUP($B19,[1]Спортсмены!$B$1:$H$65536,3,FALSE)) -> 11.05.1998 | E19: =IF(B19=0," ",IF(VLOOKUP($B19,[1]Спортсмены!$B$1:$H$65536,4,FALSE)=0," ",VLOOKUP($B19,[1]Спортсмены!$B$1:$H$65536,4,FALSE))) -> КМС | F19: =IF(B19=0," ",VLOOKUP($B19,[1]Спортсмены!$B$1:$H$65536,5,FALSE)) -> Республика Чувашии | G19: =IF(B19=0," ",VLOOKUP($B19,[1]Спортсмены!$B$1:$H$65536,6,FALSE)) -> Чебоксары, ЧГПУ им. И.Я. Яковлева | I19: 0.0028299769 | J19: =IF(I19=0," ",IF(I19<=[1]Разряды!$D$8,[1]Разряды!$D$3,IF(I19<=[1]Разряды!$E$8,[1]Разряды!$E$3,IF(I19<=[1]Разряды!$F$8,[1]Разряды!$F$3,IF(I19<=[1]Разряды!$G$8,[1]Разряды!$G$3,IF(I19<=[1]Разряды!$H$8,[1]Разряды!$H$3,IF(I19<=[1]Разряды!$I$8,[1]Разряды!$I$3,IF(I19<=[1]Разряды!$J$8,[1]Разряды!$J$3,"б/р")))))))) -> 1р | K19: 6 | L19: =IF(B19=0," ",VLOOKUP($B19,[1]Спортсмены!$B$1:$H$65536,7,FALSE)) -> Давалов В.Н.
A20: 11 | B20: 301 | C20: =IF(B20=0," ",VLOOKUP(B20,[1]Спортсмены!B$1:H$65536,2,FALSE)) -> Гончаренко Александр | D20: =IF(B20=0," ",VLOOKUP($B20,[1]Спортсмены!$B$1:$H$65536,3,FALSE)) -> 14.07.1998 | E20: =IF(B20=0," ",IF(VLOOKUP($B20,[1]Спортсмены!$B$1:$H$65536,4,FALSE)=0," ",VLOOKUP($B20,[1]Спортсмены!$B$1:$H$65536,4,FALSE))) -> 1р | F20: =IF(B20=0," ",VLOOKUP($B20,[1]Спортсмены!$B$1:$H$65536,5,FALSE)) -> Ивановская область | G20: =IF(B20=0," ",VLOOKUP($B20,[1]Спортсмены!$B$1:$H$65536,6,FALSE)) -> Иваново, ИГСХА им. Д.К. Беляева | I20: 0.0028866898 | J20: =IF(I20=0," ",IF(I20<=[1]Разряды!$D$8,[1]Разряды!$D$3,IF(I20<=[1]Разряды!$E$8,[1]Разряды!$E$3,IF(I20<=[1]Разряды!$F$8,[1]Разряды!$F$3,IF(I20<=[1]Разряды!$G$8,[1]Разряды!$G$3,IF(I20<=[1]Разряды!$H$8,[1]Разряды!$H$3,IF(I20<=[1]Разряды!$I$8,[1]Разряды!$I$3,IF(I20<=[1]Разряды!$J$8,[1]Разряды!$J$3,"б/р")))))))) -> 2р | K20: 5 | L20: =IF(B20=0," ",VLOOKUP($B20,[1]Спортсмены!$B$1:$H$65536,7,FALSE)) -> Дряннов В.А.
A21: 12 | B21: 126 | C21: =IF(B21=0," ",VLOOKUP(B21,[1]Спортсмены!B$1:H$65536,2,FALSE)) -> Решетников Павел | D21: =IF(B21=0," ",VLOOKUP($B21,[1]Спортсмены!$B$1:$H$65536,3,FALSE)) -> 26.05.2000 | E21: =IF(B21=0," ",IF(VLOOKUP($B21,[1]Спортсмены!$B$1:$H$65536,4,FALSE)=0," ",VLOOKUP($B21,[1]Спортсмены!$B$1:$H$65536,4,FALSE))) -> КМС | F21: =IF(B21=0," ",VLOOKUP($B21,[1]Спортсмены!$B$1:$H$65536,5,FALSE)) -> Республика Чувашии | G21: =IF(B21=0," ",VLOOKUP($B21,[1]Спортсмены!$B$1:$H$65536,6,FALSE)) -> Чебоксары, ЧГПУ им. И.Я. Яковлева | I21: 0.0028900463 | J21: =IF(I21=0," ",IF(I21<=[1]Разряды!$D$8,[1]Разряды!$D$3,IF(I21<=[1]Разряды!$E$8,[1]Разряды!$E$3,IF(I21<=[1]Разряды!$F$8,[1]Разряды!$F$3,IF(I21<=[1]Разряды!$G$8,[1]Разряды!$G$3,IF(I21<=[1]Разряды!$H$8,[1]Разряды!$H$3,IF(I21<=[1]Разряды!$I$8,[1]Разряды!$I$3,IF(I21<=[1]Разряды!$J$8,[1]Разряды!$J$3,"б/р")))))))) -> 2р | K21: 4 | L21: =IF(B21=0," ",VLOOKUP($B21,[1]Спортсмены!$B$1:$H$65536,7,FALSE)) -> Давалов В.Н.
A22: 13 | B22: 244 | C22: =IF(B22=0," ",VLOOKUP(B22,[1]Спортсмены!B$1:H$65536,2,FALSE)) -> Фёдоров Артём | D22: =IF(B22=0," ",VLOOKUP($B22,[1]Спортсмены!$B$1:$H$65536,3,FALSE)) -> 23.08.1999 | E22: =IF(B22=0," ",IF(VLOOKUP($B22,[1]Спортсмены!$B$1:$H$65536,4,FALSE)=0," ",VLOOKUP($B22,[1]Спортсмены!$B$1:$H$65536,4,FALSE))) -> КМС | F22: =IF(B22=0," ",VLOOKUP($B22,[1]Спортсмены!$B$1:$H$65536,5,FALSE)) -> Удмуртская Республика | G22: =IF(B22=0," ",VLOOKUP($B22,[1]Спортсмены!$B$1:$H$65536,6,FALSE)) -> Ижевск, УдГУ | I22: 0.0029135417 | J22: =IF(I22=0," ",IF(I22<=[1]Разряды!$D$8,[1]Разряды!$D$3,IF(I22<=[1]Разряды!$E$8,[1]Разряды!$E$3,IF(I22<=[1]Разряды!$F$8,[1]Разряды!$F$3,IF(I22<=[1]Разряды!$G$8,[1]Разряды!$G$3,IF(I22<=[1]Разряды!$H$8,[1]Разряды!$H$3,IF(I22<=[1]Разряды!$I$8,[1]Разряды!$I$3,IF(I22<=[1]Разряды!$J$8,[1]Разряды!$J$3,"б/р")))))))) -> 2р | K22: 3 | L22: =IF(B22=0," ",VLOOKUP($B22,[1]Спортсмены!$B$1:$H$65536,7,FALSE)) -> Данильчук Р.Н.
A23: 14 | B23: 167 | C23: =IF(B23=0," ",VLOOKUP(B23,[1]Спортсмены!B$1:H$65536,2,FALSE)) -> Лысечко Кирилл | D23: =IF(B23=0," ",VLOOKUP($B23,[1]Спортсмены!$B$1:$H$65536,3,FALSE)) -> 27.04.2000 | E23: =IF(B23=0," ",IF(VLOOKUP($B23,[1]Спортсмены!$B$1:$H$65536,4,FALSE)=0," ",VLOOKUP($B23,[1]Спортсмены!$B$1:$H$65536,4,FALSE))) -> 1р | F23: =IF(B23=0," ",VLOOKUP($B23,[1]Спортсмены!$B$1:$H$65536,5,FALSE)) -> Калининградская область | G23: =IF(B23=0," ",VLOOKUP($B23,[1]Спортсмены!$B$1:$H$65536,6,FALSE)) -> Калининград, КГТУ-БГАРФ | I23: 0.0029293981 | J23: =IF(I23=0," ",IF(I23<=[1]Разряды!$D$8,[1]Разряды!$D$3,IF(I23<=[1]Разряды!$E$8,[1]Разряды!$E$3,IF(I23<=[1]Разряды!$F$8,[1]Разряды!$F$3,IF(I23<=[1]Разряды!$G$8,[1]Разряды!$G$3,IF(I23<=[1]Разряды!$H$8,[1]Разряды!$H$3,IF(I23<=[1]Разряды!$I$8,[1]Разряды!$I$3,IF(I23<=[1]Разряды!$J$8,[1]Разряды!$J$3,"б/р")))))))) -> 2р | K23: 2 | L23: =IF(B23=0," ",VLOOKUP($B23,[1]Спортсмены!$B$1:$H$65536,7,FALSE)) -> 0
A24: 15 | B24: 148 | C24: =IF(B24=0," ",VLOOKUP(B24,[1]Спортсмены!B$1:H$65536,2,FALSE)) -> Дерюгин Владислав | D24: =IF(B24=0," ",VLOOKUP($B24,[1]Спортсмены!$B$1:$H$65536,3,FALSE)) -> 09.12.1998 | E24: =IF(B24=0," ",IF(VLOOKUP($B24,[1]Спортсмены!$B$1:$H$65536,4,FALSE)=0," ",VLOOKUP($B24,[1]Спортсмены!$B$1:$H$65536,4,FALSE))) -> КМС | F24: =IF(B24=0," ",VLOOKUP($B24,[1]Спортсмены!$B$1:$H$65536,5,FALSE)) -> Костромская область | G24: =IF(B24=0," ",VLOOKUP($B24,[1]Спортсмены!$B$1:$H$65536,6,FALSE)) -> Кострома, КГУ | I24: 0.0029376157 | J24: =IF(I24=0," ",IF(I24<=[1]Разряды!$D$8,[1]Разряды!$D$3,IF(I24<=[1]Разряды!$E$8,[1]Разряды!$E$3,IF(I24<=[1]Разряды!$F$8,[1]Разряды!$F$3,IF(I24<=[1]Разряды!$G$8,[1]Разряды!$G$3,IF(I24<=[1]Разряды!$H$8,[1]Разряды!$H$3,IF(I24<=[1]Разряды!$I$8,[1]Разряды!$I$3,IF(I24<=[1]Разряды!$J$8,[1]Разряды!$J$3,"б/р")))))))) -> 2р | K24: 1 | L24: =IF(B24=0," ",VLOOKUP($B24,[1]Спортсмены!$B$1:$H$65536,7,FALSE)) -> Дружков А.Н.
A25: 16 | B25: 270 | C25: =IF(B25=0," ",VLOOKUP(B25,[1]Спортсмены!B$1:H$65536,2,FALSE)) -> Давыдов Дмитрий | D25: =IF(B25=0," ",VLOOKUP($B25,[1]Спортсмены!$B$1:$H$65536,3,FALSE)) -> 29.01.2001 | E25: =IF(B25=0," ",IF(VLOOKUP($B25,[1]Спортсмены!$B$1:$H$65536,4,FALSE)=0," ",VLOOKUP($B25,[1]Спортсмены!$B$1:$H$65536,4,FALSE))) -> 1р | F25: =IF(B25=0," ",VLOOKUP($B25,[1]Спортсмены!$B$1:$H$65536,5,FALSE)) -> Ивановская область | G25: =IF(B25=0," ",VLOOKUP($B25,[1]Спортсмены!$B$1:$H$65536,6,FALSE)) -> Иваново, ИГЭУ им. В.И. Ленина | I25: 0.002980787 | J25: =IF(I25=0," ",IF(I25<=[1]Разряды!$D$8,[1]Разряды!$D$3,IF(I25<=[1]Разряды!$E$8,[1]Разряды!$E$3,IF(I25<=[1]Разряды!$F$8,[1]Разряды!$F$3,IF(I25<=[1]Разряды!$G$8,[1]Разряды!$G$3,IF(I25<=[1]Разряды!$H$8,[1]Разряды!$H$3,IF(I25<=[1]Разряды!$I$8,[1]Разряды!$I$3,IF(I25<=[1]Разряды!$J$8,[1]Разряды!$J$3,"б/р")))))))) -> 2р | K25: 1 | L25: =IF(B25=0," ",VLOOKUP($B25,[1]Спортсмены!$B$1:$H$65536,7,FALSE)) -> Гильмутдинов Ю.В.
A26: 17 | B26: 273 | C26: =IF(B26=0," ",VLOOKUP(B26,[1]Спортсмены!B$1:H$65536,2,FALSE)) -> Акулов Иван | D26: =IF(B26=0," ",VLOOKUP($B26,[1]Спортсмены!$B$1:$H$65536,3,FALSE)) -> 13.07.2000 | E26: =IF(B26=0," ",IF(VLOOKUP($B26,[1]Спортсмены!$B$1:$H$65536,4,FALSE)=0," ",VLOOKUP($B26,[1]Спортсмены!$B$1:$H$65536,4,FALSE))) -> 2р | F26: =IF(B26=0," ",VLOOKUP($B26,[1]Спортсмены!$B$1:$H$65536,5,FALSE)) -> Ивановская область | G26: =IF(B26=0," ",VLOOKUP($B26,[1]Спортсмены!$B$1:$H$65536,6,FALSE)) -> Иваново, ИГЭУ им. В.И. Ленина | I26: 0.0030269676 | J26: =IF(I26=0," ",IF(I26<=[1]Разряды!$D$8,[1]Разряды!$D$3,IF(I26<=[1]Разряды!$E$8,[1]Разряды!$E$3,IF(I26<=[1]Разряды!$F$8,[1]Разряды!$F$3,IF(I26<=[1]Разряды!$G$8,[1]Разряды!$G$3,IF(I26<=[1]Разряды!$H$8,[1]Разряды!$H$3,IF(I26<=[1]Разряды!$I$8,[1]Разряды!$I$3,IF(I26<=[1]Разряды!$J$8,[1]Разряды!$J$3,"б/р")))))))) -> 2р | K26: 1 | L26: =IF(B26=0," ",VLOOKUP($B26,[1]Спортсмены!$B$1:$H$65536,7,FALSE)) -> Гильмутдинов Ю.В.
A27: 18 | B27: 12 | C27: =IF(B27=0," ",VLOOKUP(B27,[1]Спортсмены!B$1:H$65536,2,FALSE)) -> Плужников Александр | D27: =IF(B27=0," ",VLOOKUP($B27,[1]Спортсмены!$B$1:$H$65536,3,FALSE)) -> 08.05.2000 | E27: =IF(B27=0," ",IF(VLOOKUP($B27,[1]Спортсмены!$B$1:$H$65536,4,FALSE)=0," ",VLOOKUP($B27,[1]Спортсмены!$B$1:$H$65536,4,FALSE))) -> КМС | F27: =IF(B27=0," ",VLOOKUP($B27,[1]Спортсмены!$B$1:$H$65536,5,FALSE)) -> Тамбовская область | G27: =IF(B27=0," ",VLOOKUP($B27,[1]Спортсмены!$B$1:$H$65536,6,FALSE)) -> Тамбов, ТГУ им. Г.Р. Державина | I27: 0.0030428241 | J27: =IF(I27=0," ",IF(I27<=[1]Разряды!$D$8,[1]Разряды!$D$3,IF(I27<=[1]Разряды!$E$8,[1]Разряды!$E$3,IF(I27<=[1]Разряды!$F$8,[1]Разряды!$F$3,IF(I27<=[1]Разряды!$G$8,[1]Разряды!$G$3,IF(I27<=[1]Разряды!$H$8,[1]Разряды!$H$3,IF(I27<=[1]Разряды!$I$8,[1]Разряды!$I$3,IF(I27<=[1]Разряды!$J$8,[1]Разряды!$J$3,"б/р")))))))) -> 2р | K27: 1 | L27: =IF(B27=0," ",VLOOKUP($B27,[1]Спортсмены!$B$1:$H$65536,7,FALSE)) -> Каменских В.Н.
A28: 19 | B28: 283 | C28: =IF(B28=0," ",VLOOKUP(B28,[1]Спортсмены!B$1:H$65536,2,FALSE)) -> Тюкин Глеб | D28: =IF(B28=0," ",VLOOKUP($B28,[1]Спортсмены!$B$1:$H$65536,3,FALSE)) -> 31.03.1998 | E28: =IF(B28=0," ",IF(VLOOKUP($B28,[1]Спортсмены!$B$1:$H$65536,4,FALSE)=0," ",VLOOKUP($B28,[1]Спортсмены!$B$1:$H$65536,4,FALSE))) -> 2р | F28: =IF(B28=0," ",VLOOKUP($B28,[1]Спортсмены!$B$1:$H$65536,5,FALSE)) -> Архангельская область | G28: =IF(B28=0," ",VLOOKUP($B28,[1]Спортсмены!$B$1:$H$65536,6,FALSE)) -> Архангельск, САФУ им. М.В. Ломоносова | I28: 0.0030929398 | J28: =IF(I28=0," ",IF(I28<=[1]Разряды!$D$8,[1]Разряды!$D$3,IF(I28<=[1]Разряды!$E$8,[1]Разряды!$E$3,IF(I28<=[1]Разряды!$F$8,[1]Разряды!$F$3,IF(I28<=[1]Разряды!$G$8,[1]Разряды!$G$3,IF(I28<=[1]Разряды!$H$8,[1]Разряды!$H$3,IF(I28<=[1]Разряды!$I$8,[1]Разряды!$I$3,IF(I28<=[1]Разряды!$J$8,[1]Разряды!$J$3,"б/р")))))))) -> 3р | K28: 0 | L28: =IF(B28=0," ",VLOOKUP($B28,[1]Спортсмены!$B$1:$H$65536,7,FALSE)) -> Мингалева А.Г.
A29: 20 | B29: 302 | C29: =IF(B29=0," ",VLOOKUP(B29,[1]Спортсмены!B$1:H$65536,2,FALSE)) -> Мардасов Антон | D29: =IF(B29=0," ",VLOOKUP($B29,[1]Спортсмены!$B$1:$H$65536,3,FALSE)) -> 01.05.1999 | E29: =IF(B29=0," ",IF(VLOOKUP($B29,[1]Спортсмены!$B$1:$H$65536,4,FALSE)=0," ",VLOOKUP($B29,[1]Спортсмены!$B$1:$H$65536,4,FALSE))) -> 2р | F29: =IF(B29=0," ",VLOOKUP($B29,[1]Спортсмены!$B$1:$H$65536,5,FALSE)) -> Ивановская область | G29: =IF(B29=0," ",VLOOKUP($B29,[1]Спортсмены!$B$1:$H$65536,6,FALSE)) -> Иваново, ИГСХА им. Д.К. Беляева | I29: 0.0031921296 | J29: =IF(I29=0," ",IF(I29<=[1]Разряды!$D$8,[1]Разряды!$D$3,IF(I29<=[1]Разряды!$E$8,[1]Разряды!$E$3,IF(I29<=[1]Разряды!$F$8,[1]Разряды!$F$3,IF(I29<=[1]Разряды!$G$8,[1]Разряды!$G$3,IF(I29<=[1]Разряды!$H$8,[1]Разряды!$H$3,IF(I29<=[1]Разряды!$I$8,[1]Разряды!$I$3,IF(I29<=[1]Разряды!$J$8,[1]Разряды!$J$3,"б/р")))))))) -> 3р | K29: 0 | L29: =IF(B29=0," ",VLOOKUP($B29,[1]Спортсмены!$B$1:$H$65536,7,FALSE)) -> Дряннов В.А.
B30: 212 | C30: =IF(B30=0," ",VLOOKUP(B30,[1]Спортсмены!B$1:H$65536,2,FALSE)) -> Григоров Андрей | D30: =IF(B30=0," ",VLOOKUP($B30,[1]Спортсмены!$B$1:$H$65536,3,FALSE)) -> 31.03.1994 | E30: =IF(B30=0," ",IF(VLOOKUP($B30,[1]Спортсмены!$B$1:$H$65536,4,FALSE)=0," ",VLOOKUP($B30,[1]Спортсмены!$B$1:$H$65536,4,FALSE))) -> КМС | F30: =IF(B30=0," ",VLOOKUP($B30,[1]Спортсмены!$B$1:$H$65536,5,FALSE)) -> Республика Мордовия | G30: =IF(B30=0," ",VLOOKUP($B30,[1]Спортсмены!$B$1:$H$65536,6,FALSE)) -> Саранск, ФГБОУ ВО "НИМГУ им. Н.П. Огарева" | I30: DNF | K30: 0 | L30: =IF(B30=0," ",VLOOKUP($B30,[1]Спортсмены!$B$1:$H$65536,7,FALSE)) -> Гречишников Г.
C31: =IF(B31=0," ",VLOOKUP(B31,[1]Спортсмены!B$1:H$65536,2,FALSE)) | D31: =IF(B31=0," ",VLOOKUP($B31,[1]Спортсмены!$B$1:$H$65536,3,FALSE)) | E31: =IF(B31=0," ",IF(VLOOKUP($B31,[1]Спортсмены!$B$1:$H$65536,4,FALSE)=0," ",VLOOKUP($B31,[1]Спортсмены!$B$1:$H$65536,4,FALSE))) | F31: =IF(B31=0," ",VLOOKUP($B31,[1]Спортсмены!$B$1:$H$65536,5,FALSE)) | G31: =IF(B31=0," ",VLOOKUP($B31,[1]Спортсмены!$B$1:$H$65536,6,FALSE)) | J31: =IF(I31=0," ",IF(I31<=[1]Разряды!$D$8,[1]Разряды!$D$3,IF(I31<=[1]Разряды!$E$8,[1]Разряды!$E$3,IF(I31<=[1]Разряды!$F$8,[1]Разряды!$F$3,IF(I31<=[1]Разряды!$G$8,[1]Разряды!$G$3,IF(I31<=[1]Разряды!$H$8,[1]Разряды!$H$3,IF(I31<=[1]Разряды!$I$8,[1]Разряды!$I$3,IF(I31<=[1]Разряды!$J$8,[1]Разряды!$J$3,"б/р")))))))) | L31: =IF(B31=0," ",VLOOKUP($B31,[1]Спортсмены!$B$1:$H$65536,7,FALSE))
B34: Главный судья, спортивный судья ВК | G34: Хрущев Е.Н., г. Ярославль
B37: Главный секретарь, спортивный судья ВК | G37: Тараканова Ю.Ф., г. Ярославль

Sheet 5000м
A1: Чемпионат Российского студенческого спортивного союза
A2: мужчины и женщины
L3: 27-28 июня 2019 г.
K4: стадион "Шинник"
L5: г. Ярославль
D6: 28.06.2019г. | E6: 0.42708333 | F6: Финальные забеги | H6: ПРОТОКОЛ СОРЕВНОВАНИЙ
C8: Мужчины | D8: Бег 5000 м
A9: Место | B9: Номер | C9: Фамилия, имя | D9: Дата рожд. | E9: Квал. | F9: Команда | G9: ВУЗ | H9: Результат | J9: Вып. разр. | K9: Очки | L9: Ф.И.О. тренера
H10: забеги
A11: 1 | B11: 259 | C11: =IF(B11=0," ",VLOOKUP(B11,[1]Спортсмены!B$1:H$65536,2,FALSE)) -> Садиков Нияз | D11: =IF(B11=0," ",VLOOKUP($B11,[1]Спортсмены!$B$1:$H$65536,3,FALSE)) -> 31.01.1997 | E11: =IF(B11=0," ",IF(VLOOKUP($B11,[1]Спортсмены!$B$1:$H$65536,4,FALSE)=0," ",VLOOKUP($B11,[1]Спортсмены!$B$1:$H$65536,4,FALSE))) -> КМС | F11: =IF(B11=0," ",VLOOKUP($B11,[1]Спортсмены!$B$1:$H$65536,5,FALSE)) -> Республика Татарстан | G11: =IF(B11=0," ",VLOOKUP($B11,[1]Спортсмены!$B$1:$H$65536,6,FALSE)) -> Казань, ФГБОУ ВО ПГАФКСиТ | I11: 0.010138542 | J11: =IF(I11=0," ",IF(I11<=[1]Разряды!$D$9,[1]Разряды!$D$3,IF(I11<=[1]Разряды!$E$9,[1]Разряды!$E$3,IF(I11<=[1]Разряды!$F$9,[1]Разряды!$F$3,IF(I11<=[1]Разряды!$G$9,[1]Разряды!$G$3,IF(I11<=[1]Разряды!$H$9,[1]Разряды!$H$3,IF(I11<=[1]Разряды!$I$9,[1]Разряды!$I$3,IF(I11<=[1]Разряды!$J$9,[1]Разряды!$J$3,"б/р")))))))) -> кмс | K11: 18+5 | L11: =IF(B11=0," ",VLOOKUP($B11,[1]Спортсмены!$B$1:$H$65536,7,FALSE)) -> Фахриев М.М., Павлов И.Л.
A12: 2 | B12: 122 | C12: =IF(B12=0," ",VLOOKUP(B12,[1]Спортсмены!B$1:H$65536,2,FALSE)) -> Егинов Тимофей | D12: =IF(B12=0," ",VLOOKUP($B12,[1]Спортсмены!$B$1:$H$65536,3,FALSE)) -> 10.10.2000 | E12: =IF(B12=0," ",IF(VLOOKUP($B12,[1]Спортсмены!$B$1:$H$65536,4,FALSE)=0," ",VLOOKUP($B12,[1]Спортсмены!$B$1:$H$65536,4,FALSE))) -> КМС | F12: =IF(B12=0," ",VLOOKUP($B12,[1]Спортсмены!$B$1:$H$65536,5,FALSE)) -> Республика Чувашии | G12: =IF(B12=0," ",VLOOKUP($B12,[1]Спортсмены!$B$1:$H$65536,6,FALSE)) -> Чебоксары, ЧГПУ им. И.Я. Яковлева | I12: 0.010166319 | J12: =IF(I12=0," ",IF(I12<=[1]Разряды!$D$9,[1]Разряды!$D$3,IF(I12<=[1]Разряды!$E$9,[1]Разряды!$E$3,IF(I12<=[1]Разряды!$F$9,[1]Разряды!$F$3,IF(I12<=[1]Разряды!$G$9,[1]Разряды!$G$3,IF(I12<=[1]Разряды!$H$9,[1]Разряды!$H$3,IF(I12<=[1]Разряды!$I$9,[1]Разряды!$I$3,IF(I12<=[1]Разряды!$J$9,[1]Разряды!$J$3,"б/р")))))))) -> кмс | K12: 15+5 | L12: =IF(B12=0," ",VLOOKUP($B12,[1]Спортсмены!$B$1:$H$65536,7,FALSE)) -> Суворов Г.М., Петров А.С., Ивлев В.А.
A13: 3 | B13: 261 | C13: =IF(B13=0," ",VLOOKUP(B13,[1]Спортсмены!B$1:H$65536,2,FALSE)) -> Тингаев Антон | D13: =IF(B13=0," ",VLOOKUP($B13,[1]Спортсмены!$B$1:$H$65536,3,FALSE)) -> 02.04.1996 | E13: =IF(B13=0," ",IF(VLOOKUP($B13,[1]Спортсмены!$B$1:$H$65536,4,FALSE)=0," ",VLOOKUP($B13,[1]Спортсмены!$B$1:$H$65536,4,FALSE))) -> МС | F13: =IF(B13=0," ",VLOOKUP($B13,[1]Спортсмены!$B$1:$H$65536,5,FALSE)) -> Республика Татарстан | G13: =IF(B13=0," ",VLOOKUP($B13,[1]Спортсмены!$B$1:$H$65536,6,FALSE)) -> Казань, ФГБОУ ВО ПГАФКСиТ | I13: 0.010171644 | J13: =IF(I13=0," ",IF(I13<=[1]Разряды!$D$9,[1]Разряды!$D$3,IF(I13<=[1]Разряды!$E$9,[1]Разряды!$E$3,IF(I13<=[1]Разряды!$F$9,[1]Разряды!$F$3,IF(I13<=[1]Разряды!$G$9,[1]Разряды!$G$3,IF(I13<=[1]Разряды!$H$9,[1]Разряды!$H$3,IF(I13<=[1]Разряды!$I$9,[1]Разряды!$I$3,IF(I13<=[1]Разряды!$J$9,[1]Разряды!$J$3,"б/р")))))))) -> кмс | K13: 13+5 | L13: =IF(B13=0," ",VLOOKUP($B13,[1]Спортсмены!$B$1:$H$65536,7,FALSE)) -> Матрин Н.А., Байгулова С.Г.
A14: 4 | B14: 258 | C14: =IF(B14=0," ",VLOOKUP(B14,[1]Спортсмены!B$1:H$65536,2,FALSE)) -> Дятлов Кирилл | D14: =IF(B14=0," ",VLOOKUP($B14,[1]Спортсмены!$B$1:$H$65536,3,FALSE)) -> 25.07.1997 | E14: =IF(B14=0," ",IF(VLOOKUP($B14,[1]Спортсмены!$B$1:$H$65536,4,FALSE)=0," ",VLOOKUP($B14,[1]Спортсмены!$B$1:$H$65536,4,FALSE))) -> КМС | F14: =IF(B14=0," ",VLOOKUP($B14,[1]Спортсмены!$B$1:$H$65536,5,FALSE)) -> Республика Татарстан | G14: =IF(B14=0," ",VLOOKUP($B14,[1]Спортсмены!$B$1:$H$65536,6,FALSE)) -> Казань, ФГБОУ ВО ПГАФКСиТ | I14: 0.010305324 | J14: =IF(I14=0," ",IF(I14<=[1]Разряды!$D$9,[1]Разряды!$D$3,IF(I14<=[1]Разряды!$E$9,[1]Разряды!$E$3,IF(I14<=[1]Разряды!$F$9,[1]Разряды!$F$3,IF(I14<=[1]Разряды!$G$9,[1]Разряды!$G$3,IF(I14<=[1]Разряды!$H$9,[1]Разряды!$H$3,IF(I14<=[1]Разряды!$I$9,[1]Разряды!$I$3,IF(I14<=[1]Разряды!$J$9,[1]Разряды!$J$3,"б/р")))))))) -> 1р | K14: 12 | L14: =IF(B14=0," ",VLOOKUP($B14,[1]Спортсмены!$B$1:$H$65536,7,FALSE)) -> Павлов И.Л.
A15: 5 | B15: 240 | C15: =IF(B15=0," ",VLOOKUP(B15,[1]Спортсмены!B$1:H$65536,2,FALSE)) -> Баженов Александр | D15: =IF(B15=0," ",VLOOKUP($B15,[1]Спортсмены!$B$1:$H$65536,3,FALSE)) -> 20.03.1997 | E15: =IF(B15=0," ",IF(VLOOKUP($B15,[1]Спортсмены!$B$1:$H$65536,4,FALSE)=0," ",VLOOKUP($B15,[1]Спортсмены!$B$1:$H$65536,4,FALSE))) -> КМС | F15: =IF(B15=0," ",VLOOKUP($B15,[1]Спортсмены!$B$1:$H$65536,5,FALSE)) -> Удмуртская Республика | G15: =IF(B15=0," ",VLOOKUP($B15,[1]Спортсмены!$B$1:$H$65536,6,FALSE)) -> Ижевск, УдГУ | I15: 0.010316782 | J15: =IF(I15=0," ",IF(I15<=[1]Разряды!$D$9,[1]Разряды!$D$3,IF(I15<=[1]Разряды!$E$9,[1]Разряды!$E$3,IF(I15<=[1]Разряды!$F$9,[1]Разряды!$F$3,IF(I15<=[1]Разряды!$G$9,[1]Разряды!$G$3,IF(I15<=[1]Разряды!$H$9,[1]Разряды!$H$3,IF(I15<=[1]Разряды!$I$9,[1]Разряды!$I$3,IF(I15<=[1]Разряды!$J$9,[1]Разряды!$J$3,"б/р")))))))) -> 1р | K15: 11 | L15: =IF(B15=0," ",VLOOKUP($B15,[1]Спортсмены!$B$1:$H$65536,7,FALSE)) -> Васильев К.Г.
A16: 6 | B16: 349 | C16: =IF(B16=0," ",VLOOKUP(B16,[1]Спортсмены!B$1:H$65536,2,FALSE)) -> Зюзин Дмитрий | D16: =IF(B16=0," ",VLOOKUP($B16,[1]Спортсмены!$B$1:$H$65536,3,FALSE)) -> 07.09.200 | E16: =IF(B16=0," ",IF(VLOOKUP($B16,[1]Спортсмены!$B$1:$H$65536,4,FALSE)=0," ",VLOOKUP($B16,[1]Спортсмены!$B$1:$H$65536,4,FALSE))) -> КМС | F16: =IF(B16=0," ",VLOOKUP($B16,[1]Спортсмены!$B$1:$H$65536,5,FALSE)) -> Пензенская область | G16: =IF(B16=0," ",VLOOKUP($B16,[1]Спортсмены!$B$1:$H$65536,6,FALSE)) -> Пенза, ПензГУ | I16: 0.010407639 | J16: =IF(I16=0," ",IF(I16<=[1]Разряды!$D$9,[1]Разряды!$D$3,IF(I16<=[1]Разряды!$E$9,[1]Разряды!$E$3,IF(I16<=[1]Разряды!$F$9,[1]Разряды!$F$3,IF(I16<=[1]Разряды!$G$9,[1]Разряды!$G$3,IF(I16<=[1]Разряды!$H$9,[1]Разряды!$H$3,IF(I16<=[1]Разряды!$I$9,[1]Разряды!$I$3,IF(I16<=[1]Разряды!$J$9,[1]Разряды!$J$3,"б/р")))))))) -> 1р | K16: 10 | L16: =IF(B16=0," ",VLOOKUP($B16,[1]Спортсмены!$B$1:$H$65536,7,FALSE)) -> Воеводины А.Н., Ю.С.
A17: 7 | B17: 346 | C17: =IF(B17=0," ",VLOOKUP(B17,[1]Спортсмены!B$1:H$65536,2,FALSE)) -> Царапкин Максим | D17: =IF(B17=0," ",VLOOKUP($B17,[1]Спортсмены!$B$1:$H$65536,3,FALSE)) -> 15.04.1998 | E17: =IF(B17=0," ",IF(VLOOKUP($B17,[1]Спортсмены!$B$1:$H$65536,4,FALSE)=0," ",VLOOKUP($B17,[1]Спортсмены!$B$1:$H$65536,4,FALSE))) -> КМС | F17: =IF(B17=0," ",VLOOKUP($B17,[1]Спортсмены!$B$1:$H$65536,5,FALSE)) -> Пензенская область | G17: =IF(B17=0," ",VLOOKUP($B17,[1]Спортсмены!$B$1:$H$65536,6,FALSE)) -> Пенза, ПензГУ | I17: 0.010422106 | J17: =IF(I17=0," ",IF(I17<=[1]Разряды!$D$9,[1]Разряды!$D$3,IF(I17<=[1]Разряды!$E$9,[1]Разряды!$E$3,IF(I17<=[1]Разряды!$F$9,[1]Разряды!$F$3,IF(I17<=[1]Разряды!$G$9,[1]Разряды!$G$3,IF(I17<=[1]Разряды!$H$9,[1]Разряды!$H$3,IF(I17<=[1]Разряды!$I$9,[1]Разряды!$I$3,IF(I17<=[1]Разряды!$J$9,[1]Разряды!$J$3,"б/р")))))))) -> 1р | K17: 9 | L17: =IF(B17=0," ",VLOOKUP($B17,[1]Спортсмены!$B$1:$H$65536,7,FALSE)) -> Кузнецов В.Б., Плескач-Стыркина С.П.
A18: 8 | B18: 123 | C18: =IF(B18=0," ",VLOOKUP(B18,[1]Спортсмены!B$1:H$65536,2,FALSE)) -> Киргизов Михаил | D18: =IF(B18=0," ",VLOOKUP($B18,[1]Спортсмены!$B$1:$H$65536,3,FALSE)) -> 11.05.1998 | E18: =IF(B18=0," ",IF(VLOOKUP($B18,[1]Спортсмены!$B$1:$H$65536,4,FALSE)=0," ",VLOOKUP($B18,[1]Спортсмены!$B$1:$H$65536,4,FALSE))) -> КМС | F18: =IF(B18=0," ",VLOOKUP($B18,[1]Спортсмены!$B$1:$H$65536,5,FALSE)) -> Республика Чувашии | G18: =IF(B18=0," ",VLOOKUP($B18,[1]Спортсмены!$B$1:$H$65536,6,FALSE)) -> Чебоксары, ЧГПУ им. И.Я. Яковлева | I18: 0.010454167 | J18: =IF(I18=0," ",IF(I18<=[1]Разряды!$D$9,[1]Разряды!$D$3,IF(I18<=[1]Разряды!$E$9,[1]Разряды!$E$3,IF(I18<=[1]Разряды!$F$9,[1]Разряды!$F$3,IF(I18<=[1]Разряды!$G$9,[1]Разряды!$G$3,IF(I18<=[1]Разряды!$H$9,[1]Разряды!$H$3,IF(I18<=[1]Разряды!$I$9,[1]Разряды!$I$3,IF(I18<=[1]Разряды!$J$9,[1]Разряды!$J$3,"б/р")))))))) -> 1р | K18: л | L18: =IF(B18=0," ",VLOOKUP($B18,[1]Спортсмены!$B$1:$H$65536,7,FALSE)) -> Давалов В.Н.
A19: 9 | B19: 121 | C19: =IF(B19=0," ",VLOOKUP(B19,[1]Спортсмены!B$1:H$65536,2,FALSE)) -> Дмитриев Евгений | D19: =IF(B19=0," ",VLOOKUP($B19,[1]Спортсмены!$B$1:$H$65536,3,FALSE)) -> 15.11.1995 | E19: =IF(B19=0," ",IF(VLOOKUP($B19,[1]Спортсмены!$B$1:$H$65536,4,FALSE)=0," ",VLOOKUP($B19,[1]Спортсмены!$B$1:$H$65536,4,FALSE))) -> КМС | F19: =IF(B19=0," ",VLOOKUP($B19,[1]Спортсмены!$B$1:$H$65536,5,FALSE)) -> Республика Чувашии | G19: =IF(B19=0," ",VLOOKUP($B19,[1]Спортсмены!$B$1:$H$65536,6,FALSE)) -> Чебоксары, ЧГПУ им. И.Я. Яковлева | I19: 0.010505324 | J19: =IF(I19=0," ",IF(I19<=[1]Разряды!$D$9,[1]Разряды!$D$3,IF(I19<=[1]Разряды!$E$9,[1]Разряды!$E$3,IF(I19<=[1]Разряды!$F$9,[1]Разряды!$F$3,IF(I19<=[1]Разряды!$G$9,[1]Разряды!$G$3,IF(I19<=[1]Разряды!$H$9,[1]Разряды!$H$3,IF(I19<=[1]Разряды!$I$9,[1]Разряды!$I$3,IF(I19<=[1]Разряды!$J$9,[1]Разряды!$J$3,"б/р")))))))) -> 1р | K19: 8 | L19: =IF(B19=0," ",VLOOKUP($B19,[1]Спортсмены!$B$1:$H$65536,7,FALSE)) -> Петров А.С.
A20: 10 | B20: 139 | C20: =IF(B20=0," ",VLOOKUP(B20,[1]Спортсмены!B$1:H$65536,2,FALSE)) -> Сергеев Олег | D20: =IF(B20=0," ",VLOOKUP($B20,[1]Спортсмены!$B$1:$H$65536,3,FALSE)) -> 06.12.1996 | E20: =IF(B20=0," ",IF(VLOOKUP($B20,[1]Спортсмены!$B$1:$H$65536,4,FALSE)=0," ",VLOOKUP($B20,[1]Спортсмены!$B$1:$H$65536,4,FALSE))) -> КМС | F20: =IF(B20=0," ",VLOOKUP($B20,[1]Спортсмены!$B$1:$H$65536,5,FALSE)) -> Сахалинская область | G20: =IF(B20=0," ",VLOOKUP($B20,[1]Спортсмены!$B$1:$H$65536,6,FALSE)) -> СахГУ | I20: 0.010821759 | J20: =IF(I20=0," ",IF(I20<=[1]Разряды!$D$9,[1]Разряды!$D$3,IF(I20<=[1]Разряды!$E$9,[1]Разряды!$E$3,IF(I20<=[1]Разряды!$F$9,[1]Разряды!$F$3,IF(I20<=[1]Разряды!$G$9,[1]Разряды!$G$3,IF(I20<=[1]Разряды!$H$9,[1]Разряды!$H$3,IF(I20<=[1]Разряды!$I$9,[1]Разряды!$I$3,IF(I20<=[1]Разряды!$J$9,[1]Разряды!$J$3,"б/р")))))))) -> 1р | K20: 7 | L20: =IF(B20=0," ",VLOOKUP($B20,[1]Спортсмены!$B$1:$H$65536,7,FALSE)) -> Трубецкой Р.О., Шапкина Н.В.
A21: 11 | B21: 132 | C21: =IF(B21=0," ",VLOOKUP(B21,[1]Спортсмены!B$1:H$65536,2,FALSE)) -> Новиков Александр | D21: =IF(B21=0," ",VLOOKUP($B21,[1]Спортсмены!$B$1:$H$65536,3,FALSE)) -> 01.09.1995 | E21: =IF(B21=0," ",IF(VLOOKUP($B21,[1]Спортсмены!$B$1:$H$65536,4,FALSE)=0," ",VLOOKUP($B21,[1]Спортсмены!$B$1:$H$65536,4,FALSE))) -> КМС | F21: =IF(B21=0," ",VLOOKUP($B21,[1]Спортсмены!$B$1:$H$65536,5,FALSE)) -> Республика Чувашии | G21: =IF(B21=0," ",VLOOKUP($B21,[1]Спортсмены!$B$1:$H$65536,6,FALSE)) -> Чебоксары, ЧГПУ им. И.Я. Яковлева | I21: 0.011249306 | J21: =IF(I21=0," ",IF(I21<=[1]Разряды!$D$9,[1]Разряды!$D$3,IF(I21<=[1]Разряды!$E$9,[1]Разряды!$E$3,IF(I21<=[1]Разряды!$F$9,[1]Разряды!$F$3,IF(I21<=[1]Разряды!$G$9,[1]Разряды!$G$3,IF(I21<=[1]Разряды!$H$9,[1]Разряды!$H$3,IF(I21<=[1]Разряды!$I$9,[1]Разряды!$I$3,IF(I21<=[1]Разряды!$J$9,[1]Разряды!$J$3,"б/р")))))))) -> 2р | K21: 6 | L21: =IF(B21=0," ",VLOOKUP($B21,[1]Спортсмены!$B$1:$H$65536,7,FALSE)) -> Давалов В.Н.
A22: 12 | B22: 148 | C22: =IF(B22=0," ",VLOOKUP(B22,[1]Спортсмены!B$1:H$65536,2,FALSE)) -> Дерюгин Владислав | D22: =IF(B22=0," ",VLOOKUP($B22,[1]Спортсмены!$B$1:$H$65536,3,FALSE)) -> 09.12.1998 | E22: =IF(B22=0," ",IF(VLOOKUP($B22,[1]Спортсмены!$B$1:$H$65536,4,FALSE)=0," ",VLOOKUP($B22,[1]Спортсмены!$B$1:$H$65536,4,FALSE))) -> КМС | F22: =IF(B22=0," ",VLOOKUP($B22,[1]Спортсмены!$B$1:$H$65536,5,FALSE)) -> Костромская область | G22: =IF(B22=0," ",VLOOKUP($B22,[1]Спортсмены!$B$1:$H$65536,6,FALSE)) -> Кострома, КГУ | I22: 0.011304398 | J22: =IF(I22=0," ",IF(I22<=[1]Разряды!$D$9,[1]Разряды!$D$3,IF(I22<=[1]Разряды!$E$9,[1]Разряды!$E$3,IF(I22<=[1]Разряды!$F$9,[1]Разряды!$F$3,IF(I22<=[1]Разряды!$G$9,[1]Разряды!$G$3,IF(I22<=[1]Разряды!$H$9,[1]Разряды!$H$3,IF(I22<=[1]Разряды!$I$9,[1]Разряды!$I$3,IF(I22<=[1]Разряды!$J$9,[1]Разряды!$J$3,"б/р")))))))) -> 2р | K22: 5 | L22: =IF(B22=0," ",VLOOKUP($B22,[1]Спортсмены!$B$1:$H$65536,7,FALSE)) -> Дружков А.Н.
A23: 13 | B23: 12 | C23: =IF(B23=0," ",VLOOKUP(B23,[1]Спортсмены!B$1:H$65536,2,FALSE)) -> Плужников Александр | D23: =IF(B23=0," ",VLOOKUP($B23,[1]Спортсмены!$B$1:$H$65536,3,FALSE)) -> 08.05.2000 | E23: =IF(B23=0," ",IF(VLOOKUP($B23,[1]Спортсмены!$B$1:$H$65536,4,FALSE)=0," ",VLOOKUP($B23,[1]Спортсмены!$B$1:$H$65536,4,FALSE))) -> КМС | F23: =IF(B23=0," ",VLOOKUP($B23,[1]Спортсмены!$B$1:$H$65536,5,FALSE)) -> Тамбовская область | G23: =IF(B23=0," ",VLOOKUP($B23,[1]Спортсмены!$B$1:$H$65536,6,FALSE)) -> Тамбов, ТГУ им. Г.Р. Державина | I23: 0.011770949 | J23: =IF(I23=0," ",IF(I23<=[1]Разряды!$D$9,[1]Разряды!$D$3,IF(I23<=[1]Разряды!$E$9,[1]Разряды!$E$3,IF(I23<=[1]Разряды!$F$9,[1]Разряды!$F$3,IF(I23<=[1]Разряды!$G$9,[1]Разряды!$G$3,IF(I23<=[1]Разряды!$H$9,[1]Разряды!$H$3,IF(I23<=[1]Разряды!$I$9,[1]Разряды!$I$3,IF(I23<=[1]Разряды!$J$9,[1]Разряды!$J$3,"б/р")))))))) -> 3р | K23: 0 | L23: =IF(B23=0," ",VLOOKUP($B23,[1]Спортсмены!$B$1:$H$65536,7,FALSE)) -> Каменских В.Н.
B24: 329 | C24: =IF(B24=0," ",VLOOKUP(B24,[1]Спортсмены!B$1:H$65536,2,FALSE)) -> Никитин Артемий | D24: =IF(B24=0," ",VLOOKUP($B24,[1]Спортсмены!$B$1:$H$65536,3,FALSE)) -> 26.07.1999 | E24: =IF(B24=0," ",IF(VLOOKUP($B24,[1]Спортсмены!$B$1:$H$65536,4,FALSE)=0," ",VLOOKUP($B24,[1]Спортсмены!$B$1:$H$65536,4,FALSE))) -> КМС | F24: =IF(B24=0," ",VLOOKUP($B24,[1]Спортсмены!$B$1:$H$65536,5,FALSE)) -> Челябинская область | G24: =IF(B24=0," ",VLOOKUP($B24,[1]Спортсмены!$B$1:$H$65536,6,FALSE)) -> Челябинск, УралГУФК | I24: r|med | K24: 0 | L24: =IF(B24=0," ",VLOOKUP($B24,[1]Спортсмены!$B$1:$H$65536,7,FALSE)) -> Андреев А.А., Рыжкова Т.В.
B25: 125 | C25: =IF(B25=0," ",VLOOKUP(B25,[1]Спортсмены!B$1:H$65536,2,FALSE)) -> Спиридонов Сергей | D25: =IF(B25=0," ",VLOOKUP($B25,[1]Спортсмены!$B$1:$H$65536,3,FALSE)) -> 31.07.1996 | E25: =IF(B25=0," ",IF(VLOOKUP($B25,[1]Спортсмены!$B$1:$H$65536,4,FALSE)=0," ",VLOOKUP($B25,[1]Спортсмены!$B$1:$H$65536,4,FALSE))) -> КМС | F25: =IF(B25=0," ",VLOOKUP($B25,[1]Спортсмены!$B$1:$H$65536,5,FALSE)) -> Республика Чувашии | G25: =IF(B25=0," ",VLOOKUP($B25,[1]Спортсмены!$B$1:$H$65536,6,FALSE)) -> Чебоксары, ЧГПУ им. И.Я. Яковлева | I25: r|med | K25: 0 | L25: =IF(B25=0," ",VLOOKUP($B25,[1]Спортсмены!$B$1:$H$65536,7,FALSE)) -> Петров А.С.
B26: 212 | C26: =IF(B26=0," ",VLOOKUP(B26,[1]Спортсмены!B$1:H$65536,2,FALSE)) -> Григоров Андрей | D26: =IF(B26=0," ",VLOOKUP($B26,[1]Спортсмены!$B$1:$H$65536,3,FALSE)) -> 31.03.1994 | E26: =IF(B26=0," ",IF(VLOOKUP($B26,[1]Спортсмены!$B$1:$H$65536,4,FALSE)=0," ",VLOOKUP($B26,[1]Спортсмены!$B$1:$H$65536,4,FALSE))) -> КМС | F26: =IF(B26=0," ",VLOOKUP($B26,[1]Спортсмены!$B$1:$H$65536,5,FALSE)) -> Республика Мордовия | G26: =IF(B26=0," ",VLOOKUP($B26,[1]Спортсмены!$B$1:$H$65536,6,FALSE)) -> Саранск, ФГБОУ ВО "НИМГУ им. Н.П. Огарева" | I26: r|med | K26: 0 | L26: =IF(B26=0," ",VLOOKUP($B26,[1]Спортсмены!$B$1:$H$65536,7,FALSE)) -> Гречишников Г.
B29: Главный судья, спортивный судья ВК | G29: Хрущев Е.Н., г. Ярославль
B32: Главный секретарь, спортивный судья ВК | G32: Тараканова Ю.Ф., г. Ярославль

Sheet 110сб м
A1: Чемпионат Российского студенческого спортивного союза
A2: мужчины и женщины
L3: 27-28 июня 2019 г.
K4: стадион "Шинник"
L5: г. Ярославль
H6: ПРОТОКОЛ СОРЕВНОВАНИЙ
D7: 27.06.2019г. | E7: 0.75 | F7: Финал
C8: Мужчины | D8: Бег 110 м с/б
A9: Место | B9: Номер | C9: Фамилия, имя | D9: Дата рожд. | E9: Квал. | F9: Команда | G9: ВУЗ | H9: Результат | J9: Вып. разр. | K9: Очки | L9: Ф.И.О. тренера
I10: финал
A11: 1 | B11: 15 | C11: =IF(B11=0," ",VLOOKUP(B11,[1]Спортсмены!B$1:H$65536,2,FALSE)) -> Спиридонов Олег | D11: =IF(B11=0," ",VLOOKUP($B11,[1]Спортсмены!$B$1:$H$65536,3,FALSE)) -> 16.08.1999 | E11: =IF(B11=0," ",IF(VLOOKUP($B11,[1]Спортсмены!$B$1:$H$65536,4,FALSE)=0," ",VLOOKUP($B11,[1]Спортсмены!$B$1:$H$65536,4,FALSE))) -> МС | F11: =IF(B11=0," ",VLOOKUP($B11,[1]Спортсмены!$B$1:$H$65536,5,FALSE)) -> Калининградская область | G11: =IF(B11=0," ",VLOOKUP($B11,[1]Спортсмены!$B$1:$H$65536,6,FALSE)) -> Калининград, КГТУ-БГАРФ | H11: 0.00016030093 | I11: 0.00016030093 | J11: мс | K11: 18+10 | L11: =IF(B11=0," ",VLOOKUP($B11,[1]Спортсмены!$B$1:$H$65536,7,FALSE)) -> 0
A12: 2 | B12: 32 | C12: =IF(B12=0," ",VLOOKUP(B12,[1]Спортсмены!B$1:H$65536,2,FALSE)) -> Ветлугин Сергей | D12: =IF(B12=0," ",VLOOKUP($B12,[1]Спортсмены!$B$1:$H$65536,3,FALSE)) -> 17.11.1995 | E12: =IF(B12=0," ",IF(VLOOKUP($B12,[1]Спортсмены!$B$1:$H$65536,4,FALSE)=0," ",VLOOKUP($B12,[1]Спортсмены!$B$1:$H$65536,4,FALSE))) -> КМС | F12: =IF(B12=0," ",VLOOKUP($B12,[1]Спортсмены!$B$1:$H$65536,5,FALSE)) -> Красноярский край | G12: =IF(B12=0," ",VLOOKUP($B12,[1]Спортсмены!$B$1:$H$65536,6,FALSE)) -> Красноярск, СФУ | H12: 0.00016909722 | I12: 0.00016909722 | J12: =IF(H12=0," ",IF(H12<=[1]Разряды!$D$10,[1]Разряды!$D$3,IF(H12<=[1]Разряды!$E$10,[1]Разряды!$E$3,IF(H12<=[1]Разряды!$F$10,[1]Разряды!$F$3,IF(H12<=[1]Разряды!$G$10,[1]Разряды!$G$3,IF(H12<=[1]Разряды!$H$10,[1]Разряды!$H$3,IF(H12<=[1]Разряды!$I$10,[1]Разряды!$I$3,IF(H12<=[1]Разряды!$J$10,[1]Разряды!$J$3,"б/р")))))))) -> кмс | K12: 15+5 | L12: =IF(B12=0," ",VLOOKUP($B12,[1]Спортсмены!$B$1:$H$65536,7,FALSE)) -> Артемьев П.П., Федоров В.И.
A13: 3 | B13: 42 | C13: =IF(B13=0," ",VLOOKUP(B13,[1]Спортсмены!B$1:H$65536,2,FALSE)) -> Уткин Артем | D13: =IF(B13=0," ",VLOOKUP($B13,[1]Спортсмены!$B$1:$H$65536,3,FALSE)) -> 18.04.1994 | E13: =IF(B13=0," ",IF(VLOOKUP($B13,[1]Спортсмены!$B$1:$H$65536,4,FALSE)=0," ",VLOOKUP($B13,[1]Спортсмены!$B$1:$H$65536,4,FALSE))) -> МС | F13: =IF(B13=0," ",VLOOKUP($B13,[1]Спортсмены!$B$1:$H$65536,5,FALSE)) -> Республика Мордовия | G13: =IF(B13=0," ",VLOOKUP($B13,[1]Спортсмены!$B$1:$H$65536,6,FALSE)) -> Саранск, ФГБОУ ВО "НИМГУ им. Н.П. Огарева" | H13: 0.000171875 | I13: 0.000171875 | J13: =IF(H13=0," ",IF(H13<=[1]Разряды!$D$10,[1]Разряды!$D$3,IF(H13<=[1]Разряды!$E$10,[1]Разряды!$E$3,IF(H13<=[1]Разряды!$F$10,[1]Разряды!$F$3,IF(H13<=[1]Разряды!$G$10,[1]Разряды!$G$3,IF(H13<=[1]Разряды!$H$10,[1]Разряды!$H$3,IF(H13<=[1]Разряды!$I$10,[1]Разряды!$I$3,IF(H13<=[1]Разряды!$J$10,[1]Разряды!$J$3,"б/р")))))))) -> кмс | K13: 13+5 | L13: =IF(B13=0," ",VLOOKUP($B13,[1]Спортсмены!$B$1:$H$65536,7,FALSE)) -> Разовы В.Н., П.И.
A14: 4 | B14: 92 | C14: =IF(B14=0," ",VLOOKUP(B14,[1]Спортсмены!B$1:H$65536,2,FALSE)) -> Соловьев Иван | D14: =IF(B14=0," ",VLOOKUP($B14,[1]Спортсмены!$B$1:$H$65536,3,FALSE)) -> 04.05.1997 | E14: =IF(B14=0," ",IF(VLOOKUP($B14,[1]Спортсмены!$B$1:$H$65536,4,FALSE)=0," ",VLOOKUP($B14,[1]Спортсмены!$B$1:$H$65536,4,FALSE))) -> КМС | F14: =IF(B14=0," ",VLOOKUP($B14,[1]Спортсмены!$B$1:$H$65536,5,FALSE)) -> Челябинская область | G14: =IF(B14=0," ",VLOOKUP($B14,[1]Спортсмены!$B$1:$H$65536,6,FALSE)) -> Челябинск, УралГУФК | H14: 0.00017939815 | I14: 0.00017939815 | J14: 1р | K14: 12 | L14: =IF(B14=0," ",VLOOKUP($B14,[1]Спортсмены!$B$1:$H$65536,7,FALSE)) -> Береглазов В.Н.
A15: 5 | B15: 89 | C15: =IF(B15=0," ",VLOOKUP(B15,[1]Спортсмены!B$1:H$65536,2,FALSE)) -> Исаев Максим | D15: =IF(B15=0," ",VLOOKUP($B15,[1]Спортсмены!$B$1:$H$65536,3,FALSE)) -> 10.07.1997 | E15: =IF(B15=0," ",IF(VLOOKUP($B15,[1]Спортсмены!$B$1:$H$65536,4,FALSE)=0," ",VLOOKUP($B15,[1]Спортсмены!$B$1:$H$65536,4,FALSE))) -> МС | F15: =IF(B15=0," ",VLOOKUP($B15,[1]Спортсмены!$B$1:$H$65536,5,FALSE)) -> Челябинская область | G15: =IF(B15=0," ",VLOOKUP($B15,[1]Спортсмены!$B$1:$H$65536,6,FALSE)) -> Челябинск, УралГУФК | H15: 0.0001837963 | I15: 0.0001837963 | J15: 1р | K15: 11 | L15: =IF(B15=0," ",VLOOKUP($B15,[1]Спортсмены!$B$1:$H$65536,7,FALSE)) -> Пугач С.В.
A16: 6 | B16: 36 | C16: =IF(B16=0," ",VLOOKUP(B16,[1]Спортсмены!B$1:H$65536,2,FALSE)) -> Коновалов Александр | D16: =IF(B16=0," ",VLOOKUP($B16,[1]Спортсмены!$B$1:$H$65536,3,FALSE)) -> 03.08.1997 | E16: =IF(B16=0," ",IF(VLOOKUP($B16,[1]Спортсмены!$B$1:$H$65536,4,FALSE)=0," ",VLOOKUP($B16,[1]Спортсмены!$B$1:$H$65536,4,FALSE))) -> КМС | F16: =IF(B16=0," ",VLOOKUP($B16,[1]Спортсмены!$B$1:$H$65536,5,FALSE)) -> Санкт-Петербург | G16: =IF(B16=0," ",VLOOKUP($B16,[1]Спортсмены!$B$1:$H$65536,6,FALSE)) -> Санкт-Петербург, ПГУПС | H16: 0.00018611111 | I16: 0.00018611111 | J16: 1р | K16: л | L16: =IF(B16=0," ",VLOOKUP($B16,[1]Спортсмены!$B$1:$H$65536,7,FALSE)) -> Михайлов А.А., Ворохобко Т.Л.
A17: 7 | B17: 72 | C17: =IF(B17=0," ",VLOOKUP(B17,[1]Спортсмены!B$1:H$65536,2,FALSE)) -> Кокурин Дмитрий | D17: =IF(B17=0," ",VLOOKUP($B17,[1]Спортсмены!$B$1:$H$65536,3,FALSE)) -> 29.06.1998 | E17: =IF(B17=0," ",IF(VLOOKUP($B17,[1]Спортсмены!$B$1:$H$65536,4,FALSE)=0," ",VLOOKUP($B17,[1]Спортсмены!$B$1:$H$65536,4,FALSE))) -> 1р | F17: =IF(B17=0," ",VLOOKUP($B17,[1]Спортсмены!$B$1:$H$65536,5,FALSE)) -> Владимирская область | G17: =IF(B17=0," ",VLOOKUP($B17,[1]Спортсмены!$B$1:$H$65536,6,FALSE)) -> Владимир, ВлГУ им. А.Г. и Н.Г Столетовых | H17: 0.00019247685 | I17: 0.00019247685 | J17: 2р | K17: 10 | L17: =IF(B17=0," ",VLOOKUP($B17,[1]Спортсмены!$B$1:$H$65536,7,FALSE)) -> Терещенко А.В.
B23: Главный судья, спортивный судья ВК | G23: Хрущев Е.Н., г. Ярославль
B26: Главный секретарь, спортивный судья ВК | G26: Тараканова Ю.Ф., г. Ярославль

Sheet 400сб м
A1: Чемпионат Российского студенческого спортивного союза
A2: мужчины и женщины
L3: 27-28 июня 2019 г.
K4: стадион "Шинник"
L5: г. Ярославль
D6: 28.06.2019г. | E6: 0.49305556 | F6: Финальные забеги | H6: ПРОТОКОЛ СОРЕВНОВАНИЙ
C8: Мужчины | D8: Бег 400 м с/б
A9: Место | B9: Номер | C9: Фамилия, имя | D9: Дата рожд. | E9: Квал. | F9: Команда | G9: ВУЗ | H9: Результат | J9: Вып. разр. | K9: Очки | L9: Ф.И.О. тренера
H10: забеги
A11: 1 | B11: 357 | C11: =IF(B11=0," ",VLOOKUP(B11,[1]Спортсмены!B$1:H$65536,2,FALSE)) -> Евсеенков Никита | D11: =IF(B11=0," ",VLOOKUP($B11,[1]Спортсмены!$B$1:$H$65536,3,FALSE)) -> 01.03.1995 | E11: =IF(B11=0," ",IF(VLOOKUP($B11,[1]Спортсмены!$B$1:$H$65536,4,FALSE)=0," ",VLOOKUP($B11,[1]Спортсмены!$B$1:$H$65536,4,FALSE))) -> МС | F11: =IF(B11=0," ",VLOOKUP($B11,[1]Спортсмены!$B$1:$H$65536,5,FALSE)) -> Пензенская область | G11: =IF(B11=0," ",VLOOKUP($B11,[1]Спортсмены!$B$1:$H$65536,6,FALSE)) -> Пенза, ПензГУ | I11: 0.00061111111 | J11: =IF(I11=0," ",IF(I11<=[1]Разряды!$D$12,[1]Разряды!$D$3,IF(I11<=[1]Разряды!$E$12,[1]Разряды!$E$3,IF(I11<=[1]Разряды!$F$12,[1]Разряды!$F$3,IF(I11<=[1]Разряды!$G$12,[1]Разряды!$G$3,IF(I11<=[1]Разряды!$H$12,[1]Разряды!$H$3,IF(I11<=[1]Разряды!$I$12,[1]Разряды!$I$3,IF(I11<=[1]Разряды!$J$12,[1]Разряды!$J$3,"б/р")))))))) -> кмс | K11: 18+5 | L11: =IF(B11=0," ",VLOOKUP($B11,[1]Спортсмены!$B$1:$H$65536,7,FALSE)) -> Вдовин М.В.
A12: 2 | B12: 71 | C12: =IF(B12=0," ",VLOOKUP(B12,[1]Спортсмены!B$1:H$65536,2,FALSE)) -> Булгаков Артем | D12: =IF(B12=0," ",VLOOKUP($B12,[1]Спортсмены!$B$1:$H$65536,3,FALSE)) -> 12.09.1995 | E12: =IF(B12=0," ",IF(VLOOKUP($B12,[1]Спортсмены!$B$1:$H$65536,4,FALSE)=0," ",VLOOKUP($B12,[1]Спортсмены!$B$1:$H$65536,4,FALSE))) -> КМС | F12: =IF(B12=0," ",VLOOKUP($B12,[1]Спортсмены!$B$1:$H$65536,5,FALSE)) -> Пермский край | G12: =IF(B12=0," ",VLOOKUP($B12,[1]Спортсмены!$B$1:$H$65536,6,FALSE)) -> Пермь, ПНИПУ с/к "Политехник" | I12: 0.00063680556 | J12: =IF(I12=0," ",IF(I12<=[1]Разряды!$D$12,[1]Разряды!$D$3,IF(I12<=[1]Разряды!$E$12,[1]Разряды!$E$3,IF(I12<=[1]Разряды!$F$12,[1]Разряды!$F$3,IF(I12<=[1]Разряды!$G$12,[1]Разряды!$G$3,IF(I12<=[1]Разряды!$H$12,[1]Разряды!$H$3,IF(I12<=[1]Разряды!$I$12,[1]Разряды!$I$3,IF(I12<=[1]Разряды!$J$12,[1]Разряды!$J$3,"б/р")))))))) -> кмс | K12: 15+5 | L12: =IF(B12=0," ",VLOOKUP($B12,[1]Спортсмены!$B$1:$H$65536,7,FALSE)) -> Гладков В.П.
A13: 3 | B13: 135 | C13: =IF(B13=0," ",VLOOKUP(B13,[1]Спортсмены!B$1:H$65536,2,FALSE)) -> Елохин Егор | D13: =IF(B13=0," ",VLOOKUP($B13,[1]Спортсмены!$B$1:$H$65536,3,FALSE)) -> 18.12.1999 | E13: =IF(B13=0," ",IF(VLOOKUP($B13,[1]Спортсмены!$B$1:$H$65536,4,FALSE)=0," ",VLOOKUP($B13,[1]Спортсмены!$B$1:$H$65536,4,FALSE))) -> КМС | F13: =IF(B13=0," ",VLOOKUP($B13,[1]Спортсмены!$B$1:$H$65536,5,FALSE)) -> Сахалинская область | G13: =IF(B13=0," ",VLOOKUP($B13,[1]Спортсмены!$B$1:$H$65536,6,FALSE)) -> СахГУ | I13: 0.00065185185 | J13: =IF(I13=0," ",IF(I13<=[1]Разряды!$D$12,[1]Разряды!$D$3,IF(I13<=[1]Разряды!$E$12,[1]Разряды!$E$3,IF(I13<=[1]Разряды!$F$12,[1]Разряды!$F$3,IF(I13<=[1]Разряды!$G$12,[1]Разряды!$G$3,IF(I13<=[1]Разряды!$H$12,[1]Разряды!$H$3,IF(I13<=[1]Разряды!$I$12,[1]Разряды!$I$3,IF(I13<=[1]Разряды!$J$12,[1]Разряды!$J$3,"б/р")))))))) -> 1р | K13: 13 | L13: =IF(B13=0," ",VLOOKUP($B13,[1]Спортсмены!$B$1:$H$65536,7,FALSE)) -> Долгов С.А., Елохина Е.В.
A14: 4 | B14: 3 | C14: =IF(B14=0," ",VLOOKUP(B14,[1]Спортсмены!B$1:H$65536,2,FALSE)) -> Дормидонтов Александр | D14: =IF(B14=0," ",VLOOKUP($B14,[1]Спортсмены!$B$1:$H$65536,3,FALSE)) -> 22.11.1996 | E14: =IF(B14=0," ",IF(VLOOKUP($B14,[1]Спортсмены!$B$1:$H$65536,4,FALSE)=0," ",VLOOKUP($B14,[1]Спортсмены!$B$1:$H$65536,4,FALSE))) -> КМС | F14: =IF(B14=0," ",VLOOKUP($B14,[1]Спортсмены!$B$1:$H$65536,5,FALSE)) -> Республика Чувашии | G14: =IF(B14=0," ",VLOOKUP($B14,[1]Спортсмены!$B$1:$H$65536,6,FALSE)) -> Чебоксары, ЧГПУ им. И.Я. Яковлева | I14: 0.00066273148 | J14: =IF(I14=0," ",IF(I14<=[1]Разряды!$D$12,[1]Разряды!$D$3,IF(I14<=[1]Разряды!$E$12,[1]Разряды!$E$3,IF(I14<=[1]Разряды!$F$12,[1]Разряды!$F$3,IF(I14<=[1]Разряды!$G$12,[1]Разряды!$G$3,IF(I14<=[1]Разряды!$H$12,[1]Разряды!$H$3,IF(I14<=[1]Разряды!$I$12,[1]Разряды!$I$3,IF(I14<=[1]Разряды!$J$12,[1]Разряды!$J$3,"б/р")))))))) -> 1р | K14: 12 | L14: =IF(B14=0," ",VLOOKUP($B14,[1]Спортсмены!$B$1:$H$65536,7,FALSE)) -> Другов Р.А.
A15: 5 | B15: 72 | C15: =IF(B15=0," ",VLOOKUP(B15,[1]Спортсмены!B$1:H$65536,2,FALSE)) -> Кокурин Дмитрий | D15: =IF(B15=0," ",VLOOKUP($B15,[1]Спортсмены!$B$1:$H$65536,3,FALSE)) -> 29.06.1998 | E15: =IF(B15=0," ",IF(VLOOKUP($B15,[1]Спортсмены!$B$1:$H$65536,4,FALSE)=0," ",VLOOKUP($B15,[1]Спортсмены!$B$1:$H$65536,4,FALSE))) -> 1р | F15: =IF(B15=0," ",VLOOKUP($B15,[1]Спортсмены!$B$1:$H$65536,5,FALSE)) -> Владимирская область | G15: =IF(B15=0," ",VLOOKUP($B15,[1]Спортсмены!$B$1:$H$65536,6,FALSE)) -> Владимир, ВлГУ им. А.Г. и Н.Г Столетовых | I15: 0.00067962963 | J15: =IF(I15=0," ",IF(I15<=[1]Разряды!$D$12,[1]Разряды!$D$3,IF(I15<=[1]Разряды!$E$12,[1]Разряды!$E$3,IF(I15<=[1]Разряды!$F$12,[1]Разряды!$F$3,IF(I15<=[1]Разряды!$G$12,[1]Разряды!$G$3,IF(I15<=[1]Разряды!$H$12,[1]Разряды!$H$3,IF(I15<=[1]Разряды!$I$12,[1]Разряды!$I$3,IF(I15<=[1]Разряды!$J$12,[1]Разряды!$J$3,"б/р")))))))) -> 1р | K15: 11 | L15: =IF(B15=0," ",VLOOKUP($B15,[1]Спортсмены!$B$1:$H$65536,7,FALSE)) -> Терещенко А.В.
A16: 6 | B16: 198 | C16: =IF(B16=0," ",VLOOKUP(B16,[1]Спортсмены!B$1:H$65536,2,FALSE)) -> Банёв Дмитрий | D16: =IF(B16=0," ",VLOOKUP($B16,[1]Спортсмены!$B$1:$H$65536,3,FALSE)) -> 24.08.2000 | E16: =IF(B16=0," ",IF(VLOOKUP($B16,[1]Спортсмены!$B$1:$H$65536,4,FALSE)=0," ",VLOOKUP($B16,[1]Спортсмены!$B$1:$H$65536,4,FALSE))) -> 1р | F16: =IF(B16=0," ",VLOOKUP($B16,[1]Спортсмены!$B$1:$H$65536,5,FALSE)) -> Красноярский край | G16: =IF(B16=0," ",VLOOKUP($B16,[1]Спортсмены!$B$1:$H$65536,6,FALSE)) -> Красноярск, СФУ | I16: 0.00068831019 | J16: =IF(I16=0," ",IF(I16<=[1]Разряды!$D$12,[1]Разряды!$D$3,IF(I16<=[1]Разряды!$E$12,[1]Разряды!$E$3,IF(I16<=[1]Разряды!$F$12,[1]Разряды!$F$3,IF(I16<=[1]Разряды!$G$12,[1]Разряды!$G$3,IF(I16<=[1]Разряды!$H$12,[1]Разряды!$H$3,IF(I16<=[1]Разряды!$I$12,[1]Разряды!$I$3,IF(I16<=[1]Разряды!$J$12,[1]Разряды!$J$3,"б/р")))))))) -> 1р | K16: 10 | L16: =IF(B16=0," ",VLOOKUP($B16,[1]Спортсмены!$B$1:$H$65536,7,FALSE)) -> Федоров В.И.
A17: 7 | B17: 269 | C17: =IF(B17=0," ",VLOOKUP(B17,[1]Спортсмены!B$1:H$65536,2,FALSE)) -> Онучин Кирилл | D17: =IF(B17=0," ",VLOOKUP($B17,[1]Спортсмены!$B$1:$H$65536,3,FALSE)) -> 06.01.2000 | E17: =IF(B17=0," ",IF(VLOOKUP($B17,[1]Спортсмены!$B$1:$H$65536,4,FALSE)=0," ",VLOOKUP($B17,[1]Спортсмены!$B$1:$H$65536,4,FALSE))) -> 2р | F17: =IF(B17=0," ",VLOOKUP($B17,[1]Спортсмены!$B$1:$H$65536,5,FALSE)) -> Ивановская область | G17: =IF(B17=0," ",VLOOKUP($B17,[1]Спортсмены!$B$1:$H$65536,6,FALSE)) -> Иваново, ИГЭУ им. В.И. Ленина | I17: 0.00074421296 | J17: =IF(I17=0," ",IF(I17<=[1]Разряды!$D$12,[1]Разряды!$D$3,IF(I17<=[1]Разряды!$E$12,[1]Разряды!$E$3,IF(I17<=[1]Разряды!$F$12,[1]Разряды!$F$3,IF(I17<=[1]Разряды!$G$12,[1]Разряды!$G$3,IF(I17<=[1]Разряды!$H$12,[1]Разряды!$H$3,IF(I17<=[1]Разряды!$I$12,[1]Разряды!$I$3,IF(I17<=[1]Разряды!$J$12,[1]Разряды!$J$3,"б/р")))))))) -> 3р | K17: 0 | L17: =IF(B17=0," ",VLOOKUP($B17,[1]Спортсмены!$B$1:$H$65536,7,FALSE)) -> Сафина Н.Ю.
B23: Главный судья, спортивный судья ВК | G23: Хрущев Е.Н., г. Ярославль
B26: Главный секретарь, спортивный судья ВК | G26: Тараканова Ю.Ф., г. Ярославль

Sheet 3000сп
A1: Чемпионат Российского студенческого спортивного союза
A2: мужчины и женщины
L3: 27-28 июня 2019 г.
K4: стадион "Шинник"
L5: г. Ярославль
D6: 27.06.2019 г. | E6: 17.30 | F6: Финальные забеги | H6: ПРОТОКОЛ СОРЕВНОВАНИЙ
C8: Мужчины | D8: Бег 3000 м с/п
A9: М | B9: Номер | C9: Фамилия, имя | D9: Дата рожд. | E9: Квал. | F9: Команда | G9: ВУЗ | H9: Результат | J9: Вып. разр. | K9: Очки | L9: Ф.И.О. тренера
H10: фин. забеги
A11: 1 | B11: 260 | C11: =IF(B11=0," ",VLOOKUP(B11,[1]Спортсмены!B$1:H$65536,2,FALSE)) -> Егоров Геннадий | D11: =IF(B11=0," ",VLOOKUP($B11,[1]Спортсмены!$B$1:$H$65536,3,FALSE)) -> 16.04.1997 | E11: =IF(B11=0," ",IF(VLOOKUP($B11,[1]Спортсмены!$B$1:$H$65536,4,FALSE)=0," ",VLOOKUP($B11,[1]Спортсмены!$B$1:$H$65536,4,FALSE))) -> МС | F11: =IF(B11=0," ",VLOOKUP($B11,[1]Спортсмены!$B$1:$H$65536,5,FALSE)) -> Республика Татарстан | G11: =IF(B11=0," ",VLOOKUP($B11,[1]Спортсмены!$B$1:$H$65536,6,FALSE)) -> Казань, ФГБОУ ВО ПГАФКСиТ | I11: 0.0061672454 | J11: =IF(I11=0," ",IF(I11<=[1]Разряды!$D$14,[1]Разряды!$D$3,IF(I11<=[1]Разряды!$E$14,[1]Разряды!$E$3,IF(I11<=[1]Разряды!$F$14,[1]Разряды!$F$3,IF(I11<=[1]Разряды!$G$14,[1]Разряды!$G$3,IF(I11<=[1]Разряды!$H$14,[1]Разряды!$H$3,IF(I11<=[1]Разряды!$I$14,[1]Разряды!$I$3,IF(I11<=[1]Разряды!$J$14,[1]Разряды!$J$3,"б/р")))))))) -> кмс | K11: 18+5 | L11: =IF(B11=0," ",VLOOKUP($B11,[1]Спортсмены!$B$1:$H$65536,7,FALSE)) -> Павлов В.Л.
A12: 2 | B12: 197 | C12: =IF(B12=0," ",VLOOKUP(B12,[1]Спортсмены!B$1:H$65536,2,FALSE)) -> Галиуллин Константин | D12: =IF(B12=0," ",VLOOKUP($B12,[1]Спортсмены!$B$1:$H$65536,3,FALSE)) -> 13.08.1995 | E12: =IF(B12=0," ",IF(VLOOKUP($B12,[1]Спортсмены!$B$1:$H$65536,4,FALSE)=0," ",VLOOKUP($B12,[1]Спортсмены!$B$1:$H$65536,4,FALSE))) -> МС | F12: =IF(B12=0," ",VLOOKUP($B12,[1]Спортсмены!$B$1:$H$65536,5,FALSE)) -> Москва | G12: =IF(B12=0," ",VLOOKUP($B12,[1]Спортсмены!$B$1:$H$65536,6,FALSE)) -> Москва, МГАФК | I12: 0.0062547454 | J12: =IF(I12=0," ",IF(I12<=[1]Разряды!$D$14,[1]Разряды!$D$3,IF(I12<=[1]Разряды!$E$14,[1]Разряды!$E$3,IF(I12<=[1]Разряды!$F$14,[1]Разряды!$F$3,IF(I12<=[1]Разряды!$G$14,[1]Разряды!$G$3,IF(I12<=[1]Разряды!$H$14,[1]Разряды!$H$3,IF(I12<=[1]Разряды!$I$14,[1]Разряды!$I$3,IF(I12<=[1]Разряды!$J$14,[1]Разряды!$J$3,"б/р")))))))) -> кмс | K12: л | L12: =IF(B12=0," ",VLOOKUP($B12,[1]Спортсмены!$B$1:$H$65536,7,FALSE)) -> Фролова Т.С.
A13: 3 | B13: 258 | C13: =IF(B13=0," ",VLOOKUP(B13,[1]Спортсмены!B$1:H$65536,2,FALSE)) -> Дятлов Кирилл | D13: =IF(B13=0," ",VLOOKUP($B13,[1]Спортсмены!$B$1:$H$65536,3,FALSE)) -> 25.07.1997 | E13: =IF(B13=0," ",IF(VLOOKUP($B13,[1]Спортсмены!$B$1:$H$65536,4,FALSE)=0," ",VLOOKUP($B13,[1]Спортсмены!$B$1:$H$65536,4,FALSE))) -> КМС | F13: =IF(B13=0," ",VLOOKUP($B13,[1]Спортсмены!$B$1:$H$65536,5,FALSE)) -> Республика Татарстан | G13: =IF(B13=0," ",VLOOKUP($B13,[1]Спортсмены!$B$1:$H$65536,6,FALSE)) -> Казань, ФГБОУ ВО ПГАФКСиТ | I13: 0.0063130787 | J13: =IF(I13=0," ",IF(I13<=[1]Разряды!$D$14,[1]Разряды!$D$3,IF(I13<=[1]Разряды!$E$14,[1]Разряды!$E$3,IF(I13<=[1]Разряды!$F$14,[1]Разряды!$F$3,IF(I13<=[1]Разряды!$G$14,[1]Разряды!$G$3,IF(I13<=[1]Разряды!$H$14,[1]Разряды!$H$3,IF(I13<=[1]Разряды!$I$14,[1]Разряды!$I$3,IF(I13<=[1]Разряды!$J$14,[1]Разряды!$J$3,"б/р")))))))) -> кмс | K13: 15+5 | L13: =IF(B13=0," ",VLOOKUP($B13,[1]Спортсмены!$B$1:$H$65536,7,FALSE)) -> Павлов И.Л.
A14: 4 | B14: 349 | C14: =IF(B14=0," ",VLOOKUP(B14,[1]Спортсмены!B$1:H$65536,2,FALSE)) -> Зюзин Дмитрий | D14: =IF(B14=0," ",VLOOKUP($B14,[1]Спортсмены!$B$1:$H$65536,3,FALSE)) -> 07.09.200 | E14: =IF(B14=0," ",IF(VLOOKUP($B14,[1]Спортсмены!$B$1:$H$65536,4,FALSE)=0," ",VLOOKUP($B14,[1]Спортсмены!$B$1:$H$65536,4,FALSE))) -> КМС | F14: =IF(B14=0," ",VLOOKUP($B14,[1]Спортсмены!$B$1:$H$65536,5,FALSE)) -> Пензенская область | G14: =IF(B14=0," ",VLOOKUP($B14,[1]Спортсмены!$B$1:$H$65536,6,FALSE)) -> Пенза, ПензГУ | I14: 0.0063793981 | J14: =IF(I14=0," ",IF(I14<=[1]Разряды!$D$14,[1]Разряды!$D$3,IF(I14<=[1]Разряды!$E$14,[1]Разряды!$E$3,IF(I14<=[1]Разряды!$F$14,[1]Разряды!$F$3,IF(I14<=[1]Разряды!$G$14,[1]Разряды!$G$3,IF(I14<=[1]Разряды!$H$14,[1]Разряды!$H$3,IF(I14<=[1]Разряды!$I$14,[1]Разряды!$I$3,IF(I14<=[1]Разряды!$J$14,[1]Разряды!$J$3,"б/р")))))))) -> кмс | K14: 13+5 | L14: =IF(B14=0," ",VLOOKUP($B14,[1]Спортсмены!$B$1:$H$65536,7,FALSE)) -> Воеводины А.Н., Ю.С.
A15: 5 | B15: 346 | C15: =IF(B15=0," ",VLOOKUP(B15,[1]Спортсмены!B$1:H$65536,2,FALSE)) -> Царапкин Максим | D15: =IF(B15=0," ",VLOOKUP($B15,[1]Спортсмены!$B$1:$H$65536,3,FALSE)) -> 15.04.1998 | E15: =IF(B15=0," ",IF(VLOOKUP($B15,[1]Спортсмены!$B$1:$H$65536,4,FALSE)=0," ",VLOOKUP($B15,[1]Спортсмены!$B$1:$H$65536,4,FALSE))) -> КМС | F15: =IF(B15=0," ",VLOOKUP($B15,[1]Спортсмены!$B$1:$H$65536,5,FALSE)) -> Пензенская область | G15: =IF(B15=0," ",VLOOKUP($B15,[1]Спортсмены!$B$1:$H$65536,6,FALSE)) -> Пенза, ПензГУ | I15: 0.0064450231 | J15: =IF(I15=0," ",IF(I15<=[1]Разряды!$D$14,[1]Разряды!$D$3,IF(I15<=[1]Разряды!$E$14,[1]Разряды!$E$3,IF(I15<=[1]Разряды!$F$14,[1]Разряды!$F$3,IF(I15<=[1]Разряды!$G$14,[1]Разряды!$G$3,IF(I15<=[1]Разряды!$H$14,[1]Разряды!$H$3,IF(I15<=[1]Разряды!$I$14,[1]Разряды!$I$3,IF(I15<=[1]Разряды!$J$14,[1]Разряды!$J$3,"б/р")))))))) -> кмс | K15: 12+5 | L15: =IF(B15=0," ",VLOOKUP($B15,[1]Спортсмены!$B$1:$H$65536,7,FALSE)) -> Кузнецов В.Б., Плескач-Стыркина С.П.
A16: 6 | B16: 326 | C16: =IF(B16=0," ",VLOOKUP(B16,[1]Спортсмены!B$1:H$65536,2,FALSE)) -> Меньщиков Антон | D16: =IF(B16=0," ",VLOOKUP($B16,[1]Спортсмены!$B$1:$H$65536,3,FALSE)) -> 13.09.1997 | E16: =IF(B16=0," ",IF(VLOOKUP($B16,[1]Спортсмены!$B$1:$H$65536,4,FALSE)=0," ",VLOOKUP($B16,[1]Спортсмены!$B$1:$H$65536,4,FALSE))) -> 1р | F16: =IF(B16=0," ",VLOOKUP($B16,[1]Спортсмены!$B$1:$H$65536,5,FALSE)) -> Челябинская область | G16: =IF(B16=0," ",VLOOKUP($B16,[1]Спортсмены!$B$1:$H$65536,6,FALSE)) -> Челябинск, УралГУФК | I16: 0.0066019676 | J16: =IF(I16=0," ",IF(I16<=[1]Разряды!$D$14,[1]Разряды!$D$3,IF(I16<=[1]Разряды!$E$14,[1]Разряды!$E$3,IF(I16<=[1]Разряды!$F$14,[1]Разряды!$F$3,IF(I16<=[1]Разряды!$G$14,[1]Разряды!$G$3,IF(I16<=[1]Разряды!$H$14,[1]Разряды!$H$3,IF(I16<=[1]Разряды!$I$14,[1]Разряды!$I$3,IF(I16<=[1]Разряды!$J$14,[1]Разряды!$J$3,"б/р")))))))) -> 1р | K16: 11 | L16: =IF(B16=0," ",VLOOKUP($B16,[1]Спортсмены!$B$1:$H$65536,7,FALSE)) -> Митюхов Д.М.
A17: 7 | B17: 217 | C17: =IF(B17=0," ",VLOOKUP(B17,[1]Спортсмены!B$1:H$65536,2,FALSE)) -> Абрамов Евгений | D17: =IF(B17=0," ",VLOOKUP($B17,[1]Спортсмены!$B$1:$H$65536,3,FALSE)) -> 24.08.1996 | E17: =IF(B17=0," ",IF(VLOOKUP($B17,[1]Спортсмены!$B$1:$H$65536,4,FALSE)=0," ",VLOOKUP($B17,[1]Спортсмены!$B$1:$H$65536,4,FALSE))) -> КМС | F17: =IF(B17=0," ",VLOOKUP($B17,[1]Спортсмены!$B$1:$H$65536,5,FALSE)) -> Республика Мордовия | G17: =IF(B17=0," ",VLOOKUP($B17,[1]Спортсмены!$B$1:$H$65536,6,FALSE)) -> Саранск, ФГБОУ ВО "НИМГУ им. Н.П. Огарева" | I17: 0.0068803241 | J17: =IF(I17=0," ",IF(I17<=[1]Разряды!$D$14,[1]Разряды!$D$3,IF(I17<=[1]Разряды!$E$14,[1]Разряды!$E$3,IF(I17<=[1]Разряды!$F$14,[1]Разряды!$F$3,IF(I17<=[1]Разряды!$G$14,[1]Разряды!$G$3,IF(I17<=[1]Разряды!$H$14,[1]Разряды!$H$3,IF(I17<=[1]Разряды!$I$14,[1]Разряды!$I$3,IF(I17<=[1]Разряды!$J$14,[1]Разряды!$J$3,"б/р")))))))) -> 1р | K17: 10 | L17: =IF(B17=0," ",VLOOKUP($B17,[1]Спортсмены!$B$1:$H$65536,7,FALSE)) -> Аранов С.М.
A18: 8 | B18: 284 | C18: =IF(B18=0," ",VLOOKUP(B18,[1]Спортсмены!B$1:H$65536,2,FALSE)) -> Лукша Владислав | D18: =IF(B18=0," ",VLOOKUP($B18,[1]Спортсмены!$B$1:$H$65536,3,FALSE)) -> 14.01.1996 | E18: =IF(B18=0," ",IF(VLOOKUP($B18,[1]Спортсмены!$B$1:$H$65536,4,FALSE)=0," ",VLOOKUP($B18,[1]Спортсмены!$B$1:$H$65536,4,FALSE))) -> 1р | F18: =IF(B18=0," ",VLOOKUP($B18,[1]Спортсмены!$B$1:$H$65536,5,FALSE)) -> Архангельская область | G18: =IF(B18=0," ",VLOOKUP($B18,[1]Спортсмены!$B$1:$H$65536,6,FALSE)) -> Архангельск, САФУ им. М.В. Ломоносова | I18: 0.0069300926 | J18: =IF(I18=0," ",IF(I18<=[1]Разряды!$D$14,[1]Разряды!$D$3,IF(I18<=[1]Разряды!$E$14,[1]Разряды!$E$3,IF(I18<=[1]Разряды!$F$14,[1]Разряды!$F$3,IF(I18<=[1]Разряды!$G$14,[1]Разряды!$G$3,IF(I18<=[1]Разряды!$H$14,[1]Разряды!$H$3,IF(I18<=[1]Разряды!$I$14,[1]Разряды!$I$3,IF(I18<=[1]Разряды!$J$14,[1]Разряды!$J$3,"б/р")))))))) -> 1р | K18: 9 | L18: =IF(B18=0," ",VLOOKUP($B18,[1]Спортсмены!$B$1:$H$65536,7,FALSE)) -> Чернов А.В.
A19: 9 | B19: 300 | C19: =IF(B19=0," ",VLOOKUP(B19,[1]Спортсмены!B$1:H$65536,2,FALSE)) -> Сиротин Иван | D19: =IF(B19=0," ",VLOOKUP($B19,[1]Спортсмены!$B$1:$H$65536,3,FALSE)) -> 01.07.1995 | E19: =IF(B19=0," ",IF(VLOOKUP($B19,[1]Спортсмены!$B$1:$H$65536,4,FALSE)=0," ",VLOOKUP($B19,[1]Спортсмены!$B$1:$H$65536,4,FALSE))) -> КМС | F19: =IF(B19=0," ",VLOOKUP($B19,[1]Спортсмены!$B$1:$H$65536,5,FALSE)) -> Ивановская область | G19: =IF(B19=0," ",VLOOKUP($B19,[1]Спортсмены!$B$1:$H$65536,6,FALSE)) -> Иваново, ИГСХА им. Д.К. Беляева | I19: 0.0070298611 | J19: =IF(I19=0," ",IF(I19<=[1]Разряды!$D$14,[1]Разряды!$D$3,IF(I19<=[1]Разряды!$E$14,[1]Разряды!$E$3,IF(I19<=[1]Разряды!$F$14,[1]Разряды!$F$3,IF(I19<=[1]Разряды!$G$14,[1]Разряды!$G$3,IF(I19<=[1]Разряды!$H$14,[1]Разряды!$H$3,IF(I19<=[1]Разряды!$I$14,[1]Разряды!$I$3,IF(I19<=[1]Разряды!$J$14,[1]Разряды!$J$3,"б/р")))))))) -> 2р | K19: 8 | L19: =IF(B19=0," ",VLOOKUP($B19,[1]Спортсмены!$B$1:$H$65536,7,FALSE)) -> Дряннов В.А.
B20: 123 | C20: =IF(B20=0," ",VLOOKUP(B20,[1]Спортсмены!B$1:H$65536,2,FALSE)) -> Киргизов Михаил | D20: =IF(B20=0," ",VLOOKUP($B20,[1]Спортсмены!$B$1:$H$65536,3,FALSE)) -> 11.05.1998 | E20: =IF(B20=0," ",IF(VLOOKUP($B20,[1]Спортсмены!$B$1:$H$65536,4,FALSE)=0," ",VLOOKUP($B20,[1]Спортсмены!$B$1:$H$65536,4,FALSE))) -> КМС | F20: =IF(B20=0," ",VLOOKUP($B20,[1]Спортсмены!$B$1:$H$65536,5,FALSE)) -> Республика Чувашии | G20: =IF(B20=0," ",VLOOKUP($B20,[1]Спортсмены!$B$1:$H$65536,6,FALSE)) -> Чебоксары, ЧГПУ им. И.Я. Яковлева | I20: DNF | K20: 0 | L20: =IF(B20=0," ",VLOOKUP($B20,[1]Спортсмены!$B$1:$H$65536,7,FALSE)) -> Давалов В.Н.
B26: Главный судья, спортивный судья ВК | G26: Хрущев Е.Н., г. Ярославль
B29: Главный секретарь, спортивный судья ВК | G29: Тараканова Ю.Ф., г. Ярославль

Sheet сх м
A1: Чемпионат Российского студенческого спортивного союза
A2: мужчины и женщины
L3: 27-28 июня 2019 г.
K4: стадион "Шинник"
L5: г. Ярославль
D6: 27.06.2019г. | E6: 0.4375 | F6: Финальный заход | H6: ПРОТОКОЛ СОРЕВНОВАНИЙ
C8: Мужчины | D8: С/ходьба 5000 м
A9: М | B9: Номер | C9: Фамилия, имя | D9: Дата рожд. | E9: Квал. | F9: Команда | G9: ВУЗ | H9: Результат | J9: Вып. разр. | K9: Очки | L9: Ф.И.О. тренера
H10: фин. заход
A11: 1 | B11: 325 | C11: =IF(B11=0," ",VLOOKUP(B11,[1]Спортсмены!B$1:H$65536,2,FALSE)) -> Ишмаметьев Алексей | D11: =IF(B11=0," ",VLOOKUP($B11,[1]Спортсмены!$B$1:$H$65536,3,FALSE)) -> 21.07.2000 | E11: =IF(B11=0," ",IF(VLOOKUP($B11,[1]Спортсмены!$B$1:$H$65536,4,FALSE)=0," ",VLOOKUP($B11,[1]Спортсмены!$B$1:$H$65536,4,FALSE))) -> МС | F11: =IF(B11=0," ",VLOOKUP($B11,[1]Спортсмены!$B$1:$H$65536,5,FALSE)) -> Челябинская область | G11: =IF(B11=0," ",VLOOKUP($B11,[1]Спортсмены!$B$1:$H$65536,6,FALSE)) -> Челябинск, УралГУФК | I11: 0.01444213 | J11: =IF(I11=0," ",IF(I11<=[1]Разряды!$D$28,[1]Разряды!$D$3,IF(I11<=[1]Разряды!$E$28,[1]Разряды!$E$3,IF(I11<=[1]Разряды!$F$28,[1]Разряды!$F$3,IF(I11<=[1]Разряды!$G$28,[1]Разряды!$G$3,IF(I11<=[1]Разряды!$H$28,[1]Разряды!$H$3,IF(I11<=[1]Разряды!$I$28,[1]Разряды!$I$3,IF(I11<=[1]Разряды!$J$28,[1]Разряды!$J$3,"б/р")))))))) -> кмс | K11: 18+5 | L11: =IF(B11=0," ",VLOOKUP($B11,[1]Спортсмены!$B$1:$H$65536,7,FALSE)) -> Одер О.В.
A12: 2 | B12: 245 | C12: =IF(B12=0," ",VLOOKUP(B12,[1]Спортсмены!B$1:H$65536,2,FALSE)) -> Шкляев Константин | D12: =IF(B12=0," ",VLOOKUP($B12,[1]Спортсмены!$B$1:$H$65536,3,FALSE)) -> 09.08.1998 | E12: =IF(B12=0," ",IF(VLOOKUP($B12,[1]Спортсмены!$B$1:$H$65536,4,FALSE)=0," ",VLOOKUP($B12,[1]Спортсмены!$B$1:$H$65536,4,FALSE))) -> КМС | F12: =IF(B12=0," ",VLOOKUP($B12,[1]Спортсмены!$B$1:$H$65536,5,FALSE)) -> Удмуртская Республика | G12: =IF(B12=0," ",VLOOKUP($B12,[1]Спортсмены!$B$1:$H$65536,6,FALSE)) -> Ижевск, УдГУ | I12: 0.014641782 | J12: =IF(I12=0," ",IF(I12<=[1]Разряды!$D$28,[1]Разряды!$D$3,IF(I12<=[1]Разряды!$E$28,[1]Разряды!$E$3,IF(I12<=[1]Разряды!$F$28,[1]Разряды!$F$3,IF(I12<=[1]Разряды!$G$28,[1]Разряды!$G$3,IF(I12<=[1]Разряды!$H$28,[1]Разряды!$H$3,IF(I12<=[1]Разряды!$I$28,[1]Разряды!$I$3,IF(I12<=[1]Разряды!$J$28,[1]Разряды!$J$3,"б/р")))))))) -> кмс | K12: 15+5 | L12: =IF(B12=0," ",VLOOKUP($B12,[1]Спортсмены!$B$1:$H$65536,7,FALSE)) -> Вахрушев Л.А.
A13: 3 | B13: 324 | C13: =IF(B13=0," ",VLOOKUP(B13,[1]Спортсмены!B$1:H$65536,2,FALSE)) -> Ишимов Олег | D13: =IF(B13=0," ",VLOOKUP($B13,[1]Спортсмены!$B$1:$H$65536,3,FALSE)) -> 18.01.1999 | E13: =IF(B13=0," ",IF(VLOOKUP($B13,[1]Спортсмены!$B$1:$H$65536,4,FALSE)=0," ",VLOOKUP($B13,[1]Спортсмены!$B$1:$H$65536,4,FALSE))) -> МС | F13: =IF(B13=0," ",VLOOKUP($B13,[1]Спортсмены!$B$1:$H$65536,5,FALSE)) -> Челябинская область | G13: =IF(B13=0," ",VLOOKUP($B13,[1]Спортсмены!$B$1:$H$65536,6,FALSE)) -> Челябинск, УралГУФК | I13: 0.014819329 | J13: =IF(I13=0," ",IF(I13<=[1]Разряды!$D$28,[1]Разряды!$D$3,IF(I13<=[1]Разряды!$E$28,[1]Разряды!$E$3,IF(I13<=[1]Разряды!$F$28,[1]Разряды!$F$3,IF(I13<=[1]Разряды!$G$28,[1]Разряды!$G$3,IF(I13<=[1]Разряды!$H$28,[1]Разряды!$H$3,IF(I13<=[1]Разряды!$I$28,[1]Разряды!$I$3,IF(I13<=[1]Разряды!$J$28,[1]Разряды!$J$3,"б/р")))))))) -> кмс | K13: 13+5 | L13: =IF(B13=0," ",VLOOKUP($B13,[1]Спортсмены!$B$1:$H$65536,7,FALSE)) -> Одер О.В.
A14: 4 | B14: 298 | C14: =IF(B14=0," ",VLOOKUP(B14,[1]Спортсмены!B$1:H$65536,2,FALSE)) -> Трифонов Артем | D14: =IF(B14=0," ",VLOOKUP($B14,[1]Спортсмены!$B$1:$H$65536,3,FALSE)) -> 04.11.1995 | E14: =IF(B14=0," ",IF(VLOOKUP($B14,[1]Спортсмены!$B$1:$H$65536,4,FALSE)=0," ",VLOOKUP($B14,[1]Спортсмены!$B$1:$H$65536,4,FALSE))) -> МС | F14: =IF(B14=0," ",VLOOKUP($B14,[1]Спортсмены!$B$1:$H$65536,5,FALSE)) -> Владимирская область | G14: =IF(B14=0," ",VLOOKUP($B14,[1]Спортсмены!$B$1:$H$65536,6,FALSE)) -> Владимир, ВлГУ им. А.Г. и Н.Г Столетовых | I14: 0.01553125 | J14: =IF(I14=0," ",IF(I14<=[1]Разряды!$D$28,[1]Разряды!$D$3,IF(I14<=[1]Разряды!$E$28,[1]Разряды!$E$3,IF(I14<=[1]Разряды!$F$28,[1]Разряды!$F$3,IF(I14<=[1]Разряды!$G$28,[1]Разряды!$G$3,IF(I14<=[1]Разряды!$H$28,[1]Разряды!$H$3,IF(I14<=[1]Разряды!$I$28,[1]Разряды!$I$3,IF(I14<=[1]Разряды!$J$28,[1]Разряды!$J$3,"б/р")))))))) -> 1р | K14: 12 | L14: =IF(B14=0," ",VLOOKUP($B14,[1]Спортсмены!$B$1:$H$65536,7,FALSE)) -> Плотников П.Н.
A15: 5 | B15: 127 | C15: =IF(B15=0," ",VLOOKUP(B15,[1]Спортсмены!B$1:H$65536,2,FALSE)) -> Захаров Михаил | D15: =IF(B15=0," ",VLOOKUP($B15,[1]Спортсмены!$B$1:$H$65536,3,FALSE)) -> 13.09.1997 | E15: =IF(B15=0," ",IF(VLOOKUP($B15,[1]Спортсмены!$B$1:$H$65536,4,FALSE)=0," ",VLOOKUP($B15,[1]Спортсмены!$B$1:$H$65536,4,FALSE))) -> КМС | F15: =IF(B15=0," ",VLOOKUP($B15,[1]Спортсмены!$B$1:$H$65536,5,FALSE)) -> Республика Чувашии | G15: =IF(B15=0," ",VLOOKUP($B15,[1]Спортсмены!$B$1:$H$65536,6,FALSE)) -> Чебоксары, ЧГПУ им. И.Я. Яковлева | I15: 0.015713889 | J15: =IF(I15=0," ",IF(I15<=[1]Разряды!$D$28,[1]Разряды!$D$3,IF(I15<=[1]Разряды!$E$28,[1]Разряды!$E$3,IF(I15<=[1]Разряды!$F$28,[1]Разряды!$F$3,IF(I15<=[1]Разряды!$G$28,[1]Разряды!$G$3,IF(I15<=[1]Разряды!$H$28,[1]Разряды!$H$3,IF(I15<=[1]Разряды!$I$28,[1]Разряды!$I$3,IF(I15<=[1]Разряды!$J$28,[1]Разряды!$J$3,"б/р")))))))) -> 1р | K15: 11 | L15: =IF(B15=0," ",VLOOKUP($B15,[1]Спортсмены!$B$1:$H$65536,7,FALSE)) -> Лисканюк Д.И.
C16: =IF(B16=0," ",VLOOKUP(B16,[1]Спортсмены!B$1:H$65536,2,FALSE)) | D16: =IF(B16=0," ",VLOOKUP($B16,[1]Спортсмены!$B$1:$H$65536,3,FALSE)) | E16: =IF(B16=0," ",IF(VLOOKUP($B16,[1]Спортсмены!$B$1:$H$65536,4,FALSE)=0," ",VLOOKUP($B16,[1]Спортсмены!$B$1:$H$65536,4,FALSE))) | F16: =IF(B16=0," ",VLOOKUP($B16,[1]Спортсмены!$B$1:$H$65536,5,FALSE)) | G16: =IF(B16=0," ",VLOOKUP($B16,[1]Спортсмены!$B$1:$H$65536,6,FALSE)) | J16: =IF(I16=0," ",IF(I16<=[1]Разряды!$D$28,[1]Разряды!$D$3,IF(I16<=[1]Разряды!$E$28,[1]Разряды!$E$3,IF(I16<=[1]Разряды!$F$28,[1]Разряды!$F$3,IF(I16<=[1]Разряды!$G$28,[1]Разряды!$G$3,IF(I16<=[1]Разряды!$H$28,[1]Разряды!$H$3,IF(I16<=[1]Разряды!$I$28,[1]Разряды!$I$3,IF(I16<=[1]Разряды!$J$28,[1]Разряды!$J$3,"б/р")))))))) | L16: =IF(B16=0," ",VLOOKUP($B16,[1]Спортсмены!$B$1:$H$65536,7,FALSE))
B21: Главный судья, спортивный судья ВК | G21: Хрущев Е.Н., г. Ярославль
B24: Главный секретарь, спортивный судья ВК | G24: Тараканова Ю.Ф., г. Ярославль

Sheet длина м
A1: Чемпионат Российского студенческого спортивного союза
A2: мужчины и женщины
R3: 27-28 июня 2019 г.
Q4: стадион "Шинник"
R5: г. Ярославль
D6: 28.06.2019 г. | E6: 0.5 | F6: Финал | H6: ПРОТОКОЛ СОРЕВНОВАНИЙ
C8: Мужчины | D8: Прыжок в длину
A9: Место | B9: Номер | C9: Фамилия, имя | D9: Дата рожд. | E9: Квалиф. | F9: Команда | G9: Вуз | H9: Результаты попыток | O9: Результат | P9: Вып. разр. | Q9: Очки | R9: Ф.И.О. тренера
H10: 1 | I10: 2 | J10: 3 | L10: 4 | M10: 5 | N10: 6
A12: 1 | B12: 172 | C12: =IF(B12=0," ",VLOOKUP(B12,[1]Спортсмены!B$1:H$65536,2,FALSE)) -> Кисельков Федор | D12: =IF(B12=0," ",VLOOKUP($B12,[1]Спортсмены!$B$1:$H$65536,3,FALSE)) -> 03.06.1995 | E12: =IF(B12=0," ",IF(VLOOKUP($B12,[1]Спортсмены!$B$1:$H$65536,4,FALSE)=0," ",VLOOKUP($B12,[1]Спортсмены!$B$1:$H$65536,4,FALSE))) -> МСМК | F12: =IF(B12=0," ",VLOOKUP($B12,[1]Спортсмены!$B$1:$H$65536,5,FALSE)) -> Приморский край | G12: =IF(B12=0," ",VLOOKUP($B12,[1]Спортсмены!$B$1:$H$65536,6,FALSE)) -> Владивосток, ДВФУ | H12: 7.03 | I12: 7.28 | J12: 7.15 | K12: 7 | L12: 7.54 | M12: - | N12: - | O12: =MAX(H12:J12,L12:N12) -> 7.54 | P12: =IF(O12=0," ",IF(O12>=[1]Разряды!$C$16,[1]Разряды!$C$3,IF(O12>=[1]Разряды!$D$16,[1]Разряды!$D$3,IF(O12>=[1]Разряды!$E$16,[1]Разряды!$E$3,IF(O12>=[1]Разряды!$F$16,[1]Разряды!$F$3,IF(O12>=[1]Разряды!$G$16,[1]Разряды!$G$3,IF(O12>=[1]Разряды!$H$16,[1]Разряды!$H$3,"б/р"))))))) -> кмс | Q12: 18+5 | R12: =IF(B12=0," ",VLOOKUP($B12,[1]Спортсмены!$B$1:$H$65536,7,FALSE)) -> Кузина Т.Н., Загиной Ю.А.
A13: 2 | B13: 318 | C13: =IF(B13=0," ",VLOOKUP(B13,[1]Спортсмены!B$1:H$65536,2,FALSE)) -> Губин Евгений | D13: =IF(B13=0," ",VLOOKUP($B13,[1]Спортсмены!$B$1:$H$65536,3,FALSE)) -> 02.07.1997 | E13: =IF(B13=0," ",IF(VLOOKUP($B13,[1]Спортсмены!$B$1:$H$65536,4,FALSE)=0," ",VLOOKUP($B13,[1]Спортсмены!$B$1:$H$65536,4,FALSE))) -> КМС | F13: =IF(B13=0," ",VLOOKUP($B13,[1]Спортсмены!$B$1:$H$65536,5,FALSE)) -> Челябинская область | G13: =IF(B13=0," ",VLOOKUP($B13,[1]Спортсмены!$B$1:$H$65536,6,FALSE)) -> Челябинск, УралГУФК | H13: х | I13: 6.87 | J13: 7.37 | K13: 8 | L13: - | M13: х | N13: 7.4 | O13: =MAX(H13:J13,L13:N13) -> 7.4 | P13: =IF(O13=0," ",IF(O13>=[1]Разряды!$C$16,[1]Разряды!$C$3,IF(O13>=[1]Разряды!$D$16,[1]Разряды!$D$3,IF(O13>=[1]Разряды!$E$16,[1]Разряды!$E$3,IF(O13>=[1]Разряды!$F$16,[1]Разряды!$F$3,IF(O13>=[1]Разряды!$G$16,[1]Разряды!$G$3,IF(O13>=[1]Разряды!$H$16,[1]Разряды!$H$3,"б/р"))))))) -> кмс | Q13: 15+5 | R13: =IF(B13=0," ",VLOOKUP($B13,[1]Спортсмены!$B$1:$H$65536,7,FALSE)) -> Шемигон О.С, Пугач С.В.
A14: 3 | B14: 92 | C14: =IF(B14=0," ",VLOOKUP(B14,[1]Спортсмены!B$1:H$65536,2,FALSE)) -> Соловьев Иван | D14: =IF(B14=0," ",VLOOKUP($B14,[1]Спортсмены!$B$1:$H$65536,3,FALSE)) -> 04.05.1997 | E14: =IF(B14=0," ",IF(VLOOKUP($B14,[1]Спортсмены!$B$1:$H$65536,4,FALSE)=0," ",VLOOKUP($B14,[1]Спортсмены!$B$1:$H$65536,4,FALSE))) -> КМС | F14: =IF(B14=0," ",VLOOKUP($B14,[1]Спортсмены!$B$1:$H$65536,5,FALSE)) -> Челябинская область | G14: =IF(B14=0," ",VLOOKUP($B14,[1]Спортсмены!$B$1:$H$65536,6,FALSE)) -> Челябинск, УралГУФК | H14: 6.42 | I14: 7 | J14: 7.11 | K14: 4 | L14: 7.29 | M14: 7.14 | N14: х | O14: =MAX(H14:J14,L14:N14) -> 7.29 | P14: =IF(O14=0," ",IF(O14>=[1]Разряды!$C$16,[1]Разряды!$C$3,IF(O14>=[1]Разряды!$D$16,[1]Разряды!$D$3,IF(O14>=[1]Разряды!$E$16,[1]Разряды!$E$3,IF(O14>=[1]Разряды!$F$16,[1]Разряды!$F$3,IF(O14>=[1]Разряды!$G$16,[1]Разряды!$G$3,IF(O14>=[1]Разряды!$H$16,[1]Разряды!$H$3,"б/р"))))))) -> кмс | Q14: 13+5 | R14: =IF(B14=0," ",VLOOKUP($B14,[1]Спортсмены!$B$1:$H$65536,7,FALSE)) -> Береглазов В.Н.
A15: 4 | B15: 333 | C15: =IF(B15=0," ",VLOOKUP(B15,[1]Спортсмены!B$1:H$65536,2,FALSE)) -> Черноталов Александр | D15: =IF(B15=0," ",VLOOKUP($B15,[1]Спортсмены!$B$1:$H$65536,3,FALSE)) -> 31.05.1997 | E15: =IF(B15=0," ",IF(VLOOKUP($B15,[1]Спортсмены!$B$1:$H$65536,4,FALSE)=0," ",VLOOKUP($B15,[1]Спортсмены!$B$1:$H$65536,4,FALSE))) -> КМС | F15: =IF(B15=0," ",VLOOKUP($B15,[1]Спортсмены!$B$1:$H$65536,5,FALSE)) -> Калининградская область | G15: =IF(B15=0," ",VLOOKUP($B15,[1]Спортсмены!$B$1:$H$65536,6,FALSE)) -> Калининград, БФУ им. И. Канта | H15: 6.89 | I15: х | J15: 7.03 | K15: 3 | L15: 7.22 | M15: 6.78 | N15: 6.9 | O15: =MAX(H15:J15,L15:N15) -> 7.22 | P15: =IF(O15=0," ",IF(O15>=[1]Разряды!$C$16,[1]Разряды!$C$3,IF(O15>=[1]Разряды!$D$16,[1]Разряды!$D$3,IF(O15>=[1]Разряды!$E$16,[1]Разряды!$E$3,IF(O15>=[1]Разряды!$F$16,[1]Разряды!$F$3,IF(O15>=[1]Разряды!$G$16,[1]Разряды!$G$3,IF(O15>=[1]Разряды!$H$16,[1]Разряды!$H$3,"б/р"))))))) -> кмс | Q15: 12+5 | R15: =IF(B15=0," ",VLOOKUP($B15,[1]Спортсмены!$B$1:$H$65536,7,FALSE)) -> Балашов С.Г.
A16: 5 | B16: 82 | C16: =IF(B16=0," ",VLOOKUP(B16,[1]Спортсмены!B$1:H$65536,2,FALSE)) -> Новиков Илья | D16: =IF(B16=0," ",VLOOKUP($B16,[1]Спортсмены!$B$1:$H$65536,3,FALSE)) -> 08.09.1996 | E16: =IF(B16=0," ",IF(VLOOKUP($B16,[1]Спортсмены!$B$1:$H$65536,4,FALSE)=0," ",VLOOKUP($B16,[1]Спортсмены!$B$1:$H$65536,4,FALSE))) -> КМС | F16: =IF(B16=0," ",VLOOKUP($B16,[1]Спортсмены!$B$1:$H$65536,5,FALSE)) -> Республика Карелия | G16: =IF(B16=0," ",VLOOKUP($B16,[1]Спортсмены!$B$1:$H$65536,6,FALSE)) -> Петрозаводск, ПетрГУ | H16: х | I16: х | J16: 7.19 | K16: 6 | L16: 7.05 | M16: 7.06 | N16: х | O16: =MAX(H16:J16,L16:N16) -> 7.19 | P16: =IF(O16=0," ",IF(O16>=[1]Разряды!$C$16,[1]Разряды!$C$3,IF(O16>=[1]Разряды!$D$16,[1]Разряды!$D$3,IF(O16>=[1]Разряды!$E$16,[1]Разряды!$E$3,IF(O16>=[1]Разряды!$F$16,[1]Разряды!$F$3,IF(O16>=[1]Разряды!$G$16,[1]Разряды!$G$3,IF(O16>=[1]Разряды!$H$16,[1]Разряды!$H$3,"б/р"))))))) -> кмс | Q16: 11+5 | R16: =IF(B16=0," ",VLOOKUP($B16,[1]Спортсмены!$B$1:$H$65536,7,FALSE)) -> Савинов Е.В.
A17: 6 | B17: 208 | C17: =IF(B17=0," ",VLOOKUP(B17,[1]Спортсмены!B$1:H$65536,2,FALSE)) -> Чечела Данил | D17: =IF(B17=0," ",VLOOKUP($B17,[1]Спортсмены!$B$1:$H$65536,3,FALSE)) -> 30.03.2000 | E17: =IF(B17=0," ",IF(VLOOKUP($B17,[1]Спортсмены!$B$1:$H$65536,4,FALSE)=0," ",VLOOKUP($B17,[1]Спортсмены!$B$1:$H$65536,4,FALSE))) -> КМС | F17: =IF(B17=0," ",VLOOKUP($B17,[1]Спортсмены!$B$1:$H$65536,5,FALSE)) -> Красноярский край | G17: =IF(B17=0," ",VLOOKUP($B17,[1]Спортсмены!$B$1:$H$65536,6,FALSE)) -> Красноярск, СФУ | H17: 7.04 | I17: 6.97 | J17: 7.12 | K17: 5 | L17: 6.83 | M17: 7.01 | N17: 6.94 | O17: =MAX(H17:J17,L17:N17) -> 7.12 | P17: =IF(O17=0," ",IF(O17>=[1]Разряды!$C$16,[1]Разряды!$C$3,IF(O17>=[1]Разряды!$D$16,[1]Разряды!$D$3,IF(O17>=[1]Разряды!$E$16,[1]Разряды!$E$3,IF(O17>=[1]Разряды!$F$16,[1]Разряды!$F$3,IF(O17>=[1]Разряды!$G$16,[1]Разряды!$G$3,IF(O17>=[1]Разряды!$H$16,[1]Разряды!$H$3,"б/р"))))))) -> кмс | Q17: 10+5 | R17: =IF(B17=0," ",VLOOKUP($B17,[1]Спортсмены!$B$1:$H$65536,7,FALSE)) -> Артемьев П.П., Федоров В.И.
A18: 7 | B18: 315 | C18: =IF(B18=0," ",VLOOKUP(B18,[1]Спортсмены!B$1:H$65536,2,FALSE)) -> Волгин Михаил | D18: =IF(B18=0," ",VLOOKUP($B18,[1]Спортсмены!$B$1:$H$65536,3,FALSE)) -> 07.05.2001 | E18: =IF(B18=0," ",IF(VLOOKUP($B18,[1]Спортсмены!$B$1:$H$65536,4,FALSE)=0," ",VLOOKUP($B18,[1]Спортсмены!$B$1:$H$65536,4,FALSE))) -> КМС | F18: =IF(B18=0," ",VLOOKUP($B18,[1]Спортсмены!$B$1:$H$65536,5,FALSE)) -> Москва | G18: =IF(B18=0," ",VLOOKUP($B18,[1]Спортсмены!$B$1:$H$65536,6,FALSE)) -> Москва, МГУ им. М.В. Ломоносова | H18: 6.99 | I18: 6.91 | J18: 6.66 | K18: 2 | L18: 6.89 | M18: 6.45 | N18: 6.73 | O18: =MAX(H18:J18,L18:N18) -> 6.99 | P18: =IF(O18=0," ",IF(O18>=[1]Разряды!$C$16,[1]Разряды!$C$3,IF(O18>=[1]Разряды!$D$16,[1]Разряды!$D$3,IF(O18>=[1]Разряды!$E$16,[1]Разряды!$E$3,IF(O18>=[1]Разряды!$F$16,[1]Разряды!$F$3,IF(O18>=[1]Разряды!$G$16,[1]Разряды!$G$3,IF(O18>=[1]Разряды!$H$16,[1]Разряды!$H$3,"б/р"))))))) -> 1р | Q18: 9 | R18: =IF(B18=0," ",VLOOKUP($B18,[1]Спортсмены!$B$1:$H$65536,7,FALSE)) -> Фетисов А.И.
A19: 8 | B19: 186 | C19: =IF(B19=0," ",VLOOKUP(B19,[1]Спортсмены!B$1:H$65536,2,FALSE)) -> Татаринов Иван | D19: =IF(B19=0," ",VLOOKUP($B19,[1]Спортсмены!$B$1:$H$65536,3,FALSE)) -> 24.01.1997 | E19: =IF(B19=0," ",IF(VLOOKUP($B19,[1]Спортсмены!$B$1:$H$65536,4,FALSE)=0," ",VLOOKUP($B19,[1]Спортсмены!$B$1:$H$65536,4,FALSE))) -> МС | F19: =IF(B19=0," ",VLOOKUP($B19,[1]Спортсмены!$B$1:$H$65536,5,FALSE)) -> Москва | G19: =IF(B19=0," ",VLOOKUP($B19,[1]Спортсмены!$B$1:$H$65536,6,FALSE)) -> Москва, РГУФКСМиТ (ГЦОЛИФК) | H19: х | I19: 6.98 | J19: 5.79 | K19: 1 | L19: х | M19: х | N19: х | O19: =MAX(H19:J19,L19:N19) -> 6.98 | P19: =IF(O19=0," ",IF(O19>=[1]Разряды!$C$16,[1]Разряды!$C$3,IF(O19>=[1]Разряды!$D$16,[1]Разряды!$D$3,IF(O19>=[1]Разряды!$E$16,[1]Разряды!$E$3,IF(O19>=[1]Разряды!$F$16,[1]Разряды!$F$3,IF(O19>=[1]Разряды!$G$16,[1]Разряды!$G$3,IF(O19>=[1]Разряды!$H$16,[1]Разряды!$H$3,"б/р"))))))) -> 1р | Q19: 8 | R19: =IF(B19=0," ",VLOOKUP($B19,[1]Спортсмены!$B$1:$H$65536,7,FALSE)) -> Тер-Ованесов Е.М.
A20: 9 | B20: 294 | C20: =IF(B20=0," ",VLOOKUP(B20,[1]Спортсмены!B$1:H$65536,2,FALSE)) -> Леванов Алексей | D20: =IF(B20=0," ",VLOOKUP($B20,[1]Спортсмены!$B$1:$H$65536,3,FALSE)) -> 25.03.1997 | E20: =IF(B20=0," ",IF(VLOOKUP($B20,[1]Спортсмены!$B$1:$H$65536,4,FALSE)=0," ",VLOOKUP($B20,[1]Спортсмены!$B$1:$H$65536,4,FALSE))) -> КМС | F20: =IF(B20=0," ",VLOOKUP($B20,[1]Спортсмены!$B$1:$H$65536,5,FALSE)) -> Пермский край | G20: =IF(B20=0," ",VLOOKUP($B20,[1]Спортсмены!$B$1:$H$65536,6,FALSE)) -> Пермь, ПНИПУ с/к "Политехник" | H20: 6.97 | I20: х | J20: 6.96 | O20: =MAX(H20:J20,L20:N20) -> 6.97 | P20: =IF(O20=0," ",IF(O20>=[1]Разряды!$C$16,[1]Разряды!$C$3,IF(O20>=[1]Разряды!$D$16,[1]Разряды!$D$3,IF(O20>=[1]Разряды!$E$16,[1]Разряды!$E$3,IF(O20>=[1]Разряды!$F$16,[1]Разряды!$F$3,IF(O20>=[1]Разряды!$G$16,[1]Разряды!$G$3,IF(O20>=[1]Разряды!$H$16,[1]Разряды!$H$3,"б/р"))))))) -> 1р | Q20: 7 | R20: =IF(B20=0," ",VLOOKUP($B20,[1]Спортсмены!$B$1:$H$65536,7,FALSE)) -> Гладков В.П.
A21: 10 | B21: 275 | C21: =IF(B21=0," ",VLOOKUP(B21,[1]Спортсмены!B$1:H$65536,2,FALSE)) -> Тростин Денис | D21: =IF(B21=0," ",VLOOKUP($B21,[1]Спортсмены!$B$1:$H$65536,3,FALSE)) -> 07.02.2001 | E21: =IF(B21=0," ",IF(VLOOKUP($B21,[1]Спортсмены!$B$1:$H$65536,4,FALSE)=0," ",VLOOKUP($B21,[1]Спортсмены!$B$1:$H$65536,4,FALSE))) -> 1р | F21: =IF(B21=0," ",VLOOKUP($B21,[1]Спортсмены!$B$1:$H$65536,5,FALSE)) -> Ивановская область | G21: =IF(B21=0," ",VLOOKUP($B21,[1]Спортсмены!$B$1:$H$65536,6,FALSE)) -> Иваново, ИГЭУ им. В.И. Ленина | H21: х | I21: 6.27 | J21: 6.56 | O21: =MAX(H21:J21,L21:N21) -> 6.56 | P21: =IF(O21=0," ",IF(O21>=[1]Разряды!$C$16,[1]Разряды!$C$3,IF(O21>=[1]Разряды!$D$16,[1]Разряды!$D$3,IF(O21>=[1]Разряды!$E$16,[1]Разряды!$E$3,IF(O21>=[1]Разряды!$F$16,[1]Разряды!$F$3,IF(O21>=[1]Разряды!$G$16,[1]Разряды!$G$3,IF(O21>=[1]Разряды!$H$16,[1]Разряды!$H$3,"б/р"))))))) -> 2р | Q21: 6 | R21: =IF(B21=0," ",VLOOKUP($B21,[1]Спортсмены!$B$1:$H$65536,7,FALSE)) -> Чахунов Е.И.
A22: 11 | B22: 9 | C22: =IF(B22=0," ",VLOOKUP(B22,[1]Спортсмены!B$1:H$65536,2,FALSE)) -> Ушаков Александр | D22: =IF(B22=0," ",VLOOKUP($B22,[1]Спортсмены!$B$1:$H$65536,3,FALSE)) -> 06.06.1998 | E22: =IF(B22=0," ",IF(VLOOKUP($B22,[1]Спортсмены!$B$1:$H$65536,4,FALSE)=0," ",VLOOKUP($B22,[1]Спортсмены!$B$1:$H$65536,4,FALSE))) -> КМС | F22: =IF(B22=0," ",VLOOKUP($B22,[1]Спортсмены!$B$1:$H$65536,5,FALSE)) -> Тамбовская область | G22: =IF(B22=0," ",VLOOKUP($B22,[1]Спортсмены!$B$1:$H$65536,6,FALSE)) -> Тамбов, ТГУ им. Г.Р. Державина | H22: 6.55 | I22: х | J22: 6.37 | O22: =MAX(H22:J22,L22:N22) -> 6.55 | P22: =IF(O22=0," ",IF(O22>=[1]Разряды!$C$16,[1]Разряды!$C$3,IF(O22>=[1]Разряды!$D$16,[1]Разряды!$D$3,IF(O22>=[1]Разряды!$E$16,[1]Разряды!$E$3,IF(O22>=[1]Разряды!$F$16,[1]Разряды!$F$3,IF(O22>=[1]Разряды!$G$16,[1]Разряды!$G$3,IF(O22>=[1]Разряды!$H$16,[1]Разряды!$H$3,"б/р"))))))) -> 2р | Q22: 5 | R22: =IF(B22=0," ",VLOOKUP($B22,[1]Спортсмены!$B$1:$H$65536,7,FALSE)) -> Иванов А.Н.
A23: 12 | B23: 276 | C23: =IF(B23=0," ",VLOOKUP(B23,[1]Спортсмены!B$1:H$65536,2,FALSE)) -> Савченко Максим | D23: =IF(B23=0," ",VLOOKUP($B23,[1]Спортсмены!$B$1:$H$65536,3,FALSE)) -> 14.05.1999 | E23: =IF(B23=0," ",IF(VLOOKUP($B23,[1]Спортсмены!$B$1:$H$65536,4,FALSE)=0," ",VLOOKUP($B23,[1]Спортсмены!$B$1:$H$65536,4,FALSE))) -> КМС | F23: =IF(B23=0," ",VLOOKUP($B23,[1]Спортсмены!$B$1:$H$65536,5,FALSE)) -> Ивановская область | G23: =IF(B23=0," ",VLOOKUP($B23,[1]Спортсмены!$B$1:$H$65536,6,FALSE)) -> Иваново, ИГЭУ им. В.И. Ленина | H23: 6.53 | I23: 6.31 | J23: - | O23: =MAX(H23:J23,L23:N23) -> 6.53 | P23: =IF(O23=0," ",IF(O23>=[1]Разряды!$C$16,[1]Разряды!$C$3,IF(O23>=[1]Разряды!$D$16,[1]Разряды!$D$3,IF(O23>=[1]Разряды!$E$16,[1]Разряды!$E$3,IF(O23>=[1]Разряды!$F$16,[1]Разряды!$F$3,IF(O23>=[1]Разряды!$G$16,[1]Разряды!$G$3,IF(O23>=[1]Разряды!$H$16,[1]Разряды!$H$3,"б/р"))))))) -> 2р | Q23: 4 | R23: =IF(B23=0," ",VLOOKUP($B23,[1]Спортсмены!$B$1:$H$65536,7,FALSE)) -> Чахунов Е.И.,Рябова И.Д.
A24: 13 | B24: 277 | C24: =IF(B24=0," ",VLOOKUP(B24,[1]Спортсмены!B$1:H$65536,2,FALSE)) -> Шальнов Илья | D24: =IF(B24=0," ",VLOOKUP($B24,[1]Спортсмены!$B$1:$H$65536,3,FALSE)) -> 26.04.1997 | E24: =IF(B24=0," ",IF(VLOOKUP($B24,[1]Спортсмены!$B$1:$H$65536,4,FALSE)=0," ",VLOOKUP($B24,[1]Спортсмены!$B$1:$H$65536,4,FALSE))) -> КМС | F24: =IF(B24=0," ",VLOOKUP($B24,[1]Спортсмены!$B$1:$H$65536,5,FALSE)) -> Ивановская область | G24: =IF(B24=0," ",VLOOKUP($B24,[1]Спортсмены!$B$1:$H$65536,6,FALSE)) -> Иваново, ИГЭУ им. В.И. Ленина | H24: 6.29 | I24: х | J24: 6.45 | O24: =MAX(H24:J24,L24:N24) -> 6.45 | P24: =IF(O24=0," ",IF(O24>=[1]Разряды!$C$16,[1]Разряды!$C$3,IF(O24>=[1]Разряды!$D$16,[1]Разряды!$D$3,IF(O24>=[1]Разряды!$E$16,[1]Разряды!$E$3,IF(O24>=[1]Разряды!$F$16,[1]Разряды!$F$3,IF(O24>=[1]Разряды!$G$16,[1]Разряды!$G$3,IF(O24>=[1]Разряды!$H$16,[1]Разряды!$H$3,"б/р"))))))) -> 2р | Q24: 3 | R24: =IF(B24=0," ",VLOOKUP($B24,[1]Спортсмены!$B$1:$H$65536,7,FALSE)) -> Чахунов Е.И.
B25: 170 | C25: =IF(B25=0," ",VLOOKUP(B25,[1]Спортсмены!B$1:H$65536,2,FALSE)) -> Глазунов Илья | D25: =IF(B25=0," ",VLOOKUP($B25,[1]Спортсмены!$B$1:$H$65536,3,FALSE)) -> 20.04.1994 | E25: =IF(B25=0," ",IF(VLOOKUP($B25,[1]Спортсмены!$B$1:$H$65536,4,FALSE)=0," ",VLOOKUP($B25,[1]Спортсмены!$B$1:$H$65536,4,FALSE))) -> МС | F25: =IF(B25=0," ",VLOOKUP($B25,[1]Спортсмены!$B$1:$H$65536,5,FALSE)) -> Приморский край | G25: =IF(B25=0," ",VLOOKUP($B25,[1]Спортсмены!$B$1:$H$65536,6,FALSE)) -> Владивосток, ДВФУ | O25: r|med | Q25: 0 | R25: =IF(B25=0," ",VLOOKUP($B25,[1]Спортсмены!$B$1:$H$65536,7,FALSE)) -> Цыплаков А.Н.
A26: в/к | B26: 205 | C26: =IF(B26=0," ",VLOOKUP(B26,[1]Спортсмены!B$1:H$65536,2,FALSE)) -> Федоров Евгений | D26: =IF(B26=0," ",VLOOKUP($B26,[1]Спортсмены!$B$1:$H$65536,3,FALSE)) -> 04.05.2003 | E26: =IF(B26=0," ",IF(VLOOKUP($B26,[1]Спортсмены!$B$1:$H$65536,4,FALSE)=0," ",VLOOKUP($B26,[1]Спортсмены!$B$1:$H$65536,4,FALSE))) -> 2р | F26: =IF(B26=0," ",VLOOKUP($B26,[1]Спортсмены!$B$1:$H$65536,5,FALSE)) -> Ярославская область | G26: =IF(B26=0," ",VLOOKUP($B26,[1]Спортсмены!$B$1:$H$65536,6,FALSE)) -> Ярославль, ГУ ЯО "СШОР по лёгкой атлетике и адаптивному спорту" | H26: 5.9 | I26: 5.92 | J26: 5.89 | O26: =MAX(H26:J26,L26:N26) -> 5.92 | P26: =IF(O26=0," ",IF(O26>=[1]Разряды!$C$16,[1]Разряды!$C$3,IF(O26>=[1]Разряды!$D$16,[1]Разряды!$D$3,IF(O26>=[1]Разряды!$E$16,[1]Разряды!$E$3,IF(O26>=[1]Разряды!$F$16,[1]Разряды!$F$3,IF(O26>=[1]Разряды!$G$16,[1]Разряды!$G$3,IF(O26>=[1]Разряды!$H$16,[1]Разряды!$H$3,"б/р"))))))) -> 3р | R26: =IF(B26=0," ",VLOOKUP($B26,[1]Спортсмены!$B$1:$H$65536,7,FALSE)) -> Рыбаков В.Ю.
B32: Главный судья, спортивный судья ВК | G32: Хрущев Е.Н., г. Ярославль
B35: Главный секретарь, спортивный судья ВК | G35: Тараканова Ю.Ф., г. Ярославль

Sheet тройной м
A1: Чемпионат Российского студенческого спортивного союза
A2: мужчины и женщины
R3: 27-28 июня 2019 г.
Q4: стадион "Шинник"
R5: г. Ярославль
D6: 27.06.2019 г. | E6: 0.72916667 | F6: Финал | H6: ПРОТОКОЛ СОРЕВНОВАНИЙ
C8: Мужчины | D8: Тройной прыжок
A9: Место | B9: Номер | C9: Фамилия, имя | D9: Дата рожд. | E9: Квалиф. | F9: Команда | G9: Вуз | H9: Результаты попыток | O9: Результат | P9: Вып. разр. | Q9: Очки | R9: Ф.И.О. тренера
H10: 1 | I10: 2 | J10: 3 | L10: 4 | M10: 5 | N10: 6
A12: 1 | B12: 170 | C12: =IF(B12=0," ",VLOOKUP(B12,[1]Спортсмены!B$1:H$65536,2,FALSE)) -> Глазунов Илья | D12: =IF(B12=0," ",VLOOKUP($B12,[1]Спортсмены!$B$1:$H$65536,3,FALSE)) -> 20.04.1994 | E12: =IF(B12=0," ",IF(VLOOKUP($B12,[1]Спортсмены!$B$1:$H$65536,4,FALSE)=0," ",VLOOKUP($B12,[1]Спортсмены!$B$1:$H$65536,4,FALSE))) -> МС | F12: =IF(B12=0," ",VLOOKUP($B12,[1]Спортсмены!$B$1:$H$65536,5,FALSE)) -> Приморский край | G12: =IF(B12=0," ",VLOOKUP($B12,[1]Спортсмены!$B$1:$H$65536,6,FALSE)) -> Владивосток, ДВФУ | H12: 15.63 | I12: х | J12: х | K12: 6 | L12: х | M12: 15.42 | N12: 15.14 | O12: =MAX(H12:J12,L12:N12) -> 15.63 | P12: =IF(O12=0," ",IF(O12>=[1]Разряды!$C$17,[1]Разряды!$C$3,IF(O12>=[1]Разряды!$D$17,[1]Разряды!$D$3,IF(O12>=[1]Разряды!$E$17,[1]Разряды!$E$3,IF(O12>=[1]Разряды!$F$17,[1]Разряды!$F$3,IF(O12>=[1]Разряды!$G$17,[1]Разряды!$G$3,IF(O12>=[1]Разряды!$H$17,[1]Разряды!$H$3,"б/р"))))))) -> кмс | Q12: 18+5 | R12: =IF(B12=0," ",VLOOKUP($B12,[1]Спортсмены!$B$1:$H$65536,7,FALSE)) -> Цыплаков А.Н.
A13: 2 | B13: 311 | C13: =IF(B13=0," ",VLOOKUP(B13,[1]Спортсмены!B$1:H$65536,2,FALSE)) -> Чернов Дмитрий | D13: =IF(B13=0," ",VLOOKUP($B13,[1]Спортсмены!$B$1:$H$65536,3,FALSE)) -> 19.01.1995 | E13: =IF(B13=0," ",IF(VLOOKUP($B13,[1]Спортсмены!$B$1:$H$65536,4,FALSE)=0," ",VLOOKUP($B13,[1]Спортсмены!$B$1:$H$65536,4,FALSE))) -> 1р | F13: =IF(B13=0," ",VLOOKUP($B13,[1]Спортсмены!$B$1:$H$65536,5,FALSE)) -> Самарская область | G13: =IF(B13=0," ",VLOOKUP($B13,[1]Спортсмены!$B$1:$H$65536,6,FALSE)) -> Самара, СГЭУ | H13: 14.72 | I13: 15.01 | J13: х | K13: 5 | L13: х | M13: - | N13: - | O13: =MAX(H13:J13,L13:N13) -> 15.01 | P13: =IF(O13=0," ",IF(O13>=[1]Разряды!$C$17,[1]Разряды!$C$3,IF(O13>=[1]Разряды!$D$17,[1]Разряды!$D$3,IF(O13>=[1]Разряды!$E$17,[1]Разряды!$E$3,IF(O13>=[1]Разряды!$F$17,[1]Разряды!$F$3,IF(O13>=[1]Разряды!$G$17,[1]Разряды!$G$3,IF(O13>=[1]Разряды!$H$17,[1]Разряды!$H$3,"б/р"))))))) -> кмс | Q13: 15+5 | R13: =IF(B13=0," ",VLOOKUP($B13,[1]Спортсмены!$B$1:$H$65536,7,FALSE)) -> Полубаяров О.Ю.
