Workbook

Sheet 100м
A1: Чемпионат Российского студенческого спортивного союза
A2: мужчины и женщины
M3: 27-28 июня 2019 г.
L4: стадион "Шинник"
M5: г. Ярославль
D6: 27.06.2019г. | E6: 0.47569444 | F6: забеги | J6: ПРОТОКОЛ СОРЕВНОВАНИЙ
D7: 27.06.2019г. | E7: 0.70486111 | F7: п/финал
D8: 27.06.2019г. | E8: 0.79513889 | F8: финал
C9: Мужчины | D9: Бег 100 м
A10: Место | B10: Номер | C10: Фамилия, имя | D10: Дата рожд. | E10: Квал. | F10: Команда | G10: ВУЗ | H10: Результат | K10: Вып. разр. | L10: Очки | M10: Ф.И.О. тренера
H11: забеги | I11: п/финал | J11: финал
A12: 1 | B12: 84 | C12: =IF(B12=0," ",VLOOKUP(B12,[1]Спортсмены!B$1:H$65536,2,FALSE)) -> Усов Алексей | D12: =IF(B12=0," ",VLOOKUP($B12,[1]Спортсмены!$B$1:$H$65536,3,FALSE)) -> 24.02.1998 | E12: =IF(B12=0," ",IF(VLOOKUP($B12,[1]Спортсмены!$B$1:$H$65536,4,FALSE)=0," ",VLOOKUP($B12,[1]Спортсмены!$B$1:$H$65536,4,FALSE))) -> МС | F12: =IF(B12=0," ",VLOOKUP($B12,[1]Спортсмены!$B$1:$H$65536,5,FALSE)) -> Москва | G12: =IF(B12=0," ",VLOOKUP($B12,[1]Спортсмены!$B$1:$H$65536,6,FALSE)) -> Москва, РГУФКСМиТ (ГЦОЛИФК) | H12: 0.00012650463 | I12: 0.00012430556 | J12: 0.00012210648 | K12: мс | L12: 18+10 | M12: =IF(B12=0," ",VLOOKUP($B12,[1]Спортсмены!$B$1:$H$65536,7,FALSE)) -> Баранов А.В.
A13: 2 | B13: 57 | C13: =IF(B13=0," ",VLOOKUP(B13,[1]Спортсмены!B$1:H$65536,2,FALSE)) -> Пивоваров Даниил | D13: =IF(B13=0," ",VLOOKUP($B13,[1]Спортсмены!$B$1:$H$65536,3,FALSE)) -> 13.04.1999 | E13: =IF(B13=0," ",IF(VLOOKUP($B13,[1]Спортсмены!$B$1:$H$65536,4,FALSE)=0," ",VLOOKUP($B13,[1]Спортсмены!$B$1:$H$65536,4,FALSE))) -> КМС | F13: =IF(B13=0," ",VLOOKUP($B13,[1]Спортсмены!$B$1:$H$65536,5,FALSE)) -> Республика Татарстан | G13: =IF(B13=0," ",VLOOKUP($B13,[1]Спортсмены!$B$1:$H$65536,6,FALSE)) -> Казань, ФГБОУ ВО ПГАФКСиТ | H13: 0.00012418981 | I13: 0.00012395833 | J13: 0.00012430556 | K13: =IF(H13=0," ",IF(H13<=[1]Разряды!$D$4,[1]Разряды!$D$3,IF(H13<=[1]Разряды!$E$4,[1]Разряды!$E$3,IF(H13<=[1]Разряды!$F$4,[1]Разряды!$F$3,IF(H13<=[1]Разряды!$G$4,[1]Разряды!$G$3,IF(H13<=[1]Разряды!$H$4,[1]Разряды!$H$3,IF(H13<=[1]Разряды!$I$4,[1]Разряды!$I$3,IF(H13<=[1]Разряды!$J$4,[1]Разряды!$J$3,"б/р")))))))) -> кмс | L13: 15+5 | M13: =IF(B13=0," ",VLOOKUP($B13,[1]Спортсмены!$B$1:$H$65536,7,FALSE)) -> Захарчук Д.Г.
A14: 3 | B14: 352 | C14: =IF(B14=0," ",VLOOKUP(B14,[1]Спортсмены!B$1:H$65536,2,FALSE)) -> Ежов Иван | D14: =IF(B14=0," ",VLOOKUP($B14,[1]Спортсмены!$B$1:$H$65536,3,FALSE)) -> 01.06.1999 | E14: =IF(B14=0," ",IF(VLOOKUP($B14,[1]Спортсмены!$B$1:$H$65536,4,FALSE)=0," ",VLOOKUP($B14,[1]Спортсмены!$B$1:$H$65536,4,FALSE))) -> КМС | F14: =IF(B14=0," ",VLOOKUP($B14,[1]Спортсмены!$B$1:$H$65536,5,FALSE)) -> Пензенская область | G14: =IF(B14=0," ",VLOOKUP($B14,[1]Спортсмены!$B$1:$H$65536,6,FALSE)) -> Пенза, ПензГУ | H14: 0.00012777778 | I14: 0.00012407407 | J14: 0.00012453704 | K14: кмс | L14: 13+5 | M14: =IF(B14=0," ",VLOOKUP($B14,[1]Спортсмены!$B$1:$H$65536,7,FALSE)) -> Новокшанов Б.В., Каташовы С.Н., С.Д.
A15: 4 | B15: 51 | C15: =IF(B15=0," ",VLOOKUP(B15,[1]Спортсмены!B$1:H$65536,2,FALSE)) -> Шамарин Владислав | D15: =IF(B15=0," ",VLOOKUP($B15,[1]Спортсмены!$B$1:$H$65536,3,FALSE)) -> 23.07.1998 | E15: =IF(B15=0," ",IF(VLOOKUP($B15,[1]Спортсмены!$B$1:$H$65536,4,FALSE)=0," ",VLOOKUP($B15,[1]Спортсмены!$B$1:$H$65536,4,FALSE))) -> КМС | F15: =IF(B15=0," ",VLOOKUP($B15,[1]Спортсмены!$B$1:$H$65536,5,FALSE)) -> Самарская область | G15: =IF(B15=0," ",VLOOKUP($B15,[1]Спортсмены!$B$1:$H$65536,6,FALSE)) -> Самара, СНИУ им. Ак. С.П. Королева | H15: 0.00012650463 | I15: 0.00012546296 | J15: 0.00012488426 | K15: =IF(H15=0," ",IF(H15<=[1]Разряды!$D$4,[1]Разряды!$D$3,IF(H15<=[1]Разряды!$E$4,[1]Разряды!$E$3,IF(H15<=[1]Разряды!$F$4,[1]Разряды!$F$3,IF(H15<=[1]Разряды!$G$4,[1]Разряды!$G$3,IF(H15<=[1]Разряды!$H$4,[1]Разряды!$H$3,IF(H15<=[1]Разряды!$I$4,[1]Разряды!$I$3,IF(H15<=[1]Разряды!$J$4,[1]Разряды!$J$3,"б/р")))))))) -> кмс | L15: 12+5 | M15: =IF(B15=0," ",VLOOKUP($B15,[1]Спортсмены!$B$1:$H$65536,7,FALSE)) -> Лобачев В.С., Дмитриев В.М.
A16: 5 | B16: 43 | C16: =IF(B16=0," ",VLOOKUP(B16,[1]Спортсмены!B$1:H$65536,2,FALSE)) -> Рожнов Артем | D16: =IF(B16=0," ",VLOOKUP($B16,[1]Спортсмены!$B$1:$H$65536,3,FALSE)) -> 03.03.1998 | E16: =IF(B16=0," ",IF(VLOOKUP($B16,[1]Спортсмены!$B$1:$H$65536,4,FALSE)=0," ",VLOOKUP($B16,[1]Спортсмены!$B$1:$H$65536,4,FALSE))) -> КМС | F16: =IF(B16=0," ",VLOOKUP($B16,[1]Спортсмены!$B$1:$H$65536,5,FALSE)) -> Тульская область | G16: =IF(B16=0," ",VLOOKUP($B16,[1]Спортсмены!$B$1:$H$65536,6,FALSE)) -> Тула, ТулГУ | H16: 0.00012893519 | I16: 0.00012696759 | J16: 0.00012662037 | K16: кмс | L16: 11+5 | M16: =IF(B16=0," ",VLOOKUP($B16,[1]Спортсмены!$B$1:$H$65536,7,FALSE)) -> Веселова С.Ю., Ковтун Н.Н.
A17: 6 | B17: 350 | C17: =IF(B17=0," ",VLOOKUP(B17,[1]Спортсмены!B$1:H$65536,2,FALSE)) -> Мельников Георгий | D17: =IF(B17=0," ",VLOOKUP($B17,[1]Спортсмены!$B$1:$H$65536,3,FALSE)) -> 17.12.1996 | E17: =IF(B17=0," ",IF(VLOOKUP($B17,[1]Спортсмены!$B$1:$H$65536,4,FALSE)=0," ",VLOOKUP($B17,[1]Спортсмены!$B$1:$H$65536,4,FALSE))) -> КМС | F17: =IF(B17=0," ",VLOOKUP($B17,[1]Спортсмены!$B$1:$H$65536,5,FALSE)) -> Пензенская область | G17: =IF(B17=0," ",VLOOKUP($B17,[1]Спортсмены!$B$1:$H$65536,6,FALSE)) -> Пенза, ПензГУ | H17: 0.00012916667 | I17: 0.00012627315 | J17: 0.00012685185 | K17: кмс | L17: 10+5 | M17: =IF(B17=0," ",VLOOKUP($B17,[1]Спортсмены!$B$1:$H$65536,7,FALSE)) -> Новокшанов Б.В.,Болтов Л.В.
A18: 7 | B18: 35 | C18: =IF(B18=0," ",VLOOKUP(B18,[1]Спортсмены!B$1:H$65536,2,FALSE)) -> Миллер Николас | D18: =IF(B18=0," ",VLOOKUP($B18,[1]Спортсмены!$B$1:$H$65536,3,FALSE)) -> 07.03.1995 | E18: =IF(B18=0," ",IF(VLOOKUP($B18,[1]Спортсмены!$B$1:$H$65536,4,FALSE)=0," ",VLOOKUP($B18,[1]Спортсмены!$B$1:$H$65536,4,FALSE))) -> КМС | F18: =IF(B18=0," ",VLOOKUP($B18,[1]Спортсмены!$B$1:$H$65536,5,FALSE)) -> Красноярский край | G18: =IF(B18=0," ",VLOOKUP($B18,[1]Спортсмены!$B$1:$H$65536,6,FALSE)) -> Красноярск, СФУ | H18: 0.00012847222 | I18: 0.00012719907 | J18: r|med | K18: =IF(H18=0," ",IF(H18<=[1]Разряды!$D$4,[1]Разряды!$D$3,IF(H18<=[1]Разряды!$E$4,[1]Разряды!$E$3,IF(H18<=[1]Разряды!$F$4,[1]Разряды!$F$3,IF(H18<=[1]Разряды!$G$4,[1]Разряды!$G$3,IF(H18<=[1]Разряды!$H$4,[1]Разряды!$H$3,IF(H18<=[1]Разряды!$I$4,[1]Разряды!$I$3,IF(H18<=[1]Разряды!$J$4,[1]Разряды!$J$3,"б/р")))))))) -> 1р | L18: 9 | M18: =IF(B18=0," ",VLOOKUP($B18,[1]Спортсмены!$B$1:$H$65536,7,FALSE)) -> Пантелеев С.С., Федоров В.И.
A19: 8 | B19: 54 | C19: =IF(B19=0," ",VLOOKUP(B19,[1]Спортсмены!B$1:H$65536,2,FALSE)) -> Бурков Сергей | D19: =IF(B19=0," ",VLOOKUP($B19,[1]Спортсмены!$B$1:$H$65536,3,FALSE)) -> 20.12.1995 | E19: =IF(B19=0," ",IF(VLOOKUP($B19,[1]Спортсмены!$B$1:$H$65536,4,FALSE)=0," ",VLOOKUP($B19,[1]Спортсмены!$B$1:$H$65536,4,FALSE))) -> КМС | F19: =IF(B19=0," ",VLOOKUP($B19,[1]Спортсмены!$B$1:$H$65536,5,FALSE)) -> Удмуртская Республика | G19: =IF(B19=0," ",VLOOKUP($B19,[1]Спортсмены!$B$1:$H$65536,6,FALSE)) -> Ижевск, УдГУ | H19: 0.00012974537 | I19: 0.00012731481 | J19: r|med | K19: =IF(H19=0," ",IF(H19<=[1]Разряды!$D$4,[1]Разряды!$D$3,IF(H19<=[1]Разряды!$E$4,[1]Разряды!$E$3,IF(H19<=[1]Разряды!$F$4,[1]Разряды!$F$3,IF(H19<=[1]Разряды!$G$4,[1]Разряды!$G$3,IF(H19<=[1]Разряды!$H$4,[1]Разряды!$H$3,IF(H19<=[1]Разряды!$I$4,[1]Разряды!$I$3,IF(H19<=[1]Разряды!$J$4,[1]Разряды!$J$3,"б/р")))))))) -> 1р | L19: 8 | M19: =IF(B19=0," ",VLOOKUP($B19,[1]Спортсмены!$B$1:$H$65536,7,FALSE)) -> Феофилактов Н.З.,Кудрин А.В.
A20: 9 | B20: 80 | C20: =IF(B20=0," ",VLOOKUP(B20,[1]Спортсмены!B$1:H$65536,2,FALSE)) -> Гребнев Иван | D20: =IF(B20=0," ",VLOOKUP($B20,[1]Спортсмены!$B$1:$H$65536,3,FALSE)) -> 11.01.1996 | E20: =IF(B20=0," ",IF(VLOOKUP($B20,[1]Спортсмены!$B$1:$H$65536,4,FALSE)=0," ",VLOOKUP($B20,[1]Спортсмены!$B$1:$H$65536,4,FALSE))) -> КМС | F20: =IF(B20=0," ",VLOOKUP($B20,[1]Спортсмены!$B$1:$H$65536,5,FALSE)) -> Ивановская область | G20: =IF(B20=0," ",VLOOKUP($B20,[1]Спортсмены!$B$1:$H$65536,6,FALSE)) -> Иваново, ИГСХА им. Д.К. Беляева | H20: 0.00012986111 | I20: 0.00012928241 | K20: =IF(H20=0," ",IF(H20<=[1]Разряды!$D$4,[1]Разряды!$D$3,IF(H20<=[1]Разряды!$E$4,[1]Разряды!$E$3,IF(H20<=[1]Разряды!$F$4,[1]Разряды!$F$3,IF(H20<=[1]Разряды!$G$4,[1]Разряды!$G$3,IF(H20<=[1]Разряды!$H$4,[1]Разряды!$H$3,IF(H20<=[1]Разряды!$I$4,[1]Разряды!$I$3,IF(H20<=[1]Разряды!$J$4,[1]Разряды!$J$3,"б/р")))))))) -> 1р | L20: 7 | M20: =IF(B20=0," ",VLOOKUP($B20,[1]Спортсмены!$B$1:$H$65536,7,FALSE)) -> Левичева М.Б.
A21: 10 | B21: 3 | C21: =IF(B21=0," ",VLOOKUP(B21,[1]Спортсмены!B$1:H$65536,2,FALSE)) -> Дормидонтов Александр | D21: =IF(B21=0," ",VLOOKUP($B21,[1]Спортсмены!$B$1:$H$65536,3,FALSE)) -> 22.11.1996 | E21: =IF(B21=0," ",IF(VLOOKUP($B21,[1]Спортсмены!$B$1:$H$65536,4,FALSE)=0," ",VLOOKUP($B21,[1]Спортсмены!$B$1:$H$65536,4,FALSE))) -> КМС | F21: =IF(B21=0," ",VLOOKUP($B21,[1]Спортсмены!$B$1:$H$65536,5,FALSE)) -> Республика Чувашии | G21: =IF(B21=0," ",VLOOKUP($B21,[1]Спортсмены!$B$1:$H$65536,6,FALSE)) -> Чебоксары, ЧГПУ им. И.Я. Яковлева | H21: 0.00012986111 | I21: 0.00012939815 | K21: =IF(H21=0," ",IF(H21<=[1]Разряды!$D$4,[1]Разряды!$D$3,IF(H21<=[1]Разряды!$E$4,[1]Разряды!$E$3,IF(H21<=[1]Разряды!$F$4,[1]Разряды!$F$3,IF(H21<=[1]Разряды!$G$4,[1]Разряды!$G$3,IF(H21<=[1]Разряды!$H$4,[1]Разряды!$H$3,IF(H21<=[1]Разряды!$I$4,[1]Разряды!$I$3,IF(H21<=[1]Разряды!$J$4,[1]Разряды!$J$3,"б/р")))))))) -> 1р | L21: 6 | M21: =IF(B21=0," ",VLOOKUP($B21,[1]Спортсмены!$B$1:$H$65536,7,FALSE)) -> Другов Р.А.
A22: 10 | B22: 19 | C22: =IF(B22=0," ",VLOOKUP(B22,[1]Спортсмены!B$1:H$65536,2,FALSE)) -> Кудряшов Александр | D22: =IF(B22=0," ",VLOOKUP($B22,[1]Спортсмены!$B$1:$H$65536,3,FALSE)) -> 31.10.2000 | E22: =IF(B22=0," ",IF(VLOOKUP($B22,[1]Спортсмены!$B$1:$H$65536,4,FALSE)=0," ",VLOOKUP($B22,[1]Спортсмены!$B$1:$H$65536,4,FALSE))) -> КМС | F22: =IF(B22=0," ",VLOOKUP($B22,[1]Спортсмены!$B$1:$H$65536,5,FALSE)) -> Москва | G22: =IF(B22=0," ",VLOOKUP($B22,[1]Спортсмены!$B$1:$H$65536,6,FALSE)) -> Москва, РГУФКСМиТ (ГЦОЛИФК) | H22: 0.00013125 | I22: 0.00012939815 | K22: =IF(H22=0," ",IF(H22<=[1]Разряды!$D$4,[1]Разряды!$D$3,IF(H22<=[1]Разряды!$E$4,[1]Разряды!$E$3,IF(H22<=[1]Разряды!$F$4,[1]Разряды!$F$3,IF(H22<=[1]Разряды!$G$4,[1]Разряды!$G$3,IF(H22<=[1]Разряды!$H$4,[1]Разряды!$H$3,IF(H22<=[1]Разряды!$I$4,[1]Разряды!$I$3,IF(H22<=[1]Разряды!$J$4,[1]Разряды!$J$3,"б/р")))))))) -> 1р | L22: 5 | M22: =IF(B22=0," ",VLOOKUP($B22,[1]Спортсмены!$B$1:$H$65536,7,FALSE)) -> Филатова М.И., Цветик А.М.
A23: 12 | B23: 61 | C23: =IF(B23=0," ",VLOOKUP(B23,[1]Спортсмены!B$1:H$65536,2,FALSE)) -> Волков Антон | D23: =IF(B23=0," ",VLOOKUP($B23,[1]Спортсмены!$B$1:$H$65536,3,FALSE)) -> 05.03.1999 | E23: =IF(B23=0," ",IF(VLOOKUP($B23,[1]Спортсмены!$B$1:$H$65536,4,FALSE)=0," ",VLOOKUP($B23,[1]Спортсмены!$B$1:$H$65536,4,FALSE))) -> 1р | F23: =IF(B23=0," ",VLOOKUP($B23,[1]Спортсмены!$B$1:$H$65536,5,FALSE)) -> Ивановская область | G23: =IF(B23=0," ",VLOOKUP($B23,[1]Спортсмены!$B$1:$H$65536,6,FALSE)) -> Иваново, ИГЭУ им. В.И. Ленина | H23: 0.00013206019 | I23: 0.00012997685 | K23: =IF(H23=0," ",IF(H23<=[1]Разряды!$D$4,[1]Разряды!$D$3,IF(H23<=[1]Разряды!$E$4,[1]Разряды!$E$3,IF(H23<=[1]Разряды!$F$4,[1]Разряды!$F$3,IF(H23<=[1]Разряды!$G$4,[1]Разряды!$G$3,IF(H23<=[1]Разряды!$H$4,[1]Разряды!$H$3,IF(H23<=[1]Разряды!$I$4,[1]Разряды!$I$3,IF(H23<=[1]Разряды!$J$4,[1]Разряды!$J$3,"б/р")))))))) -> 1р | L23: 4 | M23: =IF(B23=0," ",VLOOKUP($B23,[1]Спортсмены!$B$1:$H$65536,7,FALSE)) -> Чахунов Е.И.
A24: 13 | B24: 63 | C24: =IF(B24=0," ",VLOOKUP(B24,[1]Спортсмены!B$1:H$65536,2,FALSE)) -> Неверов Илья | D24: =IF(B24=0," ",VLOOKUP($B24,[1]Спортсмены!$B$1:$H$65536,3,FALSE)) -> 03.03.2000 | E24: =IF(B24=0," ",IF(VLOOKUP($B24,[1]Спортсмены!$B$1:$H$65536,4,FALSE)=0," ",VLOOKUP($B24,[1]Спортсмены!$B$1:$H$65536,4,FALSE))) -> 1р | F24: =IF(B24=0," ",VLOOKUP($B24,[1]Спортсмены!$B$1:$H$65536,5,FALSE)) -> Архангельская область | G24: =IF(B24=0," ",VLOOKUP($B24,[1]Спортсмены!$B$1:$H$65536,6,FALSE)) -> Архангельск, САФУ им. М.В. Ломоносова | H24: 0.00012777778 | I24: 0.00013020833 | K24: =IF(H24=0," ",IF(H24<=[1]Разряды!$D$4,[1]Разряды!$D$3,IF(H24<=[1]Разряды!$E$4,[1]Разряды!$E$3,IF(H24<=[1]Разряды!$F$4,[1]Разряды!$F$3,IF(H24<=[1]Разряды!$G$4,[1]Разряды!$G$3,IF(H24<=[1]Разряды!$H$4,[1]Разряды!$H$3,IF(H24<=[1]Разряды!$I$4,[1]Разряды!$I$3,IF(H24<=[1]Разряды!$J$4,[1]Разряды!$J$3,"б/р")))))))) -> 1р | L24: 3 | M24: =IF(B24=0," ",VLOOKUP($B24,[1]Спортсмены!$B$1:$H$65536,7,FALSE)) -> Бородулин А.М., Литвененко А.И.
A25: 14 | B25: 100 | C25: =IF(B25=0," ",VLOOKUP(B25,[1]Спортсмены!B$1:H$65536,2,FALSE)) -> Паршин Владислав | D25: =IF(B25=0," ",VLOOKUP($B25,[1]Спортсмены!$B$1:$H$65536,3,FALSE)) -> 26.09.1998 | E25: =IF(B25=0," ",IF(VLOOKUP($B25,[1]Спортсмены!$B$1:$H$65536,4,FALSE)=0," ",VLOOKUP($B25,[1]Спортсмены!$B$1:$H$65536,4,FALSE))) -> КМС | F25: =IF(B25=0," ",VLOOKUP($B25,[1]Спортсмены!$B$1:$H$65536,5,FALSE)) -> Пензенская область | G25: =IF(B25=0," ",VLOOKUP($B25,[1]Спортсмены!$B$1:$H$65536,6,FALSE)) -> Пенза, ПензГУ | H25: 0.00012824074 | I25: 0.00013043981 | K25: =IF(H25=0," ",IF(H25<=[1]Разряды!$D$4,[1]Разряды!$D$3,IF(H25<=[1]Разряды!$E$4,[1]Разряды!$E$3,IF(H25<=[1]Разряды!$F$4,[1]Разряды!$F$3,IF(H25<=[1]Разряды!$G$4,[1]Разряды!$G$3,IF(H25<=[1]Разряды!$H$4,[1]Разряды!$H$3,IF(H25<=[1]Разряды!$I$4,[1]Разряды!$I$3,IF(H25<=[1]Разряды!$J$4,[1]Разряды!$J$3,"б/р")))))))) -> 1р | L25: 2 | M25: =IF(B25=0," ",VLOOKUP($B25,[1]Спортсмены!$B$1:$H$65536,7,FALSE)) -> Зинуков А.В.
A26: 15 | B26: 71 | C26: =IF(B26=0," ",VLOOKUP(B26,[1]Спортсмены!B$1:H$65536,2,FALSE)) -> Булгаков Артем | D26: =IF(B26=0," ",VLOOKUP($B26,[1]Спортсмены!$B$1:$H$65536,3,FALSE)) -> 12.09.1995 | E26: =IF(B26=0," ",IF(VLOOKUP($B26,[1]Спортсмены!$B$1:$H$65536,4,FALSE)=0," ",VLOOKUP($B26,[1]Спортсмены!$B$1:$H$65536,4,FALSE))) -> КМС | F26: =IF(B26=0," ",VLOOKUP($B26,[1]Спортсмены!$B$1:$H$65536,5,FALSE)) -> Пермский край | G26: =IF(B26=0," ",VLOOKUP($B26,[1]Спортсмены!$B$1:$H$65536,6,FALSE)) -> Пермь, ПНИПУ с/к "Политехник" | H26: 0.00013078704 | I26: 0.00013136574 | K26: =IF(H26=0," ",IF(H26<=[1]Разряды!$D$4,[1]Разряды!$D$3,IF(H26<=[1]Разряды!$E$4,[1]Разряды!$E$3,IF(H26<=[1]Разряды!$F$4,[1]Разряды!$F$3,IF(H26<=[1]Разряды!$G$4,[1]Разряды!$G$3,IF(H26<=[1]Разряды!$H$4,[1]Разряды!$H$3,IF(H26<=[1]Разряды!$I$4,[1]Разряды!$I$3,IF(H26<=[1]Разряды!$J$4,[1]Разряды!$J$3,"б/р")))))))) -> 1р | L26: 1 | M26: =IF(B26=0," ",VLOOKUP($B26,[1]Спортсмены!$B$1:$H$65536,7,FALSE)) -> Гладков В.П.
A27: 16 | B27: 87 | C27: =IF(B27=0," ",VLOOKUP(B27,[1]Спортсмены!B$1:H$65536,2,FALSE)) -> Женчевский Дмитрий | D27: =IF(B27=0," ",VLOOKUP($B27,[1]Спортсмены!$B$1:$H$65536,3,FALSE)) -> 07.09.1998 | E27: =IF(B27=0," ",IF(VLOOKUP($B27,[1]Спортсмены!$B$1:$H$65536,4,FALSE)=0," ",VLOOKUP($B27,[1]Спортсмены!$B$1:$H$65536,4,FALSE))) -> 2р | F27: =IF(B27=0," ",VLOOKUP($B27,[1]Спортсмены!$B$1:$H$65536,5,FALSE)) -> Смоленская область | G27: =IF(B27=0," ",VLOOKUP($B27,[1]Спортсмены!$B$1:$H$65536,6,FALSE)) -> Смоленск, Смоленская ГСХА | H27: 0.00013402778 | I27: 0.00013148148 | K27: 1р | L27: 1 | M27: =IF(B27=0," ",VLOOKUP($B27,[1]Спортсмены!$B$1:$H$65536,7,FALSE)) -> Войцеховский М.В.
A28: 17 | B28: 34 | C28: =IF(B28=0," ",VLOOKUP(B28,[1]Спортсмены!B$1:H$65536,2,FALSE)) -> Корчагин Дмитрий | D28: =IF(B28=0," ",VLOOKUP($B28,[1]Спортсмены!$B$1:$H$65536,3,FALSE)) -> 11.05.1997 | E28: =IF(B28=0," ",IF(VLOOKUP($B28,[1]Спортсмены!$B$1:$H$65536,4,FALSE)=0," ",VLOOKUP($B28,[1]Спортсмены!$B$1:$H$65536,4,FALSE))) -> КМС | F28: =IF(B28=0," ",VLOOKUP($B28,[1]Спортсмены!$B$1:$H$65536,5,FALSE)) -> Красноярский край | G28: =IF(B28=0," ",VLOOKUP($B28,[1]Спортсмены!$B$1:$H$65536,6,FALSE)) -> Красноярск, СФУ | H28: 0.00013055556 | I28: 0.00013171296 | K28: =IF(H28=0," ",IF(H28<=[1]Разряды!$D$4,[1]Разряды!$D$3,IF(H28<=[1]Разряды!$E$4,[1]Разряды!$E$3,IF(H28<=[1]Разряды!$F$4,[1]Разряды!$F$3,IF(H28<=[1]Разряды!$G$4,[1]Разряды!$G$3,IF(H28<=[1]Разряды!$H$4,[1]Разряды!$H$3,IF(H28<=[1]Разряды!$I$4,[1]Разряды!$I$3,IF(H28<=[1]Разряды!$J$4,[1]Разряды!$J$3,"б/р")))))))) -> 1р | L28: 1 | M28: =IF(B28=0," ",VLOOKUP($B28,[1]Спортсмены!$B$1:$H$65536,7,FALSE)) -> Непомнящих О.А.
A29: 18 | B29: 62 | C29: =IF(B29=0," ",VLOOKUP(B29,[1]Спортсмены!B$1:H$65536,2,FALSE)) -> Щербаков Кирилл | D29: =IF(B29=0," ",VLOOKUP($B29,[1]Спортсмены!$B$1:$H$65536,3,FALSE)) -> 28.08.2000 | E29: =IF(B29=0," ",IF(VLOOKUP($B29,[1]Спортсмены!$B$1:$H$65536,4,FALSE)=0," ",VLOOKUP($B29,[1]Спортсмены!$B$1:$H$65536,4,FALSE))) -> КМС | F29: =IF(B29=0," ",VLOOKUP($B29,[1]Спортсмены!$B$1:$H$65536,5,FALSE)) -> Ивановская область | G29: =IF(B29=0," ",VLOOKUP($B29,[1]Спортсмены!$B$1:$H$65536,6,FALSE)) -> Иваново, ИГЭУ им. В.И. Ленина | H29: 0.00013333333 | I29: 0.0001318287 | K29: 1р | L29: 1 | M29: =IF(B29=0," ",VLOOKUP($B29,[1]Спортсмены!$B$1:$H$65536,7,FALSE)) -> Гильмутдинов Ю.В., Кашникова Т.А.
A30: 19 | B30: 44 | C30: =IF(B30=0," ",VLOOKUP(B30,[1]Спортсмены!B$1:H$65536,2,FALSE)) -> Долотов Владислав | D30: =IF(B30=0," ",VLOOKUP($B30,[1]Спортсмены!$B$1:$H$65536,3,FALSE)) -> 21.01.2001 | E30: =IF(B30=0," ",IF(VLOOKUP($B30,[1]Спортсмены!$B$1:$H$65536,4,FALSE)=0," ",VLOOKUP($B30,[1]Спортсмены!$B$1:$H$65536,4,FALSE))) -> 1р | F30: =IF(B30=0," ",VLOOKUP($B30,[1]Спортсмены!$B$1:$H$65536,5,FALSE)) -> Пензенская область | G30: =IF(B30=0," ",VLOOKUP($B30,[1]Спортсмены!$B$1:$H$65536,6,FALSE)) -> Пенза, ПензГТУ | H30: 0.00013402778 | I30: 0.00013206019 | K30: 1р | L30: 1 | M30: =IF(B30=0," ",VLOOKUP($B30,[1]Спортсмены!$B$1:$H$65536,7,FALSE)) -> Гарынов А.А.
A31: 20 | B31: 99 | C31: =IF(B31=0," ",VLOOKUP(B31,[1]Спортсмены!B$1:H$65536,2,FALSE)) -> Фролов Павел | D31: =IF(B31=0," ",VLOOKUP($B31,[1]Спортсмены!$B$1:$H$65536,3,FALSE)) -> 30.05.1999 | E31: =IF(B31=0," ",IF(VLOOKUP($B31,[1]Спортсмены!$B$1:$H$65536,4,FALSE)=0," ",VLOOKUP($B31,[1]Спортсмены!$B$1:$H$65536,4,FALSE))) -> КМС | F31: =IF(B31=0," ",VLOOKUP($B31,[1]Спортсмены!$B$1:$H$65536,5,FALSE)) -> Пензенская область | G31: =IF(B31=0," ",VLOOKUP($B31,[1]Спортсмены!$B$1:$H$65536,6,FALSE)) -> Пенза, ПензГУ | H31: 0.00013356481 | I31: 0.00013229167 | K31: 1р | L31: 1 | M31: =IF(B31=0," ",VLOOKUP($B31,[1]Спортсмены!$B$1:$H$65536,7,FALSE)) -> Кораблев В.В.
A32: 21 | B32: 58 | C32: =IF(B32=0," ",VLOOKUP(B32,[1]Спортсмены!B$1:H$65536,2,FALSE)) -> Сатонин Вчеслав | D32: =IF(B32=0," ",VLOOKUP($B32,[1]Спортсмены!$B$1:$H$65536,3,FALSE)) -> 13.09.2000 | E32: =IF(B32=0," ",IF(VLOOKUP($B32,[1]Спортсмены!$B$1:$H$65536,4,FALSE)=0," ",VLOOKUP($B32,[1]Спортсмены!$B$1:$H$65536,4,FALSE))) -> КМС | F32: =IF(B32=0," ",VLOOKUP($B32,[1]Спортсмены!$B$1:$H$65536,5,FALSE)) -> Республика Татарстан | G32: =IF(B32=0," ",VLOOKUP($B32,[1]Спортсмены!$B$1:$H$65536,6,FALSE)) -> Казань, ФГБОУ ВО ПГАФКСиТ | H32: 0.00013229167 | I32: 0.00013263889 | K32: =IF(H32=0," ",IF(H32<=[1]Разряды!$D$4,[1]Разряды!$D$3,IF(H32<=[1]Разряды!$E$4,[1]Разряды!$E$3,IF(H32<=[1]Разряды!$F$4,[1]Разряды!$F$3,IF(H32<=[1]Разряды!$G$4,[1]Разряды!$G$3,IF(H32<=[1]Разряды!$H$4,[1]Разряды!$H$3,IF(H32<=[1]Разряды!$I$4,[1]Разряды!$I$3,IF(H32<=[1]Разряды!$J$4,[1]Разряды!$J$3,"б/р")))))))) -> 1р | L32: 1 | M32: =IF(B32=0," ",VLOOKUP($B32,[1]Спортсмены!$B$1:$H$65536,7,FALSE)) -> Мостяков Д.В.
A33: 22 | B33: 55 | C33: =IF(B33=0," ",VLOOKUP(B33,[1]Спортсмены!B$1:H$65536,2,FALSE)) -> Алексеев Алексей | D33: =IF(B33=0," ",VLOOKUP($B33,[1]Спортсмены!$B$1:$H$65536,3,FALSE)) -> 20.04.1998 | E33: =IF(B33=0," ",IF(VLOOKUP($B33,[1]Спортсмены!$B$1:$H$65536,4,FALSE)=0," ",VLOOKUP($B33,[1]Спортсмены!$B$1:$H$65536,4,FALSE))) -> КМС | F33: =IF(B33=0," ",VLOOKUP($B33,[1]Спортсмены!$B$1:$H$65536,5,FALSE)) -> Удмуртская Республика | G33: =IF(B33=0," ",VLOOKUP($B33,[1]Спортсмены!$B$1:$H$65536,6,FALSE)) -> Ижевск, УдГУ | H33: 0.00013310185 | I33: 0.00013287037 | K33: =IF(H33=0," ",IF(H33<=[1]Разряды!$D$4,[1]Разряды!$D$3,IF(H33<=[1]Разряды!$E$4,[1]Разряды!$E$3,IF(H33<=[1]Разряды!$F$4,[1]Разряды!$F$3,IF(H33<=[1]Разряды!$G$4,[1]Разряды!$G$3,IF(H33<=[1]Разряды!$H$4,[1]Разряды!$H$3,IF(H33<=[1]Разряды!$I$4,[1]Разряды!$I$3,IF(H33<=[1]Разряды!$J$4,[1]Разряды!$J$3,"б/р")))))))) -> 2р | L33: 1 | M33: =IF(B33=0," ",VLOOKUP($B33,[1]Спортсмены!$B$1:$H$65536,7,FALSE)) -> Феофилактов Н.З.
A34: 22 | B34: 64 | C34: =IF(B34=0," ",VLOOKUP(B34,[1]Спортсмены!B$1:H$65536,2,FALSE)) -> Колов Роман | D34: =IF(B34=0," ",VLOOKUP($B34,[1]Спортсмены!$B$1:$H$65536,3,FALSE)) -> 28.09.1999 | E34: =IF(B34=0," ",IF(VLOOKUP($B34,[1]Спортсмены!$B$1:$H$65536,4,FALSE)=0," ",VLOOKUP($B34,[1]Спортсмены!$B$1:$H$65536,4,FALSE))) -> 2р | F34: =IF(B34=0," ",VLOOKUP($B34,[1]Спортсмены!$B$1:$H$65536,5,FALSE)) -> Архангельская область | G34: =IF(B34=0," ",VLOOKUP($B34,[1]Спортсмены!$B$1:$H$65536,6,FALSE)) -> Архангельск, САФУ им. М.В. Ломоносова | H34: 0.00013402778 | I34: 0.00013356481 | K34: =IF(H34=0," ",IF(H34<=[1]Разряды!$D$4,[1]Разряды!$D$3,IF(H34<=[1]Разряды!$E$4,[1]Разряды!$E$3,IF(H34<=[1]Разряды!$F$4,[1]Разряды!$F$3,IF(H34<=[1]Разряды!$G$4,[1]Разряды!$G$3,IF(H34<=[1]Разряды!$H$4,[1]Разряды!$H$3,IF(H34<=[1]Разряды!$I$4,[1]Разряды!$I$3,IF(H34<=[1]Разряды!$J$4,[1]Разряды!$J$3,"б/р")))))))) -> 2р | L34: 1 | M34: =IF(B34=0," ",VLOOKUP($B34,[1]Спортсмены!$B$1:$H$65536,7,FALSE)) -> Мингалева А.Г.
A35: 22 | B35: 45 | C35: =IF(B35=0," ",VLOOKUP(B35,[1]Спортсмены!B$1:H$65536,2,FALSE)) -> Никулкин Александр | D35: =IF(B35=0," ",VLOOKUP($B35,[1]Спортсмены!$B$1:$H$65536,3,FALSE)) -> 04.11.1995 | E35: =IF(B35=0," ",IF(VLOOKUP($B35,[1]Спортсмены!$B$1:$H$65536,4,FALSE)=0," ",VLOOKUP($B35,[1]Спортсмены!$B$1:$H$65536,4,FALSE))) -> КМС | F35: =IF(B35=0," ",VLOOKUP($B35,[1]Спортсмены!$B$1:$H$65536,5,FALSE)) -> Пензенская область | G35: =IF(B35=0," ",VLOOKUP($B35,[1]Спортсмены!$B$1:$H$65536,6,FALSE)) -> Пенза, ПензГТУ | H35: 0.00013414352 | I35: 0.00013391204 | K35: =IF(H35=0," ",IF(H35<=[1]Разряды!$D$4,[1]Разряды!$D$3,IF(H35<=[1]Разряды!$E$4,[1]Разряды!$E$3,IF(H35<=[1]Разряды!$F$4,[1]Разряды!$F$3,IF(H35<=[1]Разряды!$G$4,[1]Разряды!$G$3,IF(H35<=[1]Разряды!$H$4,[1]Разряды!$H$3,IF(H35<=[1]Разряды!$I$4,[1]Разряды!$I$3,IF(H35<=[1]Разряды!$J$4,[1]Разряды!$J$3,"б/р")))))))) -> 2р | L35: 1 | M35: =IF(B35=0," ",VLOOKUP($B35,[1]Спортсмены!$B$1:$H$65536,7,FALSE)) -> Гарынов А.А.
A36: 25 | B36: 70 | C36: =IF(B36=0," ",VLOOKUP(B36,[1]Спортсмены!B$1:H$65536,2,FALSE)) -> Кипелкин Иван | D36: =IF(B36=0," ",VLOOKUP($B36,[1]Спортсмены!$B$1:$H$65536,3,FALSE)) -> 28.01.1997 | E36: =IF(B36=0," ",IF(VLOOKUP($B36,[1]Спортсмены!$B$1:$H$65536,4,FALSE)=0," ",VLOOKUP($B36,[1]Спортсмены!$B$1:$H$65536,4,FALSE))) -> КМС | F36: =IF(B36=0," ",VLOOKUP($B36,[1]Спортсмены!$B$1:$H$65536,5,FALSE)) -> Нижегородская область | G36: =IF(B36=0," ",VLOOKUP($B36,[1]Спортсмены!$B$1:$H$65536,6,FALSE)) -> Нижний Новгород, ННГУ им. Н.И. Лобачевского | H36: 0.00013425926 | K36: =IF(H36=0," ",IF(H36<=[1]Разряды!$D$4,[1]Разряды!$D$3,IF(H36<=[1]Разряды!$E$4,[1]Разряды!$E$3,IF(H36<=[1]Разряды!$F$4,[1]Разряды!$F$3,IF(H36<=[1]Разряды!$G$4,[1]Разряды!$G$3,IF(H36<=[1]Разряды!$H$4,[1]Разряды!$H$3,IF(H36<=[1]Разряды!$I$4,[1]Разряды!$I$3,IF(H36<=[1]Разряды!$J$4,[1]Разряды!$J$3,"б/р")))))))) -> 2р | L36: 1 | M36: =IF(B36=0," ",VLOOKUP($B36,[1]Спортсмены!$B$1:$H$65536,7,FALSE)) -> Ясницкий Н.В.
A37: 26 | B37: 76 | C37: =IF(B37=0," ",VLOOKUP(B37,[1]Спортсмены!B$1:H$65536,2,FALSE)) -> Панченко Глеб | D37: =IF(B37=0," ",VLOOKUP($B37,[1]Спортсмены!$B$1:$H$65536,3,FALSE)) -> 22.11.1998 | E37: =IF(B37=0," ",IF(VLOOKUP($B37,[1]Спортсмены!$B$1:$H$65536,4,FALSE)=0," ",VLOOKUP($B37,[1]Спортсмены!$B$1:$H$65536,4,FALSE))) -> 1р | F37: =IF(B37=0," ",VLOOKUP($B37,[1]Спортсмены!$B$1:$H$65536,5,FALSE)) -> Пермский край | G37: =IF(B37=0," ",VLOOKUP($B37,[1]Спортсмены!$B$1:$H$65536,6,FALSE)) -> Пермь, ПНИПУ с/к "Политехник" | H37: 0.00013483796 | K37: =IF(H37=0," ",IF(H37<=[1]Разряды!$D$4,[1]Разряды!$D$3,IF(H37<=[1]Разряды!$E$4,[1]Разряды!$E$3,IF(H37<=[1]Разряды!$F$4,[1]Разряды!$F$3,IF(H37<=[1]Разряды!$G$4,[1]Разряды!$G$3,IF(H37<=[1]Разряды!$H$4,[1]Разряды!$H$3,IF(H37<=[1]Разряды!$I$4,[1]Разряды!$I$3,IF(H37<=[1]Разряды!$J$4,[1]Разряды!$J$3,"б/р")))))))) -> 2р | L37: 1 | M37: =IF(B37=0," ",VLOOKUP($B37,[1]Спортсмены!$B$1:$H$65536,7,FALSE)) -> Гладков В.П.
A38: 26 | B38: 75 | C38: =IF(B38=0," ",VLOOKUP(B38,[1]Спортсмены!B$1:H$65536,2,FALSE)) -> Щербаков Евгений | D38: =IF(B38=0," ",VLOOKUP($B38,[1]Спортсмены!$B$1:$H$65536,3,FALSE)) -> 30.04.1999 | E38: =IF(B38=0," ",IF(VLOOKUP($B38,[1]Спортсмены!$B$1:$H$65536,4,FALSE)=0," ",VLOOKUP($B38,[1]Спортсмены!$B$1:$H$65536,4,FALSE))) -> 1р | F38: =IF(B38=0," ",VLOOKUP($B38,[1]Спортсмены!$B$1:$H$65536,5,FALSE)) -> Пермский край | G38: =IF(B38=0," ",VLOOKUP($B38,[1]Спортсмены!$B$1:$H$65536,6,FALSE)) -> Пермь, ПНИПУ с/к "Политехник" | H38: 0.00013483796 | K38: =IF(H38=0," ",IF(H38<=[1]Разряды!$D$4,[1]Разряды!$D$3,IF(H38<=[1]Разряды!$E$4,[1]Разряды!$E$3,IF(H38<=[1]Разряды!$F$4,[1]Разряды!$F$3,IF(H38<=[1]Разряды!$G$4,[1]Разряды!$G$3,IF(H38<=[1]Разряды!$H$4,[1]Разряды!$H$3,IF(H38<=[1]Разряды!$I$4,[1]Разряды!$I$3,IF(H38<=[1]Разряды!$J$4,[1]Разряды!$J$3,"б/р")))))))) -> 2р | L38: 1 | M38: =IF(B38=0," ",VLOOKUP($B38,[1]Спортсмены!$B$1:$H$65536,7,FALSE)) -> Гладков В.П.
A39: 28 | B39: 23 | C39: =IF(B39=0," ",VLOOKUP(B39,[1]Спортсмены!B$1:H$65536,2,FALSE)) -> Казанов Юрий | D39: =IF(B39=0," ",VLOOKUP($B39,[1]Спортсмены!$B$1:$H$65536,3,FALSE)) -> 13.07.1998 | E39: =IF(B39=0," ",IF(VLOOKUP($B39,[1]Спортсмены!$B$1:$H$65536,4,FALSE)=0," ",VLOOKUP($B39,[1]Спортсмены!$B$1:$H$65536,4,FALSE))) -> КМС | F39: =IF(B39=0," ",VLOOKUP($B39,[1]Спортсмены!$B$1:$H$65536,5,FALSE)) -> Ярославская область | G39: =IF(B39=0," ",VLOOKUP($B39,[1]Спортсмены!$B$1:$H$65536,6,FALSE)) -> Ярославль, ЯрГУ им. П.Г. Демидова | H39: 0.00013611111 | K39: =IF(H39=0," ",IF(H39<=[1]Разряды!$D$4,[1]Разряды!$D$3,IF(H39<=[1]Разряды!$E$4,[1]Разряды!$E$3,IF(H39<=[1]Разряды!$F$4,[1]Разряды!$F$3,IF(H39<=[1]Разряды!$G$4,[1]Разряды!$G$3,IF(H39<=[1]Разряды!$H$4,[1]Разряды!$H$3,IF(H39<=[1]Разряды!$I$4,[1]Разряды!$I$3,IF(H39<=[1]Разряды!$J$4,[1]Разряды!$J$3,"б/р")))))))) -> 2р | L39: 1 | M39: =IF(B39=0," ",VLOOKUP($B39,[1]Спортсмены!$B$1:$H$65536,7,FALSE)) -> Филинова С.К.
A40: 29 | B40: 9 | C40: =IF(B40=0," ",VLOOKUP(B40,[1]Спортсмены!B$1:H$65536,2,FALSE)) -> Ушаков Александр | D40: =IF(B40=0," ",VLOOKUP($B40,[1]Спортсмены!$B$1:$H$65536,3,FALSE)) -> 06.06.1998 | E40: =IF(B40=0," ",IF(VLOOKUP($B40,[1]Спортсмены!$B$1:$H$65536,4,FALSE)=0," ",VLOOKUP($B40,[1]Спортсмены!$B$1:$H$65536,4,FALSE))) -> КМС | F40: =IF(B40=0," ",VLOOKUP($B40,[1]Спортсмены!$B$1:$H$65536,5,FALSE)) -> Тамбовская область | G40: =IF(B40=0," ",VLOOKUP($B40,[1]Спортсмены!$B$1:$H$65536,6,FALSE)) -> Тамбов, ТГУ им. Г.Р. Державина | H40: 0.00013657407 | K40: =IF(H40=0," ",IF(H40<=[1]Разряды!$D$4,[1]Разряды!$D$3,IF(H40<=[1]Разряды!$E$4,[1]Разряды!$E$3,IF(H40<=[1]Разряды!$F$4,[1]Разряды!$F$3,IF(H40<=[1]Разряды!$G$4,[1]Разряды!$G$3,IF(H40<=[1]Разряды!$H$4,[1]Разряды!$H$3,IF(H40<=[1]Разряды!$I$4,[1]Разряды!$I$3,IF(H40<=[1]Разряды!$J$4,[1]Разряды!$J$3,"б/р")))))))) -> 2р | L40: 1 | M40: =IF(B40=0," ",VLOOKUP($B40,[1]Спортсмены!$B$1:$H$65536,7,FALSE)) -> Иванов А.Н.
...

Sheet 200м
A1: Чемпионат Российского студенческого спортивного союза
A2: мужчины и женщины
L3: 27-28 июня 2019 г.
K4: стадион "Шинник"
L5: г. Ярославль
D6: 12.07.2017г. | E6: 0.50347222 | F6: Забеги | H6: ПРОТОКОЛ СОРЕВНОВАНИЙ
D7: 12.07.2017г. | E7: 0.54861111 | F7: Финал
C8: Мужчины | D8: Бег 200м
A9: Место | B9: Номер | C9: Фамилия, имя | D9: Дата рожд. | E9: Квал. | F9: Команда | G9: ВУЗ | H9: Результат | J9: Вып. разр. | K9: Очки | L9: Ф.И.О. тренера
H10: забеги | I10: финал
A11: 1 | B11: 257 | C11: =IF(B11=0," ",VLOOKUP(B11,[1]Спортсмены!B$1:H$65536,2,FALSE)) -> Арасланов Артем | D11: =IF(B11=0," ",VLOOKUP($B11,[1]Спортсмены!$B$1:$H$65536,3,FALSE)) -> 25.07.1994 | E11: =IF(B11=0," ",IF(VLOOKUP($B11,[1]Спортсмены!$B$1:$H$65536,4,FALSE)=0," ",VLOOKUP($B11,[1]Спортсмены!$B$1:$H$65536,4,FALSE))) -> МС | F11: =IF(B11=0," ",VLOOKUP($B11,[1]Спортсмены!$B$1:$H$65536,5,FALSE)) -> Республика Татарстан | G11: =IF(B11=0," ",VLOOKUP($B11,[1]Спортсмены!$B$1:$H$65536,6,FALSE)) -> Казань, ФГБОУ ВО ПГАФКСиТ, ВятСДЮШОР, ЦСКА | H11: 0.00025168981 | I11: 0.00024513889 | J11: мс | K11: 18+10 | L11: =IF(B11=0," ",VLOOKUP($B11,[1]Спортсмены!$B$1:$H$65536,7,FALSE)) -> Бородовицын С.Н., Сырцев В.В., Вдовин М.В.
A12: 2 | B12: 352 | C12: =IF(B12=0," ",VLOOKUP(B12,[1]Спортсмены!B$1:H$65536,2,FALSE)) -> Ежов Иван | D12: =IF(B12=0," ",VLOOKUP($B12,[1]Спортсмены!$B$1:$H$65536,3,FALSE)) -> 01.06.1999 | E12: =IF(B12=0," ",IF(VLOOKUP($B12,[1]Спортсмены!$B$1:$H$65536,4,FALSE)=0," ",VLOOKUP($B12,[1]Спортсмены!$B$1:$H$65536,4,FALSE))) -> КМС | F12: =IF(B12=0," ",VLOOKUP($B12,[1]Спортсмены!$B$1:$H$65536,5,FALSE)) -> Пензенская область | G12: =IF(B12=0," ",VLOOKUP($B12,[1]Спортсмены!$B$1:$H$65536,6,FALSE)) -> Пенза, ПензГУ | H12: 0.00025171296 | I12: 0.00025011574 | J12: =IF(H12=0," ",IF(H12<=[1]Разряды!$D$5,[1]Разряды!$D$3,IF(H12<=[1]Разряды!$E$5,[1]Разряды!$E$3,IF(H12<=[1]Разряды!$F$5,[1]Разряды!$F$3,IF(H12<=[1]Разряды!$G$5,[1]Разряды!$G$3,IF(H12<=[1]Разряды!$H$5,[1]Разряды!$H$3,IF(H12<=[1]Разряды!$I$5,[1]Разряды!$I$3,IF(H12<=[1]Разряды!$J$5,[1]Разряды!$J$3,"б/р")))))))) -> кмс | K12: 15+5 | L12: =IF(B12=0," ",VLOOKUP($B12,[1]Спортсмены!$B$1:$H$65536,7,FALSE)) -> Новокшанов Б.В., Каташовы С.Н., С.Д.
A13: 3 | B13: 57 | C13: =IF(B13=0," ",VLOOKUP(B13,[1]Спортсмены!B$1:H$65536,2,FALSE)) -> Пивоваров Даниил | D13: =IF(B13=0," ",VLOOKUP($B13,[1]Спортсмены!$B$1:$H$65536,3,FALSE)) -> 13.04.1999 | E13: =IF(B13=0," ",IF(VLOOKUP($B13,[1]Спортсмены!$B$1:$H$65536,4,FALSE)=0," ",VLOOKUP($B13,[1]Спортсмены!$B$1:$H$65536,4,FALSE))) -> КМС | F13: =IF(B13=0," ",VLOOKUP($B13,[1]Спортсмены!$B$1:$H$65536,5,FALSE)) -> Республика Татарстан | G13: =IF(B13=0," ",VLOOKUP($B13,[1]Спортсмены!$B$1:$H$65536,6,FALSE)) -> Казань, ФГБОУ ВО ПГАФКСиТ | H13: 0.00025335648 | I13: 0.00025185185 | J13: =IF(H13=0," ",IF(H13<=[1]Разряды!$D$5,[1]Разряды!$D$3,IF(H13<=[1]Разряды!$E$5,[1]Разряды!$E$3,IF(H13<=[1]Разряды!$F$5,[1]Разряды!$F$3,IF(H13<=[1]Разряды!$G$5,[1]Разряды!$G$3,IF(H13<=[1]Разряды!$H$5,[1]Разряды!$H$3,IF(H13<=[1]Разряды!$I$5,[1]Разряды!$I$3,IF(H13<=[1]Разряды!$J$5,[1]Разряды!$J$3,"б/р")))))))) -> кмс | K13: 13+5 | L13: =IF(B13=0," ",VLOOKUP($B13,[1]Спортсмены!$B$1:$H$65536,7,FALSE)) -> Захарчук Д.Г.
A14: 4 | B14: 124 | C14: =IF(B14=0," ",VLOOKUP(B14,[1]Спортсмены!B$1:H$65536,2,FALSE)) -> Орлов Константин | D14: =IF(B14=0," ",VLOOKUP($B14,[1]Спортсмены!$B$1:$H$65536,3,FALSE)) -> 01.12.1998 | E14: =IF(B14=0," ",IF(VLOOKUP($B14,[1]Спортсмены!$B$1:$H$65536,4,FALSE)=0," ",VLOOKUP($B14,[1]Спортсмены!$B$1:$H$65536,4,FALSE))) -> КМС | F14: =IF(B14=0," ",VLOOKUP($B14,[1]Спортсмены!$B$1:$H$65536,5,FALSE)) -> Республика Чувашии | G14: =IF(B14=0," ",VLOOKUP($B14,[1]Спортсмены!$B$1:$H$65536,6,FALSE)) -> Чебоксары, ЧГПУ им. И.Я. Яковлева | H14: 0.00025416667 | I14: 0.00025381944 | J14: =IF(H14=0," ",IF(H14<=[1]Разряды!$D$5,[1]Разряды!$D$3,IF(H14<=[1]Разряды!$E$5,[1]Разряды!$E$3,IF(H14<=[1]Разряды!$F$5,[1]Разряды!$F$3,IF(H14<=[1]Разряды!$G$5,[1]Разряды!$G$3,IF(H14<=[1]Разряды!$H$5,[1]Разряды!$H$3,IF(H14<=[1]Разряды!$I$5,[1]Разряды!$I$3,IF(H14<=[1]Разряды!$J$5,[1]Разряды!$J$3,"б/р")))))))) -> кмс | K14: 12+5 | L14: =IF(B14=0," ",VLOOKUP($B14,[1]Спортсмены!$B$1:$H$65536,7,FALSE)) -> Смирнов С.В.
A15: 5 | B15: 350 | C15: =IF(B15=0," ",VLOOKUP(B15,[1]Спортсмены!B$1:H$65536,2,FALSE)) -> Мельников Георгий | D15: =IF(B15=0," ",VLOOKUP($B15,[1]Спортсмены!$B$1:$H$65536,3,FALSE)) -> 17.12.1996 | E15: =IF(B15=0," ",IF(VLOOKUP($B15,[1]Спортсмены!$B$1:$H$65536,4,FALSE)=0," ",VLOOKUP($B15,[1]Спортсмены!$B$1:$H$65536,4,FALSE))) -> КМС | F15: =IF(B15=0," ",VLOOKUP($B15,[1]Спортсмены!$B$1:$H$65536,5,FALSE)) -> Пензенская область | G15: =IF(B15=0," ",VLOOKUP($B15,[1]Спортсмены!$B$1:$H$65536,6,FALSE)) -> Пенза, ПензГУ | H15: 0.00025532407 | I15: 0.00025439815 | J15: =IF(H15=0," ",IF(H15<=[1]Разряды!$D$5,[1]Разряды!$D$3,IF(H15<=[1]Разряды!$E$5,[1]Разряды!$E$3,IF(H15<=[1]Разряды!$F$5,[1]Разряды!$F$3,IF(H15<=[1]Разряды!$G$5,[1]Разряды!$G$3,IF(H15<=[1]Разряды!$H$5,[1]Разряды!$H$3,IF(H15<=[1]Разряды!$I$5,[1]Разряды!$I$3,IF(H15<=[1]Разряды!$J$5,[1]Разряды!$J$3,"б/р")))))))) -> кмс | K15: 11+5 | L15: =IF(B15=0," ",VLOOKUP($B15,[1]Спортсмены!$B$1:$H$65536,7,FALSE)) -> Новокшанов Б.В.,Болтов Л.В.
A16: 6 | B16: 211 | C16: =IF(B16=0," ",VLOOKUP(B16,[1]Спортсмены!B$1:H$65536,2,FALSE)) -> Сидоров Андрей | D16: =IF(B16=0," ",VLOOKUP($B16,[1]Спортсмены!$B$1:$H$65536,3,FALSE)) -> 18.11.1996 | E16: =IF(B16=0," ",IF(VLOOKUP($B16,[1]Спортсмены!$B$1:$H$65536,4,FALSE)=0," ",VLOOKUP($B16,[1]Спортсмены!$B$1:$H$65536,4,FALSE))) -> КМС | F16: =IF(B16=0," ",VLOOKUP($B16,[1]Спортсмены!$B$1:$H$65536,5,FALSE)) -> Республика Мордовия | G16: =IF(B16=0," ",VLOOKUP($B16,[1]Спортсмены!$B$1:$H$65536,6,FALSE)) -> Саранск, ФГБОУ ВО "НИМГУ им. Н.П. Огарева" | H16: 0.00025439815 | I16: 0.00025590278 | J16: =IF(H16=0," ",IF(H16<=[1]Разряды!$D$5,[1]Разряды!$D$3,IF(H16<=[1]Разряды!$E$5,[1]Разряды!$E$3,IF(H16<=[1]Разряды!$F$5,[1]Разряды!$F$3,IF(H16<=[1]Разряды!$G$5,[1]Разряды!$G$3,IF(H16<=[1]Разряды!$H$5,[1]Разряды!$H$3,IF(H16<=[1]Разряды!$I$5,[1]Разряды!$I$3,IF(H16<=[1]Разряды!$J$5,[1]Разряды!$J$3,"б/р")))))))) -> кмс | K16: 10+5 | L16: =IF(B16=0," ",VLOOKUP($B16,[1]Спортсмены!$B$1:$H$65536,7,FALSE)) -> Забродин Р.
A17: 7 | B17: 99 | C17: =IF(B17=0," ",VLOOKUP(B17,[1]Спортсмены!B$1:H$65536,2,FALSE)) -> Фролов Павел | D17: =IF(B17=0," ",VLOOKUP($B17,[1]Спортсмены!$B$1:$H$65536,3,FALSE)) -> 30.05.1999 | E17: =IF(B17=0," ",IF(VLOOKUP($B17,[1]Спортсмены!$B$1:$H$65536,4,FALSE)=0," ",VLOOKUP($B17,[1]Спортсмены!$B$1:$H$65536,4,FALSE))) -> КМС | F17: =IF(B17=0," ",VLOOKUP($B17,[1]Спортсмены!$B$1:$H$65536,5,FALSE)) -> Пензенская область | G17: =IF(B17=0," ",VLOOKUP($B17,[1]Спортсмены!$B$1:$H$65536,6,FALSE)) -> Пенза, ПензГУ | H17: 0.00025949074 | I17: 0.00026261574 | J17: =IF(H17=0," ",IF(H17<=[1]Разряды!$D$5,[1]Разряды!$D$3,IF(H17<=[1]Разряды!$E$5,[1]Разряды!$E$3,IF(H17<=[1]Разряды!$F$5,[1]Разряды!$F$3,IF(H17<=[1]Разряды!$G$5,[1]Разряды!$G$3,IF(H17<=[1]Разряды!$H$5,[1]Разряды!$H$3,IF(H17<=[1]Разряды!$I$5,[1]Разряды!$I$3,IF(H17<=[1]Разряды!$J$5,[1]Разряды!$J$3,"б/р")))))))) -> 1р | K17: 9 | L17: =IF(B17=0," ",VLOOKUP($B17,[1]Спортсмены!$B$1:$H$65536,7,FALSE)) -> Кораблев В.В.
A18: 8 | B18: 43 | C18: =IF(B18=0," ",VLOOKUP(B18,[1]Спортсмены!B$1:H$65536,2,FALSE)) -> Рожнов Артем | D18: =IF(B18=0," ",VLOOKUP($B18,[1]Спортсмены!$B$1:$H$65536,3,FALSE)) -> 03.03.1998 | E18: =IF(B18=0," ",IF(VLOOKUP($B18,[1]Спортсмены!$B$1:$H$65536,4,FALSE)=0," ",VLOOKUP($B18,[1]Спортсмены!$B$1:$H$65536,4,FALSE))) -> КМС | F18: =IF(B18=0," ",VLOOKUP($B18,[1]Спортсмены!$B$1:$H$65536,5,FALSE)) -> Тульская область | G18: =IF(B18=0," ",VLOOKUP($B18,[1]Спортсмены!$B$1:$H$65536,6,FALSE)) -> Тула, ТулГУ | H18: 0.00025532407 | I18: r|med | J18: =IF(H18=0," ",IF(H18<=[1]Разряды!$D$5,[1]Разряды!$D$3,IF(H18<=[1]Разряды!$E$5,[1]Разряды!$E$3,IF(H18<=[1]Разряды!$F$5,[1]Разряды!$F$3,IF(H18<=[1]Разряды!$G$5,[1]Разряды!$G$3,IF(H18<=[1]Разряды!$H$5,[1]Разряды!$H$3,IF(H18<=[1]Разряды!$I$5,[1]Разряды!$I$3,IF(H18<=[1]Разряды!$J$5,[1]Разряды!$J$3,"б/р")))))))) -> кмс | K18: 8+5 | L18: =IF(B18=0," ",VLOOKUP($B18,[1]Спортсмены!$B$1:$H$65536,7,FALSE)) -> Веселова С.Ю., Ковтун Н.Н.
A19: 9 | B19: 115 | C19: =IF(B19=0," ",VLOOKUP(B19,[1]Спортсмены!B$1:H$65536,2,FALSE)) -> Колесник Дмитрий | D19: =IF(B19=0," ",VLOOKUP($B19,[1]Спортсмены!$B$1:$H$65536,3,FALSE)) -> 26.05.1998 | E19: =IF(B19=0," ",IF(VLOOKUP($B19,[1]Спортсмены!$B$1:$H$65536,4,FALSE)=0," ",VLOOKUP($B19,[1]Спортсмены!$B$1:$H$65536,4,FALSE))) -> КМС | F19: =IF(B19=0," ",VLOOKUP($B19,[1]Спортсмены!$B$1:$H$65536,5,FALSE)) -> Ярославская область | G19: =IF(B19=0," ",VLOOKUP($B19,[1]Спортсмены!$B$1:$H$65536,6,FALSE)) -> Ярославль, ЯВВУ ПВО | H19: 0.00026018519 | J19: =IF(H19=0," ",IF(H19<=[1]Разряды!$D$5,[1]Разряды!$D$3,IF(H19<=[1]Разряды!$E$5,[1]Разряды!$E$3,IF(H19<=[1]Разряды!$F$5,[1]Разряды!$F$3,IF(H19<=[1]Разряды!$G$5,[1]Разряды!$G$3,IF(H19<=[1]Разряды!$H$5,[1]Разряды!$H$3,IF(H19<=[1]Разряды!$I$5,[1]Разряды!$I$3,IF(H19<=[1]Разряды!$J$5,[1]Разряды!$J$3,"б/р")))))))) -> 1р | K19: л | L19: =IF(B19=0," ",VLOOKUP($B19,[1]Спортсмены!$B$1:$H$65536,7,FALSE)) -> Таракановы Ю.Ф., А.В., Круговой К.Н.
A20: 10 | B20: 63 | C20: =IF(B20=0," ",VLOOKUP(B20,[1]Спортсмены!B$1:H$65536,2,FALSE)) -> Неверов Илья | D20: =IF(B20=0," ",VLOOKUP($B20,[1]Спортсмены!$B$1:$H$65536,3,FALSE)) -> 03.03.2000 | E20: =IF(B20=0," ",IF(VLOOKUP($B20,[1]Спортсмены!$B$1:$H$65536,4,FALSE)=0," ",VLOOKUP($B20,[1]Спортсмены!$B$1:$H$65536,4,FALSE))) -> 1р | F20: =IF(B20=0," ",VLOOKUP($B20,[1]Спортсмены!$B$1:$H$65536,5,FALSE)) -> Архангельская область | G20: =IF(B20=0," ",VLOOKUP($B20,[1]Спортсмены!$B$1:$H$65536,6,FALSE)) -> Архангельск, САФУ им. М.В. Ломоносова | H20: 0.00026053241 | J20: =IF(H20=0," ",IF(H20<=[1]Разряды!$D$5,[1]Разряды!$D$3,IF(H20<=[1]Разряды!$E$5,[1]Разряды!$E$3,IF(H20<=[1]Разряды!$F$5,[1]Разряды!$F$3,IF(H20<=[1]Разряды!$G$5,[1]Разряды!$G$3,IF(H20<=[1]Разряды!$H$5,[1]Разряды!$H$3,IF(H20<=[1]Разряды!$I$5,[1]Разряды!$I$3,IF(H20<=[1]Разряды!$J$5,[1]Разряды!$J$3,"б/р")))))))) -> 1р | K20: 7 | L20: =IF(B20=0," ",VLOOKUP($B20,[1]Спортсмены!$B$1:$H$65536,7,FALSE)) -> Бородулин А.М., Литвененко А.И.
A21: 11 | B21: 280 | C21: =IF(B21=0," ",VLOOKUP(B21,[1]Спортсмены!B$1:H$65536,2,FALSE)) -> Дуркин Никита | D21: =IF(B21=0," ",VLOOKUP($B21,[1]Спортсмены!$B$1:$H$65536,3,FALSE)) -> 18.07.1995 | E21: =IF(B21=0," ",IF(VLOOKUP($B21,[1]Спортсмены!$B$1:$H$65536,4,FALSE)=0," ",VLOOKUP($B21,[1]Спортсмены!$B$1:$H$65536,4,FALSE))) -> 1р | F21: =IF(B21=0," ",VLOOKUP($B21,[1]Спортсмены!$B$1:$H$65536,5,FALSE)) -> Архангельская область | G21: =IF(B21=0," ",VLOOKUP($B21,[1]Спортсмены!$B$1:$H$65536,6,FALSE)) -> Архангельск, САФУ им. М.В. Ломоносова | H21: 0.00026180556 | J21: =IF(H21=0," ",IF(H21<=[1]Разряды!$D$5,[1]Разряды!$D$3,IF(H21<=[1]Разряды!$E$5,[1]Разряды!$E$3,IF(H21<=[1]Разряды!$F$5,[1]Разряды!$F$3,IF(H21<=[1]Разряды!$G$5,[1]Разряды!$G$3,IF(H21<=[1]Разряды!$H$5,[1]Разряды!$H$3,IF(H21<=[1]Разряды!$I$5,[1]Разряды!$I$3,IF(H21<=[1]Разряды!$J$5,[1]Разряды!$J$3,"б/р")))))))) -> 1р | K21: 6 | L21: =IF(B21=0," ",VLOOKUP($B21,[1]Спортсмены!$B$1:$H$65536,7,FALSE)) -> Мингалев А.Ю., Мингалева А.Г.
A22: 12 | B22: 80 | C22: =IF(B22=0," ",VLOOKUP(B22,[1]Спортсмены!B$1:H$65536,2,FALSE)) -> Гребнев Иван | D22: =IF(B22=0," ",VLOOKUP($B22,[1]Спортсмены!$B$1:$H$65536,3,FALSE)) -> 11.01.1996 | E22: =IF(B22=0," ",IF(VLOOKUP($B22,[1]Спортсмены!$B$1:$H$65536,4,FALSE)=0," ",VLOOKUP($B22,[1]Спортсмены!$B$1:$H$65536,4,FALSE))) -> КМС | F22: =IF(B22=0," ",VLOOKUP($B22,[1]Спортсмены!$B$1:$H$65536,5,FALSE)) -> Ивановская область | G22: =IF(B22=0," ",VLOOKUP($B22,[1]Спортсмены!$B$1:$H$65536,6,FALSE)) -> Иваново, ИГСХА им. Д.К. Беляева | H22: 0.00026180556 | J22: =IF(H22=0," ",IF(H22<=[1]Разряды!$D$5,[1]Разряды!$D$3,IF(H22<=[1]Разряды!$E$5,[1]Разряды!$E$3,IF(H22<=[1]Разряды!$F$5,[1]Разряды!$F$3,IF(H22<=[1]Разряды!$G$5,[1]Разряды!$G$3,IF(H22<=[1]Разряды!$H$5,[1]Разряды!$H$3,IF(H22<=[1]Разряды!$I$5,[1]Разряды!$I$3,IF(H22<=[1]Разряды!$J$5,[1]Разряды!$J$3,"б/р")))))))) -> 1р | K22: 5 | L22: =IF(B22=0," ",VLOOKUP($B22,[1]Спортсмены!$B$1:$H$65536,7,FALSE)) -> Левичева М.Б.
A23: 12 | B23: 34 | C23: =IF(B23=0," ",VLOOKUP(B23,[1]Спортсмены!B$1:H$65536,2,FALSE)) -> Корчагин Дмитрий | D23: =IF(B23=0," ",VLOOKUP($B23,[1]Спортсмены!$B$1:$H$65536,3,FALSE)) -> 11.05.1997 | E23: =IF(B23=0," ",IF(VLOOKUP($B23,[1]Спортсмены!$B$1:$H$65536,4,FALSE)=0," ",VLOOKUP($B23,[1]Спортсмены!$B$1:$H$65536,4,FALSE))) -> КМС | F23: =IF(B23=0," ",VLOOKUP($B23,[1]Спортсмены!$B$1:$H$65536,5,FALSE)) -> Красноярский край | G23: =IF(B23=0," ",VLOOKUP($B23,[1]Спортсмены!$B$1:$H$65536,6,FALSE)) -> Красноярск, СФУ | H23: 0.0002630787 | J23: =IF(H23=0," ",IF(H23<=[1]Разряды!$D$5,[1]Разряды!$D$3,IF(H23<=[1]Разряды!$E$5,[1]Разряды!$E$3,IF(H23<=[1]Разряды!$F$5,[1]Разряды!$F$3,IF(H23<=[1]Разряды!$G$5,[1]Разряды!$G$3,IF(H23<=[1]Разряды!$H$5,[1]Разряды!$H$3,IF(H23<=[1]Разряды!$I$5,[1]Разряды!$I$3,IF(H23<=[1]Разряды!$J$5,[1]Разряды!$J$3,"б/р")))))))) -> 1р | K23: 4 | L23: =IF(B23=0," ",VLOOKUP($B23,[1]Спортсмены!$B$1:$H$65536,7,FALSE)) -> Непомнящих О.А.
A24: 14 | B24: 274 | C24: =IF(B24=0," ",VLOOKUP(B24,[1]Спортсмены!B$1:H$65536,2,FALSE)) -> Соколов Павел | D24: =IF(B24=0," ",VLOOKUP($B24,[1]Спортсмены!$B$1:$H$65536,3,FALSE)) -> 22.08.1999 | E24: =IF(B24=0," ",IF(VLOOKUP($B24,[1]Спортсмены!$B$1:$H$65536,4,FALSE)=0," ",VLOOKUP($B24,[1]Спортсмены!$B$1:$H$65536,4,FALSE))) -> КМС | F24: =IF(B24=0," ",VLOOKUP($B24,[1]Спортсмены!$B$1:$H$65536,5,FALSE)) -> Ивановская область | G24: =IF(B24=0," ",VLOOKUP($B24,[1]Спортсмены!$B$1:$H$65536,6,FALSE)) -> Иваново, ИГЭУ им. В.И. Ленина | H24: 0.00026377315 | J24: =IF(H24=0," ",IF(H24<=[1]Разряды!$D$5,[1]Разряды!$D$3,IF(H24<=[1]Разряды!$E$5,[1]Разряды!$E$3,IF(H24<=[1]Разряды!$F$5,[1]Разряды!$F$3,IF(H24<=[1]Разряды!$G$5,[1]Разряды!$G$3,IF(H24<=[1]Разряды!$H$5,[1]Разряды!$H$3,IF(H24<=[1]Разряды!$I$5,[1]Разряды!$I$3,IF(H24<=[1]Разряды!$J$5,[1]Разряды!$J$3,"б/р")))))))) -> 1р | K24: 3 | L24: =IF(B24=0," ",VLOOKUP($B24,[1]Спортсмены!$B$1:$H$65536,7,FALSE)) -> Гильмутдинов Ю.В., Малкова И.В.
A25: 15 | B25: 49 | C25: =IF(B25=0," ",VLOOKUP(B25,[1]Спортсмены!B$1:H$65536,2,FALSE)) -> Новожилов Дмитрий | D25: =IF(B25=0," ",VLOOKUP($B25,[1]Спортсмены!$B$1:$H$65536,3,FALSE)) -> 27.06.1996 | E25: =IF(B25=0," ",IF(VLOOKUP($B25,[1]Спортсмены!$B$1:$H$65536,4,FALSE)=0," ",VLOOKUP($B25,[1]Спортсмены!$B$1:$H$65536,4,FALSE))) -> 1р | F25: =IF(B25=0," ",VLOOKUP($B25,[1]Спортсмены!$B$1:$H$65536,5,FALSE)) -> Новгородская область | G25: =IF(B25=0," ",VLOOKUP($B25,[1]Спортсмены!$B$1:$H$65536,6,FALSE)) -> Великий Новгород, НовГУ им. Ярослава Мудрого | H25: 0.0002650463 | J25: =IF(H25=0," ",IF(H25<=[1]Разряды!$D$5,[1]Разряды!$D$3,IF(H25<=[1]Разряды!$E$5,[1]Разряды!$E$3,IF(H25<=[1]Разряды!$F$5,[1]Разряды!$F$3,IF(H25<=[1]Разряды!$G$5,[1]Разряды!$G$3,IF(H25<=[1]Разряды!$H$5,[1]Разряды!$H$3,IF(H25<=[1]Разряды!$I$5,[1]Разряды!$I$3,IF(H25<=[1]Разряды!$J$5,[1]Разряды!$J$3,"б/р")))))))) -> 1р | K25: 2 | L25: =IF(B25=0," ",VLOOKUP($B25,[1]Спортсмены!$B$1:$H$65536,7,FALSE)) -> Савенков П.А.
A26: 16 | B26: 75 | C26: =IF(B26=0," ",VLOOKUP(B26,[1]Спортсмены!B$1:H$65536,2,FALSE)) -> Щербаков Евгений | D26: =IF(B26=0," ",VLOOKUP($B26,[1]Спортсмены!$B$1:$H$65536,3,FALSE)) -> 30.04.1999 | E26: =IF(B26=0," ",IF(VLOOKUP($B26,[1]Спортсмены!$B$1:$H$65536,4,FALSE)=0," ",VLOOKUP($B26,[1]Спортсмены!$B$1:$H$65536,4,FALSE))) -> 1р | F26: =IF(B26=0," ",VLOOKUP($B26,[1]Спортсмены!$B$1:$H$65536,5,FALSE)) -> Пермский край | G26: =IF(B26=0," ",VLOOKUP($B26,[1]Спортсмены!$B$1:$H$65536,6,FALSE)) -> Пермь, ПНИПУ с/к "Политехник" | H26: 0.00026574074 | J26: =IF(H26=0," ",IF(H26<=[1]Разряды!$D$5,[1]Разряды!$D$3,IF(H26<=[1]Разряды!$E$5,[1]Разряды!$E$3,IF(H26<=[1]Разряды!$F$5,[1]Разряды!$F$3,IF(H26<=[1]Разряды!$G$5,[1]Разряды!$G$3,IF(H26<=[1]Разряды!$H$5,[1]Разряды!$H$3,IF(H26<=[1]Разряды!$I$5,[1]Разряды!$I$3,IF(H26<=[1]Разряды!$J$5,[1]Разряды!$J$3,"б/р")))))))) -> 1р | K26: 1 | L26: =IF(B26=0," ",VLOOKUP($B26,[1]Спортсмены!$B$1:$H$65536,7,FALSE)) -> Гладков В.П.
A27: 17 | B27: 45 | C27: =IF(B27=0," ",VLOOKUP(B27,[1]Спортсмены!B$1:H$65536,2,FALSE)) -> Никулкин Александр | D27: =IF(B27=0," ",VLOOKUP($B27,[1]Спортсмены!$B$1:$H$65536,3,FALSE)) -> 04.11.1995 | E27: =IF(B27=0," ",IF(VLOOKUP($B27,[1]Спортсмены!$B$1:$H$65536,4,FALSE)=0," ",VLOOKUP($B27,[1]Спортсмены!$B$1:$H$65536,4,FALSE))) -> КМС | F27: =IF(B27=0," ",VLOOKUP($B27,[1]Спортсмены!$B$1:$H$65536,5,FALSE)) -> Пензенская область | G27: =IF(B27=0," ",VLOOKUP($B27,[1]Спортсмены!$B$1:$H$65536,6,FALSE)) -> Пенза, ПензГТУ | H27: 0.0002662037 | J27: =IF(H27=0," ",IF(H27<=[1]Разряды!$D$5,[1]Разряды!$D$3,IF(H27<=[1]Разряды!$E$5,[1]Разряды!$E$3,IF(H27<=[1]Разряды!$F$5,[1]Разряды!$F$3,IF(H27<=[1]Разряды!$G$5,[1]Разряды!$G$3,IF(H27<=[1]Разряды!$H$5,[1]Разряды!$H$3,IF(H27<=[1]Разряды!$I$5,[1]Разряды!$I$3,IF(H27<=[1]Разряды!$J$5,[1]Разряды!$J$3,"б/р")))))))) -> 1р | K27: 1 | L27: =IF(B27=0," ",VLOOKUP($B27,[1]Спортсмены!$B$1:$H$65536,7,FALSE)) -> Гарынов А.А.
A28: 18 | B28: 62 | C28: =IF(B28=0," ",VLOOKUP(B28,[1]Спортсмены!B$1:H$65536,2,FALSE)) -> Щербаков Кирилл | D28: =IF(B28=0," ",VLOOKUP($B28,[1]Спортсмены!$B$1:$H$65536,3,FALSE)) -> 28.08.2000 | E28: =IF(B28=0," ",IF(VLOOKUP($B28,[1]Спортсмены!$B$1:$H$65536,4,FALSE)=0," ",VLOOKUP($B28,[1]Спортсмены!$B$1:$H$65536,4,FALSE))) -> КМС | F28: =IF(B28=0," ",VLOOKUP($B28,[1]Спортсмены!$B$1:$H$65536,5,FALSE)) -> Ивановская область | G28: =IF(B28=0," ",VLOOKUP($B28,[1]Спортсмены!$B$1:$H$65536,6,FALSE)) -> Иваново, ИГЭУ им. В.И. Ленина | H28: 0.00026678241 | J28: =IF(H28=0," ",IF(H28<=[1]Разряды!$D$5,[1]Разряды!$D$3,IF(H28<=[1]Разряды!$E$5,[1]Разряды!$E$3,IF(H28<=[1]Разряды!$F$5,[1]Разряды!$F$3,IF(H28<=[1]Разряды!$G$5,[1]Разряды!$G$3,IF(H28<=[1]Разряды!$H$5,[1]Разряды!$H$3,IF(H28<=[1]Разряды!$I$5,[1]Разряды!$I$3,IF(H28<=[1]Разряды!$J$5,[1]Разряды!$J$3,"б/р")))))))) -> 1р | K28: 1 | L28: =IF(B28=0," ",VLOOKUP($B28,[1]Спортсмены!$B$1:$H$65536,7,FALSE)) -> Гильмутдинов Ю.В., Кашникова Т.А.
A29: 19 | B29: 70 | C29: =IF(B29=0," ",VLOOKUP(B29,[1]Спортсмены!B$1:H$65536,2,FALSE)) -> Кипелкин Иван | D29: =IF(B29=0," ",VLOOKUP($B29,[1]Спортсмены!$B$1:$H$65536,3,FALSE)) -> 28.01.1997 | E29: =IF(B29=0," ",IF(VLOOKUP($B29,[1]Спортсмены!$B$1:$H$65536,4,FALSE)=0," ",VLOOKUP($B29,[1]Спортсмены!$B$1:$H$65536,4,FALSE))) -> КМС | F29: =IF(B29=0," ",VLOOKUP($B29,[1]Спортсмены!$B$1:$H$65536,5,FALSE)) -> Нижегородская область | G29: =IF(B29=0," ",VLOOKUP($B29,[1]Спортсмены!$B$1:$H$65536,6,FALSE)) -> Нижний Новгород, ННГУ им. Н.И. Лобачевского | H29: 0.00026712963 | J29: =IF(H29=0," ",IF(H29<=[1]Разряды!$D$5,[1]Разряды!$D$3,IF(H29<=[1]Разряды!$E$5,[1]Разряды!$E$3,IF(H29<=[1]Разряды!$F$5,[1]Разряды!$F$3,IF(H29<=[1]Разряды!$G$5,[1]Разряды!$G$3,IF(H29<=[1]Разряды!$H$5,[1]Разряды!$H$3,IF(H29<=[1]Разряды!$I$5,[1]Разряды!$I$3,IF(H29<=[1]Разряды!$J$5,[1]Разряды!$J$3,"б/р")))))))) -> 1р | K29: 1 | L29: =IF(B29=0," ",VLOOKUP($B29,[1]Спортсмены!$B$1:$H$65536,7,FALSE)) -> Ясницкий Н.В.
A30: 20 | B30: 215 | C30: =IF(B30=0," ",VLOOKUP(B30,[1]Спортсмены!B$1:H$65536,2,FALSE)) -> Куркин Евгений | D30: =IF(B30=0," ",VLOOKUP($B30,[1]Спортсмены!$B$1:$H$65536,3,FALSE)) -> 14.09.2000 | E30: =IF(B30=0," ",IF(VLOOKUP($B30,[1]Спортсмены!$B$1:$H$65536,4,FALSE)=0," ",VLOOKUP($B30,[1]Спортсмены!$B$1:$H$65536,4,FALSE))) -> КМС | F30: =IF(B30=0," ",VLOOKUP($B30,[1]Спортсмены!$B$1:$H$65536,5,FALSE)) -> Республика Мордовия | G30: =IF(B30=0," ",VLOOKUP($B30,[1]Спортсмены!$B$1:$H$65536,6,FALSE)) -> Саранск, ФГБОУ ВО "НИМГУ им. Н.П. Огарева" | H30: 0.00026759259 | J30: =IF(H30=0," ",IF(H30<=[1]Разряды!$D$5,[1]Разряды!$D$3,IF(H30<=[1]Разряды!$E$5,[1]Разряды!$E$3,IF(H30<=[1]Разряды!$F$5,[1]Разряды!$F$3,IF(H30<=[1]Разряды!$G$5,[1]Разряды!$G$3,IF(H30<=[1]Разряды!$H$5,[1]Разряды!$H$3,IF(H30<=[1]Разряды!$I$5,[1]Разряды!$I$3,IF(H30<=[1]Разряды!$J$5,[1]Разряды!$J$3,"б/р")))))))) -> 1р | K30: 1 | L30: =IF(B30=0," ",VLOOKUP($B30,[1]Спортсмены!$B$1:$H$65536,7,FALSE)) -> Разовы В.Н., П.И.
A31: 21 | B31: 281 | C31: =IF(B31=0," ",VLOOKUP(B31,[1]Спортсмены!B$1:H$65536,2,FALSE)) -> Якубов Фарид | D31: =IF(B31=0," ",VLOOKUP($B31,[1]Спортсмены!$B$1:$H$65536,3,FALSE)) -> 24.12.1994 | E31: =IF(B31=0," ",IF(VLOOKUP($B31,[1]Спортсмены!$B$1:$H$65536,4,FALSE)=0," ",VLOOKUP($B31,[1]Спортсмены!$B$1:$H$65536,4,FALSE))) -> 1р | F31: =IF(B31=0," ",VLOOKUP($B31,[1]Спортсмены!$B$1:$H$65536,5,FALSE)) -> Архангельская область | G31: =IF(B31=0," ",VLOOKUP($B31,[1]Спортсмены!$B$1:$H$65536,6,FALSE)) -> Архангельск, САФУ им. М.В. Ломоносова | H31: 0.00026828704 | J31: =IF(H31=0," ",IF(H31<=[1]Разряды!$D$5,[1]Разряды!$D$3,IF(H31<=[1]Разряды!$E$5,[1]Разряды!$E$3,IF(H31<=[1]Разряды!$F$5,[1]Разряды!$F$3,IF(H31<=[1]Разряды!$G$5,[1]Разряды!$G$3,IF(H31<=[1]Разряды!$H$5,[1]Разряды!$H$3,IF(H31<=[1]Разряды!$I$5,[1]Разряды!$I$3,IF(H31<=[1]Разряды!$J$5,[1]Разряды!$J$3,"б/р")))))))) -> 1р | K31: 1 | L31: =IF(B31=0," ",VLOOKUP($B31,[1]Спортсмены!$B$1:$H$65536,7,FALSE)) -> Мингалев А.Ю., Мингалева А.Г.
... A50: 40 | B50: 165 | C50: =IF(B50=0," ",VLOOKUP(B50,[1]Спортсмены!B$1:H$65536,2,FALSE)) -> Игнатов Дмитрий | D50: =IF(B50=0," ",VLOOKUP($B50,[1]Спортсмены!$B$1:$H$65536,3,FALSE)) -> 09.09.1998 | E50: =IF(B50=0," ",IF(VLOOKUP($B50,[1]Спортсмены!$B$1:$H$65536,4,FALSE)=0," ",VLOOKUP($B50,[1]Спортсмены!$B$1:$H$65536,4,FALSE))) -> 1р | F50: =IF(B50=0," ",VLOOKUP($B50,[1]Спортсмены!$B$1:$H$65536,5,FALSE)) -> Калининградская область | G50: =IF(B50=0," ",VLOOKUP($B50,[1]Спортсмены!$B$1:$H$65536,6,FALSE)) -> Калининград, КГТУ-БГАРФ | H50: 0.00031030093 | J50: =IF(H50=0," ",IF(H50<=[1]Разряды!$D$5,[1]Разряды!$D$3,IF(H50<=[1]Разряды!$E$5,[1]Разряды!$E$3,IF(H50<=[1]Разряды!$F$5,[1]Разряды!$F$3,IF(H50<=[1]Разряды!$G$5,[1]Разряды!$G$3,IF(H50<=[1]Разряды!$H$5,[1]Разряды!$H$3,IF(H50<=[1]Разряды!$I$5,[1]Разряды!$I$3,IF(H50<=[1]Разряды!$J$5,[1]Разряды!$J$3,"б/р")))))))) -> 1юр | K50: 0 | L50: =IF(B50=0," ",VLOOKUP($B50,[1]Спортсмены!$B$1:$H$65536,7,FALSE)) -> 0
B51: 19 | C51: =IF(B51=0," ",VLOOKUP(B51,[1]Спортсмены!B$1:H$65536,2,FALSE)) -> Кудряшов Александр | D51: =IF(B51=0," ",VLOOKUP($B51,[1]Спортсмены!$B$1:$H$65536,3,FALSE)) -> 31.10.2000 | E51: =IF(B51=0," ",IF(VLOOKUP($B51,[1]Спортсмены!$B$1:$H$65536,4,FALSE)=0," ",VLOOKUP($B51,[1]Спортсмены!$B$1:$H$65536,4,FALSE))) -> КМС | F51: =IF(B51=0," ",VLOOKUP($B51,[1]Спортсмены!$B$1:$H$65536,5,FALSE)) -> Москва | G51: =IF(B51=0," ",VLOOKUP($B51,[1]Спортсмены!$B$1:$H$65536,6,FALSE)) -> Москва, РГУФКСМиТ (ГЦОЛИФК) | H51: DQ п.п. 162.7 | K51: 0 | L51: =IF(B51=0," ",VLOOKUP($B51,[1]Спортсмены!$B$1:$H$65536,7,FALSE)) -> Филатова М.И., Цветик А.М.
B52: 100 | C52: =IF(B52=0," ",VLOOKUP(B52,[1]Спортсмены!B$1:H$65536,2,FALSE)) -> Паршин Владислав | D52: =IF(B52=0," ",VLOOKUP($B52,[1]Спортсмены!$B$1:$H$65536,3,FALSE)) -> 26.09.1998 | E52: =IF(B52=0," ",IF(VLOOKUP($B52,[1]Спортсмены!$B$1:$H$65536,4,FALSE)=0," ",VLOOKUP($B52,[1]Спортсмены!$B$1:$H$65536,4,FALSE))) -> КМС | F52: =IF(B52=0," ",VLOOKUP($B52,[1]Спортсмены!$B$1:$H$65536,5,FALSE)) -> Пензенская область | G52: =IF(B52=0," ",VLOOKUP($B52,[1]Спортсмены!$B$1:$H$65536,6,FALSE)) -> Пенза, ПензГУ | H52: DQ п.п. 162.7 | K52: 0 | L52: =IF(B52=0," ",VLOOKUP($B52,[1]Спортсмены!$B$1:$H$65536,7,FALSE)) -> Зинуков А.В.
B53: 354 | C53: =IF(B53=0," ",VLOOKUP(B53,[1]Спортсмены!B$1:H$65536,2,FALSE)) -> Бастылов Кирилл | D53: =IF(B53=0," ",VLOOKUP($B53,[1]Спортсмены!$B$1:$H$65536,3,FALSE)) -> 10.10.1998 | E53: =IF(B53=0," ",IF(VLOOKUP($B53,[1]Спортсмены!$B$1:$H$65536,4,FALSE)=0," ",VLOOKUP($B53,[1]Спортсмены!$B$1:$H$65536,4,FALSE))) -> КМС | F53: =IF(B53=0," ",VLOOKUP($B53,[1]Спортсмены!$B$1:$H$65536,5,FALSE)) -> Пензенская область | G53: =IF(B53=0," ",VLOOKUP($B53,[1]Спортсмены!$B$1:$H$65536,6,FALSE)) -> Пенза, ПензГУ | H53: DQ п.п. 162.7 | K53: 0 | L53: =IF(B53=0," ",VLOOKUP($B53,[1]Спортсмены!$B$1:$H$65536,7,FALSE)) -> Красновы Р.П., К.И.
B54: 129 | C54: =IF(B54=0," ",VLOOKUP(B54,[1]Спортсмены!B$1:H$65536,2,FALSE)) -> Филиппов Виктор | D54: =IF(B54=0," ",VLOOKUP($B54,[1]Спортсмены!$B$1:$H$65536,3,FALSE)) -> 01.01.2001 | E54: =IF(B54=0," ",IF(VLOOKUP($B54,[1]Спортсмены!$B$1:$H$65536,4,FALSE)=0," ",VLOOKUP($B54,[1]Спортсмены!$B$1:$H$65536,4,FALSE))) -> 1р | F54: =IF(B54=0," ",VLOOKUP($B54,[1]Спортсмены!$B$1:$H$65536,5,FALSE)) -> Республика Чувашии | G54: =IF(B54=0," ",VLOOKUP($B54,[1]Спортсмены!$B$1:$H$65536,6,FALSE)) -> Чебоксары, ЧГПУ им. И.Я. Яковлева | H54: r|med | K54: 0 | L54: =IF(B54=0," ",VLOOKUP($B54,[1]Спортсмены!$B$1:$H$65536,7,FALSE)) -> Анисимов Н.И.
B55: 54 | C55: =IF(B55=0," ",VLOOKUP(B55,[1]Спортсмены!B$1:H$65536,2,FALSE)) -> Бурков Сергей | D55: =IF(B55=0," ",VLOOKUP($B55,[1]Спортсмены!$B$1:$H$65536,3,FALSE)) -> 20.12.1995 | E55: =IF(B55=0," ",IF(VLOOKUP($B55,[1]Спортсмены!$B$1:$H$65536,4,FALSE)=0," ",VLOOKUP($B55,[1]Спортсмены!$B$1:$H$65536,4,FALSE))) -> КМС | F55: =IF(B55=0," ",VLOOKUP($B55,[1]Спортсмены!$B$1:$H$65536,5,FALSE)) -> Удмуртская Республика | G55: =IF(B55=0," ",VLOOKUP($B55,[1]Спортсмены!$B$1:$H$65536,6,FALSE)) -> Ижевск, УдГУ | H55: r|med | K55: 0 | L55: =IF(B55=0," ",VLOOKUP($B55,[1]Спортсмены!$B$1:$H$65536,7,FALSE)) -> Феофилактов Н.З.,Кудрин А.В.
B56: 24 | C56: =IF(B56=0," ",VLOOKUP(B56,[1]Спортсмены!B$1:H$65536,2,FALSE)) -> Балашов Михаил | D56: =IF(B56=0," ",VLOOKUP($B56,[1]Спортсмены!$B$1:$H$65536,3,FALSE)) -> 28.05.1997 | E56: =IF(B56=0," ",IF(VLOOKUP($B56,[1]Спортсмены!$B$1:$H$65536,4,FALSE)=0," ",VLOOKUP($B56,[1]Спортсмены!$B$1:$H$65536,4,FALSE))) -> 2р | F56: =IF(B56=0," ",VLOOKUP($B56,[1]Спортсмены!$B$1:$H$65536,5,FALSE)) -> Ярославская область | G56: =IF(B56=0," ",VLOOKUP($B56,[1]Спортсмены!$B$1:$H$65536,6,FALSE)) -> Ярославль, ЯрГУ им. П.Г. Демидова | H56: r|med | K56: 0 | L56: =IF(B56=0," ",VLOOKUP($B56,[1]Спортсмены!$B$1:$H$65536,7,FALSE)) -> Станкевич В.А.
A57: в/к | B57: 114 | C57: =IF(B57=0," ",VLOOKUP(B57,[1]Спортсмены!B$1:H$65536,2,FALSE)) -> Светлов Даниил | D57: =IF(B57=0," ",VLOOKUP($B57,[1]Спортсмены!$B$1:$H$65536,3,FALSE)) -> 19.11.1999 | E57: =IF(B57=0," ",IF(VLOOKUP($B57,[1]Спортсмены!$B$1:$H$65536,4,FALSE)=0," ",VLOOKUP($B57,[1]Спортсмены!$B$1:$H$65536,4,FALSE))) -> КМС | F57: =IF(B57=0," ",VLOOKUP($B57,[1]Спортсмены!$B$1:$H$65536,5,FALSE)) -> Ярославская область | G57: =IF(B57=0," ",VLOOKUP($B57,[1]Спортсмены!$B$1:$H$65536,6,FALSE)) -> Рыбинск, МАУ СШОР № 2 | H57: 0.00026412037 | J57: =IF(H57=0," ",IF(H57<=[1]Разряды!$D$5,[1]Разряды!$D$3,IF(H57<=[1]Разряды!$E$5,[1]Разряды!$E$3,IF(H57<=[1]Разряды!$F$5,[1]Разряды!$F$3,IF(H57<=[1]Разряды!$G$5,[1]Разряды!$G$3,IF(H57<=[1]Разряды!$H$5,[1]Разряды!$H$3,IF(H57<=[1]Разряды!$I$5,[1]Разряды!$I$3,IF(H57<=[1]Разряды!$J$5,[1]Разряды!$J$3,"б/р")))))))) -> 1р | L57: =IF(B57=0," ",VLOOKUP($B57,[1]Спортсмены!$B$1:$H$65536,7,FALSE)) -> Зверев В.Н.
B62: Главный судья, спортивный судья ВК | G62: Хрущев Е.Н., г. Ярославль
...

Sheet 400м
A1: Чемпионат Российского студенческого спортивного союза
A2: мужчины и женщины
L3: 27-28 июня 2019 г.
K4: стадион "Шинник"
L5: г. Ярославль
D6: 27.06.2019г. | E6: 0.81597222 | F6: Финальные забеги | H6: ПРОТОКОЛ СОРЕВНОВАНИЙ
C8: Мужчины | D8: Бег 400 м
A9: Место | B9: Номер | C9: Фамилия, имя | D9: Дата рожд. | E9: Квал. | F9: Команда | G9: ВУЗ | H9: Результат | J9: Вып. разр. | K9: Очки | L9: Ф.И.О. тренера
H10: фин. забеги
A11: 1 | B11: 257 | C11: =IF(B11=0," ",VLOOKUP(B11,[1]Спортсмены!B$1:H$65536,2,FALSE)) -> Арасланов Артем | D11: =IF(B11=0," ",VLOOKUP($B11,[1]Спортсмены!$B$1:$H$65536,3,FALSE)) -> 25.07.1994 | E11: =IF(B11=0," ",IF(VLOOKUP($B11,[1]Спортсмены!$B$1:$H$65536,4,FALSE)=0," ",VLOOKUP($B11,[1]Спортсмены!$B$1:$H$65536,4,FALSE))) -> МС | F11: =IF(B11=0," ",VLOOKUP($B11,[1]Спортсмены!$B$1:$H$65536,5,FALSE)) -> Республика Татарстан | G11: =IF(B11=0," ",VLOOKUP($B11,[1]Спортсмены!$B$1:$H$65536,6,FALSE)) -> Казань, ФГБОУ ВО ПГАФКСиТ, ВятСДЮШОР, ЦСКА | I11: 0.00054502315 | J11: мс | K11: 18+10 | L11: =IF(B11=0," ",VLOOKUP($B11,[1]Спортсмены!$B$1:$H$65536,7,FALSE)) -> Бородовицын С.Н., Сырцев В.В., Вдовин М.В.
A12: 2 | B12: 134 | C12: =IF(B12=0," ",VLOOKUP(B12,[1]Спортсмены!B$1:H$65536,2,FALSE)) -> Нетяго Данил | D12: =IF(B12=0," ",VLOOKUP($B12,[1]Спортсмены!$B$1:$H$65536,3,FALSE)) -> 09.07.2001 | E12: =IF(B12=0," ",IF(VLOOKUP($B12,[1]Спортсмены!$B$1:$H$65536,4,FALSE)=0," ",VLOOKUP($B12,[1]Спортсмены!$B$1:$H$65536,4,FALSE))) -> КМС | F12: =IF(B12=0," ",VLOOKUP($B12,[1]Спортсмены!$B$1:$H$65536,5,FALSE)) -> Сахалинская область | G12: =IF(B12=0," ",VLOOKUP($B12,[1]Спортсмены!$B$1:$H$65536,6,FALSE)) -> СахГУ | I12: 0.00056145833 | J12: =IF(I12=0," ",IF(I12<=[1]Разряды!$D$6,[1]Разряды!$D$3,IF(I12<=[1]Разряды!$E$6,[1]Разряды!$E$3,IF(I12<=[1]Разряды!$F$6,[1]Разряды!$F$3,IF(I12<=[1]Разряды!$G$6,[1]Разряды!$G$3,IF(I12<=[1]Разряды!$H$6,[1]Разряды!$H$3,IF(I12<=[1]Разряды!$I$6,[1]Разряды!$I$3,IF(I12<=[1]Разряды!$J$6,[1]Разряды!$J$3,"б/р")))))))) -> кмс | K12: 15+5 | L12: =IF(B12=0," ",VLOOKUP($B12,[1]Спортсмены!$B$1:$H$65536,7,FALSE)) -> Быкова Т.Ф., Жижикин А.Н.
A13: 3 | B13: 124 | C13: =IF(B13=0," ",VLOOKUP(B13,[1]Спортсмены!B$1:H$65536,2,FALSE)) -> Орлов Константин | D13: =IF(B13=0," ",VLOOKUP($B13,[1]Спортсмены!$B$1:$H$65536,3,FALSE)) -> 01.12.1998 | E13: =IF(B13=0," ",IF(VLOOKUP($B13,[1]Спортсмены!$B$1:$H$65536,4,FALSE)=0," ",VLOOKUP($B13,[1]Спортсмены!$B$1:$H$65536,4,FALSE))) -> КМС | F13: =IF(B13=0," ",VLOOKUP($B13,[1]Спортсмены!$B$1:$H$65536,5,FALSE)) -> Республика Чувашии | G13: =IF(B13=0," ",VLOOKUP($B13,[1]Спортсмены!$B$1:$H$65536,6,FALSE)) -> Чебоксары, ЧГПУ им. И.Я. Яковлева | I13: 0.00056157407 | J13: =IF(I13=0," ",IF(I13<=[1]Разряды!$D$6,[1]Разряды!$D$3,IF(I13<=[1]Разряды!$E$6,[1]Разряды!$E$3,IF(I13<=[1]Разряды!$F$6,[1]Разряды!$F$3,IF(I13<=[1]Разряды!$G$6,[1]Разряды!$G$3,IF(I13<=[1]Разряды!$H$6,[1]Разряды!$H$3,IF(I13<=[1]Разряды!$I$6,[1]Разряды!$I$3,IF(I13<=[1]Разряды!$J$6,[1]Разряды!$J$3,"б/р")))))))) -> кмс | K13: 13+5 | L13: =IF(B13=0," ",VLOOKUP($B13,[1]Спортсмены!$B$1:$H$65536,7,FALSE)) -> Смирнов С.В.
A14: 4 | B14: 320 | C14: =IF(B14=0," ",VLOOKUP(B14,[1]Спортсмены!B$1:H$65536,2,FALSE)) -> Тиряков Максим | D14: =IF(B14=0," ",VLOOKUP($B14,[1]Спортсмены!$B$1:$H$65536,3,FALSE)) -> 12.10.2000 | E14: =IF(B14=0," ",IF(VLOOKUP($B14,[1]Спортсмены!$B$1:$H$65536,4,FALSE)=0," ",VLOOKUP($B14,[1]Спортсмены!$B$1:$H$65536,4,FALSE))) -> КМС | F14: =IF(B14=0," ",VLOOKUP($B14,[1]Спортсмены!$B$1:$H$65536,5,FALSE)) -> Челябинская область | G14: =IF(B14=0," ",VLOOKUP($B14,[1]Спортсмены!$B$1:$H$65536,6,FALSE)) -> Челябинск, УралГУФК | I14: 0.00056238426 | J14: =IF(I14=0," ",IF(I14<=[1]Разряды!$D$6,[1]Разряды!$D$3,IF(I14<=[1]Разряды!$E$6,[1]Разряды!$E$3,IF(I14<=[1]Разряды!$F$6,[1]Разряды!$F$3,IF(I14<=[1]Разряды!$G$6,[1]Разряды!$G$3,IF(I14<=[1]Разряды!$H$6,[1]Разряды!$H$3,IF(I14<=[1]Разряды!$I$6,[1]Разряды!$I$3,IF(I14<=[1]Разряды!$J$6,[1]Разряды!$J$3,"б/р")))))))) -> кмс | K14: 12+5 | L14: =IF(B14=0," ",VLOOKUP($B14,[1]Спортсмены!$B$1:$H$65536,7,FALSE)) -> Митюхов Д.М.
A15: 5 | B15: 115 | C15: =IF(B15=0," ",VLOOKUP(B15,[1]Спортсмены!B$1:H$65536,2,FALSE)) -> Колесник Дмитрий | D15: =IF(B15=0," ",VLOOKUP($B15,[1]Спортсмены!$B$1:$H$65536,3,FALSE)) -> 26.05.1998 | E15: =IF(B15=0," ",IF(VLOOKUP($B15,[1]Спортсмены!$B$1:$H$65536,4,FALSE)=0," ",VLOOKUP($B15,[1]Спортсмены!$B$1:$H$65536,4,FALSE))) -> КМС | F15: =IF(B15=0," ",VLOOKUP($B15,[1]Спортсмены!$B$1:$H$65536,5,FALSE)) -> Ярославская область | G15: =IF(B15=0," ",VLOOKUP($B15,[1]Спортсмены!$B$1:$H$65536,6,FALSE)) -> Ярославль, ЯВВУ ПВО | I15: 0.00056840278 | J15: =IF(I15=0," ",IF(I15<=[1]Разряды!$D$6,[1]Разряды!$D$3,IF(I15<=[1]Разряды!$E$6,[1]Разряды!$E$3,IF(I15<=[1]Разряды!$F$6,[1]Разряды!$F$3,IF(I15<=[1]Разряды!$G$6,[1]Разряды!$G$3,IF(I15<=[1]Разряды!$H$6,[1]Разряды!$H$3,IF(I15<=[1]Разряды!$I$6,[1]Разряды!$I$3,IF(I15<=[1]Разряды!$J$6,[1]Разряды!$J$3,"б/р")))))))) -> кмс | K15: л | L15: =IF(B15=0," ",VLOOKUP($B15,[1]Спортсмены!$B$1:$H$65536,7,FALSE)) -> Таракановы Ю.Ф., А.В., Круговой К.Н.
A16: 6 | B16: 264 | C16: =IF(B16=0," ",VLOOKUP(B16,[1]Спортсмены!B$1:H$65536,2,FALSE)) -> Газизов Альберт | D16: =IF(B16=0," ",VLOOKUP($B16,[1]Спортсмены!$B$1:$H$65536,3,FALSE)) -> 13.04.1998 | E16: =IF(B16=0," ",IF(VLOOKUP($B16,[1]Спортсмены!$B$1:$H$65536,4,FALSE)=0," ",VLOOKUP($B16,[1]Спортсмены!$B$1:$H$65536,4,FALSE))) -> КМС | F16: =IF(B16=0," ",VLOOKUP($B16,[1]Спортсмены!$B$1:$H$65536,5,FALSE)) -> Республика Татарстан | G16: =IF(B16=0," ",VLOOKUP($B16,[1]Спортсмены!$B$1:$H$65536,6,FALSE)) -> Казань, ФГБОУ ВО ПГАФКСиТ | I16: 0.00057280093 | J16: =IF(I16=0," ",IF(I16<=[1]Разряды!$D$6,[1]Разряды!$D$3,IF(I16<=[1]Разряды!$E$6,[1]Разряды!$E$3,IF(I16<=[1]Разряды!$F$6,[1]Разряды!$F$3,IF(I16<=[1]Разряды!$G$6,[1]Разряды!$G$3,IF(I16<=[1]Разряды!$H$6,[1]Разряды!$H$3,IF(I16<=[1]Разряды!$I$6,[1]Разряды!$I$3,IF(I16<=[1]Разряды!$J$6,[1]Разряды!$J$3,"б/р")))))))) -> кмс | K16: 11+5 | L16: =IF(B16=0," ",VLOOKUP($B16,[1]Спортсмены!$B$1:$H$65536,7,FALSE)) -> Мостяков Д.В.
