Workbook
Name CUMM: '110'!#REF!
Name CUMM: '1500'!#REF!
Name CUMM: '200'!#REF!
Name CUMM: '3000СП'!#REF!
Name CUMM: '400'!#REF!
Name CUMM: '400СБ'!#REF!
Name CUMM: '4х100'!#REF!
Name CUMM: '4х400'!#REF!
Name CUMM: '5000'!#REF!
Name CUMM: '800'!#REF!
Name CUMM: '100'!#REF!
Name d_1: '1'!$A$1
Name d_2: '1'!$A$2
Name d_3: '1'!$A$3
Name d_4: '1'!$A$4
Name d_5: '1'!$A$5
Name d_6: '1'!$A$6
Name d_7: '1'!$A$7
Name date_1: '1'!$A$1
Name Name_1: '1'!$A$9
Name Name_2: '1'!$A$10
Name Name_3: '1'!$A$11
Name Name_4: '1'!$A$12
Name Name_5: '1'!$A$12
Name Name_6: '1'!$A$13
Name OLE_LINK1: УЧАСТНИКИ!$D$2
Name Tit_1: '1'!$A$9

Sheet 1
A1: 04.09.2019г.
A2: 05.09.2019г.
A3: 06.09.2019г.
A4: ЖЕНЩИНЫ
A5: г. Сочи, ул. Бзугу 2, ст. им. Славы Метревели
A6: t° +26 вл. 61%
A7: г. Сочи, Адлерский район, ул. Ленина СК "Юность"
A9: МИНИСТЕРСТВО ФИЗИЧЕСКОЙ КУЛЬТУРЫ И СПОРТА РОССИЙСКОЙ ФЕДЕРАЦИИ
A10: ВСЕРОССИЙСКАЯ ФЕДЕРАЦИЯ ЛЕГКОЙ АТЛЕТИКИ
A11: МИНИСТЕРСТВО ФИЗИЧЕСКОЙ КУЛЬТУРЫ И СПОРТА КРАСНОДАРСКОГО КРАЯ
A12: КОМАНДНЫЙ ЧЕМПИОНАТ РОССИИ
A13: ФЕДЕРАЦИЯ ЛЕГКОЙ АТЛЕТИКИ КРАСНОДАРСКОГО КРАЯ
A21: дисквал п.п. 162.7 | C21: фальстарт

Sheet УЧАСТНИКИ
A1: № уч-ка | B1: №№ | C1: ФАМИЛИЯ ИМЯ УЧАСТНИКА | D1: Год.рожд | E1: НАЗВАНИЕ КОМАНДЫ | F1: ВИД | G1: Округ | H1: Разряд | I1: лично | J1: ТРЕНЕР(ы) | K1: ДСО Ведомство
A2: 439 | C2: Пахтусова Дина | D2: 22.11.1991 | E2: Архангельская область | F2: Бег 1500 м | H2: КМС | I2: К | J2: Чернов А.В. | K2: ГАУ АО "СШОР "Поморье"
A3: 439 | C3: Пахтусова Дина | D3: 22.11.1991 | E3: Архангельская область | F3: Бег 800 м | H3: КМС | I3: К | J3: Чернов А.В. | K3: ГАУ АО "СШОР "Поморье"
A4: 283 | C4: Рощупкина Юлия | D4: 19.04.1996 | E4: Белгородская область | F4: Барьерный бег 400 м | H4: МС | I4: К | J4: Горлов А.Н. | K4: Динамо ОГБУ "ЦСП" Белгородской области, МБУ СШОР №3 г.Белгорода
A5: 387 | C5: Шерстобитова Алефтина | D5: 18.02.1999 | E5: Волгоградская область | F5: Бег 100 м | H5: КМС | I5: К | J5: Абалдов А.А., Типаев В.Н. | K5: Динамо ГБУ ВО "СШОР по легкой атлетике"
A6: 386 | C6: Татькова Анна | D6: 22.06.1999 | E6: Волгоградская область | F6: Бег 100 м | H6: КМС | I6: К | J6: Кайдалин В.С. | K6: ГБУ ВО "СШОР по легкой атлетике", ФГБОУ ВО "ВГАФК"
A7: 377 | C7: Жолобова Анастасия | D7: 15.01.1998 | E7: Волгоградская область | F7: Бег 100 м | H7: МС | I7: К | J7: Типаев В.Н., Невежин В.И. | K7: ГБУ ВО "СШОР по легкой атлетике"
A8: 385 | C8: Попова Юлия | D8: 03.05.2001 | E8: Волгоградская область | F8: Бег 1500 м | H8: 1 | I8: К | K8: ВолГАУ, ГБУ ВО "СШОР по легкой атлетике"
A9: 383 | C9: Кученева Юлия | D9: 11.09.1999 | E9: Волгоградская область | F9: Бег 200 м | H9: КМС | I9: К | J9: Арькова Н.В., Невежин В.И., | K9: МБУ СШОР №10, ГАПОУ ВО "УОР имени дважды Героя Советского Союза А.И.Родимцева"
A10: 386 | C10: Татькова Анна | D10: 22.06.1999 | E10: Волгоградская область | F10: Бег 200 м | H10: КМС | I10: К | J10: Кайдалин В.С. | K10: ГБУ ВО "СШОР по легкой атлетике", ФГБОУ ВО "ВГАФК"
A11: 378 | C11: Заварзина Анжелика | D11: 19.07.1998 | E11: Волгоградская область | F11: Бег 400 м | H11: КМС | I11: К | J11: Типаев В.Н., Кайдалин В.С. | K11: ГБУ ВО "СШОР по легкой атлетике"
A12: 385 | C12: Попова Юлия | D12: 03.05.2001 | E12: Волгоградская область | F12: Бег 800 м | H12: 1 | I12: К | K12: ВолГАУ, ГБУ ВО "СШОР по легкой атлетике"
A13: 380 | C13: Коваленко Наталья | D13: 03.07.1999 | E13: Волгоградская область | F13: Метание копья | H13: КМС | I13: К | J13: Нижельская Т.Г., Барахтенко Л.М. | K13: МБУ СШОР №10, ГАПОУ ВО "УОР имени дважды Героя Советского Союза А.И.Родимцева"
A14: 381 | C14: Крайникова (Воронина) Софья | D14: 22.10.1997 | E14: Волгоградская область | F14: Прыжок в высоту | H14: МС | I14: К | J14: Горьков Б.Н., Горьков Б.Б. | K14: ГБУ ВО "СШОР по легкой атлетике"
A15: 387 | C15: Шерстобитова Алефтина | D15: 18.02.1999 | E15: Волгоградская область | F15: Эстафетный бег 4 х 100 м | H15: КМС | I15: К | J15: Абалдов А.А., Типаев В.Н. | K15: Динамо ГБУ ВО "СШОР по легкой атлетике"
A16: 383 | C16: Кученева Юлия | D16: 11.09.1999 | E16: Волгоградская область | F16: Эстафетный бег 4 х 100 м | H16: КМС | I16: К | J16: Арькова Н.В., Невежин В.И., | K16: МБУ СШОР №10, ГАПОУ ВО "УОР имени дважды Героя Советского Союза А.И.Родимцева"
A17: 386 | C17: Татькова Анна | D17: 22.06.1999 | E17: Волгоградская область | F17: Эстафетный бег 4 х 100 м | H17: КМС | I17: К | J17: Кайдалин В.С. | K17: ГБУ ВО "СШОР по легкой атлетике", ФГБОУ ВО "ВГАФК"
A18: 377 | C18: Жолобова Анастасия | D18: 15.01.1998 | E18: Волгоградская область | F18: Эстафетный бег 4 х 100 м | H18: МС | I18: К | J18: Типаев В.Н., Невежин В.И. | K18: ГБУ ВО "СШОР по легкой атлетике"
A19: 387 | C19: Шерстобитова Алефтина | D19: 18.02.1999 | E19: Волгоградская область | F19: Эстафетный бег 4 х 400 м | H19: КМС | I19: К | J19: Абалдов А.А., Типаев В.Н. | K19: Динамо ГБУ ВО "СШОР по легкой атлетике"
A20: 383 | C20: Кученева Юлия | D20: 11.09.1999 | E20: Волгоградская область | F20: Эстафетный бег 4 х 400 м | H20: КМС | I20: К | J20: Арькова Н.В., Невежин В.И., | K20: МБУ СШОР №10, ГАПОУ ВО "УОР имени дважды Героя Советского Союза А.И.Родимцева"
A21: 378 | C21: Заварзина Анжелика | D21: 19.07.1998 | E21: Волгоградская область | F21: Эстафетный бег 4 х 400 м | H21: КМС | I21: К | J21: Типаев В.Н., Кайдалин В.С. | K21: ГБУ ВО "СШОР по легкой атлетике"
A22: 376 | C22: Герасимова Анастасия | D22: 18.03.1998 | E22: Волгоградская область Саратовская область | F22: Бег 400 м | H22: КМС | I22: К | J22: Лупачев А.С. | K22: ГБУ ВО "СШОР по легкой атлетике", ГАПОУ ВО "УОР имени дважды Героя Советского Союза А.И.Родимцева", МКУ "СШОР №6"
A23: 376 | C23: Герасимова Анастасия | D23: 18.03.1998 | E23: Волгоградская область Саратовская область | F23: Эстафетный бег 4 х 400 м | H23: КМС | I23: К | J23: Лупачев А.С. | K23: ГБУ ВО "СШОР по легкой атлетике", ГАПОУ ВО "УОР имени дважды Героя Советского Союза А.И.Родимцева", МКУ "СШОР №6"
A24: 419 | C24: Рытикова Валерия | D24: 13.12.1995 | E24: Воронежская область | F24: Барьерный бег 100 м | H24: КМС | I24: К | J24: Бабкин А.П., Демиденкова Г.А. | K24: ГБУ ВО "СШОР №21"
... A41: 438 | C41: Сычева Анастасия | D41: 28.12.1991 | E41: Калужская область | F41: Бег 800 м | H41: МС | I41: К | J41: Зайцев А.В., Зайцева З.Х. | K41: ГБУ КО "CШОР "Юность"
A42: 184 | C42: Цаплина Валерия | D42: 19.02.1997 | E42: Кировская область Санкт-Петербург | F42: Бег 200 м | H42: КМС | J42: Куликова Е.Ю. | K42: КОГАУ "ВятСШОР", СПб ГБУ ЦОП "ШВСМ по легкой атлетике"
A43: 184 | C43: Цаплина Валерия | D43: 19.02.1997 | E43: Кировская область Санкт-Петербург | F43: Бег 400 м | H43: КМС | J43: Куликова Е.Ю. | K43: КОГАУ "ВятСШОР", СПб ГБУ ЦОП "ШВСМ по легкой атлетике"
A44: 184 | C44: Цаплина Валерия | D44: 19.02.1997 | E44: Кировская область Санкт-Петербург | F44: Эстафетный бег 4 х 400 м | H44: КМС | J44: Куликова Е.Ю. | K44: КОГАУ "ВятСШОР", СПб ГБУ ЦОП "ШВСМ по легкой атлетике"
A45: 87 | C45: Дементьева Татьяна | D45: 08.05.1981 | E45: Краснодарский край | F45: Барьерный бег 100 м | H45: МСМК | I45: Л | J45: Дементьев С.Б. | K45: ГБУ КК "РЦСП по легкой атлетике"
A46: 96 | C46: Колесникова Дарья | D46: 28.07.2002 | E46: Краснодарский край | F46: Барьерный бег 400 м | H46: 1 | I46: Л | J46: Полонников А.В. | K46: МБУ СШОР №1 г.Сочи
A47: 92 | C47: Зелих Виктория | D47: 09.07.1996 | E47: Краснодарский край | F47: Бег 100 м | H47: КМС | I47: К | J47: Гладырь М.Ф. | K47: КГУФКСиТ, ГБУ КК "ЦОП по легкой атлетике"
C48: Кондрашкина Юлия | D48: 10.08.1997 | E48: Краснодарский край | F48: Бег 200 м | H48: МС | I48: Л | J48: Вакарина М.Т., Кудрявцев В.Е. | K48: ГБУ КК "РЦСП по легкой атлетике"
C49: Кондрашкина Юлия | D49: 10.08.1997 | E49: Краснодарский край | F49: Бег 400 м | H49: МС | I49: Л | J49: Вакарина М.Т., Кудрявцев В.Е. | K49: ГБУ КК "РЦСП по легкой атлетике"
A50: 99 | C50: Кривомаз Александра | D50: 26.08.2002 | E50: Краснодарский край | F50: Метание копья | H50: 1 | I50: Л | J50: Абакумова Г.В., Кудрявцева В.А. | K50: ГБУ КК "ЦОП по легкой атлетике"
A51: 103 | C51: Маилова Эмма | D51: 21.02.1997 | E51: Краснодарский край | F51: Метание копья | H51: КМС | I51: К | J51: Синицын А.В. | K51: ГБУ КК "ЦОП по легкой атлетике", ГБУ КК "РЦСП по легкой атлетике"
A52: 124 | C52: Чередниченко Маргарита | D52: 08.08.1997 | E52: Краснодарский край | F52: Метание молота | H52: КМС | I52: К | J52: Синицын А.В., Левин М.А. | K52: ГБУ КК "ЦОП по легкой атлетике"
A53: 98 | C53: Корецкая Снежана | D53: 15.11.1996 | E53: Краснодарский край | F53: Прыжок в высоту | H53: КМС | I53: К | J53: Поддубнова М.П. | K53: ГБУ КК "ЦОП по легкой атлетике"
A54: 91 | C54: Зеликова Жанна | D54: 22.02.1995 | E54: Краснодарский край | F54: Прыжок в длину | H54: МС | I54: К | J54: Пирожков С.В., Фуников В.В. | K54: ГБУ КК "ЦОП по легкой атлетике", ГБУ КК "РЦСП по легкой атлетике"
A55: 106 | C55: Минеева Анна | D55: 22.03.2001 | E55: Краснодарский край | F55: Эстафетный бег 4 х 100 м | H55: 1 | I55: Л | J55: Полонников А.В. | K55: МБУ СШОР №1 г.Сочи
A56: 96 | C56: Колесникова Дарья | D56: 28.07.2002 | E56: Краснодарский край | F56: Эстафетный бег 4 х 100 м | H56: 1 | I56: Л | J56: Полонников А.В. | K56: МБУ СШОР №1 г.Сочи
A57: 116 | C57: Погодина Ольга | D57: 29.07.2004 | E57: Краснодарский край | F57: Эстафетный бег 4 х 100 м | H57: 1 | I57: Л | J57: Полонников А.В. | K57: МБУ СШОР № 1 г. Сочи
A58: 120 | C58: Сидельникова Олеся | D58: 30.04.1999 | E58: Краснодарский край | F58: Эстафетный бег 4 х 100 м | H58: КМС | I58: Л | J58: Полонников А.В. | K58: МБУ СШОР №1 г.Сочи
A59: 105 | C59: Миллер Полина | D59: 09.06.2000 | E59: Краснодарский край Алтайский край | F59: Бег 400 м | H59: МС | I59: К | J59: Клевцова Н.В. | K59: ВС ГБУ КК "РЦСП по легкой атлетике", ГБУ КК "ЦОП по легкой атлетике", МБУ СП СШОР №2
C60: Морозова (Аргунова) Нина | D60: 15.09.1989 | E60: Краснодарский край Брянская область | F60: Барьерный бег 100 м | H60: МСМК | I60: К | J60: Шабанов Г.К., Кивимяги М.В. | K60: ВС ГБУ КК "РЦСП по легкой атлетике", ГБУ БО СШОР "Русь"
C61: Морозова (Аргунова) Нина | D61: 15.09.1989 | E61: Краснодарский край Брянская область | F61: Бег 200 м | H61: МСМК | I61: К | J61: Шабанов Г.К., Кивимяги М.В. | K61: ВС ГБУ КК "РЦСП по легкой атлетике", ГБУ БО СШОР "Русь"
A62: 109 | C62: Мурашова Елена | D62: 05.10.1987 | E62: Краснодарский край Вологодская область | F62: Бег 1500 м | H62: МС | I62: К | J62: Бусырев А.В. | K62: ГБУ КК "РЦСП по легкой атлетике", АУ ФКиС ВО "ЦСП"
A63: 109 | C63: Мурашова Елена | D63: 05.10.1987 | E63: Краснодарский край Вологодская область | F63: Бег 800 м | H63: МС | I63: К | J63: Бусырев А.В. | K63: ГБУ КК "РЦСП по легкой атлетике", АУ ФКиС ВО "ЦСП"
A64: 89 | C64: Думен (Рябенко) Елена | D64: 13.01.1994 | E64: Краснодарский край Карачаево-Черкесская республика | F64: Барьерный бег 100 м | H64: МС | I64: Л | J64: Вяльцева В.Г. | K64: ГБУ КК "РЦСП по легкой атлетике", ГБУ КК "ЦОП по легкой атлетике", РГБУ "ЦСП КЧР"
A65: 89 | C65: Думен (Рябенко) Елена | D65: 13.01.1994 | E65: Краснодарский край Карачаево-Черкесская республика | F65: Барьерный бег 100 м | H65: МС | I65: Л | J65: Вяльцева В.Г. | K65: ГБУ КК "РЦСП по легкой атлетике", ГБУ КК "ЦОП по легкой атлетике", РГБУ "ЦСП КЧР"
A66: 125 | C66: Шатурная Светлана | D66: 15.06.1995 | E66: Краснодарский край Карачаево-Черкесская республика | F66: Барьерный бег 400 м | H66: КМС | I66: К | J66: Вяльцева В.Г. | K66: ГБУ КК "ЦОП по легкой атлетике", РГБУ "ЦСП КЧР"
A67: 89 | C67: Думен (Рябенко) Елена | D67: 13.01.1994 | E67: Краснодарский край Карачаево-Черкесская республика | F67: Бег 100 м | H67: МС | I67: Л | J67: Вяльцева В.Г. | K67: ГБУ КК "РЦСП по легкой атлетике", ГБУ КК "ЦОП по легкой атлетике", РГБУ "ЦСП КЧР"
A68: 89 | C68: Думен (Рябенко) Елена | D68: 13.01.1994 | E68: Краснодарский край Карачаево-Черкесская республика | F68: Бег 200 м | H68: МС | I68: Л | J68: Вяльцева В.Г. | K68: ГБУ КК "РЦСП по легкой атлетике", ГБУ КК "ЦОП по легкой атлетике", РГБУ "ЦСП КЧР"
C69: Мусалева (Сисева) Алена | D69: 08.02.1993 | E69: Краснодарский край Карачаево-Черкесская республика | F69: Бег 400 м | H69: МС | J69: Вяльцева В.Г. | K69: РГБУ "ЦСП КЧР", ГБУ КК "ЦОП по легкой атлетике", ГБУ КК "РЦСП по легкой атлетике"
A70: 125 | C70: Шатурная Светлана | D70: 15.06.1995 | E70: Краснодарский край Карачаево-Черкесская республика | F70: Бег 400 м | H70: КМС | I70: К | J70: Вяльцева В.Г. | K70: ГБУ КК "ЦОП по легкой атлетике", РГБУ "ЦСП КЧР"
A71: 86 | C71: Белякова Алена | D71: 21.12.1998 | E71: Краснодарский край ЮФО (К) | F71: Метание диска | H71: МС | I71: К | J71: Синицын А.В., Беляков Ю.Б. | K71: ГБУ КК"РЦСП по легкой атлетике", ГБУ КК "ЦОП по легкой атлетике", МБУ "СШ Джанкойского района"
A72: 220 | C72: Аристархова Наталья | D72: 31.10.1989 | E72: Красноярский край | F72: Бег с препятствиями 3 000 м | H72: МСМК | I72: К | J72: Комаров А.Н. | K72: КГАУ "РЦСП "Академия летних видов спорта", МАУ "СШОР "Спутник"
A73: 225 | C73: Степанова Екатерина | D73: 24.07.1994 | E73: Красноярский край | F73: Прыжок в высоту | H73: МС | I73: К | J73: Мочалов С.С., Мочалова Е.С. | K73: КГАУ "РЦСП "Академия летних видов спорта", МАУ "СШОР "Спутник"
A74: 133 | C74: Блескина Екатерина | D74: 29.01.1993 | E74: Красноярский край Санкт-Петербург | F74: Барьерный бег 100 м | H74: МС | J74: Климов А.Г., Вашкевич И.Е. | K74: МАУ "СШОР "Спутник", СПб ГБУ ЦОП "ШВСМ по легкой атлетике"
A75: 133 | C75: Блескина Екатерина | D75: 29.01.1993 | E75: Красноярский край Санкт-Петербург | F75: Бег 100 м | H75: МС | J75: Климов А.Г., Вашкевич И.Е. | K75: МАУ "СШОР "Спутник", СПб ГБУ ЦОП "ШВСМ по легкой атлетике"
A76: 133 | C76: Блескина Екатерина | D76: 29.01.1993 | E76: Красноярский край Санкт-Петербург | F76: Эстафетный бег 4 х 100 м | H76: МС | J76: Климов А.Г., Вашкевич И.Е. | K76: МАУ "СШОР "Спутник", СПб ГБУ ЦОП "ШВСМ по легкой атлетике"
A77: 405 | C77: Ефимова Полина | D77: 16.12.2001 | E77: Курганская область | F77: Барьерный бег 100 м | H77: КМС | I77: К | J77: Третьяков В.Г., Павлова Н.С. | K77: ГБУ "СШОР № 1" г.Курган
A78: 407 | C78: Киселева Татьяна | D78: 06.02.1997 | E78: Курганская область | F78: Барьерный бег 100 м | H78: КМС | I78: К | J78: Третьяков В.Г., Павлова Н.С. | K78: ГБУ "СШОР № 1" г.Курган, ФГБОУ ВО "ШГПУ", ГАУ "ЦСП КО"
A79: 404 | C79: Асташева Алиса | D79: 02.06.2002 | E79: Курганская область | F79: Барьерный бег 100 м | H79: 1 | I79: К | J79: Третьяков В.Г., Павлова Н.С., Совертков Е.И. | K79: ГБУ "СШОР № 1" г.Курган
A80: 406 | C80: Зайцева Наталья | D80: 01.11.2001 | E80: Курганская область | F80: Бег 400 м | H80: КМС | I80: К | J80: Павлова Н.С., Третьяков В.Г. | K80: ГБУ "СШОР № 1" г.Курган, ГБПОУ КУОР
A81: 406 | C81: Зайцева Наталья | D81: 01.11.2001 | E81: Курганская область | F81: Эстафетный бег 4 х 100 м | H81: КМС | I81: К | J81: Павлова Н.С., Третьяков В.Г. | K81: ГБУ "СШОР № 1" г.Курган, ГБПОУ КУОР
A82: 405 | C82: Ефимова Полина | D82: 16.12.2001 | E82: Курганская область | F82: Эстафетный бег 4 х 100 м | H82: КМС | I82: К | J82: Третьяков В.Г., Павлова Н.С. | K82: ГБУ "СШОР № 1" г.Курган
A83: 407 | C83: Киселева Татьяна | D83: 06.02.1997 | E83: Курганская область | F83: Эстафетный бег 4 х 100 м | H83: КМС | I83: К | J83: Третьяков В.Г., Павлова Н.С. | K83: ГБУ "СШОР № 1" г.Курган, ФГБОУ ВО "ШГПУ", ГАУ "ЦСП КО"
A84: 404 | C84: Асташева Алиса | D84: 02.06.2002 | E84: Курганская область | F84: Эстафетный бег 4 х 100 м | H84: 1 | I84: К | J84: Третьяков В.Г., Павлова Н.С., Совертков Е.И. | K84: ГБУ "СШОР № 1" г.Курган
A85: 257 | C85: Александрова Дина | D85: 09.08.1992 | E85: Курская область | F85: Бег 1500 м | H85: МС | I85: К | J85: Осипов С.А., Захаров Н.А. | K85: ОБУ ЦСП "ШВСМ", ОБУ СШОР "Урожай"
A86: 257 | C86: Александрова Дина | D86: 09.08.1992 | E86: Курская область | F86: Бег 800 м | H86: МС | I86: К | J86: Осипов С.А., Захаров Н.А. | K86: ОБУ ЦСП "ШВСМ", ОБУ СШОР "Урожай"
A87: 258 | C87: Алтухова Екатерина | D87: 04.08.2000 | E87: Курская область | F87: Бег 200 м | H87: 1 | I87: Л | J87: Шумаков Е.Г., Тихонов А.В., Тихонова М.С. | K87: МБУ "СШОР" г.Железногорск
A88: 258 | C88: Алтухова Екатерина | D88: 04.08.2000 | E88: Курская область | F88: Эстафетный бег 4 х 100 м | H88: 1 | I88: Л | J88: Шумаков Е.Г., Тихонов А.В., Тихонова М.С. | K88: МБУ "СШОР" г.Железногорск
... A92: 262 | C92: Ворфоломеева Дарья | D92: 06.07.2000 | E92: Курская область | F92: Эстафетный бег 4 х 100 м | H92: 1 | I92: Л | J92: Яковлева Е. | K92: ОБУ СШОР "Урожай"
A93: 266 | C93: Котельникова Елена | D93: 03.04.1997 | E93: Курская область | F93: Бег 400 м | H93: КМС | I93: К | K93: ОБУ СШОР "Урожай"
A94: 266 | C94: Котельникова Елена | D94: 03.04.1997 | E94: Курская область | F94: Эстафетный бег 4 х 400 м | H94: КМС | I94: К | K94: ОБУ СШОР "Урожай"
A95: 270 | C95: Манцурова Кристина | D95: 26.08.1999 | E95: Курская область | F95: Эстафетный бег 4 х 100 м | H95: 1 | I95: Л | J95: Яковлева Е.Н. | K95: ОБУ СШОР "Урожай"
A96: 273 | C96: Петрищева Юлия | D96: 02.03.1997 | E96: Курская область | F96: Бег 100 м | H96: КМС | I96: К | J96: Шумаков Е.Г. | K96: МБУ ДО «ДЮСШ №1»
A97: 273 | C97: Петрищева Юлия | D97: 02.03.1997 | E97: Курская область | F97: Эстафетный бег 4 х 100 м | H97: КМС | I97: К | J97: Шумаков Е.Г. | K97: МБУ ДО «ДЮСШ №1»
A98: 274 | C98: Погорелова Дарья | D98: 27.02.2003 | E98: Курская область | F98: Бег 100 м | H98: 1 | I98: Л | J98: Тихонов А.В., Тихонова М.С. | K98: МБУ "СШОР" г.Железногорск
A99: 274 | C99: Погорелова Дарья | D99: 27.02.2003 | E99: Курская область | F99: Эстафетный бег 4 х 100 м | H99: 1 | I99: Л | J99: Тихонов А.В., Тихонова М.С. | K99: МБУ "СШОР" г.Железногорск
A100: 276 | C100: Рыбкина Анастасия | D100: 14.04.1999 | E100: Курская область | F100: Бег 200 м | H100: КМС | I100: К | K100: ОБУ СШОР "Урожай"
A101: 276 | C101: Рыбкина Анастасия | D101: 14.04.1999 | E101: Курская область | F101: Эстафетный бег 4 х 100 м | H101: КМС | I101: К | K101: ОБУ СШОР "Урожай"
A102: 276 | C102: Рыбкина Анастасия | D102: 14.04.1999 | E102: Курская область | F102: Эстафетный бег 4 х 400 м | H102: КМС | I102: К | K102: ОБУ СШОР "Урожай"
A103: 277 | C103: Сенюгина Анастасия | D103: 05.01.2002 | E103: Курская область | F103: Эстафетный бег 4 х 100 м | H103: 1 | I103: Л | J103: Шаева Т.И. | K103: ОБУ СШОР "Урожай"
A104: 278 | C104: Симонова Елизавета | D104: 01.06.2004 | E104: Курская область | F104: Эстафетный бег 4 х 100 м | H104: 1 | I104: Л | J104: Тихонов А.В., Тихонова М.С. | K104: МБУ "СШОР" г.Железногорск
A105: 279 | C105: Тарасова Анна | D105: 06.10.1998 | E105: Курская область | F105: Эстафетный бег 4 х 100 м | H105: 2 | I105: Л | J105: Яковлева Е. | K105: ОБУ СШОР "Урожай"
A106: 280 | C106: Угарова (Халеева) Кристина | D106: 22.10.1987 | E106: Курская область | F106: Бег 1500 м | H106: МСМК | I106: К | J106: Халеев В.В. Куканов Ю.С. | K106: -
A107: 280 | C107: Угарова (Халеева) Кристина | D107: 22.10.1987 | E107: Курская область | F107: Бег 5 000 м | H107: МСМК | I107: К | J107: Халеев В.В. Куканов Ю.С. | K107: -
A108: 282 | C108: Шмыгарёва Екатерина | D108: 04.07.1995 | E108: Курская область | F108: Бег 800 м | H108: КМС | I108: К | J108: Тихонов А.В., Тихонова М.С. | K108: ОБУ ЦСП "ШВСМ", МБУ "СШОР" г.Железногорск
A109: 282 | C109: Шмыгарёва Екатерина | D109: 04.07.1995 | E109: Курская область | F109: Эстафетный бег 4 х 400 м | H109: КМС | I109: К | J109: Тихонов А.В., Тихонова М.С. | K109: ОБУ ЦСП "ШВСМ", МБУ "СШОР" г.Железногорск
A110: 170 | C110: Пичугина София | D110: 07.01.2000 | E110: Ленинградская область Санкт-Петербург | F110: Метание молота | H110: КМС | I110: К | J110: Волкова Е.В., Волков А.В. | K110: МБУ "СШОР "Фаворит" г.Выборг, ГБУ СШОР по легкой атлетике №1 Невского района
A111: 145 | C111: Ермаченкова Татьяна | D111: 09.09.1998 | E111: Ленинградская область Санкт-Петербург | F111: Прыжок в высоту | H111: МС | I111: К | J111: Баканов О.Д., Семенов В.О. | K111: МБОУДО "Гатчинская ДЮСШ № 1", ЦСП ЛО "Ижора", ГБУ СШОР "Академия легкой атлетики Санкт-Петербурга"
A112: 242 | C112: Личман Ирина | D112: 02.12.2000 | E112: Липецкая область | F112: Эстафетный бег 4 х 100 м | H112: КМС | I112: К | J112: Рощупкина Н.В., Филатова Л.А. | K112: Динамо МБУ "СШОР №5"
A113: 239 | C113: Зубакова Анастасия | D113: 04.09.2002 | E113: Липецкая область | F113: Эстафетный бег 4 х 100 м | H113: КМС | I113: К | J113: Шевякин Ф.А. | K113: МБУ "СШОР №5"
A114: 245 | C114: Провоторова Софья | D114: 19.11.2002 | E114: Липецкая область | F114: Эстафетный бег 4 х 100 м | H114: КМС | I114: К | J114: Шевякин Ф.А. | K114: МБУ "СШОР №5"
A115: 241 | C115: Королёва (Полтавец) Кристина | D115: 06.11.1990 | E115: Липецкая область Кемеровская область | F115: Прыжок в высоту | H115: МСМК | I115: К | J115: Королев М.И., Канашевич А.М., Стегачёв И.Н. | K115: ГБУ ЛО ЦСП, ГБФСУ КО "СШОР по легкой атлетике им. В.А.Савенкова"
C116: Чекан Полина | D116: 17.11.1999 | E116: Москва | F116: Барьерный бег 100 м | H116: КМС | I116: Л | J116: Шабанов Г.К.
A117: 42 | C117: Сивкова Кристина | D117: 28.02.1997 | E117: Москва | F117: Бег 100 м | H117: МСМК | I117: Л | J117: Васяткин В.П., Васяткин А.В., | K117: ВС ГБУ "ЦОП по легкой атлетике" Москомспорта
A118: 51 | C118: Щагина Анна | D118: 07.12.1991 | E118: Москва | F118: Бег 1500 м | H118: МСМК | I118: Л | J118: Божко В.А. | K118: ВС ГБУ "ЦОП по легкой атлетике" Москомспорта, ГБУ "СШОР №44" Москомспорта
A119: 51 | C119: Щагина Анна | D119: 07.12.1991 | E119: Москва | F119: Бег 800 м | H119: МСМК | I119: Л | J119: Божко В.А. | K119: ВС ГБУ "ЦОП по легкой атлетике" Москомспорта, ГБУ "СШОР №44" Москомспорта
...

Sheet 100
A1: =Name_2 -> ВСЕРОССИЙСКАЯ ФЕДЕРАЦИЯ ЛЕГКОЙ АТЛЕТИКИ
A2: СТАРТОВЫЙ ПРОТОКОЛ
A3: =Name_4 -> КОМАНДНЫЙ ЧЕМПИОНАТ РОССИИ
E4: ЗАБЕГИ
A5: =d_4 -> ЖЕНЩИНЫ | C5: РМ | D5: 10,49 | G5: =d_1 -> 04.09.2019г. | H5: начало: | I5: 17:15
A6: Бег 100 м | C6: РЕ | D6: 10,73 | H6: окончание:
C7: РР | D7: 10,77 | J7: =d_5 -> г. Сочи, ул. Бзугу 2, ст. им. Славы Метревели
A8: № п/п | B8: Фамилия, имя участника | C8: Дата рождения | D8: Территория | E8: Заявленный разряд | F8: Номер участника | G8: Приход | H8: Результат | I8: Место | J8: Примеч.
B9: 1 ЗАБЕГ
A10: 1
A11: 2 | B11: =VLOOKUP($F11,УЧАСТНИКИ!$A$2:$L$1105,3,FALSE) -> Титаева Кристина | C11: =VLOOKUP($F11,УЧАСТНИКИ!$A$2:$L$1105,4,FALSE) -> 22.01.2001 | D11: =VLOOKUP($F11,УЧАСТНИКИ!$A$2:$L$1105,5,FALSE) -> Сахалинская область | E11: =VLOOKUP($F11,УЧАСТНИКИ!$A$2:$L$1105,8,FALSE) -> КМС | F11: 356 | J11: Л
A12: 3 | B12: =VLOOKUP($F12,УЧАСТНИКИ!$A$2:$L$1105,3,FALSE) -> Зелих Виктория | C12: =VLOOKUP($F12,УЧАСТНИКИ!$A$2:$L$1105,4,FALSE) -> 09.07.1996 | D12: =VLOOKUP($F12,УЧАСТНИКИ!$A$2:$L$1105,5,FALSE) -> Краснодарский край | E12: =VLOOKUP($F12,УЧАСТНИКИ!$A$2:$L$1105,8,FALSE) -> КМС | F12: 92
A13: 4 | B13: =VLOOKUP($F13,УЧАСТНИКИ!$A$2:$L$1105,3,FALSE) -> Жолобова Анастасия | C13: =VLOOKUP($F13,УЧАСТНИКИ!$A$2:$L$1105,4,FALSE) -> 15.01.1998 | D13: =VLOOKUP($F13,УЧАСТНИКИ!$A$2:$L$1105,5,FALSE) -> Волгоградская область | E13: =VLOOKUP($F13,УЧАСТНИКИ!$A$2:$L$1105,8,FALSE) -> МС | F13: 377
A14: 5 | B14: =VLOOKUP($F14,УЧАСТНИКИ!$A$2:$L$1105,3,FALSE) -> Сивкова Кристина | C14: =VLOOKUP($F14,УЧАСТНИКИ!$A$2:$L$1105,4,FALSE) -> 28.02.1997 | D14: =VLOOKUP($F14,УЧАСТНИКИ!$A$2:$L$1105,5,FALSE) -> Москва | E14: =VLOOKUP($F14,УЧАСТНИКИ!$A$2:$L$1105,8,FALSE) -> МСМК | F14: 42 | J14: =VLOOKUP($F14,УЧАСТНИКИ!$A$2:$L$1105,9,FALSE) -> Л
A15: 6 | B15: =VLOOKUP($F15,УЧАСТНИКИ!$A$2:$L$1105,3,FALSE) -> Сластникова Тамара | C15: =VLOOKUP($F15,УЧАСТНИКИ!$A$2:$L$1105,4,FALSE) -> 21.05.1993 | D15: =VLOOKUP($F15,УЧАСТНИКИ!$A$2:$L$1105,5,FALSE) -> Новосибирская область | E15: =VLOOKUP($F15,УЧАСТНИКИ!$A$2:$L$1105,8,FALSE) -> МС | F15: 232
A16: 7 | B16: =VLOOKUP($F16,УЧАСТНИКИ!$A$2:$L$1105,3,FALSE) -> Глебова Карина | C16: =VLOOKUP($F16,УЧАСТНИКИ!$A$2:$L$1105,4,FALSE) -> 23.01.1996 | D16: =VLOOKUP($F16,УЧАСТНИКИ!$A$2:$L$1105,5,FALSE) -> Сахалинская область | E16: =VLOOKUP($F16,УЧАСТНИКИ!$A$2:$L$1105,8,FALSE) -> МС | F16: 355
A17: 8
B18: 2 ЗАБЕГ
A19: 1
A20: 2 | B20: =VLOOKUP($F20,УЧАСТНИКИ!$A$2:$L$1105,3,FALSE) -> Сухобокова Анастасия | C20: =VLOOKUP($F20,УЧАСТНИКИ!$A$2:$L$1105,4,FALSE) -> 04.12.1997 | D20: =VLOOKUP($F20,УЧАСТНИКИ!$A$2:$L$1105,5,FALSE) -> Сахалинская область | E20: =VLOOKUP($F20,УЧАСТНИКИ!$A$2:$L$1105,8,FALSE) -> 1 | F20: 357 | J20: Л
A21: 3 | B21: =VLOOKUP($F21,УЧАСТНИКИ!$A$2:$L$1105,3,FALSE) -> Думен (Рябенко) Елена | C21: =VLOOKUP($F21,УЧАСТНИКИ!$A$2:$L$1105,4,FALSE) -> 13.01.1994 | D21: =VLOOKUP($F21,УЧАСТНИКИ!$A$2:$L$1105,5,FALSE) -> Краснодарский край Карачаево-Черкесская республика | E21: =VLOOKUP($F21,УЧАСТНИКИ!$A$2:$L$1105,8,FALSE) -> МС | F21: 89
A22: 4 | B22: =VLOOKUP($F22,УЧАСТНИКИ!$A$2:$L$1105,3,FALSE) -> Татькова Анна | C22: =VLOOKUP($F22,УЧАСТНИКИ!$A$2:$L$1105,4,FALSE) -> 22.06.1999 | D22: =VLOOKUP($F22,УЧАСТНИКИ!$A$2:$L$1105,5,FALSE) -> Волгоградская область | E22: =VLOOKUP($F22,УЧАСТНИКИ!$A$2:$L$1105,8,FALSE) -> КМС | F22: 386 | J22: Л
A23: 5 | B23: =VLOOKUP($F23,УЧАСТНИКИ!$A$2:$L$1105,3,FALSE) -> Соколова (Полищук) Анастасия | C23: =VLOOKUP($F23,УЧАСТНИКИ!$A$2:$L$1105,4,FALSE) -> 20.05.1994 | D23: =VLOOKUP($F23,УЧАСТНИКИ!$A$2:$L$1105,5,FALSE) -> Свердловская область Челябинская область | E23: =VLOOKUP($F23,УЧАСТНИКИ!$A$2:$L$1105,8,FALSE) -> МС | F23: 201
A24: 6 | B24: =VLOOKUP($F24,УЧАСТНИКИ!$A$2:$L$1105,3,FALSE) -> Григорьева Анастасия | C24: =VLOOKUP($F24,УЧАСТНИКИ!$A$2:$L$1105,4,FALSE) -> 07.11.1993 | D24: =VLOOKUP($F24,УЧАСТНИКИ!$A$2:$L$1105,5,FALSE) -> Санкт-Петербург | E24: =VLOOKUP($F24,УЧАСТНИКИ!$A$2:$L$1105,8,FALSE) -> МС | F24: 141
A25: 7 | B25: =VLOOKUP($F25,УЧАСТНИКИ!$A$2:$L$1105,3,FALSE) -> Погорелова Дарья | C25: =VLOOKUP($F25,УЧАСТНИКИ!$A$2:$L$1105,4,FALSE) -> 27.02.2003 | D25: =VLOOKUP($F25,УЧАСТНИКИ!$A$2:$L$1105,5,FALSE) -> Курская область | E25: =VLOOKUP($F25,УЧАСТНИКИ!$A$2:$L$1105,8,FALSE) -> 1 | F25: 274
A26: 8 | B26: =VLOOKUP($F26,УЧАСТНИКИ!$A$2:$L$1105,3,FALSE) -> Григорьева Ольга | C26: =VLOOKUP($F26,УЧАСТНИКИ!$A$2:$L$1105,4,FALSE) -> 11.12.1992 | D26: =VLOOKUP($F26,УЧАСТНИКИ!$A$2:$L$1105,5,FALSE) -> Новгородская область | E26: =VLOOKUP($F26,УЧАСТНИКИ!$A$2:$L$1105,8,FALSE) -> КМС | F26: 353
B27: 3 ЗАБЕГ
A28: 1
A29: 2 | B29: =VLOOKUP($F29,УЧАСТНИКИ!$A$2:$L$1105,3,FALSE) -> Стародубова Виолетта | C29: =VLOOKUP($F29,УЧАСТНИКИ!$A$2:$L$1105,4,FALSE) -> 15.12.1999 | D29: =VLOOKUP($F29,УЧАСТНИКИ!$A$2:$L$1105,5,FALSE) -> Воронежская область | E29: =VLOOKUP($F29,УЧАСТНИКИ!$A$2:$L$1105,8,FALSE) -> КМС | F29: 421
A30: 3 | B30: =VLOOKUP($F30,УЧАСТНИКИ!$A$2:$L$1105,3,FALSE) -> Хорошева Кристина | C30: =VLOOKUP($F30,УЧАСТНИКИ!$A$2:$L$1105,4,FALSE) -> 05.04.1993 | D30: =VLOOKUP($F30,УЧАСТНИКИ!$A$2:$L$1105,5,FALSE) -> Пензенская область Тульская область | E30: =VLOOKUP($F30,УЧАСТНИКИ!$A$2:$L$1105,8,FALSE) -> МС | F30: 408
A31: 4 | B31: =VLOOKUP($F31,УЧАСТНИКИ!$A$2:$L$1105,3,FALSE) -> Кукушкина Анна | C31: =VLOOKUP($F31,УЧАСТНИКИ!$A$2:$L$1105,4,FALSE) -> 13.12.1992 | D31: =VLOOKUP($F31,УЧАСТНИКИ!$A$2:$L$1105,5,FALSE) -> Московская область Ямало-Ненецкий автономный округ | E31: =VLOOKUP($F31,УЧАСТНИКИ!$A$2:$L$1105,8,FALSE) -> МС | F31: 64
A32: 5 | B32: =VLOOKUP($F32,УЧАСТНИКИ!$A$2:$L$1105,3,FALSE) -> Черняева (Козлова) Елена | C32: =VLOOKUP($F32,УЧАСТНИКИ!$A$2:$L$1105,4,FALSE) -> 19.09.1988 | D32: =VLOOKUP($F32,УЧАСТНИКИ!$A$2:$L$1105,5,FALSE) -> Санкт-Петербург Вологодская область | E32: =VLOOKUP($F32,УЧАСТНИКИ!$A$2:$L$1105,8,FALSE) -> МС | F32: 187
A33: 6 | B33: =VLOOKUP($F33,УЧАСТНИКИ!$A$2:$L$1105,3,FALSE) -> Шерстобитова Алефтина | C33: =VLOOKUP($F33,УЧАСТНИКИ!$A$2:$L$1105,4,FALSE) -> 18.02.1999 | D33: =VLOOKUP($F33,УЧАСТНИКИ!$A$2:$L$1105,5,FALSE) -> Волгоградская область | E33: =VLOOKUP($F33,УЧАСТНИКИ!$A$2:$L$1105,8,FALSE) -> КМС | F33: 387 | J33: Л
A34: 7 | B34: =VLOOKUP($F34,УЧАСТНИКИ!$A$2:$L$1105,3,FALSE) -> Блескина Екатерина | C34: =VLOOKUP($F34,УЧАСТНИКИ!$A$2:$L$1105,4,FALSE) -> 29.01.1993 | D34: =VLOOKUP($F34,УЧАСТНИКИ!$A$2:$L$1105,5,FALSE) -> Красноярский край Санкт-Петербург | E34: =VLOOKUP($F34,УЧАСТНИКИ!$A$2:$L$1105,8,FALSE) -> МС | F34: 133 | J34: Л
A35: 8
A39: Рефери по бегу: | D39: Айнетдинов Г., ССВК, Москва
A40: Ст.судья: | D40: Лобойко Н., ССВК, Ставрополь
A41: Секретарь: | D41: Орлянская С., СС1К, Краснодар

Sheet 100ф
A1: =Name_2 -> ВСЕРОССИЙСКАЯ ФЕДЕРАЦИЯ ЛЕГКОЙ АТЛЕТИКИ
A2: СТАРТОВЫЙ ПРОТОКОЛ
A3: =Name_4 -> КОМАНДНЫЙ ЧЕМПИОНАТ РОССИИ
E4: ФИНАЛ
A5: =d_4 -> ЖЕНЩИНЫ | C5: РМ | D5: 10,49 | G5: =d_1 -> 04.09.2019г. | I5: начало: | J5: 18:50
A6: Бег 100 м | C6: РЕ | D6: 10,73 | I6: окончание:
C7: РР | D7: 10,77 | K7: =d_5 -> г. Сочи, ул. Бзугу 2, ст. им. Славы Метревели
A8: № п/п | B8: Фамилия, имя участника | C8: Дата рождения | D8: Территория | E8: Заявленный разряд | F8: Номер участника | G8: рез-тат забега | H8: приход | I8: Результат | J8: Место | K8: Примеч.
A10: 1 | B10: =VLOOKUP($F10,УЧАСТНИКИ!$A$2:$L$1105,3,FALSE) -> Блескина Екатерина | C10: =VLOOKUP($F10,УЧАСТНИКИ!$A$2:$L$1105,4,FALSE) -> 29.01.1993 | D10: =VLOOKUP($F10,УЧАСТНИКИ!$A$2:$L$1105,5,FALSE) -> Красноярский край Санкт-Петербург | E10: =VLOOKUP($F10,УЧАСТНИКИ!$A$2:$L$1105,8,FALSE) -> МС | F10: 133 | G10: 12,13 | K10: Л
A11: 2 | B11: =VLOOKUP($F11,УЧАСТНИКИ!$A$2:$L$1105,3,FALSE) -> Сластникова Тамара | C11: =VLOOKUP($F11,УЧАСТНИКИ!$A$2:$L$1105,4,FALSE) -> 21.05.1993 | D11: =VLOOKUP($F11,УЧАСТНИКИ!$A$2:$L$1105,5,FALSE) -> Новосибирская область | E11: =VLOOKUP($F11,УЧАСТНИКИ!$A$2:$L$1105,8,FALSE) -> МС | F11: 232 | G11: 11,95
A12: 3 | B12: =VLOOKUP($F12,УЧАСТНИКИ!$A$2:$L$1105,3,FALSE) -> Зелих Виктория | C12: =VLOOKUP($F12,УЧАСТНИКИ!$A$2:$L$1105,4,FALSE) -> 09.07.1996 | D12: =VLOOKUP($F12,УЧАСТНИКИ!$A$2:$L$1105,5,FALSE) -> Краснодарский край | E12: =VLOOKUP($F12,УЧАСТНИКИ!$A$2:$L$1105,8,FALSE) -> КМС | F12: 92 | G12: 11,87
A13: 4 | B13: =VLOOKUP($F13,УЧАСТНИКИ!$A$2:$L$1105,3,FALSE) -> Сивкова Кристина | C13: =VLOOKUP($F13,УЧАСТНИКИ!$A$2:$L$1105,4,FALSE) -> 28.02.1997 | D13: =VLOOKUP($F13,УЧАСТНИКИ!$A$2:$L$1105,5,FALSE) -> Москва | E13: =VLOOKUP($F13,УЧАСТНИКИ!$A$2:$L$1105,8,FALSE) -> МСМК | F13: 42 | G13: 11,24 | K13: Л
A14: 5 | B14: =VLOOKUP($F14,УЧАСТНИКИ!$A$2:$L$1105,3,FALSE) -> Григорьева Анастасия | C14: =VLOOKUP($F14,УЧАСТНИКИ!$A$2:$L$1105,4,FALSE) -> 07.11.1993 | D14: =VLOOKUP($F14,УЧАСТНИКИ!$A$2:$L$1105,5,FALSE) -> Санкт-Петербург | E14: =VLOOKUP($F14,УЧАСТНИКИ!$A$2:$L$1105,8,FALSE) -> МС | F14: 141 | G14: 11,74
A15: 6 | B15: =VLOOKUP($F15,УЧАСТНИКИ!$A$2:$L$1105,3,FALSE) -> Черняева (Козлова) Елена | C15: =VLOOKUP($F15,УЧАСТНИКИ!$A$2:$L$1105,4,FALSE) -> 19.09.1988 | D15: =VLOOKUP($F15,УЧАСТНИКИ!$A$2:$L$1105,5,FALSE) -> Санкт-Петербург Вологодская область | E15: =VLOOKUP($F15,УЧАСТНИКИ!$A$2:$L$1105,8,FALSE) -> МС | F15: 187 | G15: 11,81
A16: 7 | B16: =VLOOKUP($F16,УЧАСТНИКИ!$A$2:$L$1105,3,FALSE) -> Соколова (Полищук) Анастасия | C16: =VLOOKUP($F16,УЧАСТНИКИ!$A$2:$L$1105,4,FALSE) -> 20.05.1994 | D16: =VLOOKUP($F16,УЧАСТНИКИ!$A$2:$L$1105,5,FALSE) -> Свердловская область Челябинская область | E16: =VLOOKUP($F16,УЧАСТНИКИ!$A$2:$L$1105,8,FALSE) -> МС | F16: 201 | G16: 11,92
A17: 8 | B17: =VLOOKUP($F17,УЧАСТНИКИ!$A$2:$L$1105,3,FALSE) -> Хорошева Кристина | C17: =VLOOKUP($F17,УЧАСТНИКИ!$A$2:$L$1105,4,FALSE) -> 05.04.1993 | D17: =VLOOKUP($F17,УЧАСТНИКИ!$A$2:$L$1105,5,FALSE) -> Пензенская область Тульская область | E17: =VLOOKUP($F17,УЧАСТНИКИ!$A$2:$L$1105,8,FALSE) -> МС | F17: 408 | G17: 11,85
A20: Рефери по бегу: | D20: Айнетдинов Г., ССВК, Москва
A21: Ст.судья: | D21: Лобойко Н., ССВК, Ставрополь
A22: Секретарь: | D22: Орлянская С., СС1К, Краснодар

Sheet 200
A1: =Name_2 -> ВСЕРОССИЙСКАЯ ФЕДЕРАЦИЯ ЛЕГКОЙ АТЛЕТИКИ
A2: СТАРТОВЫЙ ПРОТОКОЛ
A3: =Name_4 -> КОМАНДНЫЙ ЧЕМПИОНАТ РОССИИ
E4: ЗАБЕГИ
A5: =d_4 -> ЖЕНЩИНЫ | C5: РМ | D5: 21,34 | G5: =d_2 -> 05.09.2019г. | H5: начало: | I5: 16:05
A6: Бег 200 м | C6: РЕ | D6: 21,63 | H6: окончание:
C7: РР | D7: 21,87 | J7: =d_5 -> г. Сочи, ул. Бзугу 2, ст. им. Славы Метревели
A8: № п/п | B8: Фамилия, имя участника | C8: Дата рождения | D8: Территория | E8: Заявленный разряд | F8: Номер участника | G8: Приход | H8: Результат | I8: Место | J8: Примеч.
B9: 1 ЗАБЕГ
A10: 1 | B10: =VLOOKUP($F10,УЧАСТНИКИ!$A$2:$L$1105,3,FALSE) -> Баулина Ирина | C10: =VLOOKUP($F10,УЧАСТНИКИ!$A$2:$L$1105,4,FALSE) -> 04.01.1999 | D10: =VLOOKUP($F10,УЧАСТНИКИ!$A$2:$L$1105,5,FALSE) -> Воронежская область | E10: =VLOOKUP($F10,УЧАСТНИКИ!$A$2:$L$1105,8,FALSE) -> МС | F10: 226
A11: 2 | B11: =VLOOKUP($F11,УЧАСТНИКИ!$A$2:$L$1105,3,FALSE) -> Асоева Манижа | C11: =VLOOKUP($F11,УЧАСТНИКИ!$A$2:$L$1105,4,FALSE) -> 28.05.2001 | D11: =VLOOKUP($F11,УЧАСТНИКИ!$A$2:$L$1105,5,FALSE) -> Санкт-Петербург Тверская область | E11: =VLOOKUP($F11,УЧАСТНИКИ!$A$2:$L$1105,8,FALSE) -> КМС | F11: 129 | J11: Л
A12: 3 | B12: =VLOOKUP($F12,УЧАСТНИКИ!$A$2:$L$1105,3,FALSE) -> Цаплина Валерия | C12: =VLOOKUP($F12,УЧАСТНИКИ!$A$2:$L$1105,4,FALSE) -> 19.02.1997 | D12: =VLOOKUP($F12,УЧАСТНИКИ!$A$2:$L$1105,5,FALSE) -> Кировская область Санкт-Петербург | E12: =VLOOKUP($F12,УЧАСТНИКИ!$A$2:$L$1105,8,FALSE) -> КМС | F12: 184
A13: 4 | B13: =VLOOKUP($F13,УЧАСТНИКИ!$A$2:$L$1105,3,FALSE) -> Стародубова Виолетта | C13: =VLOOKUP($F13,УЧАСТНИКИ!$A$2:$L$1105,4,FALSE) -> 15.12.1999 | D13: =VLOOKUP($F13,УЧАСТНИКИ!$A$2:$L$1105,5,FALSE) -> Воронежская область | E13: =VLOOKUP($F13,УЧАСТНИКИ!$A$2:$L$1105,8,FALSE) -> КМС | F13: 421 | J13: Л
A14: 5 | B14: =VLOOKUP($F14,УЧАСТНИКИ!$A$2:$L$1105,3,FALSE) -> Алымова Вера | C14: =VLOOKUP($F14,УЧАСТНИКИ!$A$2:$L$1105,4,FALSE) -> 24.11.1995 | D14: =VLOOKUP($F14,УЧАСТНИКИ!$A$2:$L$1105,5,FALSE) -> Санкт-Петербург Брянская область | E14: =VLOOKUP($F14,УЧАСТНИКИ!$A$2:$L$1105,8,FALSE) -> МС | F14: 128
A15: 6 | B15: =VLOOKUP($F15,УЧАСТНИКИ!$A$2:$L$1105,3,FALSE) -> Соколова (Полищук) Анастасия | C15: =VLOOKUP($F15,УЧАСТНИКИ!$A$2:$L$1105,4,FALSE) -> 20.05.1994 | D15: =VLOOKUP($F15,УЧАСТНИКИ!$A$2:$L$1105,5,FALSE) -> Свердловская область Челябинская область | E15: =VLOOKUP($F15,УЧАСТНИКИ!$A$2:$L$1105,8,FALSE) -> МС | F15: 201
A16: 7 | B16: =VLOOKUP($F16,УЧАСТНИКИ!$A$2:$L$1105,3,FALSE) -> Копрова Екатерина | C16: =VLOOKUP($F16,УЧАСТНИКИ!$A$2:$L$1105,4,FALSE) -> 07.02.1999 | D16: =VLOOKUP($F16,УЧАСТНИКИ!$A$2:$L$1105,5,FALSE) -> Санкт-Петербург | E16: =VLOOKUP($F16,УЧАСТНИКИ!$A$2:$L$1105,8,FALSE) -> КМС | F16: 152 | J16: Л
A17: 8 | B17: =VLOOKUP($F17,УЧАСТНИКИ!$A$2:$L$1105,3,FALSE) -> Бондаренко Анна | C17: =VLOOKUP($F17,УЧАСТНИКИ!$A$2:$L$1105,4,FALSE) -> 24.07.2001 | D17: =VLOOKUP($F17,УЧАСТНИКИ!$A$2:$L$1105,5,FALSE) -> Томская область | E17: =VLOOKUP($F17,УЧАСТНИКИ!$A$2:$L$1105,8,FALSE) -> 1 | F17: 366
B18: 2 ЗАБЕГ
A19: 1
A20: 2 | B20: =VLOOKUP($F20,УЧАСТНИКИ!$A$2:$L$1105,3,FALSE) -> Григорьева Ольга | C20: =VLOOKUP($F20,УЧАСТНИКИ!$A$2:$L$1105,4,FALSE) -> 11.12.1992 | D20: =VLOOKUP($F20,УЧАСТНИКИ!$A$2:$L$1105,5,FALSE) -> Новгородская область | E20: =VLOOKUP($F20,УЧАСТНИКИ!$A$2:$L$1105,8,FALSE) -> КМС | F20: 353
A21: 3 | B21: =VLOOKUP($F21,УЧАСТНИКИ!$A$2:$L$1105,3,FALSE) -> Татькова Анна | C21: =VLOOKUP($F21,УЧАСТНИКИ!$A$2:$L$1105,4,FALSE) -> 22.06.1999 | D21: =VLOOKUP($F21,УЧАСТНИКИ!$A$2:$L$1105,5,FALSE) -> Волгоградская область | E21: =VLOOKUP($F21,УЧАСТНИКИ!$A$2:$L$1105,8,FALSE) -> КМС | F21: 386
A22: 4 | B22: =VLOOKUP($F22,УЧАСТНИКИ!$A$2:$L$1105,3,FALSE) -> Глебова Карина | C22: =VLOOKUP($F22,УЧАСТНИКИ!$A$2:$L$1105,4,FALSE) -> 23.01.1996 | D22: =VLOOKUP($F22,УЧАСТНИКИ!$A$2:$L$1105,5,FALSE) -> Сахалинская область | E22: =VLOOKUP($F22,УЧАСТНИКИ!$A$2:$L$1105,8,FALSE) -> МС | F22: 355
A23: 5 | B23: =VLOOKUP($F23,УЧАСТНИКИ!$A$2:$L$1105,3,FALSE) -> Хорошева Кристина | C23: =VLOOKUP($F23,УЧАСТНИКИ!$A$2:$L$1105,4,FALSE) -> 05.04.1993 | D23: =VLOOKUP($F23,УЧАСТНИКИ!$A$2:$L$1105,5,FALSE) -> Пензенская область Тульская область | E23: =VLOOKUP($F23,УЧАСТНИКИ!$A$2:$L$1105,8,FALSE) -> МС | F23: 408
A24: 6 | B24: =VLOOKUP($F24,УЧАСТНИКИ!$A$2:$L$1105,3,FALSE) -> Сластникова Тамара | C24: =VLOOKUP($F24,УЧАСТНИКИ!$A$2:$L$1105,4,FALSE) -> 21.05.1993 | D24: =VLOOKUP($F24,УЧАСТНИКИ!$A$2:$L$1105,5,FALSE) -> Новосибирская область | E24: =VLOOKUP($F24,УЧАСТНИКИ!$A$2:$L$1105,8,FALSE) -> МС | F24: 232 | J24: Л
A25: 7 | B25: =VLOOKUP($F25,УЧАСТНИКИ!$A$2:$L$1105,3,FALSE) -> Рыбкина Анастасия | C25: =VLOOKUP($F25,УЧАСТНИКИ!$A$2:$L$1105,4,FALSE) -> 14.04.1999 | D25: =VLOOKUP($F25,УЧАСТНИКИ!$A$2:$L$1105,5,FALSE) -> Курская область | E25: =VLOOKUP($F25,УЧАСТНИКИ!$A$2:$L$1105,8,FALSE) -> КМС | F25: 276 | J25: Л
A26: 8 | B26: =VLOOKUP($F26,УЧАСТНИКИ!$A$2:$L$1105,3,FALSE) -> Кученева Юлия | C26: =VLOOKUP($F26,УЧАСТНИКИ!$A$2:$L$1105,4,FALSE) -> 11.09.1999 | D26: =VLOOKUP($F26,УЧАСТНИКИ!$A$2:$L$1105,5,FALSE) -> Волгоградская область | E26: =VLOOKUP($F26,УЧАСТНИКИ!$A$2:$L$1105,8,FALSE) -> КМС | F26: 383 | J26: Л
B27: 3 ЗАБЕГ
A28: 1
A29: 2 | B29: =VLOOKUP($F29,УЧАСТНИКИ!$A$2:$L$1105,3,FALSE) -> Алтухова Екатерина | C29: =VLOOKUP($F29,УЧАСТНИКИ!$A$2:$L$1105,4,FALSE) -> 04.08.2000 | D29: =VLOOKUP($F29,УЧАСТНИКИ!$A$2:$L$1105,5,FALSE) -> Курская область | E29: =VLOOKUP($F29,УЧАСТНИКИ!$A$2:$L$1105,8,FALSE) -> 1 | F29: 258
A30: 3 | B30: =VLOOKUP($F30,УЧАСТНИКИ!$A$2:$L$1105,3,FALSE) -> Палиенко Ольга | C30: =VLOOKUP($F30,УЧАСТНИКИ!$A$2:$L$1105,4,FALSE) -> 21.11.1995 | D30: =VLOOKUP($F30,УЧАСТНИКИ!$A$2:$L$1105,5,FALSE) -> Новосибирская область | E30: =VLOOKUP($F30,УЧАСТНИКИ!$A$2:$L$1105,8,FALSE) -> КМС | F30: 229
A31: 4 | B31: =VLOOKUP($F31,УЧАСТНИКИ!$A$2:$L$1105,3,FALSE) -> Черняева (Козлова) Елена | C31: =VLOOKUP($F31,УЧАСТНИКИ!$A$2:$L$1105,4,FALSE) -> 19.09.1988 | D31: =VLOOKUP($F31,УЧАСТНИКИ!$A$2:$L$1105,5,FALSE) -> Санкт-Петербург Вологодская область | E31: =VLOOKUP($F31,УЧАСТНИКИ!$A$2:$L$1105,8,FALSE) -> МС | F31: 187
A32: 5 | B32: =VLOOKUP($F32,УЧАСТНИКИ!$A$2:$L$1105,3,FALSE) -> Котлярова Надежда | C32: =VLOOKUP($F32,УЧАСТНИКИ!$A$2:$L$1105,4,FALSE) -> 12.06.1989 | D32: =VLOOKUP($F32,УЧАСТНИКИ!$A$2:$L$1105,5,FALSE) -> Москва Республика Карелия | E32: =VLOOKUP($F32,УЧАСТНИКИ!$A$2:$L$1105,8,FALSE) -> МСМК | F32: 295
A33: 6 | B33: =VLOOKUP($F33,УЧАСТНИКИ!$A$2:$L$1105,3,FALSE) -> Глотова Яна | C33: =VLOOKUP($F33,УЧАСТНИКИ!$A$2:$L$1105,4,FALSE) -> 17.01.1995 | D33: =VLOOKUP($F33,УЧАСТНИКИ!$A$2:$L$1105,5,FALSE) -> Московская область Липецкая область | E33: =VLOOKUP($F33,УЧАСТНИКИ!$A$2:$L$1105,8,FALSE) -> МС | F33: 57 | J33: Л
A34: 7 | B34: =VLOOKUP($F34,УЧАСТНИКИ!$A$2:$L$1105,3,FALSE) -> Кузминчук Олеся | C34: =VLOOKUP($F34,УЧАСТНИКИ!$A$2:$L$1105,4,FALSE) -> 04.12.1998 | D34: =VLOOKUP($F34,УЧАСТНИКИ!$A$2:$L$1105,5,FALSE) -> Санкт-Петербург | E34: =VLOOKUP($F34,УЧАСТНИКИ!$A$2:$L$1105,8,FALSE) -> КМС | F34: 155 | J34: Л
A35: 8 | B35: =VLOOKUP($F35,УЧАСТНИКИ!$A$2:$L$1105,3,FALSE) -> Сухобокова Анастасия | C35: =VLOOKUP($F35,УЧАСТНИКИ!$A$2:$L$1105,4,FALSE) -> 04.12.1997 | D35: =VLOOKUP($F35,УЧАСТНИКИ!$A$2:$L$1105,5,FALSE) -> Сахалинская область | E35: =VLOOKUP($F35,УЧАСТНИКИ!$A$2:$L$1105,8,FALSE) -> 1 | F35: 357 | J35: Л
A38: Рефери по бегу: | D38: Айнетдинов Г., ССВК, Москва
A39: Ст.судья: | D39: Лобойко Н., ССВК, Ставрополь
A40: Секретарь: | D40: Орлянская С., СС1К, Краснодар

Sheet 200ф
A1: =Name_2 -> ВСЕРОССИЙСКАЯ ФЕДЕРАЦИЯ ЛЕГКОЙ АТЛЕТИКИ
A2: СТАРТОВЫЙ ПРОТОКОЛ
A3: КУБОК РОССИИ
E4: ФИНАЛ
A5: =d_4 -> ЖЕНЩИНЫ | C5: РМ | D5: 21,34 | G5: =d_2 -> 05.09.2019г. | I5: начало: | J5: 17:40
A6: Бег 200 м | C6: РЕ | D6: 21,63 | I6: окончание:
C7: РР | D7: 21,87 | K7: =d_5 -> г. Сочи, ул. Бзугу 2, ст. им. Славы Метревели
A8: № п/п | B8: Фамилия, имя участника | C8: Дата рождения | D8: Территория | E8: Заявленный разряд | F8: Номер участника | G8: рез-тат забега | H8: приход | I8: Результат | J8: Место | K8: Примеч.
A10: 1 | B10: =VLOOKUP($F10,УЧАСТНИКИ!$A$2:$L$1105,3,FALSE) -> #N/A | C10: =VLOOKUP($F10,УЧАСТНИКИ!$A$2:$L$1105,4,FALSE) -> #N/A | D10: =VLOOKUP($F10,УЧАСТНИКИ!$A$2:$L$1105,5,FALSE) -> #N/A | E10: =VLOOKUP($F10,УЧАСТНИКИ!$A$2:$L$1105,8,FALSE) -> #N/A | K10: =VLOOKUP($F10,УЧАСТНИКИ!$A$2:$L$1105,9,FALSE) -> #N/A
A11: 2 | B11: =VLOOKUP($F11,УЧАСТНИКИ!$A$2:$L$1105,3,FALSE) -> #N/A | C11: =VLOOKUP($F11,УЧАСТНИКИ!$A$2:$L$1105,4,FALSE) -> #N/A | D11: =VLOOKUP($F11,УЧАСТНИКИ!$A$2:$L$1105,5,FALSE) -> #N/A | E11: =VLOOKUP($F11,УЧАСТНИКИ!$A$2:$L$1105,8,FALSE) -> #N/A | K11: =VLOOKUP($F11,УЧАСТНИКИ!$A$2:$L$1105,9,FALSE) -> #N/A
A12: 3 | B12: =VLOOKUP($F12,УЧАСТНИКИ!$A$2:$L$1105,3,FALSE) -> #N/A | C12: =VLOOKUP($F12,УЧАСТНИКИ!$A$2:$L$1105,4,FALSE) -> #N/A | D12: =VLOOKUP($F12,УЧАСТНИКИ!$A$2:$L$1105,5,FALSE) -> #N/A | E12: =VLOOKUP($F12,УЧАСТНИКИ!$A$2:$L$1105,8,FALSE) -> #N/A | K12: =VLOOKUP($F12,УЧАСТНИКИ!$A$2:$L$1105,9,FALSE) -> #N/A
A13: 4 | B13: =VLOOKUP($F13,УЧАСТНИКИ!$A$2:$L$1105,3,FALSE) -> #N/A | C13: =VLOOKUP($F13,УЧАСТНИКИ!$A$2:$L$1105,4,FALSE) -> #N/A | D13: =VLOOKUP($F13,УЧАСТНИКИ!$A$2:$L$1105,5,FALSE) -> #N/A | E13: =VLOOKUP($F13,УЧАСТНИКИ!$A$2:$L$1105,8,FALSE) -> #N/A | K13: =VLOOKUP($F13,УЧАСТНИКИ!$A$2:$L$1105,9,FALSE) -> #N/A
A14: 5 | B14: =VLOOKUP($F14,УЧАСТНИКИ!$A$2:$L$1105,3,FALSE) -> #N/A | C14: =VLOOKUP($F14,УЧАСТНИКИ!$A$2:$L$1105,4,FALSE) -> #N/A | D14: =VLOOKUP($F14,УЧАСТНИКИ!$A$2:$L$1105,5,FALSE) -> #N/A | E14: =VLOOKUP($F14,УЧАСТНИКИ!$A$2:$L$1105,8,FALSE) -> #N/A | K14: =VLOOKUP($F14,УЧАСТНИКИ!$A$2:$L$1105,9,FALSE) -> #N/A
A15: 6 | B15: =VLOOKUP($F15,УЧАСТНИКИ!$A$2:$L$1105,3,FALSE) -> #N/A | C15: =VLOOKUP($F15,УЧАСТНИКИ!$A$2:$L$1105,4,FALSE) -> #N/A | D15: =VLOOKUP($F15,УЧАСТНИКИ!$A$2:$L$1105,5,FALSE) -> #N/A | E15: =VLOOKUP($F15,УЧАСТНИКИ!$A$2:$L$1105,8,FALSE) -> #N/A | K15: =VLOOKUP($F15,УЧАСТНИКИ!$A$2:$L$1105,9,FALSE) -> #N/A
A16: 7 | B16: =VLOOKUP($F16,УЧАСТНИКИ!$A$2:$L$1105,3,FALSE) -> #N/A | C16: =VLOOKUP($F16,УЧАСТНИКИ!$A$2:$L$1105,4,FALSE) -> #N/A | D16: =VLOOKUP($F16,УЧАСТНИКИ!$A$2:$L$1105,5,FALSE) -> #N/A | E16: =VLOOKUP($F16,УЧАСТНИКИ!$A$2:$L$1105,8,FALSE) -> #N/A | K16: =VLOOKUP($F16,УЧАСТНИКИ!$A$2:$L$1105,9,FALSE) -> #N/A
A17: 8 | B17: =VLOOKUP($F17,УЧАСТНИКИ!$A$2:$L$1105,3,FALSE) -> #N/A | C17: =VLOOKUP($F17,УЧАСТНИКИ!$A$2:$L$1105,4,FALSE) -> #N/A | D17: =VLOOKUP($F17,УЧАСТНИКИ!$A$2:$L$1105,5,FALSE) -> #N/A | E17: =VLOOKUP($F17,УЧАСТНИКИ!$A$2:$L$1105,8,FALSE) -> #N/A | K17: =VLOOKUP($F17,УЧАСТНИКИ!$A$2:$L$1105,9,FALSE) -> #N/A
A20: Рефери по бегу: | D20: Айнетдинов Г., ССВК, Москва
A21: Ст.судья: | D21: Лобойко Н., ССВК, Ставрополь
A22: Секретарь: | D22: Орлянская С., СС1К, Краснодар

Sheet 400
A1: =Name_2 -> ВСЕРОССИЙСКАЯ ФЕДЕРАЦИЯ ЛЕГКОЙ АТЛЕТИКИ
A2: СТАРТОВЫЙ ПРОТОКОЛ
A3: =Name_4 -> КОМАНДНЫЙ ЧЕМПИОНАТ РОССИИ
E4: ФИНАЛЬНЫЕ ЗАБЕГИ
A5: =d_4 -> ЖЕНЩИНЫ | C5: РМ | D5: 47,60 | F5: =d_1 -> 04.09.2019г. | H5: начало: | I5: 18:15
A6: Бег 400 м | C6: РЕ | D6: 47,60 | H6: окончание:
C7: РР | D7: 49,11 | J7: =d_5 -> г. Сочи, ул. Бзугу 2, ст. им. Славы Метревели
A8: № п/п | B8: Фамилия, имя участника | C8: Дата рождения | D8: Территория | E8: Заявленный разряд | F8: Номер участника | G8: Приход | H8: Результат | I8: Место | J8: Примеч.
B9: 1 ЗАБЕГ
A10: 1
A11: 2 | B11: =VLOOKUP($F11,УЧАСТНИКИ!$A$2:$L$1105,3,FALSE) -> Копрова Екатерина | C11: =VLOOKUP($F11,УЧАСТНИКИ!$A$2:$L$1105,4,FALSE) -> 07.02.1999 | D11: =VLOOKUP($F11,УЧАСТНИКИ!$A$2:$L$1105,5,FALSE) -> Санкт-Петербург | E11: =VLOOKUP($F11,УЧАСТНИКИ!$A$2:$L$1105,8,FALSE) -> КМС | F11: 152 | J11: Л
A12: 3 | B12: =VLOOKUP($F12,УЧАСТНИКИ!$A$2:$L$1105,3,FALSE) -> Котельникова Елена | C12: =VLOOKUP($F12,УЧАСТНИКИ!$A$2:$L$1105,4,FALSE) -> 03.04.1997 | D12: =VLOOKUP($F12,УЧАСТНИКИ!$A$2:$L$1105,5,FALSE) -> Курская область | E12: =VLOOKUP($F12,УЧАСТНИКИ!$A$2:$L$1105,8,FALSE) -> КМС | F12: 266
A13: 4 | B13: =VLOOKUP($F13,УЧАСТНИКИ!$A$2:$L$1105,3,FALSE) -> Асоева Манижа | C13: =VLOOKUP($F13,УЧАСТНИКИ!$A$2:$L$1105,4,FALSE) -> 28.05.2001 | D13: =VLOOKUP($F13,УЧАСТНИКИ!$A$2:$L$1105,5,FALSE) -> Санкт-Петербург Тверская область | E13: =VLOOKUP($F13,УЧАСТНИКИ!$A$2:$L$1105,8,FALSE) -> КМС | F13: 129 | J13: Л
A14: 5 | B14: =VLOOKUP($F14,УЧАСТНИКИ!$A$2:$L$1105,3,FALSE) -> Тюрина Екатерина | C14: =VLOOKUP($F14,УЧАСТНИКИ!$A$2:$L$1105,4,FALSE) -> 18.04.1997 | D14: =VLOOKUP($F14,УЧАСТНИКИ!$A$2:$L$1105,5,FALSE) -> Санкт-Петербург Нижегородская область | E14: =VLOOKUP($F14,УЧАСТНИКИ!$A$2:$L$1105,8,FALSE) -> МС | F14: 180
A15: 6 | B15: =VLOOKUP($F15,УЧАСТНИКИ!$A$2:$L$1105,3,FALSE) -> Топольскова Ольга | C15: =VLOOKUP($F15,УЧАСТНИКИ!$A$2:$L$1105,4,FALSE) -> 25.06.2002 | D15: =VLOOKUP($F15,УЧАСТНИКИ!$A$2:$L$1105,5,FALSE) -> Ставропольский край | E15: =VLOOKUP($F15,УЧАСТНИКИ!$A$2:$L$1105,8,FALSE) -> КМС | F15: 341
A16: 7 | B16: =VLOOKUP($F16,УЧАСТНИКИ!$A$2:$L$1105,3,FALSE) -> Герасимова Анастасия | C16: =VLOOKUP($F16,УЧАСТНИКИ!$A$2:$L$1105,4,FALSE) -> 18.03.1998 | D16: =VLOOKUP($F16,УЧАСТНИКИ!$A$2:$L$1105,5,FALSE) -> Волгоградская область Саратовская область | E16: =VLOOKUP($F16,УЧАСТНИКИ!$A$2:$L$1105,8,FALSE) -> КМС | F16: 376 | J16: Л
A17: 8 | B17: =VLOOKUP($F17,УЧАСТНИКИ!$A$2:$L$1105,3,FALSE) -> Зайцева Наталья | C17: =VLOOKUP($F17,УЧАСТНИКИ!$A$2:$L$1105,4,FALSE) -> 01.11.2001 | D17: =VLOOKUP($F17,УЧАСТНИКИ!$A$2:$L$1105,5,FALSE) -> Курганская область | E17: =VLOOKUP($F17,УЧАСТНИКИ!$A$2:$L$1105,8,FALSE) -> КМС | F17: 406
B18: 2 ЗАБЕГ
A19: 1
A20: 2 | B20: =VLOOKUP($F20,УЧАСТНИКИ!$A$2:$L$1105,3,FALSE) -> Виноградова (Маркелова) Татьяна | C20: =VLOOKUP($F20,УЧАСТНИКИ!$A$2:$L$1105,4,FALSE) -> 09.12.1988 | D20: =VLOOKUP($F20,УЧАСТНИКИ!$A$2:$L$1105,5,FALSE) -> Мурманская область | E20: =VLOOKUP($F20,УЧАСТНИКИ!$A$2:$L$1105,8,FALSE) -> МСМК | F20: 403
A21: 3 | B21: =VLOOKUP($F21,УЧАСТНИКИ!$A$2:$L$1105,3,FALSE) -> Кузминчук Олеся | C21: =VLOOKUP($F21,УЧАСТНИКИ!$A$2:$L$1105,4,FALSE) -> 04.12.1998 | D21: =VLOOKUP($F21,УЧАСТНИКИ!$A$2:$L$1105,5,FALSE) -> Санкт-Петербург | E21: =VLOOKUP($F21,УЧАСТНИКИ!$A$2:$L$1105,8,FALSE) -> КМС | F21: 155 | J21: Л
A22: 4 | B22: =VLOOKUP($F22,УЧАСТНИКИ!$A$2:$L$1105,3,FALSE) -> Котова Алина | C22: =VLOOKUP($F22,УЧАСТНИКИ!$A$2:$L$1105,4,FALSE) -> 26.02.1993 | D22: =VLOOKUP($F22,УЧАСТНИКИ!$A$2:$L$1105,5,FALSE) -> Республика Карелия | E22: =VLOOKUP($F22,УЧАСТНИКИ!$A$2:$L$1105,8,FALSE) -> МС | F22: 430
A23: 5 | B23: =VLOOKUP($F23,УЧАСТНИКИ!$A$2:$L$1105,3,FALSE) -> Палиенко Ольга | C23: =VLOOKUP($F23,УЧАСТНИКИ!$A$2:$L$1105,4,FALSE) -> 21.11.1995 | D23: =VLOOKUP($F23,УЧАСТНИКИ!$A$2:$L$1105,5,FALSE) -> Новосибирская область | E23: =VLOOKUP($F23,УЧАСТНИКИ!$A$2:$L$1105,8,FALSE) -> КМС | F23: 229
A24: 6 | B24: =VLOOKUP($F24,УЧАСТНИКИ!$A$2:$L$1105,3,FALSE) -> Заварзина Анжелика | C24: =VLOOKUP($F24,УЧАСТНИКИ!$A$2:$L$1105,4,FALSE) -> 19.07.1998 | D24: =VLOOKUP($F24,УЧАСТНИКИ!$A$2:$L$1105,5,FALSE) -> Волгоградская область | E24: =VLOOKUP($F24,УЧАСТНИКИ!$A$2:$L$1105,8,FALSE) -> КМС | F24: 378
A25: 7 | B25: =VLOOKUP($F25,УЧАСТНИКИ!$A$2:$L$1105,3,FALSE) -> Цаплина Валерия | C25: =VLOOKUP($F25,УЧАСТНИКИ!$A$2:$L$1105,4,FALSE) -> 19.02.1997 | D25: =VLOOKUP($F25,УЧАСТНИКИ!$A$2:$L$1105,5,FALSE) -> Кировская область Санкт-Петербург | E25: =VLOOKUP($F25,УЧАСТНИКИ!$A$2:$L$1105,8,FALSE) -> КМС | F25: 184 | J25: Л
A26: 8 | B26: =VLOOKUP($F26,УЧАСТНИКИ!$A$2:$L$1105,3,FALSE) -> Шатурная Светлана | C26: =VLOOKUP($F26,УЧАСТНИКИ!$A$2:$L$1105,4,FALSE) -> 15.06.1995 | D26: =VLOOKUP($F26,УЧАСТНИКИ!$A$2:$L$1105,5,FALSE) -> Краснодарский край Карачаево-Черкесская республика | E26: =VLOOKUP($F26,УЧАСТНИКИ!$A$2:$L$1105,8,FALSE) -> КМС | F26: 125
B27: 3 ЗАБЕГ
A28: 1 | B28: =VLOOKUP($F28,УЧАСТНИКИ!$A$2:$L$1105,3,FALSE) -> Габдуллина Дина | C28: =VLOOKUP($F28,УЧАСТНИКИ!$A$2:$L$1105,4,FALSE) -> 12.03.1995 | D28: =VLOOKUP($F28,УЧАСТНИКИ!$A$2:$L$1105,5,FALSE) -> Ямало-Ненецкий автономный округ | E28: =VLOOKUP($F28,УЧАСТНИКИ!$A$2:$L$1105,8,FALSE) -> КМС | F28: 401 | J28: Л
A29: 2 | B29: =VLOOKUP($F29,УЧАСТНИКИ!$A$2:$L$1105,3,FALSE) -> Гуляева Александра | C29: =VLOOKUP($F29,УЧАСТНИКИ!$A$2:$L$1105,4,FALSE) -> 30.04.1994 | D29: =VLOOKUP($F29,УЧАСТНИКИ!$A$2:$L$1105,5,FALSE) -> Москва Ивановская область | E29: =VLOOKUP($F29,УЧАСТНИКИ!$A$2:$L$1105,8,FALSE) -> МСМК | F29: 12 | J29: Л
A30: 3 | B30: =VLOOKUP($F30,УЧАСТНИКИ!$A$2:$L$1105,3,FALSE) -> Миллер Полина | C30: =VLOOKUP($F30,УЧАСТНИКИ!$A$2:$L$1105,4,FALSE) -> 09.06.2000 | D30: =VLOOKUP($F30,УЧАСТНИКИ!$A$2:$L$1105,5,FALSE) -> Краснодарский край Алтайский край | E30: =VLOOKUP($F30,УЧАСТНИКИ!$A$2:$L$1105,8,FALSE) -> МС | F30: 105
A31: 4 | B31: =VLOOKUP($F31,УЧАСТНИКИ!$A$2:$L$1105,3,FALSE) -> Аксенова (Усталова) Ксения | C31: =VLOOKUP($F31,УЧАСТНИКИ!$A$2:$L$1105,4,FALSE) -> 14.01.1988 | D31: =VLOOKUP($F31,УЧАСТНИКИ!$A$2:$L$1105,5,FALSE) -> Свердловская область Ямало-Ненецкий автономный округ | E31: =VLOOKUP($F31,УЧАСТНИКИ!$A$2:$L$1105,8,FALSE) -> ЗМС | F31: 197
A32: 5 | B32: =VLOOKUP($F32,УЧАСТНИКИ!$A$2:$L$1105,3,FALSE) -> Жданова Анастасия | C32: =VLOOKUP($F32,УЧАСТНИКИ!$A$2:$L$1105,4,FALSE) -> 15.04.1994 | D32: =VLOOKUP($F32,УЧАСТНИКИ!$A$2:$L$1105,5,FALSE) -> Свердловская область | E32: =VLOOKUP($F32,УЧАСТНИКИ!$A$2:$L$1105,8,FALSE) -> МС | F32: 199 | J32: Л
A33: 6 | B33: =VLOOKUP($F33,УЧАСТНИКИ!$A$2:$L$1105,3,FALSE) -> Рудакова Вера | C33: =VLOOKUP($F33,УЧАСТНИКИ!$A$2:$L$1105,4,FALSE) -> 20.03.1992 | D33: =VLOOKUP($F33,УЧАСТНИКИ!$A$2:$L$1105,5,FALSE) -> Москва Пермский край | E33: =VLOOKUP($F33,УЧАСТНИКИ!$A$2:$L$1105,8,FALSE) -> МСМК | F33: 40 | J33: Л
A34: 7 | B34: =VLOOKUP($F34,УЧАСТНИКИ!$A$2:$L$1105,3,FALSE) -> Аникиенко Елизавета | C34: =VLOOKUP($F34,УЧАСТНИКИ!$A$2:$L$1105,4,FALSE) -> 30.06.1994 | D34: =VLOOKUP($F34,УЧАСТНИКИ!$A$2:$L$1105,5,FALSE) -> Москва Московская область | E34: =VLOOKUP($F34,УЧАСТНИКИ!$A$2:$L$1105,8,FALSE) -> МС | F34: 3
A35: 8 | B35: =VLOOKUP($F35,УЧАСТНИКИ!$A$2:$L$1105,3,FALSE) -> Рухлядева Мария | C35: =VLOOKUP($F35,УЧАСТНИКИ!$A$2:$L$1105,4,FALSE) -> 27.11.1999 | D35: =VLOOKUP($F35,УЧАСТНИКИ!$A$2:$L$1105,5,FALSE) -> Санкт-Петербург | E35: =VLOOKUP($F35,УЧАСТНИКИ!$A$2:$L$1105,8,FALSE) -> КМС | F35: 174 | J35: Л
A37: Рефери по бегу: | D37: Айнетдинов Г., ССВК, Москва
A38: Ст.судья: | D38: Лобойко Н., ССВК, Ставрополь
A39: Секретарь: | D39: Орлянская С., СС1К, Краснодар

Sheet 800
A1: =Name_2 -> ВСЕРОССИЙСКАЯ ФЕДЕРАЦИЯ ЛЕГКОЙ АТЛЕТИКИ
A2: СТАРТОВЫЙ ПРОТОКОЛ
A3: =Name_4 -> КОМАНДНЫЙ ЧЕМПИОНАТ РОССИИ
E4: ФИНАЛЬНЫЕ ЗАБЕГИ
A5: =d_4 -> ЖЕНЩИНЫ | C5: РМ | D5: 1:53,28 | F5: =d_3 -> 06.09.2019г. | H5: начало: | I5: 17:30
A6: Бег 800 м | C6: РЕ | D6: 1:53,28 | H6: окончание:
C7: РР | D7: 1:53,43 | J7: =d_5 -> г. Сочи, ул. Бзугу 2, ст. им. Славы Метревели
A8: № п/п | B8: Фамилия, имя участника | C8: Дата рождения | D8: Территория | E8: Заявленный разряд | F8: Номер участника | G8: Приход | H8: Результат | I8: Место | J8: Примеч.
B9: 1 ЗАБЕГ
A10: 1 | B10: =VLOOKUP($F10,УЧАСТНИКИ!$A$2:$L$1105,3,FALSE) -> Попова Юлия | C10: =VLOOKUP($F10,УЧАСТНИКИ!$A$2:$L$1105,4,FALSE) -> 03.05.2001 | D10: =VLOOKUP($F10,УЧАСТНИКИ!$A$2:$L$1105,5,FALSE) -> Волгоградская область | E10: =VLOOKUP($F10,УЧАСТНИКИ!$A$2:$L$1105,8,FALSE) -> 1 | F10: 385
A11: 2 | B11: =VLOOKUP($F11,УЧАСТНИКИ!$A$2:$L$1105,3,FALSE) -> Сычева Анастасия | C11: =VLOOKUP($F11,УЧАСТНИКИ!$A$2:$L$1105,4,FALSE) -> 28.12.1991 | D11: =VLOOKUP($F11,УЧАСТНИКИ!$A$2:$L$1105,5,FALSE) -> Калужская область | E11: =VLOOKUP($F11,УЧАСТНИКИ!$A$2:$L$1105,8,FALSE) -> МС | F11: 438
A12: 2 | B12: =VLOOKUP($F12,УЧАСТНИКИ!$A$2:$L$1105,3,FALSE) -> Волкова Ксения | C12: =VLOOKUP($F12,УЧАСТНИКИ!$A$2:$L$1105,4,FALSE) -> 12.10.1995 | D12: =VLOOKUP($F12,УЧАСТНИКИ!$A$2:$L$1105,5,FALSE) -> Санкт-Петербург | E12: =VLOOKUP($F12,УЧАСТНИКИ!$A$2:$L$1105,8,FALSE) -> МС | F12: 138 | J12: Л
A13: 3 | B13: =VLOOKUP($F13,УЧАСТНИКИ!$A$2:$L$1105,3,FALSE) -> Пахтусова Дина | C13: =VLOOKUP($F13,УЧАСТНИКИ!$A$2:$L$1105,4,FALSE) -> 22.11.1991 | D13: =VLOOKUP($F13,УЧАСТНИКИ!$A$2:$L$1105,5,FALSE) -> Архангельская область | E13: =VLOOKUP($F13,УЧАСТНИКИ!$A$2:$L$1105,8,FALSE) -> КМС | F13: 439
A14: 4 | B14: =VLOOKUP($F14,УЧАСТНИКИ!$A$2:$L$1105,3,FALSE) -> Шевченко Анжелика | C14: =VLOOKUP($F14,УЧАСТНИКИ!$A$2:$L$1105,4,FALSE) -> 29.10.1987 | D14: =VLOOKUP($F14,УЧАСТНИКИ!$A$2:$L$1105,5,FALSE) -> Санкт-Петербург | E14: =VLOOKUP($F14,УЧАСТНИКИ!$A$2:$L$1105,8,FALSE) -> МС | F14: 188 | J14: Л
A15: 5 | B15: =VLOOKUP($F15,УЧАСТНИКИ!$A$2:$L$1105,3,FALSE) -> Подъянова Анастасия | C15: =VLOOKUP($F15,УЧАСТНИКИ!$A$2:$L$1105,4,FALSE) -> 26.12.1999 | D15: =VLOOKUP($F15,УЧАСТНИКИ!$A$2:$L$1105,5,FALSE) -> Москва Пермский край | E15: =VLOOKUP($F15,УЧАСТНИКИ!$A$2:$L$1105,8,FALSE) -> КМС | F15: 36 | J15: Л
A16: 6 | B16: =VLOOKUP($F16,УЧАСТНИКИ!$A$2:$L$1105,3,FALSE) -> Марачёва Ирина | C16: =VLOOKUP($F16,УЧАСТНИКИ!$A$2:$L$1105,4,FALSE) -> 24.09.1984 | D16: =VLOOKUP($F16,УЧАСТНИКИ!$A$2:$L$1105,5,FALSE) -> Калужская область | E16: =VLOOKUP($F16,УЧАСТНИКИ!$A$2:$L$1105,8,FALSE) -> МСМК | F16: 437
A17: 6 | B17: =VLOOKUP($F17,УЧАСТНИКИ!$A$2:$L$1105,3,FALSE) -> Саитова Алина | C17: =VLOOKUP($F17,УЧАСТНИКИ!$A$2:$L$1105,4,FALSE) -> 13.12.1999 | D17: =VLOOKUP($F17,УЧАСТНИКИ!$A$2:$L$1105,5,FALSE) -> Республика Башкортостан | E17: =VLOOKUP($F17,УЧАСТНИКИ!$A$2:$L$1105,8,FALSE) -> КМС | F17: 346
A18: 7 | B18: =VLOOKUP($F18,УЧАСТНИКИ!$A$2:$L$1105,3,FALSE) -> Большакова Дарья | C18: =VLOOKUP($F18,УЧАСТНИКИ!$A$2:$L$1105,4,FALSE) -> 24.07.1990 | D18: =VLOOKUP($F18,УЧАСТНИКИ!$A$2:$L$1105,5,FALSE) -> Санкт-Петербург | E18: =VLOOKUP($F18,УЧАСТНИКИ!$A$2:$L$1105,8,FALSE) -> МС | F18: 134 | J18: Л
A19: 8 | B19: =VLOOKUP($F19,УЧАСТНИКИ!$A$2:$L$1105,3,FALSE) -> Санкина Анастасия | C19: =VLOOKUP($F19,УЧАСТНИКИ!$A$2:$L$1105,4,FALSE) -> 14.05.1998 | D19: =VLOOKUP($F19,УЧАСТНИКИ!$A$2:$L$1105,5,FALSE) -> Республика Башкортостан | E19: =VLOOKUP($F19,УЧАСТНИКИ!$A$2:$L$1105,8,FALSE) -> 1 | F19: 348
B20: 2 ЗАБЕГ
A21: 1 | B21: =VLOOKUP($F21,УЧАСТНИКИ!$A$2:$L$1105,3,FALSE) -> Колентеева Кристина | C21: =VLOOKUP($F21,УЧАСТНИКИ!$A$2:$L$1105,4,FALSE) -> 23.07.1998 | D21: =VLOOKUP($F21,УЧАСТНИКИ!$A$2:$L$1105,5,FALSE) -> Тюменская область | E21: =VLOOKUP($F21,УЧАСТНИКИ!$A$2:$L$1105,8,FALSE) -> КМС | F21: 432
A22: 2 | B22: =VLOOKUP($F22,УЧАСТНИКИ!$A$2:$L$1105,3,FALSE) -> Щагина Анна | C22: =VLOOKUP($F22,УЧАСТНИКИ!$A$2:$L$1105,4,FALSE) -> 07.12.1991 | D22: =VLOOKUP($F22,УЧАСТНИКИ!$A$2:$L$1105,5,FALSE) -> Москва | E22: =VLOOKUP($F22,УЧАСТНИКИ!$A$2:$L$1105,8,FALSE) -> МСМК | F22: 51 | J22: Л
A23: 3 | B23: =VLOOKUP($F23,УЧАСТНИКИ!$A$2:$L$1105,3,FALSE) -> Кондрашова Полина | C23: =VLOOKUP($F23,УЧАСТНИКИ!$A$2:$L$1105,4,FALSE) -> 18.06.1986 | D23: =VLOOKUP($F23,УЧАСТНИКИ!$A$2:$L$1105,5,FALSE) -> Санкт-Петербург | E23: =VLOOKUP($F23,УЧАСТНИКИ!$A$2:$L$1105,8,FALSE) -> МС | F23: 151 | J23: Л
A24: 4 | B24: =VLOOKUP($F24,УЧАСТНИКИ!$A$2:$L$1105,3,FALSE) -> Виноградова (Маркелова) Татьяна | C24: =VLOOKUP($F24,УЧАСТНИКИ!$A$2:$L$1105,4,FALSE) -> 09.12.1988 | D24: =VLOOKUP($F24,УЧАСТНИКИ!$A$2:$L$1105,5,FALSE) -> Мурманская область | E24: =VLOOKUP($F24,УЧАСТНИКИ!$A$2:$L$1105,8,FALSE) -> МСМК | F24: 403
A25: 5 | B25: =VLOOKUP($F25,УЧАСТНИКИ!$A$2:$L$1105,3,FALSE) -> Гуляева Александра | C25: =VLOOKUP($F25,УЧАСТНИКИ!$A$2:$L$1105,4,FALSE) -> 30.04.1994 | D25: =VLOOKUP($F25,УЧАСТНИКИ!$A$2:$L$1105,5,FALSE) -> Москва Ивановская область | E25: =VLOOKUP($F25,УЧАСТНИКИ!$A$2:$L$1105,8,FALSE) -> МСМК | F25: 12 | J25: Л
A26: 6 | B26: =VLOOKUP($F26,УЧАСТНИКИ!$A$2:$L$1105,3,FALSE) -> Улога Светлана | C26: =VLOOKUP($F26,УЧАСТНИКИ!$A$2:$L$1105,4,FALSE) -> 23.11.1986 | D26: =VLOOKUP($F26,УЧАСТНИКИ!$A$2:$L$1105,5,FALSE) -> Республика Татарстан | E26: =VLOOKUP($F26,УЧАСТНИКИ!$A$2:$L$1105,8,FALSE) -> МСМК | F26: 251
A27: 7 | B27: =VLOOKUP($F27,УЧАСТНИКИ!$A$2:$L$1105,3,FALSE) -> Александрова Дина | C27: =VLOOKUP($F27,УЧАСТНИКИ!$A$2:$L$1105,4,FALSE) -> 09.08.1992 | D27: =VLOOKUP($F27,УЧАСТНИКИ!$A$2:$L$1105,5,FALSE) -> Курская область | E27: =VLOOKUP($F27,УЧАСТНИКИ!$A$2:$L$1105,8,FALSE) -> МС | F27: 257
A28: 8 | B28: =VLOOKUP($F28,УЧАСТНИКИ!$A$2:$L$1105,3,FALSE) -> Мурашова Елена | C28: =VLOOKUP($F28,УЧАСТНИКИ!$A$2:$L$1105,4,FALSE) -> 05.10.1987 | D28: =VLOOKUP($F28,УЧАСТНИКИ!$A$2:$L$1105,5,FALSE) -> Краснодарский край Вологодская область | E28: =VLOOKUP($F28,УЧАСТНИКИ!$A$2:$L$1105,8,FALSE) -> МС | F28: 109
A29: 9 | B29: =VLOOKUP($F29,УЧАСТНИКИ!$A$2:$L$1105,3,FALSE) -> Онуфриенко Ольга | C29: =VLOOKUP($F29,УЧАСТНИКИ!$A$2:$L$1105,4,FALSE) -> 08.03.1988 | D29: =VLOOKUP($F29,УЧАСТНИКИ!$A$2:$L$1105,5,FALSE) -> Нижегородская область | E29: =VLOOKUP($F29,УЧАСТНИКИ!$A$2:$L$1105,8,FALSE) -> МС | F29: 206
A30: 10 | B30: =VLOOKUP($F30,УЧАСТНИКИ!$A$2:$L$1105,3,FALSE) -> Габдуллина Дина | C30: =VLOOKUP($F30,УЧАСТНИКИ!$A$2:$L$1105,4,FALSE) -> 12.03.1995 | D30: =VLOOKUP($F30,УЧАСТНИКИ!$A$2:$L$1105,5,FALSE) -> Ямало-Ненецкий автономный округ | E30: =VLOOKUP($F30,УЧАСТНИКИ!$A$2:$L$1105,8,FALSE) -> КМС | F30: 401
A33: Рефери по бегу: | D33: Айнетдинов Г., ССВК, Москва
A34: Ст.судья: | D34: Лобойко Н., ССВК, Ставрополь
A35: Секретарь: | D35: Орлянская С., СС1К, Краснодар

Sheet 1500
A1: =Name_2 -> ВСЕРОССИЙСКАЯ ФЕДЕРАЦИЯ ЛЕГКОЙ АТЛЕТИКИ
A2: СТАРТОВЫЙ ПРОТОКОЛ
A3: =Name_4 -> КОМАНДНЫЙ ЧЕМПИОНАТ РОССИИ
E4: ФИНАЛЬНЫЕ ЗАБЕГИ
A5: =d_4 -> ЖЕНЩИНЫ | C5: РМ | D5: 3:50,07 | F5: =d_2 -> 05.09.2019г. | H5: начало: | I5: 18:00
A6: Бег 1500 м | C6: РЕ | D6: 3:52,47 | H6: окончание:
C7: РР | D7: 3:52,47 | J7: =d_5 -> г. Сочи, ул. Бзугу 2, ст. им. Славы Метревели
A8: № п/п | B8: Фамилия, имя участника | C8: Дата рождения | D8: Территория | E8: Заявленный разряд | F8: Номер участника | G8: Приход | H8: Результат | I8: Место | J8: Примеч.
B9: 1 ЗАБЕГ
A10: 1 | B10: =VLOOKUP($F10,УЧАСТНИКИ!$A$2:$L$1105,3,FALSE) -> Ницина Ольга | C10: =VLOOKUP($F10,УЧАСТНИКИ!$A$2:$L$1105,4,FALSE) -> 11.02.1989 | D10: =VLOOKUP($F10,УЧАСТНИКИ!$A$2:$L$1105,5,FALSE) -> Иркутская область | E10: =VLOOKUP($F10,УЧАСТНИКИ!$A$2:$L$1105,8,FALSE) -> МС | F10: 216
A11: 2 | B11: =VLOOKUP($F11,УЧАСТНИКИ!$A$2:$L$1105,3,FALSE) -> Шухтуева Алена | C11: =VLOOKUP($F11,УЧАСТНИКИ!$A$2:$L$1105,4,FALSE) -> 07.12.1993 | D11: =VLOOKUP($F11,УЧАСТНИКИ!$A$2:$L$1105,5,FALSE) -> Республика Башкортостан | E11: =VLOOKUP($F11,УЧАСТНИКИ!$A$2:$L$1105,8,FALSE) -> МС | F11: 350
A12: 3 | B12: =VLOOKUP($F12,УЧАСТНИКИ!$A$2:$L$1105,3,FALSE) -> Щагина Анна | C12: =VLOOKUP($F12,УЧАСТНИКИ!$A$2:$L$1105,4,FALSE) -> 07.12.1991 | D12: =VLOOKUP($F12,УЧАСТНИКИ!$A$2:$L$1105,5,FALSE) -> Москва | E12: =VLOOKUP($F12,УЧАСТНИКИ!$A$2:$L$1105,8,FALSE) -> МСМК | F12: 51 | J12: Л
A13: 4 | B13: =VLOOKUP($F13,УЧАСТНИКИ!$A$2:$L$1105,3,FALSE) -> Подъянова Анастасия | C13: =VLOOKUP($F13,УЧАСТНИКИ!$A$2:$L$1105,4,FALSE) -> 26.12.1999 | D13: =VLOOKUP($F13,УЧАСТНИКИ!$A$2:$L$1105,5,FALSE) -> Москва Пермский край | E13: =VLOOKUP($F13,УЧАСТНИКИ!$A$2:$L$1105,8,FALSE) -> КМС | F13: 36 | J13: Л
A14: 5 | B14: =VLOOKUP($F14,УЧАСТНИКИ!$A$2:$L$1105,3,FALSE) -> Александрова Дина | C14: =VLOOKUP($F14,УЧАСТНИКИ!$A$2:$L$1105,4,FALSE) -> 09.08.1992 | D14: =VLOOKUP($F14,УЧАСТНИКИ!$A$2:$L$1105,5,FALSE) -> Курская область | E14: =VLOOKUP($F14,УЧАСТНИКИ!$A$2:$L$1105,8,FALSE) -> МС | F14: 257
A15: 6 | B15: =VLOOKUP($F15,УЧАСТНИКИ!$A$2:$L$1105,3,FALSE) -> Гадельшина (Гафурова) Альбина | C15: =VLOOKUP($F15,УЧАСТНИКИ!$A$2:$L$1105,4,FALSE) -> 29.07.1998 | D15: =VLOOKUP($F15,УЧАСТНИКИ!$A$2:$L$1105,5,FALSE) -> Республика Башкортостан | E15: =VLOOKUP($F15,УЧАСТНИКИ!$A$2:$L$1105,8,FALSE) -> КМС | F15: 345
A16: 7 | B16: =VLOOKUP($F16,УЧАСТНИКИ!$A$2:$L$1105,3,FALSE) -> Аввакуменкова Ульяна | C16: =VLOOKUP($F16,УЧАСТНИКИ!$A$2:$L$1105,4,FALSE) -> 21.06.1994 | D16: =VLOOKUP($F16,УЧАСТНИКИ!$A$2:$L$1105,5,FALSE) -> Санкт-Петербург | E16: =VLOOKUP($F16,УЧАСТНИКИ!$A$2:$L$1105,8,FALSE) -> МС | F16: 127 | J16: Л
A17: 8 | B17: =VLOOKUP($F17,УЧАСТНИКИ!$A$2:$L$1105,3,FALSE) -> Угарова (Халеева) Кристина | C17: =VLOOKUP($F17,УЧАСТНИКИ!$A$2:$L$1105,4,FALSE) -> 22.10.1987 | D17: =VLOOKUP($F17,УЧАСТНИКИ!$A$2:$L$1105,5,FALSE) -> Курская область | E17: =VLOOKUP($F17,УЧАСТНИКИ!$A$2:$L$1105,8,FALSE) -> МСМК | F17: 280 | J17: Л
A18: 9 | B18: =VLOOKUP($F18,УЧАСТНИКИ!$A$2:$L$1105,3,FALSE) -> Пахтусова Дина | C18: =VLOOKUP($F18,УЧАСТНИКИ!$A$2:$L$1105,4,FALSE) -> 22.11.1991 | D18: =VLOOKUP($F18,УЧАСТНИКИ!$A$2:$L$1105,5,FALSE) -> Архангельская область | E18: =VLOOKUP($F18,УЧАСТНИКИ!$A$2:$L$1105,8,FALSE) -> КМС | F18: 439
A19: 10 | B19: =VLOOKUP($F19,УЧАСТНИКИ!$A$2:$L$1105,3,FALSE) -> Калина Анастасия | C19: =VLOOKUP($F19,УЧАСТНИКИ!$A$2:$L$1105,4,FALSE) -> 16.02.1994 | D19: =VLOOKUP($F19,УЧАСТНИКИ!$A$2:$L$1105,5,FALSE) -> Московская область Санкт-Петербург | E19: =VLOOKUP($F19,УЧАСТНИКИ!$A$2:$L$1105,8,FALSE) -> МСМК | F19: 148 | J19: Л
A20: 11 | B20: =VLOOKUP($F20,УЧАСТНИКИ!$A$2:$L$1105,3,FALSE) -> Марачёва Ирина | C20: =VLOOKUP($F20,УЧАСТНИКИ!$A$2:$L$1105,4,FALSE) -> 24.09.1984 | D20: =VLOOKUP($F20,УЧАСТНИКИ!$A$2:$L$1105,5,FALSE) -> Калужская область | E20: =VLOOKUP($F20,УЧАСТНИКИ!$A$2:$L$1105,8,FALSE) -> МСМК | F20: 437
A21: 12 | B21: =VLOOKUP($F21,УЧАСТНИКИ!$A$2:$L$1105,3,FALSE) -> Сторожева (Шаповалова) Екатерина | C21: =VLOOKUP($F21,УЧАСТНИКИ!$A$2:$L$1105,4,FALSE) -> 22.01.1993 | D21: =VLOOKUP($F21,УЧАСТНИКИ!$A$2:$L$1105,5,FALSE) -> Московская область Санкт-Петербург | E21: =VLOOKUP($F21,УЧАСТНИКИ!$A$2:$L$1105,8,FALSE) -> МС | F21: 75
A22: 13 | B22: =VLOOKUP($F22,УЧАСТНИКИ!$A$2:$L$1105,3,FALSE) -> Слюнко Екатерина | C22: =VLOOKUP($F22,УЧАСТНИКИ!$A$2:$L$1105,4,FALSE) -> 22.05.2000 | D22: =VLOOKUP($F22,УЧАСТНИКИ!$A$2:$L$1105,5,FALSE) -> Свердловская область | E22: =VLOOKUP($F22,УЧАСТНИКИ!$A$2:$L$1105,8,FALSE) -> КМС | F22: 200
A23: 14 | B23: =VLOOKUP($F23,УЧАСТНИКИ!$A$2:$L$1105,3,FALSE) -> Сычева Анастасия | C23: =VLOOKUP($F23,УЧАСТНИКИ!$A$2:$L$1105,4,FALSE) -> 28.12.1991 | D23: =VLOOKUP($F23,УЧАСТНИКИ!$A$2:$L$1105,5,FALSE) -> Калужская область | E23: =VLOOKUP($F23,УЧАСТНИКИ!$A$2:$L$1105,8,FALSE) -> МС | F23: 438
A24: 15 | B24: =VLOOKUP($F24,УЧАСТНИКИ!$A$2:$L$1105,3,FALSE) -> Аплачкина (Рязанцева) Светлана | C24: =VLOOKUP($F24,УЧАСТНИКИ!$A$2:$L$1105,4,FALSE) -> 28.11.1992 | D24: =VLOOKUP($F24,УЧАСТНИКИ!$A$2:$L$1105,5,FALSE) -> Воронежская область | E24: =VLOOKUP($F24,УЧАСТНИКИ!$A$2:$L$1105,8,FALSE) -> МС | F24: 222
A25: 16 | B25: =VLOOKUP($F25,УЧАСТНИКИ!$A$2:$L$1105,3,FALSE) -> Попова Юлия | C25: =VLOOKUP($F25,УЧАСТНИКИ!$A$2:$L$1105,4,FALSE) -> 03.05.2001 | D25: =VLOOKUP($F25,УЧАСТНИКИ!$A$2:$L$1105,5,FALSE) -> Волгоградская область | E25: =VLOOKUP($F25,УЧАСТНИКИ!$A$2:$L$1105,8,FALSE) -> 1 | F25: 385
A26: 17 | B26: =VLOOKUP($F26,УЧАСТНИКИ!$A$2:$L$1105,3,FALSE) -> Соколенко Екатерина | C26: =VLOOKUP($F26,УЧАСТНИКИ!$A$2:$L$1105,4,FALSE) -> 13.09.1992 | D26: =VLOOKUP($F26,УЧАСТНИКИ!$A$2:$L$1105,5,FALSE) -> Томская область Новосибирская область | E26: =VLOOKUP($F26,УЧАСТНИКИ!$A$2:$L$1105,8,FALSE) -> МСМК | F26: 374
A27: 18 | B27: =VLOOKUP($F27,УЧАСТНИКИ!$A$2:$L$1105,3,FALSE) -> Мурашова Елена | C27: =VLOOKUP($F27,УЧАСТНИКИ!$A$2:$L$1105,4,FALSE) -> 05.10.1987 | D27: =VLOOKUP($F27,УЧАСТНИКИ!$A$2:$L$1105,5,FALSE) -> Краснодарский край Вологодская область | E27: =VLOOKUP($F27,УЧАСТНИКИ!$A$2:$L$1105,8,FALSE) -> МС | F27: 109
A30: Рефери по бегу: | D30: Айнетдинов Г., ССВК, Москва
A31: Ст.судья: | D31: Лобойко Н., ССВК, Ставрополь
A32: Секретарь: | D32: Орлянская С., СС1К, Краснодар

Sheet 5000
A1: =Name_2 -> ВСЕРОССИЙСКАЯ ФЕДЕРАЦИЯ ЛЕГКОЙ АТЛЕТИКИ
A2: СТАРТОВЫЙ ПРОТОКОЛ
A3: =Name_4 -> КОМАНДНЫЙ ЧЕМПИОНАТ РОССИИ
E4: ФИНАЛЬНЫЕ ЗАБЕГИ
A5: =d_4 -> ЖЕНЩИНЫ | C5: РМ | D5: 14:11,15 | F5: =d_1 -> 04.09.2019г. | H5: начало: | I5: 19:30
A6: Бег 5000 м | C6: РЕ | D6: 14:22,34 | H6: окончание:
C7: РР | D7: 14:22,34 | J7: =d_5 -> г. Сочи, ул. Бзугу 2, ст. им. Славы Метревели
A8: № п/п | B8: Фамилия, имя участника | C8: Дата рождения | D8: Территория | E8: Заявленный разряд | F8: Номер участника | G8: Приход | H8: Результат | I8: Место | J8: Примеч.
B9: 1 ЗАБЕГ
A10: 1 | B10: =VLOOKUP($F10,УЧАСТНИКИ!$A$2:$L$1105,3,FALSE) -> Угарова (Халеева) Кристина | C10: =VLOOKUP($F10,УЧАСТНИКИ!$A$2:$L$1105,4,FALSE) -> 22.10.1987 | D10: =VLOOKUP($F10,УЧАСТНИКИ!$A$2:$L$1105,5,FALSE) -> Курская область | E10: =VLOOKUP($F10,УЧАСТНИКИ!$A$2:$L$1105,8,FALSE) -> МСМК | F10: 280
A11: 2 | B11: =VLOOKUP($F11,УЧАСТНИКИ!$A$2:$L$1105,3,FALSE) -> Аввакуменкова Ульяна | C11: =VLOOKUP($F11,УЧАСТНИКИ!$A$2:$L$1105,4,FALSE) -> 21.06.1994 | D11: =VLOOKUP($F11,УЧАСТНИКИ!$A$2:$L$1105,5,FALSE) -> Санкт-Петербург | E11: =VLOOKUP($F11,УЧАСТНИКИ!$A$2:$L$1105,8,FALSE) -> МС | F11: 127
A12: 3 | B12: =VLOOKUP($F12,УЧАСТНИКИ!$A$2:$L$1105,3,FALSE) -> Калина Анастасия | C12: =VLOOKUP($F12,УЧАСТНИКИ!$A$2:$L$1105,4,FALSE) -> 16.02.1994 | D12: =VLOOKUP($F12,УЧАСТНИКИ!$A$2:$L$1105,5,FALSE) -> Московская область Санкт-Петербург | E12: =VLOOKUP($F12,УЧАСТНИКИ!$A$2:$L$1105,8,FALSE) -> МСМК | F12: 148 | J12: Л
A13: 4 | B13: =VLOOKUP($F13,УЧАСТНИКИ!$A$2:$L$1105,3,FALSE) -> Ишова (Горбунова) Екатерина | C13: =VLOOKUP($F13,УЧАСТНИКИ!$A$2:$L$1105,4,FALSE) -> 17.01.1989 | D13: =VLOOKUP($F13,УЧАСТНИКИ!$A$2:$L$1105,5,FALSE) -> Московская область Чувашская республика | E13: =VLOOKUP($F13,УЧАСТНИКИ!$A$2:$L$1105,8,FALSE) -> МСМК | F13: 62
A16: Рефери по бегу: | D16: Айнетдинов Г., ССВК, Москва
A17: Ст.судья: | D17: Лобойко Н., ССВК, Ставрополь
A18: Секретарь: | D18: Орлянская С., СС1К, Краснодар
H31: Х

Sheet 4х100
A1: =Name_2 -> ВСЕРОССИЙСКАЯ ФЕДЕРАЦИЯ ЛЕГКОЙ АТЛЕТИКИ
A2: СТАРТОВЫЙ ПРОТОКОЛ
A3: =Name_4 -> КОМАНДНЫЙ ЧЕМПИОНАТ РОССИИ
E4: ФИНАЛЬНЫЕ ЗАБЕГИ
A5: =d_4 -> ЖЕНЩИНЫ | C5: РМ | D5: 40,82 | F5: =d_1 -> 04.09.2019г. | H5: начало: | I5: 12:55
A6: Эстафета 4х100 м | C6: РЕ | D6: 41,37 | H6: окончание:
C7: РР | D7: 41,49 | J7: =d_5 -> г. Сочи, ул. Бзугу 2, ст. им. Славы Метревели
A8: № п/п | B8: Фамилия, имя участника | C8: Дата рождения | D8: Территория | E8: Заявленный разряд | F8: Номер участника | G8: Приход | H8: Результат | I8: Место | J8: Примеч.
B9: 1 ЗАБЕГ
A10: 1 | B10: =VLOOKUP($F10,УЧАСТНИКИ!$A$2:$L$1105,3,FALSE) -> #N/A | C10: =VLOOKUP($F10,УЧАСТНИКИ!$A$2:$L$1105,4,FALSE) -> #N/A | D10: =VLOOKUP($F10,УЧАСТНИКИ!$A$2:$L$1105,5,FALSE) -> #N/A | E10: =VLOOKUP($F10,УЧАСТНИКИ!$A$2:$L$1105,8,FALSE) -> #N/A | J10: =VLOOKUP($F10,УЧАСТНИКИ!$A$2:$L$1105,9,FALSE) -> #N/A
A11: 1 | B11: =VLOOKUP($F11,УЧАСТНИКИ!$A$2:$L$1105,3,FALSE) -> #N/A | C11: =VLOOKUP($F11,УЧАСТНИКИ!$A$2:$L$1105,4,FALSE) -> #N/A | D11: =VLOOKUP($F11,УЧАСТНИКИ!$A$2:$L$1105,5,FALSE) -> #N/A | E11: =VLOOKUP($F11,УЧАСТНИКИ!$A$2:$L$1105,8,FALSE) -> #N/A | J11: =VLOOKUP($F11,УЧАСТНИКИ!$A$2:$L$1105,9,FALSE) -> #N/A
A12: 1 | B12: =VLOOKUP($F12,УЧАСТНИКИ!$A$2:$L$1105,3,FALSE) -> #N/A | C12: =VLOOKUP($F12,УЧАСТНИКИ!$A$2:$L$1105,4,FALSE) -> #N/A | D12: =VLOOKUP($F12,УЧАСТНИКИ!$A$2:$L$1105,5,FALSE) -> #N/A | E12: =VLOOKUP($F12,УЧАСТНИКИ!$A$2:$L$1105,8,FALSE) -> #N/A | J12: =VLOOKUP($F12,УЧАСТНИКИ!$A$2:$L$1105,9,FALSE) -> #N/A
A13: 1 | B13: =VLOOKUP($F13,УЧАСТНИКИ!$A$2:$L$1105,3,FALSE) -> #N/A | C13: =VLOOKUP($F13,УЧАСТНИКИ!$A$2:$L$1105,4,FALSE) -> #N/A | D13: =VLOOKUP($F13,УЧАСТНИКИ!$A$2:$L$1105,5,FALSE) -> #N/A | E13: =VLOOKUP($F13,УЧАСТНИКИ!$A$2:$L$1105,8,FALSE) -> #N/A | J13: =VLOOKUP($F13,УЧАСТНИКИ!$A$2:$L$1105,9,FALSE) -> #N/A
A14: 1 | B14: =VLOOKUP($F14,УЧАСТНИКИ!$A$2:$L$1105,3,FALSE) -> #N/A | C14: =VLOOKUP($F14,УЧАСТНИКИ!$A$2:$L$1105,4,FALSE) -> #N/A | D14: =VLOOKUP($F14,УЧАСТНИКИ!$A$2:$L$1105,5,FALSE) -> #N/A | E14: =VLOOKUP($F14,УЧАСТНИКИ!$A$2:$L$1105,8,FALSE) -> #N/A | J14: =VLOOKUP($F14,УЧАСТНИКИ!$A$2:$L$1105,9,FALSE) -> #N/A
A15: 1 | B15: =VLOOKUP($F15,УЧАСТНИКИ!$A$2:$L$1105,3,FALSE) -> #N/A | C15: =VLOOKUP($F15,УЧАСТНИКИ!$A$2:$L$1105,4,FALSE) -> #N/A | D15: =VLOOKUP($F15,УЧАСТНИКИ!$A$2:$L$1105,5,FALSE) -> #N/A | E15: =VLOOKUP($F15,УЧАСТНИКИ!$A$2:$L$1105,8,FALSE) -> #N/A | J15: =VLOOKUP($F15,УЧАСТНИКИ!$A$2:$L$1105,9,FALSE) -> #N/A
A17: 2 | B17: =VLOOKUP($F17,УЧАСТНИКИ!$A$2:$L$1105,3,FALSE) -> #N/A | C17: =VLOOKUP($F17,УЧАСТНИКИ!$A$2:$L$1105,4,FALSE) -> #N/A | D17: =VLOOKUP($F17,УЧАСТНИКИ!$A$2:$L$1105,5,FALSE) -> #N/A | E17: =VLOOKUP($F17,УЧАСТНИКИ!$A$2:$L$1105,8,FALSE) -> #N/A | J17: =VLOOKUP($F17,УЧАСТНИКИ!$A$2:$L$1105,9,FALSE) -> #N/A
A18: 2 | B18: =VLOOKUP($F18,УЧАСТНИКИ!$A$2:$L$1105,3,FALSE) -> #N/A | C18: =VLOOKUP($F18,УЧАСТНИКИ!$A$2:$L$1105,4,FALSE) -> #N/A | D18: =VLOOKUP($F18,УЧАСТНИКИ!$A$2:$L$1105,5,FALSE) -> #N/A | E18: =VLOOKUP($F18,УЧАСТНИКИ!$A$2:$L$1105,8,FALSE) -> #N/A | J18: =VLOOKUP($F18,УЧАСТНИКИ!$A$2:$L$1105,9,FALSE) -> #N/A
A19: 2 | B19: =VLOOKUP($F19,УЧАСТНИКИ!$A$2:$L$1105,3,FALSE) -> #N/A | C19: =VLOOKUP($F19,УЧАСТНИКИ!$A$2:$L$1105,4,FALSE) -> #N/A | D19: =VLOOKUP($F19,УЧАСТНИКИ!$A$2:$L$1105,5,FALSE) -> #N/A | E19: =VLOOKUP($F19,УЧАСТНИКИ!$A$2:$L$1105,8,FALSE) -> #N/A | J19: =VLOOKUP($F19,УЧАСТНИКИ!$A$2:$L$1105,9,FALSE) -> #N/A
A20: 2 | B20: =VLOOKUP($F20,УЧАСТНИКИ!$A$2:$L$1105,3,FALSE) -> #N/A | C20: =VLOOKUP($F20,УЧАСТНИКИ!$A$2:$L$1105,4,FALSE) -> #N/A | D20: =VLOOKUP($F20,УЧАСТНИКИ!$A$2:$L$1105,5,FALSE) -> #N/A | E20: =VLOOKUP($F20,УЧАСТНИКИ!$A$2:$L$1105,8,FALSE) -> #N/A | J20: =VLOOKUP($F20,УЧАСТНИКИ!$A$2:$L$1105,9,FALSE) -> #N/A
A21: 2 | B21: =VLOOKUP($F21,УЧАСТНИКИ!$A$2:$L$1105,3,FALSE) -> #N/A | C21: =VLOOKUP($F21,УЧАСТНИКИ!$A$2:$L$1105,4,FALSE) -> #N/A | D21: =VLOOKUP($F21,УЧАСТНИКИ!$A$2:$L$1105,5,FALSE) -> #N/A | E21: =VLOOKUP($F21,УЧАСТНИКИ!$A$2:$L$1105,8,FALSE) -> #N/A | J21: =VLOOKUP($F21,УЧАСТНИКИ!$A$2:$L$1105,9,FALSE) -> #N/A
A22: 2 | B22: =VLOOKUP($F22,УЧАСТНИКИ!$A$2:$L$1105,3,FALSE) -> #N/A | C22: =VLOOKUP($F22,УЧАСТНИКИ!$A$2:$L$1105,4,FALSE) -> #N/A | D22: =VLOOKUP($F22,УЧАСТНИКИ!$A$2:$L$1105,5,FALSE) -> #N/A | E22: =VLOOKUP($F22,УЧАСТНИКИ!$A$2:$L$1105,8,FALSE) -> #N/A | J22: =VLOOKUP($F22,УЧАСТНИКИ!$A$2:$L$1105,9,FALSE) -> #N/A
... A64: 8 | B64: =VLOOKUP($F64,УЧАСТНИКИ!$A$2:$L$1105,3,FALSE) -> #N/A | C64: =VLOOKUP($F64,УЧАСТНИКИ!$A$2:$L$1105,4,FALSE) -> #N/A | D64: =VLOOKUP($F64,УЧАСТНИКИ!$A$2:$L$1105,5,FALSE) -> #N/A | E64: =VLOOKUP($F64,УЧАСТНИКИ!$A$2:$L$1105,8,FALSE) -> #N/A | J64: =VLOOKUP($F64,УЧАСТНИКИ!$A$2:$L$1105,9,FALSE) -> #N/A
B65: 2 ЗАБЕГ
A66: 1 | B66: =VLOOKUP($F66,УЧАСТНИКИ!$A$2:$L$1105,3,FALSE) -> #N/A | C66: =VLOOKUP($F66,УЧАСТНИКИ!$A$2:$L$1105,4,FALSE) -> #N/A | D66: =VLOOKUP($F66,УЧАСТНИКИ!$A$2:$L$1105,5,FALSE) -> #N/A | E66: =VLOOKUP($F66,УЧАСТНИКИ!$A$2:$L$1105,8,FALSE) -> #N/A | J66: =VLOOKUP($F66,УЧАСТНИКИ!$A$2:$L$1105,9,FALSE) -> #N/A
A67: 1 | B67: =VLOOKUP($F67,УЧАСТНИКИ!$A$2:$L$1105,3,FALSE) -> #N/A | C67: =VLOOKUP($F67,УЧАСТНИКИ!$A$2:$L$1105,4,FALSE) -> #N/A | D67: =VLOOKUP($F67,УЧАСТНИКИ!$A$2:$L$1105,5,FALSE) -> #N/A | E67: =VLOOKUP($F67,УЧАСТНИКИ!$A$2:$L$1105,8,FALSE) -> #N/A | J67: =VLOOKUP($F67,УЧАСТНИКИ!$A$2:$L$1105,9,FALSE) -> #N/A
A68: 1 | B68: =VLOOKUP($F68,УЧАСТНИКИ!$A$2:$L$1105,3,FALSE) -> #N/A | C68: =VLOOKUP($F68,УЧАСТНИКИ!$A$2:$L$1105,4,FALSE) -> #N/A | D68: =VLOOKUP($F68,УЧАСТНИКИ!$A$2:$L$1105,5,FALSE) -> #N/A | E68: =VLOOKUP($F68,УЧАСТНИКИ!$A$2:$L$1105,8,FALSE) -> #N/A | J68: =VLOOKUP($F68,УЧАСТНИКИ!$A$2:$L$1105,9,FALSE) -> #N/A
A69: 1 | B69: =VLOOKUP($F69,УЧАСТНИКИ!$A$2:$L$1105,3,FALSE) -> #N/A | C69: =VLOOKUP($F69,УЧАСТНИКИ!$A$2:$L$1105,4,FALSE) -> #N/A | D69: =VLOOKUP($F69,УЧАСТНИКИ!$A$2:$L$1105,5,FALSE) -> #N/A | E69: =VLOOKUP($F69,УЧАСТНИКИ!$A$2:$L$1105,8,FALSE) -> #N/A | J69: =VLOOKUP($F69,УЧАСТНИКИ!$A$2:$L$1105,9,FALSE) -> #N/A
A70: 1 | B70: =VLOOKUP($F70,УЧАСТНИКИ!$A$2:$L$1105,3,FALSE) -> #N/A | C70: =VLOOKUP($F70,УЧАСТНИКИ!$A$2:$L$1105,4,FALSE) -> #N/A | D70: =VLOOKUP($F70,УЧАСТНИКИ!$A$2:$L$1105,5,FALSE) -> #N/A | E70: =VLOOKUP($F70,УЧАСТНИКИ!$A$2:$L$1105,8,FALSE) -> #N/A | J70: =VLOOKUP($F70,УЧАСТНИКИ!$A$2:$L$1105,9,FALSE) -> #N/A
A71: 1 | B71: =VLOOKUP($F71,УЧАСТНИКИ!$A$2:$L$1105,3,FALSE) -> #N/A | C71: =VLOOKUP($F71,УЧАСТНИКИ!$A$2:$L$1105,4,FALSE) -> #N/A | D71: =VLOOKUP($F71,УЧАСТНИКИ!$A$2:$L$1105,5,FALSE) -> #N/A | E71: =VLOOKUP($F71,УЧАСТНИКИ!$A$2:$L$1105,8,FALSE) -> #N/A | J71: =VLOOKUP($F71,УЧАСТНИКИ!$A$2:$L$1105,9,FALSE) -> #N/A
A73: 2 | B73: =VLOOKUP($F73,УЧАСТНИКИ!$A$2:$L$1105,3,FALSE) -> #N/A | C73: =VLOOKUP($F73,УЧАСТНИКИ!$A$2:$L$1105,4,FALSE) -> #N/A | D73: =VLOOKUP($F73,УЧАСТНИКИ!$A$2:$L$1105,5,FALSE) -> #N/A | E73: =VLOOKUP($F73,УЧАСТНИКИ!$A$2:$L$1105,8,FALSE) -> #N/A | J73: =VLOOKUP($F73,УЧАСТНИКИ!$A$2:$L$1105,9,FALSE) -> #N/A
A74: 2 | B74: =VLOOKUP($F74,УЧАСТНИКИ!$A$2:$L$1105,3,FALSE) -> #N/A | C74: =VLOOKUP($F74,УЧАСТНИКИ!$A$2:$L$1105,4,FALSE) -> #N/A | D74: =VLOOKUP($F74,УЧАСТНИКИ!$A$2:$L$1105,5,FALSE) -> #N/A | E74: =VLOOKUP($F74,УЧАСТНИКИ!$A$2:$L$1105,8,FALSE) -> #N/A | J74: =VLOOKUP($F74,УЧАСТНИКИ!$A$2:$L$1105,9,FALSE) -> #N/A
A75: 2 | B75: =VLOOKUP($F75,УЧАСТНИКИ!$A$2:$L$1105,3,FALSE) -> #N/A | C75: =VLOOKUP($F75,УЧАСТНИКИ!$A$2:$L$1105,4,FALSE) -> #N/A | D75: =VLOOKUP($F75,УЧАСТНИКИ!$A$2:$L$1105,5,FALSE) -> #N/A | E75: =VLOOKUP($F75,УЧАСТНИКИ!$A$2:$L$1105,8,FALSE) -> #N/A | J75: =VLOOKUP($F75,УЧАСТНИКИ!$A$2:$L$1105,9,FALSE) -> #N/A
A76: 2 | B76: =VLOOKUP($F76,УЧАСТНИКИ!$A$2:$L$1105,3,FALSE) -> #N/A | C76: =VLOOKUP($F76,УЧАСТНИКИ!$A$2:$L$1105,4,FALSE) -> #N/A | D76: =VLOOKUP($F76,УЧАСТНИКИ!$A$2:$L$1105,5,FALSE) -> #N/A | E76: =VLOOKUP($F76,УЧАСТНИКИ!$A$2:$L$1105,8,FALSE) -> #N/A | J76: =VLOOKUP($F76,УЧАСТНИКИ!$A$2:$L$1105,9,FALSE) -> #N/A
A77: 2 | B77: =VLOOKUP($F77,УЧАСТНИКИ!$A$2:$L$1105,3,FALSE) -> #N/A | C77: =VLOOKUP($F77,УЧАСТНИКИ!$A$2:$L$1105,4,FALSE) -> #N/A | D77: =VLOOKUP($F77,УЧАСТНИКИ!$A$2:$L$1105,5,FALSE) -> #N/A | E77: =VLOOKUP($F77,УЧАСТНИКИ!$A$2:$L$1105,8,FALSE) -> #N/A | J77: =VLOOKUP($F77,УЧАСТНИКИ!$A$2:$L$1105,9,FALSE) -> #N/A
A78: 2 | B78: =VLOOKUP($F78,УЧАСТНИКИ!$A$2:$L$1105,3,FALSE) -> #N/A | C78: =VLOOKUP($F78,УЧАСТНИКИ!$A$2:$L$1105,4,FALSE) -> #N/A | D78: =VLOOKUP($F78,УЧАСТНИКИ!$A$2:$L$1105,5,FALSE) -> #N/A | E78: =VLOOKUP($F78,УЧАСТНИКИ!$A$2:$L$1105,8,FALSE) -> #N/A | J78: =VLOOKUP($F78,УЧАСТНИКИ!$A$2:$L$1105,9,FALSE) -> #N/A
... A120: 8 | B120: =VLOOKUP($F120,УЧАСТНИКИ!$A$2:$L$1105,3,FALSE) -> #N/A | C120: =VLOOKUP($F120,УЧАСТНИКИ!$A$2:$L$1105,4,FALSE) -> #N/A | D120: =VLOOKUP($F120,УЧАСТНИКИ!$A$2:$L$1105,5,FALSE) -> #N/A | E120: =VLOOKUP($F120,УЧАСТНИКИ!$A$2:$L$1105,8,FALSE) -> #N/A | J120: =VLOOKUP($F120,УЧАСТНИКИ!$A$2:$L$1105,9,FALSE) -> #N/A
A124: Рефери по бегу: | D124: Айнетдинов Г., ССВК, Москва
A125: Ст.судья: | D125: Лобойко Н., ССВК, Ставрополь
A126: Секретарь: | D126: Орлянская С., СС1К, Краснодар

Sheet 4х400
A1: =Name_2 -> ВСЕРОССИЙСКАЯ ФЕДЕРАЦИЯ ЛЕГКОЙ АТЛЕТИКИ
A2: СТАРТОВЫЙ ПРОТОКОЛ
A3: =Name_4 -> КОМАНДНЫЙ ЧЕМПИОНАТ РОССИИ
E4: ФИНАЛЬНЫЕ ЗАБЕГИ
A5: =d_4 -> ЖЕНЩИНЫ | C5: РМ | D5: 3:15,17 | F5: =d_1 -> 04.09.2019г. | H5: начало: | I5: 12:55
A6: Эстафета 4х400 м | C6: РЕ | D6: 3:15,17 | H6: окончание:
C7: РР | D7: 3:18,38 | J7: =d_5 -> г. Сочи, ул. Бзугу 2, ст. им. Славы Метревели
A8: № п/п | B8: Фамилия, имя участника | C8: Дата рождения | D8: Территория | E8: Заявленный разряд | F8: Номер участника | G8: Приход | H8: Результат | I8: Место | J8: Примеч.
B9: 1 ЗАБЕГ
A10: 1 | B10: =VLOOKUP($F10,УЧАСТНИКИ!$A$2:$L$1105,3,FALSE) -> #N/A | C10: =VLOOKUP($F10,УЧАСТНИКИ!$A$2:$L$1105,4,FALSE) -> #N/A | D10: =VLOOKUP($F10,УЧАСТНИКИ!$A$2:$L$1105,5,FALSE) -> #N/A | E10: =VLOOKUP($F10,УЧАСТНИКИ!$A$2:$L$1105,8,FALSE) -> #N/A | J10: =VLOOKUP($F10,УЧАСТНИКИ!$A$2:$L$1105,9,FALSE) -> #N/A
A11: 1 | B11: =VLOOKUP($F11,УЧАСТНИКИ!$A$2:$L$1105,3,FALSE) -> #N/A | C11: =VLOOKUP($F11,УЧАСТНИКИ!$A$2:$L$1105,4,FALSE) -> #N/A | D11: =VLOOKUP($F11,УЧАСТНИКИ!$A$2:$L$1105,5,FALSE) -> #N/A | E11: =VLOOKUP($F11,УЧАСТНИКИ!$A$2:$L$1105,8,FALSE) -> #N/A | J11: =VLOOKUP($F11,УЧАСТНИКИ!$A$2:$L$1105,9,FALSE) -> #N/A
A12: 1 | B12: =VLOOKUP($F12,УЧАСТНИКИ!$A$2:$L$1105,3,FALSE) -> #N/A | C12: =VLOOKUP($F12,УЧАСТНИКИ!$A$2:$L$1105,4,FALSE) -> #N/A | D12: =VLOOKUP($F12,УЧАСТНИКИ!$A$2:$L$1105,5,FALSE) -> #N/A | E12: =VLOOKUP($F12,УЧАСТНИКИ!$A$2:$L$1105,8,FALSE) -> #N/A | J12: =VLOOKUP($F12,УЧАСТНИКИ!$A$2:$L$1105,9,FALSE) -> #N/A
A13: 1 | B13: =VLOOKUP($F13,УЧАСТНИКИ!$A$2:$L$1105,3,FALSE) -> #N/A | C13: =VLOOKUP($F13,УЧАСТНИКИ!$A$2:$L$1105,4,FALSE) -> #N/A | D13: =VLOOKUP($F13,УЧАСТНИКИ!$A$2:$L$1105,5,FALSE) -> #N/A | E13: =VLOOKUP($F13,УЧАСТНИКИ!$A$2:$L$1105,8,FALSE) -> #N/A | J13: =VLOOKUP($F13,УЧАСТНИКИ!$A$2:$L$1105,9,FALSE) -> #N/A
A14: 1 | B14: =VLOOKUP($F14,УЧАСТНИКИ!$A$2:$L$1105,3,FALSE) -> #N/A | C14: =VLOOKUP($F14,УЧАСТНИКИ!$A$2:$L$1105,4,FALSE) -> #N/A | D14: =VLOOKUP($F14,УЧАСТНИКИ!$A$2:$L$1105,5,FALSE) -> #N/A | E14: =VLOOKUP($F14,УЧАСТНИКИ!$A$2:$L$1105,8,FALSE) -> #N/A | J14: =VLOOKUP($F14,УЧАСТНИКИ!$A$2:$L$1105,9,FALSE) -> #N/A
A15: 1 | B15: =VLOOKUP($F15,УЧАСТНИКИ!$A$2:$L$1105,3,FALSE) -> #N/A | C15: =VLOOKUP($F15,УЧАСТНИКИ!$A$2:$L$1105,4,FALSE) -> #N/A | D15: =VLOOKUP($F15,УЧАСТНИКИ!$A$2:$L$1105,5,FALSE) -> #N/A | E15: =VLOOKUP($F15,УЧАСТНИКИ!$A$2:$L$1105,8,FALSE) -> #N/A | J15: =VLOOKUP($F15,УЧАСТНИКИ!$A$2:$L$1105,9,FALSE) -> #N/A
A17: 2 | B17: =VLOOKUP($F17,УЧАСТНИКИ!$A$2:$L$1105,3,FALSE) -> #N/A | C17: =VLOOKUP($F17,УЧАСТНИКИ!$A$2:$L$1105,4,FALSE) -> #N/A | D17: =VLOOKUP($F17,УЧАСТНИКИ!$A$2:$L$1105,5,FALSE) -> #N/A | E17: =VLOOKUP($F17,УЧАСТНИКИ!$A$2:$L$1105,8,FALSE) -> #N/A | J17: =VLOOKUP($F17,УЧАСТНИКИ!$A$2:$L$1105,9,FALSE) -> #N/A
A18: 2 | B18: =VLOOKUP($F18,УЧАСТНИКИ!$A$2:$L$1105,3,FALSE) -> #N/A | C18: =VLOOKUP($F18,УЧАСТНИКИ!$A$2:$L$1105,4,FALSE) -> #N/A | D18: =VLOOKUP($F18,УЧАСТНИКИ!$A$2:$L$1105,5,FALSE) -> #N/A | E18: =VLOOKUP($F18,УЧАСТНИКИ!$A$2:$L$1105,8,FALSE) -> #N/A | J18: =VLOOKUP($F18,УЧАСТНИКИ!$A$2:$L$1105,9,FALSE) -> #N/A
A19: 2 | B19: =VLOOKUP($F19,УЧАСТНИКИ!$A$2:$L$1105,3,FALSE) -> #N/A | C19: =VLOOKUP($F19,УЧАСТНИКИ!$A$2:$L$1105,4,FALSE) -> #N/A | D19: =VLOOKUP($F19,УЧАСТНИКИ!$A$2:$L$1105,5,FALSE) -> #N/A | E19: =VLOOKUP($F19,УЧАСТНИКИ!$A$2:$L$1105,8,FALSE) -> #N/A | J19: =VLOOKUP($F19,УЧАСТНИКИ!$A$2:$L$1105,9,FALSE) -> #N/A
A20: 2 | B20: =VLOOKUP($F20,УЧАСТНИКИ!$A$2:$L$1105,3,FALSE) -> #N/A | C20: =VLOOKUP($F20,УЧАСТНИКИ!$A$2:$L$1105,4,FALSE) -> #N/A | D20: =VLOOKUP($F20,УЧАСТНИКИ!$A$2:$L$1105,5,FALSE) -> #N/A | E20: =VLOOKUP($F20,УЧАСТНИКИ!$A$2:$L$1105,8,FALSE) -> #N/A | J20: =VLOOKUP($F20,УЧАСТНИКИ!$A$2:$L$1105,9,FALSE) -> #N/A
A21: 2 | B21: =VLOOKUP($F21,УЧАСТНИКИ!$A$2:$L$1105,3,FALSE) -> #N/A | C21: =VLOOKUP($F21,УЧАСТНИКИ!$A$2:$L$1105,4,FALSE) -> #N/A | D21: =VLOOKUP($F21,УЧАСТНИКИ!$A$2:$L$1105,5,FALSE) -> #N/A | E21: =VLOOKUP($F21,УЧАСТНИКИ!$A$2:$L$1105,8,FALSE) -> #N/A | J21: =VLOOKUP($F21,УЧАСТНИКИ!$A$2:$L$1105,9,FALSE) -> #N/A
A22: 2 | B22: =VLOOKUP($F22,УЧАСТНИКИ!$A$2:$L$1105,3,FALSE) -> #N/A | C22: =VLOOKUP($F22,УЧАСТНИКИ!$A$2:$L$1105,4,FALSE) -> #N/A | D22: =VLOOKUP($F22,УЧАСТНИКИ!$A$2:$L$1105,5,FALSE) -> #N/A | E22: =VLOOKUP($F22,УЧАСТНИКИ!$A$2:$L$1105,8,FALSE) -> #N/A | J22: =VLOOKUP($F22,УЧАСТНИКИ!$A$2:$L$1105,9,FALSE) -> #N/A
... A64: 8 | B64: =VLOOKUP($F64,УЧАСТНИКИ!$A$2:$L$1105,3,FALSE) -> #N/A | C64: =VLOOKUP($F64,УЧАСТНИКИ!$A$2:$L$1105,4,FALSE) -> #N/A | D64: =VLOOKUP($F64,УЧАСТНИКИ!$A$2:$L$1105,5,FALSE) -> #N/A | E64: =VLOOKUP($F64,УЧАСТНИКИ!$A$2:$L$1105,8,FALSE) -> #N/A | J64: =VLOOKUP($F64,УЧАСТНИКИ!$A$2:$L$1105,9,FALSE) -> #N/A
B65: 2 ЗАБЕГ
A66: 1 | B66: =VLOOKUP($F66,УЧАСТНИКИ!$A$2:$L$1105,3,FALSE) -> #N/A | C66: =VLOOKUP($F66,УЧАСТНИКИ!$A$2:$L$1105,4,FALSE) -> #N/A | D66: =VLOOKUP($F66,УЧАСТНИКИ!$A$2:$L$1105,5,FALSE) -> #N/A | E66: =VLOOKUP($F66,УЧАСТНИКИ!$A$2:$L$1105,8,FALSE) -> #N/A | J66: =VLOOKUP($F66,УЧАСТНИКИ!$A$2:$L$1105,9,FALSE) -> #N/A
A67: 1 | B67: =VLOOKUP($F67,УЧАСТНИКИ!$A$2:$L$1105,3,FALSE) -> #N/A | C67: =VLOOKUP($F67,УЧАСТНИКИ!$A$2:$L$1105,4,FALSE) -> #N/A | D67: =VLOOKUP($F67,УЧАСТНИКИ!$A$2:$L$1105,5,FALSE) -> #N/A | E67: =VLOOKUP($F67,УЧАСТНИКИ!$A$2:$L$1105,8,FALSE) -> #N/A | J67: =VLOOKUP($F67,УЧАСТНИКИ!$A$2:$L$1105,9,FALSE) -> #N/A
A68: 1 | B68: =VLOOKUP($F68,УЧАСТНИКИ!$A$2:$L$1105,3,FALSE) -> #N/A | C68: =VLOOKUP($F68,УЧАСТНИКИ!$A$2:$L$1105,4,FALSE) -> #N/A | D68: =VLOOKUP($F68,УЧАСТНИКИ!$A$2:$L$1105,5,FALSE) -> #N/A | E68: =VLOOKUP($F68,УЧАСТНИКИ!$A$2:$L$1105,8,FALSE) -> #N/A | J68: =VLOOKUP($F68,УЧАСТНИКИ!$A$2:$L$1105,9,FALSE) -> #N/A
A69: 1 | B69: =VLOOKUP($F69,УЧАСТНИКИ!$A$2:$L$1105,3,FALSE) -> #N/A | C69: =VLOOKUP($F69,УЧАСТНИКИ!$A$2:$L$1105,4,FALSE) -> #N/A | D69: =VLOOKUP($F69,УЧАСТНИКИ!$A$2:$L$1105,5,FALSE) -> #N/A | E69: =VLOOKUP($F69,УЧАСТНИКИ!$A$2:$L$1105,8,FALSE) -> #N/A | J69: =VLOOKUP($F69,УЧАСТНИКИ!$A$2:$L$1105,9,FALSE) -> #N/A
A70: 1 | B70: =VLOOKUP($F70,УЧАСТНИКИ!$A$2:$L$1105,3,FALSE) -> #N/A | C70: =VLOOKUP($F70,УЧАСТНИКИ!$A$2:$L$1105,4,FALSE) -> #N/A | D70: =VLOOKUP($F70,УЧАСТНИКИ!$A$2:$L$1105,5,FALSE) -> #N/A | E70: =VLOOKUP($F70,УЧАСТНИКИ!$A$2:$L$1105,8,FALSE) -> #N/A | J70: =VLOOKUP($F70,УЧАСТНИКИ!$A$2:$L$1105,9,FALSE) -> #N/A
A71: 1 | B71: =VLOOKUP($F71,УЧАСТНИКИ!$A$2:$L$1105,3,FALSE) -> #N/A | C71: =VLOOKUP($F71,УЧАСТНИКИ!$A$2:$L$1105,4,FALSE) -> #N/A | D71: =VLOOKUP($F71,УЧАСТНИКИ!$A$2:$L$1105,5,FALSE) -> #N/A | E71: =VLOOKUP($F71,УЧАСТНИКИ!$A$2:$L$1105,8,FALSE) -> #N/A | J71: =VLOOKUP($F71,УЧАСТНИКИ!$A$2:$L$1105,9,FALSE) -> #N/A
A73: 2 | B73: =VLOOKUP($F73,УЧАСТНИКИ!$A$2:$L$1105,3,FALSE) -> #N/A | C73: =VLOOKUP($F73,УЧАСТНИКИ!$A$2:$L$1105,4,FALSE) -> #N/A | D73: =VLOOKUP($F73,УЧАСТНИКИ!$A$2:$L$1105,5,FALSE) -> #N/A | E73: =VLOOKUP($F73,УЧАСТНИКИ!$A$2:$L$1105,8,FALSE) -> #N/A | J73: =VLOOKUP($F73,УЧАСТНИКИ!$A$2:$L$1105,9,FALSE) -> #N/A
A74: 2 | B74: =VLOOKUP($F74,УЧАСТНИКИ!$A$2:$L$1105,3,FALSE) -> #N/A | C74: =VLOOKUP($F74,УЧАСТНИКИ!$A$2:$L$1105,4,FALSE) -> #N/A | D74: =VLOOKUP($F74,УЧАСТНИКИ!$A$2:$L$1105,5,FALSE) -> #N/A | E74: =VLOOKUP($F74,УЧАСТНИКИ!$A$2:$L$1105,8,FALSE) -> #N/A | J74: =VLOOKUP($F74,УЧАСТНИКИ!$A$2:$L$1105,9,FALSE) -> #N/A
A75: 2 | B75: =VLOOKUP($F75,УЧАСТНИКИ!$A$2:$L$1105,3,FALSE) -> #N/A | C75: =VLOOKUP($F75,УЧАСТНИКИ!$A$2:$L$1105,4,FALSE) -> #N/A | D75: =VLOOKUP($F75,УЧАСТНИКИ!$A$2:$L$1105,5,FALSE) -> #N/A | E75: =VLOOKUP($F75,УЧАСТНИКИ!$A$2:$L$1105,8,FALSE) -> #N/A | J75: =VLOOKUP($F75,УЧАСТНИКИ!$A$2:$L$1105,9,FALSE) -> #N/A
A76: 2 | B76: =VLOOKUP($F76,УЧАСТНИКИ!$A$2:$L$1105,3,FALSE) -> #N/A | C76: =VLOOKUP($F76,УЧАСТНИКИ!$A$2:$L$1105,4,FALSE) -> #N/A | D76: =VLOOKUP($F76,УЧАСТНИКИ!$A$2:$L$1105,5,FALSE) -> #N/A | E76: =VLOOKUP($F76,УЧАСТНИКИ!$A$2:$L$1105,8,FALSE) -> #N/A | J76: =VLOOKUP($F76,УЧАСТНИКИ!$A$2:$L$1105,9,FALSE) -> #N/A
A77: 2 | B77: =VLOOKUP($F77,УЧАСТНИКИ!$A$2:$L$1105,3,FALSE) -> #N/A | C77: =VLOOKUP($F77,УЧАСТНИКИ!$A$2:$L$1105,4,FALSE) -> #N/A | D77: =VLOOKUP($F77,УЧАСТНИКИ!$A$2:$L$1105,5,FALSE) -> #N/A | E77: =VLOOKUP($F77,УЧАСТНИКИ!$A$2:$L$1105,8,FALSE) -> #N/A | J77: =VLOOKUP($F77,УЧАСТНИКИ!$A$2:$L$1105,9,FALSE) -> #N/A
A78: 2 | B78: =VLOOKUP($F78,УЧАСТНИКИ!$A$2:$L$1105,3,FALSE) -> #N/A | C78: =VLOOKUP($F78,УЧАСТНИКИ!$A$2:$L$1105,4,FALSE) -> #N/A | D78: =VLOOKUP($F78,УЧАСТНИКИ!$A$2:$L$1105,5,FALSE) -> #N/A | E78: =VLOOKUP($F78,УЧАСТНИКИ!$A$2:$L$1105,8,FALSE) -> #N/A | J78: =VLOOKUP($F78,УЧАСТНИКИ!$A$2:$L$1105,9,FALSE) -> #N/A
... A120: 8 | B120: =VLOOKUP($F120,УЧАСТНИКИ!$A$2:$L$1105,3,FALSE) -> #N/A | C120: =VLOOKUP($F120,УЧАСТНИКИ!$A$2:$L$1105,4,FALSE) -> #N/A | D120: =VLOOKUP($F120,УЧАСТНИКИ!$A$2:$L$1105,5,FALSE) -> #N/A | E120: =VLOOKUP($F120,УЧАСТНИКИ!$A$2:$L$1105,8,FALSE) -> #N/A | J120: =VLOOKUP($F120,УЧАСТНИКИ!$A$2:$L$1105,9,FALSE) -> #N/A
A124: Рефери по бегу: | D124: Айнетдинов Г., ССВК, Москва
A125: Ст.судья: | D125: Лобойко Н., ССВК, Ставрополь
A126: Секретарь: | D126: Орлянская С., СС1К, Краснодар

Sheet 110
A1: =Name_2 -> ВСЕРОССИЙСКАЯ ФЕДЕРАЦИЯ ЛЕГКОЙ АТЛЕТИКИ
A2: СТАРТОВЫЙ ПРОТОКОЛ
A3: =Name_4 -> КОМАНДНЫЙ ЧЕМПИОНАТ РОССИИ
E4: ЗАБЕГИ
A5: =d_4 -> ЖЕНЩИНЫ | C5: РМ | D5: 12,20 | F5: =d_1 -> 04.09.2019г. | H5: начало: | I5: 16:20
A6: Бег с барьерами 100 м | C6: РЕ | D6: 12,21 | H6: окончание:
A7: h-0,84 м | C7: РР | D7: 12,26 | J7: =d_5 -> г. Сочи, ул. Бзугу 2, ст. им. Славы Метревели
A8: № п/п | B8: Фамилия, имя участника | C8: Дата рождения | D8: Территория | E8: Заявленный разряд | F8: Номер участника | G8: Приход | H8: Результат | I8: Место | J8: Примеч.
B9: 1 ЗАБЕГ
A10: 1
A11: 2 | B11: =VLOOKUP($F11,УЧАСТНИКИ!$A$2:$L$1105,3,FALSE) -> Ефимова Полина | C11: =VLOOKUP($F11,УЧАСТНИКИ!$A$2:$L$1105,4,FALSE) -> 16.12.2001 | D11: =VLOOKUP($F11,УЧАСТНИКИ!$A$2:$L$1105,5,FALSE) -> Курганская область | E11: =VLOOKUP($F11,УЧАСТНИКИ!$A$2:$L$1105,8,FALSE) -> КМС | F11: 405 | J11: Л
A12: 3 | B12: =VLOOKUP($F12,УЧАСТНИКИ!$A$2:$L$1105,3,FALSE) -> Ватропина Анна | C12: =VLOOKUP($F12,УЧАСТНИКИ!$A$2:$L$1105,4,FALSE) -> 05.10.1990 | D12: =VLOOKUP($F12,УЧАСТНИКИ!$A$2:$L$1105,5,FALSE) -> Республика Татарстан | E12: =VLOOKUP($F12,УЧАСТНИКИ!$A$2:$L$1105,8,FALSE) -> МС | F12: 248
A13: 4 | B13: =VLOOKUP($F13,УЧАСТНИКИ!$A$2:$L$1105,3,FALSE) -> Дементьева Татьяна | C13: =VLOOKUP($F13,УЧАСТНИКИ!$A$2:$L$1105,4,FALSE) -> 08.05.1981 | D13: =VLOOKUP($F13,УЧАСТНИКИ!$A$2:$L$1105,5,FALSE) -> Краснодарский край | E13: =VLOOKUP($F13,УЧАСТНИКИ!$A$2:$L$1105,8,FALSE) -> МСМК | F13: 87
A14: 5 | B14: =VLOOKUP($F14,УЧАСТНИКИ!$A$2:$L$1105,3,FALSE) -> Печенкина Вероника | C14: =VLOOKUP($F14,УЧАСТНИКИ!$A$2:$L$1105,4,FALSE) -> 31.08.1997 | D14: =VLOOKUP($F14,УЧАСТНИКИ!$A$2:$L$1105,5,FALSE) -> Новосибирская область | E14: =VLOOKUP($F14,УЧАСТНИКИ!$A$2:$L$1105,8,FALSE) -> МС | F14: 231
A15: 6 | B15: =VLOOKUP($F15,УЧАСТНИКИ!$A$2:$L$1105,3,FALSE) -> Николаева Анастасия | C15: =VLOOKUP($F15,УЧАСТНИКИ!$A$2:$L$1105,4,FALSE) -> 24.09.1995 | D15: =VLOOKUP($F15,УЧАСТНИКИ!$A$2:$L$1105,5,FALSE) -> Московская область Самарская область | E15: =VLOOKUP($F15,УЧАСТНИКИ!$A$2:$L$1105,8,FALSE) -> МСМК | F15: 70
A16: 7 | B16: =VLOOKUP($F16,УЧАСТНИКИ!$A$2:$L$1105,3,FALSE) -> Богатырева Екатерина | C16: =VLOOKUP($F16,УЧАСТНИКИ!$A$2:$L$1105,4,FALSE) -> 05.10.2000 | D16: =VLOOKUP($F16,УЧАСТНИКИ!$A$2:$L$1105,5,FALSE) -> Республика Карелия | E16: =VLOOKUP($F16,УЧАСТНИКИ!$A$2:$L$1105,8,FALSE) -> 1 | F16: 298 | J16: Л
A17: 8
B18: 2 ЗАБЕГ
A19: 1
A20: 2 | B20: =VLOOKUP($F20,УЧАСТНИКИ!$A$2:$L$1105,3,FALSE) -> Тропина Екатерина | C20: =VLOOKUP($F20,УЧАСТНИКИ!$A$2:$L$1105,4,FALSE) -> 05.08.1997 | D20: =VLOOKUP($F20,УЧАСТНИКИ!$A$2:$L$1105,5,FALSE) -> Новосибирская область | E20: =VLOOKUP($F20,УЧАСТНИКИ!$A$2:$L$1105,8,FALSE) -> МС | F20: 234 | J20: Л
A21: 3 | B21: =VLOOKUP($F21,УЧАСТНИКИ!$A$2:$L$1105,3,FALSE) -> Манакова (Решеткина) Ирина | C21: =VLOOKUP($F21,УЧАСТНИКИ!$A$2:$L$1105,4,FALSE) -> 30.01.1989 | D21: =VLOOKUP($F21,УЧАСТНИКИ!$A$2:$L$1105,5,FALSE) -> Москва Санкт-Петербург | E21: =VLOOKUP($F21,УЧАСТНИКИ!$A$2:$L$1105,8,FALSE) -> МС | F21: 159
A22: 4 | B22: =VLOOKUP($F22,УЧАСТНИКИ!$A$2:$L$1105,3,FALSE) -> Шишкина Дарья | C22: =VLOOKUP($F22,УЧАСТНИКИ!$A$2:$L$1105,4,FALSE) -> 23.04.1999 | D22: =VLOOKUP($F22,УЧАСТНИКИ!$A$2:$L$1105,5,FALSE) -> Санкт-Петербург Республика Карелия | E22: =VLOOKUP($F22,УЧАСТНИКИ!$A$2:$L$1105,8,FALSE) -> КМС | F22: 190
A23: 5 | B23: =VLOOKUP($F23,УЧАСТНИКИ!$A$2:$L$1105,3,FALSE) -> Думен (Рябенко) Елена | C23: =VLOOKUP($F23,УЧАСТНИКИ!$A$2:$L$1105,4,FALSE) -> 13.01.1994 | D23: =VLOOKUP($F23,УЧАСТНИКИ!$A$2:$L$1105,5,FALSE) -> Краснодарский край Карачаево-Черкесская республика | E23: =VLOOKUP($F23,УЧАСТНИКИ!$A$2:$L$1105,8,FALSE) -> МС | F23: 89
A24: 6 | B24: =VLOOKUP($F24,УЧАСТНИКИ!$A$2:$L$1105,3,FALSE) -> Рытикова Валерия | C24: =VLOOKUP($F24,УЧАСТНИКИ!$A$2:$L$1105,4,FALSE) -> 13.12.1995 | D24: =VLOOKUP($F24,УЧАСТНИКИ!$A$2:$L$1105,5,FALSE) -> Воронежская область | E24: =VLOOKUP($F24,УЧАСТНИКИ!$A$2:$L$1105,8,FALSE) -> КМС | F24: 419
A25: 7 | B25: =VLOOKUP($F25,УЧАСТНИКИ!$A$2:$L$1105,3,FALSE) -> Киселева Татьяна | C25: =VLOOKUP($F25,УЧАСТНИКИ!$A$2:$L$1105,4,FALSE) -> 06.02.1997 | D25: =VLOOKUP($F25,УЧАСТНИКИ!$A$2:$L$1105,5,FALSE) -> Курганская область | E25: =VLOOKUP($F25,УЧАСТНИКИ!$A$2:$L$1105,8,FALSE) -> КМС | F25: 407
A26: 8 | B26: =VLOOKUP($F26,УЧАСТНИКИ!$A$2:$L$1105,3,FALSE) -> Асташева Алиса | C26: =VLOOKUP($F26,УЧАСТНИКИ!$A$2:$L$1105,4,FALSE) -> 02.06.2002 | D26: =VLOOKUP($F26,УЧАСТНИКИ!$A$2:$L$1105,5,FALSE) -> Курганская область | E26: =VLOOKUP($F26,УЧАСТНИКИ!$A$2:$L$1105,8,FALSE) -> 1 | F26: 404 | J26: Л
A30: Рефери по бегу: | D30: Айнетдинов Г., ССВК, Москва
A31: Ст.судья: | D31: Лобойко Н., ССВК, Ставрополь
A32: Секретарь: | D32: Орлянская С., СС1К, Краснодар

Sheet 110ф
A1: =Name_2 -> ВСЕРОССИЙСКАЯ ФЕДЕРАЦИЯ ЛЕГКОЙ АТЛЕТИКИ
A2: СТАРТОВЫЙ ПРОТОКОЛ
A3: =Name_4 -> КОМАНДНЫЙ ЧЕМПИОНАТ РОССИИ
E4: ФИНАЛ
A5: =d_4 -> ЖЕНЩИНЫ | C5: РМ | D5: 12,20 | G5: =d_1 -> 04.09.2019г. | I5: начало: | J5: 17:50
A6: Бег с барьерами 100 м | C6: РЕ | D6: 12,21 | I6: окончание:
A7: ='110'!A7 -> h-0,84 м | C7: РР | D7: 12,26 | K7: =d_5 -> г. Сочи, ул. Бзугу 2, ст. им. Славы Метревели
A8: № п/п | B8: Фамилия, имя участника | C8: Дата рождения | D8: Территория | E8: Заявленный разряд | F8: Номер участника | G8: рез-тат забега | H8: приход | I8: Результат | J8: Место | K8: Примеч.
A10: 1 | B10: =VLOOKUP($F10,УЧАСТНИКИ!$A$2:$L$1105,3,FALSE) -> Киселева Татьяна | C10: =VLOOKUP($F10,УЧАСТНИКИ!$A$2:$L$1105,4,FALSE) -> 06.02.1997 | D10: =VLOOKUP($F10,УЧАСТНИКИ!$A$2:$L$1105,5,FALSE) -> Курганская область | E10: =VLOOKUP($F10,УЧАСТНИКИ!$A$2:$L$1105,8,FALSE) -> КМС | F10: 407 | G10: 14,52
A11: 2 | B11: =VLOOKUP($F11,УЧАСТНИКИ!$A$2:$L$1105,3,FALSE) -> Думен (Рябенко) Елена | C11: =VLOOKUP($F11,УЧАСТНИКИ!$A$2:$L$1105,4,FALSE) -> 13.01.1994 | D11: =VLOOKUP($F11,УЧАСТНИКИ!$A$2:$L$1105,5,FALSE) -> Краснодарский край Карачаево-Черкесская республика | E11: =VLOOKUP($F11,УЧАСТНИКИ!$A$2:$L$1105,8,FALSE) -> МС | F11: 89 | G11: 14,43
A12: 3 | B12: =VLOOKUP($F12,УЧАСТНИКИ!$A$2:$L$1105,3,FALSE) -> Николаева Анастасия | C12: =VLOOKUP($F12,УЧАСТНИКИ!$A$2:$L$1105,4,FALSE) -> 24.09.1995 | D12: =VLOOKUP($F12,УЧАСТНИКИ!$A$2:$L$1105,5,FALSE) -> Московская область Самарская область | E12: =VLOOKUP($F12,УЧАСТНИКИ!$A$2:$L$1105,8,FALSE) -> МСМК | F12: 70 | G12: 13,57
A13: 4 | B13: =VLOOKUP($F13,УЧАСТНИКИ!$A$2:$L$1105,3,FALSE) -> Манакова (Решеткина) Ирина | C13: =VLOOKUP($F13,УЧАСТНИКИ!$A$2:$L$1105,4,FALSE) -> 30.01.1989 | D13: =VLOOKUP($F13,УЧАСТНИКИ!$A$2:$L$1105,5,FALSE) -> Москва Санкт-Петербург | E13: =VLOOKUP($F13,УЧАСТНИКИ!$A$2:$L$1105,8,FALSE) -> МС | F13: 159 | G13: 13,93
A14: 5 | B14: =VLOOKUP($F14,УЧАСТНИКИ!$A$2:$L$1105,3,FALSE) -> Печенкина Вероника | C14: =VLOOKUP($F14,УЧАСТНИКИ!$A$2:$L$1105,4,FALSE) -> 31.08.1997 | D14: =VLOOKUP($F14,УЧАСТНИКИ!$A$2:$L$1105,5,FALSE) -> Новосибирская область | E14: =VLOOKUP($F14,УЧАСТНИКИ!$A$2:$L$1105,8,FALSE) -> МС | F14: 231 | G14: 13,72
A15: 6 | B15: =VLOOKUP($F15,УЧАСТНИКИ!$A$2:$L$1105,3,FALSE) -> Тропина Екатерина | C15: =VLOOKUP($F15,УЧАСТНИКИ!$A$2:$L$1105,4,FALSE) -> 05.08.1997 | D15: =VLOOKUP($F15,УЧАСТНИКИ!$A$2:$L$1105,5,FALSE) -> Новосибирская область | E15: =VLOOKUP($F15,УЧАСТНИКИ!$A$2:$L$1105,8,FALSE) -> МС | F15: 234 | G15: 14,16 | K15: Л
A16: 7 | B16: =VLOOKUP($F16,УЧАСТНИКИ!$A$2:$L$1105,3,FALSE) -> Дементьева Татьяна | C16: =VLOOKUP($F16,УЧАСТНИКИ!$A$2:$L$1105,4,FALSE) -> 08.05.1981 | D16: =VLOOKUP($F16,УЧАСТНИКИ!$A$2:$L$1105,5,FALSE) -> Краснодарский край | E16: =VLOOKUP($F16,УЧАСТНИКИ!$A$2:$L$1105,8,FALSE) -> МСМК | F16: 87 | G16: 13,72
A17: 8 | B17: =VLOOKUP($F17,УЧАСТНИКИ!$A$2:$L$1105,3,FALSE) -> Ватропина Анна | C17: =VLOOKUP($F17,УЧАСТНИКИ!$A$2:$L$1105,4,FALSE) -> 05.10.1990 | D17: =VLOOKUP($F17,УЧАСТНИКИ!$A$2:$L$1105,5,FALSE) -> Республика Татарстан | E17: =VLOOKUP($F17,УЧАСТНИКИ!$A$2:$L$1105,8,FALSE) -> МС | F17: 248 | G17: 14,08
A20: Рефери по бегу: | D20: Айнетдинов Г., ССВК, Москва
A21: Ст.судья: | D21: Лобойко Н., ССВК, Ставрополь
A22: Секретарь: | D22: Орлянская С., СС1К, Краснодар

Sheet 400СБ
A1: =Name_2 -> ВСЕРОССИЙСКАЯ ФЕДЕРАЦИЯ ЛЕГКОЙ АТЛЕТИКИ
A2: СТАРТОВЫЙ ПРОТОКОЛ
A3: =Name_4 -> КОМАНДНЫЙ ЧЕМПИОНАТ РОССИИ
E4: ФИНАЛЬНЫЕ ЗАБЕГИ
A5: =d_4 -> ЖЕНЩИНЫ | C5: РМ | D5: 52,34 | H5: =d_2 -> 05.09.2019г. | I5: начало: | J5: 17:20
A6: Бег с барьерами 400 м | C6: РЕ | D6: 52,34 | I6: окончание:
A7: h-0,762 м | C7: РР | D7: 52,34 | J7: =d_5 -> г. Сочи, ул. Бзугу 2, ст. им. Славы Метревели
A8: № п/п | B8: Фамилия, имя участника | C8: Дата рождения | D8: Территория | E8: Заявленный разряд | F8: Номер участника | G8: Приход | H8: Результат | I8: Место | J8: Примеч.
B9: 1 ЗАБЕГ
A10: 1
A11: 2 | B11: =VLOOKUP($F11,УЧАСТНИКИ!$A$2:$L$1105,3,FALSE) -> Грекова Екатерина | C11: =VLOOKUP($F11,УЧАСТНИКИ!$A$2:$L$1105,4,FALSE) -> 26.07.1998 | D11: =VLOOKUP($F11,УЧАСТНИКИ!$A$2:$L$1105,5,FALSE) -> Тверская область | E11: =VLOOKUP($F11,УЧАСТНИКИ!$A$2:$L$1105,8,FALSE) -> 1 | F11: 436
A12: 3 | B12: =VLOOKUP($F12,УЧАСТНИКИ!$A$2:$L$1105,3,FALSE) -> Рощупкина Юлия | C12: =VLOOKUP($F12,УЧАСТНИКИ!$A$2:$L$1105,4,FALSE) -> 19.04.1996 | D12: =VLOOKUP($F12,УЧАСТНИКИ!$A$2:$L$1105,5,FALSE) -> Белгородская область | E12: =VLOOKUP($F12,УЧАСТНИКИ!$A$2:$L$1105,8,FALSE) -> МС | F12: 283
A13: 4 | B13: =VLOOKUP($F13,УЧАСТНИКИ!$A$2:$L$1105,3,FALSE) -> Колесникова Дарья | C13: =VLOOKUP($F13,УЧАСТНИКИ!$A$2:$L$1105,4,FALSE) -> 28.07.2002 | D13: =VLOOKUP($F13,УЧАСТНИКИ!$A$2:$L$1105,5,FALSE) -> Краснодарский край | E13: =VLOOKUP($F13,УЧАСТНИКИ!$A$2:$L$1105,8,FALSE) -> 1 | F13: 96 | J13: Л
A14: 5 | B14: =VLOOKUP($F14,УЧАСТНИКИ!$A$2:$L$1105,3,FALSE) -> Кузьмина Светлана | C14: =VLOOKUP($F14,УЧАСТНИКИ!$A$2:$L$1105,4,FALSE) -> 20.02.1997 | D14: =VLOOKUP($F14,УЧАСТНИКИ!$A$2:$L$1105,5,FALSE) -> Сахалинская область | E14: =VLOOKUP($F14,УЧАСТНИКИ!$A$2:$L$1105,8,FALSE) -> КМС | F14: 358
A15: 6 | B15: =VLOOKUP($F15,УЧАСТНИКИ!$A$2:$L$1105,3,FALSE) -> Лопунова Екатерина | C15: =VLOOKUP($F15,УЧАСТНИКИ!$A$2:$L$1105,4,FALSE) -> 01.06.1998 | D15: =VLOOKUP($F15,УЧАСТНИКИ!$A$2:$L$1105,5,FALSE) -> Санкт-Петербург | E15: =VLOOKUP($F15,УЧАСТНИКИ!$A$2:$L$1105,8,FALSE) -> КМС | F15: 157 | J15: Л
A16: 7 | B16: =VLOOKUP($F16,УЧАСТНИКИ!$A$2:$L$1105,3,FALSE) -> Рухлядева Мария | C16: =VLOOKUP($F16,УЧАСТНИКИ!$A$2:$L$1105,4,FALSE) -> 27.11.1999 | D16: =VLOOKUP($F16,УЧАСТНИКИ!$A$2:$L$1105,5,FALSE) -> Санкт-Петербург | E16: =VLOOKUP($F16,УЧАСТНИКИ!$A$2:$L$1105,8,FALSE) -> КМС | F16: 174 | J16: Л
A17: 8
B18: 2 ЗАБЕГ
A19: 1
A20: 2 | B20: =VLOOKUP($F20,УЧАСТНИКИ!$A$2:$L$1105,3,FALSE) -> Васина Ксения | C20: =VLOOKUP($F20,УЧАСТНИКИ!$A$2:$L$1105,4,FALSE) -> 20.05.2002 | D20: =VLOOKUP($F20,УЧАСТНИКИ!$A$2:$L$1105,5,FALSE) -> Республика Карелия | E20: =VLOOKUP($F20,УЧАСТНИКИ!$A$2:$L$1105,8,FALSE) -> КМС | F20: 425 | J20: Л
A21: 3 | B21: =VLOOKUP($F21,УЧАСТНИКИ!$A$2:$L$1105,3,FALSE) -> Мосеева (Алексеева) Надежда | C21: =VLOOKUP($F21,УЧАСТНИКИ!$A$2:$L$1105,4,FALSE) -> 16.07.1988 | D21: =VLOOKUP($F21,УЧАСТНИКИ!$A$2:$L$1105,5,FALSE) -> Санкт-Петербург Ленинградская область | E21: =VLOOKUP($F21,УЧАСТНИКИ!$A$2:$L$1105,8,FALSE) -> МС | F21: 160
A22: 4 | B22: =VLOOKUP($F22,УЧАСТНИКИ!$A$2:$L$1105,3,FALSE) -> Шахворостова Валерия | C22: =VLOOKUP($F22,УЧАСТНИКИ!$A$2:$L$1105,4,FALSE) -> 22.05.1998 | D22: =VLOOKUP($F22,УЧАСТНИКИ!$A$2:$L$1105,5,FALSE) -> Москва Владимирская область | E22: =VLOOKUP($F22,УЧАСТНИКИ!$A$2:$L$1105,8,FALSE) -> КМС | F22: 400
A23: 5 | B23: =VLOOKUP($F23,УЧАСТНИКИ!$A$2:$L$1105,3,FALSE) -> Топольскова Ольга | C23: =VLOOKUP($F23,УЧАСТНИКИ!$A$2:$L$1105,4,FALSE) -> 25.06.2002 | D23: =VLOOKUP($F23,УЧАСТНИКИ!$A$2:$L$1105,5,FALSE) -> Ставропольский край | E23: =VLOOKUP($F23,УЧАСТНИКИ!$A$2:$L$1105,8,FALSE) -> КМС | F23: 341
A24: 6 | B24: =VLOOKUP($F24,УЧАСТНИКИ!$A$2:$L$1105,3,FALSE) -> Сазанова Екатерина | C24: =VLOOKUP($F24,УЧАСТНИКИ!$A$2:$L$1105,4,FALSE) -> 28.05.1996 | D24: =VLOOKUP($F24,УЧАСТНИКИ!$A$2:$L$1105,5,FALSE) -> Санкт-Петербург Республика Карелия | E24: =VLOOKUP($F24,УЧАСТНИКИ!$A$2:$L$1105,8,FALSE) -> КМС | F24: 428
A25: 7 | B25: =VLOOKUP($F25,УЧАСТНИКИ!$A$2:$L$1105,3,FALSE) -> Шатурная Светлана | C25: =VLOOKUP($F25,УЧАСТНИКИ!$A$2:$L$1105,4,FALSE) -> 15.06.1995 | D25: =VLOOKUP($F25,УЧАСТНИКИ!$A$2:$L$1105,5,FALSE) -> Краснодарский край Карачаево-Черкесская республика | E25: =VLOOKUP($F25,УЧАСТНИКИ!$A$2:$L$1105,8,FALSE) -> КМС | F25: 125
A26: 8
B27: 3 ЗАБЕГ
A28: 1
A29: 2 | B29: =VLOOKUP($F29,УЧАСТНИКИ!$A$2:$L$1105,3,FALSE) -> Бланк Анна | C29: =VLOOKUP($F29,УЧАСТНИКИ!$A$2:$L$1105,4,FALSE) -> 12.01.1990 | D29: =VLOOKUP($F29,УЧАСТНИКИ!$A$2:$L$1105,5,FALSE) -> Челябинская область | E29: =VLOOKUP($F29,УЧАСТНИКИ!$A$2:$L$1105,8,FALSE) -> МСМК | F29: 312
A30: 3 | B30: =VLOOKUP($F30,УЧАСТНИКИ!$A$2:$L$1105,3,FALSE) -> Кибакина (Коршунова) Анастасия | C30: =VLOOKUP($F30,УЧАСТНИКИ!$A$2:$L$1105,4,FALSE) -> 17.05.1992 | D30: =VLOOKUP($F30,УЧАСТНИКИ!$A$2:$L$1105,5,FALSE) -> Ульяновская область | E30: =VLOOKUP($F30,УЧАСТНИКИ!$A$2:$L$1105,8,FALSE) -> МС | F30: 287
A31: 4 | B31: =VLOOKUP($F31,УЧАСТНИКИ!$A$2:$L$1105,3,FALSE) -> Колесниченко (Давыдова) Ирина | C31: =VLOOKUP($F31,УЧАСТНИКИ!$A$2:$L$1105,4,FALSE) -> 27.05.1988 | D31: =VLOOKUP($F31,УЧАСТНИКИ!$A$2:$L$1105,5,FALSE) -> Москва Московская область | E31: =VLOOKUP($F31,УЧАСТНИКИ!$A$2:$L$1105,8,FALSE) -> ЗМС | F31: 21 | J31: Л
A32: 5 | B32: =VLOOKUP($F32,УЧАСТНИКИ!$A$2:$L$1105,3,FALSE) -> Андреева (Храмова) Валерия | C32: =VLOOKUP($F32,УЧАСТНИКИ!$A$2:$L$1105,4,FALSE) -> 13.08.1992 | D32: =VLOOKUP($F32,УЧАСТНИКИ!$A$2:$L$1105,5,FALSE) -> Московская область Самарская область | E32: =VLOOKUP($F32,УЧАСТНИКИ!$A$2:$L$1105,8,FALSE) -> МС | F32: 53
A33: 6 | B33: =VLOOKUP($F33,УЧАСТНИКИ!$A$2:$L$1105,3,FALSE) -> Зуйкевич Елена | C33: =VLOOKUP($F33,УЧАСТНИКИ!$A$2:$L$1105,4,FALSE) -> 26.02.1990 | D33: =VLOOKUP($F33,УЧАСТНИКИ!$A$2:$L$1105,5,FALSE) -> Калининградская область Пермский край | E33: =VLOOKUP($F33,УЧАСТНИКИ!$A$2:$L$1105,8,FALSE) -> МС | F33: 440
A34: 7 | B34: =VLOOKUP($F34,УЧАСТНИКИ!$A$2:$L$1105,3,FALSE) -> Буреева Олеся | C34: =VLOOKUP($F34,УЧАСТНИКИ!$A$2:$L$1105,4,FALSE) -> 05.07.1998 | D34: =VLOOKUP($F34,УЧАСТНИКИ!$A$2:$L$1105,5,FALSE) -> Воронежская область | E34: =VLOOKUP($F34,УЧАСТНИКИ!$A$2:$L$1105,8,FALSE) -> МС | F34: 414
A35: 8
A39: Рефери по бегу: | D39: Айнетдинов Г., ССВК, Москва
A40: Ст.судья: | D40: Лобойко Н., ССВК, Ставрополь
A41: Секретарь: | D41: Орлянская С., СС1К, Краснодар

Sheet 3000СП
A1: =Name_2 -> ВСЕРОССИЙСКАЯ ФЕДЕРАЦИЯ ЛЕГКОЙ АТЛЕТИКИ
A2: СТАРТОВЫЙ ПРОТОКОЛ
A3: =Name_4 -> КОМАНДНЫЙ ЧЕМПИОНАТ РОССИИ
E4: ФИНАЛЬНЫЕ ЗАБЕГИ
A5: =d_4 -> ЖЕНЩИНЫ | C5: РМ | D5: 8:44,32 | H5: =d_1 -> 04.09.2019г. | I5: начало: | J5: 19:00
A6: Бег с препятствиями 3000 м | C6: РЕ | D6: 8:58,81 | I6: окончание:
C7: РР | D7: 8:58,81 | J7: =d_5 -> г. Сочи, ул. Бзугу 2, ст. им. Славы Метревели
A8: № п/п | B8: Фамилия, имя участника | C8: Дата рождения | D8: Территория | E8: Заявленный разряд | F8: Номер участника | G8: Приход | H8: Результат | I8: Место | J8: Примеч.
B9: 1 ЗАБЕГ
A10: 1 | B10: =VLOOKUP($F10,УЧАСТНИКИ!$A$2:$L$1105,3,FALSE) -> Колоскова (Власова) Наталья | C10: =VLOOKUP($F10,УЧАСТНИКИ!$A$2:$L$1105,4,FALSE) -> 19.07.1988 | D10: =VLOOKUP($F10,УЧАСТНИКИ!$A$2:$L$1105,5,FALSE) -> Москва Приморский край | E10: =VLOOKUP($F10,УЧАСТНИКИ!$A$2:$L$1105,8,FALSE) -> МСМК | F10: 22
A11: 2 | B11: =VLOOKUP($F11,УЧАСТНИКИ!$A$2:$L$1105,3,FALSE) -> Вовк Ольга | C11: =VLOOKUP($F11,УЧАСТНИКИ!$A$2:$L$1105,4,FALSE) -> 13.02.1993 | D11: =VLOOKUP($F11,УЧАСТНИКИ!$A$2:$L$1105,5,FALSE) -> Ростовская область | E11: =VLOOKUP($F11,УЧАСТНИКИ!$A$2:$L$1105,8,FALSE) -> МСМК | F11: 301
A12: 3 | B12: =VLOOKUP($F12,УЧАСТНИКИ!$A$2:$L$1105,3,FALSE) -> Аристархова Наталья | C12: =VLOOKUP($F12,УЧАСТНИКИ!$A$2:$L$1105,4,FALSE) -> 31.10.1989 | D12: =VLOOKUP($F12,УЧАСТНИКИ!$A$2:$L$1105,5,FALSE) -> Красноярский край | E12: =VLOOKUP($F12,УЧАСТНИКИ!$A$2:$L$1105,8,FALSE) -> МСМК | F12: 220
A13: 4 | B13: =VLOOKUP($F13,УЧАСТНИКИ!$A$2:$L$1105,3,FALSE) -> Именина Мария | C13: =VLOOKUP($F13,УЧАСТНИКИ!$A$2:$L$1105,4,FALSE) -> 09.11.1989 | D13: =VLOOKUP($F13,УЧАСТНИКИ!$A$2:$L$1105,5,FALSE) -> Рязанская область | E13: =VLOOKUP($F13,УЧАСТНИКИ!$A$2:$L$1105,8,FALSE) -> МС | F13: 362
A14: 5 | B14: =VLOOKUP($F14,УЧАСТНИКИ!$A$2:$L$1105,3,FALSE) -> Петрова Анна | C14: =VLOOKUP($F14,УЧАСТНИКИ!$A$2:$L$1105,4,FALSE) -> 15.07.1994 | D14: =VLOOKUP($F14,УЧАСТНИКИ!$A$2:$L$1105,5,FALSE) -> Санкт-Петербург Вологодская область | E14: =VLOOKUP($F14,УЧАСТНИКИ!$A$2:$L$1105,8,FALSE) -> МС | F14: 167
A15: 6 | B15: =VLOOKUP($F15,УЧАСТНИКИ!$A$2:$L$1105,3,FALSE) -> Ивонина Екатерина | C15: =VLOOKUP($F15,УЧАСТНИКИ!$A$2:$L$1105,4,FALSE) -> 14.06.1994 | D15: =VLOOKUP($F15,УЧАСТНИКИ!$A$2:$L$1105,5,FALSE) -> Московская область Пермский край | E15: =VLOOKUP($F15,УЧАСТНИКИ!$A$2:$L$1105,8,FALSE) -> МС | F15: 61
A16: 7 | B16: =VLOOKUP($F16,УЧАСТНИКИ!$A$2:$L$1105,3,FALSE) -> Тропина Анна | C16: =VLOOKUP($F16,УЧАСТНИКИ!$A$2:$L$1105,4,FALSE) -> 03.11.1998 | D16: =VLOOKUP($F16,УЧАСТНИКИ!$A$2:$L$1105,5,FALSE) -> Свердловская область | E16: =VLOOKUP($F16,УЧАСТНИКИ!$A$2:$L$1105,8,FALSE) -> МС | F16: 202
A17: 8 | B17: =VLOOKUP($F17,УЧАСТНИКИ!$A$2:$L$1105,3,FALSE) -> Соколенко Екатерина | C17: =VLOOKUP($F17,УЧАСТНИКИ!$A$2:$L$1105,4,FALSE) -> 13.09.1992 | D17: =VLOOKUP($F17,УЧАСТНИКИ!$A$2:$L$1105,5,FALSE) -> Томская область Новосибирская область | E17: =VLOOKUP($F17,УЧАСТНИКИ!$A$2:$L$1105,8,FALSE) -> МСМК | F17: 374
A20: Рефери по бегу: | D20: Айнетдинов Г., ССВК, Москва
A21: Ст.судья: | D21: Лобойко Н., ССВК, Ставрополь
A22: Секретарь: | D22: Орлянская С., СС1К, Краснодар

Sheet высота
A1: =Name_2 -> ВСЕРОССИЙСКАЯ ФЕДЕРАЦИЯ ЛЕГКОЙ АТЛЕТИКИ
A2: СТАРТОВЫЙ ПРОТОКОЛ
A3: =Name_4 -> КОМАНДНЫЙ ЧЕМПИОНАТ РОССИИ
W4: ФИНАЛЬНЫЕ СОРЕВНОВАНИЯ
A5: =d_4 -> ЖЕНЩИНЫ | C5: РМ | D5: 2.09 | AF5: =d_1 -> 04.09.2019г. | AN5: начало: | AO5: 17:00
A6: Прыжок в высоту | C6: РЕ | D6: 2,09 | F6: Порядок подьема высот: | M6: 170-175-179-182-185-188-191-194-196 и далее по 2 см | AN6: окончание:
C7: РР | D7: 2.07 | AO7: =d_5 -> г. Сочи, ул. Бзугу 2, ст. им. Славы Метревели
A8: № п/п | B8: Фамилия, имя участника | C8: Дата рождения | D8: Территория | E8: Заявленный разряд | F8: Номер участника | G8: В Ы С О Т Ы | AM8: Лучший результ. | AN8: Место | AO8: Примеч.
AK9: А | AL9: Б
A10: 1 | B10: =VLOOKUP($F10,УЧАСТНИКИ!$A$2:$L$1105,3,FALSE) -> Корецкая Снежана | C10: =VLOOKUP($F10,УЧАСТНИКИ!$A$2:$L$1105,4,FALSE) -> 15.11.1996 | D10: =VLOOKUP($F10,УЧАСТНИКИ!$A$2:$L$1105,5,FALSE) -> Краснодарский край | E10: =VLOOKUP($F10,УЧАСТНИКИ!$A$2:$L$1105,8,FALSE) -> КМС | F10: 98
A11: 2 | B11: =VLOOKUP($F11,УЧАСТНИКИ!$A$2:$L$1105,3,FALSE) -> Ермаченкова Татьяна | C11: =VLOOKUP($F11,УЧАСТНИКИ!$A$2:$L$1105,4,FALSE) -> 09.09.1998 | D11: =VLOOKUP($F11,УЧАСТНИКИ!$A$2:$L$1105,5,FALSE) -> Ленинградская область Санкт-Петербург | E11: =VLOOKUP($F11,УЧАСТНИКИ!$A$2:$L$1105,8,FALSE) -> МС | F11: 145
A12: 3 | B12: =VLOOKUP($F12,УЧАСТНИКИ!$A$2:$L$1105,3,FALSE) -> Королёва (Полтавец) Кристина | C12: =VLOOKUP($F12,УЧАСТНИКИ!$A$2:$L$1105,4,FALSE) -> 06.11.1990 | D12: =VLOOKUP($F12,УЧАСТНИКИ!$A$2:$L$1105,5,FALSE) -> Липецкая область Кемеровская область | E12: =VLOOKUP($F12,УЧАСТНИКИ!$A$2:$L$1105,8,FALSE) -> МСМК | F12: 241
A13: 4 | B13: =VLOOKUP($F13,УЧАСТНИКИ!$A$2:$L$1105,3,FALSE) -> Диянова Анастасия | C13: =VLOOKUP($F13,УЧАСТНИКИ!$A$2:$L$1105,4,FALSE) -> 23.04.1996 | D13: =VLOOKUP($F13,УЧАСТНИКИ!$A$2:$L$1105,5,FALSE) -> Санкт-Петербург | E13: =VLOOKUP($F13,УЧАСТНИКИ!$A$2:$L$1105,8,FALSE) -> КМС | F13: 144 | AO13: Л
A14: 5 | B14: =VLOOKUP($F14,УЧАСТНИКИ!$A$2:$L$1105,3,FALSE) -> Крайникова (Воронина) Софья | C14: =VLOOKUP($F14,УЧАСТНИКИ!$A$2:$L$1105,4,FALSE) -> 22.10.1997 | D14: =VLOOKUP($F14,УЧАСТНИКИ!$A$2:$L$1105,5,FALSE) -> Волгоградская область | E14: =VLOOKUP($F14,УЧАСТНИКИ!$A$2:$L$1105,8,FALSE) -> МС | F14: 381
A15: 6 | B15: =VLOOKUP($F15,УЧАСТНИКИ!$A$2:$L$1105,3,FALSE) -> Демьяченкова Анастасия | C15: =VLOOKUP($F15,УЧАСТНИКИ!$A$2:$L$1105,4,FALSE) -> 23.07.2004 | D15: =VLOOKUP($F15,УЧАСТНИКИ!$A$2:$L$1105,5,FALSE) -> Ульяновская область | E15: =VLOOKUP($F15,УЧАСТНИКИ!$A$2:$L$1105,8,FALSE) -> КМС | F15: 286
A16: 7 | B16: =VLOOKUP($F16,УЧАСТНИКИ!$A$2:$L$1105,3,FALSE) -> Степанова Екатерина | C16: =VLOOKUP($F16,УЧАСТНИКИ!$A$2:$L$1105,4,FALSE) -> 24.07.1994 | D16: =VLOOKUP($F16,УЧАСТНИКИ!$A$2:$L$1105,5,FALSE) -> Красноярский край | E16: =VLOOKUP($F16,УЧАСТНИКИ!$A$2:$L$1105,8,FALSE) -> МС | F16: 225
A17: 8 | B17: =VLOOKUP($F17,УЧАСТНИКИ!$A$2:$L$1105,3,FALSE) -> Ярышкина Александра | C17: =VLOOKUP($F17,УЧАСТНИКИ!$A$2:$L$1105,4,FALSE) -> 10.06.1994 | D17: =VLOOKUP($F17,УЧАСТНИКИ!$A$2:$L$1105,5,FALSE) -> Москва | E17: =VLOOKUP($F17,УЧАСТНИКИ!$A$2:$L$1105,8,FALSE) -> МС | F17: 52 | AO17: =VLOOKUP($F17,УЧАСТНИКИ!$A$2:$L$1105,9,FALSE) -> Л
A19: Рефери _________________ ( __________________________________________________________ )
A20: Ст. судья _________________ ( __________________________________________________________ )
A21: Секретарь ________________ ( __________________________________________________________ )

Sheet шест
A1: =Name_2 -> ВСЕРОССИЙСКАЯ ФЕДЕРАЦИЯ ЛЕГКОЙ АТЛЕТИКИ
A2: СТАРТОВЫЙ ПРОТОКОЛ
A3: =Name_4 -> КОМАНДНЫЙ ЧЕМПИОНАТ РОССИИ
V4: ФИНАЛЬНЫЕ СОРЕВНОВАНИЯ
A5: =d_4 -> ЖЕНЩИНЫ | C5: РМ | D5: 5,06 | AF5: =d_1 -> 04.09.2019г. | AN5: начало: | AO5: 16:30
A6: Прыжок с шестом | C6: РЕ | D6: 5,06 | F6: Порядок подьема высот: | M6: 365-385-400-410-420-430-440-450-456-461 и далее по 5 см | AN6: окончание:
C7: РР | D7: 5,06 | AO7: =d_5 -> г. Сочи, ул. Бзугу 2, ст. им. Славы Метревели
A8: № п/п | B8: Фамилия, имя участника | C8: Дата рождения | D8: Территория | E8: Заявленный разряд | F8: Номер участника | G8: В Ы С О Т Ы | AM8: Лучший результ. | AN8: Место | AO8: Примеч.
AK9: А | AL9: Б
A10: 1 | B10: =VLOOKUP($F10,УЧАСТНИКИ!$A$2:$L$1105,3,FALSE) -> Муллина Ольга | C10: =VLOOKUP($F10,УЧАСТНИКИ!$A$2:$L$1105,4,FALSE) -> 01.08.1992 | D10: =VLOOKUP($F10,УЧАСТНИКИ!$A$2:$L$1105,5,FALSE) -> Москва | E10: =VLOOKUP($F10,УЧАСТНИКИ!$A$2:$L$1105,8,FALSE) -> МСМК | F10: 30 | AO10: =VLOOKUP($F10,УЧАСТНИКИ!$A$2:$L$1105,9,FALSE) -> Л
A11: 2 | B11: =VLOOKUP($F11,УЧАСТНИКИ!$A$2:$L$1105,3,FALSE) -> Жук-Краснова Ангелина | C11: =VLOOKUP($F11,УЧАСТНИКИ!$A$2:$L$1105,4,FALSE) -> 07.02.1991 | D11: =VLOOKUP($F11,УЧАСТНИКИ!$A$2:$L$1105,5,FALSE) -> Москва Иркутская область | E11: =VLOOKUP($F11,УЧАСТНИКИ!$A$2:$L$1105,8,FALSE) -> МСМК | F11: 16 | AO11: =VLOOKUP($F11,УЧАСТНИКИ!$A$2:$L$1105,9,FALSE) -> Л
A12: 3 | B12: =VLOOKUP($F12,УЧАСТНИКИ!$A$2:$L$1105,3,FALSE) -> Швыдкина Татьяна | C12: =VLOOKUP($F12,УЧАСТНИКИ!$A$2:$L$1105,4,FALSE) -> 08.05.1990 | D12: =VLOOKUP($F12,УЧАСТНИКИ!$A$2:$L$1105,5,FALSE) -> Москва Брянская область | E12: =VLOOKUP($F12,УЧАСТНИКИ!$A$2:$L$1105,8,FALSE) -> МС | F12: 50 | AO12: =VLOOKUP($F12,УЧАСТНИКИ!$A$2:$L$1105,9,FALSE) -> Л
A13: 4 | B13: =VLOOKUP($F13,УЧАСТНИКИ!$A$2:$L$1105,3,FALSE) -> Подгорбунских (Темникова) Мария | C13: =VLOOKUP($F13,УЧАСТНИКИ!$A$2:$L$1105,4,FALSE) -> 09.07.1995 | D13: =VLOOKUP($F13,УЧАСТНИКИ!$A$2:$L$1105,5,FALSE) -> Челябинская область | E13: =VLOOKUP($F13,УЧАСТНИКИ!$A$2:$L$1105,8,FALSE) -> МС | F13: 319 | AO13: Л
A14: 5 | B14: =VLOOKUP($F14,УЧАСТНИКИ!$A$2:$L$1105,3,FALSE) -> Петрова Людмила | C14: =VLOOKUP($F14,УЧАСТНИКИ!$A$2:$L$1105,4,FALSE) -> 15.12.1993 | D14: =VLOOKUP($F14,УЧАСТНИКИ!$A$2:$L$1105,5,FALSE) -> Челябинская область | E14: =VLOOKUP($F14,УЧАСТНИКИ!$A$2:$L$1105,8,FALSE) -> МС | F14: 318
A15: 6 | B15: =VLOOKUP($F15,УЧАСТНИКИ!$A$2:$L$1105,3,FALSE) -> Кнороз Полина | C15: =VLOOKUP($F15,УЧАСТНИКИ!$A$2:$L$1105,4,FALSE) -> 20.07.1999 | D15: =VLOOKUP($F15,УЧАСТНИКИ!$A$2:$L$1105,5,FALSE) -> Москва Санкт-Петербург | E15: =VLOOKUP($F15,УЧАСТНИКИ!$A$2:$L$1105,8,FALSE) -> МСМК | F15: 149
A16: 7 | B16: =VLOOKUP($F16,УЧАСТНИКИ!$A$2:$L$1105,3,FALSE) -> Иванова Ирина | C16: =VLOOKUP($F16,УЧАСТНИКИ!$A$2:$L$1105,4,FALSE) -> 19.04.1996 | D16: =VLOOKUP($F16,УЧАСТНИКИ!$A$2:$L$1105,5,FALSE) -> Омская область | E16: =VLOOKUP($F16,УЧАСТНИКИ!$A$2:$L$1105,8,FALSE) -> МС | F16: 410
A17: 8 | B17: =VLOOKUP($F17,УЧАСТНИКИ!$A$2:$L$1105,3,FALSE) -> Лутковская Алёна | C17: =VLOOKUP($F17,УЧАСТНИКИ!$A$2:$L$1105,4,FALSE) -> 15.03.1996 | D17: =VLOOKUP($F17,УЧАСТНИКИ!$A$2:$L$1105,5,FALSE) -> Московская область Иркутская область | E17: =VLOOKUP($F17,УЧАСТНИКИ!$A$2:$L$1105,8,FALSE) -> МСМК | F17: 67
A19: Рефери _________________ ( __________________________________________________________ )
A20: Ст. судья _________________ ( __________________________________________________________ )
A21: Секретарь ________________ ( __________________________________________________________ )

Sheet длина
A1: =Name_2 -> ВСЕРОССИЙСКАЯ ФЕДЕРАЦИЯ ЛЕГКОЙ АТЛЕТИКИ
A2: СТАРТОВЫЙ ПРОТОКОЛ
A3: =Name_4 -> КОМАНДНЫЙ ЧЕМПИОНАТ РОССИИ
I4: ФИНАЛЬНЫЕ СОРЕВНОВАНИЯ
A5: =d_4 -> ЖЕНЩИНЫ | C5: РМ | D5: 7.52 | L5: =d_1 -> 04.09.2019г. | O5: начало: | P5: 16:15
A6: Прыжок в длину | C6: РЕ | D6: 7.52 | O6: окончание:
C7: РР | D7: 7.52 | P7: =d_5 -> г. Сочи, ул. Бзугу 2, ст. им. Славы Метревели
A8: № п/п | B8: Фамилия, имя участника | C8: Дата рождения | D8: Территория | E8: Заявленный разряд | F8: Номер участника | G8: Попытки | J8: Жеребьевка | K8: Попытки | N8: Лучший результат | O8: Место | P8: Примечание
G9: 1 | H9: 2 | I9: 3 | K9: 4 | L9: 5 | M9: 6
A10: 1 | B10: =VLOOKUP($F10,УЧАСТНИКИ!$A$2:$L$1105,3,FALSE) -> Савченко Юлия | C10: =VLOOKUP($F10,УЧАСТНИКИ!$A$2:$L$1105,4,FALSE) -> 27.07.1989 | D10: =VLOOKUP($F10,УЧАСТНИКИ!$A$2:$L$1105,5,FALSE) -> Ростовская область | E10: =VLOOKUP($F10,УЧАСТНИКИ!$A$2:$L$1105,8,FALSE) -> КМС | F10: 310 | P10: =VLOOKUP($F10,УЧАСТНИКИ!$A$2:$L$1105,9,FALSE) -> Л
E11: =VLOOKUP($F11,УЧАСТНИКИ!$A$2:$L$1105,8,FALSE) -> #N/A
A12: 2 | B12: =VLOOKUP($F12,УЧАСТНИКИ!$A$2:$L$1105,3,FALSE) -> Зеликова Жанна | C12: =VLOOKUP($F12,УЧАСТНИКИ!$A$2:$L$1105,4,FALSE) -> 22.02.1995 | D12: =VLOOKUP($F12,УЧАСТНИКИ!$A$2:$L$1105,5,FALSE) -> Краснодарский край | E12: =VLOOKUP($F12,УЧАСТНИКИ!$A$2:$L$1105,8,FALSE) -> МС | F12: 91
E13: =VLOOKUP($F13,УЧАСТНИКИ!$A$2:$L$1105,8,FALSE) -> #N/A
A14: 3 | B14: =VLOOKUP($F14,УЧАСТНИКИ!$A$2:$L$1105,3,FALSE) -> Евстюнина Александра | C14: =VLOOKUP($F14,УЧАСТНИКИ!$A$2:$L$1105,4,FALSE) -> 08.07.1993 | D14: =VLOOKUP($F14,УЧАСТНИКИ!$A$2:$L$1105,5,FALSE) -> Москва Республика Карелия | E14: =VLOOKUP($F14,УЧАСТНИКИ!$A$2:$L$1105,8,FALSE) -> МС | F14: 14 | P14: =VLOOKUP($F14,УЧАСТНИКИ!$A$2:$L$1105,9,FALSE) -> Л
E15: =VLOOKUP($F15,УЧАСТНИКИ!$A$2:$L$1105,8,FALSE) -> #N/A
A16: 4 | B16: =VLOOKUP($F16,УЧАСТНИКИ!$A$2:$L$1105,3,FALSE) -> Грошева Александра | C16: =VLOOKUP($F16,УЧАСТНИКИ!$A$2:$L$1105,4,FALSE) -> 19.08.1994 | D16: =VLOOKUP($F16,УЧАСТНИКИ!$A$2:$L$1105,5,FALSE) -> Новосибирская область | E16: =VLOOKUP($F16,УЧАСТНИКИ!$A$2:$L$1105,8,FALSE) -> МС | F16: 227
E17: =VLOOKUP($F17,УЧАСТНИКИ!$A$2:$L$1105,8,FALSE) -> #N/A
A18: 5 | B18: =VLOOKUP($F18,УЧАСТНИКИ!$A$2:$L$1105,3,FALSE) -> Ахмадуллина Валерия | C18: =VLOOKUP($F18,УЧАСТНИКИ!$A$2:$L$1105,4,FALSE) -> 21.10.1997 | D18: =VLOOKUP($F18,УЧАСТНИКИ!$A$2:$L$1105,5,FALSE) -> Санкт-Петербург | E18: =VLOOKUP($F18,УЧАСТНИКИ!$A$2:$L$1105,8,FALSE) -> КМС | F18: 130 | P18: Л
E19: =VLOOKUP($F19,УЧАСТНИКИ!$A$2:$L$1105,8,FALSE) -> #N/A
A20: 6 | B20: =VLOOKUP($F20,УЧАСТНИКИ!$A$2:$L$1105,3,FALSE) -> Садохина Виктория | C20: =VLOOKUP($F20,УЧАСТНИКИ!$A$2:$L$1105,4,FALSE) -> 18.07.1994 | D20: =VLOOKUP($F20,УЧАСТНИКИ!$A$2:$L$1105,5,FALSE) -> Самарская область | E20: =VLOOKUP($F20,УЧАСТНИКИ!$A$2:$L$1105,8,FALSE) -> КМС | F20: 195
E21: =VLOOKUP($F21,УЧАСТНИКИ!$A$2:$L$1105,8,FALSE) -> #N/A
A22: 7 | B22: =VLOOKUP($F22,УЧАСТНИКИ!$A$2:$L$1105,3,FALSE) -> Красина Александра | C22: =VLOOKUP($F22,УЧАСТНИКИ!$A$2:$L$1105,4,FALSE) -> 12.09.1998 | D22: =VLOOKUP($F22,УЧАСТНИКИ!$A$2:$L$1105,5,FALSE) -> Москва Брянская область | E22: =VLOOKUP($F22,УЧАСТНИКИ!$A$2:$L$1105,8,FALSE) -> КМС | F22: 211 | P22: =VLOOKUP($F22,УЧАСТНИКИ!$A$2:$L$1105,9,FALSE)
E23: =VLOOKUP($F23,УЧАСТНИКИ!$A$2:$L$1105,8,FALSE) -> #N/A
A24: 8 | B24: =VLOOKUP($F24,УЧАСТНИКИ!$A$2:$L$1105,3,FALSE) -> Воловликова Валерия | C24: =VLOOKUP($F24,УЧАСТНИКИ!$A$2:$L$1105,4,FALSE) -> 07.10.2002 | D24: =VLOOKUP($F24,УЧАСТНИКИ!$A$2:$L$1105,5,FALSE) -> Ростовская область | E24: =VLOOKUP($F24,УЧАСТНИКИ!$A$2:$L$1105,8,FALSE) -> КМС | F24: 302
E25: =VLOOKUP($F25,УЧАСТНИКИ!$A$2:$L$1105,8,FALSE) -> #N/A
A26: 9 | B26: =VLOOKUP($F26,УЧАСТНИКИ!$A$2:$L$1105,3,FALSE) -> Семашко (Мосина) Вероника | C26: =VLOOKUP($F26,УЧАСТНИКИ!$A$2:$L$1105,4,FALSE) -> 17.10.1990 | D26: =VLOOKUP($F26,УЧАСТНИКИ!$A$2:$L$1105,5,FALSE) -> Санкт-Петербург | E26: =VLOOKUP($F26,УЧАСТНИКИ!$A$2:$L$1105,8,FALSE) -> МСМК | F26: 176
E27: =VLOOKUP($F27,УЧАСТНИКИ!$A$2:$L$1105,8,FALSE) -> #N/A
A28: 10 | B28: =VLOOKUP($F28,УЧАСТНИКИ!$A$2:$L$1105,3,FALSE) -> Кузовкина Наталья | C28: =VLOOKUP($F28,УЧАСТНИКИ!$A$2:$L$1105,4,FALSE) -> 03.12.1998 | D28: =VLOOKUP($F28,УЧАСТНИКИ!$A$2:$L$1105,5,FALSE) -> Приморский край | E28: =VLOOKUP($F28,УЧАСТНИКИ!$A$2:$L$1105,8,FALSE) -> 1 | F28: 352
A29: 12 | E29: =VLOOKUP($F29,УЧАСТНИКИ!$A$2:$L$1105,8,FALSE) -> #N/A | P29: =VLOOKUP($F29,УЧАСТНИКИ!$A$2:$L$1105,9,FALSE) -> #N/A
E30: =VLOOKUP($F30,УЧАСТНИКИ!$A$2:$L$1105,8,FALSE) -> #N/A | P30: =VLOOKUP($F30,УЧАСТНИКИ!$A$2:$L$1105,9,FALSE) -> #N/A
A32: Рефери _________________ ( __________________________________________________________ )
A33: Ст. судья _________________ ( __________________________________________________________ )
A34: Секретарь ________________ ( __________________________________________________________ )

Sheet тройной
A1: =Name_2 -> ВСЕРОССИЙСКАЯ ФЕДЕРАЦИЯ ЛЕГКОЙ АТЛЕТИКИ
A2: СТАРТОВЫЙ ПРОТОКОЛ
A3: =Name_4 -> КОМАНДНЫЙ ЧЕМПИОНАТ РОССИИ
I4: ФИНАЛЬНЫЕ СОРЕВНОВАНИЯ
A5: =d_4 -> ЖЕНЩИНЫ | C5: РМ | D5: 15,50 | L5: =d_2 -> 05.09.2019г. | O5: начало: | P5: 16:00
A6: Прыжок тройной | C6: РЕ | D6: 15,50 | O6: окончание:
C7: РР | D7: 15.36 | P7: =d_5 -> г. Сочи, ул. Бзугу 2, ст. им. Славы Метревели
A8: № п/п | B8: Фамилия, имя участника | C8: Дата рождения | D8: Территория | E8: Заявленный разряд | F8: Номер участника | G8: Попытки | J8: Жеребьевка | K8: Попытки | N8: Лучший результат | O8: Место | P8: Примечание
G9: 1 | H9: 2 | I9: 3 | K9: 4 | L9: 5 | M9: 6
A10: 1 | B10: =VLOOKUP($F10,УЧАСТНИКИ!$A$2:$L$1105,3,FALSE) -> Евдокимова Наталья | C10: =VLOOKUP($F10,УЧАСТНИКИ!$A$2:$L$1105,4,FALSE) -> 07.09.1993 | D10: =VLOOKUP($F10,УЧАСТНИКИ!$A$2:$L$1105,5,FALSE) -> Москва | E10: =VLOOKUP($F10,УЧАСТНИКИ!$A$2:$L$1105,8,FALSE) -> МС | F10: 13 | P10: =VLOOKUP($F10,УЧАСТНИКИ!$A$2:$L$1105,9,FALSE) -> Л
E11: =VLOOKUP($F11,УЧАСТНИКИ!$A$2:$L$1105,8,FALSE) -> #N/A
A12: 2 | B12: =VLOOKUP($F12,УЧАСТНИКИ!$A$2:$L$1105,3,FALSE) -> Подобаева Арина | C12: =VLOOKUP($F12,УЧАСТНИКИ!$A$2:$L$1105,4,FALSE) -> 02.04.1999 | D12: =VLOOKUP($F12,УЧАСТНИКИ!$A$2:$L$1105,5,FALSE) -> Санкт-Петербург | E12: =VLOOKUP($F12,УЧАСТНИКИ!$A$2:$L$1105,8,FALSE) -> КМС | F12: 171 | P12: Л
E13: =VLOOKUP($F13,УЧАСТНИКИ!$A$2:$L$1105,8,FALSE) -> #N/A
A14: 3 | B14: =VLOOKUP($F14,УЧАСТНИКИ!$A$2:$L$1105,3,FALSE) -> Крылова Анна | C14: =VLOOKUP($F14,УЧАСТНИКИ!$A$2:$L$1105,4,FALSE) -> 03.10.1985 | D14: =VLOOKUP($F14,УЧАСТНИКИ!$A$2:$L$1105,5,FALSE) -> Республика Татарстан | E14: =VLOOKUP($F14,УЧАСТНИКИ!$A$2:$L$1105,8,FALSE) -> МСМК | F14: 249
E15: =VLOOKUP($F15,УЧАСТНИКИ!$A$2:$L$1105,8,FALSE) -> #N/A
A16: 4 | B16: =VLOOKUP($F16,УЧАСТНИКИ!$A$2:$L$1105,3,FALSE) -> Нидбайкина Дарья | C16: =VLOOKUP($F16,УЧАСТНИКИ!$A$2:$L$1105,4,FALSE) -> 26.12.1994 | D16: =VLOOKUP($F16,УЧАСТНИКИ!$A$2:$L$1105,5,FALSE) -> Москва Брянская область | E16: =VLOOKUP($F16,УЧАСТНИКИ!$A$2:$L$1105,8,FALSE) -> МС | F16: 31
E17: =VLOOKUP($F17,УЧАСТНИКИ!$A$2:$L$1105,8,FALSE) -> #N/A
A18: 5 | B18: =VLOOKUP($F18,УЧАСТНИКИ!$A$2:$L$1105,3,FALSE) -> Гуменюк Ирина | C18: =VLOOKUP($F18,УЧАСТНИКИ!$A$2:$L$1105,4,FALSE) -> 06.01.1988 | D18: =VLOOKUP($F18,УЧАСТНИКИ!$A$2:$L$1105,5,FALSE) -> Санкт-Петербург | E18: =VLOOKUP($F18,УЧАСТНИКИ!$A$2:$L$1105,8,FALSE) -> МСМК | F18: 143
E19: =VLOOKUP($F19,УЧАСТНИКИ!$A$2:$L$1105,8,FALSE) -> #N/A
A20: 6 | B20: =VLOOKUP($F20,УЧАСТНИКИ!$A$2:$L$1105,3,FALSE) -> Садохина Виктория | C20: =VLOOKUP($F20,УЧАСТНИКИ!$A$2:$L$1105,4,FALSE) -> 18.07.1994 | D20: =VLOOKUP($F20,УЧАСТНИКИ!$A$2:$L$1105,5,FALSE) -> Самарская область | E20: =VLOOKUP($F20,УЧАСТНИКИ!$A$2:$L$1105,8,FALSE) -> КМС | F20: 195
E21: =VLOOKUP($F21,УЧАСТНИКИ!$A$2:$L$1105,8,FALSE) -> #N/A
A22: 7 | B22: =VLOOKUP($F22,УЧАСТНИКИ!$A$2:$L$1105,3,FALSE) -> Красина Александра | C22: =VLOOKUP($F22,УЧАСТНИКИ!$A$2:$L$1105,4,FALSE) -> 12.09.1998 | D22: =VLOOKUP($F22,УЧАСТНИКИ!$A$2:$L$1105,5,FALSE) -> Москва Брянская область | E22: =VLOOKUP($F22,УЧАСТНИКИ!$A$2:$L$1105,8,FALSE) -> КМС | F22: 211 | P22: Л
E23: =VLOOKUP($F23,УЧАСТНИКИ!$A$2:$L$1105,8,FALSE) -> #N/A
A24: 8 | B24: =VLOOKUP($F24,УЧАСТНИКИ!$A$2:$L$1105,3,FALSE) -> Воловликова Валерия | C24: =VLOOKUP($F24,УЧАСТНИКИ!$A$2:$L$1105,4,FALSE) -> 07.10.2002 | D24: =VLOOKUP($F24,УЧАСТНИКИ!$A$2:$L$1105,5,FALSE) -> Ростовская область | E24: =VLOOKUP($F24,УЧАСТНИКИ!$A$2:$L$1105,8,FALSE) -> КМС | F24: 302
E25: =VLOOKUP($F25,УЧАСТНИКИ!$A$2:$L$1105,8,FALSE) -> #N/A
A26: 9 | B26: =VLOOKUP($F26,УЧАСТНИКИ!$A$2:$L$1105,3,FALSE) -> Абашева Анастасия | C26: =VLOOKUP($F26,УЧАСТНИКИ!$A$2:$L$1105,4,FALSE) -> 11.12.1997 | D26: =VLOOKUP($F26,УЧАСТНИКИ!$A$2:$L$1105,5,FALSE) -> Москва Ставропольский край | E26: =VLOOKUP($F26,УЧАСТНИКИ!$A$2:$L$1105,8,FALSE) -> КМС | F26: 333 | P26: =VLOOKUP($F26,УЧАСТНИКИ!$A$2:$L$1105,9,FALSE)
E27: =VLOOKUP($F27,УЧАСТНИКИ!$A$2:$L$1105,8,FALSE) -> #N/A
A29: Рефери _________________ ( __________________________________________________________ )
A30: Ст. судья _________________ ( __________________________________________________________ )
A31: Секретарь ________________ ( __________________________________________________________ )

Sheet диск
A1: =Name_2 -> ВСЕРОССИЙСКАЯ ФЕДЕРАЦИЯ ЛЕГКОЙ АТЛЕТИКИ
A2: СТАРТОВЫЙ ПРОТОКОЛ
A3: =Name_4 -> КОМАНДНЫЙ ЧЕМПИОНАТ РОССИИ
I4: ФИНАЛЬНЫЕ СОРЕВНОВАНИЯ
A5: =d_4 -> ЖЕНЩИНЫ | C5: РМ | D5: 76,80 | L5: =d_1 -> 04.09.2019г. | O5: начало: | P5: 15:00
A6: Метание диска | C6: РЕ | D6: 76,80 | O6: окончание:
A7: Вес снаряда - 1,0 кг | C7: РР | D7: 73,28 | P7: =d_7 -> г. Сочи, Адлерский район, ул. Ленина СК "Юность"
A8: № п/п | B8: Фамилия, имя участника | C8: Дата рождения | D8: Территория | E8: Заявленный разряд | F8: Номер участника | G8: Попытки | J8: Жеребьевка | K8: Попытки | N8: Лучший результат | O8: Место | P8: Примечание
G9: 1 | H9: 2 | I9: 3 | K9: 4 | L9: 5 | M9: 6
A10: 1 | B10: =VLOOKUP($F10,УЧАСТНИКИ!$A$2:$L$1105,3,FALSE) -> Савинова Юлия | C10: =VLOOKUP($F10,УЧАСТНИКИ!$A$2:$L$1105,4,FALSE) -> 28.06.1994 | D10: =VLOOKUP($F10,УЧАСТНИКИ!$A$2:$L$1105,5,FALSE) -> Москва Нижегородская область | E10: =VLOOKUP($F10,УЧАСТНИКИ!$A$2:$L$1105,8,FALSE) -> КМС | F10: 207 | P10: Л
A11: 2 | B11: =VLOOKUP($F11,УЧАСТНИКИ!$A$2:$L$1105,3,FALSE) -> Деркач Надежда | C11: =VLOOKUP($F11,УЧАСТНИКИ!$A$2:$L$1105,4,FALSE) -> 18.04.1996 | D11: =VLOOKUP($F11,УЧАСТНИКИ!$A$2:$L$1105,5,FALSE) -> Москва Нижегородская область | E11: =VLOOKUP($F11,УЧАСТНИКИ!$A$2:$L$1105,8,FALSE) -> МС | F11: 205 | P11: Л
A12: 3 | B12: =VLOOKUP($F12,УЧАСТНИКИ!$A$2:$L$1105,3,FALSE) -> Липунова Валерия | C12: =VLOOKUP($F12,УЧАСТНИКИ!$A$2:$L$1105,4,FALSE) -> 14.06.1995 | D12: =VLOOKUP($F12,УЧАСТНИКИ!$A$2:$L$1105,5,FALSE) -> Московская область | E12: =VLOOKUP($F12,УЧАСТНИКИ!$A$2:$L$1105,8,FALSE) -> КМС | F12: 65
A13: 4 | B13: =VLOOKUP($F13,УЧАСТНИКИ!$A$2:$L$1105,3,FALSE) -> Бурмистрова Екатерина | C13: =VLOOKUP($F13,УЧАСТНИКИ!$A$2:$L$1105,4,FALSE) -> 18.08.1990 | D13: =VLOOKUP($F13,УЧАСТНИКИ!$A$2:$L$1105,5,FALSE) -> Санкт-Петербург | E13: =VLOOKUP($F13,УЧАСТНИКИ!$A$2:$L$1105,8,FALSE) -> МС | F13: 135
A14: 5 | B14: =VLOOKUP($F14,УЧАСТНИКИ!$A$2:$L$1105,3,FALSE) -> Белякова Алена | C14: =VLOOKUP($F14,УЧАСТНИКИ!$A$2:$L$1105,4,FALSE) -> 21.12.1998 | D14: =VLOOKUP($F14,УЧАСТНИКИ!$A$2:$L$1105,5,FALSE) -> Краснодарский край ЮФО (К) | E14: =VLOOKUP($F14,УЧАСТНИКИ!$A$2:$L$1105,8,FALSE) -> МС | F14: 86
A15: 6 | B15: =VLOOKUP($F15,УЧАСТНИКИ!$A$2:$L$1105,3,FALSE) -> Мальцева Юлия | C15: =VLOOKUP($F15,УЧАСТНИКИ!$A$2:$L$1105,4,FALSE) -> 30.11.1990 | D15: =VLOOKUP($F15,УЧАСТНИКИ!$A$2:$L$1105,5,FALSE) -> Москва Ханты-Мансийский автономный округ - Югра | E15: =VLOOKUP($F15,УЧАСТНИКИ!$A$2:$L$1105,8,FALSE) -> МСМК | F15: 29 | P15: =VLOOKUP($F15,УЧАСТНИКИ!$A$2:$L$1105,9,FALSE) -> Л
A16: 7 | B16: =VLOOKUP($F16,УЧАСТНИКИ!$A$2:$L$1105,3,FALSE) -> Строкова Екатерина | C16: =VLOOKUP($F16,УЧАСТНИКИ!$A$2:$L$1105,4,FALSE) -> 17.12.1989 | D16: =VLOOKUP($F16,УЧАСТНИКИ!$A$2:$L$1105,5,FALSE) -> Москва Нижегородская область | E16: =VLOOKUP($F16,УЧАСТНИКИ!$A$2:$L$1105,8,FALSE) -> МСМК | F16: 210 | P16: =VLOOKUP($F16,УЧАСТНИКИ!$A$2:$L$1105,9,FALSE)
A17: 8 | B17: =VLOOKUP($F17,УЧАСТНИКИ!$A$2:$L$1105,3,FALSE) -> Панова Елена | C17: =VLOOKUP($F17,УЧАСТНИКИ!$A$2:$L$1105,4,FALSE) -> 02.03.1987 | D17: =VLOOKUP($F17,УЧАСТНИКИ!$A$2:$L$1105,5,FALSE) -> Москва Владимирская область | E17: =VLOOKUP($F17,УЧАСТНИКИ!$A$2:$L$1105,8,FALSE) -> МСМК | F17: 33
A19: Рефери _________________ ( __________________________________________________________ )
A20: Ст. судья _________________ ( __________________________________________________________ )
A21: Секретарь ________________ ( __________________________________________________________ )

Sheet молот
A1: =Name_2 -> ВСЕРОССИЙСКАЯ ФЕДЕРАЦИЯ ЛЕГКОЙ АТЛЕТИКИ
A2: СТАРТОВЫЙ ПРОТОКОЛ
A3: =Name_4 -> КОМАНДНЫЙ ЧЕМПИОНАТ РОССИИ
I4: ФИНАЛЬНЫЕ СОРЕВНОВАНИЯ
A5: =d_4 -> ЖЕНЩИНЫ | C5: РМ | D5: 82.98 | L5: =d_2 -> 05.09.2019г. | O5: начало: | P5: 15:00
A6: Метание молота | C6: РЕ | D6: 82.98 | O6: окончание:
A7: Вес снаряда - 4,0 кг | C7: РР | D7: 78.51 | P7: =d_7 -> г. Сочи, Адлерский район, ул. Ленина СК "Юность"
A8: № п/п | B8: Фамилия, имя участника | C8: Дата рождения | D8: Территория | E8: Заявленный разряд | F8: Номер участника | G8: Попытки | J8: Жеребьевка | K8: Попытки | N8: Лучший результат | O8: Место | P8: Примечание
G9: 1 | H9: 2 | I9: 3 | K9: 4 | L9: 5 | M9: 6
A10: 1 | B10: =VLOOKUP($F10,УЧАСТНИКИ!$A$2:$L$1105,3,FALSE) -> Пичугина София | C10: =VLOOKUP($F10,УЧАСТНИКИ!$A$2:$L$1105,4,FALSE) -> 07.01.2000 | D10: =VLOOKUP($F10,УЧАСТНИКИ!$A$2:$L$1105,5,FALSE) -> Ленинградская область Санкт-Петербург | E10: =VLOOKUP($F10,УЧАСТНИКИ!$A$2:$L$1105,8,FALSE) -> КМС | F10: 170
A11: 2 | B11: =VLOOKUP($F11,УЧАСТНИКИ!$A$2:$L$1105,3,FALSE) -> Исаева Ксения | C11: =VLOOKUP($F11,УЧАСТНИКИ!$A$2:$L$1105,4,FALSE) -> 02.12.1996 | D11: =VLOOKUP($F11,УЧАСТНИКИ!$A$2:$L$1105,5,FALSE) -> Челябинская область | E11: =VLOOKUP($F11,УЧАСТНИКИ!$A$2:$L$1105,8,FALSE) -> МС | F11: 314
A12: 3 | B12: =VLOOKUP($F12,УЧАСТНИКИ!$A$2:$L$1105,3,FALSE) -> Царёва Елизавета | C12: =VLOOKUP($F12,УЧАСТНИКИ!$A$2:$L$1105,4,FALSE) -> 26.03.1993 | D12: =VLOOKUP($F12,УЧАСТНИКИ!$A$2:$L$1105,5,FALSE) -> Московская область Ростовская область | E12: =VLOOKUP($F12,УЧАСТНИКИ!$A$2:$L$1105,8,FALSE) -> МСМК | F12: 82
A13: 4 | B13: =VLOOKUP($F13,УЧАСТНИКИ!$A$2:$L$1105,3,FALSE) -> Подрядчик Юлия | C13: =VLOOKUP($F13,УЧАСТНИКИ!$A$2:$L$1105,4,FALSE) -> 10.08.1988 | D13: =VLOOKUP($F13,УЧАСТНИКИ!$A$2:$L$1105,5,FALSE) -> Москва | E13: =VLOOKUP($F13,УЧАСТНИКИ!$A$2:$L$1105,8,FALSE) -> КМС | F13: 35 | P13: =VLOOKUP($F13,УЧАСТНИКИ!$A$2:$L$1105,9,FALSE) -> Л
A14: 5 | B14: =VLOOKUP($F14,УЧАСТНИКИ!$A$2:$L$1105,3,FALSE) -> Поспелова Наталья | C14: =VLOOKUP($F14,УЧАСТНИКИ!$A$2:$L$1105,4,FALSE) -> 28.06.1996 | D14: =VLOOKUP($F14,УЧАСТНИКИ!$A$2:$L$1105,5,FALSE) -> Свердловская область Ставропольский край | E14: =VLOOKUP($F14,УЧАСТНИКИ!$A$2:$L$1105,8,FALSE) -> МС | F14: 337 | P14: =VLOOKUP($F14,УЧАСТНИКИ!$A$2:$L$1105,9,FALSE)
A15: 6 | B15: =VLOOKUP($F15,УЧАСТНИКИ!$A$2:$L$1105,3,FALSE) -> Нюхневич Анастасия | C15: =VLOOKUP($F15,УЧАСТНИКИ!$A$2:$L$1105,4,FALSE) -> 25.01.2002 | D15: =VLOOKUP($F15,УЧАСТНИКИ!$A$2:$L$1105,5,FALSE) -> Челябинская область | E15: =VLOOKUP($F15,УЧАСТНИКИ!$A$2:$L$1105,8,FALSE) -> КМС | F15: 317 | P15: Л
A16: 7 | B16: =VLOOKUP($F16,УЧАСТНИКИ!$A$2:$L$1105,3,FALSE) -> Шкуратова Анастасия | C16: =VLOOKUP($F16,УЧАСТНИКИ!$A$2:$L$1105,4,FALSE) -> 29.12.1999 | D16: =VLOOKUP($F16,УЧАСТНИКИ!$A$2:$L$1105,5,FALSE) -> Московская область | E16: =VLOOKUP($F16,УЧАСТНИКИ!$A$2:$L$1105,8,FALSE) -> МС | F16: 84 | P16: Л
A17: 8 | B17: =VLOOKUP($F17,УЧАСТНИКИ!$A$2:$L$1105,3,FALSE) -> Садова Виктория | C17: =VLOOKUP($F17,УЧАСТНИКИ!$A$2:$L$1105,4,FALSE) -> 18.03.1993 | D17: =VLOOKUP($F17,УЧАСТНИКИ!$A$2:$L$1105,5,FALSE) -> Москва Нижегородская область | E17: =VLOOKUP($F17,УЧАСТНИКИ!$A$2:$L$1105,8,FALSE) -> МС | F17: 208 | P17: =VLOOKUP($F17,УЧАСТНИКИ!$A$2:$L$1105,9,FALSE)
A18: 9 | B18: =VLOOKUP($F18,УЧАСТНИКИ!$A$2:$L$1105,3,FALSE) -> Чередниченко Маргарита | C18: =VLOOKUP($F18,УЧАСТНИКИ!$A$2:$L$1105,4,FALSE) -> 08.08.1997 | D18: =VLOOKUP($F18,УЧАСТНИКИ!$A$2:$L$1105,5,FALSE) -> Краснодарский край | E18: =VLOOKUP($F18,УЧАСТНИКИ!$A$2:$L$1105,8,FALSE) -> КМС | F18: 124
A19: 10 | B19: =VLOOKUP($F19,УЧАСТНИКИ!$A$2:$L$1105,3,FALSE) -> Лысенко Алена | C19: =VLOOKUP($F19,УЧАСТНИКИ!$A$2:$L$1105,4,FALSE) -> 03.02.1988 | D19: =VLOOKUP($F19,УЧАСТНИКИ!$A$2:$L$1105,5,FALSE) -> Москва Владимирская область | E19: =VLOOKUP($F19,УЧАСТНИКИ!$A$2:$L$1105,8,FALSE) -> МСМК | F19: 28
A21: Рефери _________________ ( __________________________________________________________ )
A22: Ст. судья _________________ ( __________________________________________________________ )
A23: Секретарь ________________ ( __________________________________________________________ )

Sheet копье
A1: =Name_2 -> ВСЕРОССИЙСКАЯ ФЕДЕРАЦИЯ ЛЕГКОЙ АТЛЕТИКИ
A2: СТАРТОВЫЙ ПРОТОКОЛ
A3: =Name_4 -> КОМАНДНЫЙ ЧЕМПИОНАТ РОССИИ
I4: ФИНАЛЬНЫЕ СОРЕВНОВАНИЯ
A5: =d_4 -> ЖЕНЩИНЫ | C5: РМ | D5: 72.28 | L5: =d_1 -> 04.09.2019г. | O5: начало: | P5: 12:00
A6: Метание копья | C6: РЕ | D6: 72.28 | O6: окончание:
A7: Вес снаряда - 600 г | C7: РР | D7: 70.53 | P7: =d_7 -> г. Сочи, Адлерский район, ул. Ленина СК "Юность"
A8: № п/п | B8: Фамилия, имя участника | C8: Дата рождения | D8: Территория | E8: Заявленный разряд | F8: Номер участника | G8: Попытки | J8: Жеребьевка | K8: Попытки | N8: Лучший результат | O8: Место | P8: Примечание
G9: 1 | H9: 2 | I9: 3 | K9: 4 | L9: 5 | M9: 6
A10: 1 | B10: =VLOOKUP($F10,УЧАСТНИКИ!$A$2:$L$1105,3,FALSE) -> Кривомаз Александра | C10: =VLOOKUP($F10,УЧАСТНИКИ!$A$2:$L$1105,4,FALSE) -> 26.08.2002 | D10: =VLOOKUP($F10,УЧАСТНИКИ!$A$2:$L$1105,5,FALSE) -> Краснодарский край | E10: =VLOOKUP($F10,УЧАСТНИКИ!$A$2:$L$1105,8,FALSE) -> 1 | F10: 99 | P10: =VLOOKUP($F10,УЧАСТНИКИ!$A$2:$L$1105,9,FALSE) -> Л
A11: 2 | B11: =VLOOKUP($F11,УЧАСТНИКИ!$A$2:$L$1105,3,FALSE) -> Веденеева Элла | C11: =VLOOKUP($F11,УЧАСТНИКИ!$A$2:$L$1105,4,FALSE) -> 30.11.1998 | D11: =VLOOKUP($F11,УЧАСТНИКИ!$A$2:$L$1105,5,FALSE) -> Санкт-Петербург | E11: =VLOOKUP($F11,УЧАСТНИКИ!$A$2:$L$1105,8,FALSE) -> МС | F11: 137 | P11: Л
A12: 3 | B12: =VLOOKUP($F12,УЧАСТНИКИ!$A$2:$L$1105,3,FALSE) -> Печникова Светлана | C12: =VLOOKUP($F12,УЧАСТНИКИ!$A$2:$L$1105,4,FALSE) -> 06.09.1994 | D12: =VLOOKUP($F12,УЧАСТНИКИ!$A$2:$L$1105,5,FALSE) -> Санкт-Петербург Владимирская область | E12: =VLOOKUP($F12,УЧАСТНИКИ!$A$2:$L$1105,8,FALSE) -> МС | F12: 169
A13: 4 | B13: =VLOOKUP($F13,УЧАСТНИКИ!$A$2:$L$1105,3,FALSE) -> Зыбина Ксения | C13: =VLOOKUP($F13,УЧАСТНИКИ!$A$2:$L$1105,4,FALSE) -> 01.02.1989 | D13: =VLOOKUP($F13,УЧАСТНИКИ!$A$2:$L$1105,5,FALSE) -> Санкт-Петербург | E13: =VLOOKUP($F13,УЧАСТНИКИ!$A$2:$L$1105,8,FALSE) -> МС | F13: 147
A14: 5 | B14: =VLOOKUP($F14,УЧАСТНИКИ!$A$2:$L$1105,3,FALSE) -> Маликина Анна | C14: =VLOOKUP($F14,УЧАСТНИКИ!$A$2:$L$1105,4,FALSE) -> 09.02.1999 | D14: =VLOOKUP($F14,УЧАСТНИКИ!$A$2:$L$1105,5,FALSE) -> Республика Карелия | E14: =VLOOKUP($F14,УЧАСТНИКИ!$A$2:$L$1105,8,FALSE) -> КМС | F14: 424
A15: 6 | B15: =VLOOKUP($F15,УЧАСТНИКИ!$A$2:$L$1105,3,FALSE) -> Арефина Мария | C15: =VLOOKUP($F15,УЧАСТНИКИ!$A$2:$L$1105,4,FALSE) -> 28.11.2000 | D15: =VLOOKUP($F15,УЧАСТНИКИ!$A$2:$L$1105,5,FALSE) -> Московская область | E15: =VLOOKUP($F15,УЧАСТНИКИ!$A$2:$L$1105,8,FALSE) -> 1 | F15: 85
A16: 7 | B16: =VLOOKUP($F16,УЧАСТНИКИ!$A$2:$L$1105,3,FALSE) -> Рыбникова (Сафонова) Мария | C16: =VLOOKUP($F16,УЧАСТНИКИ!$A$2:$L$1105,4,FALSE) -> 28.10.1994 | D16: =VLOOKUP($F16,УЧАСТНИКИ!$A$2:$L$1105,5,FALSE) -> Воронежская область | E16: =VLOOKUP($F16,УЧАСТНИКИ!$A$2:$L$1105,8,FALSE) -> МС | F16: 418
A17: 8 | B17: =VLOOKUP($F17,УЧАСТНИКИ!$A$2:$L$1105,3,FALSE) -> Коваленко Наталья | C17: =VLOOKUP($F17,УЧАСТНИКИ!$A$2:$L$1105,4,FALSE) -> 03.07.1999 | D17: =VLOOKUP($F17,УЧАСТНИКИ!$A$2:$L$1105,5,FALSE) -> Волгоградская область | E17: =VLOOKUP($F17,УЧАСТНИКИ!$A$2:$L$1105,8,FALSE) -> КМС | F17: 380
A18: 9 | B18: =VLOOKUP($F18,УЧАСТНИКИ!$A$2:$L$1105,3,FALSE) -> Маилова Эмма | C18: =VLOOKUP($F18,УЧАСТНИКИ!$A$2:$L$1105,4,FALSE) -> 21.02.1997 | D18: =VLOOKUP($F18,УЧАСТНИКИ!$A$2:$L$1105,5,FALSE) -> Краснодарский край | E18: =VLOOKUP($F18,УЧАСТНИКИ!$A$2:$L$1105,8,FALSE) -> КМС | F18: 103
A19: 10 | B19: =VLOOKUP($F19,УЧАСТНИКИ!$A$2:$L$1105,3,FALSE) -> Адысева Анна | C19: =VLOOKUP($F19,УЧАСТНИКИ!$A$2:$L$1105,4,FALSE) -> 28.07.1998 | D19: =VLOOKUP($F19,УЧАСТНИКИ!$A$2:$L$1105,5,FALSE) -> Москва | E19: =VLOOKUP($F19,УЧАСТНИКИ!$A$2:$L$1105,8,FALSE) -> КМС | F19: 2 | P19: =VLOOKUP($F19,УЧАСТНИКИ!$A$2:$L$1105,9,FALSE) -> Л
A20: 11 | B20: =VLOOKUP($F20,УЧАСТНИКИ!$A$2:$L$1105,3,FALSE) -> Ребрик Вера | C20: =VLOOKUP($F20,УЧАСТНИКИ!$A$2:$L$1105,4,FALSE) -> 25.02.1989 | D20: =VLOOKUP($F20,УЧАСТНИКИ!$A$2:$L$1105,5,FALSE) -> Москва ЮФО (К) | E20: =VLOOKUP($F20,УЧАСТНИКИ!$A$2:$L$1105,8,FALSE) -> ЗМС | F20: 39
A21: 12 | B21: =VLOOKUP($F21,УЧАСТНИКИ!$A$2:$L$1105,3,FALSE) -> Курбатова Мария | C21: =VLOOKUP($F21,УЧАСТНИКИ!$A$2:$L$1105,4,FALSE) -> 19.09.1998 | D21: =VLOOKUP($F21,УЧАСТНИКИ!$A$2:$L$1105,5,FALSE) -> Ростовская область | E21: =VLOOKUP($F21,УЧАСТНИКИ!$A$2:$L$1105,8,FALSE) -> КМС | F21: 307
A23: Рефери _________________ ( __________________________________________________________ )
A24: Ст. судья _________________ ( __________________________________________________________ )
A25: Секретарь ________________ ( __________________________________________________________ )

Sheet ядро
A1: =Name_2 -> ВСЕРОССИЙСКАЯ ФЕДЕРАЦИЯ ЛЕГКОЙ АТЛЕТИКИ
A2: СТАРТОВЫЙ ПРОТОКОЛ
A3: =Name_4 -> КОМАНДНЫЙ ЧЕМПИОНАТ РОССИИ
I4: ФИНАЛЬНЫЕ СОРЕВНОВАНИЯ
A5: =d_4 -> ЖЕНЩИНЫ | C5: РМ | D5: 22.63 | L5: =d_3 -> 06.09.2019г. | O5: начало: | P5: 15:00
A6: Толкание ядра | C6: РЕ | D6: 22,63 | O6: окончание:
A7: Вес снаряда - 4,0 кг | C7: РР | D7: 22.63 | P7: =d_7 -> г. Сочи, Адлерский район, ул. Ленина СК "Юность"
A8: № п/п | B8: Фамилия, имя участника | C8: Дата рождения | D8: Территория | E8: Заявленный разряд | F8: Номер участника | G8: Попытки | J8: Жеребьевка | K8: Попытки | N8: Лучший результат | O8: Место | P8: Примечание
G9: 1 | H9: 2 | I9: 3 | K9: 4 | L9: 5 | M9: 6
A10: 1 | B10: =VLOOKUP($F10,УЧАСТНИКИ!$A$2:$L$1105,3,FALSE) -> Безрученко Елена | C10: =VLOOKUP($F10,УЧАСТНИКИ!$A$2:$L$1105,4,FALSE) -> 23.07.1996 | D10: =VLOOKUP($F10,УЧАСТНИКИ!$A$2:$L$1105,5,FALSE) -> Москва Ростовская область | E10: =VLOOKUP($F10,УЧАСТНИКИ!$A$2:$L$1105,8,FALSE) -> МС | F10: 299
A11: 2 | B11: =VLOOKUP($F11,УЧАСТНИКИ!$A$2:$L$1105,3,FALSE) -> Бурмистрова Екатерина | C11: =VLOOKUP($F11,УЧАСТНИКИ!$A$2:$L$1105,4,FALSE) -> 18.08.1990 | D11: =VLOOKUP($F11,УЧАСТНИКИ!$A$2:$L$1105,5,FALSE) -> Санкт-Петербург | E11: =VLOOKUP($F11,УЧАСТНИКИ!$A$2:$L$1105,8,FALSE) -> МС | F11: 135
A12: 3 | B12: =VLOOKUP($F12,УЧАСТНИКИ!$A$2:$L$1105,3,FALSE) -> Винярская Алла | C12: =VLOOKUP($F12,УЧАСТНИКИ!$A$2:$L$1105,4,FALSE) -> 21.08.1999 | D12: =VLOOKUP($F12,УЧАСТНИКИ!$A$2:$L$1105,5,FALSE) -> Ставропольский край | E12: =VLOOKUP($F12,УЧАСТНИКИ!$A$2:$L$1105,8,FALSE) -> КМС | F12: 335
A13: 4 | B13: =VLOOKUP($F13,УЧАСТНИКИ!$A$2:$L$1105,3,FALSE) -> Авдеева Анна | C13: =VLOOKUP($F13,УЧАСТНИКИ!$A$2:$L$1105,4,FALSE) -> 06.04.1985 | D13: =VLOOKUP($F13,УЧАСТНИКИ!$A$2:$L$1105,5,FALSE) -> Самарская область | E13: =VLOOKUP($F13,УЧАСТНИКИ!$A$2:$L$1105,8,FALSE) -> ЗМС | F13: 192
A14: 5 | B14: =VLOOKUP($F14,УЧАСТНИКИ!$A$2:$L$1105,3,FALSE) -> Гордеева (Бугакова) Алёна | C14: =VLOOKUP($F14,УЧАСТНИКИ!$A$2:$L$1105,4,FALSE) -> 24.04.1997 | D14: =VLOOKUP($F14,УЧАСТНИКИ!$A$2:$L$1105,5,FALSE) -> Москва Тверская область | E14: =VLOOKUP($F14,УЧАСТНИКИ!$A$2:$L$1105,8,FALSE) -> МС | F14: 9 | P14: =VLOOKUP($F14,УЧАСТНИКИ!$A$2:$L$1105,9,FALSE) -> Л
A15: 6 | B15: =VLOOKUP($F15,УЧАСТНИКИ!$A$2:$L$1105,3,FALSE) -> Соловьёва Евгения | C15: =VLOOKUP($F15,УЧАСТНИКИ!$A$2:$L$1105,4,FALSE) -> 28.06.1986 | D15: =VLOOKUP($F15,УЧАСТНИКИ!$A$2:$L$1105,5,FALSE) -> Московская область Челябинская область | E15: =VLOOKUP($F15,УЧАСТНИКИ!$A$2:$L$1105,8,FALSE) -> МСМК | F15: 74
A17: Рефери _________________ ( __________________________________________________________ )
A18: Ст. судья _________________ ( __________________________________________________________ )
A19: Секретарь ________________ ( __________________________________________________________ )

Sheet И100
A1: =Name_1 -> МИНИСТЕРСТВО ФИЗИЧЕСКОЙ КУЛЬТУРЫ И СПОРТА РОССИЙСКОЙ ФЕДЕРАЦИИ
A2: =Name_2 -> ВСЕРОССИЙСКАЯ ФЕДЕРАЦИЯ ЛЕГКОЙ АТЛЕТИКИ
A3: =Name_3 -> МИНИСТЕРСТВО ФИЗИЧЕСКОЙ КУЛЬТУРЫ И СПОРТА КРАСНОДАРСКОГО КРАЯ
A4: =Name_6 -> ФЕДЕРАЦИЯ ЛЕГКОЙ АТЛЕТИКИ КРАСНОДАРСКОГО КРАЯ
A5: =Name_4 -> КОМАНДНЫЙ ЧЕМПИОНАТ РОССИИ
A7: ИТОГОВЫЙ ПРОТОКОЛ
A8: =d_4 -> ЖЕНЩИНЫ | P8: =d_5 -> г. Сочи, ул. Бзугу 2, ст. им. Славы Метревели
A9: Бег 100 м | L9: забеги | N9: =d_1 -> 04.09.2019г. | O9: ='100'!I5 -> 17:15 | P9: =d_6 -> t° +26 вл. 61% | Q9: номер
A10: автохронометраж | L10: финал | N10: =d_1 -> 04.09.2019г. | O10: ='100ф'!J5 -> 18:50 | P10: =d_6 -> t° +26 вл. 61% | R10: мсмк | S10: мс | T10: кмс | U10: 1 | V10: 2 | W10: 3 | X10: 1ю | Y10: 2ю | Z10: 3ю
A11: Занятое место | B11: Фамилия, имя | C11: Дата рождения | D11: Заявл. разряд | E11: Территория | F11: Округ | G11: Оргнизация Ведомство | I11: Забеги | J11: V m/s | L11: Финал | M11: V m/s | N11: Выполненный разряд | O11: Очки | P11: Ф.И.О. тренера | R11: 1130 | S11: 1184 | T11: 1264 | U11: 1344 | V11: 1434 | W11: 1534 | X11: 1634 | Y11: 1744 | Z11: 1864
A12: =RANK(H12,$H$12:$H$141,1) -> 1 | B12: =VLOOKUP($Q12,УЧАСТНИКИ!$A$2:$L$1105,3,FALSE) -> Сивкова Кристина | C12: =VLOOKUP($Q12,УЧАСТНИКИ!$A$2:$L$1105,4,FALSE) -> 28.02.1997 | D12: =VLOOKUP($Q12,УЧАСТНИКИ!$A$2:$L$1105,8,FALSE) -> МСМК | E12: =VLOOKUP($Q12,УЧАСТНИКИ!$A$2:$L$1105,5,FALSE) -> Москва | F12: =VLOOKUP($Q12,УЧАСТНИКИ!$A$2:$L$1105,7,FALSE) -> 0 | G12: =VLOOKUP($Q12,УЧАСТНИКИ!$A$2:$L$1105,11,FALSE) -> ВС ГБУ "ЦОП по легкой атлетике" Москомспорта | H12: 1124 | I12: =IF(H12=0,0,CONCATENATE(MID(H12,1,2),",",MID(H12,3,2))) -> 11,24 | J12: 1.8 | K12: 1123 | L12: =IF(K12=0,0,CONCATENATE(MID(K12,1,2),",",MID(K12,3,2))) -> 11,23 | M12: 0 | N12: =IF(S12<=$R$11,"МСМК",IF(S12<=$S$11,"МС",IF(S12<=$T$11,"КМС",IF(S12<=$U$11,"1",IF(S12<=$V$11,"2",IF(S12<=$W$11,"3",IF(S12<=$X$11,"1юн",IF(S12<=$Y$11,"2юн",IF(S12<=$Z$11,"3юн",IF(S12>$Z$11,"б/р")))))))))) -> МСМК | O12: =VLOOKUP($Q12,УЧАСТНИКИ!$A$2:$L$1105,9,FALSE) -> Л | P12: =VLOOKUP($Q12,УЧАСТНИКИ!$A$2:$L$1105,10,FALSE) -> Васяткин В.П., Васяткин А.В., | Q12: 42 | S12: =MIN(H12,K12) -> 1123
A13: 2 | B13: =VLOOKUP($Q13,УЧАСТНИКИ!$A$2:$L$1105,3,FALSE) -> Черняева (Козлова) Елена | C13: =VLOOKUP($Q13,УЧАСТНИКИ!$A$2:$L$1105,4,FALSE) -> 19.09.1988 | D13: =VLOOKUP($Q13,УЧАСТНИКИ!$A$2:$L$1105,8,FALSE) -> МС | E13: =VLOOKUP($Q13,УЧАСТНИКИ!$A$2:$L$1105,5,FALSE) -> Санкт-Петербург Вологодская область | F13: =VLOOKUP($Q13,УЧАСТНИКИ!$A$2:$L$1105,7,FALSE) -> 0 | G13: =VLOOKUP($Q13,УЧАСТНИКИ!$A$2:$L$1105,11,FALSE) -> Профсоюзы СПб ГБУ ЦОП "ШВСМ по легкой атлетике", АУ ФКиС ВО "ЦСП", АУ ФКИС ВО "СШ "Витязь" | H13: 1181 | I13: =IF(H13=0,0,CONCATENATE(MID(H13,1,2),",",MID(H13,3,2))) -> 11,81 | J13: 0 | K13: 1164 | L13: =IF(K13=0,0,CONCATENATE(MID(K13,1,2),",",MID(K13,3,2))) -> 11,64 | M13: 0 | N13: =IF(S13<=$R$11,"МСМК",IF(S13<=$S$11,"МС",IF(S13<=$T$11,"КМС",IF(S13<=$U$11,"1",IF(S13<=$V$11,"2",IF(S13<=$W$11,"3",IF(S13<=$X$11,"1юн",IF(S13<=$Y$11,"2юн",IF(S13<=$Z$11,"3юн",IF(S13>$Z$11,"б/р")))))))))) -> МС | O13: 20+5 | P13: =VLOOKUP($Q13,УЧАСТНИКИ!$A$2:$L$1105,10,FALSE) -> Климов А.Г., Смелов Н.А. | Q13: 187 | S13: =MIN(H13,K13) -> 1164
A14: 3 | B14: =VLOOKUP($Q14,УЧАСТНИКИ!$A$2:$L$1105,3,FALSE) -> Григорьева Анастасия | C14: =VLOOKUP($Q14,УЧАСТНИКИ!$A$2:$L$1105,4,FALSE) -> 07.11.1993 | D14: =VLOOKUP($Q14,УЧАСТНИКИ!$A$2:$L$1105,8,FALSE) -> МС | E14: =VLOOKUP($Q14,УЧАСТНИКИ!$A$2:$L$1105,5,FALSE) -> Санкт-Петербург | F14: =VLOOKUP($Q14,УЧАСТНИКИ!$A$2:$L$1105,7,FALSE) -> 0 | G14: =VLOOKUP($Q14,УЧАСТНИКИ!$A$2:$L$1105,11,FALSE) -> СПб ГБУ ЦОП "ШВСМ по легкой атлетике" | H14: 1174 | I14: =IF(H14=0,0,CONCATENATE(MID(H14,1,2),",",MID(H14,3,2))) -> 11,74 | J14: -0.9 | K14: 1165 | L14: =IF(K14=0,0,CONCATENATE(MID(K14,1,2),",",MID(K14,3,2))) -> 11,65 | M14: 0 | N14: =IF(S14<=$R$11,"МСМК",IF(S14<=$S$11,"МС",IF(S14<=$T$11,"КМС",IF(S14<=$U$11,"1",IF(S14<=$V$11,"2",IF(S14<=$W$11,"3",IF(S14<=$X$11,"1юн",IF(S14<=$Y$11,"2юн",IF(S14<=$Z$11,"3юн",IF(S14>$Z$11,"б/р")))))))))) -> МС | O14: 17+5 | P14: =VLOOKUP($Q14,УЧАСТНИКИ!$A$2:$L$1105,10,FALSE) -> Куликова Е.Ю., Буровцева Н.В. | Q14: 141 | S14: =MIN(H14,K14) -> 1165
A15: 4 | B15: =VLOOKUP($Q15,УЧАСТНИКИ!$A$2:$L$1105,3,FALSE) -> Хорошева Кристина | C15: =VLOOKUP($Q15,УЧАСТНИКИ!$A$2:$L$1105,4,FALSE) -> 05.04.1993 | D15: =VLOOKUP($Q15,УЧАСТНИКИ!$A$2:$L$1105,8,FALSE) -> МС | E15: =VLOOKUP($Q15,УЧАСТНИКИ!$A$2:$L$1105,5,FALSE) -> Пензенская область Тульская область | F15: =VLOOKUP($Q15,УЧАСТНИКИ!$A$2:$L$1105,7,FALSE) -> 0 | G15: =VLOOKUP($Q15,УЧАСТНИКИ!$A$2:$L$1105,11,FALSE) -> ГАУ ЦСП ПО, ГБУ ПО "Комплексная СШОР", ГУ ТО ЦСП, МБУ СШОР "Легкая атлетика" г.Тула | H15: 1185 | I15: =IF(H15=0,0,CONCATENATE(MID(H15,1,2),",",MID(H15,3,2))) -> 11,85 | J15: 0 | K15: 1169 | L15: =IF(K15=0,0,CONCATENATE(MID(K15,1,2),",",MID(K15,3,2))) -> 11,69 | M15: 0 | N15: =IF(S15<=$R$11,"МСМК",IF(S15<=$S$11,"МС",IF(S15<=$T$11,"КМС",IF(S15<=$U$11,"1",IF(S15<=$V$11,"2",IF(S15<=$W$11,"3",IF(S15<=$X$11,"1юн",IF(S15<=$Y$11,"2юн",IF(S15<=$Z$11,"3юн",IF(S15>$Z$11,"б/р")))))))))) -> МС | O15: 15+5 | P15: =VLOOKUP($Q15,УЧАСТНИКИ!$A$2:$L$1105,10,FALSE) -> Родионова А.И., Ковтун Н.Н. | Q15: 408 | S15: =MIN(H15,K15) -> 1169
A16: 5 | B16: =VLOOKUP($Q16,УЧАСТНИКИ!$A$2:$L$1105,3,FALSE) -> Зелих Виктория | C16: =VLOOKUP($Q16,УЧАСТНИКИ!$A$2:$L$1105,4,FALSE) -> 09.07.1996 | D16: =VLOOKUP($Q16,УЧАСТНИКИ!$A$2:$L$1105,8,FALSE) -> КМС | E16: =VLOOKUP($Q16,УЧАСТНИКИ!$A$2:$L$1105,5,FALSE) -> Краснодарский край | F16: =VLOOKUP($Q16,УЧАСТНИКИ!$A$2:$L$1105,7,FALSE) -> 0 | G16: =VLOOKUP($Q16,УЧАСТНИКИ!$A$2:$L$1105,11,FALSE) -> КГУФКСиТ, ГБУ КК "ЦОП по легкой атлетике" | H16: 1187 | I16: =IF(H16=0,0,CONCATENATE(MID(H16,1,2),",",MID(H16,3,2))) -> 11,87 | J16: 1.8 | K16: 1189 | L16: =IF(K16=0,0,CONCATENATE(MID(K16,1,2),",",MID(K16,3,2))) -> 11,89 | M16: 0 | N16: =IF(S16<=$R$11,"МСМК",IF(S16<=$S$11,"МС",IF(S16<=$T$11,"КМС",IF(S16<=$U$11,"1",IF(S16<=$V$11,"2",IF(S16<=$W$11,"3",IF(S16<=$X$11,"1юн",IF(S16<=$Y$11,"2юн",IF(S16<=$Z$11,"3юн",IF(S16>$Z$11,"б/р")))))))))) -> КМС | O16: 14 | P16: =VLOOKUP($Q16,УЧАСТНИКИ!$A$2:$L$1105,10,FALSE) -> Гладырь М.Ф. | Q16: 92 | S16: =MIN(H16,K16) -> 1187
A17: 5 | B17: =VLOOKUP($Q17,УЧАСТНИКИ!$A$2:$L$1105,3,FALSE) -> Соколова (Полищук) Анастасия | C17: =VLOOKUP($Q17,УЧАСТНИКИ!$A$2:$L$1105,4,FALSE) -> 20.05.1994 | D17: =VLOOKUP($Q17,УЧАСТНИКИ!$A$2:$L$1105,8,FALSE) -> МС | E17: =VLOOKUP($Q17,УЧАСТНИКИ!$A$2:$L$1105,5,FALSE) -> Свердловская область Челябинская область | F17: =VLOOKUP($Q17,УЧАСТНИКИ!$A$2:$L$1105,7,FALSE) -> 0 | G17: =VLOOKUP($Q17,УЧАСТНИКИ!$A$2:$L$1105,11,FALSE) -> ГАУ СО "ЦСП", МБУ СШОР № 2 по легкой атлетике имени Л.Н.Мосеева г.Челябинск | H17: 1192 | I17: =IF(H17=0,0,CONCATENATE(MID(H17,1,2),",",MID(H17,3,2))) -> 11,92 | J17: -0.9 | K17: 1189 | L17: =IF(K17=0,0,CONCATENATE(MID(K17,1,2),",",MID(K17,3,2))) -> 11,89 | M17: 0 | N17: =IF(S17<=$R$11,"МСМК",IF(S17<=$S$11,"МС",IF(S17<=$T$11,"КМС",IF(S17<=$U$11,"1",IF(S17<=$V$11,"2",IF(S17<=$W$11,"3",IF(S17<=$X$11,"1юн",IF(S17<=$Y$11,"2юн",IF(S17<=$Z$11,"3юн",IF(S17>$Z$11,"б/р")))))))))) -> КМС | O17: 14 | P17: =VLOOKUP($Q17,УЧАСТНИКИ!$A$2:$L$1105,10,FALSE) -> Касаткина Л.В., Хрущелева Н.П., Табабилов Р.Б., Хабарова И.С. | Q17: 201 | S17: =MIN(H17,K17) -> 1189
A18: 7 | B18: =VLOOKUP($Q18,УЧАСТНИКИ!$A$2:$L$1105,3,FALSE) -> Сластникова Тамара | C18: =VLOOKUP($Q18,УЧАСТНИКИ!$A$2:$L$1105,4,FALSE) -> 21.05.1993 | D18: =VLOOKUP($Q18,УЧАСТНИКИ!$A$2:$L$1105,8,FALSE) -> МС | E18: =VLOOKUP($Q18,УЧАСТНИКИ!$A$2:$L$1105,5,FALSE) -> Новосибирская область | F18: =VLOOKUP($Q18,УЧАСТНИКИ!$A$2:$L$1105,7,FALSE) -> 0 | G18: =VLOOKUP($Q18,УЧАСТНИКИ!$A$2:$L$1105,11,FALSE) -> Динамо ГАУ НСО "РЦСП СК и СР", ФГБОУ ВО Новосибирский ГАУ | H18: 1195 | I18: =IF(H18=0,0,CONCATENATE(MID(H18,1,2),",",MID(H18,3,2))) -> 11,95 | J18: 1.8 | K18: 1195 | L18: =IF(K18=0,0,CONCATENATE(MID(K18,1,2),",",MID(K18,3,2))) -> 11,95 | M18: 0 | N18: =IF(S18<=$R$11,"МСМК",IF(S18<=$S$11,"МС",IF(S18<=$T$11,"КМС",IF(S18<=$U$11,"1",IF(S18<=$V$11,"2",IF(S18<=$W$11,"3",IF(S18<=$X$11,"1юн",IF(S18<=$Y$11,"2юн",IF(S18<=$Z$11,"3юн",IF(S18>$Z$11,"б/р")))))))))) -> КМС | O18: 12 | P18: =VLOOKUP($Q18,УЧАСТНИКИ!$A$2:$L$1105,10,FALSE) -> Бухашеев А.Г., Богатов А.М., Боярищева А.А. | Q18: 232 | S18: =MIN(H18,K18) -> 1195
A19: =RANK(H19,$H$12:$H$141,1) -> 8 | B19: =VLOOKUP($Q19,УЧАСТНИКИ!$A$2:$L$1105,3,FALSE) -> Блескина Екатерина | C19: =VLOOKUP($Q19,УЧАСТНИКИ!$A$2:$L$1105,4,FALSE) -> 29.01.1993 | D19: =VLOOKUP($Q19,УЧАСТНИКИ!$A$2:$L$1105,8,FALSE) -> МС | E19: =VLOOKUP($Q19,УЧАСТНИКИ!$A$2:$L$1105,5,FALSE) -> Красноярский край Санкт-Петербург | F19: =VLOOKUP($Q19,УЧАСТНИКИ!$A$2:$L$1105,7,FALSE) -> 0 | G19: =VLOOKUP($Q19,УЧАСТНИКИ!$A$2:$L$1105,11,FALSE) -> МАУ "СШОР "Спутник", СПб ГБУ ЦОП "ШВСМ по легкой атлетике" | H19: 1213 | I19: =IF(H19=0,0,CONCATENATE(MID(H19,1,2),",",MID(H19,3,2))) -> 12,13 | J19: 0 | K19: 1217 | L19: =IF(K19=0,0,CONCATENATE(MID(K19,1,2),",",MID(K19,3,2))) -> 12,17 | M19: 0 | N19: =IF(S19<=$R$11,"МСМК",IF(S19<=$S$11,"МС",IF(S19<=$T$11,"КМС",IF(S19<=$U$11,"1",IF(S19<=$V$11,"2",IF(S19<=$W$11,"3",IF(S19<=$X$11,"1юн",IF(S19<=$Y$11,"2юн",IF(S19<=$Z$11,"3юн",IF(S19>$Z$11,"б/р")))))))))) -> КМС | O19: Л | P19: =VLOOKUP($Q19,УЧАСТНИКИ!$A$2:$L$1105,10,FALSE) -> Климов А.Г., Вашкевич И.Е. | Q19: 133 | S19: =MIN(H19,K19) -> 1213
A20: =RANK(H20,$H$12:$H$141,1) -> 9 | B20: =VLOOKUP($Q20,УЧАСТНИКИ!$A$2:$L$1105,3,FALSE) -> Кукушкина Анна | C20: =VLOOKUP($Q20,УЧАСТНИКИ!$A$2:$L$1105,4,FALSE) -> 13.12.1992 | D20: =VLOOKUP($Q20,УЧАСТНИКИ!$A$2:$L$1105,8,FALSE) -> МС | E20: =VLOOKUP($Q20,УЧАСТНИКИ!$A$2:$L$1105,5,FALSE) -> Московская область Ямало-Ненецкий автономный округ | F20: =VLOOKUP($Q20,УЧАСТНИКИ!$A$2:$L$1105,7,FALSE) -> 0 | G20: =VLOOKUP($Q20,УЧАСТНИКИ!$A$2:$L$1105,11,FALSE) -> МУ СШОР "Лидер", МАУ ДО Пуровская районная СДЮСШОР "Авангард" | H20: 1219 | I20: =IF(H20=0,0,CONCATENATE(MID(H20,1,2),",",MID(H20,3,2))) -> 12,19 | J20: 0 | N20: =IF(S20<=$R$11,"МСМК",IF(S20<=$S$11,"МС",IF(S20<=$T$11,"КМС",IF(S20<=$U$11,"1",IF(S20<=$V$11,"2",IF(S20<=$W$11,"3",IF(S20<=$X$11,"1юн",IF(S20<=$Y$11,"2юн",IF(S20<=$Z$11,"3юн",IF(S20>$Z$11,"б/р")))))))))) -> КМС | O20: 11 | P20: =VLOOKUP($Q20,УЧАСТНИКИ!$A$2:$L$1105,10,FALSE) -> Хангельдиев Г.А. | Q20: 64 | S20: =MIN(H20,K20) -> 1219
A21: =RANK(H21,$H$12:$H$141,1) -> 10 | B21: =VLOOKUP($Q21,УЧАСТНИКИ!$A$2:$L$1105,3,FALSE) -> Жолобова Анастасия | C21: =VLOOKUP($Q21,УЧАСТНИКИ!$A$2:$L$1105,4,FALSE) -> 15.01.1998 | D21: =VLOOKUP($Q21,УЧАСТНИКИ!$A$2:$L$1105,8,FALSE) -> МС | E21: =VLOOKUP($Q21,УЧАСТНИКИ!$A$2:$L$1105,5,FALSE) -> Волгоградская область | F21: =VLOOKUP($Q21,УЧАСТНИКИ!$A$2:$L$1105,7,FALSE) -> 0 | G21: =VLOOKUP($Q21,УЧАСТНИКИ!$A$2:$L$1105,11,FALSE) -> ГБУ ВО "СШОР по легкой атлетике" | H21: 1222 | I21: =IF(H21=0,0,CONCATENATE(MID(H21,1,2),",",MID(H21,3,2))) -> 12,22 | J21: 1.8 | N21: =IF(S21<=$R$11,"МСМК",IF(S21<=$S$11,"МС",IF(S21<=$T$11,"КМС",IF(S21<=$U$11,"1",IF(S21<=$V$11,"2",IF(S21<=$W$11,"3",IF(S21<=$X$11,"1юн",IF(S21<=$Y$11,"2юн",IF(S21<=$Z$11,"3юн",IF(S21>$Z$11,"б/р")))))))))) -> КМС | O21: 10 | P21: =VLOOKUP($Q21,УЧАСТНИКИ!$A$2:$L$1105,10,FALSE) -> Типаев В.Н., Невежин В.И. | Q21: 377 | S21: =MIN(H21,K21) -> 1222
A22: =RANK(H22,$H$12:$H$141,1) -> 11 | B22: =VLOOKUP($Q22,УЧАСТНИКИ!$A$2:$L$1105,3,FALSE) -> Погорелова Дарья | C22: =VLOOKUP($Q22,УЧАСТНИКИ!$A$2:$L$1105,4,FALSE) -> 27.02.2003 | D22: =VLOOKUP($Q22,УЧАСТНИКИ!$A$2:$L$1105,8,FALSE) -> 1 | E22: =VLOOKUP($Q22,УЧАСТНИКИ!$A$2:$L$1105,5,FALSE) -> Курская область | F22: =VLOOKUP($Q22,УЧАСТНИКИ!$A$2:$L$1105,7,FALSE) -> 0 | G22: =VLOOKUP($Q22,УЧАСТНИКИ!$A$2:$L$1105,11,FALSE) -> МБУ "СШОР" г.Железногорск | H22: 1224 | I22: =IF(H22=0,0,CONCATENATE(MID(H22,1,2),",",MID(H22,3,2))) -> 12,24 | J22: -0.9 | N22: =IF(S22<=$R$11,"МСМК",IF(S22<=$S$11,"МС",IF(S22<=$T$11,"КМС",IF(S22<=$U$11,"1",IF(S22<=$V$11,"2",IF(S22<=$W$11,"3",IF(S22<=$X$11,"1юн",IF(S22<=$Y$11,"2юн",IF(S22<=$Z$11,"3юн",IF(S22>$Z$11,"б/р")))))))))) -> КМС | O22: 9 | P22: =VLOOKUP($Q22,УЧАСТНИКИ!$A$2:$L$1105,10,FALSE) -> Тихонов А.В., Тихонова М.С. | Q22: 274 | S22: =MIN(H22,K22) -> 1224
A23: =RANK(H23,$H$12:$H$141,1) -> 12 | B23: =VLOOKUP($Q23,УЧАСТНИКИ!$A$2:$L$1105,3,FALSE) -> Глебова Карина | C23: =VLOOKUP($Q23,УЧАСТНИКИ!$A$2:$L$1105,4,FALSE) -> 23.01.1996 | D23: =VLOOKUP($Q23,УЧАСТНИКИ!$A$2:$L$1105,8,FALSE) -> МС | E23: =VLOOKUP($Q23,УЧАСТНИКИ!$A$2:$L$1105,5,FALSE) -> Сахалинская область | F23: =VLOOKUP($Q23,УЧАСТНИКИ!$A$2:$L$1105,7,FALSE) -> 0 | G23: =VLOOKUP($Q23,УЧАСТНИКИ!$A$2:$L$1105,11,FALSE) -> ГКУ ЦСПСО, ГБУ СШ летних видов спорта им.Э.М.Комнацкого | H23: 1226 | I23: =IF(H23=0,0,CONCATENATE(MID(H23,1,2),",",MID(H23,3,2))) -> 12,26 | J23: 1.8 | N23: =IF(S23<=$R$11,"МСМК",IF(S23<=$S$11,"МС",IF(S23<=$T$11,"КМС",IF(S23<=$U$11,"1",IF(S23<=$V$11,"2",IF(S23<=$W$11,"3",IF(S23<=$X$11,"1юн",IF(S23<=$Y$11,"2юн",IF(S23<=$Z$11,"3юн",IF(S23>$Z$11,"б/р")))))))))) -> КМС | O23: 8 | P23: =VLOOKUP($Q23,УЧАСТНИКИ!$A$2:$L$1105,10,FALSE) -> Трубецкой Р.О., Воротыляк А.Н. | Q23: 355 | S23: =MIN(H23,K23) -> 1226
A24: =RANK(H24,$H$12:$H$141,1) -> 13 | B24: =VLOOKUP($Q24,УЧАСТНИКИ!$A$2:$L$1105,3,FALSE) -> Титаева Кристина | C24: =VLOOKUP($Q24,УЧАСТНИКИ!$A$2:$L$1105,4,FALSE) -> 22.01.2001 | D24: =VLOOKUP($Q24,УЧАСТНИКИ!$A$2:$L$1105,8,FALSE) -> КМС | E24: =VLOOKUP($Q24,УЧАСТНИКИ!$A$2:$L$1105,5,FALSE) -> Сахалинская область | F24: =VLOOKUP($Q24,УЧАСТНИКИ!$A$2:$L$1105,7,FALSE) -> 0 | G24: =VLOOKUP($Q24,УЧАСТНИКИ!$A$2:$L$1105,11,FALSE) -> ГБУ СШ летних видов спорта им.Э.М.Комнацкого | H24: 1231 | I24: =IF(H24=0,0,CONCATENATE(MID(H24,1,2),",",MID(H24,3,2))) -> 12,31 | J24: 1.8 | N24: =IF(S24<=$R$11,"МСМК",IF(S24<=$S$11,"МС",IF(S24<=$T$11,"КМС",IF(S24<=$U$11,"1",IF(S24<=$V$11,"2",IF(S24<=$W$11,"3",IF(S24<=$X$11,"1юн",IF(S24<=$Y$11,"2юн",IF(S24<=$Z$11,"3юн",IF(S24>$Z$11,"б/р")))))))))) -> КМС | O24: Л | P24: =VLOOKUP($Q24,УЧАСТНИКИ!$A$2:$L$1105,10,FALSE) -> Жижикин А.Н. | Q24: 356 | S24: =MIN(H24,K24) -> 1231
A25: =RANK(H25,$H$12:$H$141,1) -> 14 | B25: =VLOOKUP($Q25,УЧАСТНИКИ!$A$2:$L$1105,3,FALSE) -> Татькова Анна | C25: =VLOOKUP($Q25,УЧАСТНИКИ!$A$2:$L$1105,4,FALSE) -> 22.06.1999 | D25: =VLOOKUP($Q25,УЧАСТНИКИ!$A$2:$L$1105,8,FALSE) -> КМС | E25: =VLOOKUP($Q25,УЧАСТНИКИ!$A$2:$L$1105,5,FALSE) -> Волгоградская область | F25: =VLOOKUP($Q25,УЧАСТНИКИ!$A$2:$L$1105,7,FALSE) -> 0 | G25: =VLOOKUP($Q25,УЧАСТНИКИ!$A$2:$L$1105,11,FALSE) -> ГБУ ВО "СШОР по легкой атлетике", ФГБОУ ВО "ВГАФК" | H25: 1237 | I25: =IF(H25=0,0,CONCATENATE(MID(H25,1,2),",",MID(H25,3,2))) -> 12,37 | J25: -0.9 | N25: =IF(S25<=$R$11,"МСМК",IF(S25<=$S$11,"МС",IF(S25<=$T$11,"КМС",IF(S25<=$U$11,"1",IF(S25<=$V$11,"2",IF(S25<=$W$11,"3",IF(S25<=$X$11,"1юн",IF(S25<=$Y$11,"2юн",IF(S25<=$Z$11,"3юн",IF(S25>$Z$11,"б/р")))))))))) -> КМС | O25: Л | P25: =VLOOKUP($Q25,УЧАСТНИКИ!$A$2:$L$1105,10,FALSE) -> Кайдалин В.С. | Q25: 386 | S25: =MIN(H25,K25) -> 1237
A26: =RANK(H26,$H$12:$H$141,1) -> 15 | B26: =VLOOKUP($Q26,УЧАСТНИКИ!$A$2:$L$1105,3,FALSE) -> Думен (Рябенко) Елена | C26: =VLOOKUP($Q26,УЧАСТНИКИ!$A$2:$L$1105,4,FALSE) -> 13.01.1994 | D26: =VLOOKUP($Q26,УЧАСТНИКИ!$A$2:$L$1105,8,FALSE) -> МС | E26: =VLOOKUP($Q26,УЧАСТНИКИ!$A$2:$L$1105,5,FALSE) -> Краснодарский край Карачаево-Черкесская республика | F26: =VLOOKUP($Q26,УЧАСТНИКИ!$A$2:$L$1105,7,FALSE) -> 0 | G26: =VLOOKUP($Q26,УЧАСТНИКИ!$A$2:$L$1105,11,FALSE) -> ГБУ КК "РЦСП по легкой атлетике", ГБУ КК "ЦОП по легкой атлетике", РГБУ "ЦСП КЧР" | H26: 1245 | I26: =IF(H26=0,0,CONCATENATE(MID(H26,1,2),",",MID(H26,3,2))) -> 12,45 | J26: -0.9 | N26: =IF(S26<=$R$11,"МСМК",IF(S26<=$S$11,"МС",IF(S26<=$T$11,"КМС",IF(S26<=$U$11,"1",IF(S26<=$V$11,"2",IF(S26<=$W$11,"3",IF(S26<=$X$11,"1юн",IF(S26<=$Y$11,"2юн",IF(S26<=$Z$11,"3юн",IF(S26>$Z$11,"б/р")))))))))) -> КМС | O26: 7 | P26: =VLOOKUP($Q26,УЧАСТНИКИ!$A$2:$L$1105,10,FALSE) -> Вяльцева В.Г. | Q26: 89 | S26: =MIN(H26,K26) -> 1245
A27: =RANK(H27,$H$12:$H$141,1) -> 16 | B27: =VLOOKUP($Q27,УЧАСТНИКИ!$A$2:$L$1105,3,FALSE) -> Сухобокова Анастасия | C27: =VLOOKUP($Q27,УЧАСТНИКИ!$A$2:$L$1105,4,FALSE) -> 04.12.1997 | D27: =VLOOKUP($Q27,УЧАСТНИКИ!$A$2:$L$1105,8,FALSE) -> 1 | E27: =VLOOKUP($Q27,УЧАСТНИКИ!$A$2:$L$1105,5,FALSE) -> Сахалинская область | F27: =VLOOKUP($Q27,УЧАСТНИКИ!$A$2:$L$1105,7,FALSE) -> 0 | G27: =VLOOKUP($Q27,УЧАСТНИКИ!$A$2:$L$1105,11,FALSE) -> ГБУ СШ летних видов спорта им.Э.М.Комнацкого | H27: 1255 | I27: =IF(H27=0,0,CONCATENATE(MID(H27,1,2),",",MID(H27,3,2))) -> 12,55 | J27: -0.9 | N27: =IF(S27<=$R$11,"МСМК",IF(S27<=$S$11,"МС",IF(S27<=$T$11,"КМС",IF(S27<=$U$11,"1",IF(S27<=$V$11,"2",IF(S27<=$W$11,"3",IF(S27<=$X$11,"1юн",IF(S27<=$Y$11,"2юн",IF(S27<=$Z$11,"3юн",IF(S27>$Z$11,"б/р")))))))))) -> КМС | O27: Л | Q27: 357 | S27: =MIN(H27,K27) -> 1255
A28: =RANK(H28,$H$12:$H$141,1) -> 17 | B28: =VLOOKUP($Q28,УЧАСТНИКИ!$A$2:$L$1105,3,FALSE) -> Стародубова Виолетта | C28: =VLOOKUP($Q28,УЧАСТНИКИ!$A$2:$L$1105,4,FALSE) -> 15.12.1999 | D28: =VLOOKUP($Q28,УЧАСТНИКИ!$A$2:$L$1105,8,FALSE) -> КМС | E28: =VLOOKUP($Q28,УЧАСТНИКИ!$A$2:$L$1105,5,FALSE) -> Воронежская область | F28: =VLOOKUP($Q28,УЧАСТНИКИ!$A$2:$L$1105,7,FALSE) -> 0 | G28: =VLOOKUP($Q28,УЧАСТНИКИ!$A$2:$L$1105,11,FALSE) -> МКУДО Нововоронежская ДЮСШ | H28: 1261 | I28: =IF(H28=0,0,CONCATENATE(MID(H28,1,2),",",MID(H28,3,2))) -> 12,61 | J28: 0 | N28: =IF(S28<=$R$11,"МСМК",IF(S28<=$S$11,"МС",IF(S28<=$T$11,"КМС",IF(S28<=$U$11,"1",IF(S28<=$V$11,"2",IF(S28<=$W$11,"3",IF(S28<=$X$11,"1юн",IF(S28<=$Y$11,"2юн",IF(S28<=$Z$11,"3юн",IF(S28>$Z$11,"б/р")))))))))) -> КМС | O28: 6 | P28: =VLOOKUP($Q28,УЧАСТНИКИ!$A$2:$L$1105,10,FALSE) -> Мамонов В.В. | Q28: 421 | S28: =MIN(H28,K28) -> 1261
A29: =RANK(H29,$H$12:$H$141,1) -> 18 | B29: =VLOOKUP($Q29,УЧАСТНИКИ!$A$2:$L$1105,3,FALSE) -> Шерстобитова Алефтина | C29: =VLOOKUP($Q29,УЧАСТНИКИ!$A$2:$L$1105,4,FALSE) -> 18.02.1999 | D29: =VLOOKUP($Q29,УЧАСТНИКИ!$A$2:$L$1105,8,FALSE) -> КМС | E29: =VLOOKUP($Q29,УЧАСТНИКИ!$A$2:$L$1105,5,FALSE) -> Волгоградская область | F29: =VLOOKUP($Q29,УЧАСТНИКИ!$A$2:$L$1105,7,FALSE) -> 0 | G29: =VLOOKUP($Q29,УЧАСТНИКИ!$A$2:$L$1105,11,FALSE) -> Динамо ГБУ ВО "СШОР по легкой атлетике" | H29: 1262 | I29: =IF(H29=0,0,CONCATENATE(MID(H29,1,2),",",MID(H29,3,2))) -> 12,62 | J29: 0 | N29: =IF(S29<=$R$11,"МСМК",IF(S29<=$S$11,"МС",IF(S29<=$T$11,"КМС",IF(S29<=$U$11,"1",IF(S29<=$V$11,"2",IF(S29<=$W$11,"3",IF(S29<=$X$11,"1юн",IF(S29<=$Y$11,"2юн",IF(S29<=$Z$11,"3юн",IF(S29>$Z$11,"б/р")))))))))) -> КМС | O29: Л | P29: =VLOOKUP($Q29,УЧАСТНИКИ!$A$2:$L$1105,10,FALSE) -> Абалдов А.А., Типаев В.Н. | Q29: 387 | S29: =MIN(H29,K29) -> 1262
A30: =RANK(H30,$H$12:$H$141,1) -> 19 | B30: =VLOOKUP($Q30,УЧАСТНИКИ!$A$2:$L$1105,3,FALSE) -> Григорьева Ольга | C30: =VLOOKUP($Q30,УЧАСТНИКИ!$A$2:$L$1105,4,FALSE) -> 11.12.1992 | D30: =VLOOKUP($Q30,УЧАСТНИКИ!$A$2:$L$1105,8,FALSE) -> КМС | E30: =VLOOKUP($Q30,УЧАСТНИКИ!$A$2:$L$1105,5,FALSE) -> Новгородская область | F30: =VLOOKUP($Q30,УЧАСТНИКИ!$A$2:$L$1105,7,FALSE) -> 0 | G30: =VLOOKUP($Q30,УЧАСТНИКИ!$A$2:$L$1105,11,FALSE) -> - | H30: 1296 | I30: =IF(H30=0,0,CONCATENATE(MID(H30,1,2),",",MID(H30,3,2))) -> 12,96 | J30: -0.9 | N30: =IF(S30<=$R$11,"МСМК",IF(S30<=$S$11,"МС",IF(S30<=$T$11,"КМС",IF(S30<=$U$11,"1",IF(S30<=$V$11,"2",IF(S30<=$W$11,"3",IF(S30<=$X$11,"1юн",IF(S30<=$Y$11,"2юн",IF(S30<=$Z$11,"3юн",IF(S30>$Z$11,"б/р")))))))))) -> 1 | O30: 5 | P30: =VLOOKUP($Q30,УЧАСТНИКИ!$A$2:$L$1105,10,FALSE) -> Самостоятельно о. | Q30: 353 | S30: =MIN(H30,K30) -> 1296
A33: Главный судья | G33: Безъязычный П.Ф., ССВК, Краснодар
A36: Главный секретарь | G36: Клочкова Е.Ю., ССВК, Волгоград

Sheet И400
A1: =Name_1 -> МИНИСТЕРСТВО ФИЗИЧЕСКОЙ КУЛЬТУРЫ И СПОРТА РОССИЙСКОЙ ФЕДЕРАЦИИ
A2: =Name_2 -> ВСЕРОССИЙСКАЯ ФЕДЕРАЦИЯ ЛЕГКОЙ АТЛЕТИКИ
A3: =Name_3 -> МИНИСТЕРСТВО ФИЗИЧЕСКОЙ КУЛЬТУРЫ И СПОРТА КРАСНОДАРСКОГО КРАЯ
A4: =Name_6 -> ФЕДЕРАЦИЯ ЛЕГКОЙ АТЛЕТИКИ КРАСНОДАРСКОГО КРАЯ
A5: =Name_4 -> КОМАНДНЫЙ ЧЕМПИОНАТ РОССИИ
A7: ИТОГОВЫЙ ПРОТОКОЛ
A8: =d_4 -> ЖЕНЩИНЫ
A9: Бег 400 м | M9: =d_5 -> г. Сочи, ул. Бзугу 2, ст. им. Славы Метревели
A10: автохронометраж | I10: финальные забеги | K10: =d_1 -> 04.09.2019г. | L10: ='400'!I5 -> 18:15 | M10: =d_6 -> t° +26 вл. 61% | N10: номер | O10: мсмк | P10: мс | Q10: кмс | R10: 1 | S10: 2 | T10: 3 | U10: 1ю | V10: 2ю | W10: 3ю
A11: Занятое место | B11: Фамилия, имя | C11: Дата рождения | D11: Заявл. разряд | E11: Территория | F11: Округ | G11: Оргнизация Ведомство | I11: Забеги | J11: Финал | K11: Выполненный разряд | L11: Очки | M11: Ф.И.О. тренера | O11: 5124 | P11: 5424 | Q11: 5774 | R11: 10174 | S11: 10624 | T11: 11124 | U11: 11724 | V11: 12424 | W11: 13072
A12: =RANK(H12,$H$12:$H$145,1) -> 1 | B12: =VLOOKUP($N12,УЧАСТНИКИ!$A$2:$L$1105,3,FALSE) -> Миллер Полина | C12: =VLOOKUP($N12,УЧАСТНИКИ!$A$2:$L$1105,4,FALSE) -> 09.06.2000 | D12: =VLOOKUP($N12,УЧАСТНИКИ!$A$2:$L$1105,8,FALSE) -> МС | E12: =VLOOKUP($N12,УЧАСТНИКИ!$A$2:$L$1105,5,FALSE) -> Краснодарский край Алтайский край | F12: =VLOOKUP($N12,УЧАСТНИКИ!$A$2:$L$1105,7,FALSE) -> 0 | G12: =VLOOKUP($N12,УЧАСТНИКИ!$A$2:$L$1105,11,FALSE) -> ВС ГБУ КК "РЦСП по легкой атлетике", ГБУ КК "ЦОП по легкой атлетике", МБУ СП СШОР №2 | H12: 5174 | I12: =IF(H12=0,0,CONCATENATE(MID(H12,1,2),",",MID(H12,3,2))) -> 51,74 | K12: =IF(H12<=$O$11,"МСМК",IF(H12<=$P$11,"МС",IF(H12<=$Q$11,"КМС",IF(H12<=$R$11,"1",IF(H12<=$S$11,"2",IF(H12<=$T$11,"3",IF(H12<=$U$11,"1юн",IF(H12<=$V$11,"2юн",IF(H12<=$W$11,"3юн",IF(H12>$W$11,"б/р")))))))))) -> МС | L12: 20+5 | M12: =VLOOKUP($N12,УЧАСТНИКИ!$A$2:$L$1105,10,FALSE) -> Клевцова Н.В. | N12: 105
A13: =RANK(H13,$H$12:$H$145,1) -> 2 | B13: =VLOOKUP($N13,УЧАСТНИКИ!$A$2:$L$1105,3,FALSE) -> Аксенова (Усталова) Ксения | C13: =VLOOKUP($N13,УЧАСТНИКИ!$A$2:$L$1105,4,FALSE) -> 14.01.1988 | D13: =VLOOKUP($N13,УЧАСТНИКИ!$A$2:$L$1105,8,FALSE) -> ЗМС | E13: =VLOOKUP($N13,УЧАСТНИКИ!$A$2:$L$1105,5,FALSE) -> Свердловская область Ямало-Ненецкий автономный округ | F13: =VLOOKUP($N13,УЧАСТНИКИ!$A$2:$L$1105,7,FALSE) -> 0 | G13: =VLOOKUP($N13,УЧАСТНИКИ!$A$2:$L$1105,11,FALSE) -> ВС ГАУ СО "ЦСП", ЧУ СК "Луч", МАУ ДО Пуровская районная СДЮСШОР "Авангард" | H13: 5225 | I13: =IF(H13=0,0,CONCATENATE(MID(H13,1,2),",",MID(H13,3,2))) -> 52,25 | K13: =IF(H13<=$O$11,"МСМК",IF(H13<=$P$11,"МС",IF(H13<=$Q$11,"КМС",IF(H13<=$R$11,"1",IF(H13<=$S$11,"2",IF(H13<=$T$11,"3",IF(H13<=$U$11,"1юн",IF(H13<=$V$11,"2юн",IF(H13<=$W$11,"3юн",IF(H13>$W$11,"б/р")))))))))) -> МС | L13: 17+5 | M13: =VLOOKUP($N13,УЧАСТНИКИ!$A$2:$L$1105,10,FALSE) -> Табабилов Р.Б., Хангельдиев Г.А. | N13: 197
A14: =RANK(H14,$H$12:$H$145,1) -> 3 | B14: =VLOOKUP($N14,УЧАСТНИКИ!$A$2:$L$1105,3,FALSE) -> Котова Алина | C14: =VLOOKUP($N14,УЧАСТНИКИ!$A$2:$L$1105,4,FALSE) -> 26.02.1993 | D14: =VLOOKUP($N14,УЧАСТНИКИ!$A$2:$L$1105,8,FALSE) -> МС | E14: =VLOOKUP($N14,УЧАСТНИКИ!$A$2:$L$1105,5,FALSE) -> Республика Карелия | F14: =VLOOKUP($N14,УЧАСТНИКИ!$A$2:$L$1105,7,FALSE) -> 0 | G14: =VLOOKUP($N14,УЧАСТНИКИ!$A$2:$L$1105,11,FALSE) -> МУ "СШОР №3" | H14: 5404 | I14: =IF(H14=0,0,CONCATENATE(MID(H14,1,2),",",MID(H14,3,2))) -> 54,04 | K14: =IF(H14<=$O$11,"МСМК",IF(H14<=$P$11,"МС",IF(H14<=$Q$11,"КМС",IF(H14<=$R$11,"1",IF(H14<=$S$11,"2",IF(H14<=$T$11,"3",IF(H14<=$U$11,"1юн",IF(H14<=$V$11,"2юн",IF(H14<=$W$11,"3юн",IF(H14>$W$11,"б/р")))))))))) -> МС | L14: 15+5 | M14: =VLOOKUP($N14,УЧАСТНИКИ!$A$2:$L$1105,10,FALSE) -> Воробьев С.А. | N14: 430
A15: =RANK(H15,$H$12:$H$145,1) -> 4 | B15: =VLOOKUP($N15,УЧАСТНИКИ!$A$2:$L$1105,3,FALSE) -> Рудакова Вера | C15: =VLOOKUP($N15,УЧАСТНИКИ!$A$2:$L$1105,4,FALSE) -> 20.03.1992 | D15: =VLOOKUP($N15,УЧАСТНИКИ!$A$2:$L$1105,8,FALSE) -> МСМК | E15: =VLOOKUP($N15,УЧАСТНИКИ!$A$2:$L$1105,5,FALSE) -> Москва Пермский край | F15: =VLOOKUP($N15,УЧАСТНИКИ!$A$2:$L$1105,7,FALSE) -> 0 | G15: =VLOOKUP($N15,УЧАСТНИКИ!$A$2:$L$1105,11,FALSE) -> ВС ГБУ "ЦОП по легкой атлетике" Москомспорта, МАУ СШОР №1 г.Перми | H15: 5408 | I15: =IF(H15=0,0,CONCATENATE(MID(H15,1,2),",",MID(H15,3,2))) -> 54,08 | K15: =IF(H15<=$O$11,"МСМК",IF(H15<=$P$11,"МС",IF(H15<=$Q$11,"КМС",IF(H15<=$R$11,"1",IF(H15<=$S$11,"2",IF(H15<=$T$11,"3",IF(H15<=$U$11,"1юн",IF(H15<=$V$11,"2юн",IF(H15<=$W$11,"3юн",IF(H15>$W$11,"б/р")))))))))) -> МС | L15: Л | M15: =VLOOKUP($N15,УЧАСТНИКИ!$A$2:$L$1105,10,FALSE) -> Куликова Е.Ю., Вашкевич И.Е., Зеленцова Т.П., Силкин А.Ф. | N15: 40
A16: =RANK(H16,$H$12:$H$145,1) -> 5 | B16: =VLOOKUP($N16,УЧАСТНИКИ!$A$2:$L$1105,3,FALSE) -> Палиенко Ольга | C16: =VLOOKUP($N16,УЧАСТНИКИ!$A$2:$L$1105,4,FALSE) -> 21.11.1995 | D16: =VLOOKUP($N16,УЧАСТНИКИ!$A$2:$L$1105,8,FALSE) -> КМС | E16: =VLOOKUP($N16,УЧАСТНИКИ!$A$2:$L$1105,5,FALSE) -> Новосибирская область | F16: =VLOOKUP($N16,УЧАСТНИКИ!$A$2:$L$1105,7,FALSE) -> 0 | G16: =VLOOKUP($N16,УЧАСТНИКИ!$A$2:$L$1105,11,FALSE) -> МАУ "НЦВСМ" | H16: 5429 | I16: =IF(H16=0,0,CONCATENATE(MID(H16,1,2),",",MID(H16,3,2))) -> 54,29 | K16: =IF(H16<=$O$11,"МСМК",IF(H16<=$P$11,"МС",IF(H16<=$Q$11,"КМС",IF(H16<=$R$11,"1",IF(H16<=$S$11,"2",IF(H16<=$T$11,"3",IF(H16<=$U$11,"1юн",IF(H16<=$V$11,"2юн",IF(H16<=$W$11,"3юн",IF(H16>$W$11,"б/р")))))))))) -> КМС | L16: 14 | M16: =VLOOKUP($N16,УЧАСТНИКИ!$A$2:$L$1105,10,FALSE) -> Котовский В.Ю., Панов В.С. | N16: 229
A17: =RANK(H17,$H$12:$H$145,1) -> 6 | B17: =VLOOKUP($N17,УЧАСТНИКИ!$A$2:$L$1105,3,FALSE) -> Жданова Анастасия | C17: =VLOOKUP($N17,УЧАСТНИКИ!$A$2:$L$1105,4,FALSE) -> 15.04.1994 | D17: =VLOOKUP($N17,УЧАСТНИКИ!$A$2:$L$1105,8,FALSE) -> МС | E17: =VLOOKUP($N17,УЧАСТНИКИ!$A$2:$L$1105,5,FALSE) -> Свердловская область | F17: =VLOOKUP($N17,УЧАСТНИКИ!$A$2:$L$1105,7,FALSE) -> 0 | G17: =VLOOKUP($N17,УЧАСТНИКИ!$A$2:$L$1105,11,FALSE) -> ГАУ СО "ЦСП", СК "Спутник" | H17: 5459 | I17: =IF(H17=0,0,CONCATENATE(MID(H17,1,2),",",MID(H17,3,2))) -> 54,59 | K17: =IF(H17<=$O$11,"МСМК",IF(H17<=$P$11,"МС",IF(H17<=$Q$11,"КМС",IF(H17<=$R$11,"1",IF(H17<=$S$11,"2",IF(H17<=$T$11,"3",IF(H17<=$U$11,"1юн",IF(H17<=$V$11,"2юн",IF(H17<=$W$11,"3юн",IF(H17>$W$11,"б/р")))))))))) -> КМС | L17: Л | M17: =VLOOKUP($N17,УЧАСТНИКИ!$A$2:$L$1105,10,FALSE) -> Заикин В.В., Мерзлякова Н.В., Гусаренко В.С., Петренко О.Н. | N17: 199
A18: =RANK(H18,$H$12:$H$145,1) -> 7 | B18: =VLOOKUP($N18,УЧАСТНИКИ!$A$2:$L$1105,3,FALSE) -> Кузминчук Олеся | C18: =VLOOKUP($N18,УЧАСТНИКИ!$A$2:$L$1105,4,FALSE) -> 04.12.1998 | D18: =VLOOKUP($N18,УЧАСТНИКИ!$A$2:$L$1105,8,FALSE) -> КМС | E18: =VLOOKUP($N18,УЧАСТНИКИ!$A$2:$L$1105,5,FALSE) -> Санкт-Петербург | F18: =VLOOKUP($N18,УЧАСТНИКИ!$A$2:$L$1105,7,FALSE) -> 0 | G18: =VLOOKUP($N18,УЧАСТНИКИ!$A$2:$L$1105,11,FALSE) -> ГБУ СШОР №2 Московского района | H18: 5493 | I18: =IF(H18=0,0,CONCATENATE(MID(H18,1,2),",",MID(H18,3,2))) -> 54,93 | K18: =IF(H18<=$O$11,"МСМК",IF(H18<=$P$11,"МС",IF(H18<=$Q$11,"КМС",IF(H18<=$R$11,"1",IF(H18<=$S$11,"2",IF(H18<=$T$11,"3",IF(H18<=$U$11,"1юн",IF(H18<=$V$11,"2юн",IF(H18<=$W$11,"3юн",IF(H18>$W$11,"б/р")))))))))) -> КМС | L18: Л | M18: =VLOOKUP($N18,УЧАСТНИКИ!$A$2:$L$1105,10,FALSE) -> Лотова Э.В. | N18: 155
A19: =RANK(H19,$H$12:$H$145,1) -> 8 | B19: =VLOOKUP($N19,УЧАСТНИКИ!$A$2:$L$1105,3,FALSE) -> Котельникова Елена | C19: =VLOOKUP($N19,УЧАСТНИКИ!$A$2:$L$1105,4,FALSE) -> 03.04.1997 | D19: =VLOOKUP($N19,УЧАСТНИКИ!$A$2:$L$1105,8,FALSE) -> КМС | E19: =VLOOKUP($N19,УЧАСТНИКИ!$A$2:$L$1105,5,FALSE) -> Курская область | F19: =VLOOKUP($N19,УЧАСТНИКИ!$A$2:$L$1105,7,FALSE) -> 0 | G19: =VLOOKUP($N19,УЧАСТНИКИ!$A$2:$L$1105,11,FALSE) -> ОБУ СШОР "Урожай" | H19: 5505 | I19: =IF(H19=0,0,CONCATENATE(MID(H19,1,2),",",MID(H19,3,2))) -> 55,05 | K19: =IF(H19<=$O$11,"МСМК",IF(H19<=$P$11,"МС",IF(H19<=$Q$11,"КМС",IF(H19<=$R$11,"1",IF(H19<=$S$11,"2",IF(H19<=$T$11,"3",IF(H19<=$U$11,"1юн",IF(H19<=$V$11,"2юн",IF(H19<=$W$11,"3юн",IF(H19>$W$11,"б/р")))))))))) -> КМС | L19: 13 | N19: 266
A20: =RANK(H20,$H$12:$H$145,1) -> 9 | B20: =VLOOKUP($N20,УЧАСТНИКИ!$A$2:$L$1105,3,FALSE) -> Тюрина Екатерина | C20: =VLOOKUP($N20,УЧАСТНИКИ!$A$2:$L$1105,4,FALSE) -> 18.04.1997 | D20: =VLOOKUP($N20,УЧАСТНИКИ!$A$2:$L$1105,8,FALSE) -> МС | E20: =VLOOKUP($N20,УЧАСТНИКИ!$A$2:$L$1105,5,FALSE) -> Санкт-Петербург Нижегородская область | F20: =VLOOKUP($N20,УЧАСТНИКИ!$A$2:$L$1105,7,FALSE) -> 0 | G20: =VLOOKUP($N20,УЧАСТНИКИ!$A$2:$L$1105,11,FALSE) -> СПб ГБУ ЦОП "ШВСМ по легкой атлетике", МБУ КСШОР №1 | H20: 5538 | I20: =IF(H20=0,0,CONCATENATE(MID(H20,1,2),",",MID(H20,3,2))) -> 55,38 | K20: =IF(H20<=$O$11,"МСМК",IF(H20<=$P$11,"МС",IF(H20<=$Q$11,"КМС",IF(H20<=$R$11,"1",IF(H20<=$S$11,"2",IF(H20<=$T$11,"3",IF(H20<=$U$11,"1юн",IF(H20<=$V$11,"2юн",IF(H20<=$W$11,"3юн",IF(H20>$W$11,"б/р")))))))))) -> КМС | L20: 12 | M20: =VLOOKUP($N20,УЧАСТНИКИ!$A$2:$L$1105,10,FALSE) -> Куликова Е.Ю., Седова Н.А., Геворкян Р.О. | N20: 180
A21: =RANK(H21,$H$12:$H$145,1) -> 10 | B21: =VLOOKUP($N21,УЧАСТНИКИ!$A$2:$L$1105,3,FALSE) -> Виноградова (Маркелова) Татьяна | C21: =VLOOKUP($N21,УЧАСТНИКИ!$A$2:$L$1105,4,FALSE) -> 09.12.1988 | D21: =VLOOKUP($N21,УЧАСТНИКИ!$A$2:$L$1105,8,FALSE) -> МСМК | E21: =VLOOKUP($N21,УЧАСТНИКИ!$A$2:$L$1105,5,FALSE) -> Мурманская область | F21: =VLOOKUP($N21,УЧАСТНИКИ!$A$2:$L$1105,7,FALSE) -> 0 | G21: =VLOOKUP($N21,УЧАСТНИКИ!$A$2:$L$1105,11,FALSE) -> Динамо ГАУМО "ЦСП", МАУ СШОР №4 | H21: 5598 | I21: =IF(H21=0,0,CONCATENATE(MID(H21,1,2),",",MID(H21,3,2))) -> 55,98 | K21: =IF(H21<=$O$11,"МСМК",IF(H21<=$P$11,"МС",IF(H21<=$Q$11,"КМС",IF(H21<=$R$11,"1",IF(H21<=$S$11,"2",IF(H21<=$T$11,"3",IF(H21<=$U$11,"1юн",IF(H21<=$V$11,"2юн",IF(H21<=$W$11,"3юн",IF(H21>$W$11,"б/р")))))))))) -> КМС | L21: 11 | M21: =VLOOKUP($N21,УЧАСТНИКИ!$A$2:$L$1105,10,FALSE) -> Савенков П.В. | N21: 403
A22: =RANK(H22,$H$12:$H$145,1) -> 11 | B22: =VLOOKUP($N22,УЧАСТНИКИ!$A$2:$L$1105,3,FALSE) -> Гуляева Александра | C22: =VLOOKUP($N22,УЧАСТНИКИ!$A$2:$L$1105,4,FALSE) -> 30.04.1994 | D22: =VLOOKUP($N22,УЧАСТНИКИ!$A$2:$L$1105,8,FALSE) -> МСМК | E22: =VLOOKUP($N22,УЧАСТНИКИ!$A$2:$L$1105,5,FALSE) -> Москва Ивановская область | F22: =VLOOKUP($N22,УЧАСТНИКИ!$A$2:$L$1105,7,FALSE) -> 0 | G22: =VLOOKUP($N22,УЧАСТНИКИ!$A$2:$L$1105,11,FALSE) -> ГБУ "ЦОП по легкой атлетике" Москомспорта, МБУ ДО "ДЮСШ №6 г.Иванова" | H22: 5642 | I22: =IF(H22=0,0,CONCATENATE(MID(H22,1,2),",",MID(H22,3,2))) -> 56,42 | K22: =IF(H22<=$O$11,"МСМК",IF(H22<=$P$11,"МС",IF(H22<=$Q$11,"КМС",IF(H22<=$R$11,"1",IF(H22<=$S$11,"2",IF(H22<=$T$11,"3",IF(H22<=$U$11,"1юн",IF(H22<=$V$11,"2юн",IF(H22<=$W$11,"3юн",IF(H22>$W$11,"б/р")))))))))) -> КМС | L22: Л | M22: =VLOOKUP($N22,УЧАСТНИКИ!$A$2:$L$1105,10,FALSE) -> Божко В.А., Цыганова Н.П., Попова Н.Л. | N22: 12
A23: =RANK(H23,$H$12:$H$145,1) -> 12 | B23: =VLOOKUP($N23,УЧАСТНИКИ!$A$2:$L$1105,3,FALSE) -> Габдуллина Дина | C23: =VLOOKUP($N23,УЧАСТНИКИ!$A$2:$L$1105,4,FALSE) -> 12.03.1995 | D23: =VLOOKUP($N23,УЧАСТНИКИ!$A$2:$L$1105,8,FALSE) -> КМС | E23: =VLOOKUP($N23,УЧАСТНИКИ!$A$2:$L$1105,5,FALSE) -> Ямало-Ненецкий автономный округ | F23: =VLOOKUP($N23,УЧАСТНИКИ!$A$2:$L$1105,7,FALSE) -> 0 | G23: =VLOOKUP($N23,УЧАСТНИКИ!$A$2:$L$1105,11,FALSE) -> МАУ ДО Пуровская районная СДЮСШОР "Авангард" | H23: 5697 | I23: =IF(H23=0,0,CONCATENATE(MID(H23,1,2),",",MID(H23,3,2))) -> 56,97 | K23: =IF(H23<=$O$11,"МСМК",IF(H23<=$P$11,"МС",IF(H23<=$Q$11,"КМС",IF(H23<=$R$11,"1",IF(H23<=$S$11,"2",IF(H23<=$T$11,"3",IF(H23<=$U$11,"1юн",IF(H23<=$V$11,"2юн",IF(H23<=$W$11,"3юн",IF(H23>$W$11,"б/р")))))))))) -> КМС | L23: Л | M23: =VLOOKUP($N23,УЧАСТНИКИ!$A$2:$L$1105,10,FALSE) -> Хангельдиев Г.А. | N23: 401
A24: =RANK(H24,$H$12:$H$145,1) -> 13 | B24: =VLOOKUP($N24,УЧАСТНИКИ!$A$2:$L$1105,3,FALSE) -> Копрова Екатерина | C24: =VLOOKUP($N24,УЧАСТНИКИ!$A$2:$L$1105,4,FALSE) -> 07.02.1999 | D24: =VLOOKUP($N24,УЧАСТНИКИ!$A$2:$L$1105,8,FALSE) -> КМС | E24: =VLOOKUP($N24,УЧАСТНИКИ!$A$2:$L$1105,5,FALSE) -> Санкт-Петербург | F24: =VLOOKUP($N24,УЧАСТНИКИ!$A$2:$L$1105,7,FALSE) -> 0 | G24: =VLOOKUP($N24,УЧАСТНИКИ!$A$2:$L$1105,11,FALSE) -> СПб ГБУ ЦОП "ШВСМ по легкой атлетике" | H24: 5717 | I24: =IF(H24=0,0,CONCATENATE(MID(H24,1,2),",",MID(H24,3,2))) -> 57,17 | K24: =IF(H24<=$O$11,"МСМК",IF(H24<=$P$11,"МС",IF(H24<=$Q$11,"КМС",IF(H24<=$R$11,"1",IF(H24<=$S$11,"2",IF(H24<=$T$11,"3",IF(H24<=$U$11,"1юн",IF(H24<=$V$11,"2юн",IF(H24<=$W$11,"3юн",IF(H24>$W$11,"б/р")))))))))) -> КМС | L24: Л | M24: =VLOOKUP($N24,УЧАСТНИКИ!$A$2:$L$1105,10,FALSE) -> Куликова Е.Ю., Калина Т.В. | N24: 152
A25: =RANK(H25,$H$12:$H$145,1) -> 14 | B25: =VLOOKUP($N25,УЧАСТНИКИ!$A$2:$L$1105,3,FALSE) -> Аникиенко Елизавета | C25: =VLOOKUP($N25,УЧАСТНИКИ!$A$2:$L$1105,4,FALSE) -> 30.06.1994 | D25: =VLOOKUP($N25,УЧАСТНИКИ!$A$2:$L$1105,8,FALSE) -> МС | E25: =VLOOKUP($N25,УЧАСТНИКИ!$A$2:$L$1105,5,FALSE) -> Москва Московская область | F25: =VLOOKUP($N25,УЧАСТНИКИ!$A$2:$L$1105,7,FALSE) -> 0 | G25: =VLOOKUP($N25,УЧАСТНИКИ!$A$2:$L$1105,11,FALSE) -> ГБУ "МГФСО" Москомспорта, РГУФКСМиТ, ГБУ МО "СШОР по легкой атлетике" | H25: 5728 | I25: =IF(H25=0,0,CONCATENATE(MID(H25,1,2),",",MID(H25,3,2))) -> 57,28 | K25: =IF(H25<=$O$11,"МСМК",IF(H25<=$P$11,"МС",IF(H25<=$Q$11,"КМС",IF(H25<=$R$11,"1",IF(H25<=$S$11,"2",IF(H25<=$T$11,"3",IF(H25<=$U$11,"1юн",IF(H25<=$V$11,"2юн",IF(H25<=$W$11,"3юн",IF(H25>$W$11,"б/р")))))))))) -> КМС | L25: 10 | M25: =VLOOKUP($N25,УЧАСТНИКИ!$A$2:$L$1105,10,FALSE) -> Чемерисов Н.Ф. | N25: 3
A26: =RANK(H26,$H$12:$H$145,1) -> 15 | B26: =VLOOKUP($N26,УЧАСТНИКИ!$A$2:$L$1105,3,FALSE) -> Герасимова Анастасия | C26: =VLOOKUP($N26,УЧАСТНИКИ!$A$2:$L$1105,4,FALSE) -> 18.03.1998 | D26: =VLOOKUP($N26,УЧАСТНИКИ!$A$2:$L$1105,8,FALSE) -> КМС | E26: =VLOOKUP($N26,УЧАСТНИКИ!$A$2:$L$1105,5,FALSE) -> Волгоградская область Саратовская область | F26: =VLOOKUP($N26,УЧАСТНИКИ!$A$2:$L$1105,7,FALSE) -> 0 | G26: =VLOOKUP($N26,УЧАСТНИКИ!$A$2:$L$1105,11,FALSE) -> ГБУ ВО "СШОР по легкой атлетике", ГАПОУ ВО "УОР имени дважды Героя Советского Союза А.И.Родимцева", МКУ "СШОР №6" | H26: 5789 | I26: =IF(H26=0,0,CONCATENATE(MID(H26,1,2),",",MID(H26,3,2))) -> 57,89 | K26: =IF(H26<=$O$11,"МСМК",IF(H26<=$P$11,"МС",IF(H26<=$Q$11,"КМС",IF(H26<=$R$11,"1",IF(H26<=$S$11,"2",IF(H26<=$T$11,"3",IF(H26<=$U$11,"1юн",IF(H26<=$V$11,"2юн",IF(H26<=$W$11,"3юн",IF(H26>$W$11,"б/р")))))))))) -> 1 | L26: Л | M26: =VLOOKUP($N26,УЧАСТНИКИ!$A$2:$L$1105,10,FALSE) -> Лупачев А.С. | N26: 376
A27: =RANK(H27,$H$12:$H$145,1) -> 16 | B27: =VLOOKUP($N27,УЧАСТНИКИ!$A$2:$L$1105,3,FALSE) -> Асоева Манижа | C27: =VLOOKUP($N27,УЧАСТНИКИ!$A$2:$L$1105,4,FALSE) -> 28.05.2001 | D27: =VLOOKUP($N27,УЧАСТНИКИ!$A$2:$L$1105,8,FALSE) -> КМС | E27: =VLOOKUP($N27,УЧАСТНИКИ!$A$2:$L$1105,5,FALSE) -> Санкт-Петербург Тверская область | F27: =VLOOKUP($N27,УЧАСТНИКИ!$A$2:$L$1105,7,FALSE) -> 0 | G27: =VLOOKUP($N27,УЧАСТНИКИ!$A$2:$L$1105,11,FALSE) -> СПб ГБУ ЦОП "ШВСМ по легкой атлетике", СПб ГБПОУ "УОР №1", ГБУ "КСШОР №2" | H27: 5819 | I27: =IF(H27=0,0,CONCATENATE(MID(H27,1,2),",",MID(H27,3,2))) -> 58,19 | K27: =IF(H27<=$O$11,"МСМК",IF(H27<=$P$11,"МС",IF(H27<=$Q$11,"КМС",IF(H27<=$R$11,"1",IF(H27<=$S$11,"2",IF(H27<=$T$11,"3",IF(H27<=$U$11,"1юн",IF(H27<=$V$11,"2юн",IF(H27<=$W$11,"3юн",IF(H27>$W$11,"б/р")))))))))) -> 1 | L27: Л | M27: =VLOOKUP($N27,УЧАСТНИКИ!$A$2:$L$1105,10,FALSE) -> Кириллов Ю.А., Климов А.Г. | N27: 129
A28: =RANK(H28,$H$12:$H$145,1) -> 17 | B28: =VLOOKUP($N28,УЧАСТНИКИ!$A$2:$L$1105,3,FALSE) -> Заварзина Анжелика | C28: =VLOOKUP($N28,УЧАСТНИКИ!$A$2:$L$1105,4,FALSE) -> 19.07.1998 | D28: =VLOOKUP($N28,УЧАСТНИКИ!$A$2:$L$1105,8,FALSE) -> КМС | E28: =VLOOKUP($N28,УЧАСТНИКИ!$A$2:$L$1105,5,FALSE) -> Волгоградская область | F28: =VLOOKUP($N28,УЧАСТНИКИ!$A$2:$L$1105,7,FALSE) -> 0 | G28: =VLOOKUP($N28,УЧАСТНИКИ!$A$2:$L$1105,11,FALSE) -> ГБУ ВО "СШОР по легкой атлетике" | H28: 5825 | I28: =IF(H28=0,0,CONCATENATE(MID(H28,1,2),",",MID(H28,3,2))) -> 58,25 | K28: =IF(H28<=$O$11,"МСМК",IF(H28<=$P$11,"МС",IF(H28<=$Q$11,"КМС",IF(H28<=$R$11,"1",IF(H28<=$S$11,"2",IF(H28<=$T$11,"3",IF(H28<=$U$11,"1юн",IF(H28<=$V$11,"2юн",IF(H28<=$W$11,"3юн",IF(H28>$W$11,"б/р")))))))))) -> 1 | L28: 9 | M28: =VLOOKUP($N28,УЧАСТНИКИ!$A$2:$L$1105,10,FALSE) -> Типаев В.Н., Кайдалин В.С. | N28: 378
A29: =RANK(H29,$H$12:$H$145,1) -> 18 | B29: =VLOOKUP($N29,УЧАСТНИКИ!$A$2:$L$1105,3,FALSE) -> Топольскова Ольга | C29: =VLOOKUP($N29,УЧАСТНИКИ!$A$2:$L$1105,4,FALSE) -> 25.06.2002 | D29: =VLOOKUP($N29,УЧАСТНИКИ!$A$2:$L$1105,8,FALSE) -> КМС | E29: =VLOOKUP($N29,УЧАСТНИКИ!$A$2:$L$1105,5,FALSE) -> Ставропольский край | F29: =VLOOKUP($N29,УЧАСТНИКИ!$A$2:$L$1105,7,FALSE) -> 0 | G29: =VLOOKUP($N29,УЧАСТНИКИ!$A$2:$L$1105,11,FALSE) -> ГБУ СК "СШОР по легкой атлетике" | H29: 5861 | I29: =IF(H29=0,0,CONCATENATE(MID(H29,1,2),",",MID(H29,3,2))) -> 58,61 | K29: =IF(H29<=$O$11,"МСМК",IF(H29<=$P$11,"МС",IF(H29<=$Q$11,"КМС",IF(H29<=$R$11,"1",IF(H29<=$S$11,"2",IF(H29<=$T$11,"3",IF(H29<=$U$11,"1юн",IF(H29<=$V$11,"2юн",IF(H29<=$W$11,"3юн",IF(H29>$W$11,"б/р")))))))))) -> 1 | L29: 8 | M29: =VLOOKUP($N29,УЧАСТНИКИ!$A$2:$L$1105,10,FALSE) -> Таранцов С.Ф., Лобойко В.В. | N29: 341
A30: =RANK(H30,$H$12:$H$145,1) -> 19 | B30: =VLOOKUP($N30,УЧАСТНИКИ!$A$2:$L$1105,3,FALSE) -> Шатурная Светлана | C30: =VLOOKUP($N30,УЧАСТНИКИ!$A$2:$L$1105,4,FALSE) -> 15.06.1995 | D30: =VLOOKUP($N30,УЧАСТНИКИ!$A$2:$L$1105,8,FALSE) -> КМС | E30: =VLOOKUP($N30,УЧАСТНИКИ!$A$2:$L$1105,5,FALSE) -> Краснодарский край Карачаево-Черкесская республика | F30: =VLOOKUP($N30,УЧАСТНИКИ!$A$2:$L$1105,7,FALSE) -> 0 | G30: =VLOOKUP($N30,УЧАСТНИКИ!$A$2:$L$1105,11,FALSE) -> ГБУ КК "ЦОП по легкой атлетике", РГБУ "ЦСП КЧР" | H30: 5956 | I30: =IF(H30=0,0,CONCATENATE(MID(H30,1,2),",",MID(H30,3,2))) -> 59,56 | K30: =IF(H30<=$O$11,"МСМК",IF(H30<=$P$11,"МС",IF(H30<=$Q$11,"КМС",IF(H30<=$R$11,"1",IF(H30<=$S$11,"2",IF(H30<=$T$11,"3",IF(H30<=$U$11,"1юн",IF(H30<=$V$11,"2юн",IF(H30<=$W$11,"3юн",IF(H30>$W$11,"б/р")))))))))) -> 1 | L30: 7 | M30: =VLOOKUP($N30,УЧАСТНИКИ!$A$2:$L$1105,10,FALSE) -> Вяльцева В.Г. | N30: 125
A31: =RANK(H31,$H$12:$H$145,1) -> 20 | B31: =VLOOKUP($N31,УЧАСТНИКИ!$A$2:$L$1105,3,FALSE) -> Цаплина Валерия | C31: =VLOOKUP($N31,УЧАСТНИКИ!$A$2:$L$1105,4,FALSE) -> 19.02.1997 | D31: =VLOOKUP($N31,УЧАСТНИКИ!$A$2:$L$1105,8,FALSE) -> КМС | E31: =VLOOKUP($N31,УЧАСТНИКИ!$A$2:$L$1105,5,FALSE) -> Кировская область Санкт-Петербург | F31: =VLOOKUP($N31,УЧАСТНИКИ!$A$2:$L$1105,7,FALSE) -> 0 | G31: =VLOOKUP($N31,УЧАСТНИКИ!$A$2:$L$1105,11,FALSE) -> КОГАУ "ВятСШОР", СПб ГБУ ЦОП "ШВСМ по легкой атлетике" | H31: 10105 | I31: =IF(H31=0,0,CONCATENATE(MID(H31,1,1),":",MID(H31,2,2),",",MID(H31,4,2))) -> 1:01,05 | K31: =IF(H31<=$O$11,"МСМК",IF(H31<=$P$11,"МС",IF(H31<=$Q$11,"КМС",IF(H31<=$R$11,"1",IF(H31<=$S$11,"2",IF(H31<=$T$11,"3",IF(H31<=$U$11,"1юн",IF(H31<=$V$11,"2юн",IF(H31<=$W$11,"3юн",IF(H31>$W$11,"б/р")))))))))) -> 1 | L31: Л | M31: =VLOOKUP($N31,УЧАСТНИКИ!$A$2:$L$1105,10,FALSE) -> Куликова Е.Ю. | N31: 184
B32: =VLOOKUP($N32,УЧАСТНИКИ!$A$2:$L$1105,3,FALSE) -> Зайцева Наталья | C32: =VLOOKUP($N32,УЧАСТНИКИ!$A$2:$L$1105,4,FALSE) -> 01.11.2001 | D32: =VLOOKUP($N32,УЧАСТНИКИ!$A$2:$L$1105,8,FALSE) -> КМС | E32: =VLOOKUP($N32,УЧАСТНИКИ!$A$2:$L$1105,5,FALSE) -> Курганская область | F32: =VLOOKUP($N32,УЧАСТНИКИ!$A$2:$L$1105,7,FALSE) -> 0 | G32: =VLOOKUP($N32,УЧАСТНИКИ!$A$2:$L$1105,11,FALSE) -> ГБУ "СШОР № 1" г.Курган, ГБПОУ КУОР | I32: DNF | L32: 0 | M32: =VLOOKUP($N32,УЧАСТНИКИ!$A$2:$L$1105,10,FALSE) -> Павлова Н.С., Третьяков В.Г. | N32: 406
B33: =VLOOKUP($N33,УЧАСТНИКИ!$A$2:$L$1105,3,FALSE) -> Рухлядева Мария | C33: =VLOOKUP($N33,УЧАСТНИКИ!$A$2:$L$1105,4,FALSE) -> 27.11.1999 | D33: =VLOOKUP($N33,УЧАСТНИКИ!$A$2:$L$1105,8,FALSE) -> КМС | E33: =VLOOKUP($N33,УЧАСТНИКИ!$A$2:$L$1105,5,FALSE) -> Санкт-Петербург | F33: =VLOOKUP($N33,УЧАСТНИКИ!$A$2:$L$1105,7,FALSE) -> 0 | G33: =VLOOKUP($N33,УЧАСТНИКИ!$A$2:$L$1105,11,FALSE) -> ГБУ СШОР №2 Московского района | I33: DNF | L33: Л | M33: =VLOOKUP($N33,УЧАСТНИКИ!$A$2:$L$1105,10,FALSE) -> Лотова Э.В. | N33: 174
A37: Главный судья | G37: Безъязычный П.Ф., ССВК, Краснодар
A40: Главный секретарь | G40: Клочкова Е.Ю., ССВК, Волгоград

Sheet И5000
A1: =Name_1 -> МИНИСТЕРСТВО ФИЗИЧЕСКОЙ КУЛЬТУРЫ И СПОРТА РОССИЙСКОЙ ФЕДЕРАЦИИ
A2: =Name_2 -> ВСЕРОССИЙСКАЯ ФЕДЕРАЦИЯ ЛЕГКОЙ АТЛЕТИКИ
A3: =Name_3 -> МИНИСТЕРСТВО ФИЗИЧЕСКОЙ КУЛЬТУРЫ И СПОРТА КРАСНОДАРСКОГО КРАЯ
A4: =Name_6 -> ФЕДЕРАЦИЯ ЛЕГКОЙ АТЛЕТИКИ КРАСНОДАРСКОГО КРАЯ
A5: =Name_4 -> КОМАНДНЫЙ ЧЕМПИОНАТ РОССИИ
A7: ИТОГОВЫЙ ПРОТОКОЛ
A8: =d_4 -> ЖЕНЩИНЫ
A9: Бег 5000 м | L9: =d_5 -> г. Сочи, ул. Бзугу 2, ст. им. Славы Метревели
A10: автохронометраж | I10: финальные забеги | J10: =d_1 -> 04.09.2019г. | K10: ='5000'!I5 -> 19:30 | L10: =d_6 -> t° +26 вл. 61% | M10: номер | O10: мсмк | P10: мс | Q10: кмс | R10: 1 | S10: 2 | T10: 3 | U10: 1ю | V10: 2ю | W10: 3ю
A11: Занятое место | B11: Фамилия, имя | C11: Дата рождения | D11: Заявл. разряд | E11: Территория | F11: Округ | G11: Оргнизация Ведомство | I11: Результат | J11: Выполненный разряд | K11: Очки | L11: Ф.И.О. тренера | O11: 151824 | P11: 161024 | Q11: 170024 | R11: 182024 | S11: 195024 | T11: 212024 | U11: 230024 | V11: 244524
A12: =RANK(H12,$H$12:$H$127,1) -> 1 | B12: =VLOOKUP($M12,УЧАСТНИКИ!$A$2:$L$1105,3,FALSE) -> Калина Анастасия | C12: =VLOOKUP($M12,УЧАСТНИКИ!$A$2:$L$1105,4,FALSE) -> 16.02.1994 | D12: =VLOOKUP($M12,УЧАСТНИКИ!$A$2:$L$1105,8,FALSE) -> МСМК | E12: =VLOOKUP($M12,УЧАСТНИКИ!$A$2:$L$1105,5,FALSE) -> Московская область Санкт-Петербург | F12: =VLOOKUP($M12,УЧАСТНИКИ!$A$2:$L$1105,7,FALSE) -> 0 | G12: =VLOOKUP($M12,УЧАСТНИКИ!$A$2:$L$1105,11,FALSE) -> ГБУ МО "ЦСП ОВС", ГБУ МО "СШОР по легкой атлетике", СПб ГБУ ЦОП "ШВСМ по легкой атлетике" | H12: 154055 | I12: =IF(H12=0,0,CONCATENATE(MID(H12,1,2),":",MID(H12,3,2),",",MID(H12,5,2))) -> 15:40,55 | J12: =IF(H12<=$O$11,"МСМК",IF(H12<=$P$11,"МС",IF(H12<=$Q$11,"КМС",IF(H12<=$R$11,"1",IF(H12<=$S$11,"2",IF(H12<=$T$11,"3",IF(H12<=$U$11,"1юн",IF(H12<=$V$11,"2юн",IF(H12<=$W$11,"3юн",IF(H12>$W$11,"б/р")))))))))) -> МС | K12: Л | L12: =VLOOKUP($M12,УЧАСТНИКИ!$A$2:$L$1105,10,FALSE) -> Цыганова Н.П., Божко В.А., Калина Т.В. | M12: 148
A13: =RANK(H13,$H$12:$H$127,1) -> 2 | B13: =VLOOKUP($M13,УЧАСТНИКИ!$A$2:$L$1105,3,FALSE) -> Ишова (Горбунова) Екатерина | C13: =VLOOKUP($M13,УЧАСТНИКИ!$A$2:$L$1105,4,FALSE) -> 17.01.1989 | D13: =VLOOKUP($M13,УЧАСТНИКИ!$A$2:$L$1105,8,FALSE) -> МСМК | E13: =VLOOKUP($M13,УЧАСТНИКИ!$A$2:$L$1105,5,FALSE) -> Московская область Чувашская республика | F13: =VLOOKUP($M13,УЧАСТНИКИ!$A$2:$L$1105,7,FALSE) -> 0 | G13: =VLOOKUP($M13,УЧАСТНИКИ!$A$2:$L$1105,11,FALSE) -> ГБУ МО "ЦСП ОВС", АУ "ЦСП им. А. Игнатьева " Минспорта Чувашии | H13: 154891 | I13: =IF(H13=0,0,CONCATENATE(MID(H13,1,2),":",MID(H13,3,2),",",MID(H13,5,2))) -> 15:48,91 | J13: =IF(H13<=$O$11,"МСМК",IF(H13<=$P$11,"МС",IF(H13<=$Q$11,"КМС",IF(H13<=$R$11,"1",IF(H13<=$S$11,"2",IF(H13<=$T$11,"3",IF(H13<=$U$11,"1юн",IF(H13<=$V$11,"2юн",IF(H13<=$W$11,"3юн",IF(H13>$W$11,"б/р")))))))))) -> МС | K13: 20+5 | L13: =VLOOKUP($M13,УЧАСТНИКИ!$A$2:$L$1105,10,FALSE) -> Цыганова Н.П., Божко В.А., Кузнецов М.П. | M13: 62
A14: =RANK(H14,$H$12:$H$127,1) -> 3 | B14: =VLOOKUP($M14,УЧАСТНИКИ!$A$2:$L$1105,3,FALSE) -> Аввакуменкова Ульяна | C14: =VLOOKUP($M14,УЧАСТНИКИ!$A$2:$L$1105,4,FALSE) -> 21.06.1994 | D14: =VLOOKUP($M14,УЧАСТНИКИ!$A$2:$L$1105,8,FALSE) -> МС | E14: =VLOOKUP($M14,УЧАСТНИКИ!$A$2:$L$1105,5,FALSE) -> Санкт-Петербург | F14: =VLOOKUP($M14,УЧАСТНИКИ!$A$2:$L$1105,7,FALSE) -> 0 | G14: =VLOOKUP($M14,УЧАСТНИКИ!$A$2:$L$1105,11,FALSE) -> СПб ГБУ ЦОП "ШВСМ по легкой атлетике" | H14: 162790 | I14: =IF(H14=0,0,CONCATENATE(MID(H14,1,2),":",MID(H14,3,2),",",MID(H14,5,2))) -> 16:27,90 | J14: =IF(H14<=$O$11,"МСМК",IF(H14<=$P$11,"МС",IF(H14<=$Q$11,"КМС",IF(H14<=$R$11,"1",IF(H14<=$S$11,"2",IF(H14<=$T$11,"3",IF(H14<=$U$11,"1юн",IF(H14<=$V$11,"2юн",IF(H14<=$W$11,"3юн",IF(H14>$W$11,"б/р")))))))))) -> КМС | K14: 17 | L14: =VLOOKUP($M14,УЧАСТНИКИ!$A$2:$L$1105,10,FALSE) -> Морозов В.И., Аввакуменкова Н.М. | M14: 127
A15: =RANK(H15,$H$12:$H$127,1) -> 4 | B15: =VLOOKUP($M15,УЧАСТНИКИ!$A$2:$L$1105,3,FALSE) -> Угарова (Халеева) Кристина | C15: =VLOOKUP($M15,УЧАСТНИКИ!$A$2:$L$1105,4,FALSE) -> 22.10.1987 | D15: =VLOOKUP($M15,УЧАСТНИКИ!$A$2:$L$1105,8,FALSE) -> МСМК | E15: =VLOOKUP($M15,УЧАСТНИКИ!$A$2:$L$1105,5,FALSE) -> Курская область | F15: =VLOOKUP($M15,УЧАСТНИКИ!$A$2:$L$1105,7,FALSE) -> 0 | G15: =VLOOKUP($M15,УЧАСТНИКИ!$A$2:$L$1105,11,FALSE) -> - | H15: 173124 | I15: =IF(H15=0,0,CONCATENATE(MID(H15,1,2),":",MID(H15,3,2),",",MID(H15,5,2))) -> 17:31,24 | J15: =IF(H15<=$O$11,"МСМК",IF(H15<=$P$11,"МС",IF(H15<=$Q$11,"КМС",IF(H15<=$R$11,"1",IF(H15<=$S$11,"2",IF(H15<=$T$11,"3",IF(H15<=$U$11,"1юн",IF(H15<=$V$11,"2юн",IF(H15<=$W$11,"3юн",IF(H15>$W$11,"б/р")))))))))) -> 1 | K15: 15 | L15: =VLOOKUP($M15,УЧАСТНИКИ!$A$2:$L$1105,10,FALSE) -> Халеев В.В. Куканов Ю.С. | M15: 280
A19: Главный судья | G19: Безъязычный П.Ф., ССВК, Краснодар
A22: Главный секретарь | G22: Клочкова Е.Ю., ССВК, Волгоград

Sheet И100сб
A1: =Name_1 -> МИНИСТЕРСТВО ФИЗИЧЕСКОЙ КУЛЬТУРЫ И СПОРТА РОССИЙСКОЙ ФЕДЕРАЦИИ
A2: =Name_2 -> ВСЕРОССИЙСКАЯ ФЕДЕРАЦИЯ ЛЕГКОЙ АТЛЕТИКИ
A3: =Name_3 -> МИНИСТЕРСТВО ФИЗИЧЕСКОЙ КУЛЬТУРЫ И СПОРТА КРАСНОДАРСКОГО КРАЯ
A4: =Name_6 -> ФЕДЕРАЦИЯ ЛЕГКОЙ АТЛЕТИКИ КРАСНОДАРСКОГО КРАЯ
A5: =Name_4 -> КОМАНДНЫЙ ЧЕМПИОНАТ РОССИИ
A7: ИТОГОВЫЙ ПРОТОКОЛ
A8: =d_4 -> ЖЕНЩИНЫ | P8: =d_5 -> г. Сочи, ул. Бзугу 2, ст. им. Славы Метревели
A9: Бег с барьерами 100 м | C9: ='110'!A7 -> h-0,84 м | L9: забеги | N9: =d_1 -> 04.09.2019г. | O9: ='110'!I5 -> 16:20 | P9: =d_6 -> t° +26 вл. 61%
A10: автохронометраж | L10: финал | N10: =d_1 -> 04.09.2019г. | O10: ='110ф'!J5 -> 17:50 | P10: =d_6 -> t° +26 вл. 61% | Q10: номер | R10: мсмк | S10: мс | T10: кмс | U10: 1 | V10: 2 | W10: 3 | X10: 1ю | Y10: 2ю | Z10: 3ю
A11: Занятое место | B11: Фамилия, имя | C11: Дата рождения | D11: Заявл. разряд | E11: Территория | F11: Округ | G11: Оргнизация Ведомство | I11: Забеги | J11: V m/s | K11: Полуфинал | L11: Финал | M11: V m/s | N11: Выполненный разряд | O11: Очки | P11: Ф.И.О. тренера | R11: 1298 | S11: 1394 | T11: 1524 | U11: 1624 | V11: 1744 | W11: 1874 | X11: 2024
A12: =RANK(H12,$H$12:$H$134,1) -> 1 | B12: =VLOOKUP($Q12,УЧАСТНИКИ!$A$2:$L$1105,3,FALSE) -> Николаева Анастасия | C12: =VLOOKUP($Q12,УЧАСТНИКИ!$A$2:$L$1105,4,FALSE) -> 24.09.1995 | D12: =VLOOKUP($Q12,УЧАСТНИКИ!$A$2:$L$1105,8,FALSE) -> МСМК | E12: =VLOOKUP($Q12,УЧАСТНИКИ!$A$2:$L$1105,5,FALSE) -> Московская область Самарская область | F12: =VLOOKUP($Q12,УЧАСТНИКИ!$A$2:$L$1105,7,FALSE) -> 0 | G12: =VLOOKUP($Q12,УЧАСТНИКИ!$A$2:$L$1105,11,FALSE) -> ВС ГБУ МО "ЦСП ОВС", ГБУ МО "СШОР по легкой атлетике", МБУ г.о. Самара "СШОР № 2" | H12: 1357 | I12: =IF(H12=0,0,CONCATENATE(MID(H12,1,2),",",MID(H12,3,2))) -> 13,57 | J12: 1.6 | K12: 1337 | L12: =IF(K12=0,0,CONCATENATE(MID(K12,1,2),",",MID(K12,3,2))) -> 13,37 | M12: 1.5 | N12: =IF(S12<=$R$11,"МСМК",IF(S12<=$S$11,"МС",IF(S12<=$T$11,"КМС",IF(S12<=$U$11,"1",IF(S12<=$V$11,"2",IF(S12<=$W$11,"3",IF(S12<=$X$11,"1юн",IF(S12<=$Y$11,"2юн",IF(S12<=$Z$11,"3юн",IF(S12>$Z$11,"б/р")))))))))) -> МС | O12: 20+5 | P12: =VLOOKUP($Q12,УЧАСТНИКИ!$A$2:$L$1105,10,FALSE) -> Маслаков В.М., Жуликов Н.М., Иванова И.Ю. | Q12: 70 | S12: =MIN(H12,K12) -> 1337
A13: 2 | B13: =VLOOKUP($Q13,УЧАСТНИКИ!$A$2:$L$1105,3,FALSE) -> Манакова (Решеткина) Ирина | C13: =VLOOKUP($Q13,УЧАСТНИКИ!$A$2:$L$1105,4,FALSE) -> 30.01.1989 | D13: =VLOOKUP($Q13,УЧАСТНИКИ!$A$2:$L$1105,8,FALSE) -> МС | E13: =VLOOKUP($Q13,УЧАСТНИКИ!$A$2:$L$1105,5,FALSE) -> Москва Санкт-Петербург | F13: =VLOOKUP($Q13,УЧАСТНИКИ!$A$2:$L$1105,7,FALSE) -> 0 | G13: =VLOOKUP($Q13,УЧАСТНИКИ!$A$2:$L$1105,11,FALSE) -> ГБУ "ЦОП по легкой атлетике" Москомспорта, СПб ГБУ ЦОП "ШВСМ по легкой атлетике" | H13: 1393 | I13: =IF(H13=0,0,CONCATENATE(MID(H13,1,2),",",MID(H13,3,2))) -> 13,93 | J13: 2.6 | K13: 1349 | L13: =IF(K13=0,0,CONCATENATE(MID(K13,1,2),",",MID(K13,3,2))) -> 13,49 | M13: 1.5 | N13: =IF(S13<=$R$11,"МСМК",IF(S13<=$S$11,"МС",IF(S13<=$T$11,"КМС",IF(S13<=$U$11,"1",IF(S13<=$V$11,"2",IF(S13<=$W$11,"3",IF(S13<=$X$11,"1юн",IF(S13<=$Y$11,"2юн",IF(S13<=$Z$11,"3юн",IF(S13>$Z$11,"б/р")))))))))) -> МС | O13: 17+5 | P13: =VLOOKUP($Q13,УЧАСТНИКИ!$A$2:$L$1105,10,FALSE) -> Климов А.Г. | Q13: 159 | S13: =MIN(H13,K13) -> 1349
A14: 3 | B14: =VLOOKUP($Q14,УЧАСТНИКИ!$A$2:$L$1105,3,FALSE) -> Печенкина Вероника | C14: =VLOOKUP($Q14,УЧАСТНИКИ!$A$2:$L$1105,4,FALSE) -> 31.08.1997 | D14: =VLOOKUP($Q14,УЧАСТНИКИ!$A$2:$L$1105,8,FALSE) -> МС | E14: =VLOOKUP($Q14,УЧАСТНИКИ!$A$2:$L$1105,5,FALSE) -> Новосибирская область | F14: =VLOOKUP($Q14,УЧАСТНИКИ!$A$2:$L$1105,7,FALSE) -> 0 | G14: =VLOOKUP($Q14,УЧАСТНИКИ!$A$2:$L$1105,11,FALSE) -> ГАУ НСО "РЦСП СК и СР" | H14: 1372 | I14: =IF(H14=0,0,CONCATENATE(MID(H14,1,2),",",MID(H14,3,2))) -> 13,72 | J14: 1.6 | K14: 1359 | L14: =IF(K14=0,0,CONCATENATE(MID(K14,1,2),",",MID(K14,3,2))) -> 13,59 | M14: 1.5 | N14: =IF(S14<=$R$11,"МСМК",IF(S14<=$S$11,"МС",IF(S14<=$T$11,"КМС",IF(S14<=$U$11,"1",IF(S14<=$V$11,"2",IF(S14<=$W$11,"3",IF(S14<=$X$11,"1юн",IF(S14<=$Y$11,"2юн",IF(S14<=$Z$11,"3юн",IF(S14>$Z$11,"б/р")))))))))) -> МС | O14: 15+5 | P14: =VLOOKUP($Q14,УЧАСТНИКИ!$A$2:$L$1105,10,FALSE) -> Печёнкин Г.В. | Q14: 231 | S14: =MIN(H14,K14) -> 1359
A15: 4 | B15: =VLOOKUP($Q15,УЧАСТНИКИ!$A$2:$L$1105,3,FALSE) -> Дементьева Татьяна | C15: =VLOOKUP($Q15,УЧАСТНИКИ!$A$2:$L$1105,4,FALSE) -> 08.05.1981 | D15: =VLOOKUP($Q15,УЧАСТНИКИ!$A$2:$L$1105,8,FALSE) -> МСМК | E15: =VLOOKUP($Q15,УЧАСТНИКИ!$A$2:$L$1105,5,FALSE) -> Краснодарский край | F15: =VLOOKUP($Q15,УЧАСТНИКИ!$A$2:$L$1105,7,FALSE) -> 0 | G15: =VLOOKUP($Q15,УЧАСТНИКИ!$A$2:$L$1105,11,FALSE) -> ГБУ КК "РЦСП по легкой атлетике" | H15: 1372 | I15: =IF(H15=0,0,CONCATENATE(MID(H15,1,2),",",MID(H15,3,2))) -> 13,72 | J15: 1.6 | K15: 1378 | L15: =IF(K15=0,0,CONCATENATE(MID(K15,1,2),",",MID(K15,3,2))) -> 13,78 | M15: 1.5 | N15: =IF(S15<=$R$11,"МСМК",IF(S15<=$S$11,"МС",IF(S15<=$T$11,"КМС",IF(S15<=$U$11,"1",IF(S15<=$V$11,"2",IF(S15<=$W$11,"3",IF(S15<=$X$11,"1юн",IF(S15<=$Y$11,"2юн",IF(S15<=$Z$11,"3юн",IF(S15>$Z$11,"б/р")))))))))) -> МС | O15: 14+5 | P15: =VLOOKUP($Q15,УЧАСТНИКИ!$A$2:$L$1105,10,FALSE) -> Дементьев С.Б. | Q15: 87 | S15: =MIN(H15,K15) -> 1372
A16: =RANK(H16,$H$12:$H$134,1) -> 5 | B16: =VLOOKUP($Q16,УЧАСТНИКИ!$A$2:$L$1105,3,FALSE) -> Ватропина Анна | C16: =VLOOKUP($Q16,УЧАСТНИКИ!$A$2:$L$1105,4,FALSE) -> 05.10.1990 | D16: =VLOOKUP($Q16,УЧАСТНИКИ!$A$2:$L$1105,8,FALSE) -> МС | E16: =VLOOKUP($Q16,УЧАСТНИКИ!$A$2:$L$1105,5,FALSE) -> Республика Татарстан | F16: =VLOOKUP($Q16,УЧАСТНИКИ!$A$2:$L$1105,7,FALSE) -> 0 | G16: =VLOOKUP($Q16,УЧАСТНИКИ!$A$2:$L$1105,11,FALSE) -> Спортивный клуб "Нефтехимик" ПАО "НКНХ" | H16: 1408 | I16: =IF(H16=0,0,CONCATENATE(MID(H16,1,2),",",MID(H16,3,2))) -> 14,08 | J16: 1.6 | K16: 1389 | L16: =IF(K16=0,0,CONCATENATE(MID(K16,1,2),",",MID(K16,3,2))) -> 13,89 | M16: 1.5 | N16: =IF(S16<=$R$11,"МСМК",IF(S16<=$S$11,"МС",IF(S16<=$T$11,"КМС",IF(S16<=$U$11,"1",IF(S16<=$V$11,"2",IF(S16<=$W$11,"3",IF(S16<=$X$11,"1юн",IF(S16<=$Y$11,"2юн",IF(S16<=$Z$11,"3юн",IF(S16>$Z$11,"б/р")))))))))) -> МС | O16: 13+5 | P16: =VLOOKUP($Q16,УЧАСТНИКИ!$A$2:$L$1105,10,FALSE) -> Ермолаев С.В., Пермяков О.А. | Q16: 248 | S16: =MIN(H16,K16) -> 1389
A17: =RANK(H17,$H$12:$H$134,1) -> 6 | B17: =VLOOKUP($Q17,УЧАСТНИКИ!$A$2:$L$1105,3,FALSE) -> Тропина Екатерина | C17: =VLOOKUP($Q17,УЧАСТНИКИ!$A$2:$L$1105,4,FALSE) -> 05.08.1997 | D17: =VLOOKUP($Q17,УЧАСТНИКИ!$A$2:$L$1105,8,FALSE) -> МС | E17: =VLOOKUP($Q17,УЧАСТНИКИ!$A$2:$L$1105,5,FALSE) -> Новосибирская область | F17: =VLOOKUP($Q17,УЧАСТНИКИ!$A$2:$L$1105,7,FALSE) -> 0 | G17: =VLOOKUP($Q17,УЧАСТНИКИ!$A$2:$L$1105,11,FALSE) -> ГАУ НСО "РЦСП СК и СР", ФГБОУ ВО "НГПУ" | H17: 1416 | I17: =IF(H17=0,0,CONCATENATE(MID(H17,1,2),",",MID(H17,3,2))) -> 14,16 | J17: 2.6 | K17: 1411 | L17: =IF(K17=0,0,CONCATENATE(MID(K17,1,2),",",MID(K17,3,2))) -> 14,11 | M17: 1.5 | N17: =IF(S17<=$R$11,"МСМК",IF(S17<=$S$11,"МС",IF(S17<=$T$11,"КМС",IF(S17<=$U$11,"1",IF(S17<=$V$11,"2",IF(S17<=$W$11,"3",IF(S17<=$X$11,"1юн",IF(S17<=$Y$11,"2юн",IF(S17<=$Z$11,"3юн",IF(S17>$Z$11,"б/р")))))))))) -> КМС | O17: Л | P17: =VLOOKUP($Q17,УЧАСТНИКИ!$A$2:$L$1105,10,FALSE) -> Сакаев В.В., Зайцева О.В. | Q17: 234 | S17: =MIN(H17,K17) -> 1411
A18: 7 | B18: =VLOOKUP($Q18,УЧАСТНИКИ!$A$2:$L$1105,3,FALSE) -> Киселева Татьяна | C18: =VLOOKUP($Q18,УЧАСТНИКИ!$A$2:$L$1105,4,FALSE) -> 06.02.1997 | D18: =VLOOKUP($Q18,УЧАСТНИКИ!$A$2:$L$1105,8,FALSE) -> КМС | E18: =VLOOKUP($Q18,УЧАСТНИКИ!$A$2:$L$1105,5,FALSE) -> Курганская область | F18: =VLOOKUP($Q18,УЧАСТНИКИ!$A$2:$L$1105,7,FALSE) -> 0 | G18: =VLOOKUP($Q18,УЧАСТНИКИ!$A$2:$L$1105,11,FALSE) -> ГБУ "СШОР № 1" г.Курган, ФГБОУ ВО "ШГПУ", ГАУ "ЦСП КО" | H18: 1452 | I18: =IF(H18=0,0,CONCATENATE(MID(H18,1,2),",",MID(H18,3,2))) -> 14,52 | J18: 2.6 | K18: 1416 | L18: =IF(K18=0,0,CONCATENATE(MID(K18,1,2),",",MID(K18,3,2))) -> 14,16 | M18: 1.5 | N18: =IF(S18<=$R$11,"МСМК",IF(S18<=$S$11,"МС",IF(S18<=$T$11,"КМС",IF(S18<=$U$11,"1",IF(S18<=$V$11,"2",IF(S18<=$W$11,"3",IF(S18<=$X$11,"1юн",IF(S18<=$Y$11,"2юн",IF(S18<=$Z$11,"3юн",IF(S18>$Z$11,"б/р")))))))))) -> КМС | O18: 12 | P18: =VLOOKUP($Q18,УЧАСТНИКИ!$A$2:$L$1105,10,FALSE) -> Третьяков В.Г., Павлова Н.С. | Q18: 407 | S18: =MIN(H18,K18) -> 1416
A19: 8 | B19: =VLOOKUP($Q19,УЧАСТНИКИ!$A$2:$L$1105,3,FALSE) -> Думен (Рябенко) Елена | C19: =VLOOKUP($Q19,УЧАСТНИКИ!$A$2:$L$1105,4,FALSE) -> 13.01.1994 | D19: =VLOOKUP($Q19,УЧАСТНИКИ!$A$2:$L$1105,8,FALSE) -> МС | E19: =VLOOKUP($Q19,УЧАСТНИКИ!$A$2:$L$1105,5,FALSE) -> Краснодарский край Карачаево-Черкесская республика | F19: =VLOOKUP($Q19,УЧАСТНИКИ!$A$2:$L$1105,7,FALSE) -> 0 | G19: =VLOOKUP($Q19,УЧАСТНИКИ!$A$2:$L$1105,11,FALSE) -> ГБУ КК "РЦСП по легкой атлетике", ГБУ КК "ЦОП по легкой атлетике", РГБУ "ЦСП КЧР" | H19: 1443 | I19: =IF(H19=0,0,CONCATENATE(MID(H19,1,2),",",MID(H19,3,2))) -> 14,43 | J19: 2.6 | K19: 1447 | L19: =IF(K19=0,0,CONCATENATE(MID(K19,1,2),",",MID(K19,3,2))) -> 14,47 | M19: 1.5 | N19: =IF(S19<=$R$11,"МСМК",IF(S19<=$S$11,"МС",IF(S19<=$T$11,"КМС",IF(S19<=$U$11,"1",IF(S19<=$V$11,"2",IF(S19<=$W$11,"3",IF(S19<=$X$11,"1юн",IF(S19<=$Y$11,"2юн",IF(S19<=$Z$11,"3юн",IF(S19>$Z$11,"б/р")))))))))) -> КМС | O19: 11 | P19: =VLOOKUP($Q19,УЧАСТНИКИ!$A$2:$L$1105,10,FALSE) -> Вяльцева В.Г. | Q19: 89 | S19: =MIN(H19,K19) -> 1443
A20: =RANK(H20,$H$12:$H$134,1) -> 9 | B20: =VLOOKUP($Q20,УЧАСТНИКИ!$A$2:$L$1105,3,FALSE) -> Рытикова Валерия | C20: =VLOOKUP($Q20,УЧАСТНИКИ!$A$2:$L$1105,4,FALSE) -> 13.12.1995 | D20: =VLOOKUP($Q20,УЧАСТНИКИ!$A$2:$L$1105,8,FALSE) -> КМС | E20: =VLOOKUP($Q20,УЧАСТНИКИ!$A$2:$L$1105,5,FALSE) -> Воронежская область | F20: =VLOOKUP($Q20,УЧАСТНИКИ!$A$2:$L$1105,7,FALSE) -> 0 | G20: =VLOOKUP($Q20,УЧАСТНИКИ!$A$2:$L$1105,11,FALSE) -> ГБУ ВО "СШОР №21" | H20: 1460 | I20: =IF(H20=0,0,CONCATENATE(MID(H20,1,2),",",MID(H20,3,2))) -> 14,60 | J20: 2.6 | N20: =IF(S20<=$R$11,"МСМК",IF(S20<=$S$11,"МС",IF(S20<=$T$11,"КМС",IF(S20<=$U$11,"1",IF(S20<=$V$11,"2",IF(S20<=$W$11,"3",IF(S20<=$X$11,"1юн",IF(S20<=$Y$11,"2юн",IF(S20<=$Z$11,"3юн",IF(S20>$Z$11,"б/р")))))))))) -> КМС | O20: 10 | P20: =VLOOKUP($Q20,УЧАСТНИКИ!$A$2:$L$1105,10,FALSE) -> Бабкин А.П., Демиденкова Г.А. | Q20: 419 | S20: =MIN(H20,K20) -> 1460
A21: =RANK(H21,$H$12:$H$134,1) -> 10 | B21: =VLOOKUP($Q21,УЧАСТНИКИ!$A$2:$L$1105,3,FALSE) -> Богатырева Екатерина | C21: =VLOOKUP($Q21,УЧАСТНИКИ!$A$2:$L$1105,4,FALSE) -> 05.10.2000 | D21: =VLOOKUP($Q21,УЧАСТНИКИ!$A$2:$L$1105,8,FALSE) -> 1 | E21: =VLOOKUP($Q21,УЧАСТНИКИ!$A$2:$L$1105,5,FALSE) -> Республика Карелия | F21: =VLOOKUP($Q21,УЧАСТНИКИ!$A$2:$L$1105,7,FALSE) -> 0 | G21: =VLOOKUP($Q21,УЧАСТНИКИ!$A$2:$L$1105,11,FALSE) -> МУ "СШОР №3" | H21: 1527 | I21: =IF(H21=0,0,CONCATENATE(MID(H21,1,2),",",MID(H21,3,2))) -> 15,27 | J21: 1.6 | N21: =IF(S21<=$R$11,"МСМК",IF(S21<=$S$11,"МС",IF(S21<=$T$11,"КМС",IF(S21<=$U$11,"1",IF(S21<=$V$11,"2",IF(S21<=$W$11,"3",IF(S21<=$X$11,"1юн",IF(S21<=$Y$11,"2юн",IF(S21<=$Z$11,"3юн",IF(S21>$Z$11,"б/р")))))))))) -> 1 | O21: Л | P21: =VLOOKUP($Q21,УЧАСТНИКИ!$A$2:$L$1105,10,FALSE) -> Кишкин А.Ю. | Q21: 298 | S21: =MIN(H21,K21) -> 1527
A22: =RANK(H22,$H$12:$H$134,1) -> 11 | B22: =VLOOKUP($Q22,УЧАСТНИКИ!$A$2:$L$1105,3,FALSE) -> Шишкина Дарья | C22: =VLOOKUP($Q22,УЧАСТНИКИ!$A$2:$L$1105,4,FALSE) -> 23.04.1999 | D22: =VLOOKUP($Q22,УЧАСТНИКИ!$A$2:$L$1105,8,FALSE) -> КМС | E22: =VLOOKUP($Q22,УЧАСТНИКИ!$A$2:$L$1105,5,FALSE) -> Санкт-Петербург Республика Карелия | F22: =VLOOKUP($Q22,УЧАСТНИКИ!$A$2:$L$1105,7,FALSE) -> 0 | G22: =VLOOKUP($Q22,УЧАСТНИКИ!$A$2:$L$1105,11,FALSE) -> СПб ГБУ ЦОП "ШВСМ по легкой атлетике", МУ "СШОР №3" | H22: 1528 | I22: =IF(H22=0,0,CONCATENATE(MID(H22,1,2),",",MID(H22,3,2))) -> 15,28 | J22: 2.6 | N22: =IF(S22<=$R$11,"МСМК",IF(S22<=$S$11,"МС",IF(S22<=$T$11,"КМС",IF(S22<=$U$11,"1",IF(S22<=$V$11,"2",IF(S22<=$W$11,"3",IF(S22<=$X$11,"1юн",IF(S22<=$Y$11,"2юн",IF(S22<=$Z$11,"3юн",IF(S22>$Z$11,"б/р")))))))))) -> 1 | O22: 9 | P22: =VLOOKUP($Q22,УЧАСТНИКИ!$A$2:$L$1105,10,FALSE) -> Воробьев С.А., Кишкин А.Ю., Климов А.Г. | Q22: 190 | S22: =MIN(H22,K22) -> 1528
A23: =RANK(H23,$H$12:$H$134,1) -> 12 | B23: =VLOOKUP($Q23,УЧАСТНИКИ!$A$2:$L$1105,3,FALSE) -> Ефимова Полина | C23: =VLOOKUP($Q23,УЧАСТНИКИ!$A$2:$L$1105,4,FALSE) -> 16.12.2001 | D23: =VLOOKUP($Q23,УЧАСТНИКИ!$A$2:$L$1105,8,FALSE) -> КМС | E23: =VLOOKUP($Q23,УЧАСТНИКИ!$A$2:$L$1105,5,FALSE) -> Курганская область | F23: =VLOOKUP($Q23,УЧАСТНИКИ!$A$2:$L$1105,7,FALSE) -> 0 | G23: =VLOOKUP($Q23,УЧАСТНИКИ!$A$2:$L$1105,11,FALSE) -> ГБУ "СШОР № 1" г.Курган | H23: 1546 | I23: =IF(H23=0,0,CONCATENATE(MID(H23,1,2),",",MID(H23,3,2))) -> 15,46 | J23: 1.6 | N23: =IF(S23<=$R$11,"МСМК",IF(S23<=$S$11,"МС",IF(S23<=$T$11,"КМС",IF(S23<=$U$11,"1",IF(S23<=$V$11,"2",IF(S23<=$W$11,"3",IF(S23<=$X$11,"1юн",IF(S23<=$Y$11,"2юн",IF(S23<=$Z$11,"3юн",IF(S23>$Z$11,"б/р")))))))))) -> 1 | O23: Л | P23: =VLOOKUP($Q23,УЧАСТНИКИ!$A$2:$L$1105,10,FALSE) -> Третьяков В.Г., Павлова Н.С. | Q23: 405 | S23: =MIN(H23,K23) -> 1546
A24: =RANK(H24,$H$12:$H$134,1) -> 13 | B24: =VLOOKUP($Q24,УЧАСТНИКИ!$A$2:$L$1105,3,FALSE) -> Асташева Алиса | C24: =VLOOKUP($Q24,УЧАСТНИКИ!$A$2:$L$1105,4,FALSE) -> 02.06.2002 | D24: =VLOOKUP($Q24,УЧАСТНИКИ!$A$2:$L$1105,8,FALSE) -> 1 | E24: =VLOOKUP($Q24,УЧАСТНИКИ!$A$2:$L$1105,5,FALSE) -> Курганская область | F24: =VLOOKUP($Q24,УЧАСТНИКИ!$A$2:$L$1105,7,FALSE) -> 0 | G24: =VLOOKUP($Q24,УЧАСТНИКИ!$A$2:$L$1105,11,FALSE) -> ГБУ "СШОР № 1" г.Курган | H24: 1562 | I24: =IF(H24=0,0,CONCATENATE(MID(H24,1,2),",",MID(H24,3,2))) -> 15,62 | J24: 2.6 | N24: =IF(S24<=$R$11,"МСМК",IF(S24<=$S$11,"МС",IF(S24<=$T$11,"КМС",IF(S24<=$U$11,"1",IF(S24<=$V$11,"2",IF(S24<=$W$11,"3",IF(S24<=$X$11,"1юн",IF(S24<=$Y$11,"2юн",IF(S24<=$Z$11,"3юн",IF(S24>$Z$11,"б/р")))))))))) -> 1 | O24: Л | P24: =VLOOKUP($Q24,УЧАСТНИКИ!$A$2:$L$1105,10,FALSE) -> Третьяков В.Г., Павлова Н.С., Совертков Е.И. | Q24: 404 | S24: =MIN(H24,K24) -> 1562
A26: Главный судья | G26: Безъязычный П.Ф., ССВК, Краснодар
A29: Главный секретарь | G29: Клочкова Е.Ю., ССВК, Волгоград

Sheet И3000сп
A1: =Name_1 -> МИНИСТЕРСТВО ФИЗИЧЕСКОЙ КУЛЬТУРЫ И СПОРТА РОССИЙСКОЙ ФЕДЕРАЦИИ
A2: =Name_2 -> ВСЕРОССИЙСКАЯ ФЕДЕРАЦИЯ ЛЕГКОЙ АТЛЕТИКИ
A3: =Name_3 -> МИНИСТЕРСТВО ФИЗИЧЕСКОЙ КУЛЬТУРЫ И СПОРТА КРАСНОДАРСКОГО КРАЯ
A4: =Name_6 -> ФЕДЕРАЦИЯ ЛЕГКОЙ АТЛЕТИКИ КРАСНОДАРСКОГО КРАЯ
A5: =Name_4 -> КОМАНДНЫЙ ЧЕМПИОНАТ РОССИИ
A7: ИТОГОВЫЙ ПРОТОКОЛ
A8: =d_4 -> ЖЕНЩИНЫ
A9: Бег с препятствиями 3000 м | L9: =d_5 -> г. Сочи, ул. Бзугу 2, ст. им. Славы Метревели
A10: автохронометраж | I10: финальные забеги | J10: =d_1 -> 04.09.2019г. | K10: ='3000СП'!J5 -> 19:00 | L10: =d_6 -> t° +26 вл. 61% | M10: номер | O10: мсмк | P10: мс | Q10: кмс | R10: 1 | S10: 2 | T10: 3 | U10: 1ю | V10: 2ю | W10: 3ю
A11: Занятое место | B11: Фамилия, имя | C11: Дата рождения | D11: Заявл. разряд | E11: Территория | F11: Округ | G11: Оргнизация Ведомство | I11: Результат | J11: Выполненный разряд | K11: Очки | L11: Ф.И.О. тренера | O11: 94224 | P11: 101824 | Q11: 105024 | R11: 113624 | S11: 123624 | T11: 134524
A12: =RANK(H12,$H$12:$H$131,1) -> 1 | B12: =VLOOKUP($M12,УЧАСТНИКИ!$A$2:$L$1105,3,FALSE) -> Ивонина Екатерина | C12: =VLOOKUP($M12,УЧАСТНИКИ!$A$2:$L$1105,4,FALSE) -> 14.06.1994 | D12: =VLOOKUP($M12,УЧАСТНИКИ!$A$2:$L$1105,8,FALSE) -> МС | E12: =VLOOKUP($M12,УЧАСТНИКИ!$A$2:$L$1105,5,FALSE) -> Московская область Пермский край | F12: =VLOOKUP($M12,УЧАСТНИКИ!$A$2:$L$1105,7,FALSE) -> 0 | G12: =VLOOKUP($M12,УЧАСТНИКИ!$A$2:$L$1105,11,FALSE) -> Динамо ГБУ МО "ЦСП ОВС", ГК АУ "ЦСП ПК", КГАУ "СШОР "Старт" | H12: 93633 | I12: =IF(H12=0,0,CONCATENATE(MID(H12,1,1),":",MID(H12,2,2),",",MID(H12,4,2))) -> 9:36,33 | J12: =IF(H12<=$O$11,"МСМК",IF(H12<=$P$11,"МС",IF(H12<=$Q$11,"КМС",IF(H12<=$R$11,"1",IF(H12<=$S$11,"2",IF(H12<=$T$11,"3",IF(H12<=$U$11,"1юн",IF(H12<=$V$11,"2юн",IF(H12<=$W$11,"3юн",IF(H12>$W$11,"б/р")))))))))) -> МСМК | K12: 20+15 | L12: =VLOOKUP($M12,УЧАСТНИКИ!$A$2:$L$1105,10,FALSE) -> Попов С.А., Попова Е.И., Попов А.С. | M12: 61
A13: =RANK(H13,$H$12:$H$131,1) -> 2 | B13: =VLOOKUP($M13,УЧАСТНИКИ!$A$2:$L$1105,3,FALSE) -> Колоскова (Власова) Наталья | C13: =VLOOKUP($M13,УЧАСТНИКИ!$A$2:$L$1105,4,FALSE) -> 19.07.1988 | D13: =VLOOKUP($M13,УЧАСТНИКИ!$A$2:$L$1105,8,FALSE) -> МСМК | E13: =VLOOKUP($M13,УЧАСТНИКИ!$A$2:$L$1105,5,FALSE) -> Москва Приморский край | F13: =VLOOKUP($M13,УЧАСТНИКИ!$A$2:$L$1105,7,FALSE) -> 0 | G13: =VLOOKUP($M13,УЧАСТНИКИ!$A$2:$L$1105,11,FALSE) -> ГБУ "СШОР "Луч" Москомспорта, КГАУ "ЦСП - ШВСМ" | H13: 93868 | I13: =IF(H13=0,0,CONCATENATE(MID(H13,1,1),":",MID(H13,2,2),",",MID(H13,4,2))) -> 9:38,68 | J13: =IF(H13<=$O$11,"МСМК",IF(H13<=$P$11,"МС",IF(H13<=$Q$11,"КМС",IF(H13<=$R$11,"1",IF(H13<=$S$11,"2",IF(H13<=$T$11,"3",IF(H13<=$U$11,"1юн",IF(H13<=$V$11,"2юн",IF(H13<=$W$11,"3юн",IF(H13>$W$11,"б/р")))))))))) -> МСМК | K13: 17+15 | L13: =VLOOKUP($M13,УЧАСТНИКИ!$A$2:$L$1105,10,FALSE) -> Анисимов В.Н., Куканов Ю.С. | M13: 22
A14: =RANK(H14,$H$12:$H$131,1) -> 3 | B14: =VLOOKUP($M14,УЧАСТНИКИ!$A$2:$L$1105,3,FALSE) -> Петрова Анна | C14: =VLOOKUP($M14,УЧАСТНИКИ!$A$2:$L$1105,4,FALSE) -> 15.07.1994 | D14: =VLOOKUP($M14,УЧАСТНИКИ!$A$2:$L$1105,8,FALSE) -> МС | E14: =VLOOKUP($M14,УЧАСТНИКИ!$A$2:$L$1105,5,FALSE) -> Санкт-Петербург Вологодская область | F14: =VLOOKUP($M14,УЧАСТНИКИ!$A$2:$L$1105,7,FALSE) -> 0 | G14: =VLOOKUP($M14,УЧАСТНИКИ!$A$2:$L$1105,11,FALSE) -> ГБУ СШОР "Академия легкой атлетики Санкт-Петербурга", АУ ФКИС ВО "СШ "Витязь" | H14: 94015 | I14: =IF(H14=0,0,CONCATENATE(MID(H14,1,1),":",MID(H14,2,2),",",MID(H14,4,2))) -> 9:40,15 | J14: =IF(H14<=$O$11,"МСМК",IF(H14<=$P$11,"МС",IF(H14<=$Q$11,"КМС",IF(H14<=$R$11,"1",IF(H14<=$S$11,"2",IF(H14<=$T$11,"3",IF(H14<=$U$11,"1юн",IF(H14<=$V$11,"2юн",IF(H14<=$W$11,"3юн",IF(H14>$W$11,"б/р")))))))))) -> МСМК | K14: 15+15 | L14: =VLOOKUP($M14,УЧАСТНИКИ!$A$2:$L$1105,10,FALSE) -> Плаксин С.В. | M14: 167
A15: =RANK(H15,$H$12:$H$131,1) -> 4 | B15: =VLOOKUP($M15,УЧАСТНИКИ!$A$2:$L$1105,3,FALSE) -> Вовк Ольга | C15: =VLOOKUP($M15,УЧАСТНИКИ!$A$2:$L$1105,4,FALSE) -> 13.02.1993 | D15: =VLOOKUP($M15,УЧАСТНИКИ!$A$2:$L$1105,8,FALSE) -> МСМК | E15: =VLOOKUP($M15,УЧАСТНИКИ!$A$2:$L$1105,5,FALSE) -> Ростовская область | F15: =VLOOKUP($M15,УЧАСТНИКИ!$A$2:$L$1105,7,FALSE) -> 0 | G15: =VLOOKUP($M15,УЧАСТНИКИ!$A$2:$L$1105,11,FALSE) -> ГБУ РО "ЦОП №1" | H15: 94241 | I15: =IF(H15=0,0,CONCATENATE(MID(H15,1,1),":",MID(H15,2,2),",",MID(H15,4,2))) -> 9:42,41 | J15: =IF(H15<=$O$11,"МСМК",IF(H15<=$P$11,"МС",IF(H15<=$Q$11,"КМС",IF(H15<=$R$11,"1",IF(H15<=$S$11,"2",IF(H15<=$T$11,"3",IF(H15<=$U$11,"1юн",IF(H15<=$V$11,"2юн",IF(H15<=$W$11,"3юн",IF(H15>$W$11,"б/р")))))))))) -> МС | K15: 14+5 | L15: =VLOOKUP($M15,УЧАСТНИКИ!$A$2:$L$1105,10,FALSE) -> Сретенцев В.В., Вовк Т.И. | M15: 301
A16: =RANK(H16,$H$12:$H$131,1) -> 5 | B16: =VLOOKUP($M16,УЧАСТНИКИ!$A$2:$L$1105,3,FALSE) -> Тропина Анна | C16: =VLOOKUP($M16,УЧАСТНИКИ!$A$2:$L$1105,4,FALSE) -> 03.11.1998 | D16: =VLOOKUP($M16,УЧАСТНИКИ!$A$2:$L$1105,8,FALSE) -> МС | E16: =VLOOKUP($M16,УЧАСТНИКИ!$A$2:$L$1105,5,FALSE) -> Свердловская область | F16: =VLOOKUP($M16,УЧАСТНИКИ!$A$2:$L$1105,7,FALSE) -> 0 | G16: =VLOOKUP($M16,УЧАСТНИКИ!$A$2:$L$1105,11,FALSE) -> ГАУ СО "ЦСП", УРФУ | H16: 95066 | I16: =IF(H16=0,0,CONCATENATE(MID(H16,1,1),":",MID(H16,2,2),",",MID(H16,4,2))) -> 9:50,66 | J16: =IF(H16<=$O$11,"МСМК",IF(H16<=$P$11,"МС",IF(H16<=$Q$11,"КМС",IF(H16<=$R$11,"1",IF(H16<=$S$11,"2",IF(H16<=$T$11,"3",IF(H16<=$U$11,"1юн",IF(H16<=$V$11,"2юн",IF(H16<=$W$11,"3юн",IF(H16>$W$11,"б/р")))))))))) -> МС | K16: 13+5 | L16: =VLOOKUP($M16,УЧАСТНИКИ!$A$2:$L$1105,10,FALSE) -> Невьянцев В., Архипов Ф.М., Штырц В.В. | M16: 202
A17: =RANK(H17,$H$12:$H$131,1) -> 6 | B17: =VLOOKUP($M17,УЧАСТНИКИ!$A$2:$L$1105,3,FALSE) -> Именина Мария | C17: =VLOOKUP($M17,УЧАСТНИКИ!$A$2:$L$1105,4,FALSE) -> 09.11.1989 | D17: =VLOOKUP($M17,УЧАСТНИКИ!$A$2:$L$1105,8,FALSE) -> МС | E17: =VLOOKUP($M17,УЧАСТНИКИ!$A$2:$L$1105,5,FALSE) -> Рязанская область | F17: =VLOOKUP($M17,УЧАСТНИКИ!$A$2:$L$1105,7,FALSE) -> 0 | G17: =VLOOKUP($M17,УЧАСТНИКИ!$A$2:$L$1105,11,FALSE) -> Динамо ГАУ РО "СШОР "Олимпиец" | H17: 101755 | I17: =IF(H17=0,0,CONCATENATE(MID(H17,1,2),":",MID(H17,3,2),",",MID(H17,5,2))) -> 10:17,55 | J17: =IF(H17<=$O$11,"МСМК",IF(H17<=$P$11,"МС",IF(H17<=$Q$11,"КМС",IF(H17<=$R$11,"1",IF(H17<=$S$11,"2",IF(H17<=$T$11,"3",IF(H17<=$U$11,"1юн",IF(H17<=$V$11,"2юн",IF(H17<=$W$11,"3юн",IF(H17>$W$11,"б/р")))))))))) -> МС | K17: 12+5 | L17: =VLOOKUP($M17,УЧАСТНИКИ!$A$2:$L$1105,10,FALSE) -> Грачев Е.П. | M17: 362
A18: =RANK(H18,$H$12:$H$131,1) -> 7 | B18: =VLOOKUP($M18,УЧАСТНИКИ!$A$2:$L$1105,3,FALSE) -> Аристархова Наталья | C18: =VLOOKUP($M18,УЧАСТНИКИ!$A$2:$L$1105,4,FALSE) -> 31.10.1989 | D18: =VLOOKUP($M18,УЧАСТНИКИ!$A$2:$L$1105,8,FALSE) -> МСМК | E18: =VLOOKUP($M18,УЧАСТНИКИ!$A$2:$L$1105,5,FALSE) -> Красноярский край | F18: =VLOOKUP($M18,УЧАСТНИКИ!$A$2:$L$1105,7,FALSE) -> 0 | G18: =VLOOKUP($M18,УЧАСТНИКИ!$A$2:$L$1105,11,FALSE) -> КГАУ "РЦСП "Академия летних видов спорта", МАУ "СШОР "Спутник" | H18: 105004 | I18: =IF(H18=0,0,CONCATENATE(MID(H18,1,2),":",MID(H18,3,2),",",MID(H18,5,2))) -> 10:50,04 | J18: =IF(H18<=$O$11,"МСМК",IF(H18<=$P$11,"МС",IF(H18<=$Q$11,"КМС",IF(H18<=$R$11,"1",IF(H18<=$S$11,"2",IF(H18<=$T$11,"3",IF(H18<=$U$11,"1юн",IF(H18<=$V$11,"2юн",IF(H18<=$W$11,"3юн",IF(H18>$W$11,"б/р")))))))))) -> КМС | K18: 11 | L18: =VLOOKUP($M18,УЧАСТНИКИ!$A$2:$L$1105,10,FALSE) -> Комаров А.Н. | M18: 220
B19: =VLOOKUP($M19,УЧАСТНИКИ!$A$2:$L$1105,3,FALSE) -> Соколенко Екатерина | C19: =VLOOKUP($M19,УЧАСТНИКИ!$A$2:$L$1105,4,FALSE) -> 13.09.1992 | D19: =VLOOKUP($M19,УЧАСТНИКИ!$A$2:$L$1105,8,FALSE) -> МСМК | E19: =VLOOKUP($M19,УЧАСТНИКИ!$A$2:$L$1105,5,FALSE) -> Томская область Новосибирская область | F19: =VLOOKUP($M19,УЧАСТНИКИ!$A$2:$L$1105,7,FALSE) -> 0 | G19: =VLOOKUP($M19,УЧАСТНИКИ!$A$2:$L$1105,11,FALSE) -> ВС МБУ ДО ДЮСШ №1 г.Томск, ОГАУ ТО СШОР, ГАУ НСО "РЦСП СК и СР" | I19: R/med | K19: 0 | L19: =VLOOKUP($M19,УЧАСТНИКИ!$A$2:$L$1105,10,FALSE) -> Божко В.А., Соколенко Е.В., Трубников В.П. | M19: 374
A23: Главный судья | G23: Безъязычный П.Ф., ССВК, Краснодар
A26: Главный секретарь | G26: Клочкова Е.Ю., ССВК, Волгоград

Sheet И высота
A1: =Name_1 -> МИНИСТЕРСТВО ФИЗИЧЕСКОЙ КУЛЬТУРЫ И СПОРТА РОССИЙСКОЙ ФЕДЕРАЦИИ
A2: =Name_2 -> ВСЕРОССИЙСКАЯ ФЕДЕРАЦИЯ ЛЕГКОЙ АТЛЕТИКИ
A3: =Name_3 -> МИНИСТЕРСТВО ФИЗИЧЕСКОЙ КУЛЬТУРЫ И СПОРТА КРАСНОДАРСКОГО КРАЯ
A4: =Name_6 -> ФЕДЕРАЦИЯ ЛЕГКОЙ АТЛЕТИКИ КРАСНОДАРСКОГО КРАЯ
A5: =Name_4 -> КОМАНДНЫЙ ЧЕМПИОНАТ РОССИИ
A7: ИТОГОВЫЙ ПРОТОКОЛ
A8: =d_4 -> ЖЕНЩИНЫ
A9: Прыжок в высоту | L9: =d_5 -> г. Сочи, ул. Бзугу 2, ст. им. Славы Метревели
I10: финальные соревнования | J10: =d_1 -> 04.09.2019г. | K10: =высота!AO5 -> 17:00 | L10: =d_6 -> t° +26 вл. 61% | AF10: мсмк | AG10: мс | AH10: кмс | AI10: 1 | AJ10: 2 | AK10: 3 | AL10: 1ю | AM10: 2ю | AN10: 3ю
A11: Занятое место | B11: Фамилия, имя | C11: Дата рождения | D11: Заявл. разряд | E11: Территория | F11: Округ | G11: Оргнизация Ведомство | I11: Лучший результат | J11: Выполненный разряд | K11: Очки | L11: Ф.И.О. тренера | AF11: 194 | AG11: 182 | AH11: 170 | AI11: 160 | AJ11: 150 | AK11: 140 | AL11: 130 | AM11: 120 | AN11: 110
A12: =RANK(H12,$H$12:$H$98,0) -> 1 | B12: =VLOOKUP($M12,УЧАСТНИКИ!$A$2:$L$1105,3,FALSE) -> Ярышкина Александра | C12: =VLOOKUP($M12,УЧАСТНИКИ!$A$2:$L$1105,4,FALSE) -> 10.06.1994 | D12: =VLOOKUP($M12,УЧАСТНИКИ!$A$2:$L$1105,8,FALSE) -> МС | E12: =VLOOKUP($M12,УЧАСТНИКИ!$A$2:$L$1105,5,FALSE) -> Москва | F12: =VLOOKUP($M12,УЧАСТНИКИ!$A$2:$L$1105,7,FALSE) -> 0 | G12: =VLOOKUP($M12,УЧАСТНИКИ!$A$2:$L$1105,11,FALSE) -> ГБУ «СШ № 82» Москомспорта | H12: 191 | I12: =IF(H12=0,0,CONCATENATE(MID(H12,1,1),",",MID(H12,2,2))) -> 1,91 | J12: =IF(H12>=$AF$11,"МСМК",IF(H12>=$AG$11,"МС",IF(H12>=$AH$11,"КМС",IF(H12>=$AI$11,"1",IF(H12>=$AJ$11,"2",IF(H12>=$AK$11,"3",IF(H12>=$AL$11,"1юн",IF(H12>=$AM$11,"2юн",IF(H12>=$AN$11,"3юн",IF(H12<$AN$11,"б/р")))))))))) -> МС | K12: Л | L12: =VLOOKUP($M12,УЧАСТНИКИ!$A$2:$L$1105,10,FALSE) -> Гертлейн А.И. | M12: =M43 -> 52
A13: =RANK(H13,$H$12:$H$98,0) -> 2 | B13: =VLOOKUP($M13,УЧАСТНИКИ!$A$2:$L$1105,3,FALSE) -> Королёва (Полтавец) Кристина | C13: =VLOOKUP($M13,УЧАСТНИКИ!$A$2:$L$1105,4,FALSE) -> 06.11.1990 | D13: =VLOOKUP($M13,УЧАСТНИКИ!$A$2:$L$1105,8,FALSE) -> МСМК | E13: =VLOOKUP($M13,УЧАСТНИКИ!$A$2:$L$1105,5,FALSE) -> Липецкая область Кемеровская область | F13: =VLOOKUP($M13,УЧАСТНИКИ!$A$2:$L$1105,7,FALSE) -> 0 | G13: =VLOOKUP($M13,УЧАСТНИКИ!$A$2:$L$1105,11,FALSE) -> ГБУ ЛО ЦСП, ГБФСУ КО "СШОР по легкой атлетике им. В.А.Савенкова" | H13: 185 | I13: =IF(H13=0,0,CONCATENATE(MID(H13,1,1),",",MID(H13,2,2))) -> 1,85 | J13: =IF(H13>=$AF$11,"МСМК",IF(H13>=$AG$11,"МС",IF(H13>=$AH$11,"КМС",IF(H13>=$AI$11,"1",IF(H13>=$AJ$11,"2",IF(H13>=$AK$11,"3",IF(H13>=$AL$11,"1юн",IF(H13>=$AM$11,"2юн",IF(H13>=$AN$11,"3юн",IF(H13<$AN$11,"б/р")))))))))) -> МС | K13: 20+5 | L13: =VLOOKUP($M13,УЧАСТНИКИ!$A$2:$L$1105,10,FALSE) -> Королев М.И., Канашевич А.М., Стегачёв И.Н. | M13: =M44 -> 241
