Workbook
Name CUMM: '110'!#REF!
Name CUMM: '1500'!#REF!
Name CUMM: '200'!#REF!
Name CUMM: '3000СП'!#REF!
Name CUMM: '400'!#REF!
Name CUMM: '400СБ'!#REF!
Name CUMM: '4х100'!#REF!
Name CUMM: '4х400'!#REF!
Name CUMM: '5000'!#REF!
Name CUMM: '800'!#REF!
Name CUMM: '100'!#REF!
Name d_1: '1'!$A$1
Name d_2: '1'!$A$2
Name d_3: '1'!$A$3
Name d_4: '1'!$A$4
Name d_5: '1'!$A$5
Name d_6: '1'!$A$6
Name d_7: '1'!$A$7
Name date_1: '1'!$A$1
Name Name_1: '1'!$A$9
Name Name_2: '1'!$A$10
Name Name_3: '1'!$A$11
Name Name_4: '1'!$A$12
Name Name_5: '1'!$A$12
Name Name_6: '1'!$A$13
Name OLE_LINK1: УЧАСТНИКИ!$D$2
Name Tit_1: '1'!$A$9

Sheet 1
A1: 04.09.2019г.
A2: 05.09.2019г.
A3: 06.09.2019г.
A4: ЖЕНЩИНЫ
A5: г. Сочи, ул. Бзугу 2, ст. им. Славы Метревели
A6: t° +26 вл. 61%
A7: г. Сочи, Адлерский район, ул. Ленина СК "Юность"
A9: МИНИСТЕРСТВО ФИЗИЧЕСКОЙ КУЛЬТУРЫ И СПОРТА РОССИЙСКОЙ ФЕДЕРАЦИИ
A10: ВСЕРОССИЙСКАЯ ФЕДЕРАЦИЯ ЛЕГКОЙ АТЛЕТИКИ
A11: МИНИСТЕРСТВО ФИЗИЧЕСКОЙ КУЛЬТУРЫ И СПОРТА КРАСНОДАРСКОГО КРАЯ
A12: КОМАНДНЫЙ ЧЕМПИОНАТ РОССИИ
A13: ФЕДЕРАЦИЯ ЛЕГКОЙ АТЛЕТИКИ КРАСНОДАРСКОГО КРАЯ
A21: дисквал п.п. 162.7 | C21: фальстарт

Sheet УЧАСТНИКИ
A1: № уч-ка | B1: №№ | C1: ФАМИЛИЯ ИМЯ УЧАСТНИКА | D1: Год.рожд | E1: НАЗВАНИЕ КОМАНДЫ | F1: ВИД | G1: Округ | H1: Разряд | I1: лично | J1: ТРЕНЕР(ы) | K1: ДСО Ведомство
A2: 439 | C2: Пахтусова Дина | D2: 22.11.1991 | E2: Архангельская область | F2: Бег 1500 м | H2: КМС | I2: К | J2: Чернов А.В. | K2: ГАУ АО "СШОР "Поморье"
A3: 439 | C3: Пахтусова Дина | D3: 22.11.1991 | E3: Архангельская область | F3: Бег 800 м | H3: КМС | I3: К | J3: Чернов А.В. | K3: ГАУ АО "СШОР "Поморье"
A4: 283 | C4: Рощупкина Юлия | D4: 19.04.1996 | E4: Белгородская область | F4: Барьерный бег 400 м | H4: МС | I4: К | J4: Горлов А.Н. | K4: Динамо ОГБУ "ЦСП" Белгородской области, МБУ СШОР №3 г.Белгорода
A5: 387 | C5: Шерстобитова Алефтина | D5: 18.02.1999 | E5: Волгоградская область | F5: Бег 100 м | H5: КМС | I5: К | J5: Абалдов А.А., Типаев В.Н. | K5: Динамо ГБУ ВО "СШОР по легкой атлетике"
A6: 386 | C6: Татькова Анна | D6: 22.06.1999 | E6: Волгоградская область | F6: Бег 100 м | H6: КМС | I6: К | J6: Кайдалин В.С. | K6: ГБУ ВО "СШОР по легкой атлетике", ФГБОУ ВО "ВГАФК"
A7: 377 | C7: Жолобова Анастасия | D7: 15.01.1998 | E7: Волгоградская область | F7: Бег 100 м | H7: МС | I7: К | J7: Типаев В.Н., Невежин В.И. | K7: ГБУ ВО "СШОР по легкой атлетике"
A8: 385 | C8: Попова Юлия | D8: 03.05.2001 | E8: Волгоградская область | F8: Бег 1500 м | H8: 1 | I8: К | K8: ВолГАУ, ГБУ ВО "СШОР по легкой атлетике"
A9: 383 | C9: Кученева Юлия | D9: 11.09.1999 | E9: Волгоградская область | F9: Бег 200 м | H9: КМС | I9: К | J9: Арькова Н.В., Невежин В.И., | K9: МБУ СШОР №10, ГАПОУ ВО "УОР имени дважды Героя Советского Союза А.И.Родимцева"
A10: 386 | C10: Татькова Анна | D10: 22.06.1999 | E10: Волгоградская область | F10: Бег 200 м | H10: КМС | I10: К | J10: Кайдалин В.С. | K10: ГБУ ВО "СШОР по легкой атлетике", ФГБОУ ВО "ВГАФК"
A11: 378 | C11: Заварзина Анжелика | D11: 19.07.1998 | E11: Волгоградская область | F11: Бег 400 м | H11: КМС | I11: К | J11: Типаев В.Н., Кайдалин В.С. | K11: ГБУ ВО "СШОР по легкой атлетике"
A12: 385 | C12: Попова Юлия | D12: 03.05.2001 | E12: Волгоградская область | F12: Бег 800 м | H12: 1 | I12: К | K12: ВолГАУ, ГБУ ВО "СШОР по легкой атлетике"
A13: 380 | C13: Коваленко Наталья | D13: 03.07.1999 | E13: Волгоградская область | F13: Метание копья | H13: КМС | I13: К | J13: Нижельская Т.Г., Барахтенко Л.М. | K13: МБУ СШОР №10, ГАПОУ ВО "УОР имени дважды Героя Советского Союза А.И.Родимцева"
A14: 381 | C14: Крайникова (Воронина) Софья | D14: 22.10.1997 | E14: Волгоградская область | F14: Прыжок в высоту | H14: МС | I14: К | J14: Горьков Б.Н., Горьков Б.Б. | K14: ГБУ ВО "СШОР по легкой атлетике"
A15: 387 | C15: Шерстобитова Алефтина | D15: 18.02.1999 | E15: Волгоградская область | F15: Эстафетный бег 4 х 100 м | H15: КМС | I15: К | J15: Абалдов А.А., Типаев В.Н. | K15: Динамо ГБУ ВО "СШОР по легкой атлетике"
A16: 383 | C16: Кученева Юлия | D16: 11.09.1999 | E16: Волгоградская область | F16: Эстафетный бег 4 х 100 м | H16: КМС | I16: К | J16: Арькова Н.В., Невежин В.И., | K16: МБУ СШОР №10, ГАПОУ ВО "УОР имени дважды Героя Советского Союза А.И.Родимцева"
A17: 386 | C17: Татькова Анна | D17: 22.06.1999 | E17: Волгоградская область | F17: Эстафетный бег 4 х 100 м | H17: КМС | I17: К | J17: Кайдалин В.С. | K17: ГБУ ВО "СШОР по легкой атлетике", ФГБОУ ВО "ВГАФК"
A18: 377 | C18: Жолобова Анастасия | D18: 15.01.1998 | E18: Волгоградская область | F18: Эстафетный бег 4 х 100 м | H18: МС | I18: К | J18: Типаев В.Н., Невежин В.И. | K18: ГБУ ВО "СШОР по легкой атлетике"
A19: 387 | C19: Шерстобитова Алефтина | D19: 18.02.1999 | E19: Волгоградская область | F19: Эстафетный бег 4 х 400 м | H19: КМС | I19: К | J19: Абалдов А.А., Типаев В.Н. | K19: Динамо ГБУ ВО "СШОР по легкой атлетике"
A20: 383 | C20: Кученева Юлия | D20: 11.09.1999 | E20: Волгоградская область | F20: Эстафетный бег 4 х 400 м | H20: КМС | I20: К | J20: Арькова Н.В., Невежин В.И., | K20: МБУ СШОР №10, ГАПОУ ВО "УОР имени дважды Героя Советского Союза А.И.Родимцева"
A21: 378 | C21: Заварзина Анжелика | D21: 19.07.1998 | E21: Волгоградская область | F21: Эстафетный бег 4 х 400 м | H21: КМС | I21: К | J21: Типаев В.Н., Кайдалин В.С. | K21: ГБУ ВО "СШОР по легкой атлетике"
A22: 376 | C22: Герасимова Анастасия | D22: 18.03.1998 | E22: Волгоградская область Саратовская область | F22: Бег 400 м | H22: КМС | I22: К | J22: Лупачев А.С. | K22: ГБУ ВО "СШОР по легкой атлетике", ГАПОУ ВО "УОР имени дважды Героя Советского Союза А.И.Родимцева", МКУ "СШОР №6"
A23: 376 | C23: Герасимова Анастасия | D23: 18.03.1998 | E23: Волгоградская область Саратовская область | F23: Эстафетный бег 4 х 400 м | H23: КМС | I23: К | J23: Лупачев А.С. | K23: ГБУ ВО "СШОР по легкой атлетике", ГАПОУ ВО "УОР имени дважды Героя Советского Союза А.И.Родимцева", МКУ "СШОР №6"
A24: 419 | C24: Рытикова Валерия | D24: 13.12.1995 | E24: Воронежская область | F24: Барьерный бег 100 м | H24: КМС | I24: К | J24: Бабкин А.П., Демиденкова Г.А. | K24: ГБУ ВО "СШОР №21"
... A41: 438 | C41: Сычева Анастасия | D41: 28.12.1991 | E41: Калужская область | F41: Бег 800 м | H41: МС | I41: К | J41: Зайцев А.В., Зайцева З.Х. | K41: ГБУ КО "CШОР "Юность"
A42: 184 | C42: Цаплина Валерия | D42: 19.02.1997 | E42: Кировская область Санкт-Петербург | F42: Бег 200 м | H42: КМС | J42: Куликова Е.Ю. | K42: КОГАУ "ВятСШОР", СПб ГБУ ЦОП "ШВСМ по легкой атлетике"
A43: 184 | C43: Цаплина Валерия | D43: 19.02.1997 | E43: Кировская область Санкт-Петербург | F43: Бег 400 м | H43: КМС | J43: Куликова Е.Ю. | K43: КОГАУ "ВятСШОР", СПб ГБУ ЦОП "ШВСМ по легкой атлетике"
A44: 184 | C44: Цаплина Валерия | D44: 19.02.1997 | E44: Кировская область Санкт-Петербург | F44: Эстафетный бег 4 х 400 м | H44: КМС | J44: Куликова Е.Ю. | K44: КОГАУ "ВятСШОР", СПб ГБУ ЦОП "ШВСМ по легкой атлетике"
A45: 87 | C45: Дементьева Татьяна | D45: 08.05.1981 | E45: Краснодарский край | F45: Барьерный бег 100 м | H45: МСМК | I45: Л | J45: Дементьев С.Б. | K45: ГБУ КК "РЦСП по легкой атлетике"
A46: 96 | C46: Колесникова Дарья | D46: 28.07.2002 | E46: Краснодарский край | F46: Барьерный бег 400 м | H46: 1 | I46: Л | J46: Полонников А.В. | K46: МБУ СШОР №1 г.Сочи
A47: 92 | C47: Зелих Виктория | D47: 09.07.1996 | E47: Краснодарский край | F47: Бег 100 м | H47: КМС | I47: К | J47: Гладырь М.Ф. | K47: КГУФКСиТ, ГБУ КК "ЦОП по легкой атлетике"
C48: Кондрашкина Юлия | D48: 10.08.1997 | E48: Краснодарский край | F48: Бег 200 м | H48: МС | I48: Л | J48: Вакарина М.Т., Кудрявцев В.Е. | K48: ГБУ КК "РЦСП по легкой атлетике"
C49: Кондрашкина Юлия | D49: 10.08.1997 | E49: Краснодарский край | F49: Бег 400 м | H49: МС | I49: Л | J49: Вакарина М.Т., Кудрявцев В.Е. | K49: ГБУ КК "РЦСП по легкой атлетике"
A50: 99 | C50: Кривомаз Александра | D50: 26.08.2002 | E50: Краснодарский край | F50: Метание копья | H50: 1 | I50: Л | J50: Абакумова Г.В., Кудрявцева В.А. | K50: ГБУ КК "ЦОП по легкой атлетике"
A51: 103 | C51: Маилова Эмма | D51: 21.02.1997 | E51: Краснодарский край | F51: Метание копья | H51: КМС | I51: К | J51: Синицын А.В. | K51: ГБУ КК "ЦОП по легкой атлетике", ГБУ КК "РЦСП по легкой атлетике"
A52: 124 | C52: Чередниченко Маргарита | D52: 08.08.1997 | E52: Краснодарский край | F52: Метание молота | H52: КМС | I52: К | J52: Синицын А.В., Левин М.А. | K52: ГБУ КК "ЦОП по легкой атлетике"
A53: 98 | C53: Корецкая Снежана | D53: 15.11.1996 | E53: Краснодарский край | F53: Прыжок в высоту | H53: КМС | I53: К | J53: Поддубнова М.П. | K53: ГБУ КК "ЦОП по легкой атлетике"
A54: 91 | C54: Зеликова Жанна | D54: 22.02.1995 | E54: Краснодарский край | F54: Прыжок в длину | H54: МС | I54: К | J54: Пирожков С.В., Фуников В.В. | K54: ГБУ КК "ЦОП по легкой атлетике", ГБУ КК "РЦСП по легкой атлетике"
A55: 106 | C55: Минеева Анна | D55: 22.03.2001 | E55: Краснодарский край | F55: Эстафетный бег 4 х 100 м | H55: 1 | I55: Л | J55: Полонников А.В. | K55: МБУ СШОР №1 г.Сочи
A56: 96 | C56: Колесникова Дарья | D56: 28.07.2002 | E56: Краснодарский край | F56: Эстафетный бег 4 х 100 м | H56: 1 | I56: Л | J56: Полонников А.В. | K56: МБУ СШОР №1 г.Сочи
...

Sheet 100
A1: =Name_2 -> ВСЕРОССИЙСКАЯ ФЕДЕРАЦИЯ ЛЕГКОЙ АТЛЕТИКИ
A2: СТАРТОВЫЙ ПРОТОКОЛ
A3: =Name_4 -> КОМАНДНЫЙ ЧЕМПИОНАТ РОССИИ
E4: ЗАБЕГИ
A5: =d_4 -> ЖЕНЩИНЫ | C5: РМ | D5: 10,49 | G5: =d_1 -> 04.09.2019г. | H5: начало: | I5: 17:15
A6: Бег 100 м | C6: РЕ | D6: 10,73 | H6: окончание:
C7: РР | D7: 10,77 | J7: =d_5 -> г. Сочи, ул. Бзугу 2, ст. им. Славы Метревели
A8: № п/п | B8: Фамилия, имя участника | C8: Дата рождения | D8: Территория | E8: Заявленный разряд | F8: Номер участника | G8: Приход | H8: Результат | I8: Место | J8: Примеч.
B9: 1 ЗАБЕГ
A10: 1
A11: 2 | B11: =VLOOKUP($F11,УЧАСТНИКИ!$A$2:$L$1105,3,FALSE) -> Титаева Кристина | C11: =VLOOKUP($F11,УЧАСТНИКИ!$A$2:$L$1105,4,FALSE) -> 22.01.2001 | D11: =VLOOKUP($F11,УЧАСТНИКИ!$A$2:$L$1105,5,FALSE) -> Сахалинская область | E11: =VLOOKUP($F11,УЧАСТНИКИ!$A$2:$L$1105,8,FALSE) -> КМС | F11: 356 | J11: Л
A12: 3 | B12: =VLOOKUP($F12,УЧАСТНИКИ!$A$2:$L$1105,3,FALSE) -> Зелих Виктория | C12: =VLOOKUP($F12,УЧАСТНИКИ!$A$2:$L$1105,4,FALSE) -> 09.07.1996 | D12: =VLOOKUP($F12,УЧАСТНИКИ!$A$2:$L$1105,5,FALSE) -> Краснодарский край | E12: =VLOOKUP($F12,УЧАСТНИКИ!$A$2:$L$1105,8,FALSE) -> КМС | F12: 92
A13: 4 | B13: =VLOOKUP($F13,УЧАСТНИКИ!$A$2:$L$1105,3,FALSE) -> Жолобова Анастасия | C13: =VLOOKUP($F13,УЧАСТНИКИ!$A$2:$L$1105,4,FALSE) -> 15.01.1998 | D13: =VLOOKUP($F13,УЧАСТНИКИ!$A$2:$L$1105,5,FALSE) -> Волгоградская область | E13: =VLOOKUP($F13,УЧАСТНИКИ!$A$2:$L$1105,8,FALSE) -> МС | F13: 377
A14: 5 | B14: =VLOOKUP($F14,УЧАСТНИКИ!$A$2:$L$1105,3,FALSE) -> Сивкова Кристина | C14: =VLOOKUP($F14,УЧАСТНИКИ!$A$2:$L$1105,4,FALSE) -> 28.02.1997 | D14: =VLOOKUP($F14,УЧАСТНИКИ!$A$2:$L$1105,5,FALSE) -> Москва | E14: =VLOOKUP($F14,УЧАСТНИКИ!$A$2:$L$1105,8,FALSE) -> МСМК | F14: 42 | J14: =VLOOKUP($F14,УЧАСТНИКИ!$A$2:$L$1105,9,FALSE) -> Л
A15: 6 | B15: =VLOOKUP($F15,УЧАСТНИКИ!$A$2:$L$1105,3,FALSE) -> Сластникова Тамара | C15: =VLOOKUP($F15,УЧАСТНИКИ!$A$2:$L$1105,4,FALSE) -> 21.05.1993 | D15: =VLOOKUP($F15,УЧАСТНИКИ!$A$2:$L$1105,5,FALSE) -> Новосибирская область | E15: =VLOOKUP($F15,УЧАСТНИКИ!$A$2:$L$1105,8,FALSE) -> МС | F15: 232
A16: 7 | B16: =VLOOKUP($F16,УЧАСТНИКИ!$A$2:$L$1105,3,FALSE) -> Глебова Карина | C16: =VLOOKUP($F16,УЧАСТНИКИ!$A$2:$L$1105,4,FALSE) -> 23.01.1996 | D16: =VLOOKUP($F16,УЧАСТНИКИ!$A$2:$L$1105,5,FALSE) -> Сахалинская область | E16: =VLOOKUP($F16,УЧАСТНИКИ!$A$2:$L$1105,8,FALSE) -> МС | F16: 355
A17: 8
B18: 2 ЗАБЕГ
A19: 1
A20: 2 | B20: =VLOOKUP($F20,УЧАСТНИКИ!$A$2:$L$1105,3,FALSE) -> Сухобокова Анастасия | C20: =VLOOKUP($F20,УЧАСТНИКИ!$A$2:$L$1105,4,FALSE) -> 04.12.1997 | D20: =VLOOKUP($F20,УЧАСТНИКИ!$A$2:$L$1105,5,FALSE) -> Сахалинская область | E20: =VLOOKUP($F20,УЧАСТНИКИ!$A$2:$L$1105,8,FALSE) -> 1 | F20: 357 | J20: Л
A21: 3 | B21: =VLOOKUP($F21,УЧАСТНИКИ!$A$2:$L$1105,3,FALSE) -> Думен (Рябенко) Елена | C21: =VLOOKUP($F21,УЧАСТНИКИ!$A$2:$L$1105,4,FALSE) -> 13.01.1994 | D21: =VLOOKUP($F21,УЧАСТНИКИ!$A$2:$L$1105,5,FALSE) -> Краснодарский край Карачаево-Черкесская республика | E21: =VLOOKUP($F21,УЧАСТНИКИ!$A$2:$L$1105,8,FALSE) -> МС | F21: 89
A22: 4 | B22: =VLOOKUP($F22,УЧАСТНИКИ!$A$2:$L$1105,3,FALSE) -> Татькова Анна | C22: =VLOOKUP($F22,УЧАСТНИКИ!$A$2:$L$1105,4,FALSE) -> 22.06.1999 | D22: =VLOOKUP($F22,УЧАСТНИКИ!$A$2:$L$1105,5,FALSE) -> Волгоградская область | E22: =VLOOKUP($F22,УЧАСТНИКИ!$A$2:$L$1105,8,FALSE) -> КМС | F22: 386 | J22: Л
A23: 5 | B23: =VLOOKUP($F23,УЧАСТНИКИ!$A$2:$L$1105,3,FALSE) -> Соколова (Полищук) Анастасия | C23: =VLOOKUP($F23,УЧАСТНИКИ!$A$2:$L$1105,4,FALSE) -> 20.05.1994 | D23: =VLOOKUP($F23,УЧАСТНИКИ!$A$2:$L$1105,5,FALSE) -> Свердловская область Челябинская область | E23: =VLOOKUP($F23,УЧАСТНИКИ!$A$2:$L$1105,8,FALSE) -> МС | F23: 201
A24: 6 | B24: =VLOOKUP($F24,УЧАСТНИКИ!$A$2:$L$1105,3,FALSE) -> Григорьева Анастасия | C24: =VLOOKUP($F24,УЧАСТНИКИ!$A$2:$L$1105,4,FALSE) -> 07.11.1993 | D24: =VLOOKUP($F24,УЧАСТНИКИ!$A$2:$L$1105,5,FALSE) -> Санкт-Петербург | E24: =VLOOKUP($F24,УЧАСТНИКИ!$A$2:$L$1105,8,FALSE) -> МС | F24: 141
A25: 7 | B25: =VLOOKUP($F25,УЧАСТНИКИ!$A$2:$L$1105,3,FALSE) -> Погорелова Дарья | C25: =VLOOKUP($F25,УЧАСТНИКИ!$A$2:$L$1105,4,FALSE) -> 27.02.2003 | D25: =VLOOKUP($F25,УЧАСТНИКИ!$A$2:$L$1105,5,FALSE) -> Курская область | E25: =VLOOKUP($F25,УЧАСТНИКИ!$A$2:$L$1105,8,FALSE) -> 1 | F25: 274
A26: 8 | B26: =VLOOKUP($F26,УЧАСТНИКИ!$A$2:$L$1105,3,FALSE) -> Григорьева Ольга | C26: =VLOOKUP($F26,УЧАСТНИКИ!$A$2:$L$1105,4,FALSE) -> 11.12.1992 | D26: =VLOOKUP($F26,УЧАСТНИКИ!$A$2:$L$1105,5,FALSE) -> Новгородская область | E26: =VLOOKUP($F26,УЧАСТНИКИ!$A$2:$L$1105,8,FALSE) -> КМС | F26: 353
B27: 3 ЗАБЕГ
A28: 1
A29: 2 | B29: =VLOOKUP($F29,УЧАСТНИКИ!$A$2:$L$1105,3,FALSE) -> Стародубова Виолетта | C29: =VLOOKUP($F29,УЧАСТНИКИ!$A$2:$L$1105,4,FALSE) -> 15.12.1999 | D29: =VLOOKUP($F29,УЧАСТНИКИ!$A$2:$L$1105,5,FALSE) -> Воронежская область | E29: =VLOOKUP($F29,УЧАСТНИКИ!$A$2:$L$1105,8,FALSE) -> КМС | F29: 421
A30: 3 | B30: =VLOOKUP($F30,УЧАСТНИКИ!$A$2:$L$1105,3,FALSE) -> Хорошева Кристина | C30: =VLOOKUP($F30,УЧАСТНИКИ!$A$2:$L$1105,4,FALSE) -> 05.04.1993 | D30: =VLOOKUP($F30,УЧАСТНИКИ!$A$2:$L$1105,5,FALSE) -> Пензенская область Тульская область | E30: =VLOOKUP($F30,УЧАСТНИКИ!$A$2:$L$1105,8,FALSE) -> МС | F30: 408
A31: 4 | B31: =VLOOKUP($F31,УЧАСТНИКИ!$A$2:$L$1105,3,FALSE) -> Кукушкина Анна | C31: =VLOOKUP($F31,УЧАСТНИКИ!$A$2:$L$1105,4,FALSE) -> 13.12.1992 | D31: =VLOOKUP($F31,УЧАСТНИКИ!$A$2:$L$1105,5,FALSE) -> Московская область Ямало-Ненецкий автономный округ | E31: =VLOOKUP($F31,УЧАСТНИКИ!$A$2:$L$1105,8,FALSE) -> МС | F31: 64
A32: 5 | B32: =VLOOKUP($F32,УЧАСТНИКИ!$A$2:$L$1105,3,FALSE) -> Черняева (Козлова) Елена | C32: =VLOOKUP($F32,УЧАСТНИКИ!$A$2:$L$1105,4,FALSE) -> 19.09.1988 | D32: =VLOOKUP($F32,УЧАСТНИКИ!$A$2:$L$1105,5,FALSE) -> Санкт-Петербург Вологодская область | E32: =VLOOKUP($F32,УЧАСТНИКИ!$A$2:$L$1105,8,FALSE) -> МС | F32: 187
A33: 6 | B33: =VLOOKUP($F33,УЧАСТНИКИ!$A$2:$L$1105,3,FALSE) -> Шерстобитова Алефтина | C33: =VLOOKUP($F33,УЧАСТНИКИ!$A$2:$L$1105,4,FALSE) -> 18.02.1999 | D33: =VLOOKUP($F33,УЧАСТНИКИ!$A$2:$L$1105,5,FALSE) -> Волгоградская область | E33: =VLOOKUP($F33,УЧАСТНИКИ!$A$2:$L$1105,8,FALSE) -> КМС | F33: 387 | J33: Л
A34: 7 | B34: =VLOOKUP($F34,УЧАСТНИКИ!$A$2:$L$1105,3,FALSE) -> Блескина Екатерина | C34: =VLOOKUP($F34,УЧАСТНИКИ!$A$2:$L$1105,4,FALSE) -> 29.01.1993 | D34: =VLOOKUP($F34,УЧАСТНИКИ!$A$2:$L$1105,5,FALSE) -> Красноярский край Санкт-Петербург | E34: =VLOOKUP($F34,УЧАСТНИКИ!$A$2:$L$1105,8,FALSE) -> МС | F34: 133 | J34: Л
A35: 8
A39: Рефери по бегу: | D39: Айнетдинов Г., ССВК, Москва
A40: Ст.судья: | D40: Лобойко Н., ССВК, Ставрополь
A41: Секретарь: | D41: Орлянская С., СС1К, Краснодар

Sheet 100ф
A1: =Name_2 -> ВСЕРОССИЙСКАЯ ФЕДЕРАЦИЯ ЛЕГКОЙ АТЛЕТИКИ
A2: СТАРТОВЫЙ ПРОТОКОЛ
A3: =Name_4 -> КОМАНДНЫЙ ЧЕМПИОНАТ РОССИИ
E4: ФИНАЛ
A5: =d_4 -> ЖЕНЩИНЫ | C5: РМ | D5: 10,49 | G5: =d_1 -> 04.09.2019г. | I5: начало: | J5: 18:50
A6: Бег 100 м | C6: РЕ | D6: 10,73 | I6: окончание:
C7: РР | D7: 10,77 | K7: =d_5 -> г. Сочи, ул. Бзугу 2, ст. им. Славы Метревели
A8: № п/п | B8: Фамилия, имя участника | C8: Дата рождения | D8: Территория | E8: Заявленный разряд | F8: Номер участника | G8: рез-тат забега | H8: приход | I8: Результат | J8: Место | K8: Примеч.
A10: 1 | B10: =VLOOKUP($F10,УЧАСТНИКИ!$A$2:$L$1105,3,FALSE) -> Блескина Екатерина | C10: =VLOOKUP($F10,УЧАСТНИКИ!$A$2:$L$1105,4,FALSE) -> 29.01.1993 | D10: =VLOOKUP($F10,УЧАСТНИКИ!$A$2:$L$1105,5,FALSE) -> Красноярский край Санкт-Петербург | E10: =VLOOKUP($F10,УЧАСТНИКИ!$A$2:$L$1105,8,FALSE) -> МС | F10: 133 | G10: 12,13 | K10: Л
A11: 2 | B11: =VLOOKUP($F11,УЧАСТНИКИ!$A$2:$L$1105,3,FALSE) -> Сластникова Тамара | C11: =VLOOKUP($F11,УЧАСТНИКИ!$A$2:$L$1105,4,FALSE) -> 21.05.1993 | D11: =VLOOKUP($F11,УЧАСТНИКИ!$A$2:$L$1105,5,FALSE) -> Новосибирская область | E11: =VLOOKUP($F11,УЧАСТНИКИ!$A$2:$L$1105,8,FALSE) -> МС | F11: 232 | G11: 11,95
A12: 3 | B12: =VLOOKUP($F12,УЧАСТНИКИ!$A$2:$L$1105,3,FALSE) -> Зелих Виктория | C12: =VLOOKUP($F12,УЧАСТНИКИ!$A$2:$L$1105,4,FALSE) -> 09.07.1996 | D12: =VLOOKUP($F12,УЧАСТНИКИ!$A$2:$L$1105,5,FALSE) -> Краснодарский край | E12: =VLOOKUP($F12,УЧАСТНИКИ!$A$2:$L$1105,8,FALSE) -> КМС | F12: 92 | G12: 11,87
A13: 4 | B13: =VLOOKUP($F13,УЧАСТНИКИ!$A$2:$L$1105,3,FALSE) -> Сивкова Кристина | C13: =VLOOKUP($F13,УЧАСТНИКИ!$A$2:$L$1105,4,FALSE) -> 28.02.1997 | D13: =VLOOKUP($F13,УЧАСТНИКИ!$A$2:$L$1105,5,FALSE) -> Москва | E13: =VLOOKUP($F13,УЧАСТНИКИ!$A$2:$L$1105,8,FALSE) -> МСМК | F13: 42 | G13: 11,24 | K13: Л
A14: 5 | B14: =VLOOKUP($F14,УЧАСТНИКИ!$A$2:$L$1105,3,FALSE) -> Григорьева Анастасия | C14: =VLOOKUP($F14,УЧАСТНИКИ!$A$2:$L$1105,4,FALSE) -> 07.11.1993 | D14: =VLOOKUP($F14,УЧАСТНИКИ!$A$2:$L$1105,5,FALSE) -> Санкт-Петербург | E14: =VLOOKUP($F14,УЧАСТНИКИ!$A$2:$L$1105,8,FALSE) -> МС | F14: 141 | G14: 11,74
A15: 6 | B15: =VLOOKUP($F15,УЧАСТНИКИ!$A$2:$L$1105,3,FALSE) -> Черняева (Козлова) Елена | C15: =VLOOKUP($F15,УЧАСТНИКИ!$A$2:$L$1105,4,FALSE) -> 19.09.1988 | D15: =VLOOKUP($F15,УЧАСТНИКИ!$A$2:$L$1105,5,FALSE) -> Санкт-Петербург Вологодская область | E15: =VLOOKUP($F15,УЧАСТНИКИ!$A$2:$L$1105,8,FALSE) -> МС | F15: 187 | G15: 11,81
A16: 7 | B16: =VLOOKUP($F16,УЧАСТНИКИ!$A$2:$L$1105,3,FALSE) -> Соколова (Полищук) Анастасия | C16: =VLOOKUP($F16,УЧАСТНИКИ!$A$2:$L$1105,4,FALSE) -> 20.05.1994 | D16: =VLOOKUP($F16,УЧАСТНИКИ!$A$2:$L$1105,5,FALSE) -> Свердловская область Челябинская область | E16: =VLOOKUP($F16,УЧАСТНИКИ!$A$2:$L$1105,8,FALSE) -> МС | F16: 201 | G16: 11,92
A17: 8 | B17: =VLOOKUP($F17,УЧАСТНИКИ!$A$2:$L$1105,3,FALSE) -> Хорошева Кристина | C17: =VLOOKUP($F17,УЧАСТНИКИ!$A$2:$L$1105,4,FALSE) -> 05.04.1993 | D17: =VLOOKUP($F17,УЧАСТНИКИ!$A$2:$L$1105,5,FALSE) -> Пензенская область Тульская область | E17: =VLOOKUP($F17,УЧАСТНИКИ!$A$2:$L$1105,8,FALSE) -> МС | F17: 408 | G17: 11,85
A20: Рефери по бегу: | D20: Айнетдинов Г., ССВК, Москва
A21: Ст.судья: | D21: Лобойко Н., ССВК, Ставрополь
A22: Секретарь: | D22: Орлянская С., СС1К, Краснодар

Sheet 200
A1: =Name_2 -> ВСЕРОССИЙСКАЯ ФЕДЕРАЦИЯ ЛЕГКОЙ АТЛЕТИКИ
A2: СТАРТОВЫЙ ПРОТОКОЛ
A3: =Name_4 -> КОМАНДНЫЙ ЧЕМПИОНАТ РОССИИ
E4: ЗАБЕГИ
A5: =d_4 -> ЖЕНЩИНЫ | C5: РМ | D5: 21,34 | G5: =d_2 -> 05.09.2019г. | H5: начало: | I5: 16:05
A6: Бег 200 м | C6: РЕ | D6: 21,63 | H6: окончание:
C7: РР | D7: 21,87 | J7: =d_5 -> г. Сочи, ул. Бзугу 2, ст. им. Славы Метревели
A8: № п/п | B8: Фамилия, имя участника | C8: Дата рождения | D8: Территория | E8: Заявленный разряд | F8: Номер участника | G8: Приход | H8: Результат | I8: Место | J8: Примеч.
B9: 1 ЗАБЕГ
A10: 1 | B10: =VLOOKUP($F10,УЧАСТНИКИ!$A$2:$L$1105,3,FALSE) -> Баулина Ирина | C10: =VLOOKUP($F10,УЧАСТНИКИ!$A$2:$L$1105,4,FALSE) -> 04.01.1999 | D10: =VLOOKUP($F10,УЧАСТНИКИ!$A$2:$L$1105,5,FALSE) -> Воронежская область | E10: =VLOOKUP($F10,УЧАСТНИКИ!$A$2:$L$1105,8,FALSE) -> МС | F10: 226
A11: 2 | B11: =VLOOKUP($F11,УЧАСТНИКИ!$A$2:$L$1105,3,FALSE) -> Асоева Манижа | C11: =VLOOKUP($F11,УЧАСТНИКИ!$A$2:$L$1105,4,FALSE) -> 28.05.2001 | D11: =VLOOKUP($F11,УЧАСТНИКИ!$A$2:$L$1105,5,FALSE) -> Санкт-Петербург Тверская область | E11: =VLOOKUP($F11,УЧАСТНИКИ!$A$2:$L$1105,8,FALSE) -> КМС | F11: 129 | J11: Л
A12: 3 | B12: =VLOOKUP($F12,УЧАСТНИКИ!$A$2:$L$1105,3,FALSE) -> Цаплина Валерия | C12: =VLOOKUP($F12,УЧАСТНИКИ!$A$2:$L$1105,4,FALSE) -> 19.02.1997 | D12: =VLOOKUP($F12,УЧАСТНИКИ!$A$2:$L$1105,5,FALSE) -> Кировская область Санкт-Петербург | E12: =VLOOKUP($F12,УЧАСТНИКИ!$A$2:$L$1105,8,FALSE) -> КМС | F12: 184
A13: 4 | B13: =VLOOKUP($F13,УЧАСТНИКИ!$A$2:$L$1105,3,FALSE) -> Стародубова Виолетта | C13: =VLOOKUP($F13,УЧАСТНИКИ!$A$2:$L$1105,4,FALSE) -> 15.12.1999 | D13: =VLOOKUP($F13,УЧАСТНИКИ!$A$2:$L$1105,5,FALSE) -> Воронежская область | E13: =VLOOKUP($F13,УЧАСТНИКИ!$A$2:$L$1105,8,FALSE) -> КМС | F13: 421 | J13: Л
A14: 5 | B14: =VLOOKUP($F14,УЧАСТНИКИ!$A$2:$L$1105,3,FALSE) -> Алымова Вера | C14: =VLOOKUP($F14,УЧАСТНИКИ!$A$2:$L$1105,4,FALSE) -> 24.11.1995 | D14: =VLOOKUP($F14,УЧАСТНИКИ!$A$2:$L$1105,5,FALSE) -> Санкт-Петербург Брянская область | E14: =VLOOKUP($F14,УЧАСТНИКИ!$A$2:$L$1105,8,FALSE) -> МС | F14: 128
A15: 6 | B15: =VLOOKUP($F15,УЧАСТНИКИ!$A$2:$L$1105,3,FALSE) -> Соколова (Полищук) Анастасия | C15: =VLOOKUP($F15,УЧАСТНИКИ!$A$2:$L$1105,4,FALSE) -> 20.05.1994 | D15: =VLOOKUP($F15,УЧАСТНИКИ!$A$2:$L$1105,5,FALSE) -> Свердловская область Челябинская область | E15: =VLOOKUP($F15,УЧАСТНИКИ!$A$2:$L$1105,8,FALSE) -> МС | F15: 201
A16: 7 | B16: =VLOOKUP($F16,УЧАСТНИКИ!$A$2:$L$1105,3,FALSE) -> Копрова Екатерина | C16: =VLOOKUP($F16,УЧАСТНИКИ!$A$2:$L$1105,4,FALSE) -> 07.02.1999 | D16: =VLOOKUP($F16,УЧАСТНИКИ!$A$2:$L$1105,5,FALSE) -> Санкт-Петербург | E16: =VLOOKUP($F16,УЧАСТНИКИ!$A$2:$L$1105,8,FALSE) -> КМС | F16: 152 | J16: Л
A17: 8 | B17: =VLOOKUP($F17,УЧАСТНИКИ!$A$2:$L$1105,3,FALSE) -> Бондаренко Анна | C17: =VLOOKUP($F17,УЧАСТНИКИ!$A$2:$L$1105,4,FALSE) -> 24.07.2001 | D17: =VLOOKUP($F17,УЧАСТНИКИ!$A$2:$L$1105,5,FALSE) -> Томская область | E17: =VLOOKUP($F17,УЧАСТНИКИ!$A$2:$L$1105,8,FALSE) -> 1 | F17: 366
B18: 2 ЗАБЕГ
A19: 1
A20: 2 | B20: =VLOOKUP($F20,УЧАСТНИКИ!$A$2:$L$1105,3,FALSE) -> Григорьева Ольга | C20: =VLOOKUP($F20,УЧАСТНИКИ!$A$2:$L$1105,4,FALSE) -> 11.12.1992 | D20: =VLOOKUP($F20,УЧАСТНИКИ!$A$2:$L$1105,5,FALSE) -> Новгородская область | E20: =VLOOKUP($F20,УЧАСТНИКИ!$A$2:$L$1105,8,FALSE) -> КМС | F20: 353
A21: 3 | B21: =VLOOKUP($F21,УЧАСТНИКИ!$A$2:$L$1105,3,FALSE) -> Татькова Анна | C21: =VLOOKUP($F21,УЧАСТНИКИ!$A$2:$L$1105,4,FALSE) -> 22.06.1999 | D21: =VLOOKUP($F21,УЧАСТНИКИ!$A$2:$L$1105,5,FALSE) -> Волгоградская область | E21: =VLOOKUP($F21,УЧАСТНИКИ!$A$2:$L$1105,8,FALSE) -> КМС | F21: 386
A22: 4 | B22: =VLOOKUP($F22,УЧАСТНИКИ!$A$2:$L$1105,3,FALSE) -> Глебова Карина | C22: =VLOOKUP($F22,УЧАСТНИКИ!$A$2:$L$1105,4,FALSE) -> 23.01.1996 | D22: =VLOOKUP($F22,УЧАСТНИКИ!$A$2:$L$1105,5,FALSE) -> Сахалинская область | E22: =VLOOKUP($F22,УЧАСТНИКИ!$A$2:$L$1105,8,FALSE) -> МС | F22: 355
A23: 5 | B23: =VLOOKUP($F23,УЧАСТНИКИ!$A$2:$L$1105,3,FALSE) -> Хорошева Кристина | C23: =VLOOKUP($F23,УЧАСТНИКИ!$A$2:$L$1105,4,FALSE) -> 05.04.1993 | D23: =VLOOKUP($F23,УЧАСТНИКИ!$A$2:$L$1105,5,FALSE) -> Пензенская область Тульская область | E23: =VLOOKUP($F23,УЧАСТНИКИ!$A$2:$L$1105,8,FALSE) -> МС | F23: 408
A24: 6 | B24: =VLOOKUP($F24,УЧАСТНИКИ!$A$2:$L$1105,3,FALSE) -> Сластникова Тамара | C24: =VLOOKUP($F24,УЧАСТНИКИ!$A$2:$L$1105,4,FALSE) -> 21.05.1993 | D24: =VLOOKUP($F24,УЧАСТНИКИ!$A$2:$L$1105,5,FALSE) -> Новосибирская область | E24: =VLOOKUP($F24,УЧАСТНИКИ!$A$2:$L$1105,8,FALSE) -> МС | F24: 232 | J24: Л
A25: 7 | B25: =VLOOKUP($F25,УЧАСТНИКИ!$A$2:$L$1105,3,FALSE) -> Рыбкина Анастасия | C25: =VLOOKUP($F25,УЧАСТНИКИ!$A$2:$L$1105,4,FALSE) -> 14.04.1999 | D25: =VLOOKUP($F25,УЧАСТНИКИ!$A$2:$L$1105,5,FALSE) -> Курская область | E25: =VLOOKUP($F25,УЧАСТНИКИ!$A$2:$L$1105,8,FALSE) -> КМС | F25: 276 | J25: Л
A26: 8 | B26: =VLOOKUP($F26,УЧАСТНИКИ!$A$2:$L$1105,3,FALSE) -> Кученева Юлия | C26: =VLOOKUP($F26,УЧАСТНИКИ!$A$2:$L$1105,4,FALSE) -> 11.09.1999 | D26: =VLOOKUP($F26,УЧАСТНИКИ!$A$2:$L$1105,5,FALSE) -> Волгоградская область | E26: =VLOOKUP($F26,УЧАСТНИКИ!$A$2:$L$1105,8,FALSE) -> КМС | F26: 383 | J26: Л
B27: 3 ЗАБЕГ
A28: 1
A29: 2 | B29: =VLOOKUP($F29,УЧАСТНИКИ!$A$2:$L$1105,3,FALSE) -> Алтухова Екатерина | C29: =VLOOKUP($F29,УЧАСТНИКИ!$A$2:$L$1105,4,FALSE) -> 04.08.2000 | D29: =VLOOKUP($F29,УЧАСТНИКИ!$A$2:$L$1105,5,FALSE) -> Курская область | E29: =VLOOKUP($F29,УЧАСТНИКИ!$A$2:$L$1105,8,FALSE) -> 1 | F29: 258
A30: 3 | B30: =VLOOKUP($F30,УЧАСТНИКИ!$A$2:$L$1105,3,FALSE) -> Палиенко Ольга | C30: =VLOOKUP($F30,УЧАСТНИКИ!$A$2:$L$1105,4,FALSE) -> 21.11.1995 | D30: =VLOOKUP($F30,УЧАСТНИКИ!$A$2:$L$1105,5,FALSE) -> Новосибирская область | E30: =VLOOKUP($F30,УЧАСТНИКИ!$A$2:$L$1105,8,FALSE) -> КМС | F30: 229
A31: 4 | B31: =VLOOKUP($F31,УЧАСТНИКИ!$A$2:$L$1105,3,FALSE) -> Черняева (Козлова) Елена | C31: =VLOOKUP($F31,УЧАСТНИКИ!$A$2:$L$1105,4,FALSE) -> 19.09.1988 | D31: =VLOOKUP($F31,УЧАСТНИКИ!$A$2:$L$1105,5,FALSE) -> Санкт-Петербург Вологодская область | E31: =VLOOKUP($F31,УЧАСТНИКИ!$A$2:$L$1105,8,FALSE) -> МС | F31: 187
A32: 5 | B32: =VLOOKUP($F32,УЧАСТНИКИ!$A$2:$L$1105,3,FALSE) -> Котлярова Надежда | C32: =VLOOKUP($F32,УЧАСТНИКИ!$A$2:$L$1105,4,FALSE) -> 12.06.1989 | D32: =VLOOKUP($F32,УЧАСТНИКИ!$A$2:$L$1105,5,FALSE) -> Москва Республика Карелия | E32: =VLOOKUP($F32,УЧАСТНИКИ!$A$2:$L$1105,8,FALSE) -> МСМК | F32: 295
A33: 6 | B33: =VLOOKUP($F33,УЧАСТНИКИ!$A$2:$L$1105,3,FALSE) -> Глотова Яна | C33: =VLOOKUP($F33,УЧАСТНИКИ!$A$2:$L$1105,4,FALSE) -> 17.01.1995 | D33: =VLOOKUP($F33,УЧАСТНИКИ!$A$2:$L$1105,5,FALSE) -> Московская область Липецкая область | E33: =VLOOKUP($F33,УЧАСТНИКИ!$A$2:$L$1105,8,FALSE) -> МС | F33: 57 | J33: Л
A34: 7 | B34: =VLOOKUP($F34,УЧАСТНИКИ!$A$2:$L$1105,3,FALSE) -> Кузминчук Олеся | C34: =VLOOKUP($F34,УЧАСТНИКИ!$A$2:$L$1105,4,FALSE) -> 04.12.1998 | D34: =VLOOKUP($F34,УЧАСТНИКИ!$A$2:$L$1105,5,FALSE) -> Санкт-Петербург | E34: =VLOOKUP($F34,УЧАСТНИКИ!$A$2:$L$1105,8,FALSE) -> КМС | F34: 155 | J34: Л
A35: 8 | B35: =VLOOKUP($F35,УЧАСТНИКИ!$A$2:$L$1105,3,FALSE) -> Сухобокова Анастасия | C35: =VLOOKUP($F35,УЧАСТНИКИ!$A$2:$L$1105,4,FALSE) -> 04.12.1997 | D35: =VLOOKUP($F35,УЧАСТНИКИ!$A$2:$L$1105,5,FALSE) -> Сахалинская область | E35: =VLOOKUP($F35,УЧАСТНИКИ!$A$2:$L$1105,8,FALSE) -> 1 | F35: 357 | J35: Л
A38: Рефери по бегу: | D38: Айнетдинов Г., ССВК, Москва
A39: Ст.судья: | D39: Лобойко Н., ССВК, Ставрополь
A40: Секретарь: | D40: Орлянская С., СС1К, Краснодар

Sheet 200ф
A1: =Name_2 -> ВСЕРОССИЙСКАЯ ФЕДЕРАЦИЯ ЛЕГКОЙ АТЛЕТИКИ
A2: СТАРТОВЫЙ ПРОТОКОЛ
A3: КУБОК РОССИИ
E4: ФИНАЛ
A5: =d_4 -> ЖЕНЩИНЫ | C5: РМ | D5: 21,34 | G5: =d_2 -> 05.09.2019г. | I5: начало: | J5: 17:40
A6: Бег 200 м | C6: РЕ | D6: 21,63 | I6: окончание:
C7: РР | D7: 21,87 | K7: =d_5 -> г. Сочи, ул. Бзугу 2, ст. им. Славы Метревели
A8: № п/п | B8: Фамилия, имя участника | C8: Дата рождения | D8: Территория | E8: Заявленный разряд | F8: Номер участника | G8: рез-тат забега | H8: приход | I8: Результат | J8: Место | K8: Примеч.
A10: 1 | B10: =VLOOKUP($F10,УЧАСТНИКИ!$A$2:$L$1105,3,FALSE) -> #N/A | C10: =VLOOKUP($F10,УЧАСТНИКИ!$A$2:$L$1105,4,FALSE) -> #N/A | D10: =VLOOKUP($F10,УЧАСТНИКИ!$A$2:$L$1105,5,FALSE) -> #N/A | E10: =VLOOKUP($F10,УЧАСТНИКИ!$A$2:$L$1105,8,FALSE) -> #N/A | K10: =VLOOKUP($F10,УЧАСТНИКИ!$A$2:$L$1105,9,FALSE) -> #N/A
A11: 2 | B11: =VLOOKUP($F11,УЧАСТНИКИ!$A$2:$L$1105,3,FALSE) -> #N/A | C11: =VLOOKUP($F11,УЧАСТНИКИ!$A$2:$L$1105,4,FALSE) -> #N/A | D11: =VLOOKUP($F11,УЧАСТНИКИ!$A$2:$L$1105,5,FALSE) -> #N/A | E11: =VLOOKUP($F11,УЧАСТНИКИ!$A$2:$L$1105,8,FALSE) -> #N/A | K11: =VLOOKUP($F11,УЧАСТНИКИ!$A$2:$L$1105,9,FALSE) -> #N/A
A12: 3 | B12: =VLOOKUP($F12,УЧАСТНИКИ!$A$2:$L$1105,3,FALSE) -> #N/A | C12: =VLOOKUP($F12,УЧАСТНИКИ!$A$2:$L$1105,4,FALSE) -> #N/A | D12: =VLOOKUP($F12,УЧАСТНИКИ!$A$2:$L$1105,5,FALSE) -> #N/A | E12: =VLOOKUP($F12,УЧАСТНИКИ!$A$2:$L$1105,8,FALSE) -> #N/A | K12: =VLOOKUP($F12,УЧАСТНИКИ!$A$2:$L$1105,9,FALSE) -> #N/A
A13: 4 | B13: =VLOOKUP($F13,УЧАСТНИКИ!$A$2:$L$1105,3,FALSE) -> #N/A | C13: =VLOOKUP($F13,УЧАСТНИКИ!$A$2:$L$1105,4,FALSE) -> #N/A | D13: =VLOOKUP($F13,УЧАСТНИКИ!$A$2:$L$1105,5,FALSE) -> #N/A | E13: =VLOOKUP($F13,УЧАСТНИКИ!$A$2:$L$1105,8,FALSE) -> #N/A | K13: =VLOOKUP($F13,УЧАСТНИКИ!$A$2:$L$1105,9,FALSE) -> #N/A
A14: 5 | B14: =VLOOKUP($F14,УЧАСТНИКИ!$A$2:$L$1105,3,FALSE) -> #N/A | C14: =VLOOKUP($F14,УЧАСТНИКИ!$A$2:$L$1105,4,FALSE) -> #N/A | D14: =VLOOKUP($F14,УЧАСТНИКИ!$A$2:$L$1105,5,FALSE) -> #N/A | E14: =VLOOKUP($F14,УЧАСТНИКИ!$A$2:$L$1105,8,FALSE) -> #N/A | K14: =VLOOKUP($F14,УЧАСТНИКИ!$A$2:$L$1105,9,FALSE) -> #N/A
A15: 6 | B15: =VLOOKUP($F15,УЧАСТНИКИ!$A$2:$L$1105,3,FALSE) -> #N/A | C15: =VLOOKUP($F15,УЧАСТНИКИ!$A$2:$L$1105,4,FALSE) -> #N/A | D15: =VLOOKUP($F15,УЧАСТНИКИ!$A$2:$L$1105,5,FALSE) -> #N/A | E15: =VLOOKUP($F15,УЧАСТНИКИ!$A$2:$L$1105,8,FALSE) -> #N/A | K15: =VLOOKUP($F15,УЧАСТНИКИ!$A$2:$L$1105,9,FALSE) -> #N/A
A16: 7 | B16: =VLOOKUP($F16,УЧАСТНИКИ!$A$2:$L$1105,3,FALSE) -> #N/A | C16: =VLOOKUP($F16,УЧАСТНИКИ!$A$2:$L$1105,4,FALSE) -> #N/A | D16: =VLOOKUP($F16,УЧАСТНИКИ!$A$2:$L$1105,5,FALSE) -> #N/A | E16: =VLOOKUP($F16,УЧАСТНИКИ!$A$2:$L$1105,8,FALSE) -> #N/A | K16: =VLOOKUP($F16,УЧАСТНИКИ!$A$2:$L$1105,9,FALSE) -> #N/A
A17: 8 | B17: =VLOOKUP($F17,УЧАСТНИКИ!$A$2:$L$1105,3,FALSE) -> #N/A | C17: =VLOOKUP($F17,УЧАСТНИКИ!$A$2:$L$1105,4,FALSE) -> #N/A | D17: =VLOOKUP($F17,УЧАСТНИКИ!$A$2:$L$1105,5,FALSE) -> #N/A | E17: =VLOOKUP($F17,УЧАСТНИКИ!$A$2:$L$1105,8,FALSE) -> #N/A | K17: =VLOOKUP($F17,УЧАСТНИКИ!$A$2:$L$1105,9,FALSE) -> #N/A
A20: Рефери по бегу: | D20: Айнетдинов Г., ССВК, Москва
A21: Ст.судья: | D21: Лобойко Н., ССВК, Ставрополь
A22: Секретарь: | D22: Орлянская С., СС1К, Краснодар

Sheet 400
A1: =Name_2 -> ВСЕРОССИЙСКАЯ ФЕДЕРАЦИЯ ЛЕГКОЙ АТЛЕТИКИ
A2: СТАРТОВЫЙ ПРОТОКОЛ
A3: =Name_4 -> КОМАНДНЫЙ ЧЕМПИОНАТ РОССИИ
E4: ФИНАЛЬНЫЕ ЗАБЕГИ
A5: =d_4 -> ЖЕНЩИНЫ | C5: РМ | D5: 47,60 | F5: =d_1 -> 04.09.2019г. | H5: начало: | I5: 18:15
A6: Бег 400 м | C6: РЕ | D6: 47,60 | H6: окончание:
C7: РР | D7: 49,11 | J7: =d_5 -> г. Сочи, ул. Бзугу 2, ст. им. Славы Метревели
A8: № п/п | B8: Фамилия, имя участника | C8: Дата рождения | D8: Территория | E8: Заявленный разряд | F8: Номер участника | G8: Приход | H8: Результат | I8: Место | J8: Примеч.
B9: 1 ЗАБЕГ
A10: 1
A11: 2 | B11: =VLOOKUP($F11,УЧАСТНИКИ!$A$2:$L$1105,3,FALSE) -> Копрова Екатерина | C11: =VLOOKUP($F11,УЧАСТНИКИ!$A$2:$L$1105,4,FALSE) -> 07.02.1999 | D11: =VLOOKUP($F11,УЧАСТНИКИ!$A$2:$L$1105,5,FALSE) -> Санкт-Петербург | E11: =VLOOKUP($F11,УЧАСТНИКИ!$A$2:$L$1105,8,FALSE) -> КМС | F11: 152 | J11: Л
A12: 3 | B12: =VLOOKUP($F12,УЧАСТНИКИ!$A$2:$L$1105,3,FALSE) -> Котельникова Елена | C12: =VLOOKUP($F12,УЧАСТНИКИ!$A$2:$L$1105,4,FALSE) -> 03.04.1997 | D12: =VLOOKUP($F12,УЧАСТНИКИ!$A$2:$L$1105,5,FALSE) -> Курская область | E12: =VLOOKUP($F12,УЧАСТНИКИ!$A$2:$L$1105,8,FALSE) -> КМС | F12: 266
A13: 4 | B13: =VLOOKUP($F13,УЧАСТНИКИ!$A$2:$L$1105,3,FALSE) -> Асоева Манижа | C13: =VLOOKUP($F13,УЧАСТНИКИ!$A$2:$L$1105,4,FALSE) -> 28.05.2001 | D13: =VLOOKUP($F13,УЧАСТНИКИ!$A$2:$L$1105,5,FALSE) -> Санкт-Петербург Тверская область | E13: =VLOOKUP($F13,УЧАСТНИКИ!$A$2:$L$1105,8,FALSE) -> КМС | F13: 129 | J13: Л
A14: 5 | B14: =VLOOKUP($F14,УЧАСТНИКИ!$A$2:$L$1105,3,FALSE) -> Тюрина Екатерина | C14: =VLOOKUP($F14,УЧАСТНИКИ!$A$2:$L$1105,4,FALSE) -> 18.04.1997 | D14: =VLOOKUP($F14,УЧАСТНИКИ!$A$2:$L$1105,5,FALSE) -> Санкт-Петербург Нижегородская область | E14: =VLOOKUP($F14,УЧАСТНИКИ!$A$2:$L$1105,8,FALSE) -> МС | F14: 180
A15: 6 | B15: =VLOOKUP($F15,УЧАСТНИКИ!$A$2:$L$1105,3,FALSE) -> Топольскова Ольга | C15: =VLOOKUP($F15,УЧАСТНИКИ!$A$2:$L$1105,4,FALSE) -> 25.06.2002 | D15: =VLOOKUP($F15,УЧАСТНИКИ!$A$2:$L$1105,5,FALSE) -> Ставропольский край | E15: =VLOOKUP($F15,УЧАСТНИКИ!$A$2:$L$1105,8,FALSE) -> КМС | F15: 341
A16: 7 | B16: =VLOOKUP($F16,УЧАСТНИКИ!$A$2:$L$1105,3,FALSE) -> Герасимова Анастасия | C16: =VLOOKUP($F16,УЧАСТНИКИ!$A$2:$L$1105,4,FALSE) -> 18.03.1998 | D16: =VLOOKUP($F16,УЧАСТНИКИ!$A$2:$L$1105,5,FALSE) -> Волгоградская область Саратовская область | E16: =VLOOKUP($F16,УЧАСТНИКИ!$A$2:$L$1105,8,FALSE) -> КМС | F16: 376 | J16: Л
A17: 8 | B17: =VLOOKUP($F17,УЧАСТНИКИ!$A$2:$L$1105,3,FALSE) -> Зайцева Наталья | C17: =VLOOKUP($F17,УЧАСТНИКИ!$A$2:$L$1105,4,FALSE) -> 01.11.2001 | D17: =VLOOKUP($F17,УЧАСТНИКИ!$A$2:$L$1105,5,FALSE) -> Курганская область | E17: =VLOOKUP($F17,УЧАСТНИКИ!$A$2:$L$1105,8,FALSE) -> КМС | F17: 406
B18: 2 ЗАБЕГ
A19: 1
A20: 2 | B20: =VLOOKUP($F20,УЧАСТНИКИ!$A$2:$L$1105,3,FALSE) -> Виноградова (Маркелова) Татьяна | C20: =VLOOKUP($F20,УЧАСТНИКИ!$A$2:$L$1105,4,FALSE) -> 09.12.1988 | D20: =VLOOKUP($F20,УЧАСТНИКИ!$A$2:$L$1105,5,FALSE) -> Мурманская область | E20: =VLOOKUP($F20,УЧАСТНИКИ!$A$2:$L$1105,8,FALSE) -> МСМК | F20: 403
A21: 3 | B21: =VLOOKUP($F21,УЧАСТНИКИ!$A$2:$L$1105,3,FALSE) -> Кузминчук Олеся | C21: =VLOOKUP($F21,УЧАСТНИКИ!$A$2:$L$1105,4,FALSE) -> 04.12.1998 | D21: =VLOOKUP($F21,УЧАСТНИКИ!$A$2:$L$1105,5,FALSE) -> Санкт-Петербург | E21: =VLOOKUP($F21,УЧАСТНИКИ!$A$2:$L$1105,8,FALSE) -> КМС | F21: 155 | J21: Л
A22: 4 | B22: =VLOOKUP($F22,УЧАСТНИКИ!$A$2:$L$1105,3,FALSE) -> Котова Алина | C22: =VLOOKUP($F22,УЧАСТНИКИ!$A$2:$L$1105,4,FALSE) -> 26.02.1993 | D22: =VLOOKUP($F22,УЧАСТНИКИ!$A$2:$L$1105,5,FALSE) -> Республика Карелия | E22: =VLOOKUP($F22,УЧАСТНИКИ!$A$2:$L$1105,8,FALSE) -> МС | F22: 430
A23: 5 | B23: =VLOOKUP($F23,УЧАСТНИКИ!$A$2:$L$1105,3,FALSE) -> Палиенко Ольга | C23: =VLOOKUP($F23,УЧАСТНИКИ!$A$2:$L$1105,4,FALSE) -> 21.11.1995 | D23: =VLOOKUP($F23,УЧАСТНИКИ!$A$2:$L$1105,5,FALSE) -> Новосибирская область | E23: =VLOOKUP($F23,УЧАСТНИКИ!$A$2:$L$1105,8,FALSE) -> КМС | F23: 229
A24: 6 | B24: =VLOOKUP($F24,УЧАСТНИКИ!$A$2:$L$1105,3,FALSE) -> Заварзина Анжелика | C24: =VLOOKUP($F24,УЧАСТНИКИ!$A$2:$L$1105,4,FALSE) -> 19.07.1998 | D24: =VLOOKUP($F24,УЧАСТНИКИ!$A$2:$L$1105,5,FALSE) -> Волгоградская область | E24: =VLOOKUP($F24,УЧАСТНИКИ!$A$2:$L$1105,8,FALSE) -> КМС | F24: 378
A25: 7 | B25: =VLOOKUP($F25,УЧАСТНИКИ!$A$2:$L$1105,3,FALSE) -> Цаплина Валерия | C25: =VLOOKUP($F25,УЧАСТНИКИ!$A$2:$L$1105,4,FALSE) -> 19.02.1997 | D25: =VLOOKUP($F25,УЧАСТНИКИ!$A$2:$L$1105,5,FALSE) -> Кировская область Санкт-Петербург | E25: =VLOOKUP($F25,УЧАСТНИКИ!$A$2:$L$1105,8,FALSE) -> КМС | F25: 184 | J25: Л
A26: 8 | B26: =VLOOKUP($F26,УЧАСТНИКИ!$A$2:$L$1105,3,FALSE) -> Шатурная Светлана | C26: =VLOOKUP($F26,УЧАСТНИКИ!$A$2:$L$1105,4,FALSE) -> 15.06.1995 | D26: =VLOOKUP($F26,УЧАСТНИКИ!$A$2:$L$1105,5,FALSE) -> Краснодарский край Карачаево-Черкесская республика | E26: =VLOOKUP($F26,УЧАСТНИКИ!$A$2:$L$1105,8,FALSE) -> КМС | F26: 125
B27: 3 ЗАБЕГ
A28: 1 | B28: =VLOOKUP($F28,УЧАСТНИКИ!$A$2:$L$1105,3,FALSE) -> Габдуллина Дина | C28: =VLOOKUP($F28,УЧАСТНИКИ!$A$2:$L$1105,4,FALSE) -> 12.03.1995 | D28: =VLOOKUP($F28,УЧАСТНИКИ!$A$2:$L$1105,5,FALSE) -> Ямало-Ненецкий автономный округ | E28: =VLOOKUP($F28,УЧАСТНИКИ!$A$2:$L$1105,8,FALSE) -> КМС | F28: 401 | J28: Л
A29: 2 | B29: =VLOOKUP($F29,УЧАСТНИКИ!$A$2:$L$1105,3,FALSE) -> Гуляева Александра | C29: =VLOOKUP($F29,УЧАСТНИКИ!$A$2:$L$1105,4,FALSE) -> 30.04.1994 | D29: =VLOOKUP($F29,УЧАСТНИКИ!$A$2:$L$1105,5,FALSE) -> Москва Ивановская область | E29: =VLOOKUP($F29,УЧАСТНИКИ!$A$2:$L$1105,8,FALSE) -> МСМК | F29: 12 | J29: Л
A30: 3 | B30: =VLOOKUP($F30,УЧАСТНИКИ!$A$2:$L$1105,3,FALSE) -> Миллер Полина | C30: =VLOOKUP($F30,УЧАСТНИКИ!$A$2:$L$1105,4,FALSE) -> 09.06.2000 | D30: =VLOOKUP($F30,УЧАСТНИКИ!$A$2:$L$1105,5,FALSE) -> Краснодарский край Алтайский край | E30: =VLOOKUP($F30,УЧАСТНИКИ!$A$2:$L$1105,8,FALSE) -> МС | F30: 105
A31: 4 | B31: =VLOOKUP($F31,УЧАСТНИКИ!$A$2:$L$1105,3,FALSE) -> Аксенова (Усталова) Ксения | C31: =VLOOKUP($F31,УЧАСТНИКИ!$A$2:$L$1105,4,FALSE) -> 14.01.1988 | D31: =VLOOKUP($F31,УЧАСТНИКИ!$A$2:$L$1105,5,FALSE) -> Свердловская область Ямало-Ненецкий автономный округ | E31: =VLOOKUP($F31,УЧАСТНИКИ!$A$2:$L$1105,8,FALSE) -> ЗМС | F31: 197
A32: 5 | B32: =VLOOKUP($F32,УЧАСТНИКИ!$A$2:$L$1105,3,FALSE) -> Жданова Анастасия | C32: =VLOOKUP($F32,УЧАСТНИКИ!$A$2:$L$1105,4,FALSE) -> 15.04.1994 | D32: =VLOOKUP($F32,УЧАСТНИКИ!$A$2:$L$1105,5,FALSE) -> Свердловская область | E32: =VLOOKUP($F32,УЧАСТНИКИ!$A$2:$L$1105,8,FALSE) -> МС | F32: 199 | J32: Л
A33: 6 | B33: =VLOOKUP($F33,УЧАСТНИКИ!$A$2:$L$1105,3,FALSE) -> Рудакова Вера | C33: =VLOOKUP($F33,УЧАСТНИКИ!$A$2:$L$1105,4,FALSE) -> 20.03.1992 | D33: =VLOOKUP($F33,УЧАСТНИКИ!$A$2:$L$1105,5,FALSE) -> Москва Пермский край | E33: =VLOOKUP($F33,УЧАСТНИКИ!$A$2:$L$1105,8,FALSE) -> МСМК | F33: 40 | J33: Л
A34: 7 | B34: =VLOOKUP($F34,УЧАСТНИКИ!$A$2:$L$1105,3,FALSE) -> Аникиенко Елизавета | C34: =VLOOKUP($F34,УЧАСТНИКИ!$A$2:$L$1105,4,FALSE) -> 30.06.1994 | D34: =VLOOKUP($F34,УЧАСТНИКИ!$A$2:$L$1105,5,FALSE) -> Москва Московская область | E34: =VLOOKUP($F34,УЧАСТНИКИ!$A$2:$L$1105,8,FALSE) -> МС | F34: 3
A35: 8 | B35: =VLOOKUP($F35,УЧАСТНИКИ!$A$2:$L$1105,3,FALSE) -> Рухлядева Мария | C35: =VLOOKUP($F35,УЧАСТНИКИ!$A$2:$L$1105,4,FALSE) -> 27.11.1999 | D35: =VLOOKUP($F35,УЧАСТНИКИ!$A$2:$L$1105,5,FALSE) -> Санкт-Петербург | E35: =VLOOKUP($F35,УЧАСТНИКИ!$A$2:$L$1105,8,FALSE) -> КМС | F35: 174 | J35: Л
A37: Рефери по бегу: | D37: Айнетдинов Г., ССВК, Москва
A38: Ст.судья: | D38: Лобойко Н., ССВК, Ставрополь
A39: Секретарь: | D39: Орлянская С., СС1К, Краснодар

Sheet 800
A1: =Name_2 -> ВСЕРОССИЙСКАЯ ФЕДЕРАЦИЯ ЛЕГКОЙ АТЛЕТИКИ
A2: СТАРТОВЫЙ ПРОТОКОЛ
A3: =Name_4 -> КОМАНДНЫЙ ЧЕМПИОНАТ РОССИИ
E4: ФИНАЛЬНЫЕ ЗАБЕГИ
A5: =d_4 -> ЖЕНЩИНЫ | C5: РМ | D5: 1:53,28 | F5: =d_3 -> 06.09.2019г. | H5: начало: | I5: 17:30
A6: Бег 800 м | C6: РЕ | D6: 1:53,28 | H6: окончание:
C7: РР | D7: 1:53,43 | J7: =d_5 -> г. Сочи, ул. Бзугу 2, ст. им. Славы Метревели
A8: № п/п | B8: Фамилия, имя участника | C8: Дата рождения | D8: Территория | E8: Заявленный разряд | F8: Номер участника | G8: Приход | H8: Результат | I8: Место | J8: Примеч.
B9: 1 ЗАБЕГ
A10: 1 | B10: =VLOOKUP($F10,УЧАСТНИКИ!$A$2:$L$1105,3,FALSE) -> Попова Юлия | C10: =VLOOKUP($F10,УЧАСТНИКИ!$A$2:$L$1105,4,FALSE) -> 03.05.2001 | D10: =VLOOKUP($F10,УЧАСТНИКИ!$A$2:$L$1105,5,FALSE) -> Волгоградская область | E10: =VLOOKUP($F10,УЧАСТНИКИ!$A$2:$L$1105,8,FALSE) -> 1 | F10: 385
A11: 2 | B11: =VLOOKUP($F11,УЧАСТНИКИ!$A$2:$L$1105,3,FALSE) -> Сычева Анастасия | C11: =VLOOKUP($F11,УЧАСТНИКИ!$A$2:$L$1105,4,FALSE) -> 28.12.1991 | D11: =VLOOKUP($F11,УЧАСТНИКИ!$A$2:$L$1105,5,FALSE) -> Калужская область | E11: =VLOOKUP($F11,УЧАСТНИКИ!$A$2:$L$1105,8,FALSE) -> МС | F11: 438
A12: 2 | B12: =VLOOKUP($F12,УЧАСТНИКИ!$A$2:$L$1105,3,FALSE) -> Волкова Ксения | C12: =VLOOKUP($F12,УЧАСТНИКИ!$A$2:$L$1105,4,FALSE) -> 12.10.1995 | D12: =VLOOKUP($F12,УЧАСТНИКИ!$A$2:$L$1105,5,FALSE) -> Санкт-Петербург | E12: =VLOOKUP($F12,УЧАСТНИКИ!$A$2:$L$1105,8,FALSE) -> МС | F12: 138 | J12: Л
A13: 3 | B13: =VLOOKUP($F13,УЧАСТНИКИ!$A$2:$L$1105,3,FALSE) -> Пахтусова Дина | C13: =VLOOKUP($F13,УЧАСТНИКИ!$A$2:$L$1105,4,FALSE) -> 22.11.1991 | D13: =VLOOKUP($F13,УЧАСТНИКИ!$A$2:$L$1105,5,FALSE) -> Архангельская область | E13: =VLOOKUP($F13,УЧАСТНИКИ!$A$2:$L$1105,8,FALSE) -> КМС | F13: 439
A14: 4 | B14: =VLOOKUP($F14,УЧАСТНИКИ!$A$2:$L$1105,3,FALSE) -> Шевченко Анжелика | C14: =VLOOKUP($F14,УЧАСТНИКИ!$A$2:$L$1105,4,FALSE) -> 29.10.1987 | D14: =VLOOKUP($F14,УЧАСТНИКИ!$A$2:$L$1105,5,FALSE) -> Санкт-Петербург | E14: =VLOOKUP($F14,УЧАСТНИКИ!$A$2:$L$1105,8,FALSE) -> МС | F14: 188 | J14: Л
A15: 5 | B15: =VLOOKUP($F15,УЧАСТНИКИ!$A$2:$L$1105,3,FALSE) -> Подъянова Анастасия | C15: =VLOOKUP($F15,УЧАСТНИКИ!$A$2:$L$1105,4,FALSE) -> 26.12.1999 | D15: =VLOOKUP($F15,УЧАСТНИКИ!$A$2:$L$1105,5,FALSE) -> Москва Пермский край | E15: =VLOOKUP($F15,УЧАСТНИКИ!$A$2:$L$1105,8,FALSE) -> КМС | F15: 36 | J15: Л
A16: 6 | B16: =VLOOKUP($F16,УЧАСТНИКИ!$A$2:$L$1105,3,FALSE) -> Марачёва Ирина | C16: =VLOOKUP($F16,УЧАСТНИКИ!$A$2:$L$1105,4,FALSE) -> 24.09.1984 | D16: =VLOOKUP($F16,УЧАСТНИКИ!$A$2:$L$1105,5,FALSE) -> Калужская область | E16: =VLOOKUP($F16,УЧАСТНИКИ!$A$2:$L$1105,8,FALSE) -> МСМК | F16: 437
A17: 6 | B17: =VLOOKUP($F17,УЧАСТНИКИ!$A$2:$L$1105,3,FALSE) -> Саитова Алина | C17: =VLOOKUP($F17,УЧАСТНИКИ!$A$2:$L$1105,4,FALSE) -> 13.12.1999 | D17: =VLOOKUP($F17,УЧАСТНИКИ!$A$2:$L$1105,5,FALSE) -> Республика Башкортостан | E17: =VLOOKUP($F17,УЧАСТНИКИ!$A$2:$L$1105,8,FALSE) -> КМС | F17: 346
A18: 7 | B18: =VLOOKUP($F18,УЧАСТНИКИ!$A$2:$L$1105,3,FALSE) -> Большакова Дарья | C18: =VLOOKUP($F18,УЧАСТНИКИ!$A$2:$L$1105,4,FALSE) -> 24.07.1990 | D18: =VLOOKUP($F18,УЧАСТНИКИ!$A$2:$L$1105,5,FALSE) -> Санкт-Петербург | E18: =VLOOKUP($F18,УЧАСТНИКИ!$A$2:$L$1105,8,FALSE) -> МС | F18: 134 | J18: Л
A19: 8 | B19: =VLOOKUP($F19,УЧАСТНИКИ!$A$2:$L$1105,3,FALSE) -> Санкина Анастасия | C19: =VLOOKUP($F19,УЧАСТНИКИ!$A$2:$L$1105,4,FALSE) -> 14.05.1998 | D19: =VLOOKUP($F19,УЧАСТНИКИ!$A$2:$L$1105,5,FALSE) -> Республика Башкортостан | E19: =VLOOKUP($F19,УЧАСТНИКИ!$A$2:$L$1105,8,FALSE) -> 1 | F19: 348
B20: 2 ЗАБЕГ
A21: 1 | B21: =VLOOKUP($F21,УЧАСТНИКИ!$A$2:$L$1105,3,FALSE) -> Колентеева Кристина | C21: =VLOOKUP($F21,УЧАСТНИКИ!$A$2:$L$1105,4,FALSE) -> 23.07.1998 | D21: =VLOOKUP($F21,УЧАСТНИКИ!$A$2:$L$1105,5,FALSE) -> Тюменская область | E21: =VLOOKUP($F21,УЧАСТНИКИ!$A$2:$L$1105,8,FALSE) -> КМС | F21: 432
A22: 2 | B22: =VLOOKUP($F22,УЧАСТНИКИ!$A$2:$L$1105,3,FALSE) -> Щагина Анна | C22: =VLOOKUP($F22,УЧАСТНИКИ!$A$2:$L$1105,4,FALSE) -> 07.12.1991 | D22: =VLOOKUP($F22,УЧАСТНИКИ!$A$2:$L$1105,5,FALSE) -> Москва | E22: =VLOOKUP($F22,УЧАСТНИКИ!$A$2:$L$1105,8,FALSE) -> МСМК | F22: 51 | J22: Л
A23: 3 | B23: =VLOOKUP($F23,УЧАСТНИКИ!$A$2:$L$1105,3,FALSE) -> Кондрашова Полина | C23: =VLOOKUP($F23,УЧАСТНИКИ!$A$2:$L$1105,4,FALSE) -> 18.06.1986 | D23: =VLOOKUP($F23,УЧАСТНИКИ!$A$2:$L$1105,5,FALSE) -> Санкт-Петербург | E23: =VLOOKUP($F23,УЧАСТНИКИ!$A$2:$L$1105,8,FALSE) -> МС | F23: 151 | J23: Л
A24: 4 | B24: =VLOOKUP($F24,УЧАСТНИКИ!$A$2:$L$1105,3,FALSE) -> Виноградова (Маркелова) Татьяна | C24: =VLOOKUP($F24,УЧАСТНИКИ!$A$2:$L$1105,4,FALSE) -> 09.12.1988 | D24: =VLOOKUP($F24,УЧАСТНИКИ!$A$2:$L$1105,5,FALSE) -> Мурманская область | E24: =VLOOKUP($F24,УЧАСТНИКИ!$A$2:$L$1105,8,FALSE) -> МСМК | F24: 403
A25: 5 | B25: =VLOOKUP($F25,УЧАСТНИКИ!$A$2:$L$1105,3,FALSE) -> Гуляева Александра | C25: =VLOOKUP($F25,УЧАСТНИКИ!$A$2:$L$1105,4,FALSE) -> 30.04.1994 | D25: =VLOOKUP($F25,УЧАСТНИКИ!$A$2:$L$1105,5,FALSE) -> Москва Ивановская область | E25: =VLOOKUP($F25,УЧАСТНИКИ!$A$2:$L$1105,8,FALSE) -> МСМК | F25: 12 | J25: Л
A26: 6 | B26: =VLOOKUP($F26,УЧАСТНИКИ!$A$2:$L$1105,3,FALSE) -> Улога Светлана | C26: =VLOOKUP($F26,УЧАСТНИКИ!$A$2:$L$1105,4,FALSE) -> 23.11.1986 | D26: =VLOOKUP($F26,УЧАСТНИКИ!$A$2:$L$1105,5,FALSE) -> Республика Татарстан | E26: =VLOOKUP($F26,УЧАСТНИКИ!$A$2:$L$1105,8,FALSE) -> МСМК | F26: 251
A27: 7 | B27: =VLOOKUP($F27,УЧАСТНИКИ!$A$2:$L$1105,3,FALSE) -> Александрова Дина | C27: =VLOOKUP($F27,УЧАСТНИКИ!$A$2:$L$1105,4,FALSE) -> 09.08.1992 | D27: =VLOOKUP($F27,УЧАСТНИКИ!$A$2:$L$1105,5,FALSE) -> Курская область | E27: =VLOOKUP($F27,УЧАСТНИКИ!$A$2:$L$1105,8,FALSE) -> МС | F27: 257
A28: 8 | B28: =VLOOKUP($F28,УЧАСТНИКИ!$A$2:$L$1105,3,FALSE) -> Мурашова Елена | C28: =VLOOKUP($F28,УЧАСТНИКИ!$A$2:$L$1105,4,FALSE) -> 05.10.1987 | D28: =VLOOKUP($F28,УЧАСТНИКИ!$A$2:$L$1105,5,FALSE) -> Краснодарский край Вологодская область | E28: =VLOOKUP($F28,УЧАСТНИКИ!$A$2:$L$1105,8,FALSE) -> МС | F28: 109
A29: 9 | B29: =VLOOKUP($F29,УЧАСТНИКИ!$A$2:$L$1105,3,FALSE) -> Онуфриенко Ольга | C29: =VLOOKUP($F29,УЧАСТНИКИ!$A$2:$L$1105,4,FALSE) -> 08.03.1988 | D29: =VLOOKUP($F29,УЧАСТНИКИ!$A$2:$L$1105,5,FALSE) -> Нижегородская область | E29: =VLOOKUP($F29,УЧАСТНИКИ!$A$2:$L$1105,8,FALSE) -> МС | F29: 206
A30: 10 | B30: =VLOOKUP($F30,УЧАСТНИКИ!$A$2:$L$1105,3,FALSE) -> Габдуллина Дина | C30: =VLOOKUP($F30,УЧАСТНИКИ!$A$2:$L$1105,4,FALSE) -> 12.03.1995 | D30: =VLOOKUP($F30,УЧАСТНИКИ!$A$2:$L$1105,5,FALSE) -> Ямало-Ненецкий автономный округ | E30: =VLOOKUP($F30,УЧАСТНИКИ!$A$2:$L$1105,8,FALSE) -> КМС | F30: 401
A33: Рефери по бегу: | D33: Айнетдинов Г., ССВК, Москва
A34: Ст.судья: | D34: Лобойко Н., ССВК, Ставрополь
A35: Секретарь: | D35: Орлянская С., СС1К, Краснодар

Sheet 1500
A1: =Name_2 -> ВСЕРОССИЙСКАЯ ФЕДЕРАЦИЯ ЛЕГКОЙ АТЛЕТИКИ
A2: СТАРТОВЫЙ ПРОТОКОЛ
A3: =Name_4 -> КОМАНДНЫЙ ЧЕМПИОНАТ РОССИИ
E4: ФИНАЛЬНЫЕ ЗАБЕГИ
A5: =d_4 -> ЖЕНЩИНЫ | C5: РМ | D5: 3:50,07 | F5: =d_2 -> 05.09.2019г. | H5: начало: | I5: 18:00
A6: Бег 1500 м | C6: РЕ | D6: 3:52,47 | H6: окончание:
C7: РР | D7: 3:52,47 | J7: =d_5 -> г. Сочи, ул. Бзугу 2, ст. им. Славы Метревели
A8: № п/п | B8: Фамилия, имя участника | C8: Дата рождения | D8: Территория | E8: Заявленный разряд | F8: Номер участника | G8: Приход | H8: Результат | I8: Место | J8: Примеч.
B9: 1 ЗАБЕГ
A10: 1 | B10: =VLOOKUP($F10,УЧАСТНИКИ!$A$2:$L$1105,3,FALSE) -> Ницина Ольга | C10: =VLOOKUP($F10,УЧАСТНИКИ!$A$2:$L$1105,4,FALSE) -> 11.02.1989 | D10: =VLOOKUP($F10,УЧАСТНИКИ!$A$2:$L$1105,5,FALSE) -> Иркутская область | E10: =VLOOKUP($F10,УЧАСТНИКИ!$A$2:$L$1105,8,FALSE) -> МС | F10: 216
A11: 2 | B11: =VLOOKUP($F11,УЧАСТНИКИ!$A$2:$L$1105,3,FALSE) -> Шухтуева Алена | C11: =VLOOKUP($F11,УЧАСТНИКИ!$A$2:$L$1105,4,FALSE) -> 07.12.1993 | D11: =VLOOKUP($F11,УЧАСТНИКИ!$A$2:$L$1105,5,FALSE) -> Республика Башкортостан | E11: =VLOOKUP($F11,УЧАСТНИКИ!$A$2:$L$1105,8,FALSE) -> МС | F11: 350
A12: 3 | B12: =VLOOKUP($F12,УЧАСТНИКИ!$A$2:$L$1105,3,FALSE) -> Щагина Анна | C12: =VLOOKUP($F12,УЧАСТНИКИ!$A$2:$L$1105,4,FALSE) -> 07.12.1991 | D12: =VLOOKUP($F12,УЧАСТНИКИ!$A$2:$L$1105,5,FALSE) -> Москва | E12: =VLOOKUP($F12,УЧАСТНИКИ!$A$2:$L$1105,8,FALSE) -> МСМК | F12: 51 | J12: Л
A13: 4 | B13: =VLOOKUP($F13,УЧАСТНИКИ!$A$2:$L$1105,3,FALSE) -> Подъянова Анастасия | C13: =VLOOKUP($F13,УЧАСТНИКИ!$A$2:$L$1105,4,FALSE) -> 26.12.1999 | D13: =VLOOKUP($F13,УЧАСТНИКИ!$A$2:$L$1105,5,FALSE) -> Москва Пермский край | E13: =VLOOKUP($F13,УЧАСТНИКИ!$A$2:$L$1105,8,FALSE) -> КМС | F13: 36 | J13: Л
A14: 5 | B14: =VLOOKUP($F14,УЧАСТНИКИ!$A$2:$L$1105,3,FALSE) -> Александрова Дина | C14: =VLOOKUP($F14,УЧАСТНИКИ!$A$2:$L$1105,4,FALSE) -> 09.08.1992 | D14: =VLOOKUP($F14,УЧАСТНИКИ!$A$2:$L$1105,5,FALSE) -> Курская область | E14: =VLOOKUP($F14,УЧАСТНИКИ!$A$2:$L$1105,8,FALSE) -> МС | F14: 257
A15: 6 | B15: =VLOOKUP($F15,УЧАСТНИКИ!$A$2:$L$1105,3,FALSE) -> Гадельшина (Гафурова) Альбина | C15: =VLOOKUP($F15,УЧАСТНИКИ!$A$2:$L$1105,4,FALSE) -> 29.07.1998 | D15: =VLOOKUP($F15,УЧАСТНИКИ!$A$2:$L$1105,5,FALSE) -> Республика Башкортостан | E15: =VLOOKUP($F15,УЧАСТНИКИ!$A$2:$L$1105,8,FALSE) -> КМС | F15: 345
A16: 7 | B16: =VLOOKUP($F16,УЧАСТНИКИ!$A$2:$L$1105,3,FALSE) -> Аввакуменкова Ульяна | C16: =VLOOKUP($F16,УЧАСТНИКИ!$A$2:$L$1105,4,FALSE) -> 21.06.1994 | D16: =VLOOKUP($F16,УЧАСТНИКИ!$A$2:$L$1105,5,FALSE) -> Санкт-Петербург | E16: =VLOOKUP($F16,УЧАСТНИКИ!$A$2:$L$1105,8,FALSE) -> МС | F16: 127 | J16: Л
A17: 8 | B17: =VLOOKUP($F17,УЧАСТНИКИ!$A$2:$L$1105,3,FALSE) -> Угарова (Халеева) Кристина | C17: =VLOOKUP($F17,УЧАСТНИКИ!$A$2:$L$1105,4,FALSE) -> 22.10.1987 | D17: =VLOOKUP($F17,УЧАСТНИКИ!$A$2:$L$1105,5,FALSE) -> Курская область | E17: =VLOOKUP($F17,УЧАСТНИКИ!$A$2:$L$1105,8,FALSE) -> МСМК | F17: 280 | J17: Л
A18: 9 | B18: =VLOOKUP($F18,УЧАСТНИКИ!$A$2:$L$1105,3,FALSE) -> Пахтусова Дина | C18: =VLOOKUP($F18,УЧАСТНИКИ!$A$2:$L$1105,4,FALSE) -> 22.11.1991 | D18: =VLOOKUP($F18,УЧАСТНИКИ!$A$2:$L$1105,5,FALSE) -> Архангельская область | E18: =VLOOKUP($F18,УЧАСТНИКИ!$A$2:$L$1105,8,FALSE) -> КМС | F18: 439
A19: 10 | B19: =VLOOKUP($F19,УЧАСТНИКИ!$A$2:$L$1105,3,FALSE) -> Калина Анастасия | C19: =VLOOKUP($F19,УЧАСТНИКИ!$A$2:$L$1105,4,FALSE) -> 16.02.1994 | D19: =VLOOKUP($F19,УЧАСТНИКИ!$A$2:$L$1105,5,FALSE) -> Московская область Санкт-Петербург | E19: =VLOOKUP($F19,УЧАСТНИКИ!$A$2:$L$1105,8,FALSE) -> МСМК | F19: 148 | J19: Л
A20: 11 | B20: =VLOOKUP($F20,УЧАСТНИКИ!$A$2:$L$1105,3,FALSE) -> Марачёва Ирина | C20: =VLOOKUP($F20,УЧАСТНИКИ!$A$2:$L$1105,4,FALSE) -> 24.09.1984 | D20: =VLOOKUP($F20,УЧАСТНИКИ!$A$2:$L$1105,5,FALSE) -> Калужская область | E20: =VLOOKUP($F20,УЧАСТНИКИ!$A$2:$L$1105,8,FALSE) -> МСМК | F20: 437
A21: 12 | B21: =VLOOKUP($F21,УЧАСТНИКИ!$A$2:$L$1105,3,FALSE) -> Сторожева (Шаповалова) Екатерина | C21: =VLOOKUP($F21,УЧАСТНИКИ!$A$2:$L$1105,4,FALSE) -> 22.01.1993 | D21: =VLOOKUP($F21,УЧАСТНИКИ!$A$2:$L$1105,5,FALSE) -> Московская область Санкт-Петербург | E21: =VLOOKUP($F21,УЧАСТНИКИ!$A$2:$L$1105,8,FALSE) -> МС | F21: 75
A22: 13 | B22: =VLOOKUP($F22,УЧАСТНИКИ!$A$2:$L$1105,3,FALSE) -> Слюнко Екатерина | C22: =VLOOKUP($F22,УЧАСТНИКИ!$A$2:$L$1105,4,FALSE) -> 22.05.2000 | D22: =VLOOKUP($F22,УЧАСТНИКИ!$A$2:$L$1105,5,FALSE) -> Свердловская область | E22: =VLOOKUP($F22,УЧАСТНИКИ!$A$2:$L$1105,8,FALSE) -> КМС | F22: 200
A23: 14 | B23: =VLOOKUP($F23,УЧАСТНИКИ!$A$2:$L$1105,3,FALSE) -> Сычева Анастасия | C23: =VLOOKUP($F23,УЧАСТНИКИ!$A$2:$L$1105,4,FALSE) -> 28.12.1991 | D23: =VLOOKUP($F23,УЧАСТНИКИ!$A$2:$L$1105,5,FALSE) -> Калужская область | E23: =VLOOKUP($F23,УЧАСТНИКИ!$A$2:$L$1105,8,FALSE) -> МС | F23: 438
A24: 15 | B24: =VLOOKUP($F24,УЧАСТНИКИ!$A$2:$L$1105,3,FALSE) -> Аплачкина (Рязанцева) Светлана | C24: =VLOOKUP($F24,УЧАСТНИКИ!$A$2:$L$1105,4,FALSE) -> 28.11.1992 | D24: =VLOOKUP($F24,УЧАСТНИКИ!$A$2:$L$1105,5,FALSE) -> Воронежская область | E24: =VLOOKUP($F24,УЧАСТНИКИ!$A$2:$L$1105,8,FALSE) -> МС | F24: 222
A25: 16 | B25: =VLOOKUP($F25,УЧАСТНИКИ!$A$2:$L$1105,3,FALSE) -> Попова Юлия | C25: =VLOOKUP($F25,УЧАСТНИКИ!$A$2:$L$1105,4,FALSE) -> 03.05.2001 | D25: =VLOOKUP($F25,УЧАСТНИКИ!$A$2:$L$1105,5,FALSE) -> Волгоградская область | E25: =VLOOKUP($F25,УЧАСТНИКИ!$A$2:$L$1105,8,FALSE) -> 1 | F25: 385
A26: 17 | B26: =VLOOKUP($F26,УЧАСТНИКИ!$A$2:$L$1105,3,FALSE) -> Соколенко Екатерина | C26: =VLOOKUP($F26,УЧАСТНИКИ!$A$2:$L$1105,4,FALSE) -> 13.09.1992 | D26: =VLOOKUP($F26,УЧАСТНИКИ!$A$2:$L$1105,5,FALSE) -> Томская область Новосибирская область | E26: =VLOOKUP($F26,УЧАСТНИКИ!$A$2:$L$1105,8,FALSE) -> МСМК | F26: 374
A27: 18 | B27: =VLOOKUP($F27,УЧАСТНИКИ!$A$2:$L$1105,3,FALSE) -> Мурашова Елена | C27: =VLOOKUP($F27,УЧАСТНИКИ!$A$2:$L$1105,4,FALSE) -> 05.10.1987 | D27: =VLOOKUP($F27,УЧАСТНИКИ!$A$2:$L$1105,5,FALSE) -> Краснодарский край Вологодская область | E27: =VLOOKUP($F27,УЧАСТНИКИ!$A$2:$L$1105,8,FALSE) -> МС | F27: 109
A30: Рефери по бегу: | D30: Айнетдинов Г., ССВК, Москва
A31: Ст.судья: | D31: Лобойко Н., ССВК, Ставрополь
A32: Секретарь: | D32: Орлянская С., СС1К, Краснодар

Sheet 5000
A1: =Name_2 -> ВСЕРОССИЙСКАЯ ФЕДЕРАЦИЯ ЛЕГКОЙ АТЛЕТИКИ
A2: СТАРТОВЫЙ ПРОТОКОЛ
A3: =Name_4 -> КОМАНДНЫЙ ЧЕМПИОНАТ РОССИИ
E4: ФИНАЛЬНЫЕ ЗАБЕГИ
A5: =d_4 -> ЖЕНЩИНЫ | C5: РМ | D5: 14:11,15 | F5: =d_1 -> 04.09.2019г. | H5: начало: | I5: 19:30
A6: Бег 5000 м | C6: РЕ | D6: 14:22,34 | H6: окончание:
C7: РР | D7: 14:22,34 | J7: =d_5 -> г. Сочи, ул. Бзугу 2, ст. им. Славы Метревели
A8: № п/п | B8: Фамилия, имя участника | C8: Дата рождения | D8: Территория | E8: Заявленный разряд | F8: Номер участника | G8: Приход | H8: Результат | I8: Место | J8: Примеч.
B9: 1 ЗАБЕГ
A10: 1 | B10: =VLOOKUP($F10,УЧАСТНИКИ!$A$2:$L$1105,3,FALSE) -> Угарова (Халеева) Кристина | C10: =VLOOKUP($F10,УЧАСТНИКИ!$A$2:$L$1105,4,FALSE) -> 22.10.1987 | D10: =VLOOKUP($F10,УЧАСТНИКИ!$A$2:$L$1105,5,FALSE) -> Курская область | E10: =VLOOKUP($F10,УЧАСТНИКИ!$A$2:$L$1105,8,FALSE) -> МСМК | F10: 280
A11: 2 | B11: =VLOOKUP($F11,УЧАСТНИКИ!$A$2:$L$1105,3,FALSE) -> Аввакуменкова Ульяна | C11: =VLOOKUP($F11,УЧАСТНИКИ!$A$2:$L$1105,4,FALSE) -> 21.06.1994 | D11: =VLOOKUP($F11,УЧАСТНИКИ!$A$2:$L$1105,5,FALSE) -> Санкт-Петербург | E11: =VLOOKUP($F11,УЧАСТНИКИ!$A$2:$L$1105,8,FALSE) -> МС | F11: 127
A12: 3 | B12: =VLOOKUP($F12,УЧАСТНИКИ!$A$2:$L$1105,3,FALSE) -> Калина Анастасия | C12: =VLOOKUP($F12,УЧАСТНИКИ!$A$2:$L$1105,4,FALSE) -> 16.02.1994 | D12: =VLOOKUP($F12,УЧАСТНИКИ!$A$2:$L$1105,5,FALSE) -> Московская область Санкт-Петербург | E12: =VLOOKUP($F12,УЧАСТНИКИ!$A$2:$L$1105,8,FALSE) -> МСМК | F12: 148 | J12: Л
A13: 4 | B13: =VLOOKUP($F13,УЧАСТНИКИ!$A$2:$L$1105,3,FALSE) -> Ишова (Горбунова) Екатерина | C13: =VLOOKUP($F13,УЧАСТНИКИ!$A$2:$L$1105,4,FALSE) -> 17.01.1989 | D13: =VLOOKUP($F13,УЧАСТНИКИ!$A$2:$L$1105,5,FALSE) -> Московская область Чувашская республика | E13: =VLOOKUP($F13,УЧАСТНИКИ!$A$2:$L$1105,8,FALSE) -> МСМК | F13: 62
A16: Рефери по бегу: | D16: Айнетдинов Г., ССВК, Москва
A17: Ст.судья: | D17: Лобойко Н., ССВК, Ставрополь
A18: Секретарь: | D18: Орлянская С., СС1К, Краснодар
H31: Х

Sheet 4х100
A1: =Name_2 -> ВСЕРОССИЙСКАЯ ФЕДЕРАЦИЯ ЛЕГКОЙ АТЛЕТИКИ
A2: СТАРТОВЫЙ ПРОТОКОЛ
A3: =Name_4 -> КОМАНДНЫЙ ЧЕМПИОНАТ РОССИИ
E4: ФИНАЛЬНЫЕ ЗАБЕГИ
A5: =d_4 -> ЖЕНЩИНЫ | C5: РМ | D5: 40,82 | F5: =d_1 -> 04.09.2019г. | H5: начало: | I5: 12:55
A6: Эстафета 4х100 м | C6: РЕ | D6: 41,37 | H6: окончание:
C7: РР | D7: 41,49 | J7: =d_5 -> г. Сочи, ул. Бзугу 2, ст. им. Славы Метревели
A8: № п/п | B8: Фамилия, имя участника | C8: Дата рождения | D8: Территория | E8: Заявленный разряд | F8: Номер участника | G8: Приход | H8: Результат | I8: Место | J8: Примеч.
B9: 1 ЗАБЕГ
A10: 1 | B10: =VLOOKUP($F10,УЧАСТНИКИ!$A$2:$L$1105,3,FALSE) -> #N/A | C10: =VLOOKUP($F10,УЧАСТНИКИ!$A$2:$L$1105,4,FALSE) -> #N/A | D10: =VLOOKUP($F10,УЧАСТНИКИ!$A$2:$L$1105,5,FALSE) -> #N/A | E10: =VLOOKUP($F10,УЧАСТНИКИ!$A$2:$L$1105,8,FALSE) -> #N/A | J10: =VLOOKUP($F10,УЧАСТНИКИ!$A$2:$L$1105,9,FALSE) -> #N/A
A11: 1 | B11: =VLOOKUP($F11,УЧАСТНИКИ!$A$2:$L$1105,3,FALSE) -> #N/A | C11: =VLOOKUP($F11,УЧАСТНИКИ!$A$2:$L$1105,4,FALSE) -> #N/A | D11: =VLOOKUP($F11,УЧАСТНИКИ!$A$2:$L$1105,5,FALSE) -> #N/A | E11: =VLOOKUP($F11,УЧАСТНИКИ!$A$2:$L$1105,8,FALSE) -> #N/A | J11: =VLOOKUP($F11,УЧАСТНИКИ!$A$2:$L$1105,9,FALSE) -> #N/A
A12: 1 | B12: =VLOOKUP($F12,УЧАСТНИКИ!$A$2:$L$1105,3,FALSE) -> #N/A | C12: =VLOOKUP($F12,УЧАСТНИКИ!$A$2:$L$1105,4,FALSE) -> #N/A | D12: =VLOOKUP($F12,УЧАСТНИКИ!$A$2:$L$1105,5,FALSE) -> #N/A | E12: =VLOOKUP($F12,УЧАСТНИКИ!$A$2:$L$1105,8,FALSE) -> #N/A | J12: =VLOOKUP($F12,УЧАСТНИКИ!$A$2:$L$1105,9,FALSE) -> #N/A
A13: 1 | B13: =VLOOKUP($F13,УЧАСТНИКИ!$A$2:$L$1105,3,FALSE) -> #N/A | C13: =VLOOKUP($F13,УЧАСТНИКИ!$A$2:$L$1105,4,FALSE) -> #N/A | D13: =VLOOKUP($F13,УЧАСТНИКИ!$A$2:$L$1105,5,FALSE) -> #N/A | E13: =VLOOKUP($F13,УЧАСТНИКИ!$A$2:$L$1105,8,FALSE) -> #N/A | J13: =VLOOKUP($F13,УЧАСТНИКИ!$A$2:$L$1105,9,FALSE) -> #N/A
A14: 1 | B14: =VLOOKUP($F14,УЧАСТНИКИ!$A$2:$L$1105,3,FALSE) -> #N/A | C14: =VLOOKUP($F14,УЧАСТНИКИ!$A$2:$L$1105,4,FALSE) -> #N/A | D14: =VLOOKUP($F14,УЧАСТНИКИ!$A$2:$L$1105,5,FALSE) -> #N/A | E14: =VLOOKUP($F14,УЧАСТНИКИ!$A$2:$L$1105,8,FALSE) -> #N/A | J14: =VLOOKUP($F14,УЧАСТНИКИ!$A$2:$L$1105,9,FALSE) -> #N/A
A15: 1 | B15: =VLOOKUP($F15,УЧАСТНИКИ!$A$2:$L$1105,3,FALSE) -> #N/A | C15: =VLOOKUP($F15,УЧАСТНИКИ!$A$2:$L$1105,4,FALSE) -> #N/A | D15: =VLOOKUP($F15,УЧАСТНИКИ!$A$2:$L$1105,5,FALSE) -> #N/A | E15: =VLOOKUP($F15,УЧАСТНИКИ!$A$2:$L$1105,8,FALSE) -> #N/A | J15: =VLOOKUP($F15,УЧАСТНИКИ!$A$2:$L$1105,9,FALSE) -> #N/A
A17: 2 | B17: =VLOOKUP($F17,УЧАСТНИКИ!$A$2:$L$1105,3,FALSE) -> #N/A | C17: =VLOOKUP($F17,УЧАСТНИКИ!$A$2:$L$1105,4,FALSE) -> #N/A | D17: =VLOOKUP($F17,УЧАСТНИКИ!$A$2:$L$1105,5,FALSE) -> #N/A | E17: =VLOOKUP($F17,УЧАСТНИКИ!$A$2:$L$1105,8,FALSE) -> #N/A | J17: =VLOOKUP($F17,УЧАСТНИКИ!$A$2:$L$1105,9,FALSE) -> #N/A
A18: 2 | B18: =VLOOKUP($F18,УЧАСТНИКИ!$A$2:$L$1105,3,FALSE) -> #N/A | C18: =VLOOKUP($F18,УЧАСТНИКИ!$A$2:$L$1105,4,FALSE) -> #N/A | D18: =VLOOKUP($F18,УЧАСТНИКИ!$A$2:$L$1105,5,FALSE) -> #N/A | E18: =VLOOKUP($F18,УЧАСТНИКИ!$A$2:$L$1105,8,FALSE) -> #N/A | J18: =VLOOKUP($F18,УЧАСТНИКИ!$A$2:$L$1105,9,FALSE) -> #N/A
A19: 2 | B19: =VLOOKUP($F19,УЧАСТНИКИ!$A$2:$L$1105,3,FALSE) -> #N/A | C19: =VLOOKUP($F19,УЧАСТНИКИ!$A$2:$L$1105,4,FALSE) -> #N/A | D19: =VLOOKUP($F19,УЧАСТНИКИ!$A$2:$L$1105,5,FALSE) -> #N/A | E19: =VLOOKUP($F19,УЧАСТНИКИ!$A$2:$L$1105,8,FALSE) -> #N/A | J19: =VLOOKUP($F19,УЧАСТНИКИ!$A$2:$L$1105,9,FALSE) -> #N/A
A20: 2 | B20: =VLOOKUP($F20,УЧАСТНИКИ!$A$2:$L$1105,3,FALSE) -> #N/A | C20: =VLOOKUP($F20,УЧАСТНИКИ!$A$2:$L$1105,4,FALSE) -> #N/A | D20: =VLOOKUP($F20,УЧАСТНИКИ!$A$2:$L$1105,5,FALSE) -> #N/A | E20: =VLOOKUP($F20,УЧАСТНИКИ!$A$2:$L$1105,8,FALSE) -> #N/A | J20: =VLOOKUP($F20,УЧАСТНИКИ!$A$2:$L$1105,9,FALSE) -> #N/A
A21: 2 | B21: =VLOOKUP($F21,УЧАСТНИКИ!$A$2:$L$1105,3,FALSE) -> #N/A | C21: =VLOOKUP($F21,УЧАСТНИКИ!$A$2:$L$1105,4,FALSE) -> #N/A | D21: =VLOOKUP($F21,УЧАСТНИКИ!$A$2:$L$1105,5,FALSE) -> #N/A | E21: =VLOOKUP($F21,УЧАСТНИКИ!$A$2:$L$1105,8,FALSE) -> #N/A | J21: =VLOOKUP($F21,УЧАСТНИКИ!$A$2:$L$1105,9,FALSE) -> #N/A
A22: 2 | B22: =VLOOKUP($F22,УЧАСТНИКИ!$A$2:$L$1105,3,FALSE) -> #N/A | C22: =VLOOKUP($F22,УЧАСТНИКИ!$A$2:$L$1105,4,FALSE) -> #N/A | D22: =VLOOKUP($F22,УЧАСТНИКИ!$A$2:$L$1105,5,FALSE) -> #N/A | E22: =VLOOKUP($F22,УЧАСТНИКИ!$A$2:$L$1105,8,FALSE) -> #N/A | J22: =VLOOKUP($F22,УЧАСТНИКИ!$A$2:$L$1105,9,FALSE) -> #N/A
... A64: 8 | B64: =VLOOKUP($F64,УЧАСТНИКИ!$A$2:$L$1105,3,FALSE) -> #N/A | C64: =VLOOKUP($F64,УЧАСТНИКИ!$A$2:$L$1105,4,FALSE) -> #N/A | D64: =VLOOKUP($F64,УЧАСТНИКИ!$A$2:$L$1105,5,FALSE) -> #N/A | E64: =VLOOKUP($F64,УЧАСТНИКИ!$A$2:$L$1105,8,FALSE) -> #N/A | J64: =VLOOKUP($F64,УЧАСТНИКИ!$A$2:$L$1105,9,FALSE) -> #N/A
B65: 2 ЗАБЕГ
A66: 1 | B66: =VLOOKUP($F66,УЧАСТНИКИ!$A$2:$L$1105,3,FALSE) -> #N/A | C66: =VLOOKUP($F66,УЧАСТНИКИ!$A$2:$L$1105,4,FALSE) -> #N/A | D66: =VLOOKUP($F66,УЧАСТНИКИ!$A$2:$L$1105,5,FALSE) -> #N/A | E66: =VLOOKUP($F66,УЧАСТНИКИ!$A$2:$L$1105,8,FALSE) -> #N/A | J66: =VLOOKUP($F66,УЧАСТНИКИ!$A$2:$L$1105,9,FALSE) -> #N/A
A67: 1 | B67: =VLOOKUP($F67,УЧАСТНИКИ!$A$2:$L$1105,3,FALSE) -> #N/A | C67: =VLOOKUP($F67,УЧАСТНИКИ!$A$2:$L$1105,4,FALSE) -> #N/A | D67: =VLOOKUP($F67,УЧАСТНИКИ!$A$2:$L$1105,5,FALSE) -> #N/A | E67: =VLOOKUP($F67,УЧАСТНИКИ!$A$2:$L$1105,8,FALSE) -> #N/A | J67: =VLOOKUP($F67,УЧАСТНИКИ!$A$2:$L$1105,9,FALSE) -> #N/A
A68: 1 | B68: =VLOOKUP($F68,УЧАСТНИКИ!$A$2:$L$1105,3,FALSE) -> #N/A | C68: =VLOOKUP($F68,УЧАСТНИКИ!$A$2:$L$1105,4,FALSE) -> #N/A | D68: =VLOOKUP($F68,УЧАСТНИКИ!$A$2:$L$1105,5,FALSE) -> #N/A | E68: =VLOOKUP($F68,УЧАСТНИКИ!$A$2:$L$1105,8,FALSE) -> #N/A | J68: =VLOOKUP($F68,УЧАСТНИКИ!$A$2:$L$1105,9,FALSE) -> #N/A
A69: 1 | B69: =VLOOKUP($F69,УЧАСТНИКИ!$A$2:$L$1105,3,FALSE) -> #N/A | C69: =VLOOKUP($F69,УЧАСТНИКИ!$A$2:$L$1105,4,FALSE) -> #N/A | D69: =VLOOKUP($F69,УЧАСТНИКИ!$A$2:$L$1105,5,FALSE) -> #N/A | E69: =VLOOKUP($F69,УЧАСТНИКИ!$A$2:$L$1105,8,FALSE) -> #N/A | J69: =VLOOKUP($F69,УЧАСТНИКИ!$A$2:$L$1105,9,FALSE) -> #N/A
A70: 1 | B70: =VLOOKUP($F70,УЧАСТНИКИ!$A$2:$L$1105,3,FALSE) -> #N/A | C70: =VLOOKUP($F70,УЧАСТНИКИ!$A$2:$L$1105,4,FALSE) -> #N/A | D70: =VLOOKUP($F70,УЧАСТНИКИ!$A$2:$L$1105,5,FALSE) -> #N/A | E70: =VLOOKUP($F70,УЧАСТНИКИ!$A$2:$L$1105,8,FALSE) -> #N/A | J70: =VLOOKUP($F70,УЧАСТНИКИ!$A$2:$L$1105,9,FALSE) -> #N/A
A71: 1 | B71: =VLOOKUP($F71,УЧАСТНИКИ!$A$2:$L$1105,3,FALSE) -> #N/A | C71: =VLOOKUP($F71,УЧАСТНИКИ!$A$2:$L$1105,4,FALSE) -> #N/A | D71: =VLOOKUP($F71,УЧАСТНИКИ!$A$2:$L$1105,5,FALSE) -> #N/A | E71: =VLOOKUP($F71,УЧАСТНИКИ!$A$2:$L$1105,8,FALSE) -> #N/A | J71: =VLOOKUP($F71,УЧАСТНИКИ!$A$2:$L$1105,9,FALSE) -> #N/A
A73: 2 | B73: =VLOOKUP($F73,УЧАСТНИКИ!$A$2:$L$1105,3,FALSE) -> #N/A | C73: =VLOOKUP($F73,УЧАСТНИКИ!$A$2:$L$1105,4,FALSE) -> #N/A | D73: =VLOOKUP($F73,УЧАСТНИКИ!$A$2:$L$1105,5,FALSE) -> #N/A | E73: =VLOOKUP($F73,УЧАСТНИКИ!$A$2:$L$1105,8,FALSE) -> #N/A | J73: =VLOOKUP($F73,УЧАСТНИКИ!$A$2:$L$1105,9,FALSE) -> #N/A
A74: 2 | B74: =VLOOKUP($F74,УЧАСТНИКИ!$A$2:$L$1105,3,FALSE) -> #N/A | C74: =VLOOKUP($F74,УЧАСТНИКИ!$A$2:$L$1105,4,FALSE) -> #N/A | D74: =VLOOKUP($F74,УЧАСТНИКИ!$A$2:$L$1105,5,FALSE) -> #N/A | E74: =VLOOKUP($F74,УЧАСТНИКИ!$A$2:$L$1105,8,FALSE) -> #N/A | J74: =VLOOKUP($F74,УЧАСТНИКИ!$A$2:$L$1105,9,FALSE) -> #N/A
A75: 2 | B75: =VLOOKUP($F75,УЧАСТНИКИ!$A$2:$L$1105,3,FALSE) -> #N/A | C75: =VLOOKUP($F75,УЧАСТНИКИ!$A$2:$L$1105,4,FALSE) -> #N/A | D75: =VLOOKUP($F75,УЧАСТНИКИ!$A$2:$L$1105,5,FALSE) -> #N/A | E75: =VLOOKUP($F75,УЧАСТНИКИ!$A$2:$L$1105,8,FALSE) -> #N/A | J75: =VLOOKUP($F75,УЧАСТНИКИ!$A$2:$L$1105,9,FALSE) -> #N/A
A76: 2 | B76: =VLOOKUP($F76,УЧАСТНИКИ!$A$2:$L$1105,3,FALSE) -> #N/A | C76: =VLOOKUP($F76,УЧАСТНИКИ!$A$2:$L$1105,4,FALSE) -> #N/A | D76: =VLOOKUP($F76,УЧАСТНИКИ!$A$2:$L$1105,5,FALSE) -> #N/A | E76: =VLOOKUP($F76,УЧАСТНИКИ!$A$2:$L$1105,8,FALSE) -> #N/A | J76: =VLOOKUP($F76,УЧАСТНИКИ!$A$2:$L$1105,9,FALSE) -> #N/A
