Workbook
Name CUMM: '4х100'!#REF!
Name CUMM: '4х400'!#REF!
Name CUMM: '800'!#REF!
Name CUMM: #REF!
Name d_1: '1'!$A$1
Name d_2: '1'!$A$2
Name d_3: '1'!$A$3
Name d_4: '1'!$A$4
Name d_5: '1'!$A$5
Name d_6: '1'!$A$6
Name d_7: '1'!$A$7
Name date_1: '1'!$A$1
Name Name_1: '1'!$A$9
Name Name_2: '1'!$A$10
Name Name_3: '1'!$A$11
Name Name_4: '1'!$A$12
Name Name_5: '1'!$A$12
Name Name_6: '1'!$A$13
Name OLE_LINK1: УЧАСТНИКИ!$D$2
Name Tit_1: '1'!$A$9

Sheet 1
A1: 04.09.2019г.
A2: 05.09.2019г.
A3: 06.09.2019г.
A4: МУЖЧИНЫ
A5: г. Сочи, ул. Бзугу 2, ст. им. Славы Метревели
A6: t° +26 вл. 61%
A7: г. Сочи, Адлерский район, ул. Ленина СК "Юность"
A9: МИНИСТЕРСТВО ФИЗИЧЕСКОЙ КУЛЬТУРЫ И СПОРТА РОССИЙСКОЙ ФЕДЕРАЦИИ
A10: ВСЕРОССИЙСКАЯ ФЕДЕРАЦИЯ ЛЕГКОЙ АТЛЕТИКИ
A11: МИНИСТЕРСТВО ФИЗИЧЕСКОЙ КУЛЬТУРЫ И СПОРТА КРАСНОДАРСКОГО КРАЯ
A12: КОМАНДНЫЙ ЧЕМПИОНАТ РОССИИ
A13: ФЕДЕРАЦИЯ ЛЕГКОЙ АТЛЕТИКИ КРАСНОДАРСКОГО КРАЯ
A21: дисквал п.п. 162.7 | C21: фальстарт

Sheet УЧАСТНИКИ
B1: №№ | C1: ФАМИЛИЯ ИМЯ УЧАСТНИКА | D1: Год.рожд | E1: НАЗВАНИЕ КОМАНДЫ | F1: ВИД | G1: Округ | H1: Разряд | I1: лично | J1: ТРЕНЕР(ы) | K1: ДСО Ведомство
A2: 332 | C2: Надыров Ильдар | D2: 22.04.1994 | E2: Алтайский край | F2: Бег с препятствиями 3 000 м | H2: КМС | I2: К | J2: Клевцова Н.В., Буцык Ю.Г., Пудов Е.Н. | K2: КГБ ПОУ "Алтайское училище олимпийского резерва"
A3: 351 | C3: Радионов Максим | D3: 12.01.2000 | E3: Астраханская область | F3: Бег 100 м | H3: КМС | I3: К | J3: Шевель Н.А. | K3: ГБУ АО "ОСШ"
A4: 351 | C4: Радионов Максим | D4: 12.01.2000 | E4: Астраханская область | F4: Бег 200 м | H4: КМС | I4: К | J4: Шевель Н.А. | K4: ГБУ АО "ОСШ"
A5: 284 | C5: Яковлев Всеволод | D5: 20.05.1996 | E5: Белгородская область | F5: Бег 400 м | H5: КМС | I5: К | J5: Горлов А.Н. | K5: Динамо МБУ СШОР №3 г.Белгорода
A6: 395 | C6: Болотов Сергей | D6: 09.04.1996 | E6: Владимирская область | F6: Бег 1500 м | H6: КМС | I6: К | J6: Герцен Е.А., Саков А.П. | K6: МБУ "СШОР №4"
A7: 395 | C7: Болотов Сергей | D7: 09.04.1996 | E7: Владимирская область | F7: Эстафетный бег 4 х 400 м | H7: КМС | I7: К | J7: Герцен Е.А., Саков А.П. | K7: МБУ "СШОР №4"
A8: 398 | C8: Мельников Максим | D8: 11.03.2002 | E8: Владимирская область | F8: Эстафетный бег 4 х 400 м | H8: 1 | I8: К | J8: Бабайлова О.А. | K8: МБУ "СШОР № 4"
A9: 399 | C9: Семенов Геннадий | D9: 05.08.1997 | E9: Владимирская область | F9: Метание диска | H9: КМС | I9: К | J9: Харченко А.Б., Котов С.В. | K9: МБУ "СШОР №4"
A10: 379 | C10: Зеленский Андрей | D10: 22.01.1997 | E10: Волгоградская область | F10: Бег 100 м | H10: МС | I10: К | J10: Кайдалин В.С. | K10: ГБУ ВО "СШОР по легкой атлетике"
A11: 384 | C11: Лобков Максим | D11: 20.05.1997 | E11: Волгоградская область | F11: Барьерный бег 110 м | H11: МС | I11: К | J11: Кайдалин В.С. | K11: ВС ГБУ ВО "СШОР по легкой атлетике"
A12: 6 | C12: Богданов Денис | D12: 02.04.1991 | E12: Волгоградская область Москва | F12: Прыжок в длину | H12: МС | I12: К | J12: Кузин В.В., Кобышева Е.Л., Кудряшов Ю.А. | K12: ГАУ ВО ЦСП "Олимп"
A13: 252 | C13: Новослугин Максим | D13: 21.08.1995 | E13: Вологодская область | F13: Эстафетный бег 4 х 100 м | H13: МС | I13: К | J13: Франков А.А., Воробьева Н.Н., Синицкий А.Д. | K13: Профсоюзы АУ ВО "СШ Витязь"
... A29: 420 | C29: Рязанцев Александр | D29: 01.12.1993 | E29: Воронежская область | F29: Бег 1500 м | H29: КМС | I29: К | J29: Аплачкин А.И., Осипов С.А. | K29: ГБУ ВО "СШОР №21"
C30: Ткаченко Никита | D30: 17.05.1997 | E30: Воронежская область | F30: Метание диска | H30: КМС | I30: К | J30: Ткаченко А.П. | K30: ГБУ ВО "СШОР №21"
A31: 422 | C31: Трубников Иван | D31: 25.02.1996 | E31: Воронежская область | F31: Барьерный бег 400 м | H31: КМС | I31: К | J31: Бабкин А.П., Демиденкова Г.А. | K31: ГБУ ВО "СШОР №21"
A32: 423 | C32: Шабаев Ринат | D32: 28.11.1996 | E32: Воронежская область | F32: Бег 800 м | H32: КМС | I32: К | J32: Бабкин А.П., Демиденкова Г.А. | K32: ГБУ ВО "СШОР №21"
A33: 212 | C33: Идрисов Михаил | D33: 21.06.1988 | E33: Иркутская область | F33: Бег 100 м | H33: МСМК | I33: К | J33: Жилкин Г.М., Идрисов Н.М., Потапов А.Ю. | K33: ОГКУ СШОР "ШВСМ"
A34: 212 | C34: Идрисов Михаил | D34: 21.06.1988 | E34: Иркутская область | F34: Эстафетный бег 4 х 100 м | H34: МСМК | I34: К | J34: Жилкин Г.М., Идрисов Н.М., Потапов А.Ю. | K34: ОГКУ СШОР "ШВСМ"
A35: 213 | C35: Идрисов Тимур | D35: 03.02.1999 | E35: Иркутская область | F35: Прыжок в длину | H35: КМС | I35: К | J35: Идрисов Н.М., Потапов А.Ю. | K35: ОГКУ СШОР "ШВСМ", ОГБУ "ЦСПСКИО", ФГБУ ПОО ГУОР г.Иркутска
A36: 214 | C36: Коноваленко Александр | D36: 12.03.1989 | E36: Иркутская область | F36: Толкание ядра | H36: КМС | I36: К | J36: Зайцев А.И. | K36: ОГКУ СШОР "ШВСМ"
A37: 215 | C37: Копырялов Артём | D37: 15.11.1993 | E37: Иркутская область | F37: Бег 200 м | H37: МС | I37: К | J37: Потапов А.Ю., Потапова Н.М. | K37: ОГКУ СШОР "ШВСМ"
A38: 215 | C38: Копырялов Артём | D38: 15.11.1993 | E38: Иркутская область | F38: Эстафетный бег 4 х 100 м | H38: МС | I38: К | J38: Потапов А.Ю., Потапова Н.М. | K38: ОГКУ СШОР "ШВСМ"
A39: 217 | C39: Овсянников Никита | D39: 15.02.2001 | E39: Иркутская область | F39: Эстафетный бег 4 х 100 м | H39: КМС | I39: К | J39: Потапов А.Ю. | K39: МБУ "СШОР "Ангара", ОГКУ СШОР "ШВСМ"
A40: 218 | C40: Резвых Вадим | D40: 09.11.1994 | E40: Иркутская область | F40: Барьерный бег 400 м | H40: МС | I40: К | J40: Потапов А.Ю., Потапова Н.М., Черкашина А.В. | K40: ОГКУ СШОР "ШВСМ", МБУ "СШОР "Ангара"
A41: 219 | C41: Скулин Владислав | D41: 26.06.2002 | E41: Иркутская область | F41: Эстафетный бег 4 х 100 м | H41: КМС | I41: К | J41: Гербич Т.В., Крицкова А.Г. | K41: ОГКУ СШОР "ШВСМ", ФГБУ ПОО ГУОР г.Иркутска, МБОУ ДО г.Иркутска "ДЮСШ №3"
A42: 196 | C42: Зотеев Евгений | D42: 24.08.1991 | E42: Кабардино-Балкарская республика Краснодарский край | F42: Метание копья | H42: МС | I42: К | J42: Артамонов А.О., Синицын А.В. | K42: ГКУ КБР "СШОР"
... A44: 179 | C44: Спиридонов Олег | D44: 16.08.1999 | E44: Калининградская область Санкт-Петербург | F44: Эстафетный бег 4 х 100 м | H44: МС | I44: К | J44: Антунович Г.П., Шабанов Г.К., Смирягин Е.В. | K44: МБУ "СШОР №4 по легкой атлетике", ГБПОУ КО УОР, ГБУ "СШОР" "Академия легкой атлетики Санкт-Петербурга"
C45: Батчаев Ильяс | D45: 28.03.1991 | E45: Карачаево-Черкесская республика | F45: Метание диска | H45: МС | I45: К | J45: Вяльцева В.Г., Васильев С.В. | K45: РГБУ "ЦСП КЧР"
A46: 342 | C46: Высочин Никита | D46: 20.10.1996 | E46: Кемеровская область | F46: Барьерный бег 400 м | H46: МС | I46: К | J46: Деревягин А.А., Кислых М.В. | K46: ГБФСУ КО "СШОР по легкой атлетике им. В.А.Савенкова"
A47: 343 | C47: Хайлов Андрей | D47: 03.07.1989 | E47: Кемеровская область | F47: Барьерный бег 110 м | H47: МС | I47: К | J47: Хайлов С.Н. | K47: ВС ГБФСУ КО "СШОР по легкой атлетике им. В.А.Савенкова"
A48: 88 | C48: Дога Евгений | D48: 08.03.1984 | E48: Краснодарский край | F48: Бег 5 000 м | H48: МС | I48: К | J48: Гуков А.О. | K48: ГБУ КК "РЦСП по легкой атлетике", ГБУ КК "ЦОП по легкой атлетике"
A49: 93 | C49: Калашников Юрий | D49: 06.01.1999 | E49: Краснодарский край | F49: Бег с препятствиями 3 000 м | H49: КМС | I49: К | J49: Злобин В.П. | K49: ГБУ КК "РЦСП по легкой атлетике", МБУ ДО "ДЮСШ №1"
A50: 94 | C50: Кипор Арсений | D50: 23.09.2004 | E50: Краснодарский край | F50: Бег 100 м | H50: 1 | I50: Л | J50: Толстиков В.И. | K50: МБОУ СОШ №8 Туапсинский район
A51: 95 | C51: Кислица Алексей | D51: 06.07.1999 | E51: Краснодарский край | F51: Метание диска | H51: МС | I51: К | J51: Синицын А.В., Левин М.А. | K51: ГБУ КК "РЦСП по легкой атлетике", ГБУ КК "ЦОП по легкой атлетике"
C52: Кропочев Константин | D52: 17.03.1999 | E52: Краснодарский край | F52: Бег 100 м | H52: КМС | I52: Л | J52: Малышев В.В. | K52: ГБУ КК "ЦОП по легкой атлетике", ГБУ КК "РЦСП по легкой атлетике"
A53: 100 | C53: Кропочев Константин | D53: 17.03.1999 | E53: Краснодарский край | F53: Бег 200 м | H53: КМС | I53: Л | J53: Малышев В.В. | K53: ГБУ КК "ЦОП по легкой атлетике", ГБУ КК "РЦСП по легкой атлетике"
A54: 104 | C54: Масютенко Александр | D54: 27.04.1998 | E54: Краснодарский край | F54: Бег 200 м | H54: КМС | I54: К | J54: Романов А.В. | K54: ГБУ КК "ЦОП по легкой атлетике", ГБУ КК "РЦСП по легкой атлетике"
A55: 104 | C55: Масютенко Александр | D55: 27.04.1998 | E55: Краснодарский край | F55: Бег 400 м | H55: КМС | I55: К | J55: Романов А.В. | K55: ГБУ КК "ЦОП по легкой атлетике", ГБУ КК "РЦСП по легкой атлетике"
A56: 107 | C56: Михайловский Сергей | D56: 20.05.1987 | E56: Краснодарский край | F56: Прыжок в длину | H56: МСМК | I56: Л | J56: Котова Т.В. | K56: ГБУ КК "ЦОП по легкой атлетике", ГБУ КК "РЦСП по легкой атлетике"
A57: 110 | C57: Неделько Антон | D57: 14.04.1994 | E57: Краснодарский край | F57: Прыжок в длину | H57: КМС | I57: Л | J57: Лыткин А.В. | K57: ГБУ КК "РЦСП по легкой атлетике", ГБУ КК "ЦОП по легкой атлетике"
A58: 112 | C58: Панчехин Сергей | D58: 11.05.1997 | E58: Краснодарский край | F58: Толкание ядра | H58: МС | I58: Л | J58: Синицын А.В., Левин М.А. | K58: ВС ГБУ КК "ЦОП по легкой атлетике", ГБУ КК "РЦСП по легкой атлетике"
A59: 113 | C59: Перегудов Степан | D59: 30.01.1994 | E59: Краснодарский край | F59: Бег 1500 м | H59: МС | I59: К | J59: Иванов Н.А., Черкашин Н.Н. | K59: ГБУ КК "РЦСП по легкой атлетике", ГБУ КК "ЦОП по легкой атлетике"
A60: 113 | C60: Перегудов Степан | D60: 30.01.1994 | E60: Краснодарский край | F60: Бег 800 м | H60: МС | I60: К | J60: Иванов Н.А., Черкашин Н.Н. | K60: ГБУ КК "РЦСП по легкой атлетике", ГБУ КК "ЦОП по легкой атлетике"
A61: 114 | C61: Переметов Данил | D61: 18.03.1995 | E61: Краснодарский край | F61: Бег 400 м | H61: МС | I61: К | J61: Курина Н.М. | K61: ГБУ КК "РЦСП по легкой атлетике", МБУ СШОР "Венец"
A62: 114 | C62: Переметов Данил | D62: 18.03.1995 | E62: Краснодарский край | F62: Бег 800 м | H62: МС | I62: К | J62: Курина Н.М. | K62: ГБУ КК "РЦСП по легкой атлетике", МБУ СШОР "Венец"
A63: 117 | C63: Полянский Сергей | D63: 29.10.1989 | E63: Краснодарский край | F63: Прыжок в длину | H63: МСМК | I63: Л | J63: Иванов Е.В., Цыплаков А.В. | K63: ГБУ КК "РЦСП по легкой атлетике", ГБУ КК "ЦОП по легкой атлетике"
A64: 119 | C64: Ряполов Анатолий | D64: 31.01.1997 | E64: Краснодарский край | F64: Прыжок в длину | H64: МС | I64: Л | J64: Наймит И.В. | K64: ГБУ КК "ЦОП по легкой атлетике", ГБУ КК "РЦСП по легкой атлетике"
... A73: 122 | C73: Цыплаков Даниил | D73: 29.07.1992 | E73: Краснодарский край Хабаровский край | F73: Прыжок в высоту | H73: МСМК | I73: К | J73: Цыплаков А.В., Лупатов Р.М. | K73: ВС ГБУ КК "РЦСП по легкой атлетике", ГБУ КК "ЦОП по легкой атлетике", МБОУ ДО ДЮСШ "Максимум"
A74: 390 | C74: Перестюк Руслан | D74: 22.04.1991 | E74: Краснодарский край ЮФО (К) | F74: Бег 100 м | H74: МСМК | J74: Турский А.А., Смирнов В.Ф. | K74: ГБУ КК "РЦСП по легкой атлетике", ГБУ КК "ЦОП по легкой атлетике", МБУ "СШОР по легкой атлетике №2 г.Симферополь"
A75: 115 | C75: Плохой Евгений | D75: 04.07.1998 | E75: Краснодарский край ЮФО (К) | F75: Бег 100 м | H75: КМС | I75: К | J75: Азизьян А.А., Селицкая С.С. | K75: ГБУ КК "ЦОП по легкой атлетике", ГБУ КК"РЦСП по легкой атлетике", МБУ "СШОР №2 г. Симферополь"
A76: 115 | C76: Плохой Евгений | D76: 04.07.1998 | E76: Краснодарский край ЮФО (К) | F76: Бег 200 м | H76: КМС | I76: К | J76: Азизьян А.А., Селицкая С.С. | K76: ГБУ КК "ЦОП по легкой атлетике", ГБУ КК"РЦСП по легкой атлетике", МБУ "СШОР №2 г. Симферополь"
A77: 121 | C77: Сокирский Алексей | D77: 16.03.1985 | E77: Краснодарский край ЮФО (К) | F77: Метание молота | H77: МСМК | I77: К | J77: Полешко В.В. | K77: Динамо ГБУ КК "РЦСП по легкой атлетике", ГБУ РК "СШОР по легкой атлетике №1"
A78: 221 | C78: Бубнов Денис | D78: 05.07.2000 | E78: Красноярский край | F78: Бег 200 м | H78: КМС | I78: К | J78: Панихин И.И., Мочалов С.С., Мочалова Е.С. | K78: КГАУ "РЦСП "Академия летних видов спорта", МАУ "СШОР "Спутник"
A79: 221 | C79: Бубнов Денис | D79: 05.07.2000 | E79: Красноярский край | F79: Прыжок в длину | H79: КМС | I79: К | J79: Панихин И.И., Мочалов С.С., Мочалова Е.С. | K79: КГАУ "РЦСП "Академия летних видов спорта", МАУ "СШОР "Спутник"
C80: Ветлугин Сергей | D80: 17.11.1995 | E80: Красноярский край | F80: Барьерный бег 110 м | H80: КМС | I80: К | J80: Артемьев П.П., Мажуга Т.Ю. | K80: КГАУ "РЦСП "Академия летних видов спорта", МАУ "СШОР "Спутник"
A81: 223 | C81: Муравьев Виталий | D81: 01.10.1993 | E81: Красноярский край | F81: Прыжок в длину | H81: МС | I81: К | J81: Артемьев П.П. | K81: КГАУ "РЦСП "Академия летних видов спорта", МАУ "СШОР "Спутник"
A82: 223 | C82: Муравьев Виталий | D82: 01.10.1993 | E82: Красноярский край | F82: Прыжок тройной | H82: МС | I82: К | J82: Артемьев П.П. | K82: КГАУ "РЦСП "Академия летних видов спорта", МАУ "СШОР "Спутник"
A83: 224 | C83: Петров Михаил | D83: 23.06.2000 | E83: Красноярский край | F83: Прыжок в длину | H83: 1 | I83: К | J83: Киреева О.В. | K83: КГАУ "РЦСП "Академия летних видов спорта", МАУ "СШОР "Спутник"
C84: Чабан Никита | D84: 01.04.1997 | E84: Красноярский край | F84: Бег 100 м | H84: МС | I84: К | J84: Артемьев П.П. | K84: КГАУ "РЦСП "Академия летних видов спорта", МАУ "СШОР "Спутник"
A85: 83 | C85: Чалый Тимофей | D85: 07.04.1994 | E85: Красноярский край Московская область | F85: Барьерный бег 400 м | H85: МСМК | I85: К | J85: Носов С.В., Вашкевич И.Е., Чалая Е.М. | K85: ВС КГАУ "РЦСП "Академия летних видов спорта", МАУ "СШОР "Спутник", ГБУ МО "ЦСП ОВС"
A86: 83 | C86: Чалый Тимофей | D86: 07.04.1994 | E86: Красноярский край Московская область | F86: Эстафетный бег 4 х 400 м | H86: МСМК | I86: К | J86: Носов С.В., Вашкевич И.Е., Чалая Е.М. | K86: ВС КГАУ "РЦСП "Академия летних видов спорта", МАУ "СШОР "Спутник", ГБУ МО "ЦСП ОВС"
A87: 256 | C87: Агибалов Александр | D87: 10.06.1998 | E87: Курская область | F87: Бег 100 м | H87: КМС | I87: К | J87: Прошин Е.К., Хмеленко Н.Н. | K87: ОБУ СШОР "Урожай"
A88: 256 | C88: Агибалов Александр | D88: 10.06.1998 | E88: Курская область | F88: Эстафетный бег 4 х 100 м | H88: КМС | I88: К | J88: Прошин Е.К., Хмеленко Н.Н. | K88: ОБУ СШОР "Урожай"
A89: 263 | C89: Дроздов Артем | D89: 26.04.2000 | E89: Курская область | F89: Бег 200 м | H89: 1 | I89: Л | J89: Прошин Е.К., Мещерякова Л.М. | K89: ОБУ СШОР "Урожай"
A90: 263 | C90: Дроздов Артем | D90: 26.04.2000 | E90: Курская область | F90: Эстафетный бег 4 х 400 м | H90: 1 | I90: Л | J90: Прошин Е.К., Мещерякова Л.М. | K90: ОБУ СШОР "Урожай"
A91: 264 | C91: Емельянов Руслан | D91: 03.03.1997 | E91: Курская область | F91: Бег 100 м | H91: КМС | I91: К | J91: Прошин Е.К. | K91: ОБУ СШОР "Урожай"
C92: Емельянов Руслан | D92: 03.03.1997 | E92: Курская область | F92: Бег 200 м | H92: КМС | I92: К | J92: Прошин Е.К. | K92: ОБУ СШОР "Урожай"
A93: 264 | C93: Емельянов Руслан | D93: 03.03.1997 | E93: Курская область | F93: Эстафетный бег 4 х 100 м | H93: КМС | I93: К | J93: Прошин Е.К. | K93: ОБУ СШОР "Урожай"
A94: 265 | C94: Катунин Евгений | D94: 24.11.1999 | E94: Курская область | F94: Эстафетный бег 4 х 100 м | H94: 1 | I94: К | J94: Прошин Е.К., Мишина С.В. | K94: ОБУ СШОР "Урожай", МБУ ДО "ДЮСШ "Виктория"
C95: Латунов Никита | D95: 23.08.2002 | E95: Курская область | F95: Бег 400 м | H95: 2 | I95: Л | K95: МБУ ДО "ДЮСШ №5"
A96: 264 | C96: Латунов Никита | D96: 23.08.2002 | E96: Курская область | F96: Эстафетный бег 4 х 400 м | H96: 2 | I96: Л | K96: МБУ ДО "ДЮСШ №5"
A97: 268 | C97: Лыков Илья | D97: 10.07.2001 | E97: Курская область | F97: Бег 100 м | H97: 1 | I97: Л | J97: Прошин Е.К | K97: МБУ ДО "ДЮСШ №5", ОБУ СШОР "Урожай"
A98: 268 | C98: Лыков Илья | D98: 10.07.2001 | E98: Курская область | F98: Эстафетный бег 4 х 100 м | H98: 1 | I98: Л | J98: Прошин Е.К. | K98: МБУ ДО "ДЮСШ №5", ОБУ СШОР "Урожай"
A99: 269 | C99: Лямин Кирилл | D99: 17.05.1996 | E99: Курская область | F99: Бег 400 м | H99: КМС | I99: К | J99: Прошин Е.К. | K99: ОБУ СШОР "Урожай"
A100: 269 | C100: Лямин Кирилл | D100: 17.05.1996 | E100: Курская область | F100: Эстафетный бег 4 х 400 м | H100: КМС | I100: К | J100: Прошин Е.К. | K100: ОБУ СШОР "Урожай"
A101: 271 | C101: Некрасов Никита | D101: 14.04.2002 | E101: Курская область | F101: Эстафетный бег 4 х 400 м | H101: 1 | I101: Л | J101: Шумаков Е.Г. | K101: МБУ ДО «ДЮСШ №1»
A102: 272 | C102: Пахомов Пётр | D102: 04.02.1992 | E102: Курская область | F102: Бег 100 м | H102: МС | I102: К | J102: Тихонов А.В., Тихонова М.С. | K102: МБУ "СШОР" г.Железногорск
A103: 272 | C103: Пахомов Пётр | D103: 04.02.1992 | E103: Курская область | F103: Эстафетный бег 4 х 100 м | H103: МС | I103: К | J103: Тихонов А.В., Тихонова М.С. | K103: МБУ "СШОР" г.Железногорск
C104: Проскурин Никита | D104: 14.06.1997 | E104: Курская область | F104: Бег 200 м | H104: КМС | I104: Л | J104: Шаева Т.И. | K104: ОБУ СШОР "Урожай"
A105: 275 | C105: Проскурин Никита | D105: 14.06.1997 | E105: Курская область | F105: Бег 400 м | H105: КМС | I105: Л | J105: Шаева Т.И. | K105: ОБУ СШОР "Урожай"
A106: 275 | C106: Проскурин Никита | D106: 14.06.1997 | E106: Курская область | F106: Эстафетный бег 4 х 400 м | H106: КМС | I106: Л | J106: Шаева Т.И. | K106: ОБУ СШОР "Урожай"
C107: Чернышов Андрей | D107: 05.05.1993 | E107: Курская область Белгородская область | F107: Бег 400 м | H107: МС | I107: К | J107: Чернышёв А.И., Яковлева Е.Н., Горлов А.Н. | K107: ОБУ СШОР "Урожай", ОГБУ "ЦСП" Белгородской области, МБУ СШОР №3 г.Белгорода
A108: 281 | C108: Чернышов Андрей | D108: 05.05.1993 | E108: Курская область Белгородская область | F108: Эстафетный бег 4 х 400 м | H108: МС | I108: К | J108: Чернышёв А.И., Яковлева Е.Н., Горлов А.Н. | K108: ОБУ СШОР "Урожай", ОГБУ "ЦСП" Белгородской области, МБУ СШОР №3 г.Белгорода
A109: 246 | C109: Чурилов Антон | D109: 28.04.1998 | E109: Липецкая область | F109: Эстафетный бег 4 х 100 м | H109: КМС | I109: К | J109: Шевякин Ф.А. | K109: МБУ "СШОР №5"
A110: 243 | C110: Огарков Денис | D110: 03.12.1993 | E110: Липецкая область Брянская область | F110: Эстафетный бег 4 х 100 м | H110: МСМК | I110: К | J110: Филатова Л.А., Рощупкина Н.В., Трубин Ю.Н. | K110: Динамо ГБУ ЛО ЦСП, ГБУ БО СШОР по легкой атлетике им. В.Д. Самотесова
A111: 7 | C111: Бутенко Виктор | D111: 10.03.1993 | E111: Москва | F111: Метание диска | H111: МСМК | I111: Л | J111: Запольский Д.В., Пестрецова С.Н., Моргачев В.Н. | K111: ВС ГБУ "ЦОП по легкой атлетике" Москомспорта
A112: 43 | C112: Сысоев Алексей | D112: 08.03.1985 | E112: Москва | F112: Метание диска | H112: МСМК | I112: Л | J112: Васильев С.В. | K112: ГБУ "ЦОП по легкой атлетике" Москомспорта
A113: 44 | C113: Ткач Роман | D113: 28.07.1991 | E113: Москва | F113: Прыжок в длину | H113: КМС | I113: Л | J113: Кудрявцев В.Е. | K113: -
A114: 44 | C114: Ткач Роман | D114: 28.07.1991 | E114: Москва | F114: Прыжок тройной | H114: КМС | I114: Л | J114: Кудрявцев В.Е. | K114: -
A115: 19 | C115: Клопцов Юрий | D115: 22.12.1989 | E115: Москва Алтайский край | F115: Бег с препятствиями 3 000 м | H115: МСМК | I115: Л | J115: Телятников М.М., Мануйлов С.И. | K115: ГБУ "ЦОП по легкой атлетике" Москомспорта, КАУ "ЦСП"
A116: 25 | C116: Кунц Евгений | D116: 21.04.1993 | E116: Москва Алтайский край | F116: Бег 1500 м | H116: МСМК | I116: Л | J116: Осипов С.А., Мануйлов С.И. | K116: ГБУ "ЦОП по легкой атлетике" Москомспорта
A117: 25 | C117: Кунц Евгений | D117: 21.04.1993 | E117: Москва Алтайский край | F117: Бег 5 000 м | H117: МСМК | I117: Л | J117: Осипов С.А., Мануйлов С.И. | K117: ГБУ "ЦОП по легкой атлетике" Москомспорта
A118: 10 | C118: Горохов Георгий | D118: 20.04.1993 | E118: Москва Брянская область | F118: Прыжок с шестом | H118: МСМК | I118: Л | J118: Хайкин В.Е., Кивимяги М.В. | K118: ВС ГБУ "ЦОП по легкой атлетике" Москомспорта, ГБУ БО СШОР "Русь"
A119: 41 | C119: Сехин Александр | D119: 05.06.1992 | E119: Москва Брянская область | F119: Прыжок в длину | H119: МС | I119: Л | J119: Тантлевский Е.В., Шемигон С.С., Шемигон О.С. | K119: ГБУ "ЦОП по легкой атлетике" Москомспорта, ГБУ БО СШОР по легкой атлетике им. В.Д. Самотесова
... A121: 1 | C121: Акименко Михаил | D121: 06.12.1995 | E121: Москва Кабардино-Балкарская республика | F121: Прыжок в высоту | H121: МС | I121: Л | J121: Филатова Г.Н., Артамонов А.О. | K121: ГБУ "ФСО "Юность Москвы" Москомспорта, ГКУ КБР "СШОР"
C122: Евсеенков Никита | D122: 01.03.1995 | E122: Москва Калужская область | F122: Барьерный бег 400 м | H122: МС | J122: Вдовин М.В., Алиев Г.Г. | K122: ГБУ "ЦОП по легкой атлетике" Москомспорта
A123: 237 | C123: Ефанов Алексей | D123: 06.10.1997 | E123: Москва Липецкая область | F123: Прыжок в высоту | H123: МС | J123: Трухина И.М., Друзь В.С. | K123: ГБУ "ЦОП по легкой атлетике" Москомспорта, МБУ "СШОР №5"
A124: 238 | C124: Ефремов Андрей | D124: 15.08.1996 | E124: Москва Липецкая область | F124: Эстафетный бег 4 х 100 м | H124: МС | J124: Филатова Л.А., Литовченко И.Е., Рощупкина Н.В. | K124: Динамо ГБУ "ФСО "Юность Москвы" Москомспорта, МБУ "СШОР №5"
A125: 240 | C125: Касторных Василий | D125: 31.03.2001 | E125: Москва Липецкая область | F125: Эстафетный бег 4 х 100 м | H125: КМС | J125: Назарова Н.В., Шевякин Ф.А. | K125: ГБУ "ЦОП по легкой атлетике" Москомспорта
...

Sheet 800
A1: =Name_2 -> ВСЕРОССИЙСКАЯ ФЕДЕРАЦИЯ ЛЕГКОЙ АТЛЕТИКИ
A2: СТАРТОВЫЙ ПРОТОКОЛ
A3: =Name_4 -> КОМАНДНЫЙ ЧЕМПИОНАТ РОССИИ
E4: ФИНАЛЬНЫЕ ЗАБЕГИ
A5: =d_4 -> МУЖЧИНЫ | C5: РМ | D5: 1:40,91 | F5: =d_3 -> 06.09.2019г. | H5: начало: | I5: 17:45
A6: Бег 800 м | C6: РЕ | D6: 1:41,11 | H6: окончание:
C7: РР | D7: 1:42,47 | J7: =d_5 -> г. Сочи, ул. Бзугу 2, ст. им. Славы Метревели
A8: № п/п | B8: Фамилия, имя участника | C8: Дата рождения | D8: Территория | E8: Заявленный разряд | F8: Номер участника | G8: Приход | H8: Результат | I8: Место | J8: Примеч.
B9: 1 ЗАБЕГ
A10: 1 | B10: =VLOOKUP($F10,УЧАСТНИКИ!$A$2:$L$1105,3,FALSE) -> Харитонов Алексей | C10: =VLOOKUP($F10,УЧАСТНИКИ!$A$2:$L$1105,4,FALSE) -> 04.07.1991 | D10: =VLOOKUP($F10,УЧАСТНИКИ!$A$2:$L$1105,5,FALSE) -> Санкт-Петербург | E10: =VLOOKUP($F10,УЧАСТНИКИ!$A$2:$L$1105,8,FALSE) -> МС | F10: 182
A11: 2 | B11: =VLOOKUP($F11,УЧАСТНИКИ!$A$2:$L$1105,3,FALSE) -> Козлов Антон | C11: =VLOOKUP($F11,УЧАСТНИКИ!$A$2:$L$1105,4,FALSE) -> 09.03.1994 | D11: =VLOOKUP($F11,УЧАСТНИКИ!$A$2:$L$1105,5,FALSE) -> Ямало-Ненецкий автономный округ Владимирская область | E11: =VLOOKUP($F11,УЧАСТНИКИ!$A$2:$L$1105,8,FALSE) -> МС | F11: 396
A12: 3 | B12: =VLOOKUP($F12,УЧАСТНИКИ!$A$2:$L$1105,3,FALSE) -> Бутранов Алексей | C12: =VLOOKUP($F12,УЧАСТНИКИ!$A$2:$L$1105,4,FALSE) -> 18.08.1991 | D12: =VLOOKUP($F12,УЧАСТНИКИ!$A$2:$L$1105,5,FALSE) -> Московская область | E12: =VLOOKUP($F12,УЧАСТНИКИ!$A$2:$L$1105,8,FALSE) -> МС | F12: 55 | J12: Л
A13: 4 | B13: =VLOOKUP($F13,УЧАСТНИКИ!$A$2:$L$1105,3,FALSE) -> Толоконников Константин | C13: =VLOOKUP($F13,УЧАСТНИКИ!$A$2:$L$1105,4,FALSE) -> 26.02.1996 | D13: =VLOOKUP($F13,УЧАСТНИКИ!$A$2:$L$1105,5,FALSE) -> Московская область Ростовская область | E13: =VLOOKUP($F13,УЧАСТНИКИ!$A$2:$L$1105,8,FALSE) -> МСМК | F13: 78
A14: 5 | B14: =VLOOKUP($F14,УЧАСТНИКИ!$A$2:$L$1105,3,FALSE) -> Вербицкий Николай | C14: =VLOOKUP($F14,УЧАСТНИКИ!$A$2:$L$1105,4,FALSE) -> 16.12.1995 | D14: =VLOOKUP($F14,УЧАСТНИКИ!$A$2:$L$1105,5,FALSE) -> Московская область Республика Бурятия | E14: =VLOOKUP($F14,УЧАСТНИКИ!$A$2:$L$1105,8,FALSE) -> МС | F14: 56 | J14: Л
A15: 6 | B15: =VLOOKUP($F15,УЧАСТНИКИ!$A$2:$L$1105,3,FALSE) -> Шабаев Ринат | C15: =VLOOKUP($F15,УЧАСТНИКИ!$A$2:$L$1105,4,FALSE) -> 28.11.1996 | D15: =VLOOKUP($F15,УЧАСТНИКИ!$A$2:$L$1105,5,FALSE) -> Воронежская область | E15: =VLOOKUP($F15,УЧАСТНИКИ!$A$2:$L$1105,8,FALSE) -> КМС | F15: 423
A16: 6 | B16: =VLOOKUP($F16,УЧАСТНИКИ!$A$2:$L$1105,3,FALSE) -> Малахов Евгений | C16: =VLOOKUP($F16,УЧАСТНИКИ!$A$2:$L$1105,4,FALSE) -> 26.06.1996 | D16: =VLOOKUP($F16,УЧАСТНИКИ!$A$2:$L$1105,5,FALSE) -> Самарская область | E16: =VLOOKUP($F16,УЧАСТНИКИ!$A$2:$L$1105,8,FALSE) -> МС | F16: 194
A17: 7 | B17: =VLOOKUP($F17,УЧАСТНИКИ!$A$2:$L$1105,3,FALSE) -> Стрельников Данил | C17: =VLOOKUP($F17,УЧАСТНИКИ!$A$2:$L$1105,4,FALSE) -> 03.05.1992 | D17: =VLOOKUP($F17,УЧАСТНИКИ!$A$2:$L$1105,5,FALSE) -> Республика Башкортостан | E17: =VLOOKUP($F17,УЧАСТНИКИ!$A$2:$L$1105,8,FALSE) -> МС | F17: 349
A18: 8 | B18: =VLOOKUP($F18,УЧАСТНИКИ!$A$2:$L$1105,3,FALSE) -> Переметов Данил | C18: =VLOOKUP($F18,УЧАСТНИКИ!$A$2:$L$1105,4,FALSE) -> 18.03.1995 | D18: =VLOOKUP($F18,УЧАСТНИКИ!$A$2:$L$1105,5,FALSE) -> Краснодарский край | E18: =VLOOKUP($F18,УЧАСТНИКИ!$A$2:$L$1105,8,FALSE) -> МС | F18: 114
B19: 2 ЗАБЕГ
A20: 1 | B20: =VLOOKUP($F20,УЧАСТНИКИ!$A$2:$L$1105,3,FALSE) -> Березин Иван | C20: =VLOOKUP($F20,УЧАСТНИКИ!$A$2:$L$1105,4,FALSE) -> 12.06.1990 | D20: =VLOOKUP($F20,УЧАСТНИКИ!$A$2:$L$1105,5,FALSE) -> Санкт-Петербург | E20: =VLOOKUP($F20,УЧАСТНИКИ!$A$2:$L$1105,8,FALSE) -> МС | F20: 132 | J20: Л
A21: 2 | B21: =VLOOKUP($F21,УЧАСТНИКИ!$A$2:$L$1105,3,FALSE) -> Куверин Александр | C21: =VLOOKUP($F21,УЧАСТНИКИ!$A$2:$L$1105,4,FALSE) -> 14.06.1995 | D21: =VLOOKUP($F21,УЧАСТНИКИ!$A$2:$L$1105,5,FALSE) -> Санкт-Петербург | E21: =VLOOKUP($F21,УЧАСТНИКИ!$A$2:$L$1105,8,FALSE) -> МС | F21: 154 | J21: Л
A22: 3 | B22: =VLOOKUP($F22,УЧАСТНИКИ!$A$2:$L$1105,3,FALSE) -> Петров Тимофей | C22: =VLOOKUP($F22,УЧАСТНИКИ!$A$2:$L$1105,4,FALSE) -> 25.08.1988 | D22: =VLOOKUP($F22,УЧАСТНИКИ!$A$2:$L$1105,5,FALSE) -> Санкт-Петербург | E22: =VLOOKUP($F22,УЧАСТНИКИ!$A$2:$L$1105,8,FALSE) -> МС | F22: 166
A23: 4 | B23: =VLOOKUP($F23,УЧАСТНИКИ!$A$2:$L$1105,3,FALSE) -> Перегудов Степан | C23: =VLOOKUP($F23,УЧАСТНИКИ!$A$2:$L$1105,4,FALSE) -> 30.01.1994 | D23: =VLOOKUP($F23,УЧАСТНИКИ!$A$2:$L$1105,5,FALSE) -> Краснодарский край | E23: =VLOOKUP($F23,УЧАСТНИКИ!$A$2:$L$1105,8,FALSE) -> МС | F23: 113 | J23: Л
A24: 5 | B24: =VLOOKUP($F24,УЧАСТНИКИ!$A$2:$L$1105,3,FALSE) -> Мазный Богдан | C24: =VLOOKUP($F24,УЧАСТНИКИ!$A$2:$L$1105,4,FALSE) -> 26.10.1999 | D24: =VLOOKUP($F24,УЧАСТНИКИ!$A$2:$L$1105,5,FALSE) -> ЮФО (К) | E24: =VLOOKUP($F24,УЧАСТНИКИ!$A$2:$L$1105,8,FALSE) -> КМС | F24: 389
A25: 6 | B25: =VLOOKUP($F25,УЧАСТНИКИ!$A$2:$L$1105,3,FALSE) -> Селиванов Олег | C25: =VLOOKUP($F25,УЧАСТНИКИ!$A$2:$L$1105,4,FALSE) -> 07.05.1994 | D25: =VLOOKUP($F25,УЧАСТНИКИ!$A$2:$L$1105,5,FALSE) -> Санкт-Петербург | E25: =VLOOKUP($F25,УЧАСТНИКИ!$A$2:$L$1105,8,FALSE) -> КМС | F25: 175 | J25: Л
A26: 7 | B26: =VLOOKUP($F26,УЧАСТНИКИ!$A$2:$L$1105,3,FALSE) -> Колоколенков Михаил | C26: =VLOOKUP($F26,УЧАСТНИКИ!$A$2:$L$1105,4,FALSE) -> 14.11.1995 | D26: =VLOOKUP($F26,УЧАСТНИКИ!$A$2:$L$1105,5,FALSE) -> Рязанская область | E26: =VLOOKUP($F26,УЧАСТНИКИ!$A$2:$L$1105,8,FALSE) -> КМС | F26: 363
A27: 8 | B27: =VLOOKUP($F27,УЧАСТНИКИ!$A$2:$L$1105,3,FALSE) -> Хворостухин Павел | C27: =VLOOKUP($F27,УЧАСТНИКИ!$A$2:$L$1105,4,FALSE) -> 18.06.1986 | D27: =VLOOKUP($F27,УЧАСТНИКИ!$A$2:$L$1105,5,FALSE) -> Санкт-Петербург Москва | E27: =VLOOKUP($F27,УЧАСТНИКИ!$A$2:$L$1105,8,FALSE) -> МС | F27: 183 | J27: Л
B28: 3 ЗАБЕГ
A29: 1 | B29: =VLOOKUP($F29,УЧАСТНИКИ!$A$2:$L$1105,3,FALSE) -> Самиев Алексей | C29: =VLOOKUP($F29,УЧАСТНИКИ!$A$2:$L$1105,4,FALSE) -> 23.03.2001 | D29: =VLOOKUP($F29,УЧАСТНИКИ!$A$2:$L$1105,5,FALSE) -> Республика Башкортостан | E29: =VLOOKUP($F29,УЧАСТНИКИ!$A$2:$L$1105,8,FALSE) -> 1 | F29: 347
A30: 2 | B30: =VLOOKUP($F30,УЧАСТНИКИ!$A$2:$L$1105,3,FALSE) -> Бекяшев Михаил | C30: =VLOOKUP($F30,УЧАСТНИКИ!$A$2:$L$1105,4,FALSE) -> 15.05.1997 | D30: =VLOOKUP($F30,УЧАСТНИКИ!$A$2:$L$1105,5,FALSE) -> Санкт-Петербург | E30: =VLOOKUP($F30,УЧАСТНИКИ!$A$2:$L$1105,8,FALSE) -> КМС | F30: 131 | J30: =VLOOKUP($F30,УЧАСТНИКИ!$A$2:$L$1105,9,FALSE) -> Л
A31: 3 | B31: =VLOOKUP($F31,УЧАСТНИКИ!$A$2:$L$1105,3,FALSE) -> Носков Владислав | C31: =VLOOKUP($F31,УЧАСТНИКИ!$A$2:$L$1105,4,FALSE) -> 19.12.1997 | D31: =VLOOKUP($F31,УЧАСТНИКИ!$A$2:$L$1105,5,FALSE) -> Санкт-Петербург | E31: =VLOOKUP($F31,УЧАСТНИКИ!$A$2:$L$1105,8,FALSE) -> КМС | F31: 164 | J31: Л
A32: 4 | B32: =VLOOKUP($F32,УЧАСТНИКИ!$A$2:$L$1105,3,FALSE) -> Морозкин Вадим | C32: =VLOOKUP($F32,УЧАСТНИКИ!$A$2:$L$1105,4,FALSE) -> 30.08.1997 | D32: =VLOOKUP($F32,УЧАСТНИКИ!$A$2:$L$1105,5,FALSE) -> Республика Мордовия | E32: =VLOOKUP($F32,УЧАСТНИКИ!$A$2:$L$1105,8,FALSE) -> КМС | F32: 297
A33: 5 | B33: =VLOOKUP($F33,УЧАСТНИКИ!$A$2:$L$1105,3,FALSE) -> Постников Валерий | C33: =VLOOKUP($F33,УЧАСТНИКИ!$A$2:$L$1105,4,FALSE) -> 25.06.1991 | D33: =VLOOKUP($F33,УЧАСТНИКИ!$A$2:$L$1105,5,FALSE) -> Санкт-Петербург | E33: =VLOOKUP($F33,УЧАСТНИКИ!$A$2:$L$1105,8,FALSE) -> КМС | F33: 172 | J33: Л
A34: 6 | B34: =VLOOKUP($F34,УЧАСТНИКИ!$A$2:$L$1105,3,FALSE) -> Смирнов Михаил | C34: =VLOOKUP($F34,УЧАСТНИКИ!$A$2:$L$1105,4,FALSE) -> 05.08.1997 | D34: =VLOOKUP($F34,УЧАСТНИКИ!$A$2:$L$1105,5,FALSE) -> Санкт-Петербург | E34: =VLOOKUP($F34,УЧАСТНИКИ!$A$2:$L$1105,8,FALSE) -> КМС | F34: 177 | J34: Л
A35: 6 | B35: =VLOOKUP($F35,УЧАСТНИКИ!$A$2:$L$1105,3,FALSE) -> Фурса Тимур | C35: =VLOOKUP($F35,УЧАСТНИКИ!$A$2:$L$1105,4,FALSE) -> 15.01.2001 | D35: =VLOOKUP($F35,УЧАСТНИКИ!$A$2:$L$1105,5,FALSE) -> ЮФО (К) | E35: =VLOOKUP($F35,УЧАСТНИКИ!$A$2:$L$1105,8,FALSE) -> 1 | F35: 394 | J35: Л
A36: 7 | B36: =VLOOKUP($F36,УЧАСТНИКИ!$A$2:$L$1105,3,FALSE) -> Ганичев Сергей | C36: =VLOOKUP($F36,УЧАСТНИКИ!$A$2:$L$1105,4,FALSE) -> 16.11.2001 | D36: =VLOOKUP($F36,УЧАСТНИКИ!$A$2:$L$1105,5,FALSE) -> Санкт-Петербург | E36: =VLOOKUP($F36,УЧАСТНИКИ!$A$2:$L$1105,8,FALSE) -> 1 | F36: 139 | J36: Л
A37: 8 | B37: =VLOOKUP($F37,УЧАСТНИКИ!$A$2:$L$1105,3,FALSE) -> Черненко Илья | C37: =VLOOKUP($F37,УЧАСТНИКИ!$A$2:$L$1105,4,FALSE) -> 30.08.1998 | D37: =VLOOKUP($F37,УЧАСТНИКИ!$A$2:$L$1105,5,FALSE) -> Санкт-Петербург | E37: =VLOOKUP($F37,УЧАСТНИКИ!$A$2:$L$1105,8,FALSE) -> КМС | F37: 185 | J37: Л
B38: 4 ЗАБЕГ
A39: 1 | B39: =VLOOKUP($F39,УЧАСТНИКИ!$A$2:$L$1105,3,FALSE) -> #N/A | C39: =VLOOKUP($F39,УЧАСТНИКИ!$A$2:$L$1105,4,FALSE) -> #N/A | D39: =VLOOKUP($F39,УЧАСТНИКИ!$A$2:$L$1105,5,FALSE) -> #N/A | E39: =VLOOKUP($F39,УЧАСТНИКИ!$A$2:$L$1105,8,FALSE) -> #N/A | J39: =VLOOKUP($F39,УЧАСТНИКИ!$A$2:$L$1105,9,FALSE) -> #N/A
A40: 2 | B40: =VLOOKUP($F40,УЧАСТНИКИ!$A$2:$L$1105,3,FALSE) -> #N/A | C40: =VLOOKUP($F40,УЧАСТНИКИ!$A$2:$L$1105,4,FALSE) -> #N/A | D40: =VLOOKUP($F40,УЧАСТНИКИ!$A$2:$L$1105,5,FALSE) -> #N/A | E40: =VLOOKUP($F40,УЧАСТНИКИ!$A$2:$L$1105,8,FALSE) -> #N/A | J40: =VLOOKUP($F40,УЧАСТНИКИ!$A$2:$L$1105,9,FALSE) -> #N/A
A41: 3 | B41: =VLOOKUP($F41,УЧАСТНИКИ!$A$2:$L$1105,3,FALSE) -> #N/A | C41: =VLOOKUP($F41,УЧАСТНИКИ!$A$2:$L$1105,4,FALSE) -> #N/A | D41: =VLOOKUP($F41,УЧАСТНИКИ!$A$2:$L$1105,5,FALSE) -> #N/A | E41: =VLOOKUP($F41,УЧАСТНИКИ!$A$2:$L$1105,8,FALSE) -> #N/A | J41: =VLOOKUP($F41,УЧАСТНИКИ!$A$2:$L$1105,9,FALSE) -> #N/A
A42: 4 | B42: =VLOOKUP($F42,УЧАСТНИКИ!$A$2:$L$1105,3,FALSE) -> #N/A | C42: =VLOOKUP($F42,УЧАСТНИКИ!$A$2:$L$1105,4,FALSE) -> #N/A | D42: =VLOOKUP($F42,УЧАСТНИКИ!$A$2:$L$1105,5,FALSE) -> #N/A | E42: =VLOOKUP($F42,УЧАСТНИКИ!$A$2:$L$1105,8,FALSE) -> #N/A | J42: =VLOOKUP($F42,УЧАСТНИКИ!$A$2:$L$1105,9,FALSE) -> #N/A
A43: 5 | B43: =VLOOKUP($F43,УЧАСТНИКИ!$A$2:$L$1105,3,FALSE) -> #N/A | C43: =VLOOKUP($F43,УЧАСТНИКИ!$A$2:$L$1105,4,FALSE) -> #N/A | D43: =VLOOKUP($F43,УЧАСТНИКИ!$A$2:$L$1105,5,FALSE) -> #N/A | E43: =VLOOKUP($F43,УЧАСТНИКИ!$A$2:$L$1105,8,FALSE) -> #N/A | J43: =VLOOKUP($F43,УЧАСТНИКИ!$A$2:$L$1105,9,FALSE) -> #N/A
A44: 6 | B44: =VLOOKUP($F44,УЧАСТНИКИ!$A$2:$L$1105,3,FALSE) -> #N/A | C44: =VLOOKUP($F44,УЧАСТНИКИ!$A$2:$L$1105,4,FALSE) -> #N/A | D44: =VLOOKUP($F44,УЧАСТНИКИ!$A$2:$L$1105,5,FALSE) -> #N/A | E44: =VLOOKUP($F44,УЧАСТНИКИ!$A$2:$L$1105,8,FALSE) -> #N/A | J44: =VLOOKUP($F44,УЧАСТНИКИ!$A$2:$L$1105,9,FALSE) -> #N/A
A45: 7 | B45: =VLOOKUP($F45,УЧАСТНИКИ!$A$2:$L$1105,3,FALSE) -> #N/A | C45: =VLOOKUP($F45,УЧАСТНИКИ!$A$2:$L$1105,4,FALSE) -> #N/A | D45: =VLOOKUP($F45,УЧАСТНИКИ!$A$2:$L$1105,5,FALSE) -> #N/A | E45: =VLOOKUP($F45,УЧАСТНИКИ!$A$2:$L$1105,8,FALSE) -> #N/A | J45: =VLOOKUP($F45,УЧАСТНИКИ!$A$2:$L$1105,9,FALSE) -> #N/A
A46: 8 | B46: =VLOOKUP($F46,УЧАСТНИКИ!$A$2:$L$1105,3,FALSE) -> #N/A | C46: =VLOOKUP($F46,УЧАСТНИКИ!$A$2:$L$1105,4,FALSE) -> #N/A | D46: =VLOOKUP($F46,УЧАСТНИКИ!$A$2:$L$1105,5,FALSE) -> #N/A | E46: =VLOOKUP($F46,УЧАСТНИКИ!$A$2:$L$1105,8,FALSE) -> #N/A | J46: =VLOOKUP($F46,УЧАСТНИКИ!$A$2:$L$1105,9,FALSE) -> #N/A
B47: 5 ЗАБЕГ
A48: 1 | B48: =VLOOKUP($F48,УЧАСТНИКИ!$A$2:$L$1105,3,FALSE) -> #N/A | C48: =VLOOKUP($F48,УЧАСТНИКИ!$A$2:$L$1105,4,FALSE) -> #N/A | D48: =VLOOKUP($F48,УЧАСТНИКИ!$A$2:$L$1105,5,FALSE) -> #N/A | E48: =VLOOKUP($F48,УЧАСТНИКИ!$A$2:$L$1105,8,FALSE) -> #N/A | J48: =VLOOKUP($F48,УЧАСТНИКИ!$A$2:$L$1105,9,FALSE) -> #N/A
A49: 2 | B49: =VLOOKUP($F49,УЧАСТНИКИ!$A$2:$L$1105,3,FALSE) -> #N/A | C49: =VLOOKUP($F49,УЧАСТНИКИ!$A$2:$L$1105,4,FALSE) -> #N/A | D49: =VLOOKUP($F49,УЧАСТНИКИ!$A$2:$L$1105,5,FALSE) -> #N/A | E49: =VLOOKUP($F49,УЧАСТНИКИ!$A$2:$L$1105,8,FALSE) -> #N/A | J49: =VLOOKUP($F49,УЧАСТНИКИ!$A$2:$L$1105,9,FALSE) -> #N/A
A50: 3 | B50: =VLOOKUP($F50,УЧАСТНИКИ!$A$2:$L$1105,3,FALSE) -> #N/A | C50: =VLOOKUP($F50,УЧАСТНИКИ!$A$2:$L$1105,4,FALSE) -> #N/A | D50: =VLOOKUP($F50,УЧАСТНИКИ!$A$2:$L$1105,5,FALSE) -> #N/A | E50: =VLOOKUP($F50,УЧАСТНИКИ!$A$2:$L$1105,8,FALSE) -> #N/A | J50: =VLOOKUP($F50,УЧАСТНИКИ!$A$2:$L$1105,9,FALSE) -> #N/A
A51: 4 | B51: =VLOOKUP($F51,УЧАСТНИКИ!$A$2:$L$1105,3,FALSE) -> #N/A | C51: =VLOOKUP($F51,УЧАСТНИКИ!$A$2:$L$1105,4,FALSE) -> #N/A | D51: =VLOOKUP($F51,УЧАСТНИКИ!$A$2:$L$1105,5,FALSE) -> #N/A | E51: =VLOOKUP($F51,УЧАСТНИКИ!$A$2:$L$1105,8,FALSE) -> #N/A | J51: =VLOOKUP($F51,УЧАСТНИКИ!$A$2:$L$1105,9,FALSE) -> #N/A
A52: 5 | B52: =VLOOKUP($F52,УЧАСТНИКИ!$A$2:$L$1105,3,FALSE) -> #N/A | C52: =VLOOKUP($F52,УЧАСТНИКИ!$A$2:$L$1105,4,FALSE) -> #N/A | D52: =VLOOKUP($F52,УЧАСТНИКИ!$A$2:$L$1105,5,FALSE) -> #N/A | E52: =VLOOKUP($F52,УЧАСТНИКИ!$A$2:$L$1105,8,FALSE) -> #N/A | J52: =VLOOKUP($F52,УЧАСТНИКИ!$A$2:$L$1105,9,FALSE) -> #N/A
A53: 6 | B53: =VLOOKUP($F53,УЧАСТНИКИ!$A$2:$L$1105,3,FALSE) -> #N/A | C53: =VLOOKUP($F53,УЧАСТНИКИ!$A$2:$L$1105,4,FALSE) -> #N/A | D53: =VLOOKUP($F53,УЧАСТНИКИ!$A$2:$L$1105,5,FALSE) -> #N/A | E53: =VLOOKUP($F53,УЧАСТНИКИ!$A$2:$L$1105,8,FALSE) -> #N/A | J53: =VLOOKUP($F53,УЧАСТНИКИ!$A$2:$L$1105,9,FALSE) -> #N/A
A54: 7 | B54: =VLOOKUP($F54,УЧАСТНИКИ!$A$2:$L$1105,3,FALSE) -> #N/A | C54: =VLOOKUP($F54,УЧАСТНИКИ!$A$2:$L$1105,4,FALSE) -> #N/A | D54: =VLOOKUP($F54,УЧАСТНИКИ!$A$2:$L$1105,5,FALSE) -> #N/A | E54: =VLOOKUP($F54,УЧАСТНИКИ!$A$2:$L$1105,8,FALSE) -> #N/A | J54: =VLOOKUP($F54,УЧАСТНИКИ!$A$2:$L$1105,9,FALSE) -> #N/A
A55: 8 | B55: =VLOOKUP($F55,УЧАСТНИКИ!$A$2:$L$1105,3,FALSE) -> #N/A | C55: =VLOOKUP($F55,УЧАСТНИКИ!$A$2:$L$1105,4,FALSE) -> #N/A | D55: =VLOOKUP($F55,УЧАСТНИКИ!$A$2:$L$1105,5,FALSE) -> #N/A | E55: =VLOOKUP($F55,УЧАСТНИКИ!$A$2:$L$1105,8,FALSE) -> #N/A | J55: =VLOOKUP($F55,УЧАСТНИКИ!$A$2:$L$1105,9,FALSE) -> #N/A
B56: 6 ЗАБЕГ
A57: 1 | B57: =VLOOKUP($F57,УЧАСТНИКИ!$A$2:$L$1105,3,FALSE) -> #N/A | C57: =VLOOKUP($F57,УЧАСТНИКИ!$A$2:$L$1105,4,FALSE) -> #N/A | D57: =VLOOKUP($F57,УЧАСТНИКИ!$A$2:$L$1105,5,FALSE) -> #N/A | E57: =VLOOKUP($F57,УЧАСТНИКИ!$A$2:$L$1105,8,FALSE) -> #N/A | J57: =VLOOKUP($F57,УЧАСТНИКИ!$A$2:$L$1105,9,FALSE) -> #N/A
A58: 2 | B58: =VLOOKUP($F58,УЧАСТНИКИ!$A$2:$L$1105,3,FALSE) -> #N/A | C58: =VLOOKUP($F58,УЧАСТНИКИ!$A$2:$L$1105,4,FALSE) -> #N/A | D58: =VLOOKUP($F58,УЧАСТНИКИ!$A$2:$L$1105,5,FALSE) -> #N/A | E58: =VLOOKUP($F58,УЧАСТНИКИ!$A$2:$L$1105,8,FALSE) -> #N/A | J58: =VLOOKUP($F58,УЧАСТНИКИ!$A$2:$L$1105,9,FALSE) -> #N/A
A59: 3 | B59: =VLOOKUP($F59,УЧАСТНИКИ!$A$2:$L$1105,3,FALSE) -> #N/A | C59: =VLOOKUP($F59,УЧАСТНИКИ!$A$2:$L$1105,4,FALSE) -> #N/A | D59: =VLOOKUP($F59,УЧАСТНИКИ!$A$2:$L$1105,5,FALSE) -> #N/A | E59: =VLOOKUP($F59,УЧАСТНИКИ!$A$2:$L$1105,8,FALSE) -> #N/A | J59: =VLOOKUP($F59,УЧАСТНИКИ!$A$2:$L$1105,9,FALSE) -> #N/A
A60: 4 | B60: =VLOOKUP($F60,УЧАСТНИКИ!$A$2:$L$1105,3,FALSE) -> #N/A | C60: =VLOOKUP($F60,УЧАСТНИКИ!$A$2:$L$1105,4,FALSE) -> #N/A | D60: =VLOOKUP($F60,УЧАСТНИКИ!$A$2:$L$1105,5,FALSE) -> #N/A | E60: =VLOOKUP($F60,УЧАСТНИКИ!$A$2:$L$1105,8,FALSE) -> #N/A | J60: =VLOOKUP($F60,УЧАСТНИКИ!$A$2:$L$1105,9,FALSE) -> #N/A
A61: 5 | B61: =VLOOKUP($F61,УЧАСТНИКИ!$A$2:$L$1105,3,FALSE) -> #N/A | C61: =VLOOKUP($F61,УЧАСТНИКИ!$A$2:$L$1105,4,FALSE) -> #N/A | D61: =VLOOKUP($F61,УЧАСТНИКИ!$A$2:$L$1105,5,FALSE) -> #N/A | E61: =VLOOKUP($F61,УЧАСТНИКИ!$A$2:$L$1105,8,FALSE) -> #N/A | J61: =VLOOKUP($F61,УЧАСТНИКИ!$A$2:$L$1105,9,FALSE) -> #N/A
A62: 6 | B62: =VLOOKUP($F62,УЧАСТНИКИ!$A$2:$L$1105,3,FALSE) -> #N/A | C62: =VLOOKUP($F62,УЧАСТНИКИ!$A$2:$L$1105,4,FALSE) -> #N/A | D62: =VLOOKUP($F62,УЧАСТНИКИ!$A$2:$L$1105,5,FALSE) -> #N/A | E62: =VLOOKUP($F62,УЧАСТНИКИ!$A$2:$L$1105,8,FALSE) -> #N/A | J62: =VLOOKUP($F62,УЧАСТНИКИ!$A$2:$L$1105,9,FALSE) -> #N/A
A63: 7 | B63: =VLOOKUP($F63,УЧАСТНИКИ!$A$2:$L$1105,3,FALSE) -> #N/A | C63: =VLOOKUP($F63,УЧАСТНИКИ!$A$2:$L$1105,4,FALSE) -> #N/A | D63: =VLOOKUP($F63,УЧАСТНИКИ!$A$2:$L$1105,5,FALSE) -> #N/A | E63: =VLOOKUP($F63,УЧАСТНИКИ!$A$2:$L$1105,8,FALSE) -> #N/A | J63: =VLOOKUP($F63,УЧАСТНИКИ!$A$2:$L$1105,9,FALSE) -> #N/A
A64: 8 | B64: =VLOOKUP($F64,УЧАСТНИКИ!$A$2:$L$1105,3,FALSE) -> #N/A | C64: =VLOOKUP($F64,УЧАСТНИКИ!$A$2:$L$1105,4,FALSE) -> #N/A | D64: =VLOOKUP($F64,УЧАСТНИКИ!$A$2:$L$1105,5,FALSE) -> #N/A | E64: =VLOOKUP($F64,УЧАСТНИКИ!$A$2:$L$1105,8,FALSE) -> #N/A | J64: =VLOOKUP($F64,УЧАСТНИКИ!$A$2:$L$1105,9,FALSE) -> #N/A
A68: Рефери по бегу: | D68: Айнетдинов Г., ССВК, Москва
A69: Ст.судья: | D69: Лобойко Н., ССВК, Ставрополь
A70: Секретарь: | D70: Орлянская С., СС1К, Краснодар

Sheet 4х100
A1: =Name_2 -> ВСЕРОССИЙСКАЯ ФЕДЕРАЦИЯ ЛЕГКОЙ АТЛЕТИКИ
A2: СТАРТОВЫЙ ПРОТОКОЛ
A3: =Name_4 -> КОМАНДНЫЙ ЧЕМПИОНАТ РОССИИ
E4: ФИНАЛЬНЫЕ ЗАБЕГИ
A5: =d_4 -> МУЖЧИНЫ | C5: РМ | D5: 36,84 | F5: =d_3 -> 06.09.2019г. | H5: начало: | I5: 17:15
A6: Эстафета 4х100 м | C6: РЕ | D6: 37,73 | H6: окончание:
C7: РР | D7: 38,46 | J7: =d_5 -> г. Сочи, ул. Бзугу 2, ст. им. Славы Метревели
A8: № п/п | B8: Фамилия, имя участника | C8: Дата рождения | D8: Территория | E8: Заявленный разряд | F8: Номер участника | G8: Приход | H8: Результат | I8: Место | J8: Примеч.
B9: 1 ЗАБЕГ
A10: 1 | B10: =VLOOKUP($F10,УЧАСТНИКИ!$A$2:$L$1105,3,FALSE) -> #N/A | C10: =VLOOKUP($F10,УЧАСТНИКИ!$A$2:$L$1105,4,FALSE) -> #N/A | D10: =VLOOKUP($F10,УЧАСТНИКИ!$A$2:$L$1105,5,FALSE) -> #N/A | E10: =VLOOKUP($F10,УЧАСТНИКИ!$A$2:$L$1105,8,FALSE) -> #N/A | J10: =VLOOKUP($F10,УЧАСТНИКИ!$A$2:$L$1105,9,FALSE) -> #N/A
A11: 1 | B11: =VLOOKUP($F11,УЧАСТНИКИ!$A$2:$L$1105,3,FALSE) -> #N/A | C11: =VLOOKUP($F11,УЧАСТНИКИ!$A$2:$L$1105,4,FALSE) -> #N/A | D11: =VLOOKUP($F11,УЧАСТНИКИ!$A$2:$L$1105,5,FALSE) -> #N/A | E11: =VLOOKUP($F11,УЧАСТНИКИ!$A$2:$L$1105,8,FALSE) -> #N/A | J11: =VLOOKUP($F11,УЧАСТНИКИ!$A$2:$L$1105,9,FALSE) -> #N/A
A12: 1 | B12: =VLOOKUP($F12,УЧАСТНИКИ!$A$2:$L$1105,3,FALSE) -> #N/A | C12: =VLOOKUP($F12,УЧАСТНИКИ!$A$2:$L$1105,4,FALSE) -> #N/A | D12: =VLOOKUP($F12,УЧАСТНИКИ!$A$2:$L$1105,5,FALSE) -> #N/A | E12: =VLOOKUP($F12,УЧАСТНИКИ!$A$2:$L$1105,8,FALSE) -> #N/A | J12: =VLOOKUP($F12,УЧАСТНИКИ!$A$2:$L$1105,9,FALSE) -> #N/A
A13: 1 | B13: =VLOOKUP($F13,УЧАСТНИКИ!$A$2:$L$1105,3,FALSE) -> #N/A | C13: =VLOOKUP($F13,УЧАСТНИКИ!$A$2:$L$1105,4,FALSE) -> #N/A | D13: =VLOOKUP($F13,УЧАСТНИКИ!$A$2:$L$1105,5,FALSE) -> #N/A | E13: =VLOOKUP($F13,УЧАСТНИКИ!$A$2:$L$1105,8,FALSE) -> #N/A | J13: =VLOOKUP($F13,УЧАСТНИКИ!$A$2:$L$1105,9,FALSE) -> #N/A
A14: 1 | B14: =VLOOKUP($F14,УЧАСТНИКИ!$A$2:$L$1105,3,FALSE) -> #N/A | C14: =VLOOKUP($F14,УЧАСТНИКИ!$A$2:$L$1105,4,FALSE) -> #N/A | D14: =VLOOKUP($F14,УЧАСТНИКИ!$A$2:$L$1105,5,FALSE) -> #N/A | E14: =VLOOKUP($F14,УЧАСТНИКИ!$A$2:$L$1105,8,FALSE) -> #N/A | J14: =VLOOKUP($F14,УЧАСТНИКИ!$A$2:$L$1105,9,FALSE) -> #N/A
A15: 1 | B15: =VLOOKUP($F15,УЧАСТНИКИ!$A$2:$L$1105,3,FALSE) -> #N/A | C15: =VLOOKUP($F15,УЧАСТНИКИ!$A$2:$L$1105,4,FALSE) -> #N/A | D15: =VLOOKUP($F15,УЧАСТНИКИ!$A$2:$L$1105,5,FALSE) -> #N/A | E15: =VLOOKUP($F15,УЧАСТНИКИ!$A$2:$L$1105,8,FALSE) -> #N/A | J15: =VLOOKUP($F15,УЧАСТНИКИ!$A$2:$L$1105,9,FALSE) -> #N/A
A17: 2 | B17: =VLOOKUP($F17,УЧАСТНИКИ!$A$2:$L$1105,3,FALSE) -> Скулин Владислав | C17: =VLOOKUP($F17,УЧАСТНИКИ!$A$2:$L$1105,4,FALSE) -> 26.06.2002 | D17: =VLOOKUP($F17,УЧАСТНИКИ!$A$2:$L$1105,5,FALSE) -> Иркутская область | E17: =VLOOKUP($F17,УЧАСТНИКИ!$A$2:$L$1105,8,FALSE) -> КМС | F17: 219
A18: 2 | B18: =VLOOKUP($F18,УЧАСТНИКИ!$A$2:$L$1105,3,FALSE) -> Овсянников Никита | C18: =VLOOKUP($F18,УЧАСТНИКИ!$A$2:$L$1105,4,FALSE) -> 15.02.2001 | E18: =VLOOKUP($F18,УЧАСТНИКИ!$A$2:$L$1105,8,FALSE) -> КМС | F18: 217
A19: 2 | B19: =VLOOKUP($F19,УЧАСТНИКИ!$A$2:$L$1105,3,FALSE) -> Копырялов Артём | C19: =VLOOKUP($F19,УЧАСТНИКИ!$A$2:$L$1105,4,FALSE) -> 15.11.1993 | E19: =VLOOKUP($F19,УЧАСТНИКИ!$A$2:$L$1105,8,FALSE) -> МС | F19: 215
A20: 2 | B20: =VLOOKUP($F20,УЧАСТНИКИ!$A$2:$L$1105,3,FALSE) -> Идрисов Михаил | C20: =VLOOKUP($F20,УЧАСТНИКИ!$A$2:$L$1105,4,FALSE) -> 21.06.1988 | E20: =VLOOKUP($F20,УЧАСТНИКИ!$A$2:$L$1105,8,FALSE) -> МСМК | F20: 212
A22: 3 | B22: =VLOOKUP($F22,УЧАСТНИКИ!$A$2:$L$1105,3,FALSE) -> Новослугин Максим | C22: =VLOOKUP($F22,УЧАСТНИКИ!$A$2:$L$1105,4,FALSE) -> 21.08.1995 | D22: =VLOOKUP($F22,УЧАСТНИКИ!$A$2:$L$1105,5,FALSE) -> Вологодская область | E22: =VLOOKUP($F22,УЧАСТНИКИ!$A$2:$L$1105,8,FALSE) -> МС | F22: 252
A23: 3 | B23: =VLOOKUP($F23,УЧАСТНИКИ!$A$2:$L$1105,3,FALSE) -> Росляков Данил | C23: =VLOOKUP($F23,УЧАСТНИКИ!$A$2:$L$1105,4,FALSE) -> 04.11.1997 | E23: =VLOOKUP($F23,УЧАСТНИКИ!$A$2:$L$1105,8,FALSE) -> МС | F23: 46
A24: 3 | B24: =VLOOKUP($F24,УЧАСТНИКИ!$A$2:$L$1105,3,FALSE) -> Табаков Дмитрий | C24: =VLOOKUP($F24,УЧАСТНИКИ!$A$2:$L$1105,4,FALSE) -> 14.07.1998 | E24: =VLOOKUP($F24,УЧАСТНИКИ!$A$2:$L$1105,8,FALSE) -> 1 | F24: 254
A25: 3 | B25: =VLOOKUP($F25,УЧАСТНИКИ!$A$2:$L$1105,3,FALSE) -> Цыпкус Марк | C25: =VLOOKUP($F25,УЧАСТНИКИ!$A$2:$L$1105,4,FALSE) -> 05.02.1999 | E25: =VLOOKUP($F25,УЧАСТНИКИ!$A$2:$L$1105,8,FALSE) -> КМС | F25: 255
A26: 3 | B26: =VLOOKUP($F26,УЧАСТНИКИ!$A$2:$L$1105,3,FALSE) -> Лужинский Кирилл | C26: =VLOOKUP($F26,УЧАСТНИКИ!$A$2:$L$1105,4,FALSE) -> 20.03.1999 | E26: =VLOOKUP($F26,УЧАСТНИКИ!$A$2:$L$1105,8,FALSE) -> МС | F26: 158
A28: 4 | B28: =VLOOKUP($F28,УЧАСТНИКИ!$A$2:$L$1105,3,FALSE) -> Галацков Андрей | C28: =VLOOKUP($F28,УЧАСТНИКИ!$A$2:$L$1105,4,FALSE) -> 13.02.1992 | D28: =VLOOKUP($F28,УЧАСТНИКИ!$A$2:$L$1105,5,FALSE) -> Ульяновская область | E28: =VLOOKUP($F28,УЧАСТНИКИ!$A$2:$L$1105,8,FALSE) -> МС | F28: 285
A29: 4 | B29: =VLOOKUP($F29,УЧАСТНИКИ!$A$2:$L$1105,3,FALSE) -> Никитин Олег | C29: =VLOOKUP($F29,УЧАСТНИКИ!$A$2:$L$1105,4,FALSE) -> 06.06.1997 | E29: =VLOOKUP($F29,УЧАСТНИКИ!$A$2:$L$1105,8,FALSE) -> КМС | F29: 288
A30: 4 | B30: =VLOOKUP($F30,УЧАСТНИКИ!$A$2:$L$1105,3,FALSE) -> Садеев Ильфат | C30: =VLOOKUP($F30,УЧАСТНИКИ!$A$2:$L$1105,4,FALSE) -> 17.12.1988 | E30: =VLOOKUP($F30,УЧАСТНИКИ!$A$2:$L$1105,8,FALSE) -> МС | F30: 289
A31: 4 | B31: =VLOOKUP($F31,УЧАСТНИКИ!$A$2:$L$1105,3,FALSE) -> Юфимов Алексей | C31: =VLOOKUP($F31,УЧАСТНИКИ!$A$2:$L$1105,4,FALSE) -> 05.06.1998 | E31: =VLOOKUP($F31,УЧАСТНИКИ!$A$2:$L$1105,8,FALSE) -> МС | F31: 292
A32: 4 | B32: =VLOOKUP($F32,УЧАСТНИКИ!$A$2:$L$1105,3,FALSE) -> Федотов Артём | C32: =VLOOKUP($F32,УЧАСТНИКИ!$A$2:$L$1105,4,FALSE) -> 12.11.1991 | E32: =VLOOKUP($F32,УЧАСТНИКИ!$A$2:$L$1105,8,FALSE) -> МС | F32: 290
A34: 5 | B34: =VLOOKUP($F34,УЧАСТНИКИ!$A$2:$L$1105,3,FALSE) -> Шкуропатов Дмитрий | C34: =VLOOKUP($F34,УЧАСТНИКИ!$A$2:$L$1105,4,FALSE) -> 30.03.1993 | D34: =VLOOKUP($F34,УЧАСТНИКИ!$A$2:$L$1105,5,FALSE) -> Санкт-Петербург Вологодская область | E34: =VLOOKUP($F34,УЧАСТНИКИ!$A$2:$L$1105,8,FALSE) -> МС | F34: 191
A35: 5 | B35: =VLOOKUP($F35,УЧАСТНИКИ!$A$2:$L$1105,3,FALSE) -> Петряшов Константин | C35: =VLOOKUP($F35,УЧАСТНИКИ!$A$2:$L$1105,4,FALSE) -> 16.12.1983 | E35: =VLOOKUP($F35,УЧАСТНИКИ!$A$2:$L$1105,8,FALSE) -> МСМК | F35: 168
A36: 5 | B36: =VLOOKUP($F36,УЧАСТНИКИ!$A$2:$L$1105,3,FALSE) -> Чернухин Кирилл | C36: =VLOOKUP($F36,УЧАСТНИКИ!$A$2:$L$1105,4,FALSE) -> 15.08.1994 | E36: =VLOOKUP($F36,УЧАСТНИКИ!$A$2:$L$1105,8,FALSE) -> МС | F36: 186
A37: 5 | B37: =VLOOKUP($F37,УЧАСТНИКИ!$A$2:$L$1105,3,FALSE) -> Кухаренко Андрей | C37: =VLOOKUP($F37,УЧАСТНИКИ!$A$2:$L$1105,4,FALSE) -> 24.02.1997 | E37: =VLOOKUP($F37,УЧАСТНИКИ!$A$2:$L$1105,8,FALSE) -> МС | F37: 156
A38: 5 | B38: =VLOOKUP($F38,УЧАСТНИКИ!$A$2:$L$1105,3,FALSE) -> Рафилович Максим | C38: =VLOOKUP($F38,УЧАСТНИКИ!$A$2:$L$1105,4,FALSE) -> 07.12.1986 | E38: =VLOOKUP($F38,УЧАСТНИКИ!$A$2:$L$1105,8,FALSE) -> МС | F38: 173
A39: 5 | B39: =VLOOKUP($F39,УЧАСТНИКИ!$A$2:$L$1105,3,FALSE) -> Солодов Сергей | C39: =VLOOKUP($F39,УЧАСТНИКИ!$A$2:$L$1105,4,FALSE) -> 03.01.1996 | E39: =VLOOKUP($F39,УЧАСТНИКИ!$A$2:$L$1105,8,FALSE) -> МС | F39: 178
A41: 6 | B41: =VLOOKUP($F41,УЧАСТНИКИ!$A$2:$L$1105,3,FALSE) -> Катунин Евгений | C41: =VLOOKUP($F41,УЧАСТНИКИ!$A$2:$L$1105,4,FALSE) -> 24.11.1999 | D41: =VLOOKUP($F41,УЧАСТНИКИ!$A$2:$L$1105,5,FALSE) -> Курская область | E41: =VLOOKUP($F41,УЧАСТНИКИ!$A$2:$L$1105,8,FALSE) -> 1 | F41: 265
A42: 6 | B42: =VLOOKUP($F42,УЧАСТНИКИ!$A$2:$L$1105,3,FALSE) -> Агибалов Александр | C42: =VLOOKUP($F42,УЧАСТНИКИ!$A$2:$L$1105,4,FALSE) -> 10.06.1998 | E42: =VLOOKUP($F42,УЧАСТНИКИ!$A$2:$L$1105,8,FALSE) -> КМС | F42: 256
A43: 6 | B43: =VLOOKUP($F43,УЧАСТНИКИ!$A$2:$L$1105,3,FALSE) -> Пахомов Пётр | C43: =VLOOKUP($F43,УЧАСТНИКИ!$A$2:$L$1105,4,FALSE) -> 04.02.1992 | E43: =VLOOKUP($F43,УЧАСТНИКИ!$A$2:$L$1105,8,FALSE) -> МС | F43: 272
A44: 6 | B44: =VLOOKUP($F44,УЧАСТНИКИ!$A$2:$L$1105,3,FALSE) -> Емельянов Руслан | C44: =VLOOKUP($F44,УЧАСТНИКИ!$A$2:$L$1105,4,FALSE) -> 03.03.1997 | E44: =VLOOKUP($F44,УЧАСТНИКИ!$A$2:$L$1105,8,FALSE) -> КМС | F44: 264
A45: 6 | B45: =VLOOKUP($F45,УЧАСТНИКИ!$A$2:$L$1105,3,FALSE) -> Лыков Илья | C45: =VLOOKUP($F45,УЧАСТНИКИ!$A$2:$L$1105,4,FALSE) -> 10.07.2001 | E45: =VLOOKUP($F45,УЧАСТНИКИ!$A$2:$L$1105,8,FALSE) -> 1 | F45: 268
A47: 7 | B47: =VLOOKUP($F47,УЧАСТНИКИ!$A$2:$L$1105,3,FALSE) -> Чурилов Антон | C47: =VLOOKUP($F47,УЧАСТНИКИ!$A$2:$L$1105,4,FALSE) -> 28.04.1998 | D47: =VLOOKUP($F47,УЧАСТНИКИ!$A$2:$L$1105,5,FALSE) -> Липецкая область | E47: =VLOOKUP($F47,УЧАСТНИКИ!$A$2:$L$1105,8,FALSE) -> КМС | F47: 246
A48: 7 | B48: =VLOOKUP($F48,УЧАСТНИКИ!$A$2:$L$1105,3,FALSE) -> Ефремов Андрей | C48: =VLOOKUP($F48,УЧАСТНИКИ!$A$2:$L$1105,4,FALSE) -> 15.08.1996 | E48: =VLOOKUP($F48,УЧАСТНИКИ!$A$2:$L$1105,8,FALSE) -> МС | F48: 238
A49: 7 | B49: =VLOOKUP($F49,УЧАСТНИКИ!$A$2:$L$1105,3,FALSE) -> Огарков Денис | C49: =VLOOKUP($F49,УЧАСТНИКИ!$A$2:$L$1105,4,FALSE) -> 03.12.1993 | E49: =VLOOKUP($F49,УЧАСТНИКИ!$A$2:$L$1105,8,FALSE) -> МСМК | F49: 243
A50: 7 | B50: =VLOOKUP($F50,УЧАСТНИКИ!$A$2:$L$1105,3,FALSE) -> Касторных Василий | C50: =VLOOKUP($F50,УЧАСТНИКИ!$A$2:$L$1105,4,FALSE) -> 31.03.2001 | E50: =VLOOKUP($F50,УЧАСТНИКИ!$A$2:$L$1105,8,FALSE) -> КМС | F50: 240
A52: 8 | B52: =VLOOKUP($F52,УЧАСТНИКИ!$A$2:$L$1105,3,FALSE) -> Михайловский Семен | C52: =VLOOKUP($F52,УЧАСТНИКИ!$A$2:$L$1105,4,FALSE) -> 15.09.1997 | D52: =VLOOKUP($F52,УЧАСТНИКИ!$A$2:$L$1105,5,FALSE) -> Томская область | E52: =VLOOKUP($F52,УЧАСТНИКИ!$A$2:$L$1105,8,FALSE) -> КМС | F52: 371
A53: 8 | B53: =VLOOKUP($F53,УЧАСТНИКИ!$A$2:$L$1105,3,FALSE) -> Разумов Дмитрий | C53: =VLOOKUP($F53,УЧАСТНИКИ!$A$2:$L$1105,4,FALSE) -> 19.08.1999 | E53: =VLOOKUP($F53,УЧАСТНИКИ!$A$2:$L$1105,8,FALSE) -> МС | F53: 365
A54: 8 | B54: =VLOOKUP($F54,УЧАСТНИКИ!$A$2:$L$1105,3,FALSE) -> Земцов Адам | C54: =VLOOKUP($F54,УЧАСТНИКИ!$A$2:$L$1105,4,FALSE) -> 27.06.1999 | E54: =VLOOKUP($F54,УЧАСТНИКИ!$A$2:$L$1105,8,FALSE) -> КМС | F54: 368
A55: 8 | B55: =VLOOKUP($F55,УЧАСТНИКИ!$A$2:$L$1105,3,FALSE) -> Москвин Никита | C55: =VLOOKUP($F55,УЧАСТНИКИ!$A$2:$L$1105,4,FALSE) -> 08.03.1996 | E55: =VLOOKUP($F55,УЧАСТНИКИ!$A$2:$L$1105,8,FALSE) -> МС | F55: 372
A56: 8 | B56: =VLOOKUP($F56,УЧАСТНИКИ!$A$2:$L$1105,3,FALSE) -> #N/A | C56: =VLOOKUP($F56,УЧАСТНИКИ!$A$2:$L$1105,4,FALSE) -> #N/A | D56: =VLOOKUP($F56,УЧАСТНИКИ!$A$2:$L$1105,5,FALSE) -> #N/A | E56: =VLOOKUP($F56,УЧАСТНИКИ!$A$2:$L$1105,8,FALSE) -> #N/A
A57: 8 | B57: =VLOOKUP($F57,УЧАСТНИКИ!$A$2:$L$1105,3,FALSE) -> #N/A | C57: =VLOOKUP($F57,УЧАСТНИКИ!$A$2:$L$1105,4,FALSE) -> #N/A | D57: =VLOOKUP($F57,УЧАСТНИКИ!$A$2:$L$1105,5,FALSE) -> #N/A | E57: =VLOOKUP($F57,УЧАСТНИКИ!$A$2:$L$1105,8,FALSE) -> #N/A
B58: 2 ЗАБЕГ
A59: 1 | B59: =VLOOKUP($F59,УЧАСТНИКИ!$A$2:$L$1105,3,FALSE) -> #N/A | C59: =VLOOKUP($F59,УЧАСТНИКИ!$A$2:$L$1105,4,FALSE) -> #N/A | D59: =VLOOKUP($F59,УЧАСТНИКИ!$A$2:$L$1105,5,FALSE) -> #N/A | E59: =VLOOKUP($F59,УЧАСТНИКИ!$A$2:$L$1105,8,FALSE) -> #N/A
A60: 1 | B60: =VLOOKUP($F60,УЧАСТНИКИ!$A$2:$L$1105,3,FALSE) -> #N/A | C60: =VLOOKUP($F60,УЧАСТНИКИ!$A$2:$L$1105,4,FALSE) -> #N/A | D60: =VLOOKUP($F60,УЧАСТНИКИ!$A$2:$L$1105,5,FALSE) -> #N/A | E60: =VLOOKUP($F60,УЧАСТНИКИ!$A$2:$L$1105,8,FALSE) -> #N/A
A61: 1 | B61: =VLOOKUP($F61,УЧАСТНИКИ!$A$2:$L$1105,3,FALSE) -> #N/A | C61: =VLOOKUP($F61,УЧАСТНИКИ!$A$2:$L$1105,4,FALSE) -> #N/A | D61: =VLOOKUP($F61,УЧАСТНИКИ!$A$2:$L$1105,5,FALSE) -> #N/A | E61: =VLOOKUP($F61,УЧАСТНИКИ!$A$2:$L$1105,8,FALSE) -> #N/A
A62: 1 | B62: =VLOOKUP($F62,УЧАСТНИКИ!$A$2:$L$1105,3,FALSE) -> #N/A | C62: =VLOOKUP($F62,УЧАСТНИКИ!$A$2:$L$1105,4,FALSE) -> #N/A | D62: =VLOOKUP($F62,УЧАСТНИКИ!$A$2:$L$1105,5,FALSE) -> #N/A | E62: =VLOOKUP($F62,УЧАСТНИКИ!$A$2:$L$1105,8,FALSE) -> #N/A
A63: 1 | B63: =VLOOKUP($F63,УЧАСТНИКИ!$A$2:$L$1105,3,FALSE) -> #N/A | C63: =VLOOKUP($F63,УЧАСТНИКИ!$A$2:$L$1105,4,FALSE) -> #N/A | D63: =VLOOKUP($F63,УЧАСТНИКИ!$A$2:$L$1105,5,FALSE) -> #N/A | E63: =VLOOKUP($F63,УЧАСТНИКИ!$A$2:$L$1105,8,FALSE) -> #N/A
A64: 1 | B64: =VLOOKUP($F64,УЧАСТНИКИ!$A$2:$L$1105,3,FALSE) -> #N/A | C64: =VLOOKUP($F64,УЧАСТНИКИ!$A$2:$L$1105,4,FALSE) -> #N/A | D64: =VLOOKUP($F64,УЧАСТНИКИ!$A$2:$L$1105,5,FALSE) -> #N/A | E64: =VLOOKUP($F64,УЧАСТНИКИ!$A$2:$L$1105,8,FALSE) -> #N/A
A66: 2 | B66: =VLOOKUP($F66,УЧАСТНИКИ!$A$2:$L$1105,3,FALSE) -> #N/A | C66: =VLOOKUP($F66,УЧАСТНИКИ!$A$2:$L$1105,4,FALSE) -> #N/A | D66: =VLOOKUP($F66,УЧАСТНИКИ!$A$2:$L$1105,5,FALSE) -> #N/A | E66: =VLOOKUP($F66,УЧАСТНИКИ!$A$2:$L$1105,8,FALSE) -> #N/A
A67: 2 | B67: =VLOOKUP($F67,УЧАСТНИКИ!$A$2:$L$1105,3,FALSE) -> #N/A | C67: =VLOOKUP($F67,УЧАСТНИКИ!$A$2:$L$1105,4,FALSE) -> #N/A | D67: =VLOOKUP($F67,УЧАСТНИКИ!$A$2:$L$1105,5,FALSE) -> #N/A | E67: =VLOOKUP($F67,УЧАСТНИКИ!$A$2:$L$1105,8,FALSE) -> #N/A
A68: 2 | B68: =VLOOKUP($F68,УЧАСТНИКИ!$A$2:$L$1105,3,FALSE) -> #N/A | C68: =VLOOKUP($F68,УЧАСТНИКИ!$A$2:$L$1105,4,FALSE) -> #N/A | D68: =VLOOKUP($F68,УЧАСТНИКИ!$A$2:$L$1105,5,FALSE) -> #N/A | E68: =VLOOKUP($F68,УЧАСТНИКИ!$A$2:$L$1105,8,FALSE) -> #N/A
A69: 2 | B69: =VLOOKUP($F69,УЧАСТНИКИ!$A$2:$L$1105,3,FALSE) -> #N/A | C69: =VLOOKUP($F69,УЧАСТНИКИ!$A$2:$L$1105,4,FALSE) -> #N/A | D69: =VLOOKUP($F69,УЧАСТНИКИ!$A$2:$L$1105,5,FALSE) -> #N/A | E69: =VLOOKUP($F69,УЧАСТНИКИ!$A$2:$L$1105,8,FALSE) -> #N/A
A70: 2 | B70: =VLOOKUP($F70,УЧАСТНИКИ!$A$2:$L$1105,3,FALSE) -> #N/A | C70: =VLOOKUP($F70,УЧАСТНИКИ!$A$2:$L$1105,4,FALSE) -> #N/A | D70: =VLOOKUP($F70,УЧАСТНИКИ!$A$2:$L$1105,5,FALSE) -> #N/A | E70: =VLOOKUP($F70,УЧАСТНИКИ!$A$2:$L$1105,8,FALSE) -> #N/A
A71: 2 | B71: =VLOOKUP($F71,УЧАСТНИКИ!$A$2:$L$1105,3,FALSE) -> #N/A | C71: =VLOOKUP($F71,УЧАСТНИКИ!$A$2:$L$1105,4,FALSE) -> #N/A | D71: =VLOOKUP($F71,УЧАСТНИКИ!$A$2:$L$1105,5,FALSE) -> #N/A | E71: =VLOOKUP($F71,УЧАСТНИКИ!$A$2:$L$1105,8,FALSE) -> #N/A
... A113: 8 | B113: =VLOOKUP($F113,УЧАСТНИКИ!$A$2:$L$1105,3,FALSE) -> #N/A | C113: =VLOOKUP($F113,УЧАСТНИКИ!$A$2:$L$1105,4,FALSE) -> #N/A | D113: =VLOOKUP($F113,УЧАСТНИКИ!$A$2:$L$1105,5,FALSE) -> #N/A | E113: =VLOOKUP($F113,УЧАСТНИКИ!$A$2:$L$1105,8,FALSE) -> #N/A
A117: Рефери по бегу: | D117: Айнетдинов Г., ССВК, Москва
A118: Ст.судья: | D118: Лобойко Н., ССВК, Ставрополь
A119: Секретарь: | D119: Орлянская С., СС1К, Краснодар

Sheet 4х400
A1: =Name_2 -> ВСЕРОССИЙСКАЯ ФЕДЕРАЦИЯ ЛЕГКОЙ АТЛЕТИКИ
A2: СТАРТОВЫЙ ПРОТОКОЛ
A3: =Name_4 -> КОМАНДНЫЙ ЧЕМПИОНАТ РОССИИ
E4: ФИНАЛЬНЫЕ ЗАБЕГИ
A5: =d_4 -> МУЖЧИНЫ | C5: РМ | D5: 2:54,29 | F5: =d_3 -> 06.09.2019г. | H5: начало: | I5: 18:20
A6: Эстафета 4х400 м | C6: РЕ | D6: 2:56,60 | H6: окончание:
C7: РР | D7: 2:58,06 | J7: =d_5 -> г. Сочи, ул. Бзугу 2, ст. им. Славы Метревели
A8: № п/п | B8: Фамилия, имя участника | C8: Дата рождения | D8: Территория | E8: Заявленный разряд | F8: Номер участника | G8: Приход | H8: Результат | I8: Место | J8: Примеч.
B9: 1 ЗАБЕГ
A10: 1 | B10: =VLOOKUP($F10,УЧАСТНИКИ!$A$2:$L$1105,3,FALSE) -> #N/A | C10: =VLOOKUP($F10,УЧАСТНИКИ!$A$2:$L$1105,4,FALSE) -> #N/A | D10: =VLOOKUP($F10,УЧАСТНИКИ!$A$2:$L$1105,5,FALSE) -> #N/A | E10: =VLOOKUP($F10,УЧАСТНИКИ!$A$2:$L$1105,8,FALSE) -> #N/A | J10: =VLOOKUP($F10,УЧАСТНИКИ!$A$2:$L$1105,9,FALSE) -> #N/A
A11: 1 | B11: =VLOOKUP($F11,УЧАСТНИКИ!$A$2:$L$1105,3,FALSE) -> #N/A | C11: =VLOOKUP($F11,УЧАСТНИКИ!$A$2:$L$1105,4,FALSE) -> #N/A | D11: =VLOOKUP($F11,УЧАСТНИКИ!$A$2:$L$1105,5,FALSE) -> #N/A | E11: =VLOOKUP($F11,УЧАСТНИКИ!$A$2:$L$1105,8,FALSE) -> #N/A | J11: =VLOOKUP($F11,УЧАСТНИКИ!$A$2:$L$1105,9,FALSE) -> #N/A
A12: 1 | B12: =VLOOKUP($F12,УЧАСТНИКИ!$A$2:$L$1105,3,FALSE) -> #N/A | C12: =VLOOKUP($F12,УЧАСТНИКИ!$A$2:$L$1105,4,FALSE) -> #N/A | D12: =VLOOKUP($F12,УЧАСТНИКИ!$A$2:$L$1105,5,FALSE) -> #N/A | E12: =VLOOKUP($F12,УЧАСТНИКИ!$A$2:$L$1105,8,FALSE) -> #N/A | J12: =VLOOKUP($F12,УЧАСТНИКИ!$A$2:$L$1105,9,FALSE) -> #N/A
A13: 1 | B13: =VLOOKUP($F13,УЧАСТНИКИ!$A$2:$L$1105,3,FALSE) -> #N/A | C13: =VLOOKUP($F13,УЧАСТНИКИ!$A$2:$L$1105,4,FALSE) -> #N/A | D13: =VLOOKUP($F13,УЧАСТНИКИ!$A$2:$L$1105,5,FALSE) -> #N/A | E13: =VLOOKUP($F13,УЧАСТНИКИ!$A$2:$L$1105,8,FALSE) -> #N/A | J13: =VLOOKUP($F13,УЧАСТНИКИ!$A$2:$L$1105,9,FALSE) -> #N/A
A14: 1 | B14: =VLOOKUP($F14,УЧАСТНИКИ!$A$2:$L$1105,3,FALSE) -> #N/A | C14: =VLOOKUP($F14,УЧАСТНИКИ!$A$2:$L$1105,4,FALSE) -> #N/A | D14: =VLOOKUP($F14,УЧАСТНИКИ!$A$2:$L$1105,5,FALSE) -> #N/A | E14: =VLOOKUP($F14,УЧАСТНИКИ!$A$2:$L$1105,8,FALSE) -> #N/A | J14: =VLOOKUP($F14,УЧАСТНИКИ!$A$2:$L$1105,9,FALSE) -> #N/A
A15: 1 | B15: =VLOOKUP($F15,УЧАСТНИКИ!$A$2:$L$1105,3,FALSE) -> #N/A | C15: =VLOOKUP($F15,УЧАСТНИКИ!$A$2:$L$1105,4,FALSE) -> #N/A | D15: =VLOOKUP($F15,УЧАСТНИКИ!$A$2:$L$1105,5,FALSE) -> #N/A | E15: =VLOOKUP($F15,УЧАСТНИКИ!$A$2:$L$1105,8,FALSE) -> #N/A | J15: =VLOOKUP($F15,УЧАСТНИКИ!$A$2:$L$1105,9,FALSE) -> #N/A
A17: 2 | B17: =VLOOKUP($F17,УЧАСТНИКИ!$A$2:$L$1105,3,FALSE) -> Болотов Сергей | C17: =VLOOKUP($F17,УЧАСТНИКИ!$A$2:$L$1105,4,FALSE) -> 09.04.1996 | D17: =VLOOKUP($F17,УЧАСТНИКИ!$A$2:$L$1105,5,FALSE) -> Владимирская область | E17: =VLOOKUP($F17,УЧАСТНИКИ!$A$2:$L$1105,8,FALSE) -> КМС | F17: 395
A18: 2 | B18: =VLOOKUP($F18,УЧАСТНИКИ!$A$2:$L$1105,3,FALSE) -> Козлов Антон | C18: =VLOOKUP($F18,УЧАСТНИКИ!$A$2:$L$1105,4,FALSE) -> 09.03.1994 | E18: =VLOOKUP($F18,УЧАСТНИКИ!$A$2:$L$1105,8,FALSE) -> МС | F18: 396
A19: 2 | B19: =VLOOKUP($F19,УЧАСТНИКИ!$A$2:$L$1105,3,FALSE) -> Матвеев Никита | C19: =VLOOKUP($F19,УЧАСТНИКИ!$A$2:$L$1105,4,FALSE) -> 28.03.2000 | E19: =VLOOKUP($F19,УЧАСТНИКИ!$A$2:$L$1105,8,FALSE) -> КМС | F19: 397
A20: 2 | B20: =VLOOKUP($F20,УЧАСТНИКИ!$A$2:$L$1105,3,FALSE) -> Мельников Максим | C20: =VLOOKUP($F20,УЧАСТНИКИ!$A$2:$L$1105,4,FALSE) -> 11.03.2002 | E20: =VLOOKUP($F20,УЧАСТНИКИ!$A$2:$L$1105,8,FALSE) -> 1 | F20: 398
A21: 2 | B21: =VLOOKUP($F21,УЧАСТНИКИ!$A$2:$L$1105,3,FALSE) -> #N/A | C21: =VLOOKUP($F21,УЧАСТНИКИ!$A$2:$L$1105,4,FALSE) -> #N/A | D21: =VLOOKUP($F21,УЧАСТНИКИ!$A$2:$L$1105,5,FALSE) -> #N/A | E21: =VLOOKUP($F21,УЧАСТНИКИ!$A$2:$L$1105,8,FALSE) -> #N/A
A22: 2 | B22: =VLOOKUP($F22,УЧАСТНИКИ!$A$2:$L$1105,3,FALSE) -> #N/A | C22: =VLOOKUP($F22,УЧАСТНИКИ!$A$2:$L$1105,4,FALSE) -> #N/A | D22: =VLOOKUP($F22,УЧАСТНИКИ!$A$2:$L$1105,5,FALSE) -> #N/A | E22: =VLOOKUP($F22,УЧАСТНИКИ!$A$2:$L$1105,8,FALSE) -> #N/A
A24: 3 | B24: =VLOOKUP($F24,УЧАСТНИКИ!$A$2:$L$1105,3,FALSE) -> Соколенко Владимир | C24: =VLOOKUP($F24,УЧАСТНИКИ!$A$2:$L$1105,4,FALSE) -> 19.05.2000 | D24: =VLOOKUP($F24,УЧАСТНИКИ!$A$2:$L$1105,5,FALSE) -> Томская область | E24: =VLOOKUP($F24,УЧАСТНИКИ!$A$2:$L$1105,8,FALSE) -> КМС | F24: 373
A25: 3 | B25: =VLOOKUP($F25,УЧАСТНИКИ!$A$2:$L$1105,3,FALSE) -> Черепнин Андрей | C25: =VLOOKUP($F25,УЧАСТНИКИ!$A$2:$L$1105,4,FALSE) -> 21.02.1998 | E25: =VLOOKUP($F25,УЧАСТНИКИ!$A$2:$L$1105,8,FALSE) -> МС | F25: 375
A26: 3 | B26: =VLOOKUP($F26,УЧАСТНИКИ!$A$2:$L$1105,3,FALSE) -> Михайловский Семен | C26: =VLOOKUP($F26,УЧАСТНИКИ!$A$2:$L$1105,4,FALSE) -> 15.09.1997 | E26: =VLOOKUP($F26,УЧАСТНИКИ!$A$2:$L$1105,8,FALSE) -> КМС | F26: 371
A27: 3 | B27: =VLOOKUP($F27,УЧАСТНИКИ!$A$2:$L$1105,3,FALSE) -> Земцов Адам | C27: =VLOOKUP($F27,УЧАСТНИКИ!$A$2:$L$1105,4,FALSE) -> 27.06.1999 | E27: =VLOOKUP($F27,УЧАСТНИКИ!$A$2:$L$1105,8,FALSE) -> КМС | F27: 368
A28: 3 | B28: =VLOOKUP($F28,УЧАСТНИКИ!$A$2:$L$1105,3,FALSE) -> Разумов Дмитрий | C28: =VLOOKUP($F28,УЧАСТНИКИ!$A$2:$L$1105,4,FALSE) -> 19.08.1999 | E28: =VLOOKUP($F28,УЧАСТНИКИ!$A$2:$L$1105,8,FALSE) -> МС | F28: 365
A29: 3 | B29: =VLOOKUP($F29,УЧАСТНИКИ!$A$2:$L$1105,3,FALSE) -> Москвин Никита | C29: =VLOOKUP($F29,УЧАСТНИКИ!$A$2:$L$1105,4,FALSE) -> 08.03.1996 | E29: =VLOOKUP($F29,УЧАСТНИКИ!$A$2:$L$1105,8,FALSE) -> МС | F29: 372
A31: 4 | B31: =VLOOKUP($F31,УЧАСТНИКИ!$A$2:$L$1105,3,FALSE) -> Лямин Кирилл | C31: =VLOOKUP($F31,УЧАСТНИКИ!$A$2:$L$1105,4,FALSE) -> 17.05.1996 | D31: =VLOOKUP($F31,УЧАСТНИКИ!$A$2:$L$1105,5,FALSE) -> Курская область | E31: =VLOOKUP($F31,УЧАСТНИКИ!$A$2:$L$1105,8,FALSE) -> КМС | F31: 269
A32: 4 | B32: =VLOOKUP($F32,УЧАСТНИКИ!$A$2:$L$1105,3,FALSE) -> Чернышов Андрей | C32: =VLOOKUP($F32,УЧАСТНИКИ!$A$2:$L$1105,4,FALSE) -> 05.05.1993 | E32: =VLOOKUP($F32,УЧАСТНИКИ!$A$2:$L$1105,8,FALSE) -> МС | F32: 281
A33: 4 | B33: =VLOOKUP($F33,УЧАСТНИКИ!$A$2:$L$1105,3,FALSE) -> Дроздов Артем | C33: =VLOOKUP($F33,УЧАСТНИКИ!$A$2:$L$1105,4,FALSE) -> 26.04.2000 | E33: =VLOOKUP($F33,УЧАСТНИКИ!$A$2:$L$1105,8,FALSE) -> 1 | F33: 263
A34: 4 | B34: =VLOOKUP($F34,УЧАСТНИКИ!$A$2:$L$1105,3,FALSE) -> Некрасов Никита | C34: =VLOOKUP($F34,УЧАСТНИКИ!$A$2:$L$1105,4,FALSE) -> 14.04.2002 | E34: =VLOOKUP($F34,УЧАСТНИКИ!$A$2:$L$1105,8,FALSE) -> 1 | F34: 271
A35: 4 | B35: =VLOOKUP($F35,УЧАСТНИКИ!$A$2:$L$1105,3,FALSE) -> Проскурин Никита | C35: =VLOOKUP($F35,УЧАСТНИКИ!$A$2:$L$1105,4,FALSE) -> 14.06.1997 | E35: =VLOOKUP($F35,УЧАСТНИКИ!$A$2:$L$1105,8,FALSE) -> КМС | F35: 275
A36: 4 | B36: =VLOOKUP($F36,УЧАСТНИКИ!$A$2:$L$1105,3,FALSE) -> Федяев Максим | C36: =VLOOKUP($F36,УЧАСТНИКИ!$A$2:$L$1105,4,FALSE) -> 01.12.1997 | E36: =VLOOKUP($F36,УЧАСТНИКИ!$A$2:$L$1105,8,FALSE) -> МСМК | F36: 80
A38: 5 | B38: =VLOOKUP($F38,УЧАСТНИКИ!$A$2:$L$1105,3,FALSE) -> Рафилович Максим | C38: =VLOOKUP($F38,УЧАСТНИКИ!$A$2:$L$1105,4,FALSE) -> 07.12.1986 | D38: =VLOOKUP($F38,УЧАСТНИКИ!$A$2:$L$1105,5,FALSE) -> Санкт-Петербург Вологодская область | E38: =VLOOKUP($F38,УЧАСТНИКИ!$A$2:$L$1105,8,FALSE) -> МС | F38: 173
A39: 5 | B39: =VLOOKUP($F39,УЧАСТНИКИ!$A$2:$L$1105,3,FALSE) -> Лужинский Кирилл | C39: =VLOOKUP($F39,УЧАСТНИКИ!$A$2:$L$1105,4,FALSE) -> 20.03.1999 | E39: =VLOOKUP($F39,УЧАСТНИКИ!$A$2:$L$1105,8,FALSE) -> МС | F39: 158
A40: 5 | B40: =VLOOKUP($F40,УЧАСТНИКИ!$A$2:$L$1105,3,FALSE) -> Кухаренко Андрей | C40: =VLOOKUP($F40,УЧАСТНИКИ!$A$2:$L$1105,4,FALSE) -> 24.02.1997 | E40: =VLOOKUP($F40,УЧАСТНИКИ!$A$2:$L$1105,8,FALSE) -> МС | F40: 156
A41: 5 | B41: =VLOOKUP($F41,УЧАСТНИКИ!$A$2:$L$1105,3,FALSE) -> Филатов Михаил | C41: =VLOOKUP($F41,УЧАСТНИКИ!$A$2:$L$1105,4,FALSE) -> 01.07.1994 | E41: =VLOOKUP($F41,УЧАСТНИКИ!$A$2:$L$1105,8,FALSE) -> МС | F41: 181
A42: 5 | B42: =VLOOKUP($F42,УЧАСТНИКИ!$A$2:$L$1105,3,FALSE) -> Оленковичус Илья | C42: =VLOOKUP($F42,УЧАСТНИКИ!$A$2:$L$1105,4,FALSE) -> 28.12.1998 | E42: =VLOOKUP($F42,УЧАСТНИКИ!$A$2:$L$1105,8,FALSE) -> КМС | F42: 165
A43: 5 | B43: =VLOOKUP($F43,УЧАСТНИКИ!$A$2:$L$1105,3,FALSE) -> Колесов Кирилл | C43: =VLOOKUP($F43,УЧАСТНИКИ!$A$2:$L$1105,4,FALSE) -> 26.04.1998 | E43: =VLOOKUP($F43,УЧАСТНИКИ!$A$2:$L$1105,8,FALSE) -> МС | F43: 150
A45: 6 | B45: =VLOOKUP($F45,УЧАСТНИКИ!$A$2:$L$1105,3,FALSE) -> Ткалич Ярослав | C45: =VLOOKUP($F45,УЧАСТНИКИ!$A$2:$L$1105,4,FALSE) -> 05.06.1996 | D45: =VLOOKUP($F45,УЧАСТНИКИ!$A$2:$L$1105,5,FALSE) -> Московская область Смоленская область | E45: =VLOOKUP($F45,УЧАСТНИКИ!$A$2:$L$1105,8,FALSE) -> МС | F45: 77
A46: 6 | B46: =VLOOKUP($F46,УЧАСТНИКИ!$A$2:$L$1105,3,FALSE) -> Федяев Максим | C46: =VLOOKUP($F46,УЧАСТНИКИ!$A$2:$L$1105,4,FALSE) -> 01.12.1997 | E46: =VLOOKUP($F46,УЧАСТНИКИ!$A$2:$L$1105,8,FALSE) -> МСМК | F46: 80
A47: 6 | B47: =VLOOKUP($F47,УЧАСТНИКИ!$A$2:$L$1105,3,FALSE) -> Чалый Тимофей | C47: =VLOOKUP($F47,УЧАСТНИКИ!$A$2:$L$1105,4,FALSE) -> 07.04.1994 | E47: =VLOOKUP($F47,УЧАСТНИКИ!$A$2:$L$1105,8,FALSE) -> МСМК | F47: 83
A48: 6 | B48: =VLOOKUP($F48,УЧАСТНИКИ!$A$2:$L$1105,3,FALSE) -> Андриянов Никита | C48: =VLOOKUP($F48,УЧАСТНИКИ!$A$2:$L$1105,4,FALSE) -> 07.02.1990 | E48: =VLOOKUP($F48,УЧАСТНИКИ!$A$2:$L$1105,8,FALSE) -> МС | F48: 54
A49: 6 | B49: =VLOOKUP($F49,УЧАСТНИКИ!$A$2:$L$1105,3,FALSE) -> #N/A | C49: =VLOOKUP($F49,УЧАСТНИКИ!$A$2:$L$1105,4,FALSE) -> #N/A | D49: =VLOOKUP($F49,УЧАСТНИКИ!$A$2:$L$1105,5,FALSE) -> #N/A | E49: =VLOOKUP($F49,УЧАСТНИКИ!$A$2:$L$1105,8,FALSE) -> #N/A
A50: 6 | B50: =VLOOKUP($F50,УЧАСТНИКИ!$A$2:$L$1105,3,FALSE) -> #N/A | C50: =VLOOKUP($F50,УЧАСТНИКИ!$A$2:$L$1105,4,FALSE) -> #N/A | D50: =VLOOKUP($F50,УЧАСТНИКИ!$A$2:$L$1105,5,FALSE) -> #N/A | E50: =VLOOKUP($F50,УЧАСТНИКИ!$A$2:$L$1105,8,FALSE) -> #N/A
A52: 7 | B52: =VLOOKUP($F52,УЧАСТНИКИ!$A$2:$L$1105,3,FALSE) -> Галацков Андрей | C52: =VLOOKUP($F52,УЧАСТНИКИ!$A$2:$L$1105,4,FALSE) -> 13.02.1992 | D52: =VLOOKUP($F52,УЧАСТНИКИ!$A$2:$L$1105,5,FALSE) -> Ульяновская область | E52: =VLOOKUP($F52,УЧАСТНИКИ!$A$2:$L$1105,8,FALSE) -> МС | F52: 285
A53: 7 | B53: =VLOOKUP($F53,УЧАСТНИКИ!$A$2:$L$1105,3,FALSE) -> Никитин Олег | C53: =VLOOKUP($F53,УЧАСТНИКИ!$A$2:$L$1105,4,FALSE) -> 06.06.1997 | E53: =VLOOKUP($F53,УЧАСТНИКИ!$A$2:$L$1105,8,FALSE) -> КМС | F53: 288
A54: 7 | B54: =VLOOKUP($F54,УЧАСТНИКИ!$A$2:$L$1105,3,FALSE) -> Садеев Ильфат | C54: =VLOOKUP($F54,УЧАСТНИКИ!$A$2:$L$1105,4,FALSE) -> 17.12.1988 | E54: =VLOOKUP($F54,УЧАСТНИКИ!$A$2:$L$1105,8,FALSE) -> МС | F54: 289
A55: 7 | B55: =VLOOKUP($F55,УЧАСТНИКИ!$A$2:$L$1105,3,FALSE) -> Федотов Артём | C55: =VLOOKUP($F55,УЧАСТНИКИ!$A$2:$L$1105,4,FALSE) -> 12.11.1991 | E55: =VLOOKUP($F55,УЧАСТНИКИ!$A$2:$L$1105,8,FALSE) -> МС | F55: 290
A56: 7 | B56: =VLOOKUP($F56,УЧАСТНИКИ!$A$2:$L$1105,3,FALSE) -> Халиуллов Руслан | C56: =VLOOKUP($F56,УЧАСТНИКИ!$A$2:$L$1105,4,FALSE) -> 02.02.2002 | E56: =VLOOKUP($F56,УЧАСТНИКИ!$A$2:$L$1105,8,FALSE) -> 1 | F56: 291
A57: 7 | B57: =VLOOKUP($F57,УЧАСТНИКИ!$A$2:$L$1105,3,FALSE) -> #N/A | C57: =VLOOKUP($F57,УЧАСТНИКИ!$A$2:$L$1105,4,FALSE) -> #N/A | D57: =VLOOKUP($F57,УЧАСТНИКИ!$A$2:$L$1105,5,FALSE) -> #N/A | E57: =VLOOKUP($F57,УЧАСТНИКИ!$A$2:$L$1105,8,FALSE) -> #N/A
A59: 8 | B59: =VLOOKUP($F59,УЧАСТНИКИ!$A$2:$L$1105,3,FALSE) -> #N/A | C59: =VLOOKUP($F59,УЧАСТНИКИ!$A$2:$L$1105,4,FALSE) -> #N/A | D59: =VLOOKUP($F59,УЧАСТНИКИ!$A$2:$L$1105,5,FALSE) -> #N/A | E59: =VLOOKUP($F59,УЧАСТНИКИ!$A$2:$L$1105,8,FALSE) -> #N/A
A60: 8 | B60: =VLOOKUP($F60,УЧАСТНИКИ!$A$2:$L$1105,3,FALSE) -> #N/A | C60: =VLOOKUP($F60,УЧАСТНИКИ!$A$2:$L$1105,4,FALSE) -> #N/A | D60: =VLOOKUP($F60,УЧАСТНИКИ!$A$2:$L$1105,5,FALSE) -> #N/A | E60: =VLOOKUP($F60,УЧАСТНИКИ!$A$2:$L$1105,8,FALSE) -> #N/A
A61: 8 | B61: =VLOOKUP($F61,УЧАСТНИКИ!$A$2:$L$1105,3,FALSE) -> #N/A | C61: =VLOOKUP($F61,УЧАСТНИКИ!$A$2:$L$1105,4,FALSE) -> #N/A | D61: =VLOOKUP($F61,УЧАСТНИКИ!$A$2:$L$1105,5,FALSE) -> #N/A | E61: =VLOOKUP($F61,УЧАСТНИКИ!$A$2:$L$1105,8,FALSE) -> #N/A
A62: 8 | B62: =VLOOKUP($F62,УЧАСТНИКИ!$A$2:$L$1105,3,FALSE) -> #N/A | C62: =VLOOKUP($F62,УЧАСТНИКИ!$A$2:$L$1105,4,FALSE) -> #N/A | D62: =VLOOKUP($F62,УЧАСТНИКИ!$A$2:$L$1105,5,FALSE) -> #N/A | E62: =VLOOKUP($F62,УЧАСТНИКИ!$A$2:$L$1105,8,FALSE) -> #N/A
A63: 8 | B63: =VLOOKUP($F63,УЧАСТНИКИ!$A$2:$L$1105,3,FALSE) -> #N/A | C63: =VLOOKUP($F63,УЧАСТНИКИ!$A$2:$L$1105,4,FALSE) -> #N/A | D63: =VLOOKUP($F63,УЧАСТНИКИ!$A$2:$L$1105,5,FALSE) -> #N/A | E63: =VLOOKUP($F63,УЧАСТНИКИ!$A$2:$L$1105,8,FALSE) -> #N/A
A64: 8 | B64: =VLOOKUP($F64,УЧАСТНИКИ!$A$2:$L$1105,3,FALSE) -> #N/A | C64: =VLOOKUP($F64,УЧАСТНИКИ!$A$2:$L$1105,4,FALSE) -> #N/A | D64: =VLOOKUP($F64,УЧАСТНИКИ!$A$2:$L$1105,5,FALSE) -> #N/A | E64: =VLOOKUP($F64,УЧАСТНИКИ!$A$2:$L$1105,8,FALSE) -> #N/A
B65: 2 ЗАБЕГ
A66: 1 | B66: =VLOOKUP($F66,УЧАСТНИКИ!$A$2:$L$1105,3,FALSE) -> #N/A | C66: =VLOOKUP($F66,УЧАСТНИКИ!$A$2:$L$1105,4,FALSE) -> #N/A | D66: =VLOOKUP($F66,УЧАСТНИКИ!$A$2:$L$1105,5,FALSE) -> #N/A | E66: =VLOOKUP($F66,УЧАСТНИКИ!$A$2:$L$1105,8,FALSE) -> #N/A
A67: 1 | B67: =VLOOKUP($F67,УЧАСТНИКИ!$A$2:$L$1105,3,FALSE) -> #N/A | C67: =VLOOKUP($F67,УЧАСТНИКИ!$A$2:$L$1105,4,FALSE) -> #N/A | D67: =VLOOKUP($F67,УЧАСТНИКИ!$A$2:$L$1105,5,FALSE) -> #N/A | E67: =VLOOKUP($F67,УЧАСТНИКИ!$A$2:$L$1105,8,FALSE) -> #N/A
A68: 1 | B68: =VLOOKUP($F68,УЧАСТНИКИ!$A$2:$L$1105,3,FALSE) -> #N/A | C68: =VLOOKUP($F68,УЧАСТНИКИ!$A$2:$L$1105,4,FALSE) -> #N/A | D68: =VLOOKUP($F68,УЧАСТНИКИ!$A$2:$L$1105,5,FALSE) -> #N/A | E68: =VLOOKUP($F68,УЧАСТНИКИ!$A$2:$L$1105,8,FALSE) -> #N/A
A69: 1 | B69: =VLOOKUP($F69,УЧАСТНИКИ!$A$2:$L$1105,3,FALSE) -> #N/A | C69: =VLOOKUP($F69,УЧАСТНИКИ!$A$2:$L$1105,4,FALSE) -> #N/A | D69: =VLOOKUP($F69,УЧАСТНИКИ!$A$2:$L$1105,5,FALSE) -> #N/A | E69: =VLOOKUP($F69,УЧАСТНИКИ!$A$2:$L$1105,8,FALSE) -> #N/A
A70: 1 | B70: =VLOOKUP($F70,УЧАСТНИКИ!$A$2:$L$1105,3,FALSE) -> #N/A | C70: =VLOOKUP($F70,УЧАСТНИКИ!$A$2:$L$1105,4,FALSE) -> #N/A | D70: =VLOOKUP($F70,УЧАСТНИКИ!$A$2:$L$1105,5,FALSE) -> #N/A | E70: =VLOOKUP($F70,УЧАСТНИКИ!$A$2:$L$1105,8,FALSE) -> #N/A
A71: 1 | B71: =VLOOKUP($F71,УЧАСТНИКИ!$A$2:$L$1105,3,FALSE) -> #N/A | C71: =VLOOKUP($F71,УЧАСТНИКИ!$A$2:$L$1105,4,FALSE) -> #N/A | D71: =VLOOKUP($F71,УЧАСТНИКИ!$A$2:$L$1105,5,FALSE) -> #N/A | E71: =VLOOKUP($F71,УЧАСТНИКИ!$A$2:$L$1105,8,FALSE) -> #N/A
A73: 2 | B73: =VLOOKUP($F73,УЧАСТНИКИ!$A$2:$L$1105,3,FALSE) -> #N/A | C73: =VLOOKUP($F73,УЧАСТНИКИ!$A$2:$L$1105,4,FALSE) -> #N/A | D73: =VLOOKUP($F73,УЧАСТНИКИ!$A$2:$L$1105,5,FALSE) -> #N/A | E73: =VLOOKUP($F73,УЧАСТНИКИ!$A$2:$L$1105,8,FALSE) -> #N/A
A74: 2 | B74: =VLOOKUP($F74,УЧАСТНИКИ!$A$2:$L$1105,3,FALSE) -> #N/A | C74: =VLOOKUP($F74,УЧАСТНИКИ!$A$2:$L$1105,4,FALSE) -> #N/A | D74: =VLOOKUP($F74,УЧАСТНИКИ!$A$2:$L$1105,5,FALSE) -> #N/A | E74: =VLOOKUP($F74,УЧАСТНИКИ!$A$2:$L$1105,8,FALSE) -> #N/A
A75: 2 | B75: =VLOOKUP($F75,УЧАСТНИКИ!$A$2:$L$1105,3,FALSE) -> #N/A | C75: =VLOOKUP($F75,УЧАСТНИКИ!$A$2:$L$1105,4,FALSE) -> #N/A | D75: =VLOOKUP($F75,УЧАСТНИКИ!$A$2:$L$1105,5,FALSE) -> #N/A | E75: =VLOOKUP($F75,УЧАСТНИКИ!$A$2:$L$1105,8,FALSE) -> #N/A
A76: 2 | B76: =VLOOKUP($F76,УЧАСТНИКИ!$A$2:$L$1105,3,FALSE) -> #N/A | C76: =VLOOKUP($F76,УЧАСТНИКИ!$A$2:$L$1105,4,FALSE) -> #N/A | D76: =VLOOKUP($F76,УЧАСТНИКИ!$A$2:$L$1105,5,FALSE) -> #N/A | E76: =VLOOKUP($F76,УЧАСТНИКИ!$A$2:$L$1105,8,FALSE) -> #N/A
A77: 2 | B77: =VLOOKUP($F77,УЧАСТНИКИ!$A$2:$L$1105,3,FALSE) -> #N/A | C77: =VLOOKUP($F77,УЧАСТНИКИ!$A$2:$L$1105,4,FALSE) -> #N/A | D77: =VLOOKUP($F77,УЧАСТНИКИ!$A$2:$L$1105,5,FALSE) -> #N/A | E77: =VLOOKUP($F77,УЧАСТНИКИ!$A$2:$L$1105,8,FALSE) -> #N/A
A78: 2 | B78: =VLOOKUP($F78,УЧАСТНИКИ!$A$2:$L$1105,3,FALSE) -> #N/A | C78: =VLOOKUP($F78,УЧАСТНИКИ!$A$2:$L$1105,4,FALSE) -> #N/A | D78: =VLOOKUP($F78,УЧАСТНИКИ!$A$2:$L$1105,5,FALSE) -> #N/A | E78: =VLOOKUP($F78,УЧАСТНИКИ!$A$2:$L$1105,8,FALSE) -> #N/A
... A120: 8 | B120: =VLOOKUP($F120,УЧАСТНИКИ!$A$2:$L$1105,3,FALSE) -> #N/A | C120: =VLOOKUP($F120,УЧАСТНИКИ!$A$2:$L$1105,4,FALSE) -> #N/A | D120: =VLOOKUP($F120,УЧАСТНИКИ!$A$2:$L$1105,5,FALSE) -> #N/A | E120: =VLOOKUP($F120,УЧАСТНИКИ!$A$2:$L$1105,8,FALSE) -> #N/A
A124: Рефери по бегу: | D124: Айнетдинов Г., ССВК, Москва
A125: Ст.судья: | D125: Лобойко Н., ССВК, Ставрополь
A126: Секретарь: | D126: Орлянская С., СС1К, Краснодар

Sheet ядро
A1: =Name_2 -> ВСЕРОССИЙСКАЯ ФЕДЕРАЦИЯ ЛЕГКОЙ АТЛЕТИКИ
A2: СТАРТОВЫЙ ПРОТОКОЛ
A3: =Name_4 -> КОМАНДНЫЙ ЧЕМПИОНАТ РОССИИ
I4: ФИНАЛЬНЫЕ СОРЕВНОВАНИЯ
A5: =d_4 -> МУЖЧИНЫ | C5: РМ | D5: 23.12 | L5: =d_3 -> 06.09.2019г. | O5: начало: | P5: 16:30
A6: Толкание ядра | C6: РЕ | D6: 23,06 | O6: окончание:
A7: Вес снаряда - 7,26 кг | C7: РР | D7: 22.24 | P7: =d_7 -> г. Сочи, Адлерский район, ул. Ленина СК "Юность"
A8: № п/п | B8: Фамилия, имя участника | C8: Дата рождения | D8: Территория | E8: Заявленный разряд | F8: Номер участника | G8: Попытки | J8: Жеребьевка | K8: Попытки | N8: Лучший результат | O8: Место | P8: Примечание
G9: 1 | H9: 2 | I9: 3 | K9: 4 | L9: 5 | M9: 6
A10: 1 | B10: =VLOOKUP($F10,УЧАСТНИКИ!$A$2:$L$1105,3,FALSE) -> Сидоров Максим | C10: =VLOOKUP($F10,УЧАСТНИКИ!$A$2:$L$1105,4,FALSE) -> 13.05.1986 | D10: =VLOOKUP($F10,УЧАСТНИКИ!$A$2:$L$1105,5,FALSE) -> Московская область | E10: =VLOOKUP($F10,УЧАСТНИКИ!$A$2:$L$1105,8,FALSE) -> МСМК | F10: 73 | P10: л
A11: 2 | B11: =VLOOKUP($F11,УЧАСТНИКИ!$A$2:$L$1105,3,FALSE) -> Козырев Евгений | C11: =VLOOKUP($F11,УЧАСТНИКИ!$A$2:$L$1105,4,FALSE) -> 10.01.1996 | D11: =VLOOKUP($F11,УЧАСТНИКИ!$A$2:$L$1105,5,FALSE) -> Воронежская область | E11: =VLOOKUP($F11,УЧАСТНИКИ!$A$2:$L$1105,8,FALSE) -> МС | F11: 415
A12: 3 | B12: =VLOOKUP($F12,УЧАСТНИКИ!$A$2:$L$1105,3,FALSE) -> Лядусов Константин | C12: =VLOOKUP($F12,УЧАСТНИКИ!$A$2:$L$1105,4,FALSE) -> 02.03.1988 | D12: =VLOOKUP($F12,УЧАСТНИКИ!$A$2:$L$1105,5,FALSE) -> Москва Ростовская область | E12: =VLOOKUP($F12,УЧАСТНИКИ!$A$2:$L$1105,8,FALSE) -> МСМК | F12: 308
A13: 4 | B13: =VLOOKUP($F13,УЧАСТНИКИ!$A$2:$L$1105,3,FALSE) -> Панчехин Сергей | C13: =VLOOKUP($F13,УЧАСТНИКИ!$A$2:$L$1105,4,FALSE) -> 11.05.1997 | D13: =VLOOKUP($F13,УЧАСТНИКИ!$A$2:$L$1105,5,FALSE) -> Краснодарский край | E13: =VLOOKUP($F13,УЧАСТНИКИ!$A$2:$L$1105,8,FALSE) -> МС | F13: 112 | P13: л
A14: 5 | B14: =VLOOKUP($F14,УЧАСТНИКИ!$A$2:$L$1105,3,FALSE) -> Афонин Максим | C14: =VLOOKUP($F14,УЧАСТНИКИ!$A$2:$L$1105,4,FALSE) -> 06.01.1992 | D14: =VLOOKUP($F14,УЧАСТНИКИ!$A$2:$L$1105,5,FALSE) -> Москва Московская область | E14: =VLOOKUP($F14,УЧАСТНИКИ!$A$2:$L$1105,8,FALSE) -> МСМК | F14: 5
A15: 6 | B15: =VLOOKUP($F15,УЧАСТНИКИ!$A$2:$L$1105,3,FALSE) -> Коноваленко Александр | C15: =VLOOKUP($F15,УЧАСТНИКИ!$A$2:$L$1105,4,FALSE) -> 12.03.1989 | D15: =VLOOKUP($F15,УЧАСТНИКИ!$A$2:$L$1105,5,FALSE) -> Иркутская область | E15: =VLOOKUP($F15,УЧАСТНИКИ!$A$2:$L$1105,8,FALSE) -> КМС | F15: 214
A16: 7 | B16: =VLOOKUP($F16,УЧАСТНИКИ!$A$2:$L$1105,3,FALSE) -> Бородаев Семен | C16: =VLOOKUP($F16,УЧАСТНИКИ!$A$2:$L$1105,4,FALSE) -> 04.05.2002 | D16: =VLOOKUP($F16,УЧАСТНИКИ!$A$2:$L$1105,5,FALSE) -> Ставропольский край | E16: =VLOOKUP($F16,УЧАСТНИКИ!$A$2:$L$1105,8,FALSE) -> КМС | F16: 334
A17: 8 | B17: =VLOOKUP($F17,УЧАСТНИКИ!$A$2:$L$1105,3,FALSE) -> Боклашов Андрей | C17: =VLOOKUP($F17,УЧАСТНИКИ!$A$2:$L$1105,4,FALSE) -> 10.04.1996 | D17: =VLOOKUP($F17,УЧАСТНИКИ!$A$2:$L$1105,5,FALSE) -> Воронежская область | E17: =VLOOKUP($F17,УЧАСТНИКИ!$A$2:$L$1105,8,FALSE) -> КМС | F17: 412 | P17: л
A18: 9 | B18: =VLOOKUP($F18,УЧАСТНИКИ!$A$2:$L$1105,3,FALSE) -> Лесной Александр | C18: =VLOOKUP($F18,УЧАСТНИКИ!$A$2:$L$1105,4,FALSE) -> 28.07.1988 | D18: =VLOOKUP($F18,УЧАСТНИКИ!$A$2:$L$1105,5,FALSE) -> Краснодарский край Нижегородская область | E18: =VLOOKUP($F18,УЧАСТНИКИ!$A$2:$L$1105,8,FALSE) -> МСМК | F18: 101
A19: 10 | B19: =VLOOKUP($F19,УЧАСТНИКИ!$A$2:$L$1105,3,FALSE) -> #N/A | C19: =VLOOKUP($F19,УЧАСТНИКИ!$A$2:$L$1105,4,FALSE) -> #N/A | D19: =VLOOKUP($F19,УЧАСТНИКИ!$A$2:$L$1105,5,FALSE) -> #N/A | E19: =VLOOKUP($F19,УЧАСТНИКИ!$A$2:$L$1105,8,FALSE) -> #N/A | P19: =VLOOKUP($F19,УЧАСТНИКИ!$A$2:$L$1105,9,FALSE) -> #N/A
A20: 11 | B20: =VLOOKUP($F20,УЧАСТНИКИ!$A$2:$L$1105,3,FALSE) -> #N/A | C20: =VLOOKUP($F20,УЧАСТНИКИ!$A$2:$L$1105,4,FALSE) -> #N/A | D20: =VLOOKUP($F20,УЧАСТНИКИ!$A$2:$L$1105,5,FALSE) -> #N/A | E20: =VLOOKUP($F20,УЧАСТНИКИ!$A$2:$L$1105,8,FALSE) -> #N/A | P20: =VLOOKUP($F20,УЧАСТНИКИ!$A$2:$L$1105,9,FALSE) -> #N/A
A21: 12 | B21: =VLOOKUP($F21,УЧАСТНИКИ!$A$2:$L$1105,3,FALSE) -> #N/A | C21: =VLOOKUP($F21,УЧАСТНИКИ!$A$2:$L$1105,4,FALSE) -> #N/A | D21: =VLOOKUP($F21,УЧАСТНИКИ!$A$2:$L$1105,5,FALSE) -> #N/A | E21: =VLOOKUP($F21,УЧАСТНИКИ!$A$2:$L$1105,8,FALSE) -> #N/A | P21: =VLOOKUP($F21,УЧАСТНИКИ!$A$2:$L$1105,9,FALSE) -> #N/A
A22: 13 | B22: =VLOOKUP($F22,УЧАСТНИКИ!$A$2:$L$1105,3,FALSE) -> #N/A | C22: =VLOOKUP($F22,УЧАСТНИКИ!$A$2:$L$1105,4,FALSE) -> #N/A | D22: =VLOOKUP($F22,УЧАСТНИКИ!$A$2:$L$1105,5,FALSE) -> #N/A | E22: =VLOOKUP($F22,УЧАСТНИКИ!$A$2:$L$1105,8,FALSE) -> #N/A | P22: =VLOOKUP($F22,УЧАСТНИКИ!$A$2:$L$1105,9,FALSE) -> #N/A
A23: 14 | B23: =VLOOKUP($F23,УЧАСТНИКИ!$A$2:$L$1105,3,FALSE) -> #N/A | C23: =VLOOKUP($F23,УЧАСТНИКИ!$A$2:$L$1105,4,FALSE) -> #N/A | D23: =VLOOKUP($F23,УЧАСТНИКИ!$A$2:$L$1105,5,FALSE) -> #N/A | E23: =VLOOKUP($F23,УЧАСТНИКИ!$A$2:$L$1105,8,FALSE) -> #N/A | P23: =VLOOKUP($F23,УЧАСТНИКИ!$A$2:$L$1105,9,FALSE) -> #N/A
A24: 15 | B24: =VLOOKUP($F24,УЧАСТНИКИ!$A$2:$L$1105,3,FALSE) -> #N/A | C24: =VLOOKUP($F24,УЧАСТНИКИ!$A$2:$L$1105,4,FALSE) -> #N/A | D24: =VLOOKUP($F24,УЧАСТНИКИ!$A$2:$L$1105,5,FALSE) -> #N/A | E24: =VLOOKUP($F24,УЧАСТНИКИ!$A$2:$L$1105,8,FALSE) -> #N/A | P24: =VLOOKUP($F24,УЧАСТНИКИ!$A$2:$L$1105,9,FALSE) -> #N/A
A25: 16 | B25: =VLOOKUP($F25,УЧАСТНИКИ!$A$2:$L$1105,3,FALSE) -> #N/A | C25: =VLOOKUP($F25,УЧАСТНИКИ!$A$2:$L$1105,4,FALSE) -> #N/A | D25: =VLOOKUP($F25,УЧАСТНИКИ!$A$2:$L$1105,5,FALSE) -> #N/A | E25: =VLOOKUP($F25,УЧАСТНИКИ!$A$2:$L$1105,8,FALSE) -> #N/A | P25: =VLOOKUP($F25,УЧАСТНИКИ!$A$2:$L$1105,9,FALSE) -> #N/A
A26: 17 | B26: =VLOOKUP($F26,УЧАСТНИКИ!$A$2:$L$1105,3,FALSE) -> #N/A | C26: =VLOOKUP($F26,УЧАСТНИКИ!$A$2:$L$1105,4,FALSE) -> #N/A | D26: =VLOOKUP($F26,УЧАСТНИКИ!$A$2:$L$1105,5,FALSE) -> #N/A | E26: =VLOOKUP($F26,УЧАСТНИКИ!$A$2:$L$1105,8,FALSE) -> #N/A | P26: =VLOOKUP($F26,УЧАСТНИКИ!$A$2:$L$1105,9,FALSE) -> #N/A
A27: 18 | B27: =VLOOKUP($F27,УЧАСТНИКИ!$A$2:$L$1105,3,FALSE) -> #N/A | C27: =VLOOKUP($F27,УЧАСТНИКИ!$A$2:$L$1105,4,FALSE) -> #N/A | D27: =VLOOKUP($F27,УЧАСТНИКИ!$A$2:$L$1105,5,FALSE) -> #N/A | E27: =VLOOKUP($F27,УЧАСТНИКИ!$A$2:$L$1105,8,FALSE) -> #N/A | P27: =VLOOKUP($F27,УЧАСТНИКИ!$A$2:$L$1105,9,FALSE) -> #N/A
A29: Рефери _________________ ( __________________________________________________________ )
A30: Ст. судья _________________ ( __________________________________________________________ )
A31: Секретарь ________________ ( __________________________________________________________ )
