Workbook
Name CUMM: '4х100'!#REF!
Name CUMM: '4х400'!#REF!
Name CUMM: '800'!#REF!
Name CUMM: #REF!
Name d_1: '1'!$A$1
Name d_2: '1'!$A$2
Name d_3: '1'!$A$3
Name d_4: '1'!$A$4
Name d_5: '1'!$A$5
Name d_6: '1'!$A$6
Name d_7: '1'!$A$7
Name date_1: '1'!$A$1
Name Name_1: '1'!$A$9
Name Name_2: '1'!$A$10
Name Name_3: '1'!$A$11
Name Name_4: '1'!$A$12
Name Name_5: '1'!$A$12
Name Name_6: '1'!$A$13
Name OLE_LINK1: УЧАСТНИКИ!$D$2
Name Tit_1: '1'!$A$9

Sheet 1
A1: 04.09.2019г.
A2: 05.09.2019г.
A3: 06.09.2019г.
A4: МУЖЧИНЫ
A5: г. Сочи, ул. Бзугу 2, ст. им. Славы Метревели
A6: t° +26 вл. 61%
A7: г. Сочи, Адлерский район, ул. Ленина СК "Юность"
A9: МИНИСТЕРСТВО ФИЗИЧЕСКОЙ КУЛЬТУРЫ И СПОРТА РОССИЙСКОЙ ФЕДЕРАЦИИ
A10: ВСЕРОССИЙСКАЯ ФЕДЕРАЦИЯ ЛЕГКОЙ АТЛЕТИКИ
A11: МИНИСТЕРСТВО ФИЗИЧЕСКОЙ КУЛЬТУРЫ И СПОРТА КРАСНОДАРСКОГО КРАЯ
A12: КОМАНДНЫЙ ЧЕМПИОНАТ РОССИИ
A13: ФЕДЕРАЦИЯ ЛЕГКОЙ АТЛЕТИКИ КРАСНОДАРСКОГО КРАЯ
A21: дисквал п.п. 162.7 | C21: фальстарт

Sheet УЧАСТНИКИ
B1: №№ | C1: ФАМИЛИЯ ИМЯ УЧАСТНИКА | D1: Год.рожд | E1: НАЗВАНИЕ КОМАНДЫ | F1: ВИД | G1: Округ | H1: Разряд | I1: лично | J1: ТРЕНЕР(ы) | K1: ДСО Ведомство
A2: 332 | C2: Надыров Ильдар | D2: 22.04.1994 | E2: Алтайский край | F2: Бег с препятствиями 3 000 м | H2: КМС | I2: К | J2: Клевцова Н.В., Буцык Ю.Г., Пудов Е.Н. | K2: КГБ ПОУ "Алтайское училище олимпийского резерва"
A3: 351 | C3: Радионов Максим | D3: 12.01.2000 | E3: Астраханская область | F3: Бег 100 м | H3: КМС | I3: К | J3: Шевель Н.А. | K3: ГБУ АО "ОСШ"
A4: 351 | C4: Радионов Максим | D4: 12.01.2000 | E4: Астраханская область | F4: Бег 200 м | H4: КМС | I4: К | J4: Шевель Н.А. | K4: ГБУ АО "ОСШ"
A5: 284 | C5: Яковлев Всеволод | D5: 20.05.1996 | E5: Белгородская область | F5: Бег 400 м | H5: КМС | I5: К | J5: Горлов А.Н. | K5: Динамо МБУ СШОР №3 г.Белгорода
A6: 395 | C6: Болотов Сергей | D6: 09.04.1996 | E6: Владимирская область | F6: Бег 1500 м | H6: КМС | I6: К | J6: Герцен Е.А., Саков А.П. | K6: МБУ "СШОР №4"
A7: 395 | C7: Болотов Сергей | D7: 09.04.1996 | E7: Владимирская область | F7: Эстафетный бег 4 х 400 м | H7: КМС | I7: К | J7: Герцен Е.А., Саков А.П. | K7: МБУ "СШОР №4"
A8: 398 | C8: Мельников Максим | D8: 11.03.2002 | E8: Владимирская область | F8: Эстафетный бег 4 х 400 м | H8: 1 | I8: К | J8: Бабайлова О.А. | K8: МБУ "СШОР № 4"
A9: 399 | C9: Семенов Геннадий | D9: 05.08.1997 | E9: Владимирская область | F9: Метание диска | H9: КМС | I9: К | J9: Харченко А.Б., Котов С.В. | K9: МБУ "СШОР №4"
A10: 379 | C10: Зеленский Андрей | D10: 22.01.1997 | E10: Волгоградская область | F10: Бег 100 м | H10: МС | I10: К | J10: Кайдалин В.С. | K10: ГБУ ВО "СШОР по легкой атлетике"
A11: 384 | C11: Лобков Максим | D11: 20.05.1997 | E11: Волгоградская область | F11: Барьерный бег 110 м | H11: МС | I11: К | J11: Кайдалин В.С. | K11: ВС ГБУ ВО "СШОР по легкой атлетике"
A12: 6 | C12: Богданов Денис | D12: 02.04.1991 | E12: Волгоградская область Москва | F12: Прыжок в длину | H12: МС | I12: К | J12: Кузин В.В., Кобышева Е.Л., Кудряшов Ю.А. | K12: ГАУ ВО ЦСП "Олимп"
A13: 252 | C13: Новослугин Максим | D13: 21.08.1995 | E13: Вологодская область | F13: Эстафетный бег 4 х 100 м | H13: МС | I13: К | J13: Франков А.А., Воробьева Н.Н., Синицкий А.Д. | K13: Профсоюзы АУ ВО "СШ Витязь"
... A29: 420 | C29: Рязанцев Александр | D29: 01.12.1993 | E29: Воронежская область | F29: Бег 1500 м | H29: КМС | I29: К | J29: Аплачкин А.И., Осипов С.А. | K29: ГБУ ВО "СШОР №21"
C30: Ткаченко Никита | D30: 17.05.1997 | E30: Воронежская область | F30: Метание диска | H30: КМС | I30: К | J30: Ткаченко А.П. | K30: ГБУ ВО "СШОР №21"
A31: 422 | C31: Трубников Иван | D31: 25.02.1996 | E31: Воронежская область | F31: Барьерный бег 400 м | H31: КМС | I31: К | J31: Бабкин А.П., Демиденкова Г.А. | K31: ГБУ ВО "СШОР №21"
A32: 423 | C32: Шабаев Ринат | D32: 28.11.1996 | E32: Воронежская область | F32: Бег 800 м | H32: КМС | I32: К | J32: Бабкин А.П., Демиденкова Г.А. | K32: ГБУ ВО "СШОР №21"
A33: 212 | C33: Идрисов Михаил | D33: 21.06.1988 | E33: Иркутская область | F33: Бег 100 м | H33: МСМК | I33: К | J33: Жилкин Г.М., Идрисов Н.М., Потапов А.Ю. | K33: ОГКУ СШОР "ШВСМ"
A34: 212 | C34: Идрисов Михаил | D34: 21.06.1988 | E34: Иркутская область | F34: Эстафетный бег 4 х 100 м | H34: МСМК | I34: К | J34: Жилкин Г.М., Идрисов Н.М., Потапов А.Ю. | K34: ОГКУ СШОР "ШВСМ"
A35: 213 | C35: Идрисов Тимур | D35: 03.02.1999 | E35: Иркутская область | F35: Прыжок в длину | H35: КМС | I35: К | J35: Идрисов Н.М., Потапов А.Ю. | K35: ОГКУ СШОР "ШВСМ", ОГБУ "ЦСПСКИО", ФГБУ ПОО ГУОР г.Иркутска
A36: 214 | C36: Коноваленко Александр | D36: 12.03.1989 | E36: Иркутская область | F36: Толкание ядра | H36: КМС | I36: К | J36: Зайцев А.И. | K36: ОГКУ СШОР "ШВСМ"
A37: 215 | C37: Копырялов Артём | D37: 15.11.1993 | E37: Иркутская область | F37: Бег 200 м | H37: МС | I37: К | J37: Потапов А.Ю., Потапова Н.М. | K37: ОГКУ СШОР "ШВСМ"
A38: 215 | C38: Копырялов Артём | D38: 15.11.1993 | E38: Иркутская область | F38: Эстафетный бег 4 х 100 м | H38: МС | I38: К | J38: Потапов А.Ю., Потапова Н.М. | K38: ОГКУ СШОР "ШВСМ"
A39: 217 | C39: Овсянников Никита | D39: 15.02.2001 | E39: Иркутская область | F39: Эстафетный бег 4 х 100 м | H39: КМС | I39: К | J39: Потапов А.Ю. | K39: МБУ "СШОР "Ангара", ОГКУ СШОР "ШВСМ"
A40: 218 | C40: Резвых Вадим | D40: 09.11.1994 | E40: Иркутская область | F40: Барьерный бег 400 м | H40: МС | I40: К | J40: Потапов А.Ю., Потапова Н.М., Черкашина А.В. | K40: ОГКУ СШОР "ШВСМ", МБУ "СШОР "Ангара"
A41: 219 | C41: Скулин Владислав | D41: 26.06.2002 | E41: Иркутская область | F41: Эстафетный бег 4 х 100 м | H41: КМС | I41: К | J41: Гербич Т.В., Крицкова А.Г. | K41: ОГКУ СШОР "ШВСМ", ФГБУ ПОО ГУОР г.Иркутска, МБОУ ДО г.Иркутска "ДЮСШ №3"
A42: 196 | C42: Зотеев Евгений | D42: 24.08.1991 | E42: Кабардино-Балкарская республика Краснодарский край | F42: Метание копья | H42: МС | I42: К | J42: Артамонов А.О., Синицын А.В. | K42: ГКУ КБР "СШОР"
... A44: 179 | C44: Спиридонов Олег | D44: 16.08.1999 | E44: Калининградская область Санкт-Петербург | F44: Эстафетный бег 4 х 100 м | H44: МС | I44: К | J44: Антунович Г.П., Шабанов Г.К., Смирягин Е.В. | K44: МБУ "СШОР №4 по легкой атлетике", ГБПОУ КО УОР, ГБУ "СШОР" "Академия легкой атлетики Санкт-Петербурга"
C45: Батчаев Ильяс | D45: 28.03.1991 | E45: Карачаево-Черкесская республика | F45: Метание диска | H45: МС | I45: К | J45: Вяльцева В.Г., Васильев С.В. | K45: РГБУ "ЦСП КЧР"
A46: 342 | C46: Высочин Никита | D46: 20.10.1996 | E46: Кемеровская область | F46: Барьерный бег 400 м | H46: МС | I46: К | J46: Деревягин А.А., Кислых М.В. | K46: ГБФСУ КО "СШОР по легкой атлетике им. В.А.Савенкова"
A47: 343 | C47: Хайлов Андрей | D47: 03.07.1989 | E47: Кемеровская область | F47: Барьерный бег 110 м | H47: МС | I47: К | J47: Хайлов С.Н. | K47: ВС ГБФСУ КО "СШОР по легкой атлетике им. В.А.Савенкова"
A48: 88 | C48: Дога Евгений | D48: 08.03.1984 | E48: Краснодарский край | F48: Бег 5 000 м | H48: МС | I48: К | J48: Гуков А.О. | K48: ГБУ КК "РЦСП по легкой атлетике", ГБУ КК "ЦОП по легкой атлетике"
A49: 93 | C49: Калашников Юрий | D49: 06.01.1999 | E49: Краснодарский край | F49: Бег с препятствиями 3 000 м | H49: КМС | I49: К | J49: Злобин В.П. | K49: ГБУ КК "РЦСП по легкой атлетике", МБУ ДО "ДЮСШ №1"
A50: 94 | C50: Кипор Арсений | D50: 23.09.2004 | E50: Краснодарский край | F50: Бег 100 м | H50: 1 | I50: Л | J50: Толстиков В.И. | K50: МБОУ СОШ №8 Туапсинский район
A51: 95 | C51: Кислица Алексей | D51: 06.07.1999 | E51: Краснодарский край | F51: Метание диска | H51: МС | I51: К | J51: Синицын А.В., Левин М.А. | K51: ГБУ КК "РЦСП по легкой атлетике", ГБУ КК "ЦОП по легкой атлетике"
C52: Кропочев Константин | D52: 17.03.1999 | E52: Краснодарский край | F52: Бег 100 м | H52: КМС | I52: Л | J52: Малышев В.В. | K52: ГБУ КК "ЦОП по легкой атлетике", ГБУ КК "РЦСП по легкой атлетике"
A53: 100 | C53: Кропочев Константин | D53: 17.03.1999 | E53: Краснодарский край | F53: Бег 200 м | H53: КМС | I53: Л | J53: Малышев В.В. | K53: ГБУ КК "ЦОП по легкой атлетике", ГБУ КК "РЦСП по легкой атлетике"
A54: 104 | C54: Масютенко Александр | D54: 27.04.1998 | E54: Краснодарский край | F54: Бег 200 м | H54: КМС | I54: К | J54: Романов А.В. | K54: ГБУ КК "ЦОП по легкой атлетике", ГБУ КК "РЦСП по легкой атлетике"
A55: 104 | C55: Масютенко Александр | D55: 27.04.1998 | E55: Краснодарский край | F55: Бег 400 м | H55: КМС | I55: К | J55: Романов А.В. | K55: ГБУ КК "ЦОП по легкой атлетике", ГБУ КК "РЦСП по легкой атлетике"
A56: 107 | C56: Михайловский Сергей | D56: 20.05.1987 | E56: Краснодарский край | F56: Прыжок в длину | H56: МСМК | I56: Л | J56: Котова Т.В. | K56: ГБУ КК "ЦОП по легкой атлетике", ГБУ КК "РЦСП по легкой атлетике"
...

Sheet 800
A1: =Name_2 -> ВСЕРОССИЙСКАЯ ФЕДЕРАЦИЯ ЛЕГКОЙ АТЛЕТИКИ
A2: СТАРТОВЫЙ ПРОТОКОЛ
A3: =Name_4 -> КОМАНДНЫЙ ЧЕМПИОНАТ РОССИИ
E4: ФИНАЛЬНЫЕ ЗАБЕГИ
A5: =d_4 -> МУЖЧИНЫ | C5: РМ | D5: 1:40,91 | F5: =d_3 -> 06.09.2019г. | H5: начало: | I5: 17:45
A6: Бег 800 м | C6: РЕ | D6: 1:41,11 | H6: окончание:
C7: РР | D7: 1:42,47 | J7: =d_5 -> г. Сочи, ул. Бзугу 2, ст. им. Славы Метревели
A8: № п/п | B8: Фамилия, имя участника | C8: Дата рождения | D8: Территория | E8: Заявленный разряд | F8: Номер участника | G8: Приход | H8: Результат | I8: Место | J8: Примеч.
B9: 1 ЗАБЕГ
A10: 1 | B10: =VLOOKUP($F10,УЧАСТНИКИ!$A$2:$L$1105,3,FALSE) -> Харитонов Алексей | C10: =VLOOKUP($F10,УЧАСТНИКИ!$A$2:$L$1105,4,FALSE) -> 04.07.1991 | D10: =VLOOKUP($F10,УЧАСТНИКИ!$A$2:$L$1105,5,FALSE) -> Санкт-Петербург | E10: =VLOOKUP($F10,УЧАСТНИКИ!$A$2:$L$1105,8,FALSE) -> МС | F10: 182
A11: 2 | B11: =VLOOKUP($F11,УЧАСТНИКИ!$A$2:$L$1105,3,FALSE) -> Козлов Антон | C11: =VLOOKUP($F11,УЧАСТНИКИ!$A$2:$L$1105,4,FALSE) -> 09.03.1994 | D11: =VLOOKUP($F11,УЧАСТНИКИ!$A$2:$L$1105,5,FALSE) -> Ямало-Ненецкий автономный округ Владимирская область | E11: =VLOOKUP($F11,УЧАСТНИКИ!$A$2:$L$1105,8,FALSE) -> МС | F11: 396
A12: 3 | B12: =VLOOKUP($F12,УЧАСТНИКИ!$A$2:$L$1105,3,FALSE) -> Бутранов Алексей | C12: =VLOOKUP($F12,УЧАСТНИКИ!$A$2:$L$1105,4,FALSE) -> 18.08.1991 | D12: =VLOOKUP($F12,УЧАСТНИКИ!$A$2:$L$1105,5,FALSE) -> Московская область | E12: =VLOOKUP($F12,УЧАСТНИКИ!$A$2:$L$1105,8,FALSE) -> МС | F12: 55 | J12: Л
A13: 4 | B13: =VLOOKUP($F13,УЧАСТНИКИ!$A$2:$L$1105,3,FALSE) -> Толоконников Константин | C13: =VLOOKUP($F13,УЧАСТНИКИ!$A$2:$L$1105,4,FALSE) -> 26.02.1996 | D13: =VLOOKUP($F13,УЧАСТНИКИ!$A$2:$L$1105,5,FALSE) -> Московская область Ростовская область | E13: =VLOOKUP($F13,УЧАСТНИКИ!$A$2:$L$1105,8,FALSE) -> МСМК | F13: 78
A14: 5 | B14: =VLOOKUP($F14,УЧАСТНИКИ!$A$2:$L$1105,3,FALSE) -> Вербицкий Николай | C14: =VLOOKUP($F14,УЧАСТНИКИ!$A$2:$L$1105,4,FALSE) -> 16.12.1995 | D14: =VLOOKUP($F14,УЧАСТНИКИ!$A$2:$L$1105,5,FALSE) -> Московская область Республика Бурятия | E14: =VLOOKUP($F14,УЧАСТНИКИ!$A$2:$L$1105,8,FALSE) -> МС | F14: 56 | J14: Л
A15: 6 | B15: =VLOOKUP($F15,УЧАСТНИКИ!$A$2:$L$1105,3,FALSE) -> Шабаев Ринат | C15: =VLOOKUP($F15,УЧАСТНИКИ!$A$2:$L$1105,4,FALSE) -> 28.11.1996 | D15: =VLOOKUP($F15,УЧАСТНИКИ!$A$2:$L$1105,5,FALSE) -> Воронежская область | E15: =VLOOKUP($F15,УЧАСТНИКИ!$A$2:$L$1105,8,FALSE) -> КМС | F15: 423
A16: 6 | B16: =VLOOKUP($F16,УЧАСТНИКИ!$A$2:$L$1105,3,FALSE) -> Малахов Евгений | C16: =VLOOKUP($F16,УЧАСТНИКИ!$A$2:$L$1105,4,FALSE) -> 26.06.1996 | D16: =VLOOKUP($F16,УЧАСТНИКИ!$A$2:$L$1105,5,FALSE) -> Самарская область | E16: =VLOOKUP($F16,УЧАСТНИКИ!$A$2:$L$1105,8,FALSE) -> МС | F16: 194
A17: 7 | B17: =VLOOKUP($F17,УЧАСТНИКИ!$A$2:$L$1105,3,FALSE) -> Стрельников Данил | C17: =VLOOKUP($F17,УЧАСТНИКИ!$A$2:$L$1105,4,FALSE) -> 03.05.1992 | D17: =VLOOKUP($F17,УЧАСТНИКИ!$A$2:$L$1105,5,FALSE) -> Республика Башкортостан | E17: =VLOOKUP($F17,УЧАСТНИКИ!$A$2:$L$1105,8,FALSE) -> МС | F17: 349
A18: 8 | B18: =VLOOKUP($F18,УЧАСТНИКИ!$A$2:$L$1105,3,FALSE) -> Переметов Данил | C18: =VLOOKUP($F18,УЧАСТНИКИ!$A$2:$L$1105,4,FALSE) -> 18.03.1995 | D18: =VLOOKUP($F18,УЧАСТНИКИ!$A$2:$L$1105,5,FALSE) -> Краснодарский край | E18: =VLOOKUP($F18,УЧАСТНИКИ!$A$2:$L$1105,8,FALSE) -> МС | F18: 114
B19: 2 ЗАБЕГ
A20: 1 | B20: =VLOOKUP($F20,УЧАСТНИКИ!$A$2:$L$1105,3,FALSE) -> Березин Иван | C20: =VLOOKUP($F20,УЧАСТНИКИ!$A$2:$L$1105,4,FALSE) -> 12.06.1990 | D20: =VLOOKUP($F20,УЧАСТНИКИ!$A$2:$L$1105,5,FALSE) -> Санкт-Петербург | E20: =VLOOKUP($F20,УЧАСТНИКИ!$A$2:$L$1105,8,FALSE) -> МС | F20: 132 | J20: Л
A21: 2 | B21: =VLOOKUP($F21,УЧАСТНИКИ!$A$2:$L$1105,3,FALSE) -> Куверин Александр | C21: =VLOOKUP($F21,УЧАСТНИКИ!$A$2:$L$1105,4,FALSE) -> 14.06.1995 | D21: =VLOOKUP($F21,УЧАСТНИКИ!$A$2:$L$1105,5,FALSE) -> Санкт-Петербург | E21: =VLOOKUP($F21,УЧАСТНИКИ!$A$2:$L$1105,8,FALSE) -> МС | F21: 154 | J21: Л
A22: 3 | B22: =VLOOKUP($F22,УЧАСТНИКИ!$A$2:$L$1105,3,FALSE) -> Петров Тимофей | C22: =VLOOKUP($F22,УЧАСТНИКИ!$A$2:$L$1105,4,FALSE) -> 25.08.1988 | D22: =VLOOKUP($F22,УЧАСТНИКИ!$A$2:$L$1105,5,FALSE) -> Санкт-Петербург | E22: =VLOOKUP($F22,УЧАСТНИКИ!$A$2:$L$1105,8,FALSE) -> МС | F22: 166
A23: 4 | B23: =VLOOKUP($F23,УЧАСТНИКИ!$A$2:$L$1105,3,FALSE) -> Перегудов Степан | C23: =VLOOKUP($F23,УЧАСТНИКИ!$A$2:$L$1105,4,FALSE) -> 30.01.1994 | D23: =VLOOKUP($F23,УЧАСТНИКИ!$A$2:$L$1105,5,FALSE) -> Краснодарский край | E23: =VLOOKUP($F23,УЧАСТНИКИ!$A$2:$L$1105,8,FALSE) -> МС | F23: 113 | J23: Л
A24: 5 | B24: =VLOOKUP($F24,УЧАСТНИКИ!$A$2:$L$1105,3,FALSE) -> Мазный Богдан | C24: =VLOOKUP($F24,УЧАСТНИКИ!$A$2:$L$1105,4,FALSE) -> 26.10.1999 | D24: =VLOOKUP($F24,УЧАСТНИКИ!$A$2:$L$1105,5,FALSE) -> ЮФО (К) | E24: =VLOOKUP($F24,УЧАСТНИКИ!$A$2:$L$1105,8,FALSE) -> КМС | F24: 389
A25: 6 | B25: =VLOOKUP($F25,УЧАСТНИКИ!$A$2:$L$1105,3,FALSE) -> Селиванов Олег | C25: =VLOOKUP($F25,УЧАСТНИКИ!$A$2:$L$1105,4,FALSE) -> 07.05.1994 | D25: =VLOOKUP($F25,УЧАСТНИКИ!$A$2:$L$1105,5,FALSE) -> Санкт-Петербург | E25: =VLOOKUP($F25,УЧАСТНИКИ!$A$2:$L$1105,8,FALSE) -> КМС | F25: 175 | J25: Л
A26: 7 | B26: =VLOOKUP($F26,УЧАСТНИКИ!$A$2:$L$1105,3,FALSE) -> Колоколенков Михаил | C26: =VLOOKUP($F26,УЧАСТНИКИ!$A$2:$L$1105,4,FALSE) -> 14.11.1995 | D26: =VLOOKUP($F26,УЧАСТНИКИ!$A$2:$L$1105,5,FALSE) -> Рязанская область | E26: =VLOOKUP($F26,УЧАСТНИКИ!$A$2:$L$1105,8,FALSE) -> КМС | F26: 363
A27: 8 | B27: =VLOOKUP($F27,УЧАСТНИКИ!$A$2:$L$1105,3,FALSE) -> Хворостухин Павел | C27: =VLOOKUP($F27,УЧАСТНИКИ!$A$2:$L$1105,4,FALSE) -> 18.06.1986 | D27: =VLOOKUP($F27,УЧАСТНИКИ!$A$2:$L$1105,5,FALSE) -> Санкт-Петербург Москва | E27: =VLOOKUP($F27,УЧАСТНИКИ!$A$2:$L$1105,8,FALSE) -> МС | F27: 183 | J27: Л
B28: 3 ЗАБЕГ
A29: 1 | B29: =VLOOKUP($F29,УЧАСТНИКИ!$A$2:$L$1105,3,FALSE) -> Самиев Алексей | C29: =VLOOKUP($F29,УЧАСТНИКИ!$A$2:$L$1105,4,FALSE) -> 23.03.2001 | D29: =VLOOKUP($F29,УЧАСТНИКИ!$A$2:$L$1105,5,FALSE) -> Республика Башкортостан | E29: =VLOOKUP($F29,УЧАСТНИКИ!$A$2:$L$1105,8,FALSE) -> 1 | F29: 347
A30: 2 | B30: =VLOOKUP($F30,УЧАСТНИКИ!$A$2:$L$1105,3,FALSE) -> Бекяшев Михаил | C30: =VLOOKUP($F30,УЧАСТНИКИ!$A$2:$L$1105,4,FALSE) -> 15.05.1997 | D30: =VLOOKUP($F30,УЧАСТНИКИ!$A$2:$L$1105,5,FALSE) -> Санкт-Петербург | E30: =VLOOKUP($F30,УЧАСТНИКИ!$A$2:$L$1105,8,FALSE) -> КМС | F30: 131 | J30: =VLOOKUP($F30,УЧАСТНИКИ!$A$2:$L$1105,9,FALSE) -> Л
A31: 3 | B31: =VLOOKUP($F31,УЧАСТНИКИ!$A$2:$L$1105,3,FALSE) -> Носков Владислав | C31: =VLOOKUP($F31,УЧАСТНИКИ!$A$2:$L$1105,4,FALSE) -> 19.12.1997 | D31: =VLOOKUP($F31,УЧАСТНИКИ!$A$2:$L$1105,5,FALSE) -> Санкт-Петербург | E31: =VLOOKUP($F31,УЧАСТНИКИ!$A$2:$L$1105,8,FALSE) -> КМС | F31: 164 | J31: Л
A32: 4 | B32: =VLOOKUP($F32,УЧАСТНИКИ!$A$2:$L$1105,3,FALSE) -> Морозкин Вадим | C32: =VLOOKUP($F32,УЧАСТНИКИ!$A$2:$L$1105,4,FALSE) -> 30.08.1997 | D32: =VLOOKUP($F32,УЧАСТНИКИ!$A$2:$L$1105,5,FALSE) -> Республика Мордовия | E32: =VLOOKUP($F32,УЧАСТНИКИ!$A$2:$L$1105,8,FALSE) -> КМС | F32: 297
A33: 5 | B33: =VLOOKUP($F33,УЧАСТНИКИ!$A$2:$L$1105,3,FALSE) -> Постников Валерий | C33: =VLOOKUP($F33,УЧАСТНИКИ!$A$2:$L$1105,4,FALSE) -> 25.06.1991 | D33: =VLOOKUP($F33,УЧАСТНИКИ!$A$2:$L$1105,5,FALSE) -> Санкт-Петербург | E33: =VLOOKUP($F33,УЧАСТНИКИ!$A$2:$L$1105,8,FALSE) -> КМС | F33: 172 | J33: Л
A34: 6 | B34: =VLOOKUP($F34,УЧАСТНИКИ!$A$2:$L$1105,3,FALSE) -> Смирнов Михаил | C34: =VLOOKUP($F34,УЧАСТНИКИ!$A$2:$L$1105,4,FALSE) -> 05.08.1997 | D34: =VLOOKUP($F34,УЧАСТНИКИ!$A$2:$L$1105,5,FALSE) -> Санкт-Петербург | E34: =VLOOKUP($F34,УЧАСТНИКИ!$A$2:$L$1105,8,FALSE) -> КМС | F34: 177 | J34: Л
A35: 6 | B35: =VLOOKUP($F35,УЧАСТНИКИ!$A$2:$L$1105,3,FALSE) -> Фурса Тимур | C35: =VLOOKUP($F35,УЧАСТНИКИ!$A$2:$L$1105,4,FALSE) -> 15.01.2001 | D35: =VLOOKUP($F35,УЧАСТНИКИ!$A$2:$L$1105,5,FALSE) -> ЮФО (К) | E35: =VLOOKUP($F35,УЧАСТНИКИ!$A$2:$L$1105,8,FALSE) -> 1 | F35: 394 | J35: Л
A36: 7 | B36: =VLOOKUP($F36,УЧАСТНИКИ!$A$2:$L$1105,3,FALSE) -> Ганичев Сергей | C36: =VLOOKUP($F36,УЧАСТНИКИ!$A$2:$L$1105,4,FALSE) -> 16.11.2001 | D36: =VLOOKUP($F36,УЧАСТНИКИ!$A$2:$L$1105,5,FALSE) -> Санкт-Петербург | E36: =VLOOKUP($F36,УЧАСТНИКИ!$A$2:$L$1105,8,FALSE) -> 1 | F36: 139 | J36: Л
A37: 8 | B37: =VLOOKUP($F37,УЧАСТНИКИ!$A$2:$L$1105,3,FALSE) -> Черненко Илья | C37: =VLOOKUP($F37,УЧАСТНИКИ!$A$2:$L$1105,4,FALSE) -> 30.08.1998 | D37: =VLOOKUP($F37,УЧАСТНИКИ!$A$2:$L$1105,5,FALSE) -> Санкт-Петербург | E37: =VLOOKUP($F37,УЧАСТНИКИ!$A$2:$L$1105,8,FALSE) -> КМС | F37: 185 | J37: Л
B38: 4 ЗАБЕГ
A39: 1 | B39: =VLOOKUP($F39,УЧАСТНИКИ!$A$2:$L$1105,3,FALSE) -> #N/A | C39: =VLOOKUP($F39,УЧАСТНИКИ!$A$2:$L$1105,4,FALSE) -> #N/A | D39: =VLOOKUP($F39,УЧАСТНИКИ!$A$2:$L$1105,5,FALSE) -> #N/A | E39: =VLOOKUP($F39,УЧАСТНИКИ!$A$2:$L$1105,8,FALSE) -> #N/A | J39: =VLOOKUP($F39,УЧАСТНИКИ!$A$2:$L$1105,9,FALSE) -> #N/A
A40: 2 | B40: =VLOOKUP($F40,УЧАСТНИКИ!$A$2:$L$1105,3,FALSE) -> #N/A | C40: =VLOOKUP($F40,УЧАСТНИКИ!$A$2:$L$1105,4,FALSE) -> #N/A | D40: =VLOOKUP($F40,УЧАСТНИКИ!$A$2:$L$1105,5,FALSE) -> #N/A | E40: =VLOOKUP($F40,УЧАСТНИКИ!$A$2:$L$1105,8,FALSE) -> #N/A | J40: =VLOOKUP($F40,УЧАСТНИКИ!$A$2:$L$1105,9,FALSE) -> #N/A
...

Sheet 4х100
A1: =Name_2 -> ВСЕРОССИЙСКАЯ ФЕДЕРАЦИЯ ЛЕГКОЙ АТЛЕТИКИ
A2: СТАРТОВЫЙ ПРОТОКОЛ
A3: =Name_4 -> КОМАНДНЫЙ ЧЕМПИОНАТ РОССИИ
E4: ФИНАЛЬНЫЕ ЗАБЕГИ
A5: =d_4 -> МУЖЧИНЫ | C5: РМ | D5: 36,84 | F5: =d_3 -> 06.09.2019г. | H5: начало: | I5: 17:15
A6: Эстафета 4х100 м | C6: РЕ | D6: 37,73 | H6: окончание:
C7: РР | D7: 38,46 | J7: =d_5 -> г. Сочи, ул. Бзугу 2, ст. им. Славы Метревели
A8: № п/п | B8: Фамилия, имя участника | C8: Дата рождения | D8: Территория | E8: Заявленный разряд | F8: Номер участника | G8: Приход | H8: Результат | I8: Место | J8: Примеч.
B9: 1 ЗАБЕГ
A10: 1 | B10: =VLOOKUP($F10,УЧАСТНИКИ!$A$2:$L$1105,3,FALSE) -> #N/A | C10: =VLOOKUP($F10,УЧАСТНИКИ!$A$2:$L$1105,4,FALSE) -> #N/A | D10: =VLOOKUP($F10,УЧАСТНИКИ!$A$2:$L$1105,5,FALSE) -> #N/A | E10: =VLOOKUP($F10,УЧАСТНИКИ!$A$2:$L$1105,8,FALSE) -> #N/A | J10: =VLOOKUP($F10,УЧАСТНИКИ!$A$2:$L$1105,9,FALSE) -> #N/A
A11: 1 | B11: =VLOOKUP($F11,УЧАСТНИКИ!$A$2:$L$1105,3,FALSE) -> #N/A | C11: =VLOOKUP($F11,УЧАСТНИКИ!$A$2:$L$1105,4,FALSE) -> #N/A | D11: =VLOOKUP($F11,УЧАСТНИКИ!$A$2:$L$1105,5,FALSE) -> #N/A | E11: =VLOOKUP($F11,УЧАСТНИКИ!$A$2:$L$1105,8,FALSE) -> #N/A | J11: =VLOOKUP($F11,УЧАСТНИКИ!$A$2:$L$1105,9,FALSE) -> #N/A
A12: 1 | B12: =VLOOKUP($F12,УЧАСТНИКИ!$A$2:$L$1105,3,FALSE) -> #N/A | C12: =VLOOKUP($F12,УЧАСТНИКИ!$A$2:$L$1105,4,FALSE) -> #N/A | D12: =VLOOKUP($F12,УЧАСТНИКИ!$A$2:$L$1105,5,FALSE) -> #N/A | E12: =VLOOKUP($F12,УЧАСТНИКИ!$A$2:$L$1105,8,FALSE) -> #N/A | J12: =VLOOKUP($F12,УЧАСТНИКИ!$A$2:$L$1105,9,FALSE) -> #N/A
A13: 1 | B13: =VLOOKUP($F13,УЧАСТНИКИ!$A$2:$L$1105,3,FALSE) -> #N/A | C13: =VLOOKUP($F13,УЧАСТНИКИ!$A$2:$L$1105,4,FALSE) -> #N/A | D13: =VLOOKUP($F13,УЧАСТНИКИ!$A$2:$L$1105,5,FALSE) -> #N/A | E13: =VLOOKUP($F13,УЧАСТНИКИ!$A$2:$L$1105,8,FALSE) -> #N/A | J13: =VLOOKUP($F13,УЧАСТНИКИ!$A$2:$L$1105,9,FALSE) -> #N/A
A14: 1 | B14: =VLOOKUP($F14,УЧАСТНИКИ!$A$2:$L$1105,3,FALSE) -> #N/A | C14: =VLOOKUP($F14,УЧАСТНИКИ!$A$2:$L$1105,4,FALSE) -> #N/A | D14: =VLOOKUP($F14,УЧАСТНИКИ!$A$2:$L$1105,5,FALSE) -> #N/A | E14: =VLOOKUP($F14,УЧАСТНИКИ!$A$2:$L$1105,8,FALSE) -> #N/A | J14: =VLOOKUP($F14,УЧАСТНИКИ!$A$2:$L$1105,9,FALSE) -> #N/A
A15: 1 | B15: =VLOOKUP($F15,УЧАСТНИКИ!$A$2:$L$1105,3,FALSE) -> #N/A | C15: =VLOOKUP($F15,УЧАСТНИКИ!$A$2:$L$1105,4,FALSE) -> #N/A | D15: =VLOOKUP($F15,УЧАСТНИКИ!$A$2:$L$1105,5,FALSE) -> #N/A | E15: =VLOOKUP($F15,УЧАСТНИКИ!$A$2:$L$1105,8,FALSE) -> #N/A | J15: =VLOOKUP($F15,УЧАСТНИКИ!$A$2:$L$1105,9,FALSE) -> #N/A
A17: 2 | B17: =VLOOKUP($F17,УЧАСТНИКИ!$A$2:$L$1105,3,FALSE) -> Скулин Владислав | C17: =VLOOKUP($F17,УЧАСТНИКИ!$A$2:$L$1105,4,FALSE) -> 26.06.2002 | D17: =VLOOKUP($F17,УЧАСТНИКИ!$A$2:$L$1105,5,FALSE) -> Иркутская область | E17: =VLOOKUP($F17,УЧАСТНИКИ!$A$2:$L$1105,8,FALSE) -> КМС | F17: 219
A18: 2 | B18: =VLOOKUP($F18,УЧАСТНИКИ!$A$2:$L$1105,3,FALSE) -> Овсянников Никита | C18: =VLOOKUP($F18,УЧАСТНИКИ!$A$2:$L$1105,4,FALSE) -> 15.02.2001 | E18: =VLOOKUP($F18,УЧАСТНИКИ!$A$2:$L$1105,8,FALSE) -> КМС | F18: 217
A19: 2 | B19: =VLOOKUP($F19,УЧАСТНИКИ!$A$2:$L$1105,3,FALSE) -> Копырялов Артём | C19: =VLOOKUP($F19,УЧАСТНИКИ!$A$2:$L$1105,4,FALSE) -> 15.11.1993 | E19: =VLOOKUP($F19,УЧАСТНИКИ!$A$2:$L$1105,8,FALSE) -> МС | F19: 215
A20: 2 | B20: =VLOOKUP($F20,УЧАСТНИКИ!$A$2:$L$1105,3,FALSE) -> Идрисов Михаил | C20: =VLOOKUP($F20,УЧАСТНИКИ!$A$2:$L$1105,4,FALSE) -> 21.06.1988 | E20: =VLOOKUP($F20,УЧАСТНИКИ!$A$2:$L$1105,8,FALSE) -> МСМК | F20: 212
A22: 3 | B22: =VLOOKUP($F22,УЧАСТНИКИ!$A$2:$L$1105,3,FALSE) -> Новослугин Максим | C22: =VLOOKUP($F22,УЧАСТНИКИ!$A$2:$L$1105,4,FALSE) -> 21.08.1995 | D22: =VLOOKUP($F22,УЧАСТНИКИ!$A$2:$L$1105,5,FALSE) -> Вологодская область | E22: =VLOOKUP($F22,УЧАСТНИКИ!$A$2:$L$1105,8,FALSE) -> МС | F22: 252
A23: 3 | B23: =VLOOKUP($F23,УЧАСТНИКИ!$A$2:$L$1105,3,FALSE) -> Росляков Данил | C23: =VLOOKUP($F23,УЧАСТНИКИ!$A$2:$L$1105,4,FALSE) -> 04.11.1997 | E23: =VLOOKUP($F23,УЧАСТНИКИ!$A$2:$L$1105,8,FALSE) -> МС | F23: 46
A24: 3 | B24: =VLOOKUP($F24,УЧАСТНИКИ!$A$2:$L$1105,3,FALSE) -> Табаков Дмитрий | C24: =VLOOKUP($F24,УЧАСТНИКИ!$A$2:$L$1105,4,FALSE) -> 14.07.1998 | E24: =VLOOKUP($F24,УЧАСТНИКИ!$A$2:$L$1105,8,FALSE) -> 1 | F24: 254
A25: 3 | B25: =VLOOKUP($F25,УЧАСТНИКИ!$A$2:$L$1105,3,FALSE) -> Цыпкус Марк | C25: =VLOOKUP($F25,УЧАСТНИКИ!$A$2:$L$1105,4,FALSE) -> 05.02.1999 | E25: =VLOOKUP($F25,УЧАСТНИКИ!$A$2:$L$1105,8,FALSE) -> КМС | F25: 255
A26: 3 | B26: =VLOOKUP($F26,УЧАСТНИКИ!$A$2:$L$1105,3,FALSE) -> Лужинский Кирилл | C26: =VLOOKUP($F26,УЧАСТНИКИ!$A$2:$L$1105,4,FALSE) -> 20.03.1999 | E26: =VLOOKUP($F26,УЧАСТНИКИ!$A$2:$L$1105,8,FALSE) -> МС | F26: 158
A28: 4 | B28: =VLOOKUP($F28,УЧАСТНИКИ!$A$2:$L$1105,3,FALSE) -> Галацков Андрей | C28: =VLOOKUP($F28,УЧАСТНИКИ!$A$2:$L$1105,4,FALSE) -> 13.02.1992 | D28: =VLOOKUP($F28,УЧАСТНИКИ!$A$2:$L$1105,5,FALSE) -> Ульяновская область | E28: =VLOOKUP($F28,УЧАСТНИКИ!$A$2:$L$1105,8,FALSE) -> МС | F28: 285
A29: 4 | B29: =VLOOKUP($F29,УЧАСТНИКИ!$A$2:$L$1105,3,FALSE) -> Никитин Олег | C29: =VLOOKUP($F29,УЧАСТНИКИ!$A$2:$L$1105,4,FALSE) -> 06.06.1997 | E29: =VLOOKUP($F29,УЧАСТНИКИ!$A$2:$L$1105,8,FALSE) -> КМС | F29: 288
A30: 4 | B30: =VLOOKUP($F30,УЧАСТНИКИ!$A$2:$L$1105,3,FALSE) -> Садеев Ильфат | C30: =VLOOKUP($F30,УЧАСТНИКИ!$A$2:$L$1105,4,FALSE) -> 17.12.1988 | E30: =VLOOKUP($F30,УЧАСТНИКИ!$A$2:$L$1105,8,FALSE) -> МС | F30: 289
A31: 4 | B31: =VLOOKUP($F31,УЧАСТНИКИ!$A$2:$L$1105,3,FALSE) -> Юфимов Алексей | C31: =VLOOKUP($F31,УЧАСТНИКИ!$A$2:$L$1105,4,FALSE) -> 05.06.1998 | E31: =VLOOKUP($F31,УЧАСТНИКИ!$A$2:$L$1105,8,FALSE) -> МС | F31: 292
A32: 4 | B32: =VLOOKUP($F32,УЧАСТНИКИ!$A$2:$L$1105,3,FALSE) -> Федотов Артём | C32: =VLOOKUP($F32,УЧАСТНИКИ!$A$2:$L$1105,4,FALSE) -> 12.11.1991 | E32: =VLOOKUP($F32,УЧАСТНИКИ!$A$2:$L$1105,8,FALSE) -> МС | F32: 290
A34: 5 | B34: =VLOOKUP($F34,УЧАСТНИКИ!$A$2:$L$1105,3,FALSE) -> Шкуропатов Дмитрий | C34: =VLOOKUP($F34,УЧАСТНИКИ!$A$2:$L$1105,4,FALSE) -> 30.03.1993 | D34: =VLOOKUP($F34,УЧАСТНИКИ!$A$2:$L$1105,5,FALSE) -> Санкт-Петербург Вологодская область | E34: =VLOOKUP($F34,УЧАСТНИКИ!$A$2:$L$1105,8,FALSE) -> МС | F34: 191
A35: 5 | B35: =VLOOKUP($F35,УЧАСТНИКИ!$A$2:$L$1105,3,FALSE) -> Петряшов Константин | C35: =VLOOKUP($F35,УЧАСТНИКИ!$A$2:$L$1105,4,FALSE) -> 16.12.1983 | E35: =VLOOKUP($F35,УЧАСТНИКИ!$A$2:$L$1105,8,FALSE) -> МСМК | F35: 168
A36: 5 | B36: =VLOOKUP($F36,УЧАСТНИКИ!$A$2:$L$1105,3,FALSE) -> Чернухин Кирилл | C36: =VLOOKUP($F36,УЧАСТНИКИ!$A$2:$L$1105,4,FALSE) -> 15.08.1994 | E36: =VLOOKUP($F36,УЧАСТНИКИ!$A$2:$L$1105,8,FALSE) -> МС | F36: 186
A37: 5 | B37: =VLOOKUP($F37,УЧАСТНИКИ!$A$2:$L$1105,3,FALSE) -> Кухаренко Андрей | C37: =VLOOKUP($F37,УЧАСТНИКИ!$A$2:$L$1105,4,FALSE) -> 24.02.1997 | E37: =VLOOKUP($F37,УЧАСТНИКИ!$A$2:$L$1105,8,FALSE) -> МС | F37: 156
A38: 5 | B38: =VLOOKUP($F38,УЧАСТНИКИ!$A$2:$L$1105,3,FALSE) -> Рафилович Максим | C38: =VLOOKUP($F38,УЧАСТНИКИ!$A$2:$L$1105,4,FALSE) -> 07.12.1986 | E38: =VLOOKUP($F38,УЧАСТНИКИ!$A$2:$L$1105,8,FALSE) -> МС | F38: 173
A39: 5 | B39: =VLOOKUP($F39,УЧАСТНИКИ!$A$2:$L$1105,3,FALSE) -> Солодов Сергей | C39: =VLOOKUP($F39,УЧАСТНИКИ!$A$2:$L$1105,4,FALSE) -> 03.01.1996 | E39: =VLOOKUP($F39,УЧАСТНИКИ!$A$2:$L$1105,8,FALSE) -> МС | F39: 178
A41: 6 | B41: =VLOOKUP($F41,УЧАСТНИКИ!$A$2:$L$1105,3,FALSE) -> Катунин Евгений | C41: =VLOOKUP($F41,УЧАСТНИКИ!$A$2:$L$1105,4,FALSE) -> 24.11.1999 | D41: =VLOOKUP($F41,УЧАСТНИКИ!$A$2:$L$1105,5,FALSE) -> Курская область | E41: =VLOOKUP($F41,УЧАСТНИКИ!$A$2:$L$1105,8,FALSE) -> 1 | F41: 265
A42: 6 | B42: =VLOOKUP($F42,УЧАСТНИКИ!$A$2:$L$1105,3,FALSE) -> Агибалов Александр | C42: =VLOOKUP($F42,УЧАСТНИКИ!$A$2:$L$1105,4,FALSE) -> 10.06.1998 | E42: =VLOOKUP($F42,УЧАСТНИКИ!$A$2:$L$1105,8,FALSE) -> КМС | F42: 256
A43: 6 | B43: =VLOOKUP($F43,УЧАСТНИКИ!$A$2:$L$1105,3,FALSE) -> Пахомов Пётр | C43: =VLOOKUP($F43,УЧАСТНИКИ!$A$2:$L$1105,4,FALSE) -> 04.02.1992 | E43: =VLOOKUP($F43,УЧАСТНИКИ!$A$2:$L$1105,8,FALSE) -> МС | F43: 272
A44: 6 | B44: =VLOOKUP($F44,УЧАСТНИКИ!$A$2:$L$1105,3,FALSE) -> Емельянов Руслан | C44: =VLOOKUP($F44,УЧАСТНИКИ!$A$2:$L$1105,4,FALSE) -> 03.03.1997 | E44: =VLOOKUP($F44,УЧАСТНИКИ!$A$2:$L$1105,8,FALSE) -> КМС | F44: 264
A45: 6 | B45: =VLOOKUP($F45,УЧАСТНИКИ!$A$2:$L$1105,3,FALSE) -> Лыков Илья | C45: =VLOOKUP($F45,УЧАСТНИКИ!$A$2:$L$1105,4,FALSE) -> 10.07.2001 | E45: =VLOOKUP($F45,УЧАСТНИКИ!$A$2:$L$1105,8,FALSE) -> 1 | F45: 268
...

Sheet 4х400
A1: =Name_2 -> ВСЕРОССИЙСКАЯ ФЕДЕРАЦИЯ ЛЕГКОЙ АТЛЕТИКИ
A2: СТАРТОВЫЙ ПРОТОКОЛ
A3: =Name_4 -> КОМАНДНЫЙ ЧЕМПИОНАТ РОССИИ
E4: ФИНАЛЬНЫЕ ЗАБЕГИ
A5: =d_4 -> МУЖЧИНЫ | C5: РМ | D5: 2:54,29 | F5: =d_3 -> 06.09.2019г. | H5: начало: | I5: 18:20
A6: Эстафета 4х400 м | C6: РЕ | D6: 2:56,60 | H6: окончание:
C7: РР | D7: 2:58,06 | J7: =d_5 -> г. Сочи, ул. Бзугу 2, ст. им. Славы Метревели
A8: № п/п | B8: Фамилия, имя участника | C8: Дата рождения | D8: Территория | E8: Заявленный разряд | F8: Номер участника | G8: Приход | H8: Результат | I8: Место | J8: Примеч.
B9: 1 ЗАБЕГ
A10: 1 | B10: =VLOOKUP($F10,УЧАСТНИКИ!$A$2:$L$1105,3,FALSE) -> #N/A | C10: =VLOOKUP($F10,УЧАСТНИКИ!$A$2:$L$1105,4,FALSE) -> #N/A | D10: =VLOOKUP($F10,УЧАСТНИКИ!$A$2:$L$1105,5,FALSE) -> #N/A | E10: =VLOOKUP($F10,УЧАСТНИКИ!$A$2:$L$1105,8,FALSE) -> #N/A | J10: =VLOOKUP($F10,УЧАСТНИКИ!$A$2:$L$1105,9,FALSE) -> #N/A
A11: 1 | B11: =VLOOKUP($F11,УЧАСТНИКИ!$A$2:$L$1105,3,FALSE) -> #N/A | C11: =VLOOKUP($F11,УЧАСТНИКИ!$A$2:$L$1105,4,FALSE) -> #N/A | D11: =VLOOKUP($F11,УЧАСТНИКИ!$A$2:$L$1105,5,FALSE) -> #N/A | E11: =VLOOKUP($F11,УЧАСТНИКИ!$A$2:$L$1105,8,FALSE) -> #N/A | J11: =VLOOKUP($F11,УЧАСТНИКИ!$A$2:$L$1105,9,FALSE) -> #N/A
A12: 1 | B12: =VLOOKUP($F12,УЧАСТНИКИ!$A$2:$L$1105,3,FALSE) -> #N/A | C12: =VLOOKUP($F12,УЧАСТНИКИ!$A$2:$L$1105,4,FALSE) -> #N/A | D12: =VLOOKUP($F12,УЧАСТНИКИ!$A$2:$L$1105,5,FALSE) -> #N/A | E12: =VLOOKUP($F12,УЧАСТНИКИ!$A$2:$L$1105,8,FALSE) -> #N/A | J12: =VLOOKUP($F12,УЧАСТНИКИ!$A$2:$L$1105,9,FALSE) -> #N/A
A13: 1 | B13: =VLOOKUP($F13,УЧАСТНИКИ!$A$2:$L$1105,3,FALSE) -> #N/A | C13: =VLOOKUP($F13,УЧАСТНИКИ!$A$2:$L$1105,4,FALSE) -> #N/A | D13: =VLOOKUP($F13,УЧАСТНИКИ!$A$2:$L$1105,5,FALSE) -> #N/A | E13: =VLOOKUP($F13,УЧАСТНИКИ!$A$2:$L$1105,8,FALSE) -> #N/A | J13: =VLOOKUP($F13,УЧАСТНИКИ!$A$2:$L$1105,9,FALSE) -> #N/A
A14: 1 | B14: =VLOOKUP($F14,УЧАСТНИКИ!$A$2:$L$1105,3,FALSE) -> #N/A | C14: =VLOOKUP($F14,УЧАСТНИКИ!$A$2:$L$1105,4,FALSE) -> #N/A | D14: =VLOOKUP($F14,УЧАСТНИКИ!$A$2:$L$1105,5,FALSE) -> #N/A | E14: =VLOOKUP($F14,УЧАСТНИКИ!$A$2:$L$1105,8,FALSE) -> #N/A | J14: =VLOOKUP($F14,УЧАСТНИКИ!$A$2:$L$1105,9,FALSE) -> #N/A
A15: 1 | B15: =VLOOKUP($F15,УЧАСТНИКИ!$A$2:$L$1105,3,FALSE) -> #N/A | C15: =VLOOKUP($F15,УЧАСТНИКИ!$A$2:$L$1105,4,FALSE) -> #N/A | D15: =VLOOKUP($F15,УЧАСТНИКИ!$A$2:$L$1105,5,FALSE) -> #N/A | E15: =VLOOKUP($F15,УЧАСТНИКИ!$A$2:$L$1105,8,FALSE) -> #N/A | J15: =VLOOKUP($F15,УЧАСТНИКИ!$A$2:$L$1105,9,FALSE) -> #N/A
A17: 2 | B17: =VLOOKUP($F17,УЧАСТНИКИ!$A$2:$L$1105,3,FALSE) -> Болотов Сергей | C17: =VLOOKUP($F17,УЧАСТНИКИ!$A$2:$L$1105,4,FALSE) -> 09.04.1996 | D17: =VLOOKUP($F17,УЧАСТНИКИ!$A$2:$L$1105,5,FALSE) -> Владимирская область | E17: =VLOOKUP($F17,УЧАСТНИКИ!$A$2:$L$1105,8,FALSE) -> КМС | F17: 395
A18: 2 | B18: =VLOOKUP($F18,УЧАСТНИКИ!$A$2:$L$1105,3,FALSE) -> Козлов Антон | C18: =VLOOKUP($F18,УЧАСТНИКИ!$A$2:$L$1105,4,FALSE) -> 09.03.1994 | E18: =VLOOKUP($F18,УЧАСТНИКИ!$A$2:$L$1105,8,FALSE) -> МС | F18: 396
A19: 2 | B19: =VLOOKUP($F19,УЧАСТНИКИ!$A$2:$L$1105,3,FALSE) -> Матвеев Никита | C19: =VLOOKUP($F19,УЧАСТНИКИ!$A$2:$L$1105,4,FALSE) -> 28.03.2000 | E19: =VLOOKUP($F19,УЧАСТНИКИ!$A$2:$L$1105,8,FALSE) -> КМС | F19: 397
A20: 2 | B20: =VLOOKUP($F20,УЧАСТНИКИ!$A$2:$L$1105,3,FALSE) -> Мельников Максим | C20: =VLOOKUP($F20,УЧАСТНИКИ!$A$2:$L$1105,4,FALSE) -> 11.03.2002 | E20: =VLOOKUP($F20,УЧАСТНИКИ!$A$2:$L$1105,8,FALSE) -> 1 | F20: 398
A21: 2 | B21: =VLOOKUP($F21,УЧАСТНИКИ!$A$2:$L$1105,3,FALSE) -> #N/A | C21: =VLOOKUP($F21,УЧАСТНИКИ!$A$2:$L$1105,4,FALSE) -> #N/A | D21: =VLOOKUP($F21,УЧАСТНИКИ!$A$2:$L$1105,5,FALSE) -> #N/A | E21: =VLOOKUP($F21,УЧАСТНИКИ!$A$2:$L$1105,8,FALSE) -> #N/A
A22: 2 | B22: =VLOOKUP($F22,УЧАСТНИКИ!$A$2:$L$1105,3,FALSE) -> #N/A | C22: =VLOOKUP($F22,УЧАСТНИКИ!$A$2:$L$1105,4,FALSE) -> #N/A | D22: =VLOOKUP($F22,УЧАСТНИКИ!$A$2:$L$1105,5,FALSE) -> #N/A | E22: =VLOOKUP($F22,УЧАСТНИКИ!$A$2:$L$1105,8,FALSE) -> #N/A
A24: 3 | B24: =VLOOKUP($F24,УЧАСТНИКИ!$A$2:$L$1105,3,FALSE) -> Соколенко Владимир | C24: =VLOOKUP($F24,УЧАСТНИКИ!$A$2:$L$1105,4,FALSE) -> 19.05.2000 | D24: =VLOOKUP($F24,УЧАСТНИКИ!$A$2:$L$1105,5,FALSE) -> Томская область | E24: =VLOOKUP($F24,УЧАСТНИКИ!$A$2:$L$1105,8,FALSE) -> КМС | F24: 373
A25: 3 | B25: =VLOOKUP($F25,УЧАСТНИКИ!$A$2:$L$1105,3,FALSE) -> Черепнин Андрей | C25: =VLOOKUP($F25,УЧАСТНИКИ!$A$2:$L$1105,4,FALSE) -> 21.02.1998 | E25: =VLOOKUP($F25,УЧАСТНИКИ!$A$2:$L$1105,8,FALSE) -> МС | F25: 375
A26: 3 | B26: =VLOOKUP($F26,УЧАСТНИКИ!$A$2:$L$1105,3,FALSE) -> Михайловский Семен | C26: =VLOOKUP($F26,УЧАСТНИКИ!$A$2:$L$1105,4,FALSE) -> 15.09.1997 | E26: =VLOOKUP($F26,УЧАСТНИКИ!$A$2:$L$1105,8,FALSE) -> КМС | F26: 371
A27: 3 | B27: =VLOOKUP($F27,УЧАСТНИКИ!$A$2:$L$1105,3,FALSE) -> Земцов Адам | C27: =VLOOKUP($F27,УЧАСТНИКИ!$A$2:$L$1105,4,FALSE) -> 27.06.1999 | E27: =VLOOKUP($F27,УЧАСТНИКИ!$A$2:$L$1105,8,FALSE) -> КМС | F27: 368
A28: 3 | B28: =VLOOKUP($F28,УЧАСТНИКИ!$A$2:$L$1105,3,FALSE) -> Разумов Дмитрий | C28: =VLOOKUP($F28,УЧАСТНИКИ!$A$2:$L$1105,4,FALSE) -> 19.08.1999 | E28: =VLOOKUP($F28,УЧАСТНИКИ!$A$2:$L$1105,8,FALSE) -> МС | F28: 365
A29: 3 | B29: =VLOOKUP($F29,УЧАСТНИКИ!$A$2:$L$1105,3,FALSE) -> Москвин Никита | C29: =VLOOKUP($F29,УЧАСТНИКИ!$A$2:$L$1105,4,FALSE) -> 08.03.1996 | E29: =VLOOKUP($F29,УЧАСТНИКИ!$A$2:$L$1105,8,FALSE) -> МС | F29: 372
A31: 4 | B31: =VLOOKUP($F31,УЧАСТНИКИ!$A$2:$L$1105,3,FALSE) -> Лямин Кирилл | C31: =VLOOKUP($F31,УЧАСТНИКИ!$A$2:$L$1105,4,FALSE) -> 17.05.1996 | D31: =VLOOKUP($F31,УЧАСТНИКИ!$A$2:$L$1105,5,FALSE) -> Курская область | E31: =VLOOKUP($F31,УЧАСТНИКИ!$A$2:$L$1105,8,FALSE) -> КМС | F31: 269
A32: 4 | B32: =VLOOKUP($F32,УЧАСТНИКИ!$A$2:$L$1105,3,FALSE) -> Чернышов Андрей | C32: =VLOOKUP($F32,УЧАСТНИКИ!$A$2:$L$1105,4,FALSE) -> 05.05.1993 | E32: =VLOOKUP($F32,УЧАСТНИКИ!$A$2:$L$1105,8,FALSE) -> МС | F32: 281
A33: 4 | B33: =VLOOKUP($F33,УЧАСТНИКИ!$A$2:$L$1105,3,FALSE) -> Дроздов Артем | C33: =VLOOKUP($F33,УЧАСТНИКИ!$A$2:$L$1105,4,FALSE) -> 26.04.2000 | E33: =VLOOKUP($F33,УЧАСТНИКИ!$A$2:$L$1105,8,FALSE) -> 1 | F33: 263
A34: 4 | B34: =VLOOKUP($F34,УЧАСТНИКИ!$A$2:$L$1105,3,FALSE) -> Некрасов Никита | C34: =VLOOKUP($F34,УЧАСТНИКИ!$A$2:$L$1105,4,FALSE) -> 14.04.2002 | E34: =VLOOKUP($F34,УЧАСТНИКИ!$A$2:$L$1105,8,FALSE) -> 1 | F34: 271
A35: 4 | B35: =VLOOKUP($F35,УЧАСТНИКИ!$A$2:$L$1105,3,FALSE) -> Проскурин Никита | C35: =VLOOKUP($F35,УЧАСТНИКИ!$A$2:$L$1105,4,FALSE) -> 14.06.1997 | E35: =VLOOKUP($F35,УЧАСТНИКИ!$A$2:$L$1105,8,FALSE) -> КМС | F35: 275
A36: 4 | B36: =VLOOKUP($F36,УЧАСТНИКИ!$A$2:$L$1105,3,FALSE) -> Федяев Максим | C36: =VLOOKUP($F36,УЧАСТНИКИ!$A$2:$L$1105,4,FALSE) -> 01.12.1997 | E36: =VLOOKUP($F36,УЧАСТНИКИ!$A$2:$L$1105,8,FALSE) -> МСМК | F36: 80
A38: 5 | B38: =VLOOKUP($F38,УЧАСТНИКИ!$A$2:$L$1105,3,FALSE) -> Рафилович Максим | C38: =VLOOKUP($F38,УЧАСТНИКИ!$A$2:$L$1105,4,FALSE) -> 07.12.1986 | D38: =VLOOKUP($F38,УЧАСТНИКИ!$A$2:$L$1105,5,FALSE) -> Санкт-Петербург Вологодская область | E38: =VLOOKUP($F38,УЧАСТНИКИ!$A$2:$L$1105,8,FALSE) -> МС | F38: 173
A39: 5 | B39: =VLOOKUP($F39,УЧАСТНИКИ!$A$2:$L$1105,3,FALSE) -> Лужинский Кирилл | C39: =VLOOKUP($F39,УЧАСТНИКИ!$A$2:$L$1105,4,FALSE) -> 20.03.1999 | E39: =VLOOKUP($F39,УЧАСТНИКИ!$A$2:$L$1105,8,FALSE) -> МС | F39: 158
A40: 5 | B40: =VLOOKUP($F40,УЧАСТНИКИ!$A$2:$L$1105,3,FALSE) -> Кухаренко Андрей | C40: =VLOOKUP($F40,УЧАСТНИКИ!$A$2:$L$1105,4,FALSE) -> 24.02.1997 | E40: =VLOOKUP($F40,УЧАСТНИКИ!$A$2:$L$1105,8,FALSE) -> МС | F40: 156
A41: 5 | B41: =VLOOKUP($F41,УЧАСТНИКИ!$A$2:$L$1105,3,FALSE) -> Филатов Михаил | C41: =VLOOKUP($F41,УЧАСТНИКИ!$A$2:$L$1105,4,FALSE) -> 01.07.1994 | E41: =VLOOKUP($F41,УЧАСТНИКИ!$A$2:$L$1105,8,FALSE) -> МС | F41: 181
A42: 5 | B42: =VLOOKUP($F42,УЧАСТНИКИ!$A$2:$L$1105,3,FALSE) -> Оленковичус Илья | C42: =VLOOKUP($F42,УЧАСТНИКИ!$A$2:$L$1105,4,FALSE) -> 28.12.1998 | E42: =VLOOKUP($F42,УЧАСТНИКИ!$A$2:$L$1105,8,FALSE) -> КМС | F42: 165
A43: 5 | B43: =VLOOKUP($F43,УЧАСТНИКИ!$A$2:$L$1105,3,FALSE) -> Колесов Кирилл | C43: =VLOOKUP($F43,УЧАСТНИКИ!$A$2:$L$1105,4,FALSE) -> 26.04.1998 | E43: =VLOOKUP($F43,УЧАСТНИКИ!$A$2:$L$1105,8,FALSE) -> МС | F43: 150
A45: 6 | B45: =VLOOKUP($F45,УЧАСТНИКИ!$A$2:$L$1105,3,FALSE) -> Ткалич Ярослав | C45: =VLOOKUP($F45,УЧАСТНИКИ!$A$2:$L$1105,4,FALSE) -> 05.06.1996 | D45: =VLOOKUP($F45,УЧАСТНИКИ!$A$2:$L$1105,5,FALSE) -> Московская область Смоленская область | E45: =VLOOKUP($F45,УЧАСТНИКИ!$A$2:$L$1105,8,FALSE) -> МС | F45: 77
...

Sheet ядро
A1: =Name_2 -> ВСЕРОССИЙСКАЯ ФЕДЕРАЦИЯ ЛЕГКОЙ АТЛЕТИКИ
A2: СТАРТОВЫЙ ПРОТОКОЛ
A3: =Name_4 -> КОМАНДНЫЙ ЧЕМПИОНАТ РОССИИ
I4: ФИНАЛЬНЫЕ СОРЕВНОВАНИЯ
A5: =d_4 -> МУЖЧИНЫ | C5: РМ | D5: 23.12 | L5: =d_3 -> 06.09.2019г. | O5: начало: | P5: 16:30
A6: Толкание ядра | C6: РЕ | D6: 23,06 | O6: окончание:
A7: Вес снаряда - 7,26 кг | C7: РР | D7: 22.24 | P7: =d_7 -> г. Сочи, Адлерский район, ул. Ленина СК "Юность"
A8: № п/п | B8: Фамилия, имя участника | C8: Дата рождения | D8: Территория | E8: Заявленный разряд | F8: Номер участника | G8: Попытки | J8: Жеребьевка | K8: Попытки | N8: Лучший результат | O8: Место | P8: Примечание
G9: 1 | H9: 2 | I9: 3 | K9: 4 | L9: 5 | M9: 6
A10: 1 | B10: =VLOOKUP($F10,УЧАСТНИКИ!$A$2:$L$1105,3,FALSE) -> Сидоров Максим | C10: =VLOOKUP($F10,УЧАСТНИКИ!$A$2:$L$1105,4,FALSE) -> 13.05.1986 | D10: =VLOOKUP($F10,УЧАСТНИКИ!$A$2:$L$1105,5,FALSE) -> Московская область | E10: =VLOOKUP($F10,УЧАСТНИКИ!$A$2:$L$1105,8,FALSE) -> МСМК | F10: 73 | P10: л
A11: 2 | B11: =VLOOKUP($F11,УЧАСТНИКИ!$A$2:$L$1105,3,FALSE) -> Козырев Евгений | C11: =VLOOKUP($F11,УЧАСТНИКИ!$A$2:$L$1105,4,FALSE) -> 10.01.1996 | D11: =VLOOKUP($F11,УЧАСТНИКИ!$A$2:$L$1105,5,FALSE) -> Воронежская область | E11: =VLOOKUP($F11,УЧАСТНИКИ!$A$2:$L$1105,8,FALSE) -> МС | F11: 415
A12: 3 | B12: =VLOOKUP($F12,УЧАСТНИКИ!$A$2:$L$1105,3,FALSE) -> Лядусов Константин | C12: =VLOOKUP($F12,УЧАСТНИКИ!$A$2:$L$1105,4,FALSE) -> 02.03.1988 | D12: =VLOOKUP($F12,УЧАСТНИКИ!$A$2:$L$1105,5,FALSE) -> Москва Ростовская область | E12: =VLOOKUP($F12,УЧАСТНИКИ!$A$2:$L$1105,8,FALSE) -> МСМК | F12: 308
A13: 4 | B13: =VLOOKUP($F13,УЧАСТНИКИ!$A$2:$L$1105,3,FALSE) -> Панчехин Сергей | C13: =VLOOKUP($F13,УЧАСТНИКИ!$A$2:$L$1105,4,FALSE) -> 11.05.1997 | D13: =VLOOKUP($F13,УЧАСТНИКИ!$A$2:$L$1105,5,FALSE) -> Краснодарский край | E13: =VLOOKUP($F13,УЧАСТНИКИ!$A$2:$L$1105,8,FALSE) -> МС | F13: 112 | P13: л
A14: 5 | B14: =VLOOKUP($F14,УЧАСТНИКИ!$A$2:$L$1105,3,FALSE) -> Афонин Максим | C14: =VLOOKUP($F14,УЧАСТНИКИ!$A$2:$L$1105,4,FALSE) -> 06.01.1992 | D14: =VLOOKUP($F14,УЧАСТНИКИ!$A$2:$L$1105,5,FALSE) -> Москва Московская область | E14: =VLOOKUP($F14,УЧАСТНИКИ!$A$2:$L$1105,8,FALSE) -> МСМК | F14: 5
A15: 6 | B15: =VLOOKUP($F15,УЧАСТНИКИ!$A$2:$L$1105,3,FALSE) -> Коноваленко Александр | C15: =VLOOKUP($F15,УЧАСТНИКИ!$A$2:$L$1105,4,FALSE) -> 12.03.1989 | D15: =VLOOKUP($F15,УЧАСТНИКИ!$A$2:$L$1105,5,FALSE) -> Иркутская область | E15: =VLOOKUP($F15,УЧАСТНИКИ!$A$2:$L$1105,8,FALSE) -> КМС | F15: 214
A16: 7 | B16: =VLOOKUP($F16,УЧАСТНИКИ!$A$2:$L$1105,3,FALSE) -> Бородаев Семен | C16: =VLOOKUP($F16,УЧАСТНИКИ!$A$2:$L$1105,4,FALSE) -> 04.05.2002 | D16: =VLOOKUP($F16,УЧАСТНИКИ!$A$2:$L$1105,5,FALSE) -> Ставропольский край | E16: =VLOOKUP($F16,УЧАСТНИКИ!$A$2:$L$1105,8,FALSE) -> КМС | F16: 334
A17: 8 | B17: =VLOOKUP($F17,УЧАСТНИКИ!$A$2:$L$1105,3,FALSE) -> Боклашов Андрей | C17: =VLOOKUP($F17,УЧАСТНИКИ!$A$2:$L$1105,4,FALSE) -> 10.04.1996 | D17: =VLOOKUP($F17,УЧАСТНИКИ!$A$2:$L$1105,5,FALSE) -> Воронежская область | E17: =VLOOKUP($F17,УЧАСТНИКИ!$A$2:$L$1105,8,FALSE) -> КМС | F17: 412 | P17: л
A18: 9 | B18: =VLOOKUP($F18,УЧАСТНИКИ!$A$2:$L$1105,3,FALSE) -> Лесной Александр | C18: =VLOOKUP($F18,УЧАСТНИКИ!$A$2:$L$1105,4,FALSE) -> 28.07.1988 | D18: =VLOOKUP($F18,УЧАСТНИКИ!$A$2:$L$1105,5,FALSE) -> Краснодарский край Нижегородская область | E18: =VLOOKUP($F18,УЧАСТНИКИ!$A$2:$L$1105,8,FALSE) -> МСМК | F18: 101
A19: 10 | B19: =VLOOKUP($F19,УЧАСТНИКИ!$A$2:$L$1105,3,FALSE) -> #N/A | C19: =VLOOKUP($F19,УЧАСТНИКИ!$A$2:$L$1105,4,FALSE) -> #N/A | D19: =VLOOKUP($F19,УЧАСТНИКИ!$A$2:$L$1105,5,FALSE) -> #N/A | E19: =VLOOKUP($F19,УЧАСТНИКИ!$A$2:$L$1105,8,FALSE) -> #N/A | P19: =VLOOKUP($F19,УЧАСТНИКИ!$A$2:$L$1105,9,FALSE) -> #N/A
A20: 11 | B20: =VLOOKUP($F20,УЧАСТНИКИ!$A$2:$L$1105,3,FALSE) -> #N/A | C20: =VLOOKUP($F20,УЧАСТНИКИ!$A$2:$L$1105,4,FALSE) -> #N/A | D20: =VLOOKUP($F20,УЧАСТНИКИ!$A$2:$L$1105,5,FALSE) -> #N/A | E20: =VLOOKUP($F20,УЧАСТНИКИ!$A$2:$L$1105,8,FALSE) -> #N/A | P20: =VLOOKUP($F20,УЧАСТНИКИ!$A$2:$L$1105,9,FALSE) -> #N/A
A21: 12 | B21: =VLOOKUP($F21,УЧАСТНИКИ!$A$2:$L$1105,3,FALSE) -> #N/A | C21: =VLOOKUP($F21,УЧАСТНИКИ!$A$2:$L$1105,4,FALSE) -> #N/A | D21: =VLOOKUP($F21,УЧАСТНИКИ!$A$2:$L$1105,5,FALSE) -> #N/A | E21: =VLOOKUP($F21,УЧАСТНИКИ!$A$2:$L$1105,8,FALSE) -> #N/A | P21: =VLOOKUP($F21,УЧАСТНИКИ!$A$2:$L$1105,9,FALSE) -> #N/A
A22: 13 | B22: =VLOOKUP($F22,УЧАСТНИКИ!$A$2:$L$1105,3,FALSE) -> #N/A | C22: =VLOOKUP($F22,УЧАСТНИКИ!$A$2:$L$1105,4,FALSE) -> #N/A | D22: =VLOOKUP($F22,УЧАСТНИКИ!$A$2:$L$1105,5,FALSE) -> #N/A | E22: =VLOOKUP($F22,УЧАСТНИКИ!$A$2:$L$1105,8,FALSE) -> #N/A | P22: =VLOOKUP($F22,УЧАСТНИКИ!$A$2:$L$1105,9,FALSE) -> #N/A
A23: 14 | B23: =VLOOKUP($F23,УЧАСТНИКИ!$A$2:$L$1105,3,FALSE) -> #N/A | C23: =VLOOKUP($F23,УЧАСТНИКИ!$A$2:$L$1105,4,FALSE) -> #N/A | D23: =VLOOKUP($F23,УЧАСТНИКИ!$A$2:$L$1105,5,FALSE) -> #N/A | E23: =VLOOKUP($F23,УЧАСТНИКИ!$A$2:$L$1105,8,FALSE) -> #N/A | P23: =VLOOKUP($F23,УЧАСТНИКИ!$A$2:$L$1105,9,FALSE) -> #N/A
A24: 15 | B24: =VLOOKUP($F24,УЧАСТНИКИ!$A$2:$L$1105,3,FALSE) -> #N/A | C24: =VLOOKUP($F24,УЧАСТНИКИ!$A$2:$L$1105,4,FALSE) -> #N/A | D24: =VLOOKUP($F24,УЧАСТНИКИ!$A$2:$L$1105,5,FALSE) -> #N/A | E24: =VLOOKUP($F24,УЧАСТНИКИ!$A$2:$L$1105,8,FALSE) -> #N/A | P24: =VLOOKUP($F24,УЧАСТНИКИ!$A$2:$L$1105,9,FALSE) -> #N/A
A25: 16 | B25: =VLOOKUP($F25,УЧАСТНИКИ!$A$2:$L$1105,3,FALSE) -> #N/A | C25: =VLOOKUP($F25,УЧАСТНИКИ!$A$2:$L$1105,4,FALSE) -> #N/A | D25: =VLOOKUP($F25,УЧАСТНИКИ!$A$2:$L$1105,5,FALSE) -> #N/A | E25: =VLOOKUP($F25,УЧАСТНИКИ!$A$2:$L$1105,8,FALSE) -> #N/A | P25: =VLOOKUP($F25,УЧАСТНИКИ!$A$2:$L$1105,9,FALSE) -> #N/A
A26: 17 | B26: =VLOOKUP($F26,УЧАСТНИКИ!$A$2:$L$1105,3,FALSE) -> #N/A | C26: =VLOOKUP($F26,УЧАСТНИКИ!$A$2:$L$1105,4,FALSE) -> #N/A | D26: =VLOOKUP($F26,УЧАСТНИКИ!$A$2:$L$1105,5,FALSE) -> #N/A | E26: =VLOOKUP($F26,УЧАСТНИКИ!$A$2:$L$1105,8,FALSE) -> #N/A | P26: =VLOOKUP($F26,УЧАСТНИКИ!$A$2:$L$1105,9,FALSE) -> #N/A
A27: 18 | B27: =VLOOKUP($F27,УЧАСТНИКИ!$A$2:$L$1105,3,FALSE) -> #N/A | C27: =VLOOKUP($F27,УЧАСТНИКИ!$A$2:$L$1105,4,FALSE) -> #N/A | D27: =VLOOKUP($F27,УЧАСТНИКИ!$A$2:$L$1105,5,FALSE) -> #N/A | E27: =VLOOKUP($F27,УЧАСТНИКИ!$A$2:$L$1105,8,FALSE) -> #N/A | P27: =VLOOKUP($F27,УЧАСТНИКИ!$A$2:$L$1105,9,FALSE) -> #N/A
A29: Рефери _________________ ( __________________________________________________________ )
A30: Ст. судья _________________ ( __________________________________________________________ )
A31: Секретарь ________________ ( __________________________________________________________ )
